{"text_format":"1","workbook":"xlsx","n_sheets":2,"sheets":["Worksheet","SYSTEM FORMULAE"],"not_rendered":{"charts":0,"images":0,"macros":1,"external_links":0,"defined_names":1,"comments":0,"pivot_tables":0},"unopened":[],"bounds":{"document_bytes":16777216,"sheet_cells":100000,"rows_first":2000,"rows_last":500,"rows_between":2000,"halvings":0,"cell_chars":16384,"cell_head_chars":4096},"cells_cut":0,"cells_raw":0,"read":"whole","date_system":"1900"}

{"sheet":"Worksheet","index":0,"n_rows":13,"n_cols":23,"rows_kept":13,"cut":false,"hidden":false,"merged":[[2,0,2,1],[13,4,13,6],[0,3,0,4],[0,5,0,22]]}
[null,null,null,"Go up or down in (options are 1, 2, 3, 4, 5, 10, 100):",null,"Write the next numbers in the pattern"]
[null,null,null,1,{"$f":"CHOOSE(D2,1,2,3,4,5,10,100)","v":1},"a)",92,", ",93,", ",94,", ",95,", ",96,", ",97,", ",98,", ",99,", ",100]
["Variables",null,null,1,{"$f":"CHOOSE(D3,1,2,3,4,5,10,100)","v":1},"b)",62,", ",63,", ",64,", ",65,", ",66,", ",67,", ",68,", ",69,", ",70]
["SHOW ANSWERS?",false,null,1,1,"c)",63,", ",64,", ",65,", ",66,", ",67,", ",68,", ",69,", ",70,", ",71]
["Starting number is a multiple of 10 or (when going up/down in hundreds) 100",false,null,1,1,"d)",34,", ",35,", ",36,", ",37,", ",38,", ",39,", ",40,", ",41,", ",42]
["Up only",1,null,1,1,"e)",80,", ",81,", ",82,", ",83,", ",84,", ",85,", ",86,", ",87,", ",88]
["Down only",null,null,1,1,"f)",41,", ",42,", ",43,", ",44,", ",45,", ",46,", ",47,", ",48,", ",49]
["Up and down",null,null,1,1,"g)",13,", ",14,", ",15,", ",16,", ",17,", ",18,", ",19,", ",20,", ",21]
["Approximate maximum number of digits (min 2, max 4)",2,null,1,1,"h)",33,", ",34,", ",35,", ",36,", ",37,", ",38,", ",39,", ",40,", ",41]
[null,null,null,1,1,"i)",41,", ",42,", ",43,", ",44,", ",45,", ",46,", ",47,", ",48,", ",49]
[null,null,null,1,1,"j)",37,", ",38,", ",39,", ",40,", ",41,", ",42,", ",43,", ",44,", ",45]
[null,null,null,1,1,"k)",68,", ",69,", ",70,", ",71,", ",72,", ",73,", ",74,", ",75,", ",76]
[null,null,null,1,1,"l)",85,", ",86,", ",87,", ",88,", ",89,", ",90,", ",91,", ",92,", ",93]

{"sheet":"SYSTEM FORMULAE","index":1,"n_rows":13,"n_cols":26,"rows_kept":13,"cut":false,"hidden":false,"merged":[]}
[null,"going up or down in",null,5,4,3,2,1]
[{"$f":"Worksheet!D2","v":1},{"$f":"Worksheet!E2","v":1},{"$f":"IF(Worksheet!$B$6=1,\"up\",IF(Worksheet!$B$6=2,\"down\",CHOOSE(RANDBETWEEN(1,2),\"up\",\"down\")))","v":"up"},{"$f":"IF(AND(D$1<Worksheet!$B$9,D$1=$A2+1,$C2=\"up\"),RANDBETWEEN(5,7),IF(AND(D$1<Worksheet!$B$9,D$1=$A2+1,$C2=\"down\"),RANDBETWEEN(3,5),IF(D$1>Worksheet!$B$9,0,IF(D$1=Worksheet!$B$9,RANDBETWEEN(1,9),RANDBETWEEN(0,9)))))","v":0},{"$f":"IF(AND(E$1<Worksheet!$B$9,E$1=$A2+1,$C2=\"up\"),RANDBETWEEN(5,7),IF(AND(E$1<Worksheet!$B$9,E$1=$A2+1,$C2=\"down\"),RANDBETWEEN(3,5),IF(E$1>Worksheet!$B$9,0,IF(E$1=Worksheet!$B$9,RANDBETWEEN(1,9),RANDBETWEEN(0,9)))))","v":0},{"$f":"IF(AND(F$1<Worksheet!$B$9,F$1=$A2+1,$C2=\"up\"),RANDBETWEEN(5,7),IF(AND(F$1<Worksheet!$B$9,F$1=$A2+1,$C2=\"down\"),RANDBETWEEN(3,5),IF(F$1>Worksheet!$B$9,0,IF(F$1=Worksheet!$B$9,RANDBETWEEN(1,9),RANDBETWEEN(0,9)))))","v":0},{"$f":"IF(AND(Worksheet!$B$5,'SYSTEM FORMULAE'!$B2=100),0,IF(AND(G$1<Worksheet!$B$9,G$1=$A2+1,$C2=\"up\"),RANDBETWEEN(5,7),IF(AND(G$1<Worksheet!$B$9,G$1=$A2+1,$C2=\"down\"),RANDBETWEEN(3,5),IF(G$1>Worksheet!$B$9,0,IF(G$1=Worksheet!$B$9,RANDBETWEEN(1,9),RANDBETWEEN(0,9))))))","v":3},{"$f":"IF(AND(Worksheet!$B$5,OR($B2=10,$B2=100)),0,IF(AND(H$1<Worksheet!$B$9,H$1=$A2+1,$C2=\"up\"),RANDBETWEEN(5,7),IF(AND(H$1<Worksheet!$B$9,H$1=$A2+1,$C2=\"down\"),RANDBETWEEN(3,5),IF(H$1>Worksheet!$B$9,0,IF(H$1=Worksheet!$B$9,RANDBETWEEN(1,9),RANDBETWEEN(0,9))))))","v":7},"a)",{"$f":"IF(AND(C2=\"down\",H2+G2*10+F2*100+E2*1000+D2*10000-8*B2<0),H2+G2*10+F2*100+E2*1000+D2*10000+8*B2,H2+G2*10+F2*100+E2*1000+D2*10000)","v":37},", ",{"$f":"IF($C2=\"up\",J2+$B2,J2-$B2)","v":38},", ",{"$f":"IF($C2=\"up\",L2+$B2,L2-$B2)","v":39},", ",{"$f":"IF($C2=\"up\",N2+$B2,N2-$B2)","v":40},", ",{"$f":"IF($C2=\"up\",P2+$B2,P2-$B2)","v":41},", ",{"$f":"IF($C2=\"up\",R2+$B2,R2-$B2)","v":42},", ",{"$f":"IF($C2=\"up\",T2+$B2,T2-$B2)","v":43},", ",{"$f":"IF($C2=\"up\",V2+$B2,V2-$B2)","v":44},", ",{"$f":"IF($C2=\"up\",X2+$B2,X2-$B2)","v":45}]
[{"$f":"Worksheet!D3","v":1},{"$f":"Worksheet!E3","v":1},{"$f":"IF(Worksheet!$B$6=1,\"up\",IF(Worksheet!$B$6=2,\"down\",CHOOSE(RANDBETWEEN(1,2),\"up\",\"down\")))","v":"up"},{"$f":"IF(AND(D$1<Worksheet!$B$9,D$1=$A3+1,$C3=\"up\"),RANDBETWEEN(5,7),IF(AND(D$1<Worksheet!$B$9,D$1=$A3+1,$C3=\"down\"),RANDBETWEEN(3,5),IF(D$1>Worksheet!$B$9,0,IF(D$1=Worksheet!$B$9,RANDBETWEEN(1,9),RANDBETWEEN(0,9)))))","v":0},{"$f":"IF(AND(E$1<Worksheet!$B$9,E$1=$A3+1,$C3=\"up\"),RANDBETWEEN(5,7),IF(AND(E$1<Worksheet!$B$9,E$1=$A3+1,$C3=\"down\"),RANDBETWEEN(3,5),IF(E$1>Worksheet!$B$9,0,IF(E$1=Worksheet!$B$9,RANDBETWEEN(1,9),RANDBETWEEN(0,9)))))","v":0},{"$f":"IF(AND(F$1<Worksheet!$B$9,F$1=$A3+1,$C3=\"up\"),RANDBETWEEN(5,7),IF(AND(F$1<Worksheet!$B$9,F$1=$A3+1,$C3=\"down\"),RANDBETWEEN(3,5),IF(F$1>Worksheet!$B$9,0,IF(F$1=Worksheet!$B$9,RANDBETWEEN(1,9),RANDBETWEEN(0,9)))))","v":0},{"$f":"IF(AND(Worksheet!$B$5,'SYSTEM FORMULAE'!$B3=100),0,IF(AND(G$1<Worksheet!$B$9,G$1=$A3+1,$C3=\"up\"),RANDBETWEEN(5,7),IF(AND(G$1<Worksheet!$B$9,G$1=$A3+1,$C3=\"down\"),RANDBETWEEN(3,5),IF(G$1>Worksheet!$B$9,0,IF(G$1=Worksheet!$B$9,RANDBETWEEN(1,9),RANDBETWEEN(0,9))))))","v":8},{"$f":"IF(AND(Worksheet!$B$5,OR($B3=10,$B3=100)),0,IF(AND(H$1<Worksheet!$B$9,H$1=$A3+1,$C3=\"up\"),RANDBETWEEN(5,7),IF(AND(H$1<Worksheet!$B$9,H$1=$A3+1,$C3=\"down\"),RANDBETWEEN(3,5),IF(H$1>Worksheet!$B$9,0,IF(H$1=Worksheet!$B$9,RANDBETWEEN(1,9),RANDBETWEEN(0,9))))))","v":1},"b)",{"$f":"IF(AND(C3=\"down\",H3+G3*10+F3*100+E3*1000+D3*10000-8*B3<0),H3+G3*10+F3*100+E3*1000+D3*10000+8*B3,H3+G3*10+F3*100+E3*1000+D3*10000)","v":81},", ",82,", ",83,", ",84,", ",85,", ",86,", ",87,", ",88,", ",89]
[{"$f":"Worksheet!D4","v":1},{"$f":"Worksheet!E4","v":1},{"$f":"IF(Worksheet!$B$6=1,\"up\",IF(Worksheet!$B$6=2,\"down\",CHOOSE(RANDBETWEEN(1,2),\"up\",\"down\")))","v":"up"},{"$f":"IF(AND(D$1<Worksheet!$B$9,D$1=$A4+1,$C4=\"up\"),RANDBETWEEN(5,7),IF(AND(D$1<Worksheet!$B$9,D$1=$A4+1,$C4=\"down\"),RANDBETWEEN(3,5),IF(D$1>Worksheet!$B$9,0,IF(D$1=Worksheet!$B$9,RANDBETWEEN(1,9),RANDBETWEEN(0,9)))))","v":0},{"$f":"IF(AND(E$1<Worksheet!$B$9,E$1=$A4+1,$C4=\"up\"),RANDBETWEEN(5,7),IF(AND(E$1<Worksheet!$B$9,E$1=$A4+1,$C4=\"down\"),RANDBETWEEN(3,5),IF(E$1>Worksheet!$B$9,0,IF(E$1=Worksheet!$B$9,RANDBETWEEN(1,9),RANDBETWEEN(0,9)))))","v":0},{"$f":"IF(AND(F$1<Worksheet!$B$9,F$1=$A4+1,$C4=\"up\"),RANDBETWEEN(5,7),IF(AND(F$1<Worksheet!$B$9,F$1=$A4+1,$C4=\"down\"),RANDBETWEEN(3,5),IF(F$1>Worksheet!$B$9,0,IF(F$1=Worksheet!$B$9,RANDBETWEEN(1,9),RANDBETWEEN(0,9)))))","v":0},{"$f":"IF(AND(Worksheet!$B$5,'SYSTEM FORMULAE'!$B4=100),0,IF(AND(G$1<Worksheet!$B$9,G$1=$A4+1,$C4=\"up\"),RANDBETWEEN(5,7),IF(AND(G$1<Worksheet!$B$9,G$1=$A4+1,$C4=\"down\"),RANDBETWEEN(3,5),IF(G$1>Worksheet!$B$9,0,IF(G$1=Worksheet!$B$9,RANDBETWEEN(1,9),RANDBETWEEN(0,9))))))","v":8},{"$f":"IF(AND(Worksheet!$B$5,OR($B4=10,$B4=100)),0,IF(AND(H$1<Worksheet!$B$9,H$1=$A4+1,$C4=\"up\"),RANDBETWEEN(5,7),IF(AND(H$1<Worksheet!$B$9,H$1=$A4+1,$C4=\"down\"),RANDBETWEEN(3,5),IF(H$1>Worksheet!$B$9,0,IF(H$1=Worksheet!$B$9,RANDBETWEEN(1,9),RANDBETWEEN(0,9))))))","v":2},"c)",82,", ",83,", ",84,", ",85,", ",86,", ",87,", ",88,", ",89,", ",90]
[{"$f":"Worksheet!D5","v":1},{"$f":"Worksheet!E5","v":1},{"$f":"IF(Worksheet!$B$6=1,\"up\",IF(Worksheet!$B$6=2,\"down\",CHOOSE(RANDBETWEEN(1,2),\"up\",\"down\")))","v":"up"},{"$f":"IF(AND(D$1<Worksheet!$B$9,D$1=$A5+1,$C5=\"up\"),RANDBETWEEN(5,7),IF(AND(D$1<Worksheet!$B$9,D$1=$A5+1,$C5=\"down\"),RANDBETWEEN(3,5),IF(D$1>Worksheet!$B$9,0,IF(D$1=Worksheet!$B$9,RANDBETWEEN(1,9),RANDBETWEEN(0,9)))))","v":0},{"$f":"IF(AND(E$1<Worksheet!$B$9,E$1=$A5+1,$C5=\"up\"),RANDBETWEEN(5,7),IF(AND(E$1<Worksheet!$B$9,E$1=$A5+1,$C5=\"down\"),RANDBETWEEN(3,5),IF(E$1>Worksheet!$B$9,0,IF(E$1=Worksheet!$B$9,RANDBETWEEN(1,9),RANDBETWEEN(0,9)))))","v":0},{"$f":"IF(AND(F$1<Worksheet!$B$9,F$1=$A5+1,$C5=\"up\"),RANDBETWEEN(5,7),IF(AND(F$1<Worksheet!$B$9,F$1=$A5+1,$C5=\"down\"),RANDBETWEEN(3,5),IF(F$1>Worksheet!$B$9,0,IF(F$1=Worksheet!$B$9,RANDBETWEEN(1,9),RANDBETWEEN(0,9)))))","v":0},{"$f":"IF(AND(Worksheet!$B$5,'SYSTEM FORMULAE'!$B5=100),0,IF(AND(G$1<Worksheet!$B$9,G$1=$A5+1,$C5=\"up\"),RANDBETWEEN(5,7),IF(AND(G$1<Worksheet!$B$9,G$1=$A5+1,$C5=\"down\"),RANDBETWEEN(3,5),IF(G$1>Worksheet!$B$9,0,IF(G$1=Worksheet!$B$9,RANDBETWEEN(1,9),RANDBETWEEN(0,9))))))","v":2},{"$f":"IF(AND(Worksheet!$B$5,OR($B5=10,$B5=100)),0,IF(AND(H$1<Worksheet!$B$9,H$1=$A5+1,$C5=\"up\"),RANDBETWEEN(5,7),IF(AND(H$1<Worksheet!$B$9,H$1=$A5+1,$C5=\"down\"),RANDBETWEEN(3,5),IF(H$1>Worksheet!$B$9,0,IF(H$1=Worksheet!$B$9,RANDBETWEEN(1,9),RANDBETWEEN(0,9))))))","v":4},"d)",24,", ",25,", ",26,", ",27,", ",28,", ",29,", ",30,", ",31,", ",32]
[{"$f":"Worksheet!D6","v":1},{"$f":"Worksheet!E6","v":1},{"$f":"IF(Worksheet!$B$6=1,\"up\",IF(Worksheet!$B$6=2,\"down\",CHOOSE(RANDBETWEEN(1,2),\"up\",\"down\")))","v":"up"},{"$f":"IF(AND(D$1<Worksheet!$B$9,D$1=$A6+1,$C6=\"up\"),RANDBETWEEN(5,7),IF(AND(D$1<Worksheet!$B$9,D$1=$A6+1,$C6=\"down\"),RANDBETWEEN(3,5),IF(D$1>Worksheet!$B$9,0,IF(D$1=Worksheet!$B$9,RANDBETWEEN(1,9),RANDBETWEEN(0,9)))))","v":0},{"$f":"IF(AND(E$1<Worksheet!$B$9,E$1=$A6+1,$C6=\"up\"),RANDBETWEEN(5,7),IF(AND(E$1<Worksheet!$B$9,E$1=$A6+1,$C6=\"down\"),RANDBETWEEN(3,5),IF(E$1>Worksheet!$B$9,0,IF(E$1=Worksheet!$B$9,RANDBETWEEN(1,9),RANDBETWEEN(0,9)))))","v":0},{"$f":"IF(AND(F$1<Worksheet!$B$9,F$1=$A6+1,$C6=\"up\"),RANDBETWEEN(5,7),IF(AND(F$1<Worksheet!$B$9,F$1=$A6+1,$C6=\"down\"),RANDBETWEEN(3,5),IF(F$1>Worksheet!$B$9,0,IF(F$1=Worksheet!$B$9,RANDBETWEEN(1,9),RANDBETWEEN(0,9)))))","v":0},{"$f":"IF(AND(Worksheet!$B$5,'SYSTEM FORMULAE'!$B6=100),0,IF(AND(G$1<Worksheet!$B$9,G$1=$A6+1,$C6=\"up\"),RANDBETWEEN(5,7),IF(AND(G$1<Worksheet!$B$9,G$1=$A6+1,$C6=\"down\"),RANDBETWEEN(3,5),IF(G$1>Worksheet!$B$9,0,IF(G$1=Worksheet!$B$9,RANDBETWEEN(1,9),RANDBETWEEN(0,9))))))","v":3},{"$f":"IF(AND(Worksheet!$B$5,OR($B6=10,$B6=100)),0,IF(AND(H$1<Worksheet!$B$9,H$1=$A6+1,$C6=\"up\"),RANDBETWEEN(5,7),IF(AND(H$1<Worksheet!$B$9,H$1=$A6+1,$C6=\"down\"),RANDBETWEEN(3,5),IF(H$1>Worksheet!$B$9,0,IF(H$1=Worksheet!$B$9,RANDBETWEEN(1,9),RANDBETWEEN(0,9))))))","v":5},"e)",35,", ",36,", ",37,", ",38,", ",39,", ",40,", ",41,", ",42,", ",43]
[{"$f":"Worksheet!D7","v":1},{"$f":"Worksheet!E7","v":1},{"$f":"IF(Worksheet!$B$6=1,\"up\",IF(Worksheet!$B$6=2,\"down\",CHOOSE(RANDBETWEEN(1,2),\"up\",\"down\")))","v":"up"},{"$f":"IF(AND(D$1<Worksheet!$B$9,D$1=$A7+1,$C7=\"up\"),RANDBETWEEN(5,7),IF(AND(D$1<Worksheet!$B$9,D$1=$A7+1,$C7=\"down\"),RANDBETWEEN(3,5),IF(D$1>Worksheet!$B$9,0,IF(D$1=Worksheet!$B$9,RANDBETWEEN(1,9),RANDBETWEEN(0,9)))))","v":0},{"$f":"IF(AND(E$1<Worksheet!$B$9,E$1=$A7+1,$C7=\"up\"),RANDBETWEEN(5,7),IF(AND(E$1<Worksheet!$B$9,E$1=$A7+1,$C7=\"down\"),RANDBETWEEN(3,5),IF(E$1>Worksheet!$B$9,0,IF(E$1=Worksheet!$B$9,RANDBETWEEN(1,9),RANDBETWEEN(0,9)))))","v":0},{"$f":"IF(AND(F$1<Worksheet!$B$9,F$1=$A7+1,$C7=\"up\"),RANDBETWEEN(5,7),IF(AND(F$1<Worksheet!$B$9,F$1=$A7+1,$C7=\"down\"),RANDBETWEEN(3,5),IF(F$1>Worksheet!$B$9,0,IF(F$1=Worksheet!$B$9,RANDBETWEEN(1,9),RANDBETWEEN(0,9)))))","v":0},{"$f":"IF(AND(Worksheet!$B$5,'SYSTEM FORMULAE'!$B7=100),0,IF(AND(G$1<Worksheet!$B$9,G$1=$A7+1,$C7=\"up\"),RANDBETWEEN(5,7),IF(AND(G$1<Worksheet!$B$9,G$1=$A7+1,$C7=\"down\"),RANDBETWEEN(3,5),IF(G$1>Worksheet!$B$9,0,IF(G$1=Worksheet!$B$9,RANDBETWEEN(1,9),RANDBETWEEN(0,9))))))","v":3},{"$f":"IF(AND(Worksheet!$B$5,OR($B7=10,$B7=100)),0,IF(AND(H$1<Worksheet!$B$9,H$1=$A7+1,$C7=\"up\"),RANDBETWEEN(5,7),IF(AND(H$1<Worksheet!$B$9,H$1=$A7+1,$C7=\"down\"),RANDBETWEEN(3,5),IF(H$1>Worksheet!$B$9,0,IF(H$1=Worksheet!$B$9,RANDBETWEEN(1,9),RANDBETWEEN(0,9))))))","v":7},"f)",37,", ",38,", ",39,", ",40,", ",41,", ",42,", ",43,", ",44,", ",45]
[{"$f":"Worksheet!D8","v":1},{"$f":"Worksheet!E8","v":1},{"$f":"IF(Worksheet!$B$6=1,\"up\",IF(Worksheet!$B$6=2,\"down\",CHOOSE(RANDBETWEEN(1,2),\"up\",\"down\")))","v":"up"},{"$f":"IF(AND(D$1<Worksheet!$B$9,D$1=$A8+1,$C8=\"up\"),RANDBETWEEN(5,7),IF(AND(D$1<Worksheet!$B$9,D$1=$A8+1,$C8=\"down\"),RANDBETWEEN(3,5),IF(D$1>Worksheet!$B$9,0,IF(D$1=Worksheet!$B$9,RANDBETWEEN(1,9),RANDBETWEEN(0,9)))))","v":0},{"$f":"IF(AND(E$1<Worksheet!$B$9,E$1=$A8+1,$C8=\"up\"),RANDBETWEEN(5,7),IF(AND(E$1<Worksheet!$B$9,E$1=$A8+1,$C8=\"down\"),RANDBETWEEN(3,5),IF(E$1>Worksheet!$B$9,0,IF(E$1=Worksheet!$B$9,RANDBETWEEN(1,9),RANDBETWEEN(0,9)))))","v":0},{"$f":"IF(AND(F$1<Worksheet!$B$9,F$1=$A8+1,$C8=\"up\"),RANDBETWEEN(5,7),IF(AND(F$1<Worksheet!$B$9,F$1=$A8+1,$C8=\"down\"),RANDBETWEEN(3,5),IF(F$1>Worksheet!$B$9,0,IF(F$1=Worksheet!$B$9,RANDBETWEEN(1,9),RANDBETWEEN(0,9)))))","v":0},{"$f":"IF(AND(Worksheet!$B$5,'SYSTEM FORMULAE'!$B8=100),0,IF(AND(G$1<Worksheet!$B$9,G$1=$A8+1,$C8=\"up\"),RANDBETWEEN(5,7),IF(AND(G$1<Worksheet!$B$9,G$1=$A8+1,$C8=\"down\"),RANDBETWEEN(3,5),IF(G$1>Worksheet!$B$9,0,IF(G$1=Worksheet!$B$9,RANDBETWEEN(1,9),RANDBETWEEN(0,9))))))","v":5},{"$f":"IF(AND(Worksheet!$B$5,OR($B8=10,$B8=100)),0,IF(AND(H$1<Worksheet!$B$9,H$1=$A8+1,$C8=\"up\"),RANDBETWEEN(5,7),IF(AND(H$1<Worksheet!$B$9,H$1=$A8+1,$C8=\"down\"),RANDBETWEEN(3,5),IF(H$1>Worksheet!$B$9,0,IF(H$1=Worksheet!$B$9,RANDBETWEEN(1,9),RANDBETWEEN(0,9))))))","v":7},"g)",57,", ",58,", ",59,", ",60,", ",61,", ",62,", ",63,", ",64,", ",65]
[{"$f":"Worksheet!D9","v":1},{"$f":"Worksheet!E9","v":1},{"$f":"IF(Worksheet!$B$6=1,\"up\",IF(Worksheet!$B$6=2,\"down\",CHOOSE(RANDBETWEEN(1,2),\"up\",\"down\")))","v":"up"},{"$f":"IF(AND(D$1<Worksheet!$B$9,D$1=$A9+1,$C9=\"up\"),RANDBETWEEN(5,7),IF(AND(D$1<Worksheet!$B$9,D$1=$A9+1,$C9=\"down\"),RANDBETWEEN(3,5),IF(D$1>Worksheet!$B$9,0,IF(D$1=Worksheet!$B$9,RANDBETWEEN(1,9),RANDBETWEEN(0,9)))))","v":0},{"$f":"IF(AND(E$1<Worksheet!$B$9,E$1=$A9+1,$C9=\"up\"),RANDBETWEEN(5,7),IF(AND(E$1<Worksheet!$B$9,E$1=$A9+1,$C9=\"down\"),RANDBETWEEN(3,5),IF(E$1>Worksheet!$B$9,0,IF(E$1=Worksheet!$B$9,RANDBETWEEN(1,9),RANDBETWEEN(0,9)))))","v":0},{"$f":"IF(AND(F$1<Worksheet!$B$9,F$1=$A9+1,$C9=\"up\"),RANDBETWEEN(5,7),IF(AND(F$1<Worksheet!$B$9,F$1=$A9+1,$C9=\"down\"),RANDBETWEEN(3,5),IF(F$1>Worksheet!$B$9,0,IF(F$1=Worksheet!$B$9,RANDBETWEEN(1,9),RANDBETWEEN(0,9)))))","v":0},{"$f":"IF(AND(Worksheet!$B$5,'SYSTEM FORMULAE'!$B9=100),0,IF(AND(G$1<Worksheet!$B$9,G$1=$A9+1,$C9=\"up\"),RANDBETWEEN(5,7),IF(AND(G$1<Worksheet!$B$9,G$1=$A9+1,$C9=\"down\"),RANDBETWEEN(3,5),IF(G$1>Worksheet!$B$9,0,IF(G$1=Worksheet!$B$9,RANDBETWEEN(1,9),RANDBETWEEN(0,9))))))","v":4},{"$f":"IF(AND(Worksheet!$B$5,OR($B9=10,$B9=100)),0,IF(AND(H$1<Worksheet!$B$9,H$1=$A9+1,$C9=\"up\"),RANDBETWEEN(5,7),IF(AND(H$1<Worksheet!$B$9,H$1=$A9+1,$C9=\"down\"),RANDBETWEEN(3,5),IF(H$1>Worksheet!$B$9,0,IF(H$1=Worksheet!$B$9,RANDBETWEEN(1,9),RANDBETWEEN(0,9))))))","v":3},"h)",43,", ",44,", ",45,", ",46,", ",47,", ",48,", ",49,", ",50,", ",51]
[{"$f":"Worksheet!D10","v":1},{"$f":"Worksheet!E10","v":1},{"$f":"IF(Worksheet!$B$6=1,\"up\",IF(Worksheet!$B$6=2,\"down\",CHOOSE(RANDBETWEEN(1,2),\"up\",\"down\")))","v":"up"},{"$f":"IF(AND(D$1<Worksheet!$B$9,D$1=$A10+1,$C10=\"up\"),RANDBETWEEN(5,7),IF(AND(D$1<Worksheet!$B$9,D$1=$A10+1,$C10=\"down\"),RANDBETWEEN(3,5),IF(D$1>Worksheet!$B$9,0,IF(D$1=Worksheet!$B$9,RANDBETWEEN(1,9),RANDBETWEEN(0,9)))))","v":0},{"$f":"IF(AND(E$1<Worksheet!$B$9,E$1=$A10+1,$C10=\"up\"),RANDBETWEEN(5,7),IF(AND(E$1<Worksheet!$B$9,E$1=$A10+1,$C10=\"down\"),RANDBETWEEN(3,5),IF(E$1>Worksheet!$B$9,0,IF(E$1=Worksheet!$B$9,RANDBETWEEN(1,9),RANDBETWEEN(0,9)))))","v":0},{"$f":"IF(AND(F$1<Worksheet!$B$9,F$1=$A10+1,$C10=\"up\"),RANDBETWEEN(5,7),IF(AND(F$1<Worksheet!$B$9,F$1=$A10+1,$C10=\"down\"),RANDBETWEEN(3,5),IF(F$1>Worksheet!$B$9,0,IF(F$1=Worksheet!$B$9,RANDBETWEEN(1,9),RANDBETWEEN(0,9)))))","v":0},{"$f":"IF(AND(Worksheet!$B$5,'SYSTEM FORMULAE'!$B10=100),0,IF(AND(G$1<Worksheet!$B$9,G$1=$A10+1,$C10=\"up\"),RANDBETWEEN(5,7),IF(AND(G$1<Worksheet!$B$9,G$1=$A10+1,$C10=\"down\"),RANDBETWEEN(3,5),IF(G$1>Worksheet!$B$9,0,IF(G$1=Worksheet!$B$9,RANDBETWEEN(1,9),RANDBETWEEN(0,9))))))","v":5},{"$f":"IF(AND(Worksheet!$B$5,OR($B10=10,$B10=100)),0,IF(AND(H$1<Worksheet!$B$9,H$1=$A10+1,$C10=\"up\"),RANDBETWEEN(5,7),IF(AND(H$1<Worksheet!$B$9,H$1=$A10+1,$C10=\"down\"),RANDBETWEEN(3,5),IF(H$1>Worksheet!$B$9,0,IF(H$1=Worksheet!$B$9,RANDBETWEEN(1,9),RANDBETWEEN(0,9))))))","v":0},"i)",50,", ",51,", ",52,", ",53,", ",54,", ",55,", ",56,", ",57,", ",58]
[{"$f":"Worksheet!D11","v":1},{"$f":"Worksheet!E11","v":1},{"$f":"IF(Worksheet!$B$6=1,\"up\",IF(Worksheet!$B$6=2,\"down\",CHOOSE(RANDBETWEEN(1,2),\"up\",\"down\")))","v":"up"},{"$f":"IF(AND(D$1<Worksheet!$B$9,D$1=$A11+1,$C11=\"up\"),RANDBETWEEN(5,7),IF(AND(D$1<Worksheet!$B$9,D$1=$A11+1,$C11=\"down\"),RANDBETWEEN(3,5),IF(D$1>Worksheet!$B$9,0,IF(D$1=Worksheet!$B$9,RANDBETWEEN(1,9),RANDBETWEEN(0,9)))))","v":0},{"$f":"IF(AND(E$1<Worksheet!$B$9,E$1=$A11+1,$C11=\"up\"),RANDBETWEEN(5,7),IF(AND(E$1<Worksheet!$B$9,E$1=$A11+1,$C11=\"down\"),RANDBETWEEN(3,5),IF(E$1>Worksheet!$B$9,0,IF(E$1=Worksheet!$B$9,RANDBETWEEN(1,9),RANDBETWEEN(0,9)))))","v":0},{"$f":"IF(AND(F$1<Worksheet!$B$9,F$1=$A11+1,$C11=\"up\"),RANDBETWEEN(5,7),IF(AND(F$1<Worksheet!$B$9,F$1=$A11+1,$C11=\"down\"),RANDBETWEEN(3,5),IF(F$1>Worksheet!$B$9,0,IF(F$1=Worksheet!$B$9,RANDBETWEEN(1,9),RANDBETWEEN(0,9)))))","v":0},{"$f":"IF(AND(Worksheet!$B$5,'SYSTEM FORMULAE'!$B11=100),0,IF(AND(G$1<Worksheet!$B$9,G$1=$A11+1,$C11=\"up\"),RANDBETWEEN(5,7),IF(AND(G$1<Worksheet!$B$9,G$1=$A11+1,$C11=\"down\"),RANDBETWEEN(3,5),IF(G$1>Worksheet!$B$9,0,IF(G$1=Worksheet!$B$9,RANDBETWEEN(1,9),RANDBETWEEN(0,9))))))","v":6},{"$f":"IF(AND(Worksheet!$B$5,OR($B11=10,$B11=100)),0,IF(AND(H$1<Worksheet!$B$9,H$1=$A11+1,$C11=\"up\"),RANDBETWEEN(5,7),IF(AND(H$1<Worksheet!$B$9,H$1=$A11+1,$C11=\"down\"),RANDBETWEEN(3,5),IF(H$1>Worksheet!$B$9,0,IF(H$1=Worksheet!$B$9,RANDBETWEEN(1,9),RANDBETWEEN(0,9))))))","v":6},"j)",66,", ",67,", ",68,", ",69,", ",70,", ",71,", ",72,", ",73,", ",74]
[{"$f":"Worksheet!D12","v":1},{"$f":"Worksheet!E12","v":1},{"$f":"IF(Worksheet!$B$6=1,\"up\",IF(Worksheet!$B$6=2,\"down\",CHOOSE(RANDBETWEEN(1,2),\"up\",\"down\")))","v":"up"},{"$f":"IF(AND(D$1<Worksheet!$B$9,D$1=$A12+1,$C12=\"up\"),RANDBETWEEN(5,7),IF(AND(D$1<Worksheet!$B$9,D$1=$A12+1,$C12=\"down\"),RANDBETWEEN(3,5),IF(D$1>Worksheet!$B$9,0,IF(D$1=Worksheet!$B$9,RANDBETWEEN(1,9),RANDBETWEEN(0,9)))))","v":0},{"$f":"IF(AND(E$1<Worksheet!$B$9,E$1=$A12+1,$C12=\"up\"),RANDBETWEEN(5,7),IF(AND(E$1<Worksheet!$B$9,E$1=$A12+1,$C12=\"down\"),RANDBETWEEN(3,5),IF(E$1>Worksheet!$B$9,0,IF(E$1=Worksheet!$B$9,RANDBETWEEN(1,9),RANDBETWEEN(0,9)))))","v":0},{"$f":"IF(AND(F$1<Worksheet!$B$9,F$1=$A12+1,$C12=\"up\"),RANDBETWEEN(5,7),IF(AND(F$1<Worksheet!$B$9,F$1=$A12+1,$C12=\"down\"),RANDBETWEEN(3,5),IF(F$1>Worksheet!$B$9,0,IF(F$1=Worksheet!$B$9,RANDBETWEEN(1,9),RANDBETWEEN(0,9)))))","v":0},{"$f":"IF(AND(Worksheet!$B$5,'SYSTEM FORMULAE'!$B12=100),0,IF(AND(G$1<Worksheet!$B$9,G$1=$A12+1,$C12=\"up\"),RANDBETWEEN(5,7),IF(AND(G$1<Worksheet!$B$9,G$1=$A12+1,$C12=\"down\"),RANDBETWEEN(3,5),IF(G$1>Worksheet!$B$9,0,IF(G$1=Worksheet!$B$9,RANDBETWEEN(1,9),RANDBETWEEN(0,9))))))","v":3},{"$f":"IF(AND(Worksheet!$B$5,OR($B12=10,$B12=100)),0,IF(AND(H$1<Worksheet!$B$9,H$1=$A12+1,$C12=\"up\"),RANDBETWEEN(5,7),IF(AND(H$1<Worksheet!$B$9,H$1=$A12+1,$C12=\"down\"),RANDBETWEEN(3,5),IF(H$1>Worksheet!$B$9,0,IF(H$1=Worksheet!$B$9,RANDBETWEEN(1,9),RANDBETWEEN(0,9))))))","v":0},"k)",30,", ",31,", ",32,", ",33,", ",34,", ",35,", ",36,", ",37,", ",38]
[{"$f":"Worksheet!D13","v":1},{"$f":"Worksheet!E13","v":1},{"$f":"IF(Worksheet!$B$6=1,\"up\",IF(Worksheet!$B$6=2,\"down\",CHOOSE(RANDBETWEEN(1,2),\"up\",\"down\")))","v":"up"},{"$f":"IF(AND(D$1<Worksheet!$B$9,D$1=$A13+1,$C13=\"up\"),RANDBETWEEN(5,7),IF(AND(D$1<Worksheet!$B$9,D$1=$A13+1,$C13=\"down\"),RANDBETWEEN(3,5),IF(D$1>Worksheet!$B$9,0,IF(D$1=Worksheet!$B$9,RANDBETWEEN(1,9),RANDBETWEEN(0,9)))))","v":0},{"$f":"IF(AND(E$1<Worksheet!$B$9,E$1=$A13+1,$C13=\"up\"),RANDBETWEEN(5,7),IF(AND(E$1<Worksheet!$B$9,E$1=$A13+1,$C13=\"down\"),RANDBETWEEN(3,5),IF(E$1>Worksheet!$B$9,0,IF(E$1=Worksheet!$B$9,RANDBETWEEN(1,9),RANDBETWEEN(0,9)))))","v":0},{"$f":"IF(AND(F$1<Worksheet!$B$9,F$1=$A13+1,$C13=\"up\"),RANDBETWEEN(5,7),IF(AND(F$1<Worksheet!$B$9,F$1=$A13+1,$C13=\"down\"),RANDBETWEEN(3,5),IF(F$1>Worksheet!$B$9,0,IF(F$1=Worksheet!$B$9,RANDBETWEEN(1,9),RANDBETWEEN(0,9)))))","v":0},{"$f":"IF(AND(Worksheet!$B$5,'SYSTEM FORMULAE'!$B13=100),0,IF(AND(G$1<Worksheet!$B$9,G$1=$A13+1,$C13=\"up\"),RANDBETWEEN(5,7),IF(AND(G$1<Worksheet!$B$9,G$1=$A13+1,$C13=\"down\"),RANDBETWEEN(3,5),IF(G$1>Worksheet!$B$9,0,IF(G$1=Worksheet!$B$9,RANDBETWEEN(1,9),RANDBETWEEN(0,9))))))","v":6},{"$f":"IF(AND(Worksheet!$B$5,OR($B13=10,$B13=100)),0,IF(AND(H$1<Worksheet!$B$9,H$1=$A13+1,$C13=\"up\"),RANDBETWEEN(5,7),IF(AND(H$1<Worksheet!$B$9,H$1=$A13+1,$C13=\"down\"),RANDBETWEEN(3,5),IF(H$1>Worksheet!$B$9,0,IF(H$1=Worksheet!$B$9,RANDBETWEEN(1,9),RANDBETWEEN(0,9))))))","v":3},"l)",63,", ",64,", ",65,", ",66,", ",67,", ",68,", ",69,", ",70,", ",71]