{"text_format":"1","workbook":"xlsx","n_sheets":2,"sheets":["Worksheet","SYSTEM FORMULAE"],"not_rendered":{"charts":0,"images":0,"macros":1,"external_links":0,"defined_names":3,"comments":0,"pivot_tables":0},"unopened":[],"bounds":{"document_bytes":16777216,"sheet_cells":100000,"rows_first":2000,"rows_last":500,"rows_between":2000,"halvings":0,"cell_chars":16384,"cell_head_chars":4096},"cells_cut":0,"cells_raw":0,"read":"whole","date_system":"1900"}

{"sheet":"Worksheet","index":0,"n_rows":22,"n_cols":25,"rows_kept":22,"cut":false,"hidden":false,"merged":[[2,0,2,1],[0,2,0,20]]}
[null,null,"Use the symbol   <,   >   or   =   in each question"]
[]
["Variables",null,1,540,">",537,null,20,250,"=",250,null,39,228,">",195,null,58,715,"<",724]
["SHOW ANSWERS?",false,2,275,">",268,null,21,908,">",906,null,40,240,"<",263,null,59,177,">",175,null,null,null,{"$f":"NOT(B4)","v":true}]
["Number of questions (minimum 20, maximum 80)",76,3,606,">",583,null,22,364,">",274,null,41,416,">",415,null,60,276,"=",276]
["Maximum number of digits    (min 3, max 5)",3,4,459,"<",475,null,23,553,"<",569,null,42,193,"<",280,null,61,823,"=",823]
[null,null,5,825,">",738,null,24,56,"<",145,null,43,349,"=",349,null,62,968,"<",975]
[null,null,6,187,">",112,null,25,768,">",766,null,44,476,"<",480,null,63,225,">",221]
[null,null,7,742,">",686,null,26,289,"=",289,null,45,267,"<",273,null,64,162,"<",184]
[null,null,8,931,">",888,null,27,92,"<",101,null,46,918,"<",923,null,65,510,"<",513]
[null,null,9,43,"<",72,null,28,85,">",82,null,47,449,">",447,null,66,979,">",911]
[null,null,10,942,"=",942,null,29,98,"<",121,null,48,104,"<",109,null,67,736,">",731]
[null,null,11,665,">",661,null,30,212,">",211,null,49,392,"<",397,null,68,758,"=",758]
[null,null,12,723,"<",730,null,31,968,">",967,null,50,195,"=",195,null,69,73,">",18]
[null,null,13,424,">",396,null,32,383,"<",399,null,51,46,">",3,null,70,815,">",787]
[null,null,14,819,">",812,null,33,944,">",893,null,52,32,"<",83,null,71,794,">",792]
[null,null,15,137,"<",142,null,34,148,"<",157,null,53,305,">",215,null,72,636,"<",685]
[null,null,16,88,">",64,null,35,975,"<",1028,null,54,192,"<",284,null,73,203,">",196]
[null,null,17,575,">",537,null,36,839,"<",880,null,55,990,">",984,null,74,313,">",287]
[null,null,18,770,"=",770,null,37,208,"<",213,null,56,284,"=",284,null,75,51,">",3]
[null,null,19,551,">",547,null,38,38,">",28,null,57,185,"<",252,null,76,271,">",227]
[null,null,"",989,">",985,null,"",481,">",470,null,"",799,"<",802,null,"",668,"<",729]

{"sheet":"SYSTEM FORMULAE","index":1,"n_rows":20,"n_cols":19,"rows_kept":20,"cut":false,"hidden":false,"merged":[]}
[{"$f":"IF(ROW()<=Worksheet!$B$5/4,ROW(),\"\")","v":1},{"$f":"RANDBETWEEN(IF(Worksheet!$B$6<=3,1,101),10^Worksheet!$B$6-1)","v":341},{"$f":"IF(B1=D1,\"=\",IF(B1<D1,\"<\",\">\"))","v":"<"},{"$f":"IF(Worksheet!$B$6>=4,CHOOSE(RANDBETWEEN(1,5),B1+RANDBETWEEN(1,100),B1-RANDBETWEEN(1,100),B1,B1+RANDBETWEEN(101,1000),ABS(B1-RANDBETWEEN(101,1000))),IF(Worksheet!$B$6=1,RANDBETWEEN(0,9),IF(Worksheet!$B$6=2,RANDBETWEEN(1,99),CHOOSE(RANDBETWEEN(1,5),B1+RANDBETWEEN(1,10),ABS(B1-RANDBETWEEN(1,10)),B1,B1+RANDBETWEEN(1,100),ABS(B1-RANDBETWEEN(1,100))))))","v":349},null,{"$f":"MAX(A1:A21)+1","v":20},{"$f":"RANDBETWEEN(IF(Worksheet!$B$6<=3,1,101),10^Worksheet!$B$6-1)","v":838},{"$f":"IF(G1=I1,\"=\",IF(G1<I1,\"<\",\">\"))","v":"<"},{"$f":"IF(Worksheet!$B$6>=4,CHOOSE(RANDBETWEEN(1,5),G1+RANDBETWEEN(1,100),G1-RANDBETWEEN(1,100),G1,G1+RANDBETWEEN(101,1000),ABS(G1-RANDBETWEEN(101,1000))),IF(Worksheet!$B$6=1,RANDBETWEEN(0,9),IF(Worksheet!$B$6=2,RANDBETWEEN(1,99),CHOOSE(RANDBETWEEN(1,5),G1+RANDBETWEEN(1,10),ABS(G1-RANDBETWEEN(1,10)),G1,G1+RANDBETWEEN(1,100),ABS(G1-RANDBETWEEN(1,100))))))","v":860},null,{"$f":"MAX(F1:F21)+1","v":39},{"$f":"RANDBETWEEN(IF(Worksheet!$B$6<=3,1,101),10^Worksheet!$B$6-1)","v":827},{"$f":"IF(L1=N1,\"=\",IF(L1<N1,\"<\",\">\"))","v":"<"},{"$f":"IF(Worksheet!$B$6>=4,CHOOSE(RANDBETWEEN(1,5),L1+RANDBETWEEN(1,100),L1-RANDBETWEEN(1,100),L1,L1+RANDBETWEEN(101,1000),ABS(L1-RANDBETWEEN(101,1000))),IF(Worksheet!$B$6=1,RANDBETWEEN(0,9),IF(Worksheet!$B$6=2,RANDBETWEEN(1,99),CHOOSE(RANDBETWEEN(1,5),L1+RANDBETWEEN(1,10),ABS(L1-RANDBETWEEN(1,10)),L1,L1+RANDBETWEEN(1,100),ABS(L1-RANDBETWEEN(1,100))))))","v":832},null,{"$f":"MAX(K1:K21)+1","v":58},{"$f":"RANDBETWEEN(IF(Worksheet!$B$6<=3,1,101),10^Worksheet!$B$6-1)","v":643},{"$f":"IF(Q1=S1,\"=\",IF(Q1<S1,\"<\",\">\"))","v":"<"},{"$f":"IF(Worksheet!$B$6>=4,CHOOSE(RANDBETWEEN(1,5),Q1+RANDBETWEEN(1,100),Q1-RANDBETWEEN(1,100),Q1,Q1+RANDBETWEEN(101,1000),ABS(Q1-RANDBETWEEN(101,1000))),IF(Worksheet!$B$6=1,RANDBETWEEN(0,9),IF(Worksheet!$B$6=2,RANDBETWEEN(1,99),CHOOSE(RANDBETWEEN(1,5),Q1+RANDBETWEEN(1,10),ABS(Q1-RANDBETWEEN(1,10)),Q1,Q1+RANDBETWEEN(1,100),ABS(Q1-RANDBETWEEN(1,100))))))","v":652}]
[{"$f":"IF(ROW()<=Worksheet!$B$5/4,ROW(),\"\")","v":2},{"$f":"RANDBETWEEN(IF(Worksheet!$B$6<=3,1,101),10^Worksheet!$B$6-1)","v":888},{"$f":"IF(B2=D2,\"=\",IF(B2<D2,\"<\",\">\"))","v":"<"},{"$f":"IF(Worksheet!$B$6>=4,CHOOSE(RANDBETWEEN(1,5),B2+RANDBETWEEN(1,100),B2-RANDBETWEEN(1,100),B2,B2+RANDBETWEEN(101,1000),ABS(B2-RANDBETWEEN(101,1000))),IF(Worksheet!$B$6=1,RANDBETWEEN(0,9),IF(Worksheet!$B$6=2,RANDBETWEEN(1,99),CHOOSE(RANDBETWEEN(1,5),B2+RANDBETWEEN(1,10),ABS(B2-RANDBETWEEN(1,10)),B2,B2+RANDBETWEEN(1,100),ABS(B2-RANDBETWEEN(1,100))))))","v":927},null,{"$f":"IF(ROW()<=Worksheet!$B$5/4,F1+1,\"\")","v":21},{"$f":"RANDBETWEEN(IF(Worksheet!$B$6<=3,1,101),10^Worksheet!$B$6-1)","v":198},{"$f":"IF(G2=I2,\"=\",IF(G2<I2,\"<\",\">\"))","v":">"},{"$f":"IF(Worksheet!$B$6>=4,CHOOSE(RANDBETWEEN(1,5),G2+RANDBETWEEN(1,100),G2-RANDBETWEEN(1,100),G2,G2+RANDBETWEEN(101,1000),ABS(G2-RANDBETWEEN(101,1000))),IF(Worksheet!$B$6=1,RANDBETWEEN(0,9),IF(Worksheet!$B$6=2,RANDBETWEEN(1,99),CHOOSE(RANDBETWEEN(1,5),G2+RANDBETWEEN(1,10),ABS(G2-RANDBETWEEN(1,10)),G2,G2+RANDBETWEEN(1,100),ABS(G2-RANDBETWEEN(1,100))))))","v":191},null,{"$f":"IF(ROW()<=Worksheet!$B$5/4,K1+1,\"\")","v":40},{"$f":"RANDBETWEEN(IF(Worksheet!$B$6<=3,1,101),10^Worksheet!$B$6-1)","v":695},{"$f":"IF(L2=N2,\"=\",IF(L2<N2,\"<\",\">\"))","v":"<"},{"$f":"IF(Worksheet!$B$6>=4,CHOOSE(RANDBETWEEN(1,5),L2+RANDBETWEEN(1,100),L2-RANDBETWEEN(1,100),L2,L2+RANDBETWEEN(101,1000),ABS(L2-RANDBETWEEN(101,1000))),IF(Worksheet!$B$6=1,RANDBETWEEN(0,9),IF(Worksheet!$B$6=2,RANDBETWEEN(1,99),CHOOSE(RANDBETWEEN(1,5),L2+RANDBETWEEN(1,10),ABS(L2-RANDBETWEEN(1,10)),L2,L2+RANDBETWEEN(1,100),ABS(L2-RANDBETWEEN(1,100))))))","v":698},null,{"$f":"IF(ROW()<=Worksheet!$B$5/4,P1+1,\"\")","v":59},{"$f":"RANDBETWEEN(IF(Worksheet!$B$6<=3,1,101),10^Worksheet!$B$6-1)","v":557},{"$f":"IF(Q2=S2,\"=\",IF(Q2<S2,\"<\",\">\"))","v":"<"},{"$f":"IF(Worksheet!$B$6>=4,CHOOSE(RANDBETWEEN(1,5),Q2+RANDBETWEEN(1,100),Q2-RANDBETWEEN(1,100),Q2,Q2+RANDBETWEEN(101,1000),ABS(Q2-RANDBETWEEN(101,1000))),IF(Worksheet!$B$6=1,RANDBETWEEN(0,9),IF(Worksheet!$B$6=2,RANDBETWEEN(1,99),CHOOSE(RANDBETWEEN(1,5),Q2+RANDBETWEEN(1,10),ABS(Q2-RANDBETWEEN(1,10)),Q2,Q2+RANDBETWEEN(1,100),ABS(Q2-RANDBETWEEN(1,100))))))","v":641}]
[{"$f":"IF(ROW()<=Worksheet!$B$5/4,ROW(),\"\")","v":3},{"$f":"RANDBETWEEN(IF(Worksheet!$B$6<=3,1,101),10^Worksheet!$B$6-1)","v":793},"=",{"$f":"IF(Worksheet!$B$6>=4,CHOOSE(RANDBETWEEN(1,5),B3+RANDBETWEEN(1,100),B3-RANDBETWEEN(1,100),B3,B3+RANDBETWEEN(101,1000),ABS(B3-RANDBETWEEN(101,1000))),IF(Worksheet!$B$6=1,RANDBETWEEN(0,9),IF(Worksheet!$B$6=2,RANDBETWEEN(1,99),CHOOSE(RANDBETWEEN(1,5),B3+RANDBETWEEN(1,10),ABS(B3-RANDBETWEEN(1,10)),B3,B3+RANDBETWEEN(1,100),ABS(B3-RANDBETWEEN(1,100))))))","v":793},null,{"$f":"IF(ROW()<=Worksheet!$B$5/4,F2+1,\"\")","v":22},{"$f":"RANDBETWEEN(IF(Worksheet!$B$6<=3,1,101),10^Worksheet!$B$6-1)","v":679},"<",{"$f":"IF(Worksheet!$B$6>=4,CHOOSE(RANDBETWEEN(1,5),G3+RANDBETWEEN(1,100),G3-RANDBETWEEN(1,100),G3,G3+RANDBETWEEN(101,1000),ABS(G3-RANDBETWEEN(101,1000))),IF(Worksheet!$B$6=1,RANDBETWEEN(0,9),IF(Worksheet!$B$6=2,RANDBETWEEN(1,99),CHOOSE(RANDBETWEEN(1,5),G3+RANDBETWEEN(1,10),ABS(G3-RANDBETWEEN(1,10)),G3,G3+RANDBETWEEN(1,100),ABS(G3-RANDBETWEEN(1,100))))))","v":684},null,{"$f":"IF(ROW()<=Worksheet!$B$5/4,K2+1,\"\")","v":41},{"$f":"RANDBETWEEN(IF(Worksheet!$B$6<=3,1,101),10^Worksheet!$B$6-1)","v":683},"<",{"$f":"IF(Worksheet!$B$6>=4,CHOOSE(RANDBETWEEN(1,5),L3+RANDBETWEEN(1,100),L3-RANDBETWEEN(1,100),L3,L3+RANDBETWEEN(101,1000),ABS(L3-RANDBETWEEN(101,1000))),IF(Worksheet!$B$6=1,RANDBETWEEN(0,9),IF(Worksheet!$B$6=2,RANDBETWEEN(1,99),CHOOSE(RANDBETWEEN(1,5),L3+RANDBETWEEN(1,10),ABS(L3-RANDBETWEEN(1,10)),L3,L3+RANDBETWEEN(1,100),ABS(L3-RANDBETWEEN(1,100))))))","v":687},null,{"$f":"IF(ROW()<=Worksheet!$B$5/4,P2+1,\"\")","v":60},{"$f":"RANDBETWEEN(IF(Worksheet!$B$6<=3,1,101),10^Worksheet!$B$6-1)","v":542},"<",{"$f":"IF(Worksheet!$B$6>=4,CHOOSE(RANDBETWEEN(1,5),Q3+RANDBETWEEN(1,100),Q3-RANDBETWEEN(1,100),Q3,Q3+RANDBETWEEN(101,1000),ABS(Q3-RANDBETWEEN(101,1000))),IF(Worksheet!$B$6=1,RANDBETWEEN(0,9),IF(Worksheet!$B$6=2,RANDBETWEEN(1,99),CHOOSE(RANDBETWEEN(1,5),Q3+RANDBETWEEN(1,10),ABS(Q3-RANDBETWEEN(1,10)),Q3,Q3+RANDBETWEEN(1,100),ABS(Q3-RANDBETWEEN(1,100))))))","v":545}]
[{"$f":"IF(ROW()<=Worksheet!$B$5/4,ROW(),\"\")","v":4},{"$f":"RANDBETWEEN(IF(Worksheet!$B$6<=3,1,101),10^Worksheet!$B$6-1)","v":360},">",{"$f":"IF(Worksheet!$B$6>=4,CHOOSE(RANDBETWEEN(1,5),B4+RANDBETWEEN(1,100),B4-RANDBETWEEN(1,100),B4,B4+RANDBETWEEN(101,1000),ABS(B4-RANDBETWEEN(101,1000))),IF(Worksheet!$B$6=1,RANDBETWEEN(0,9),IF(Worksheet!$B$6=2,RANDBETWEEN(1,99),CHOOSE(RANDBETWEEN(1,5),B4+RANDBETWEEN(1,10),ABS(B4-RANDBETWEEN(1,10)),B4,B4+RANDBETWEEN(1,100),ABS(B4-RANDBETWEEN(1,100))))))","v":353},null,{"$f":"IF(ROW()<=Worksheet!$B$5/4,F3+1,\"\")","v":23},{"$f":"RANDBETWEEN(IF(Worksheet!$B$6<=3,1,101),10^Worksheet!$B$6-1)","v":285},"<",{"$f":"IF(Worksheet!$B$6>=4,CHOOSE(RANDBETWEEN(1,5),G4+RANDBETWEEN(1,100),G4-RANDBETWEEN(1,100),G4,G4+RANDBETWEEN(101,1000),ABS(G4-RANDBETWEEN(101,1000))),IF(Worksheet!$B$6=1,RANDBETWEEN(0,9),IF(Worksheet!$B$6=2,RANDBETWEEN(1,99),CHOOSE(RANDBETWEEN(1,5),G4+RANDBETWEEN(1,10),ABS(G4-RANDBETWEEN(1,10)),G4,G4+RANDBETWEEN(1,100),ABS(G4-RANDBETWEEN(1,100))))))","v":290},null,{"$f":"IF(ROW()<=Worksheet!$B$5/4,K3+1,\"\")","v":42},{"$f":"RANDBETWEEN(IF(Worksheet!$B$6<=3,1,101),10^Worksheet!$B$6-1)","v":409},"<",{"$f":"IF(Worksheet!$B$6>=4,CHOOSE(RANDBETWEEN(1,5),L4+RANDBETWEEN(1,100),L4-RANDBETWEEN(1,100),L4,L4+RANDBETWEEN(101,1000),ABS(L4-RANDBETWEEN(101,1000))),IF(Worksheet!$B$6=1,RANDBETWEEN(0,9),IF(Worksheet!$B$6=2,RANDBETWEEN(1,99),CHOOSE(RANDBETWEEN(1,5),L4+RANDBETWEEN(1,10),ABS(L4-RANDBETWEEN(1,10)),L4,L4+RANDBETWEEN(1,100),ABS(L4-RANDBETWEEN(1,100))))))","v":411},null,{"$f":"IF(ROW()<=Worksheet!$B$5/4,P3+1,\"\")","v":61},{"$f":"RANDBETWEEN(IF(Worksheet!$B$6<=3,1,101),10^Worksheet!$B$6-1)","v":847},"<",{"$f":"IF(Worksheet!$B$6>=4,CHOOSE(RANDBETWEEN(1,5),Q4+RANDBETWEEN(1,100),Q4-RANDBETWEEN(1,100),Q4,Q4+RANDBETWEEN(101,1000),ABS(Q4-RANDBETWEEN(101,1000))),IF(Worksheet!$B$6=1,RANDBETWEEN(0,9),IF(Worksheet!$B$6=2,RANDBETWEEN(1,99),CHOOSE(RANDBETWEEN(1,5),Q4+RANDBETWEEN(1,10),ABS(Q4-RANDBETWEEN(1,10)),Q4,Q4+RANDBETWEEN(1,100),ABS(Q4-RANDBETWEEN(1,100))))))","v":947}]
[{"$f":"IF(ROW()<=Worksheet!$B$5/4,ROW(),\"\")","v":5},{"$f":"RANDBETWEEN(IF(Worksheet!$B$6<=3,1,101),10^Worksheet!$B$6-1)","v":888},"<",{"$f":"IF(Worksheet!$B$6>=4,CHOOSE(RANDBETWEEN(1,5),B5+RANDBETWEEN(1,100),B5-RANDBETWEEN(1,100),B5,B5+RANDBETWEEN(101,1000),ABS(B5-RANDBETWEEN(101,1000))),IF(Worksheet!$B$6=1,RANDBETWEEN(0,9),IF(Worksheet!$B$6=2,RANDBETWEEN(1,99),CHOOSE(RANDBETWEEN(1,5),B5+RANDBETWEEN(1,10),ABS(B5-RANDBETWEEN(1,10)),B5,B5+RANDBETWEEN(1,100),ABS(B5-RANDBETWEEN(1,100))))))","v":889},null,{"$f":"IF(ROW()<=Worksheet!$B$5/4,F4+1,\"\")","v":24},{"$f":"RANDBETWEEN(IF(Worksheet!$B$6<=3,1,101),10^Worksheet!$B$6-1)","v":295},"=",{"$f":"IF(Worksheet!$B$6>=4,CHOOSE(RANDBETWEEN(1,5),G5+RANDBETWEEN(1,100),G5-RANDBETWEEN(1,100),G5,G5+RANDBETWEEN(101,1000),ABS(G5-RANDBETWEEN(101,1000))),IF(Worksheet!$B$6=1,RANDBETWEEN(0,9),IF(Worksheet!$B$6=2,RANDBETWEEN(1,99),CHOOSE(RANDBETWEEN(1,5),G5+RANDBETWEEN(1,10),ABS(G5-RANDBETWEEN(1,10)),G5,G5+RANDBETWEEN(1,100),ABS(G5-RANDBETWEEN(1,100))))))","v":295},null,{"$f":"IF(ROW()<=Worksheet!$B$5/4,K4+1,\"\")","v":43},{"$f":"RANDBETWEEN(IF(Worksheet!$B$6<=3,1,101),10^Worksheet!$B$6-1)","v":450},"<",{"$f":"IF(Worksheet!$B$6>=4,CHOOSE(RANDBETWEEN(1,5),L5+RANDBETWEEN(1,100),L5-RANDBETWEEN(1,100),L5,L5+RANDBETWEEN(101,1000),ABS(L5-RANDBETWEEN(101,1000))),IF(Worksheet!$B$6=1,RANDBETWEEN(0,9),IF(Worksheet!$B$6=2,RANDBETWEEN(1,99),CHOOSE(RANDBETWEEN(1,5),L5+RANDBETWEEN(1,10),ABS(L5-RANDBETWEEN(1,10)),L5,L5+RANDBETWEEN(1,100),ABS(L5-RANDBETWEEN(1,100))))))","v":534},null,{"$f":"IF(ROW()<=Worksheet!$B$5/4,P4+1,\"\")","v":62},{"$f":"RANDBETWEEN(IF(Worksheet!$B$6<=3,1,101),10^Worksheet!$B$6-1)","v":795},"<",{"$f":"IF(Worksheet!$B$6>=4,CHOOSE(RANDBETWEEN(1,5),Q5+RANDBETWEEN(1,100),Q5-RANDBETWEEN(1,100),Q5,Q5+RANDBETWEEN(101,1000),ABS(Q5-RANDBETWEEN(101,1000))),IF(Worksheet!$B$6=1,RANDBETWEEN(0,9),IF(Worksheet!$B$6=2,RANDBETWEEN(1,99),CHOOSE(RANDBETWEEN(1,5),Q5+RANDBETWEEN(1,10),ABS(Q5-RANDBETWEEN(1,10)),Q5,Q5+RANDBETWEEN(1,100),ABS(Q5-RANDBETWEEN(1,100))))))","v":879}]
[{"$f":"IF(ROW()<=Worksheet!$B$5/4,ROW(),\"\")","v":6},{"$f":"RANDBETWEEN(IF(Worksheet!$B$6<=3,1,101),10^Worksheet!$B$6-1)","v":571},"=",{"$f":"IF(Worksheet!$B$6>=4,CHOOSE(RANDBETWEEN(1,5),B6+RANDBETWEEN(1,100),B6-RANDBETWEEN(1,100),B6,B6+RANDBETWEEN(101,1000),ABS(B6-RANDBETWEEN(101,1000))),IF(Worksheet!$B$6=1,RANDBETWEEN(0,9),IF(Worksheet!$B$6=2,RANDBETWEEN(1,99),CHOOSE(RANDBETWEEN(1,5),B6+RANDBETWEEN(1,10),ABS(B6-RANDBETWEEN(1,10)),B6,B6+RANDBETWEEN(1,100),ABS(B6-RANDBETWEEN(1,100))))))","v":571},null,{"$f":"IF(ROW()<=Worksheet!$B$5/4,F5+1,\"\")","v":25},{"$f":"RANDBETWEEN(IF(Worksheet!$B$6<=3,1,101),10^Worksheet!$B$6-1)","v":770},"<",{"$f":"IF(Worksheet!$B$6>=4,CHOOSE(RANDBETWEEN(1,5),G6+RANDBETWEEN(1,100),G6-RANDBETWEEN(1,100),G6,G6+RANDBETWEEN(101,1000),ABS(G6-RANDBETWEEN(101,1000))),IF(Worksheet!$B$6=1,RANDBETWEEN(0,9),IF(Worksheet!$B$6=2,RANDBETWEEN(1,99),CHOOSE(RANDBETWEEN(1,5),G6+RANDBETWEEN(1,10),ABS(G6-RANDBETWEEN(1,10)),G6,G6+RANDBETWEEN(1,100),ABS(G6-RANDBETWEEN(1,100))))))","v":777},null,{"$f":"IF(ROW()<=Worksheet!$B$5/4,K5+1,\"\")","v":44},{"$f":"RANDBETWEEN(IF(Worksheet!$B$6<=3,1,101),10^Worksheet!$B$6-1)","v":23},"<",{"$f":"IF(Worksheet!$B$6>=4,CHOOSE(RANDBETWEEN(1,5),L6+RANDBETWEEN(1,100),L6-RANDBETWEEN(1,100),L6,L6+RANDBETWEEN(101,1000),ABS(L6-RANDBETWEEN(101,1000))),IF(Worksheet!$B$6=1,RANDBETWEEN(0,9),IF(Worksheet!$B$6=2,RANDBETWEEN(1,99),CHOOSE(RANDBETWEEN(1,5),L6+RANDBETWEEN(1,10),ABS(L6-RANDBETWEEN(1,10)),L6,L6+RANDBETWEEN(1,100),ABS(L6-RANDBETWEEN(1,100))))))","v":44},null,{"$f":"IF(ROW()<=Worksheet!$B$5/4,P5+1,\"\")","v":63},{"$f":"RANDBETWEEN(IF(Worksheet!$B$6<=3,1,101),10^Worksheet!$B$6-1)","v":558},">",{"$f":"IF(Worksheet!$B$6>=4,CHOOSE(RANDBETWEEN(1,5),Q6+RANDBETWEEN(1,100),Q6-RANDBETWEEN(1,100),Q6,Q6+RANDBETWEEN(101,1000),ABS(Q6-RANDBETWEEN(101,1000))),IF(Worksheet!$B$6=1,RANDBETWEEN(0,9),IF(Worksheet!$B$6=2,RANDBETWEEN(1,99),CHOOSE(RANDBETWEEN(1,5),Q6+RANDBETWEEN(1,10),ABS(Q6-RANDBETWEEN(1,10)),Q6,Q6+RANDBETWEEN(1,100),ABS(Q6-RANDBETWEEN(1,100))))))","v":553}]
[{"$f":"IF(ROW()<=Worksheet!$B$5/4,ROW(),\"\")","v":7},{"$f":"RANDBETWEEN(IF(Worksheet!$B$6<=3,1,101),10^Worksheet!$B$6-1)","v":74},">",{"$f":"IF(Worksheet!$B$6>=4,CHOOSE(RANDBETWEEN(1,5),B7+RANDBETWEEN(1,100),B7-RANDBETWEEN(1,100),B7,B7+RANDBETWEEN(101,1000),ABS(B7-RANDBETWEEN(101,1000))),IF(Worksheet!$B$6=1,RANDBETWEEN(0,9),IF(Worksheet!$B$6=2,RANDBETWEEN(1,99),CHOOSE(RANDBETWEEN(1,5),B7+RANDBETWEEN(1,10),ABS(B7-RANDBETWEEN(1,10)),B7,B7+RANDBETWEEN(1,100),ABS(B7-RANDBETWEEN(1,100))))))","v":67},null,{"$f":"IF(ROW()<=Worksheet!$B$5/4,F6+1,\"\")","v":26},{"$f":"RANDBETWEEN(IF(Worksheet!$B$6<=3,1,101),10^Worksheet!$B$6-1)","v":456},">",{"$f":"IF(Worksheet!$B$6>=4,CHOOSE(RANDBETWEEN(1,5),G7+RANDBETWEEN(1,100),G7-RANDBETWEEN(1,100),G7,G7+RANDBETWEEN(101,1000),ABS(G7-RANDBETWEEN(101,1000))),IF(Worksheet!$B$6=1,RANDBETWEEN(0,9),IF(Worksheet!$B$6=2,RANDBETWEEN(1,99),CHOOSE(RANDBETWEEN(1,5),G7+RANDBETWEEN(1,10),ABS(G7-RANDBETWEEN(1,10)),G7,G7+RANDBETWEEN(1,100),ABS(G7-RANDBETWEEN(1,100))))))","v":450},null,{"$f":"IF(ROW()<=Worksheet!$B$5/4,K6+1,\"\")","v":45},{"$f":"RANDBETWEEN(IF(Worksheet!$B$6<=3,1,101),10^Worksheet!$B$6-1)","v":634},"=",{"$f":"IF(Worksheet!$B$6>=4,CHOOSE(RANDBETWEEN(1,5),L7+RANDBETWEEN(1,100),L7-RANDBETWEEN(1,100),L7,L7+RANDBETWEEN(101,1000),ABS(L7-RANDBETWEEN(101,1000))),IF(Worksheet!$B$6=1,RANDBETWEEN(0,9),IF(Worksheet!$B$6=2,RANDBETWEEN(1,99),CHOOSE(RANDBETWEEN(1,5),L7+RANDBETWEEN(1,10),ABS(L7-RANDBETWEEN(1,10)),L7,L7+RANDBETWEEN(1,100),ABS(L7-RANDBETWEEN(1,100))))))","v":634},null,{"$f":"IF(ROW()<=Worksheet!$B$5/4,P6+1,\"\")","v":64},{"$f":"RANDBETWEEN(IF(Worksheet!$B$6<=3,1,101),10^Worksheet!$B$6-1)","v":743},"=",{"$f":"IF(Worksheet!$B$6>=4,CHOOSE(RANDBETWEEN(1,5),Q7+RANDBETWEEN(1,100),Q7-RANDBETWEEN(1,100),Q7,Q7+RANDBETWEEN(101,1000),ABS(Q7-RANDBETWEEN(101,1000))),IF(Worksheet!$B$6=1,RANDBETWEEN(0,9),IF(Worksheet!$B$6=2,RANDBETWEEN(1,99),CHOOSE(RANDBETWEEN(1,5),Q7+RANDBETWEEN(1,10),ABS(Q7-RANDBETWEEN(1,10)),Q7,Q7+RANDBETWEEN(1,100),ABS(Q7-RANDBETWEEN(1,100))))))","v":743}]
[{"$f":"IF(ROW()<=Worksheet!$B$5/4,ROW(),\"\")","v":8},{"$f":"RANDBETWEEN(IF(Worksheet!$B$6<=3,1,101),10^Worksheet!$B$6-1)","v":535},"<",{"$f":"IF(Worksheet!$B$6>=4,CHOOSE(RANDBETWEEN(1,5),B8+RANDBETWEEN(1,100),B8-RANDBETWEEN(1,100),B8,B8+RANDBETWEEN(101,1000),ABS(B8-RANDBETWEEN(101,1000))),IF(Worksheet!$B$6=1,RANDBETWEEN(0,9),IF(Worksheet!$B$6=2,RANDBETWEEN(1,99),CHOOSE(RANDBETWEEN(1,5),B8+RANDBETWEEN(1,10),ABS(B8-RANDBETWEEN(1,10)),B8,B8+RANDBETWEEN(1,100),ABS(B8-RANDBETWEEN(1,100))))))","v":571},null,{"$f":"IF(ROW()<=Worksheet!$B$5/4,F7+1,\"\")","v":27},{"$f":"RANDBETWEEN(IF(Worksheet!$B$6<=3,1,101),10^Worksheet!$B$6-1)","v":673},"<",{"$f":"IF(Worksheet!$B$6>=4,CHOOSE(RANDBETWEEN(1,5),G8+RANDBETWEEN(1,100),G8-RANDBETWEEN(1,100),G8,G8+RANDBETWEEN(101,1000),ABS(G8-RANDBETWEEN(101,1000))),IF(Worksheet!$B$6=1,RANDBETWEEN(0,9),IF(Worksheet!$B$6=2,RANDBETWEEN(1,99),CHOOSE(RANDBETWEEN(1,5),G8+RANDBETWEEN(1,10),ABS(G8-RANDBETWEEN(1,10)),G8,G8+RANDBETWEEN(1,100),ABS(G8-RANDBETWEEN(1,100))))))","v":681},null,{"$f":"IF(ROW()<=Worksheet!$B$5/4,K7+1,\"\")","v":46},{"$f":"RANDBETWEEN(IF(Worksheet!$B$6<=3,1,101),10^Worksheet!$B$6-1)","v":876},">",{"$f":"IF(Worksheet!$B$6>=4,CHOOSE(RANDBETWEEN(1,5),L8+RANDBETWEEN(1,100),L8-RANDBETWEEN(1,100),L8,L8+RANDBETWEEN(101,1000),ABS(L8-RANDBETWEEN(101,1000))),IF(Worksheet!$B$6=1,RANDBETWEEN(0,9),IF(Worksheet!$B$6=2,RANDBETWEEN(1,99),CHOOSE(RANDBETWEEN(1,5),L8+RANDBETWEEN(1,10),ABS(L8-RANDBETWEEN(1,10)),L8,L8+RANDBETWEEN(1,100),ABS(L8-RANDBETWEEN(1,100))))))","v":780},null,{"$f":"IF(ROW()<=Worksheet!$B$5/4,P7+1,\"\")","v":65},{"$f":"RANDBETWEEN(IF(Worksheet!$B$6<=3,1,101),10^Worksheet!$B$6-1)","v":445},"<",{"$f":"IF(Worksheet!$B$6>=4,CHOOSE(RANDBETWEEN(1,5),Q8+RANDBETWEEN(1,100),Q8-RANDBETWEEN(1,100),Q8,Q8+RANDBETWEEN(101,1000),ABS(Q8-RANDBETWEEN(101,1000))),IF(Worksheet!$B$6=1,RANDBETWEEN(0,9),IF(Worksheet!$B$6=2,RANDBETWEEN(1,99),CHOOSE(RANDBETWEEN(1,5),Q8+RANDBETWEEN(1,10),ABS(Q8-RANDBETWEEN(1,10)),Q8,Q8+RANDBETWEEN(1,100),ABS(Q8-RANDBETWEEN(1,100))))))","v":453}]
[{"$f":"IF(ROW()<=Worksheet!$B$5/4,ROW(),\"\")","v":9},{"$f":"RANDBETWEEN(IF(Worksheet!$B$6<=3,1,101),10^Worksheet!$B$6-1)","v":222},">",{"$f":"IF(Worksheet!$B$6>=4,CHOOSE(RANDBETWEEN(1,5),B9+RANDBETWEEN(1,100),B9-RANDBETWEEN(1,100),B9,B9+RANDBETWEEN(101,1000),ABS(B9-RANDBETWEEN(101,1000))),IF(Worksheet!$B$6=1,RANDBETWEEN(0,9),IF(Worksheet!$B$6=2,RANDBETWEEN(1,99),CHOOSE(RANDBETWEEN(1,5),B9+RANDBETWEEN(1,10),ABS(B9-RANDBETWEEN(1,10)),B9,B9+RANDBETWEEN(1,100),ABS(B9-RANDBETWEEN(1,100))))))","v":213},null,{"$f":"IF(ROW()<=Worksheet!$B$5/4,F8+1,\"\")","v":28},{"$f":"RANDBETWEEN(IF(Worksheet!$B$6<=3,1,101),10^Worksheet!$B$6-1)","v":987},"=",{"$f":"IF(Worksheet!$B$6>=4,CHOOSE(RANDBETWEEN(1,5),G9+RANDBETWEEN(1,100),G9-RANDBETWEEN(1,100),G9,G9+RANDBETWEEN(101,1000),ABS(G9-RANDBETWEEN(101,1000))),IF(Worksheet!$B$6=1,RANDBETWEEN(0,9),IF(Worksheet!$B$6=2,RANDBETWEEN(1,99),CHOOSE(RANDBETWEEN(1,5),G9+RANDBETWEEN(1,10),ABS(G9-RANDBETWEEN(1,10)),G9,G9+RANDBETWEEN(1,100),ABS(G9-RANDBETWEEN(1,100))))))","v":987},null,{"$f":"IF(ROW()<=Worksheet!$B$5/4,K8+1,\"\")","v":47},{"$f":"RANDBETWEEN(IF(Worksheet!$B$6<=3,1,101),10^Worksheet!$B$6-1)","v":724},">",{"$f":"IF(Worksheet!$B$6>=4,CHOOSE(RANDBETWEEN(1,5),L9+RANDBETWEEN(1,100),L9-RANDBETWEEN(1,100),L9,L9+RANDBETWEEN(101,1000),ABS(L9-RANDBETWEEN(101,1000))),IF(Worksheet!$B$6=1,RANDBETWEEN(0,9),IF(Worksheet!$B$6=2,RANDBETWEEN(1,99),CHOOSE(RANDBETWEEN(1,5),L9+RANDBETWEEN(1,10),ABS(L9-RANDBETWEEN(1,10)),L9,L9+RANDBETWEEN(1,100),ABS(L9-RANDBETWEEN(1,100))))))","v":671},null,{"$f":"IF(ROW()<=Worksheet!$B$5/4,P8+1,\"\")","v":66},{"$f":"RANDBETWEEN(IF(Worksheet!$B$6<=3,1,101),10^Worksheet!$B$6-1)","v":61},"<",{"$f":"IF(Worksheet!$B$6>=4,CHOOSE(RANDBETWEEN(1,5),Q9+RANDBETWEEN(1,100),Q9-RANDBETWEEN(1,100),Q9,Q9+RANDBETWEEN(101,1000),ABS(Q9-RANDBETWEEN(101,1000))),IF(Worksheet!$B$6=1,RANDBETWEEN(0,9),IF(Worksheet!$B$6=2,RANDBETWEEN(1,99),CHOOSE(RANDBETWEEN(1,5),Q9+RANDBETWEEN(1,10),ABS(Q9-RANDBETWEEN(1,10)),Q9,Q9+RANDBETWEEN(1,100),ABS(Q9-RANDBETWEEN(1,100))))))","v":71}]
[{"$f":"IF(ROW()<=Worksheet!$B$5/4,ROW(),\"\")","v":10},{"$f":"RANDBETWEEN(IF(Worksheet!$B$6<=3,1,101),10^Worksheet!$B$6-1)","v":273},"=",{"$f":"IF(Worksheet!$B$6>=4,CHOOSE(RANDBETWEEN(1,5),B10+RANDBETWEEN(1,100),B10-RANDBETWEEN(1,100),B10,B10+RANDBETWEEN(101,1000),ABS(B10-RANDBETWEEN(101,1000))),IF(Worksheet!$B$6=1,RANDBETWEEN(0,9),IF(Worksheet!$B$6=2,RANDBETWEEN(1,99),CHOOSE(RANDBETWEEN(1,5),B10+RANDBETWEEN(1,10),ABS(B10-RANDBETWEEN(1,10)),B10,B10+RANDBETWEEN(1,100),ABS(B10-RANDBETWEEN(1,100))))))","v":273},null,{"$f":"IF(ROW()<=Worksheet!$B$5/4,F9+1,\"\")","v":29},{"$f":"RANDBETWEEN(IF(Worksheet!$B$6<=3,1,101),10^Worksheet!$B$6-1)","v":149},"=",{"$f":"IF(Worksheet!$B$6>=4,CHOOSE(RANDBETWEEN(1,5),G10+RANDBETWEEN(1,100),G10-RANDBETWEEN(1,100),G10,G10+RANDBETWEEN(101,1000),ABS(G10-RANDBETWEEN(101,1000))),IF(Worksheet!$B$6=1,RANDBETWEEN(0,9),IF(Worksheet!$B$6=2,RANDBETWEEN(1,99),CHOOSE(RANDBETWEEN(1,5),G10+RANDBETWEEN(1,10),ABS(G10-RANDBETWEEN(1,10)),G10,G10+RANDBETWEEN(1,100),ABS(G10-RANDBETWEEN(1,100))))))","v":149},null,{"$f":"IF(ROW()<=Worksheet!$B$5/4,K9+1,\"\")","v":48},{"$f":"RANDBETWEEN(IF(Worksheet!$B$6<=3,1,101),10^Worksheet!$B$6-1)","v":631},"<",{"$f":"IF(Worksheet!$B$6>=4,CHOOSE(RANDBETWEEN(1,5),L10+RANDBETWEEN(1,100),L10-RANDBETWEEN(1,100),L10,L10+RANDBETWEEN(101,1000),ABS(L10-RANDBETWEEN(101,1000))),IF(Worksheet!$B$6=1,RANDBETWEEN(0,9),IF(Worksheet!$B$6=2,RANDBETWEEN(1,99),CHOOSE(RANDBETWEEN(1,5),L10+RANDBETWEEN(1,10),ABS(L10-RANDBETWEEN(1,10)),L10,L10+RANDBETWEEN(1,100),ABS(L10-RANDBETWEEN(1,100))))))","v":662},null,{"$f":"IF(ROW()<=Worksheet!$B$5/4,P9+1,\"\")","v":67},{"$f":"RANDBETWEEN(IF(Worksheet!$B$6<=3,1,101),10^Worksheet!$B$6-1)","v":890},"=",{"$f":"IF(Worksheet!$B$6>=4,CHOOSE(RANDBETWEEN(1,5),Q10+RANDBETWEEN(1,100),Q10-RANDBETWEEN(1,100),Q10,Q10+RANDBETWEEN(101,1000),ABS(Q10-RANDBETWEEN(101,1000))),IF(Worksheet!$B$6=1,RANDBETWEEN(0,9),IF(Worksheet!$B$6=2,RANDBETWEEN(1,99),CHOOSE(RANDBETWEEN(1,5),Q10+RANDBETWEEN(1,10),ABS(Q10-RANDBETWEEN(1,10)),Q10,Q10+RANDBETWEEN(1,100),ABS(Q10-RANDBETWEEN(1,100))))))","v":890}]
[{"$f":"IF(ROW()<=Worksheet!$B$5/4,ROW(),\"\")","v":11},{"$f":"RANDBETWEEN(IF(Worksheet!$B$6<=3,1,101),10^Worksheet!$B$6-1)","v":854},"<",{"$f":"IF(Worksheet!$B$6>=4,CHOOSE(RANDBETWEEN(1,5),B11+RANDBETWEEN(1,100),B11-RANDBETWEEN(1,100),B11,B11+RANDBETWEEN(101,1000),ABS(B11-RANDBETWEEN(101,1000))),IF(Worksheet!$B$6=1,RANDBETWEEN(0,9),IF(Worksheet!$B$6=2,RANDBETWEEN(1,99),CHOOSE(RANDBETWEEN(1,5),B11+RANDBETWEEN(1,10),ABS(B11-RANDBETWEEN(1,10)),B11,B11+RANDBETWEEN(1,100),ABS(B11-RANDBETWEEN(1,100))))))","v":857},null,{"$f":"IF(ROW()<=Worksheet!$B$5/4,F10+1,\"\")","v":30},{"$f":"RANDBETWEEN(IF(Worksheet!$B$6<=3,1,101),10^Worksheet!$B$6-1)","v":918},">",{"$f":"IF(Worksheet!$B$6>=4,CHOOSE(RANDBETWEEN(1,5),G11+RANDBETWEEN(1,100),G11-RANDBETWEEN(1,100),G11,G11+RANDBETWEEN(101,1000),ABS(G11-RANDBETWEEN(101,1000))),IF(Worksheet!$B$6=1,RANDBETWEEN(0,9),IF(Worksheet!$B$6=2,RANDBETWEEN(1,99),CHOOSE(RANDBETWEEN(1,5),G11+RANDBETWEEN(1,10),ABS(G11-RANDBETWEEN(1,10)),G11,G11+RANDBETWEEN(1,100),ABS(G11-RANDBETWEEN(1,100))))))","v":917},null,{"$f":"IF(ROW()<=Worksheet!$B$5/4,K10+1,\"\")","v":49},{"$f":"RANDBETWEEN(IF(Worksheet!$B$6<=3,1,101),10^Worksheet!$B$6-1)","v":764},"=",{"$f":"IF(Worksheet!$B$6>=4,CHOOSE(RANDBETWEEN(1,5),L11+RANDBETWEEN(1,100),L11-RANDBETWEEN(1,100),L11,L11+RANDBETWEEN(101,1000),ABS(L11-RANDBETWEEN(101,1000))),IF(Worksheet!$B$6=1,RANDBETWEEN(0,9),IF(Worksheet!$B$6=2,RANDBETWEEN(1,99),CHOOSE(RANDBETWEEN(1,5),L11+RANDBETWEEN(1,10),ABS(L11-RANDBETWEEN(1,10)),L11,L11+RANDBETWEEN(1,100),ABS(L11-RANDBETWEEN(1,100))))))","v":764},null,{"$f":"IF(ROW()<=Worksheet!$B$5/4,P10+1,\"\")","v":68},{"$f":"RANDBETWEEN(IF(Worksheet!$B$6<=3,1,101),10^Worksheet!$B$6-1)","v":652},"<",{"$f":"IF(Worksheet!$B$6>=4,CHOOSE(RANDBETWEEN(1,5),Q11+RANDBETWEEN(1,100),Q11-RANDBETWEEN(1,100),Q11,Q11+RANDBETWEEN(101,1000),ABS(Q11-RANDBETWEEN(101,1000))),IF(Worksheet!$B$6=1,RANDBETWEEN(0,9),IF(Worksheet!$B$6=2,RANDBETWEEN(1,99),CHOOSE(RANDBETWEEN(1,5),Q11+RANDBETWEEN(1,10),ABS(Q11-RANDBETWEEN(1,10)),Q11,Q11+RANDBETWEEN(1,100),ABS(Q11-RANDBETWEEN(1,100))))))","v":655}]
[{"$f":"IF(ROW()<=Worksheet!$B$5/4,ROW(),\"\")","v":12},{"$f":"RANDBETWEEN(IF(Worksheet!$B$6<=3,1,101),10^Worksheet!$B$6-1)","v":777},">",{"$f":"IF(Worksheet!$B$6>=4,CHOOSE(RANDBETWEEN(1,5),B12+RANDBETWEEN(1,100),B12-RANDBETWEEN(1,100),B12,B12+RANDBETWEEN(101,1000),ABS(B12-RANDBETWEEN(101,1000))),IF(Worksheet!$B$6=1,RANDBETWEEN(0,9),IF(Worksheet!$B$6=2,RANDBETWEEN(1,99),CHOOSE(RANDBETWEEN(1,5),B12+RANDBETWEEN(1,10),ABS(B12-RANDBETWEEN(1,10)),B12,B12+RANDBETWEEN(1,100),ABS(B12-RANDBETWEEN(1,100))))))","v":775},null,{"$f":"IF(ROW()<=Worksheet!$B$5/4,F11+1,\"\")","v":31},{"$f":"RANDBETWEEN(IF(Worksheet!$B$6<=3,1,101),10^Worksheet!$B$6-1)","v":744},">",{"$f":"IF(Worksheet!$B$6>=4,CHOOSE(RANDBETWEEN(1,5),G12+RANDBETWEEN(1,100),G12-RANDBETWEEN(1,100),G12,G12+RANDBETWEEN(101,1000),ABS(G12-RANDBETWEEN(101,1000))),IF(Worksheet!$B$6=1,RANDBETWEEN(0,9),IF(Worksheet!$B$6=2,RANDBETWEEN(1,99),CHOOSE(RANDBETWEEN(1,5),G12+RANDBETWEEN(1,10),ABS(G12-RANDBETWEEN(1,10)),G12,G12+RANDBETWEEN(1,100),ABS(G12-RANDBETWEEN(1,100))))))","v":724},null,{"$f":"IF(ROW()<=Worksheet!$B$5/4,K11+1,\"\")","v":50},{"$f":"RANDBETWEEN(IF(Worksheet!$B$6<=3,1,101),10^Worksheet!$B$6-1)","v":931},"=",{"$f":"IF(Worksheet!$B$6>=4,CHOOSE(RANDBETWEEN(1,5),L12+RANDBETWEEN(1,100),L12-RANDBETWEEN(1,100),L12,L12+RANDBETWEEN(101,1000),ABS(L12-RANDBETWEEN(101,1000))),IF(Worksheet!$B$6=1,RANDBETWEEN(0,9),IF(Worksheet!$B$6=2,RANDBETWEEN(1,99),CHOOSE(RANDBETWEEN(1,5),L12+RANDBETWEEN(1,10),ABS(L12-RANDBETWEEN(1,10)),L12,L12+RANDBETWEEN(1,100),ABS(L12-RANDBETWEEN(1,100))))))","v":931},null,{"$f":"IF(ROW()<=Worksheet!$B$5/4,P11+1,\"\")","v":69},{"$f":"RANDBETWEEN(IF(Worksheet!$B$6<=3,1,101),10^Worksheet!$B$6-1)","v":788},"<",{"$f":"IF(Worksheet!$B$6>=4,CHOOSE(RANDBETWEEN(1,5),Q12+RANDBETWEEN(1,100),Q12-RANDBETWEEN(1,100),Q12,Q12+RANDBETWEEN(101,1000),ABS(Q12-RANDBETWEEN(101,1000))),IF(Worksheet!$B$6=1,RANDBETWEEN(0,9),IF(Worksheet!$B$6=2,RANDBETWEEN(1,99),CHOOSE(RANDBETWEEN(1,5),Q12+RANDBETWEEN(1,10),ABS(Q12-RANDBETWEEN(1,10)),Q12,Q12+RANDBETWEEN(1,100),ABS(Q12-RANDBETWEEN(1,100))))))","v":790}]
[{"$f":"IF(ROW()<=Worksheet!$B$5/4,ROW(),\"\")","v":13},{"$f":"RANDBETWEEN(IF(Worksheet!$B$6<=3,1,101),10^Worksheet!$B$6-1)","v":687},"<",{"$f":"IF(Worksheet!$B$6>=4,CHOOSE(RANDBETWEEN(1,5),B13+RANDBETWEEN(1,100),B13-RANDBETWEEN(1,100),B13,B13+RANDBETWEEN(101,1000),ABS(B13-RANDBETWEEN(101,1000))),IF(Worksheet!$B$6=1,RANDBETWEEN(0,9),IF(Worksheet!$B$6=2,RANDBETWEEN(1,99),CHOOSE(RANDBETWEEN(1,5),B13+RANDBETWEEN(1,10),ABS(B13-RANDBETWEEN(1,10)),B13,B13+RANDBETWEEN(1,100),ABS(B13-RANDBETWEEN(1,100))))))","v":758},null,{"$f":"IF(ROW()<=Worksheet!$B$5/4,F12+1,\"\")","v":32},{"$f":"RANDBETWEEN(IF(Worksheet!$B$6<=3,1,101),10^Worksheet!$B$6-1)","v":71},">",{"$f":"IF(Worksheet!$B$6>=4,CHOOSE(RANDBETWEEN(1,5),G13+RANDBETWEEN(1,100),G13-RANDBETWEEN(1,100),G13,G13+RANDBETWEEN(101,1000),ABS(G13-RANDBETWEEN(101,1000))),IF(Worksheet!$B$6=1,RANDBETWEEN(0,9),IF(Worksheet!$B$6=2,RANDBETWEEN(1,99),CHOOSE(RANDBETWEEN(1,5),G13+RANDBETWEEN(1,10),ABS(G13-RANDBETWEEN(1,10)),G13,G13+RANDBETWEEN(1,100),ABS(G13-RANDBETWEEN(1,100))))))","v":61},null,{"$f":"IF(ROW()<=Worksheet!$B$5/4,K12+1,\"\")","v":51},{"$f":"RANDBETWEEN(IF(Worksheet!$B$6<=3,1,101),10^Worksheet!$B$6-1)","v":841},"=",{"$f":"IF(Worksheet!$B$6>=4,CHOOSE(RANDBETWEEN(1,5),L13+RANDBETWEEN(1,100),L13-RANDBETWEEN(1,100),L13,L13+RANDBETWEEN(101,1000),ABS(L13-RANDBETWEEN(101,1000))),IF(Worksheet!$B$6=1,RANDBETWEEN(0,9),IF(Worksheet!$B$6=2,RANDBETWEEN(1,99),CHOOSE(RANDBETWEEN(1,5),L13+RANDBETWEEN(1,10),ABS(L13-RANDBETWEEN(1,10)),L13,L13+RANDBETWEEN(1,100),ABS(L13-RANDBETWEEN(1,100))))))","v":841},null,{"$f":"IF(ROW()<=Worksheet!$B$5/4,P12+1,\"\")","v":70},{"$f":"RANDBETWEEN(IF(Worksheet!$B$6<=3,1,101),10^Worksheet!$B$6-1)","v":178},">",{"$f":"IF(Worksheet!$B$6>=4,CHOOSE(RANDBETWEEN(1,5),Q13+RANDBETWEEN(1,100),Q13-RANDBETWEEN(1,100),Q13,Q13+RANDBETWEEN(101,1000),ABS(Q13-RANDBETWEEN(101,1000))),IF(Worksheet!$B$6=1,RANDBETWEEN(0,9),IF(Worksheet!$B$6=2,RANDBETWEEN(1,99),CHOOSE(RANDBETWEEN(1,5),Q13+RANDBETWEEN(1,10),ABS(Q13-RANDBETWEEN(1,10)),Q13,Q13+RANDBETWEEN(1,100),ABS(Q13-RANDBETWEEN(1,100))))))","v":157}]
[{"$f":"IF(ROW()<=Worksheet!$B$5/4,ROW(),\"\")","v":14},{"$f":"RANDBETWEEN(IF(Worksheet!$B$6<=3,1,101),10^Worksheet!$B$6-1)","v":552},"<",{"$f":"IF(Worksheet!$B$6>=4,CHOOSE(RANDBETWEEN(1,5),B14+RANDBETWEEN(1,100),B14-RANDBETWEEN(1,100),B14,B14+RANDBETWEEN(101,1000),ABS(B14-RANDBETWEEN(101,1000))),IF(Worksheet!$B$6=1,RANDBETWEEN(0,9),IF(Worksheet!$B$6=2,RANDBETWEEN(1,99),CHOOSE(RANDBETWEEN(1,5),B14+RANDBETWEEN(1,10),ABS(B14-RANDBETWEEN(1,10)),B14,B14+RANDBETWEEN(1,100),ABS(B14-RANDBETWEEN(1,100))))))","v":559},null,{"$f":"IF(ROW()<=Worksheet!$B$5/4,F13+1,\"\")","v":33},{"$f":"RANDBETWEEN(IF(Worksheet!$B$6<=3,1,101),10^Worksheet!$B$6-1)","v":305},"=",{"$f":"IF(Worksheet!$B$6>=4,CHOOSE(RANDBETWEEN(1,5),G14+RANDBETWEEN(1,100),G14-RANDBETWEEN(1,100),G14,G14+RANDBETWEEN(101,1000),ABS(G14-RANDBETWEEN(101,1000))),IF(Worksheet!$B$6=1,RANDBETWEEN(0,9),IF(Worksheet!$B$6=2,RANDBETWEEN(1,99),CHOOSE(RANDBETWEEN(1,5),G14+RANDBETWEEN(1,10),ABS(G14-RANDBETWEEN(1,10)),G14,G14+RANDBETWEEN(1,100),ABS(G14-RANDBETWEEN(1,100))))))","v":305},null,{"$f":"IF(ROW()<=Worksheet!$B$5/4,K13+1,\"\")","v":52},{"$f":"RANDBETWEEN(IF(Worksheet!$B$6<=3,1,101),10^Worksheet!$B$6-1)","v":646},">",{"$f":"IF(Worksheet!$B$6>=4,CHOOSE(RANDBETWEEN(1,5),L14+RANDBETWEEN(1,100),L14-RANDBETWEEN(1,100),L14,L14+RANDBETWEEN(101,1000),ABS(L14-RANDBETWEEN(101,1000))),IF(Worksheet!$B$6=1,RANDBETWEEN(0,9),IF(Worksheet!$B$6=2,RANDBETWEEN(1,99),CHOOSE(RANDBETWEEN(1,5),L14+RANDBETWEEN(1,10),ABS(L14-RANDBETWEEN(1,10)),L14,L14+RANDBETWEEN(1,100),ABS(L14-RANDBETWEEN(1,100))))))","v":637},null,{"$f":"IF(ROW()<=Worksheet!$B$5/4,P13+1,\"\")","v":71},{"$f":"RANDBETWEEN(IF(Worksheet!$B$6<=3,1,101),10^Worksheet!$B$6-1)","v":771},">",{"$f":"IF(Worksheet!$B$6>=4,CHOOSE(RANDBETWEEN(1,5),Q14+RANDBETWEEN(1,100),Q14-RANDBETWEEN(1,100),Q14,Q14+RANDBETWEEN(101,1000),ABS(Q14-RANDBETWEEN(101,1000))),IF(Worksheet!$B$6=1,RANDBETWEEN(0,9),IF(Worksheet!$B$6=2,RANDBETWEEN(1,99),CHOOSE(RANDBETWEEN(1,5),Q14+RANDBETWEEN(1,10),ABS(Q14-RANDBETWEEN(1,10)),Q14,Q14+RANDBETWEEN(1,100),ABS(Q14-RANDBETWEEN(1,100))))))","v":738}]
[{"$f":"IF(ROW()<=Worksheet!$B$5/4,ROW(),\"\")","v":15},{"$f":"RANDBETWEEN(IF(Worksheet!$B$6<=3,1,101),10^Worksheet!$B$6-1)","v":939},"<",{"$f":"IF(Worksheet!$B$6>=4,CHOOSE(RANDBETWEEN(1,5),B15+RANDBETWEEN(1,100),B15-RANDBETWEEN(1,100),B15,B15+RANDBETWEEN(101,1000),ABS(B15-RANDBETWEEN(101,1000))),IF(Worksheet!$B$6=1,RANDBETWEEN(0,9),IF(Worksheet!$B$6=2,RANDBETWEEN(1,99),CHOOSE(RANDBETWEEN(1,5),B15+RANDBETWEEN(1,10),ABS(B15-RANDBETWEEN(1,10)),B15,B15+RANDBETWEEN(1,100),ABS(B15-RANDBETWEEN(1,100))))))","v":949},null,{"$f":"IF(ROW()<=Worksheet!$B$5/4,F14+1,\"\")","v":34},{"$f":"RANDBETWEEN(IF(Worksheet!$B$6<=3,1,101),10^Worksheet!$B$6-1)","v":663},"<",{"$f":"IF(Worksheet!$B$6>=4,CHOOSE(RANDBETWEEN(1,5),G15+RANDBETWEEN(1,100),G15-RANDBETWEEN(1,100),G15,G15+RANDBETWEEN(101,1000),ABS(G15-RANDBETWEEN(101,1000))),IF(Worksheet!$B$6=1,RANDBETWEEN(0,9),IF(Worksheet!$B$6=2,RANDBETWEEN(1,99),CHOOSE(RANDBETWEEN(1,5),G15+RANDBETWEEN(1,10),ABS(G15-RANDBETWEEN(1,10)),G15,G15+RANDBETWEEN(1,100),ABS(G15-RANDBETWEEN(1,100))))))","v":695},null,{"$f":"IF(ROW()<=Worksheet!$B$5/4,K14+1,\"\")","v":53},{"$f":"RANDBETWEEN(IF(Worksheet!$B$6<=3,1,101),10^Worksheet!$B$6-1)","v":185},"<",{"$f":"IF(Worksheet!$B$6>=4,CHOOSE(RANDBETWEEN(1,5),L15+RANDBETWEEN(1,100),L15-RANDBETWEEN(1,100),L15,L15+RANDBETWEEN(101,1000),ABS(L15-RANDBETWEEN(101,1000))),IF(Worksheet!$B$6=1,RANDBETWEEN(0,9),IF(Worksheet!$B$6=2,RANDBETWEEN(1,99),CHOOSE(RANDBETWEEN(1,5),L15+RANDBETWEEN(1,10),ABS(L15-RANDBETWEEN(1,10)),L15,L15+RANDBETWEEN(1,100),ABS(L15-RANDBETWEEN(1,100))))))","v":190},null,{"$f":"IF(ROW()<=Worksheet!$B$5/4,P14+1,\"\")","v":72},{"$f":"RANDBETWEEN(IF(Worksheet!$B$6<=3,1,101),10^Worksheet!$B$6-1)","v":514},">",{"$f":"IF(Worksheet!$B$6>=4,CHOOSE(RANDBETWEEN(1,5),Q15+RANDBETWEEN(1,100),Q15-RANDBETWEEN(1,100),Q15,Q15+RANDBETWEEN(101,1000),ABS(Q15-RANDBETWEEN(101,1000))),IF(Worksheet!$B$6=1,RANDBETWEEN(0,9),IF(Worksheet!$B$6=2,RANDBETWEEN(1,99),CHOOSE(RANDBETWEEN(1,5),Q15+RANDBETWEEN(1,10),ABS(Q15-RANDBETWEEN(1,10)),Q15,Q15+RANDBETWEEN(1,100),ABS(Q15-RANDBETWEEN(1,100))))))","v":508}]
[{"$f":"IF(ROW()<=Worksheet!$B$5/4,ROW(),\"\")","v":16},{"$f":"RANDBETWEEN(IF(Worksheet!$B$6<=3,1,101),10^Worksheet!$B$6-1)","v":988},">",{"$f":"IF(Worksheet!$B$6>=4,CHOOSE(RANDBETWEEN(1,5),B16+RANDBETWEEN(1,100),B16-RANDBETWEEN(1,100),B16,B16+RANDBETWEEN(101,1000),ABS(B16-RANDBETWEEN(101,1000))),IF(Worksheet!$B$6=1,RANDBETWEEN(0,9),IF(Worksheet!$B$6=2,RANDBETWEEN(1,99),CHOOSE(RANDBETWEEN(1,5),B16+RANDBETWEEN(1,10),ABS(B16-RANDBETWEEN(1,10)),B16,B16+RANDBETWEEN(1,100),ABS(B16-RANDBETWEEN(1,100))))))","v":962},null,{"$f":"IF(ROW()<=Worksheet!$B$5/4,F15+1,\"\")","v":35},{"$f":"RANDBETWEEN(IF(Worksheet!$B$6<=3,1,101),10^Worksheet!$B$6-1)","v":797},">",{"$f":"IF(Worksheet!$B$6>=4,CHOOSE(RANDBETWEEN(1,5),G16+RANDBETWEEN(1,100),G16-RANDBETWEEN(1,100),G16,G16+RANDBETWEEN(101,1000),ABS(G16-RANDBETWEEN(101,1000))),IF(Worksheet!$B$6=1,RANDBETWEEN(0,9),IF(Worksheet!$B$6=2,RANDBETWEEN(1,99),CHOOSE(RANDBETWEEN(1,5),G16+RANDBETWEEN(1,10),ABS(G16-RANDBETWEEN(1,10)),G16,G16+RANDBETWEEN(1,100),ABS(G16-RANDBETWEEN(1,100))))))","v":770},null,{"$f":"IF(ROW()<=Worksheet!$B$5/4,K15+1,\"\")","v":54},{"$f":"RANDBETWEEN(IF(Worksheet!$B$6<=3,1,101),10^Worksheet!$B$6-1)","v":122},"=",{"$f":"IF(Worksheet!$B$6>=4,CHOOSE(RANDBETWEEN(1,5),L16+RANDBETWEEN(1,100),L16-RANDBETWEEN(1,100),L16,L16+RANDBETWEEN(101,1000),ABS(L16-RANDBETWEEN(101,1000))),IF(Worksheet!$B$6=1,RANDBETWEEN(0,9),IF(Worksheet!$B$6=2,RANDBETWEEN(1,99),CHOOSE(RANDBETWEEN(1,5),L16+RANDBETWEEN(1,10),ABS(L16-RANDBETWEEN(1,10)),L16,L16+RANDBETWEEN(1,100),ABS(L16-RANDBETWEEN(1,100))))))","v":122},null,{"$f":"IF(ROW()<=Worksheet!$B$5/4,P15+1,\"\")","v":73},{"$f":"RANDBETWEEN(IF(Worksheet!$B$6<=3,1,101),10^Worksheet!$B$6-1)","v":404},"<",{"$f":"IF(Worksheet!$B$6>=4,CHOOSE(RANDBETWEEN(1,5),Q16+RANDBETWEEN(1,100),Q16-RANDBETWEEN(1,100),Q16,Q16+RANDBETWEEN(101,1000),ABS(Q16-RANDBETWEEN(101,1000))),IF(Worksheet!$B$6=1,RANDBETWEEN(0,9),IF(Worksheet!$B$6=2,RANDBETWEEN(1,99),CHOOSE(RANDBETWEEN(1,5),Q16+RANDBETWEEN(1,10),ABS(Q16-RANDBETWEEN(1,10)),Q16,Q16+RANDBETWEEN(1,100),ABS(Q16-RANDBETWEEN(1,100))))))","v":410}]
[{"$f":"IF(ROW()<=Worksheet!$B$5/4,ROW(),\"\")","v":17},{"$f":"RANDBETWEEN(IF(Worksheet!$B$6<=3,1,101),10^Worksheet!$B$6-1)","v":346},">",{"$f":"IF(Worksheet!$B$6>=4,CHOOSE(RANDBETWEEN(1,5),B17+RANDBETWEEN(1,100),B17-RANDBETWEEN(1,100),B17,B17+RANDBETWEEN(101,1000),ABS(B17-RANDBETWEEN(101,1000))),IF(Worksheet!$B$6=1,RANDBETWEEN(0,9),IF(Worksheet!$B$6=2,RANDBETWEEN(1,99),CHOOSE(RANDBETWEEN(1,5),B17+RANDBETWEEN(1,10),ABS(B17-RANDBETWEEN(1,10)),B17,B17+RANDBETWEEN(1,100),ABS(B17-RANDBETWEEN(1,100))))))","v":311},null,{"$f":"IF(ROW()<=Worksheet!$B$5/4,F16+1,\"\")","v":36},{"$f":"RANDBETWEEN(IF(Worksheet!$B$6<=3,1,101),10^Worksheet!$B$6-1)","v":878},"=",{"$f":"IF(Worksheet!$B$6>=4,CHOOSE(RANDBETWEEN(1,5),G17+RANDBETWEEN(1,100),G17-RANDBETWEEN(1,100),G17,G17+RANDBETWEEN(101,1000),ABS(G17-RANDBETWEEN(101,1000))),IF(Worksheet!$B$6=1,RANDBETWEEN(0,9),IF(Worksheet!$B$6=2,RANDBETWEEN(1,99),CHOOSE(RANDBETWEEN(1,5),G17+RANDBETWEEN(1,10),ABS(G17-RANDBETWEEN(1,10)),G17,G17+RANDBETWEEN(1,100),ABS(G17-RANDBETWEEN(1,100))))))","v":878},null,{"$f":"IF(ROW()<=Worksheet!$B$5/4,K16+1,\"\")","v":55},{"$f":"RANDBETWEEN(IF(Worksheet!$B$6<=3,1,101),10^Worksheet!$B$6-1)","v":717},">",{"$f":"IF(Worksheet!$B$6>=4,CHOOSE(RANDBETWEEN(1,5),L17+RANDBETWEEN(1,100),L17-RANDBETWEEN(1,100),L17,L17+RANDBETWEEN(101,1000),ABS(L17-RANDBETWEEN(101,1000))),IF(Worksheet!$B$6=1,RANDBETWEEN(0,9),IF(Worksheet!$B$6=2,RANDBETWEEN(1,99),CHOOSE(RANDBETWEEN(1,5),L17+RANDBETWEEN(1,10),ABS(L17-RANDBETWEEN(1,10)),L17,L17+RANDBETWEEN(1,100),ABS(L17-RANDBETWEEN(1,100))))))","v":633},null,{"$f":"IF(ROW()<=Worksheet!$B$5/4,P16+1,\"\")","v":74},{"$f":"RANDBETWEEN(IF(Worksheet!$B$6<=3,1,101),10^Worksheet!$B$6-1)","v":447},"=",{"$f":"IF(Worksheet!$B$6>=4,CHOOSE(RANDBETWEEN(1,5),Q17+RANDBETWEEN(1,100),Q17-RANDBETWEEN(1,100),Q17,Q17+RANDBETWEEN(101,1000),ABS(Q17-RANDBETWEEN(101,1000))),IF(Worksheet!$B$6=1,RANDBETWEEN(0,9),IF(Worksheet!$B$6=2,RANDBETWEEN(1,99),CHOOSE(RANDBETWEEN(1,5),Q17+RANDBETWEEN(1,10),ABS(Q17-RANDBETWEEN(1,10)),Q17,Q17+RANDBETWEEN(1,100),ABS(Q17-RANDBETWEEN(1,100))))))","v":447}]
[{"$f":"IF(ROW()<=Worksheet!$B$5/4,ROW(),\"\")","v":18},{"$f":"RANDBETWEEN(IF(Worksheet!$B$6<=3,1,101),10^Worksheet!$B$6-1)","v":93},"<",{"$f":"IF(Worksheet!$B$6>=4,CHOOSE(RANDBETWEEN(1,5),B18+RANDBETWEEN(1,100),B18-RANDBETWEEN(1,100),B18,B18+RANDBETWEEN(101,1000),ABS(B18-RANDBETWEEN(101,1000))),IF(Worksheet!$B$6=1,RANDBETWEEN(0,9),IF(Worksheet!$B$6=2,RANDBETWEEN(1,99),CHOOSE(RANDBETWEEN(1,5),B18+RANDBETWEEN(1,10),ABS(B18-RANDBETWEEN(1,10)),B18,B18+RANDBETWEEN(1,100),ABS(B18-RANDBETWEEN(1,100))))))","v":180},null,{"$f":"IF(ROW()<=Worksheet!$B$5/4,F17+1,\"\")","v":37},{"$f":"RANDBETWEEN(IF(Worksheet!$B$6<=3,1,101),10^Worksheet!$B$6-1)","v":45},"=",{"$f":"IF(Worksheet!$B$6>=4,CHOOSE(RANDBETWEEN(1,5),G18+RANDBETWEEN(1,100),G18-RANDBETWEEN(1,100),G18,G18+RANDBETWEEN(101,1000),ABS(G18-RANDBETWEEN(101,1000))),IF(Worksheet!$B$6=1,RANDBETWEEN(0,9),IF(Worksheet!$B$6=2,RANDBETWEEN(1,99),CHOOSE(RANDBETWEEN(1,5),G18+RANDBETWEEN(1,10),ABS(G18-RANDBETWEEN(1,10)),G18,G18+RANDBETWEEN(1,100),ABS(G18-RANDBETWEEN(1,100))))))","v":45},null,{"$f":"IF(ROW()<=Worksheet!$B$5/4,K17+1,\"\")","v":56},{"$f":"RANDBETWEEN(IF(Worksheet!$B$6<=3,1,101),10^Worksheet!$B$6-1)","v":601},">",{"$f":"IF(Worksheet!$B$6>=4,CHOOSE(RANDBETWEEN(1,5),L18+RANDBETWEEN(1,100),L18-RANDBETWEEN(1,100),L18,L18+RANDBETWEEN(101,1000),ABS(L18-RANDBETWEEN(101,1000))),IF(Worksheet!$B$6=1,RANDBETWEEN(0,9),IF(Worksheet!$B$6=2,RANDBETWEEN(1,99),CHOOSE(RANDBETWEEN(1,5),L18+RANDBETWEEN(1,10),ABS(L18-RANDBETWEEN(1,10)),L18,L18+RANDBETWEEN(1,100),ABS(L18-RANDBETWEEN(1,100))))))","v":581},null,{"$f":"IF(ROW()<=Worksheet!$B$5/4,P17+1,\"\")","v":75},{"$f":"RANDBETWEEN(IF(Worksheet!$B$6<=3,1,101),10^Worksheet!$B$6-1)","v":962},"<",{"$f":"IF(Worksheet!$B$6>=4,CHOOSE(RANDBETWEEN(1,5),Q18+RANDBETWEEN(1,100),Q18-RANDBETWEEN(1,100),Q18,Q18+RANDBETWEEN(101,1000),ABS(Q18-RANDBETWEEN(101,1000))),IF(Worksheet!$B$6=1,RANDBETWEEN(0,9),IF(Worksheet!$B$6=2,RANDBETWEEN(1,99),CHOOSE(RANDBETWEEN(1,5),Q18+RANDBETWEEN(1,10),ABS(Q18-RANDBETWEEN(1,10)),Q18,Q18+RANDBETWEEN(1,100),ABS(Q18-RANDBETWEEN(1,100))))))","v":1060}]
[{"$f":"IF(ROW()<=Worksheet!$B$5/4,ROW(),\"\")","v":19},{"$f":"RANDBETWEEN(IF(Worksheet!$B$6<=3,1,101),10^Worksheet!$B$6-1)","v":580},">",{"$f":"IF(Worksheet!$B$6>=4,CHOOSE(RANDBETWEEN(1,5),B19+RANDBETWEEN(1,100),B19-RANDBETWEEN(1,100),B19,B19+RANDBETWEEN(101,1000),ABS(B19-RANDBETWEEN(101,1000))),IF(Worksheet!$B$6=1,RANDBETWEEN(0,9),IF(Worksheet!$B$6=2,RANDBETWEEN(1,99),CHOOSE(RANDBETWEEN(1,5),B19+RANDBETWEEN(1,10),ABS(B19-RANDBETWEEN(1,10)),B19,B19+RANDBETWEEN(1,100),ABS(B19-RANDBETWEEN(1,100))))))","v":572},null,{"$f":"IF(ROW()<=Worksheet!$B$5/4,F18+1,\"\")","v":38},{"$f":"RANDBETWEEN(IF(Worksheet!$B$6<=3,1,101),10^Worksheet!$B$6-1)","v":700},"=",{"$f":"IF(Worksheet!$B$6>=4,CHOOSE(RANDBETWEEN(1,5),G19+RANDBETWEEN(1,100),G19-RANDBETWEEN(1,100),G19,G19+RANDBETWEEN(101,1000),ABS(G19-RANDBETWEEN(101,1000))),IF(Worksheet!$B$6=1,RANDBETWEEN(0,9),IF(Worksheet!$B$6=2,RANDBETWEEN(1,99),CHOOSE(RANDBETWEEN(1,5),G19+RANDBETWEEN(1,10),ABS(G19-RANDBETWEEN(1,10)),G19,G19+RANDBETWEEN(1,100),ABS(G19-RANDBETWEEN(1,100))))))","v":700},null,{"$f":"IF(ROW()<=Worksheet!$B$5/4,K18+1,\"\")","v":57},{"$f":"RANDBETWEEN(IF(Worksheet!$B$6<=3,1,101),10^Worksheet!$B$6-1)","v":131},"<",{"$f":"IF(Worksheet!$B$6>=4,CHOOSE(RANDBETWEEN(1,5),L19+RANDBETWEEN(1,100),L19-RANDBETWEEN(1,100),L19,L19+RANDBETWEEN(101,1000),ABS(L19-RANDBETWEEN(101,1000))),IF(Worksheet!$B$6=1,RANDBETWEEN(0,9),IF(Worksheet!$B$6=2,RANDBETWEEN(1,99),CHOOSE(RANDBETWEEN(1,5),L19+RANDBETWEEN(1,10),ABS(L19-RANDBETWEEN(1,10)),L19,L19+RANDBETWEEN(1,100),ABS(L19-RANDBETWEEN(1,100))))))","v":226},null,{"$f":"IF(ROW()<=Worksheet!$B$5/4,P18+1,\"\")","v":76},{"$f":"RANDBETWEEN(IF(Worksheet!$B$6<=3,1,101),10^Worksheet!$B$6-1)","v":290},"<",{"$f":"IF(Worksheet!$B$6>=4,CHOOSE(RANDBETWEEN(1,5),Q19+RANDBETWEEN(1,100),Q19-RANDBETWEEN(1,100),Q19,Q19+RANDBETWEEN(101,1000),ABS(Q19-RANDBETWEEN(101,1000))),IF(Worksheet!$B$6=1,RANDBETWEEN(0,9),IF(Worksheet!$B$6=2,RANDBETWEEN(1,99),CHOOSE(RANDBETWEEN(1,5),Q19+RANDBETWEEN(1,10),ABS(Q19-RANDBETWEEN(1,10)),Q19,Q19+RANDBETWEEN(1,100),ABS(Q19-RANDBETWEEN(1,100))))))","v":360}]
[{"$f":"IF(ROW()<=Worksheet!$B$5/4,ROW(),\"\")","v":""},{"$f":"RANDBETWEEN(IF(Worksheet!$B$6<=3,1,101),10^Worksheet!$B$6-1)","v":719},"<",{"$f":"IF(Worksheet!$B$6>=4,CHOOSE(RANDBETWEEN(1,5),B20+RANDBETWEEN(1,100),B20-RANDBETWEEN(1,100),B20,B20+RANDBETWEEN(101,1000),ABS(B20-RANDBETWEEN(101,1000))),IF(Worksheet!$B$6=1,RANDBETWEEN(0,9),IF(Worksheet!$B$6=2,RANDBETWEEN(1,99),CHOOSE(RANDBETWEEN(1,5),B20+RANDBETWEEN(1,10),ABS(B20-RANDBETWEEN(1,10)),B20,B20+RANDBETWEEN(1,100),ABS(B20-RANDBETWEEN(1,100))))))","v":734},null,{"$f":"IF(ROW()<=Worksheet!$B$5/4,F19+1,\"\")","v":""},{"$f":"RANDBETWEEN(IF(Worksheet!$B$6<=3,1,101),10^Worksheet!$B$6-1)","v":753},"=",{"$f":"IF(Worksheet!$B$6>=4,CHOOSE(RANDBETWEEN(1,5),G20+RANDBETWEEN(1,100),G20-RANDBETWEEN(1,100),G20,G20+RANDBETWEEN(101,1000),ABS(G20-RANDBETWEEN(101,1000))),IF(Worksheet!$B$6=1,RANDBETWEEN(0,9),IF(Worksheet!$B$6=2,RANDBETWEEN(1,99),CHOOSE(RANDBETWEEN(1,5),G20+RANDBETWEEN(1,10),ABS(G20-RANDBETWEEN(1,10)),G20,G20+RANDBETWEEN(1,100),ABS(G20-RANDBETWEEN(1,100))))))","v":753},null,{"$f":"IF(ROW()<=Worksheet!$B$5/4,K19+1,\"\")","v":""},{"$f":"RANDBETWEEN(IF(Worksheet!$B$6<=3,1,101),10^Worksheet!$B$6-1)","v":892},"<",{"$f":"IF(Worksheet!$B$6>=4,CHOOSE(RANDBETWEEN(1,5),L20+RANDBETWEEN(1,100),L20-RANDBETWEEN(1,100),L20,L20+RANDBETWEEN(101,1000),ABS(L20-RANDBETWEEN(101,1000))),IF(Worksheet!$B$6=1,RANDBETWEEN(0,9),IF(Worksheet!$B$6=2,RANDBETWEEN(1,99),CHOOSE(RANDBETWEEN(1,5),L20+RANDBETWEEN(1,10),ABS(L20-RANDBETWEEN(1,10)),L20,L20+RANDBETWEEN(1,100),ABS(L20-RANDBETWEEN(1,100))))))","v":893},null,{"$f":"IF(ROW()<=Worksheet!$B$5/4,P19+1,\"\")","v":""},{"$f":"RANDBETWEEN(IF(Worksheet!$B$6<=3,1,101),10^Worksheet!$B$6-1)","v":39},"<",{"$f":"IF(Worksheet!$B$6>=4,CHOOSE(RANDBETWEEN(1,5),Q20+RANDBETWEEN(1,100),Q20-RANDBETWEEN(1,100),Q20,Q20+RANDBETWEEN(101,1000),ABS(Q20-RANDBETWEEN(101,1000))),IF(Worksheet!$B$6=1,RANDBETWEEN(0,9),IF(Worksheet!$B$6=2,RANDBETWEEN(1,99),CHOOSE(RANDBETWEEN(1,5),Q20+RANDBETWEEN(1,10),ABS(Q20-RANDBETWEEN(1,10)),Q20,Q20+RANDBETWEEN(1,100),ABS(Q20-RANDBETWEEN(1,100))))))","v":46}]