{"text_format":"1","workbook":"xlsx","n_sheets":2,"sheets":["Worksheet","SYSTEM FORMULAE"],"not_rendered":{"charts":0,"images":0,"macros":1,"external_links":0,"defined_names":2,"comments":0,"pivot_tables":0},"unopened":[],"bounds":{"document_bytes":16777216,"sheet_cells":100000,"rows_first":2000,"rows_last":500,"rows_between":2000,"halvings":0,"cell_chars":16384,"cell_head_chars":4096},"cells_cut":0,"cells_raw":0,"read":"whole","date_system":"1900"}

{"sheet":"Worksheet","index":0,"n_rows":31,"n_cols":41,"rows_kept":31,"cut":false,"hidden":false,"merged":[[1,0,1,1],[4,0,4,1],[0,2,0,40]]}
[null,null,"Add"]
["Variables",null,1,6,4,8,3,1,2,"36 + 4 = ",40,null,16,8,5,4,6,2,3,"68 + 5 = ",73,null,31,4,7,6,6,4,3,"64 + 7 = ",71,null,46,0,8,2,3,5,1,"30 + 8 = ",38]
["SHOW ANSWERS",false,2,1,0,4,4,3,2,"41 + 0 = ",41,null,17,1,2,5,3,1,2,"31 + 2 = ",33,null,32,3,8,3,1,4,2,"13 + 8 = ",21,null,47,8,2,5,1,2,3,"18 + 2 = ",20]
["Number of questions (minimum 20, maximum 60)",60,3,4,9,7,4,4,3,"44 + 9 = ",53,null,18,8,8,4,4,2,3,"48 + 8 = ",56,null,33,2,8,7,4,4,2,"42 + 8 = ",50,null,48,7,7,8,5,2,1,"57 + 7 = ",64]
["Types of Question",null,4,9,4,3,4,2,2,"49 + 4 = ",53,null,19,8,6,5,3,5,3,"38 + 6 = ",44,null,34,6,4,7,3,1,2,"36 + 4 = ",40,null,49,7,8,1,2,1,2,"27 + 8 = ",35]
["Two single digits",2,5,3,7,3,1,5,3,"13 + 7 = ",20,null,20,8,4,5,4,5,3,"48 + 4 = ",52,null,35,4,7,7,3,2,3,"34 + 7 = ",41,null,50,8,4,4,4,1,1,"48 + 4 = ",52]
["Double digit and single digit",30,6,4,7,5,3,5,1,"34 + 7 = ",41,null,21,6,9,2,3,2,3,"36 + 9 = ",45,null,36,8,8,7,1,2,2,"18 + 8 = ",26,null,51,1,3,5,3,1,3,"31 + 3 = ",34]
["Two double digits",30,7,7,5,8,1,1,3,"17 + 5 = ",22,null,22,8,9,8,5,2,2,"58 + 9 = ",67,null,37,1,7,4,4,5,1,"41 + 7 = ",48,null,52,6,4,1,5,4,2,"56 + 4 = ",60]
["Three single digits",30,8,1,4,4,2,4,2,"21 + 4 = ",25,null,23,2,9,4,5,3,3,"52 + 9 = ",61,null,38,4,7,1,5,1,1,"54 + 7 = ",61,null,53,4,8,4,4,1,1,"44 + 8 = ",52]
["Three numbers, one or two double digits",30,9,2,8,6,2,4,1,"22 + 8 = ",30,null,24,1,1,8,1,3,2,"11 + 1 = ",12,null,39,6,4,8,4,3,1,"46 + 4 = ",50,null,54,1,8,2,5,4,1,"51 + 8 = ",59]
["Multiple of 10 and a single digit",30,10,8,5,3,1,3,1,"18 + 5 = ",23,null,25,6,9,5,2,2,3,"26 + 9 = ",35,null,40,3,8,3,1,4,3,"13 + 8 = ",21,null,55,5,7,8,3,2,3,"35 + 7 = ",42]
["Level of Difficulty",null,11,9,7,1,5,5,3,"59 + 7 = ",66,null,26,2,8,5,3,5,1,"32 + 8 = ",40,null,41,7,3,5,2,2,2,"27 + 3 = ",30,null,56,5,6,6,3,2,2,"35 + 6 = ",41]
["Maximum value of double digit numbers",60,12,1,6,3,2,3,2,"21 + 6 = ",27,null,27,7,4,4,1,3,2,"17 + 4 = ",21,null,42,8,4,8,4,2,1,"48 + 4 = ",52,null,57,3,7,7,2,1,2,"23 + 7 = ",30]
["If ticked: aim for carrying in all questions.                                                                 If not ticked: aim not to carry",true,13,2,9,3,3,5,2,"32 + 9 = ",41,null,28,3,7,3,1,5,1,"13 + 7 = ",20,null,43,8,9,5,1,4,2,"18 + 9 = ",27,null,58,6,6,8,3,2,2,"36 + 6 = ",42]
[null,null,14,8,8,3,2,3,1,"28 + 8 = ",36,null,29,9,1,3,1,2,1,"19 + 1 = ",20,null,44,4,6,8,5,4,2,"54 + 6 = ",60,null,59,3,8,1,1,1,2,"13 + 8 = ",21]
[null,null,15,2,8,8,1,5,1,"12 + 8 = ",20,null,30,3,8,7,1,4,3,"13 + 8 = ",21,null,45,5,9,3,4,1,3,"45 + 9 = ",54,null,60,8,8,7,1,5,1,"18 + 8 = ",26]
[null,null,"",null,null,null,null,""]
[null,null,"",null,null,null,null,""]
[null,null,"",null,null,null,null,""]
[null,null,"",null,null,null,null,""]
[null,null,"",null,null,null,null,""]
[null,null,"",null,null,null,null,""]
[null,null,"",null,null,null,null,""]
[null,null,"",null,null,null,null,""]
[null,null,"",null,null,null,null,""]
[null,null,"",null,null,null,null,""]
[null,null,"",null,null,null,null,""]
[null,null,"",null,null,null,null,""]
[null,null,"",null,null,null,null,""]
[null,null,"",null,null,null,null,""]
[null,null,"",null,null,null,null,""]

{"sheet":"SYSTEM FORMULAE","index":1,"n_rows":15,"n_cols":39,"rows_kept":15,"cut":false,"hidden":false,"merged":[]}
[{"$f":"IF(ROW()<=Worksheet!$B$4/4,ROW(),\"\")","v":1},{"$f":"RANDBETWEEN(IF(RAND()<0.3,0,1),9)","v":8},{"$f":"IF(Worksheet!B6=6,RANDBETWEEN(1,9),IF(AND(Worksheet!$B$14),IF(B1=0,RANDBETWEEN(IF(RAND()<0.3,0,1),9),CHOOSE(B1,RANDBETWEEN(IF(RAND()<0.3,0,1),9),RANDBETWEEN(8,9),RANDBETWEEN(7,9),RANDBETWEEN(6,9),RANDBETWEEN(5,9),RANDBETWEEN(4,9),RANDBETWEEN(3,9),RANDBETWEEN(2,9),RANDBETWEEN(1,9))),IF(B1=0,RANDBETWEEN(1,9),CHOOSE(B1,RANDBETWEEN(0,8),RANDBETWEEN(0,7),RANDBETWEEN(0,6),RANDBETWEEN(0,5),RANDBETWEEN(0,4),RANDBETWEEN(0,3),RANDBETWEEN(0,2),RANDBETWEEN(0,1),RANDBETWEEN(0,8)))))","v":7},{"$f":"RANDBETWEEN(1,8)","v":1},{"$f":"RANDBETWEEN(1,Worksheet!$B$13/10-1)","v":2},{"$f":"RANDBETWEEN(1,Worksheet!$B$13/10-1)","v":5},{"$f":"RANDBETWEEN(1,IF(Worksheet!$B$6=6,2,3))","v":2},{"$f":"CONCATENATE(CHOOSE(Worksheet!$B$6,CONCATENATE(B1,\" + \",C1),CONCATENATE(E1,B1,\" + \",C1),CONCATENATE(F1,B1,\" + \",E1,C1),CONCATENATE(B1,\" + \",C1,\" + \",D1),CONCATENATE(CHOOSE(G1,CONCATENATE(B1,\" + \",E1,C1,\" + \",D1),CONCATENATE(E1,B1,\" + \",C1,\" + \",F1,D1),CONCATENATE(E1,B1,\" + \",F1,C1,\" + \",D1))),CHOOSE(G1,CONCATENATE(E1,\"0 + \",C1),CONCATENATE(C1,\" + \",E1,\"0\"))),\" = \")","v":"28 + 7 = "},{"$f":"CHOOSE(Worksheet!$B$6,B1+C1,E1*10+B1+C1,F1*10+B1+E1*10+C1,B1+C1+D1,CHOOSE(G1,B1+E1*10+C1+D1,E1*10+B1+C1+F1*10+D1,E1*10+B1+F1*10+C1+D1),E1*10+C1)","v":35},null,{"$f":"MAX(A1:A50)+1","v":16},{"$f":"RANDBETWEEN(IF(RAND()<0.3,0,1),9)","v":6},{"$f":"IF(Worksheet!L6=6,RANDBETWEEN(1,9),IF(AND(Worksheet!$B$14),IF(L1=0,RANDBETWEEN(IF(RAND()<0.3,0,1),9),CHOOSE(L1,RANDBETWEEN(IF(RAND()<0.3,0,1),9),RANDBETWEEN(8,9),RANDBETWEEN(7,9),RANDBETWEEN(6,9),RANDBETWEEN(5,9),RANDBETWEEN(4,9),RANDBETWEEN(3,9),RANDBETWEEN(2,9),RANDBETWEEN(1,9))),IF(L1=0,RANDBETWEEN(1,9),CHOOSE(L1,RANDBETWEEN(0,8),RANDBETWEEN(0,7),RANDBETWEEN(0,6),RANDBETWEEN(0,5),RANDBETWEEN(0,4),RANDBETWEEN(0,3),RANDBETWEEN(0,2),RANDBETWEEN(0,1),RANDBETWEEN(0,8)))))","v":9},{"$f":"RANDBETWEEN(1,8)","v":3},{"$f":"RANDBETWEEN(1,Worksheet!$B$13/10)","v":3},{"$f":"RANDBETWEEN(1,Worksheet!$B$13/10-1)","v":5},{"$f":"RANDBETWEEN(1,IF(Worksheet!$B$6=6,2,3))","v":1},{"$f":"CONCATENATE(CHOOSE(Worksheet!$B$6,CONCATENATE(L1,\" + \",M1),CONCATENATE(O1,L1,\" + \",M1),CONCATENATE(P1,L1,\" + \",O1,M1),CONCATENATE(L1,\" + \",M1,\" + \",N1),CONCATENATE(CHOOSE(Q1,CONCATENATE(L1,\" + \",O1,M1,\" + \",N1),CONCATENATE(O1,L1,\" + \",M1,\" + \",P1,N1),CONCATENATE(O1,L1,\" + \",P1,M1,\" + \",N1))),CHOOSE(Q1,CONCATENATE(O1,\"0 + \",M1),CONCATENATE(M1,\" + \",O1,\"0\"))),\" = \")","v":"36 + 9 = "},{"$f":"CHOOSE(Worksheet!$B$6,L1+M1,O1*10+L1+M1,P1*10+L1+O1*10+M1,L1+M1+N1,CHOOSE(Q1,L1+O1*10+M1+N1,O1*10+L1+M1+P1*10+N1,O1*10+L1+P1*10+M1+N1),O1*10+M1)","v":45},null,{"$f":"MAX(K1:K50)+1","v":31},{"$f":"RANDBETWEEN(IF(RAND()<0.3,0,1),9)","v":5},{"$f":"IF(Worksheet!V6=6,RANDBETWEEN(1,9),IF(AND(Worksheet!$B$14),IF(V1=0,RANDBETWEEN(IF(RAND()<0.3,0,1),9),CHOOSE(V1,RANDBETWEEN(IF(RAND()<0.3,0,1),9),RANDBETWEEN(8,9),RANDBETWEEN(7,9),RANDBETWEEN(6,9),RANDBETWEEN(5,9),RANDBETWEEN(4,9),RANDBETWEEN(3,9),RANDBETWEEN(2,9),RANDBETWEEN(1,9))),IF(V1=0,RANDBETWEEN(1,9),CHOOSE(V1,RANDBETWEEN(0,8),RANDBETWEEN(0,7),RANDBETWEEN(0,6),RANDBETWEEN(0,5),RANDBETWEEN(0,4),RANDBETWEEN(0,3),RANDBETWEEN(0,2),RANDBETWEEN(0,1),RANDBETWEEN(0,8)))))","v":7},{"$f":"RANDBETWEEN(1,8)","v":4},{"$f":"RANDBETWEEN(1,Worksheet!$B$13/10)","v":4},{"$f":"RANDBETWEEN(1,Worksheet!$B$13/10-1)","v":5},{"$f":"RANDBETWEEN(1,IF(Worksheet!$B$6=6,2,3))","v":2},{"$f":"CONCATENATE(CHOOSE(Worksheet!$B$6,CONCATENATE(V1,\" + \",W1),CONCATENATE(Y1,V1,\" + \",W1),CONCATENATE(Z1,V1,\" + \",Y1,W1),CONCATENATE(V1,\" + \",W1,\" + \",X1),CONCATENATE(CHOOSE(AA1,CONCATENATE(V1,\" + \",Y1,W1,\" + \",X1),CONCATENATE(Y1,V1,\" + \",W1,\" + \",Z1,X1),CONCATENATE(Y1,V1,\" + \",Z1,W1,\" + \",X1))),CHOOSE(AA1,CONCATENATE(Y1,\"0 + \",W1),CONCATENATE(W1,\" + \",Y1,\"0\"))),\" = \")","v":"45 + 7 = "},{"$f":"CHOOSE(Worksheet!$B$6,V1+W1,Y1*10+V1+W1,Z1*10+V1+Y1*10+W1,V1+W1+X1,CHOOSE(AA1,V1+Y1*10+W1+X1,Y1*10+V1+W1+Z1*10+X1,Y1*10+V1+Z1*10+W1+X1),Y1*10+W1)","v":52},null,{"$f":"MAX(U1:U50)+1","v":46},{"$f":"RANDBETWEEN(IF(RAND()<0.3,0,1),9)","v":8},{"$f":"IF(Worksheet!AF6=6,RANDBETWEEN(1,9),IF(AND(Worksheet!$B$14),IF(AF1=0,RANDBETWEEN(IF(RAND()<0.3,0,1),9),CHOOSE(AF1,RANDBETWEEN(IF(RAND()<0.3,0,1),9),RANDBETWEEN(8,9),RANDBETWEEN(7,9),RANDBETWEEN(6,9),RANDBETWEEN(5,9),RANDBETWEEN(4,9),RANDBETWEEN(3,9),RANDBETWEEN(2,9),RANDBETWEEN(1,9))),IF(AF1=0,RANDBETWEEN(1,9),CHOOSE(AF1,RANDBETWEEN(0,8),RANDBETWEEN(0,7),RANDBETWEEN(0,6),RANDBETWEEN(0,5),RANDBETWEEN(0,4),RANDBETWEEN(0,3),RANDBETWEEN(0,2),RANDBETWEEN(0,1),RANDBETWEEN(0,8)))))","v":7},{"$f":"RANDBETWEEN(1,8)","v":1},{"$f":"RANDBETWEEN(1,Worksheet!$B$13/10)","v":6},{"$f":"RANDBETWEEN(1,Worksheet!$B$13/10-1)","v":4},{"$f":"RANDBETWEEN(1,IF(Worksheet!$B$6=6,2,3))","v":1},{"$f":"CONCATENATE(CHOOSE(Worksheet!$B$6,CONCATENATE(AF1,\" + \",AG1),CONCATENATE(AI1,AF1,\" + \",AG1),CONCATENATE(AJ1,AF1,\" + \",AI1,AG1),CONCATENATE(AF1,\" + \",AG1,\" + \",AH1),CONCATENATE(CHOOSE(AK1,CONCATENATE(AF1,\" + \",AI1,AG1,\" + \",AH1),CONCATENATE(AI1,AF1,\" + \",AG1,\" + \",AJ1,AH1),CONCATENATE(AI1,AF1,\" + \",AJ1,AG1,\" + \",AH1))),CHOOSE(AK1,CONCATENATE(AI1,\"0 + \",AG1),CONCATENATE(AG1,\" + \",AI1,\"0\"))),\" = \")","v":"68 + 7 = "},{"$f":"CHOOSE(Worksheet!$B$6,AF1+AG1,AI1*10+AF1+AG1,AJ1*10+AF1+AI1*10+AG1,AF1+AG1+AH1,CHOOSE(AK1,AF1+AI1*10+AG1+AH1,AI1*10+AF1+AG1+AJ1*10+AH1,AI1*10+AF1+AJ1*10+AG1+AH1),AI1*10+AG1)","v":75}]
[{"$f":"IF(ROW()<=Worksheet!$B$4/4,ROW(),\"\")","v":2},{"$f":"RANDBETWEEN(IF(RAND()<0.3,0,1),9)","v":7},{"$f":"IF(Worksheet!B7=6,RANDBETWEEN(1,9),IF(AND(Worksheet!$B$14),IF(B2=0,RANDBETWEEN(IF(RAND()<0.3,0,1),9),CHOOSE(B2,RANDBETWEEN(IF(RAND()<0.3,0,1),9),RANDBETWEEN(8,9),RANDBETWEEN(7,9),RANDBETWEEN(6,9),RANDBETWEEN(5,9),RANDBETWEEN(4,9),RANDBETWEEN(3,9),RANDBETWEEN(2,9),RANDBETWEEN(1,9))),IF(B2=0,RANDBETWEEN(1,9),CHOOSE(B2,RANDBETWEEN(0,8),RANDBETWEEN(0,7),RANDBETWEEN(0,6),RANDBETWEEN(0,5),RANDBETWEEN(0,4),RANDBETWEEN(0,3),RANDBETWEEN(0,2),RANDBETWEEN(0,1),RANDBETWEEN(0,8)))))","v":8},{"$f":"RANDBETWEEN(1,8)","v":8},{"$f":"RANDBETWEEN(1,Worksheet!$B$13/10-1)","v":3},{"$f":"RANDBETWEEN(1,Worksheet!$B$13/10-1)","v":1},{"$f":"RANDBETWEEN(1,IF(Worksheet!$B$6=6,2,3))","v":2},{"$f":"CONCATENATE(CHOOSE(Worksheet!$B$6,CONCATENATE(B2,\" + \",C2),CONCATENATE(E2,B2,\" + \",C2),CONCATENATE(F2,B2,\" + \",E2,C2),CONCATENATE(B2,\" + \",C2,\" + \",D2),CONCATENATE(CHOOSE(G2,CONCATENATE(B2,\" + \",E2,C2,\" + \",D2),CONCATENATE(E2,B2,\" + \",C2,\" + \",F2,D2),CONCATENATE(E2,B2,\" + \",F2,C2,\" + \",D2))),CHOOSE(G2,CONCATENATE(E2,\"0 + \",C2),CONCATENATE(C2,\" + \",E2,\"0\"))),\" = \")","v":"37 + 8 = "},{"$f":"CHOOSE(Worksheet!$B$6,B2+C2,E2*10+B2+C2,F2*10+B2+E2*10+C2,B2+C2+D2,CHOOSE(G2,B2+E2*10+C2+D2,E2*10+B2+C2+F2*10+D2,E2*10+B2+F2*10+C2+D2),E2*10+C2)","v":45},null,{"$f":"IF(ROW()<=Worksheet!$B$4/4,K1+1,\"\")","v":17},{"$f":"RANDBETWEEN(IF(RAND()<0.3,0,1),9)","v":7},{"$f":"IF(Worksheet!L7=6,RANDBETWEEN(1,9),IF(AND(Worksheet!$B$14),IF(L2=0,RANDBETWEEN(IF(RAND()<0.3,0,1),9),CHOOSE(L2,RANDBETWEEN(IF(RAND()<0.3,0,1),9),RANDBETWEEN(8,9),RANDBETWEEN(7,9),RANDBETWEEN(6,9),RANDBETWEEN(5,9),RANDBETWEEN(4,9),RANDBETWEEN(3,9),RANDBETWEEN(2,9),RANDBETWEEN(1,9))),IF(L2=0,RANDBETWEEN(1,9),CHOOSE(L2,RANDBETWEEN(0,8),RANDBETWEEN(0,7),RANDBETWEEN(0,6),RANDBETWEEN(0,5),RANDBETWEEN(0,4),RANDBETWEEN(0,3),RANDBETWEEN(0,2),RANDBETWEEN(0,1),RANDBETWEEN(0,8)))))","v":6},{"$f":"RANDBETWEEN(1,8)","v":3},{"$f":"RANDBETWEEN(1,Worksheet!$B$13/10-1)","v":1},{"$f":"RANDBETWEEN(1,Worksheet!$B$13/10-1)","v":5},{"$f":"RANDBETWEEN(1,IF(Worksheet!$B$6=6,2,3))","v":1},{"$f":"CONCATENATE(CHOOSE(Worksheet!$B$6,CONCATENATE(L2,\" + \",M2),CONCATENATE(O2,L2,\" + \",M2),CONCATENATE(P2,L2,\" + \",O2,M2),CONCATENATE(L2,\" + \",M2,\" + \",N2),CONCATENATE(CHOOSE(Q2,CONCATENATE(L2,\" + \",O2,M2,\" + \",N2),CONCATENATE(O2,L2,\" + \",M2,\" + \",P2,N2),CONCATENATE(O2,L2,\" + \",P2,M2,\" + \",N2))),CHOOSE(Q2,CONCATENATE(O2,\"0 + \",M2),CONCATENATE(M2,\" + \",O2,\"0\"))),\" = \")","v":"17 + 6 = "},{"$f":"CHOOSE(Worksheet!$B$6,L2+M2,O2*10+L2+M2,P2*10+L2+O2*10+M2,L2+M2+N2,CHOOSE(Q2,L2+O2*10+M2+N2,O2*10+L2+M2+P2*10+N2,O2*10+L2+P2*10+M2+N2),O2*10+M2)","v":23},null,{"$f":"IF(ROW()<=Worksheet!$B$4/4,U1+1,\"\")","v":32},{"$f":"RANDBETWEEN(IF(RAND()<0.3,0,1),9)","v":4},{"$f":"IF(Worksheet!V7=6,RANDBETWEEN(1,9),IF(AND(Worksheet!$B$14),IF(V2=0,RANDBETWEEN(IF(RAND()<0.3,0,1),9),CHOOSE(V2,RANDBETWEEN(IF(RAND()<0.3,0,1),9),RANDBETWEEN(8,9),RANDBETWEEN(7,9),RANDBETWEEN(6,9),RANDBETWEEN(5,9),RANDBETWEEN(4,9),RANDBETWEEN(3,9),RANDBETWEEN(2,9),RANDBETWEEN(1,9))),IF(V2=0,RANDBETWEEN(1,9),CHOOSE(V2,RANDBETWEEN(0,8),RANDBETWEEN(0,7),RANDBETWEEN(0,6),RANDBETWEEN(0,5),RANDBETWEEN(0,4),RANDBETWEEN(0,3),RANDBETWEEN(0,2),RANDBETWEEN(0,1),RANDBETWEEN(0,8)))))","v":6},{"$f":"RANDBETWEEN(1,8)","v":7},{"$f":"RANDBETWEEN(1,Worksheet!$B$13/10-1)","v":2},{"$f":"RANDBETWEEN(1,Worksheet!$B$13/10-1)","v":4},{"$f":"RANDBETWEEN(1,IF(Worksheet!$B$6=6,2,3))","v":2},{"$f":"CONCATENATE(CHOOSE(Worksheet!$B$6,CONCATENATE(V2,\" + \",W2),CONCATENATE(Y2,V2,\" + \",W2),CONCATENATE(Z2,V2,\" + \",Y2,W2),CONCATENATE(V2,\" + \",W2,\" + \",X2),CONCATENATE(CHOOSE(AA2,CONCATENATE(V2,\" + \",Y2,W2,\" + \",X2),CONCATENATE(Y2,V2,\" + \",W2,\" + \",Z2,X2),CONCATENATE(Y2,V2,\" + \",Z2,W2,\" + \",X2))),CHOOSE(AA2,CONCATENATE(Y2,\"0 + \",W2),CONCATENATE(W2,\" + \",Y2,\"0\"))),\" = \")","v":"24 + 6 = "},{"$f":"CHOOSE(Worksheet!$B$6,V2+W2,Y2*10+V2+W2,Z2*10+V2+Y2*10+W2,V2+W2+X2,CHOOSE(AA2,V2+Y2*10+W2+X2,Y2*10+V2+W2+Z2*10+X2,Y2*10+V2+Z2*10+W2+X2),Y2*10+W2)","v":30},null,{"$f":"IF(ROW()<=Worksheet!$B$4/4,AE1+1,\"\")","v":47},{"$f":"RANDBETWEEN(IF(RAND()<0.3,0,1),9)","v":1},{"$f":"IF(Worksheet!AF7=6,RANDBETWEEN(1,9),IF(AND(Worksheet!$B$14),IF(AF2=0,RANDBETWEEN(IF(RAND()<0.3,0,1),9),CHOOSE(AF2,RANDBETWEEN(IF(RAND()<0.3,0,1),9),RANDBETWEEN(8,9),RANDBETWEEN(7,9),RANDBETWEEN(6,9),RANDBETWEEN(5,9),RANDBETWEEN(4,9),RANDBETWEEN(3,9),RANDBETWEEN(2,9),RANDBETWEEN(1,9))),IF(AF2=0,RANDBETWEEN(1,9),CHOOSE(AF2,RANDBETWEEN(0,8),RANDBETWEEN(0,7),RANDBETWEEN(0,6),RANDBETWEEN(0,5),RANDBETWEEN(0,4),RANDBETWEEN(0,3),RANDBETWEEN(0,2),RANDBETWEEN(0,1),RANDBETWEEN(0,8)))))","v":2},{"$f":"RANDBETWEEN(1,8)","v":2},{"$f":"RANDBETWEEN(1,Worksheet!$B$13/10-1)","v":2},{"$f":"RANDBETWEEN(1,Worksheet!$B$13/10-1)","v":1},{"$f":"RANDBETWEEN(1,IF(Worksheet!$B$6=6,2,3))","v":3},{"$f":"CONCATENATE(CHOOSE(Worksheet!$B$6,CONCATENATE(AF2,\" + \",AG2),CONCATENATE(AI2,AF2,\" + \",AG2),CONCATENATE(AJ2,AF2,\" + \",AI2,AG2),CONCATENATE(AF2,\" + \",AG2,\" + \",AH2),CONCATENATE(CHOOSE(AK2,CONCATENATE(AF2,\" + \",AI2,AG2,\" + \",AH2),CONCATENATE(AI2,AF2,\" + \",AG2,\" + \",AJ2,AH2),CONCATENATE(AI2,AF2,\" + \",AJ2,AG2,\" + \",AH2))),CHOOSE(AK2,CONCATENATE(AI2,\"0 + \",AG2),CONCATENATE(AG2,\" + \",AI2,\"0\"))),\" = \")","v":"21 + 2 = "},{"$f":"CHOOSE(Worksheet!$B$6,AF2+AG2,AI2*10+AF2+AG2,AJ2*10+AF2+AI2*10+AG2,AF2+AG2+AH2,CHOOSE(AK2,AF2+AI2*10+AG2+AH2,AI2*10+AF2+AG2+AJ2*10+AH2,AI2*10+AF2+AJ2*10+AG2+AH2),AI2*10+AG2)","v":23}]
[{"$f":"IF(ROW()<=Worksheet!$B$4/4,ROW(),\"\")","v":3},1,{"$f":"IF(Worksheet!B8=6,RANDBETWEEN(1,9),IF(AND(Worksheet!$B$14),IF(B3=0,RANDBETWEEN(IF(RAND()<0.3,0,1),9),CHOOSE(B3,RANDBETWEEN(IF(RAND()<0.3,0,1),9),RANDBETWEEN(8,9),RANDBETWEEN(7,9),RANDBETWEEN(6,9),RANDBETWEEN(5,9),RANDBETWEEN(4,9),RANDBETWEEN(3,9),RANDBETWEEN(2,9),RANDBETWEEN(1,9))),IF(B3=0,RANDBETWEEN(1,9),CHOOSE(B3,RANDBETWEEN(0,8),RANDBETWEEN(0,7),RANDBETWEEN(0,6),RANDBETWEEN(0,5),RANDBETWEEN(0,4),RANDBETWEEN(0,3),RANDBETWEEN(0,2),RANDBETWEEN(0,1),RANDBETWEEN(0,8)))))","v":6},7,{"$f":"RANDBETWEEN(1,Worksheet!$B$13/10-1)","v":2},{"$f":"RANDBETWEEN(1,Worksheet!$B$13/10-1)","v":3},{"$f":"RANDBETWEEN(1,IF(Worksheet!$B$6=6,2,3))","v":2},{"$f":"CONCATENATE(CHOOSE(Worksheet!$B$6,CONCATENATE(B3,\" + \",C3),CONCATENATE(E3,B3,\" + \",C3),CONCATENATE(F3,B3,\" + \",E3,C3),CONCATENATE(B3,\" + \",C3,\" + \",D3),CONCATENATE(CHOOSE(G3,CONCATENATE(B3,\" + \",E3,C3,\" + \",D3),CONCATENATE(E3,B3,\" + \",C3,\" + \",F3,D3),CONCATENATE(E3,B3,\" + \",F3,C3,\" + \",D3))),CHOOSE(G3,CONCATENATE(E3,\"0 + \",C3),CONCATENATE(C3,\" + \",E3,\"0\"))),\" = \")","v":"21 + 6 = "},{"$f":"CHOOSE(Worksheet!$B$6,B3+C3,E3*10+B3+C3,F3*10+B3+E3*10+C3,B3+C3+D3,CHOOSE(G3,B3+E3*10+C3+D3,E3*10+B3+C3+F3*10+D3,E3*10+B3+F3*10+C3+D3),E3*10+C3)","v":27},null,{"$f":"IF(ROW()<=Worksheet!$B$4/4,K2+1,\"\")","v":18},6,{"$f":"IF(Worksheet!L8=6,RANDBETWEEN(1,9),IF(AND(Worksheet!$B$14),IF(L3=0,RANDBETWEEN(IF(RAND()<0.3,0,1),9),CHOOSE(L3,RANDBETWEEN(IF(RAND()<0.3,0,1),9),RANDBETWEEN(8,9),RANDBETWEEN(7,9),RANDBETWEEN(6,9),RANDBETWEEN(5,9),RANDBETWEEN(4,9),RANDBETWEEN(3,9),RANDBETWEEN(2,9),RANDBETWEEN(1,9))),IF(L3=0,RANDBETWEEN(1,9),CHOOSE(L3,RANDBETWEEN(0,8),RANDBETWEEN(0,7),RANDBETWEEN(0,6),RANDBETWEEN(0,5),RANDBETWEEN(0,4),RANDBETWEEN(0,3),RANDBETWEEN(0,2),RANDBETWEEN(0,1),RANDBETWEEN(0,8)))))","v":6},1,{"$f":"RANDBETWEEN(1,Worksheet!$B$13/10-1)","v":2},{"$f":"RANDBETWEEN(1,Worksheet!$B$13/10-1)","v":1},{"$f":"RANDBETWEEN(1,IF(Worksheet!$B$6=6,2,3))","v":3},{"$f":"CONCATENATE(CHOOSE(Worksheet!$B$6,CONCATENATE(L3,\" + \",M3),CONCATENATE(O3,L3,\" + \",M3),CONCATENATE(P3,L3,\" + \",O3,M3),CONCATENATE(L3,\" + \",M3,\" + \",N3),CONCATENATE(CHOOSE(Q3,CONCATENATE(L3,\" + \",O3,M3,\" + \",N3),CONCATENATE(O3,L3,\" + \",M3,\" + \",P3,N3),CONCATENATE(O3,L3,\" + \",P3,M3,\" + \",N3))),CHOOSE(Q3,CONCATENATE(O3,\"0 + \",M3),CONCATENATE(M3,\" + \",O3,\"0\"))),\" = \")","v":"26 + 6 = "},{"$f":"CHOOSE(Worksheet!$B$6,L3+M3,O3*10+L3+M3,P3*10+L3+O3*10+M3,L3+M3+N3,CHOOSE(Q3,L3+O3*10+M3+N3,O3*10+L3+M3+P3*10+N3,O3*10+L3+P3*10+M3+N3),O3*10+M3)","v":32},null,{"$f":"IF(ROW()<=Worksheet!$B$4/4,U2+1,\"\")","v":33},9,{"$f":"IF(Worksheet!V8=6,RANDBETWEEN(1,9),IF(AND(Worksheet!$B$14),IF(V3=0,RANDBETWEEN(IF(RAND()<0.3,0,1),9),CHOOSE(V3,RANDBETWEEN(IF(RAND()<0.3,0,1),9),RANDBETWEEN(8,9),RANDBETWEEN(7,9),RANDBETWEEN(6,9),RANDBETWEEN(5,9),RANDBETWEEN(4,9),RANDBETWEEN(3,9),RANDBETWEEN(2,9),RANDBETWEEN(1,9))),IF(V3=0,RANDBETWEEN(1,9),CHOOSE(V3,RANDBETWEEN(0,8),RANDBETWEEN(0,7),RANDBETWEEN(0,6),RANDBETWEEN(0,5),RANDBETWEEN(0,4),RANDBETWEEN(0,3),RANDBETWEEN(0,2),RANDBETWEEN(0,1),RANDBETWEEN(0,8)))))","v":5},1,{"$f":"RANDBETWEEN(1,Worksheet!$B$13/10-1)","v":5},{"$f":"RANDBETWEEN(1,Worksheet!$B$13/10-1)","v":4},{"$f":"RANDBETWEEN(1,IF(Worksheet!$B$6=6,2,3))","v":1},{"$f":"CONCATENATE(CHOOSE(Worksheet!$B$6,CONCATENATE(V3,\" + \",W3),CONCATENATE(Y3,V3,\" + \",W3),CONCATENATE(Z3,V3,\" + \",Y3,W3),CONCATENATE(V3,\" + \",W3,\" + \",X3),CONCATENATE(CHOOSE(AA3,CONCATENATE(V3,\" + \",Y3,W3,\" + \",X3),CONCATENATE(Y3,V3,\" + \",W3,\" + \",Z3,X3),CONCATENATE(Y3,V3,\" + \",Z3,W3,\" + \",X3))),CHOOSE(AA3,CONCATENATE(Y3,\"0 + \",W3),CONCATENATE(W3,\" + \",Y3,\"0\"))),\" = \")","v":"59 + 5 = "},{"$f":"CHOOSE(Worksheet!$B$6,V3+W3,Y3*10+V3+W3,Z3*10+V3+Y3*10+W3,V3+W3+X3,CHOOSE(AA3,V3+Y3*10+W3+X3,Y3*10+V3+W3+Z3*10+X3,Y3*10+V3+Z3*10+W3+X3),Y3*10+W3)","v":64},null,{"$f":"IF(ROW()<=Worksheet!$B$4/4,AE2+1,\"\")","v":48},5,{"$f":"IF(Worksheet!AF8=6,RANDBETWEEN(1,9),IF(AND(Worksheet!$B$14),IF(AF3=0,RANDBETWEEN(IF(RAND()<0.3,0,1),9),CHOOSE(AF3,RANDBETWEEN(IF(RAND()<0.3,0,1),9),RANDBETWEEN(8,9),RANDBETWEEN(7,9),RANDBETWEEN(6,9),RANDBETWEEN(5,9),RANDBETWEEN(4,9),RANDBETWEEN(3,9),RANDBETWEEN(2,9),RANDBETWEEN(1,9))),IF(AF3=0,RANDBETWEEN(1,9),CHOOSE(AF3,RANDBETWEEN(0,8),RANDBETWEEN(0,7),RANDBETWEEN(0,6),RANDBETWEEN(0,5),RANDBETWEEN(0,4),RANDBETWEEN(0,3),RANDBETWEEN(0,2),RANDBETWEEN(0,1),RANDBETWEEN(0,8)))))","v":8},1,{"$f":"RANDBETWEEN(1,Worksheet!$B$13/10-1)","v":4},{"$f":"RANDBETWEEN(1,Worksheet!$B$13/10-1)","v":5},{"$f":"RANDBETWEEN(1,IF(Worksheet!$B$6=6,2,3))","v":3},{"$f":"CONCATENATE(CHOOSE(Worksheet!$B$6,CONCATENATE(AF3,\" + \",AG3),CONCATENATE(AI3,AF3,\" + \",AG3),CONCATENATE(AJ3,AF3,\" + \",AI3,AG3),CONCATENATE(AF3,\" + \",AG3,\" + \",AH3),CONCATENATE(CHOOSE(AK3,CONCATENATE(AF3,\" + \",AI3,AG3,\" + \",AH3),CONCATENATE(AI3,AF3,\" + \",AG3,\" + \",AJ3,AH3),CONCATENATE(AI3,AF3,\" + \",AJ3,AG3,\" + \",AH3))),CHOOSE(AK3,CONCATENATE(AI3,\"0 + \",AG3),CONCATENATE(AG3,\" + \",AI3,\"0\"))),\" = \")","v":"45 + 8 = "},{"$f":"CHOOSE(Worksheet!$B$6,AF3+AG3,AI3*10+AF3+AG3,AJ3*10+AF3+AI3*10+AG3,AF3+AG3+AH3,CHOOSE(AK3,AF3+AI3*10+AG3+AH3,AI3*10+AF3+AG3+AJ3*10+AH3,AI3*10+AF3+AJ3*10+AG3+AH3),AI3*10+AG3)","v":53}]
[{"$f":"IF(ROW()<=Worksheet!$B$4/4,ROW(),\"\")","v":4},6,{"$f":"IF(Worksheet!B9=6,RANDBETWEEN(1,9),IF(AND(Worksheet!$B$14),IF(B4=0,RANDBETWEEN(IF(RAND()<0.3,0,1),9),CHOOSE(B4,RANDBETWEEN(IF(RAND()<0.3,0,1),9),RANDBETWEEN(8,9),RANDBETWEEN(7,9),RANDBETWEEN(6,9),RANDBETWEEN(5,9),RANDBETWEEN(4,9),RANDBETWEEN(3,9),RANDBETWEEN(2,9),RANDBETWEEN(1,9))),IF(B4=0,RANDBETWEEN(1,9),CHOOSE(B4,RANDBETWEEN(0,8),RANDBETWEEN(0,7),RANDBETWEEN(0,6),RANDBETWEEN(0,5),RANDBETWEEN(0,4),RANDBETWEEN(0,3),RANDBETWEEN(0,2),RANDBETWEEN(0,1),RANDBETWEEN(0,8)))))","v":6},2,{"$f":"RANDBETWEEN(1,Worksheet!$B$13/10-1)","v":3},{"$f":"RANDBETWEEN(1,Worksheet!$B$13/10-1)","v":4},{"$f":"RANDBETWEEN(1,IF(Worksheet!$B$6=6,2,3))","v":1},{"$f":"CONCATENATE(CHOOSE(Worksheet!$B$6,CONCATENATE(B4,\" + \",C4),CONCATENATE(E4,B4,\" + \",C4),CONCATENATE(F4,B4,\" + \",E4,C4),CONCATENATE(B4,\" + \",C4,\" + \",D4),CONCATENATE(CHOOSE(G4,CONCATENATE(B4,\" + \",E4,C4,\" + \",D4),CONCATENATE(E4,B4,\" + \",C4,\" + \",F4,D4),CONCATENATE(E4,B4,\" + \",F4,C4,\" + \",D4))),CHOOSE(G4,CONCATENATE(E4,\"0 + \",C4),CONCATENATE(C4,\" + \",E4,\"0\"))),\" = \")","v":"36 + 6 = "},{"$f":"CHOOSE(Worksheet!$B$6,B4+C4,E4*10+B4+C4,F4*10+B4+E4*10+C4,B4+C4+D4,CHOOSE(G4,B4+E4*10+C4+D4,E4*10+B4+C4+F4*10+D4,E4*10+B4+F4*10+C4+D4),E4*10+C4)","v":42},null,{"$f":"IF(ROW()<=Worksheet!$B$4/4,K3+1,\"\")","v":19},0,{"$f":"IF(Worksheet!L9=6,RANDBETWEEN(1,9),IF(AND(Worksheet!$B$14),IF(L4=0,RANDBETWEEN(IF(RAND()<0.3,0,1),9),CHOOSE(L4,RANDBETWEEN(IF(RAND()<0.3,0,1),9),RANDBETWEEN(8,9),RANDBETWEEN(7,9),RANDBETWEEN(6,9),RANDBETWEEN(5,9),RANDBETWEEN(4,9),RANDBETWEEN(3,9),RANDBETWEEN(2,9),RANDBETWEEN(1,9))),IF(L4=0,RANDBETWEEN(1,9),CHOOSE(L4,RANDBETWEEN(0,8),RANDBETWEEN(0,7),RANDBETWEEN(0,6),RANDBETWEEN(0,5),RANDBETWEEN(0,4),RANDBETWEEN(0,3),RANDBETWEEN(0,2),RANDBETWEEN(0,1),RANDBETWEEN(0,8)))))","v":1},3,{"$f":"RANDBETWEEN(1,Worksheet!$B$13/10-1)","v":5},{"$f":"RANDBETWEEN(1,Worksheet!$B$13/10-1)","v":5},{"$f":"RANDBETWEEN(1,IF(Worksheet!$B$6=6,2,3))","v":1},{"$f":"CONCATENATE(CHOOSE(Worksheet!$B$6,CONCATENATE(L4,\" + \",M4),CONCATENATE(O4,L4,\" + \",M4),CONCATENATE(P4,L4,\" + \",O4,M4),CONCATENATE(L4,\" + \",M4,\" + \",N4),CONCATENATE(CHOOSE(Q4,CONCATENATE(L4,\" + \",O4,M4,\" + \",N4),CONCATENATE(O4,L4,\" + \",M4,\" + \",P4,N4),CONCATENATE(O4,L4,\" + \",P4,M4,\" + \",N4))),CHOOSE(Q4,CONCATENATE(O4,\"0 + \",M4),CONCATENATE(M4,\" + \",O4,\"0\"))),\" = \")","v":"50 + 1 = "},{"$f":"CHOOSE(Worksheet!$B$6,L4+M4,O4*10+L4+M4,P4*10+L4+O4*10+M4,L4+M4+N4,CHOOSE(Q4,L4+O4*10+M4+N4,O4*10+L4+M4+P4*10+N4,O4*10+L4+P4*10+M4+N4),O4*10+M4)","v":51},null,{"$f":"IF(ROW()<=Worksheet!$B$4/4,U3+1,\"\")","v":34},1,{"$f":"IF(Worksheet!V9=6,RANDBETWEEN(1,9),IF(AND(Worksheet!$B$14),IF(V4=0,RANDBETWEEN(IF(RAND()<0.3,0,1),9),CHOOSE(V4,RANDBETWEEN(IF(RAND()<0.3,0,1),9),RANDBETWEEN(8,9),RANDBETWEEN(7,9),RANDBETWEEN(6,9),RANDBETWEEN(5,9),RANDBETWEEN(4,9),RANDBETWEEN(3,9),RANDBETWEEN(2,9),RANDBETWEEN(1,9))),IF(V4=0,RANDBETWEEN(1,9),CHOOSE(V4,RANDBETWEEN(0,8),RANDBETWEEN(0,7),RANDBETWEEN(0,6),RANDBETWEEN(0,5),RANDBETWEEN(0,4),RANDBETWEEN(0,3),RANDBETWEEN(0,2),RANDBETWEEN(0,1),RANDBETWEEN(0,8)))))","v":4},1,{"$f":"RANDBETWEEN(1,Worksheet!$B$13/10-1)","v":5},{"$f":"RANDBETWEEN(1,Worksheet!$B$13/10-1)","v":3},{"$f":"RANDBETWEEN(1,IF(Worksheet!$B$6=6,2,3))","v":1},{"$f":"CONCATENATE(CHOOSE(Worksheet!$B$6,CONCATENATE(V4,\" + \",W4),CONCATENATE(Y4,V4,\" + \",W4),CONCATENATE(Z4,V4,\" + \",Y4,W4),CONCATENATE(V4,\" + \",W4,\" + \",X4),CONCATENATE(CHOOSE(AA4,CONCATENATE(V4,\" + \",Y4,W4,\" + \",X4),CONCATENATE(Y4,V4,\" + \",W4,\" + \",Z4,X4),CONCATENATE(Y4,V4,\" + \",Z4,W4,\" + \",X4))),CHOOSE(AA4,CONCATENATE(Y4,\"0 + \",W4),CONCATENATE(W4,\" + \",Y4,\"0\"))),\" = \")","v":"51 + 4 = "},{"$f":"CHOOSE(Worksheet!$B$6,V4+W4,Y4*10+V4+W4,Z4*10+V4+Y4*10+W4,V4+W4+X4,CHOOSE(AA4,V4+Y4*10+W4+X4,Y4*10+V4+W4+Z4*10+X4,Y4*10+V4+Z4*10+W4+X4),Y4*10+W4)","v":55},null,{"$f":"IF(ROW()<=Worksheet!$B$4/4,AE3+1,\"\")","v":49},5,{"$f":"IF(Worksheet!AF9=6,RANDBETWEEN(1,9),IF(AND(Worksheet!$B$14),IF(AF4=0,RANDBETWEEN(IF(RAND()<0.3,0,1),9),CHOOSE(AF4,RANDBETWEEN(IF(RAND()<0.3,0,1),9),RANDBETWEEN(8,9),RANDBETWEEN(7,9),RANDBETWEEN(6,9),RANDBETWEEN(5,9),RANDBETWEEN(4,9),RANDBETWEEN(3,9),RANDBETWEEN(2,9),RANDBETWEEN(1,9))),IF(AF4=0,RANDBETWEEN(1,9),CHOOSE(AF4,RANDBETWEEN(0,8),RANDBETWEEN(0,7),RANDBETWEEN(0,6),RANDBETWEEN(0,5),RANDBETWEEN(0,4),RANDBETWEEN(0,3),RANDBETWEEN(0,2),RANDBETWEEN(0,1),RANDBETWEEN(0,8)))))","v":9},8,{"$f":"RANDBETWEEN(1,Worksheet!$B$13/10-1)","v":2},{"$f":"RANDBETWEEN(1,Worksheet!$B$13/10-1)","v":5},{"$f":"RANDBETWEEN(1,IF(Worksheet!$B$6=6,2,3))","v":1},{"$f":"CONCATENATE(CHOOSE(Worksheet!$B$6,CONCATENATE(AF4,\" + \",AG4),CONCATENATE(AI4,AF4,\" + \",AG4),CONCATENATE(AJ4,AF4,\" + \",AI4,AG4),CONCATENATE(AF4,\" + \",AG4,\" + \",AH4),CONCATENATE(CHOOSE(AK4,CONCATENATE(AF4,\" + \",AI4,AG4,\" + \",AH4),CONCATENATE(AI4,AF4,\" + \",AG4,\" + \",AJ4,AH4),CONCATENATE(AI4,AF4,\" + \",AJ4,AG4,\" + \",AH4))),CHOOSE(AK4,CONCATENATE(AI4,\"0 + \",AG4),CONCATENATE(AG4,\" + \",AI4,\"0\"))),\" = \")","v":"25 + 9 = "},{"$f":"CHOOSE(Worksheet!$B$6,AF4+AG4,AI4*10+AF4+AG4,AJ4*10+AF4+AI4*10+AG4,AF4+AG4+AH4,CHOOSE(AK4,AF4+AI4*10+AG4+AH4,AI4*10+AF4+AG4+AJ4*10+AH4,AI4*10+AF4+AJ4*10+AG4+AH4),AI4*10+AG4)","v":34}]
[{"$f":"IF(ROW()<=Worksheet!$B$4/4,ROW(),\"\")","v":5},2,{"$f":"IF(Worksheet!B10=6,RANDBETWEEN(1,9),IF(AND(Worksheet!$B$14),IF(B5=0,RANDBETWEEN(IF(RAND()<0.3,0,1),9),CHOOSE(B5,RANDBETWEEN(IF(RAND()<0.3,0,1),9),RANDBETWEEN(8,9),RANDBETWEEN(7,9),RANDBETWEEN(6,9),RANDBETWEEN(5,9),RANDBETWEEN(4,9),RANDBETWEEN(3,9),RANDBETWEEN(2,9),RANDBETWEEN(1,9))),IF(B5=0,RANDBETWEEN(1,9),CHOOSE(B5,RANDBETWEEN(0,8),RANDBETWEEN(0,7),RANDBETWEEN(0,6),RANDBETWEEN(0,5),RANDBETWEEN(0,4),RANDBETWEEN(0,3),RANDBETWEEN(0,2),RANDBETWEEN(0,1),RANDBETWEEN(0,8)))))","v":9},4,{"$f":"RANDBETWEEN(1,Worksheet!$B$13/10-1)","v":1},{"$f":"RANDBETWEEN(1,Worksheet!$B$13/10-1)","v":3},{"$f":"RANDBETWEEN(1,IF(Worksheet!$B$6=6,2,3))","v":2},{"$f":"CONCATENATE(CHOOSE(Worksheet!$B$6,CONCATENATE(B5,\" + \",C5),CONCATENATE(E5,B5,\" + \",C5),CONCATENATE(F5,B5,\" + \",E5,C5),CONCATENATE(B5,\" + \",C5,\" + \",D5),CONCATENATE(CHOOSE(G5,CONCATENATE(B5,\" + \",E5,C5,\" + \",D5),CONCATENATE(E5,B5,\" + \",C5,\" + \",F5,D5),CONCATENATE(E5,B5,\" + \",F5,C5,\" + \",D5))),CHOOSE(G5,CONCATENATE(E5,\"0 + \",C5),CONCATENATE(C5,\" + \",E5,\"0\"))),\" = \")","v":"12 + 9 = "},{"$f":"CHOOSE(Worksheet!$B$6,B5+C5,E5*10+B5+C5,F5*10+B5+E5*10+C5,B5+C5+D5,CHOOSE(G5,B5+E5*10+C5+D5,E5*10+B5+C5+F5*10+D5,E5*10+B5+F5*10+C5+D5),E5*10+C5)","v":21},null,{"$f":"IF(ROW()<=Worksheet!$B$4/4,K4+1,\"\")","v":20},7,{"$f":"IF(Worksheet!L10=6,RANDBETWEEN(1,9),IF(AND(Worksheet!$B$14),IF(L5=0,RANDBETWEEN(IF(RAND()<0.3,0,1),9),CHOOSE(L5,RANDBETWEEN(IF(RAND()<0.3,0,1),9),RANDBETWEEN(8,9),RANDBETWEEN(7,9),RANDBETWEEN(6,9),RANDBETWEEN(5,9),RANDBETWEEN(4,9),RANDBETWEEN(3,9),RANDBETWEEN(2,9),RANDBETWEEN(1,9))),IF(L5=0,RANDBETWEEN(1,9),CHOOSE(L5,RANDBETWEEN(0,8),RANDBETWEEN(0,7),RANDBETWEEN(0,6),RANDBETWEEN(0,5),RANDBETWEEN(0,4),RANDBETWEEN(0,3),RANDBETWEEN(0,2),RANDBETWEEN(0,1),RANDBETWEEN(0,8)))))","v":6},4,{"$f":"RANDBETWEEN(1,Worksheet!$B$13/10-1)","v":2},{"$f":"RANDBETWEEN(1,Worksheet!$B$13/10-1)","v":1},{"$f":"RANDBETWEEN(1,IF(Worksheet!$B$6=6,2,3))","v":2},{"$f":"CONCATENATE(CHOOSE(Worksheet!$B$6,CONCATENATE(L5,\" + \",M5),CONCATENATE(O5,L5,\" + \",M5),CONCATENATE(P5,L5,\" + \",O5,M5),CONCATENATE(L5,\" + \",M5,\" + \",N5),CONCATENATE(CHOOSE(Q5,CONCATENATE(L5,\" + \",O5,M5,\" + \",N5),CONCATENATE(O5,L5,\" + \",M5,\" + \",P5,N5),CONCATENATE(O5,L5,\" + \",P5,M5,\" + \",N5))),CHOOSE(Q5,CONCATENATE(O5,\"0 + \",M5),CONCATENATE(M5,\" + \",O5,\"0\"))),\" = \")","v":"27 + 6 = "},{"$f":"CHOOSE(Worksheet!$B$6,L5+M5,O5*10+L5+M5,P5*10+L5+O5*10+M5,L5+M5+N5,CHOOSE(Q5,L5+O5*10+M5+N5,O5*10+L5+M5+P5*10+N5,O5*10+L5+P5*10+M5+N5),O5*10+M5)","v":33},null,{"$f":"IF(ROW()<=Worksheet!$B$4/4,U4+1,\"\")","v":35},8,{"$f":"IF(Worksheet!V10=6,RANDBETWEEN(1,9),IF(AND(Worksheet!$B$14),IF(V5=0,RANDBETWEEN(IF(RAND()<0.3,0,1),9),CHOOSE(V5,RANDBETWEEN(IF(RAND()<0.3,0,1),9),RANDBETWEEN(8,9),RANDBETWEEN(7,9),RANDBETWEEN(6,9),RANDBETWEEN(5,9),RANDBETWEEN(4,9),RANDBETWEEN(3,9),RANDBETWEEN(2,9),RANDBETWEEN(1,9))),IF(V5=0,RANDBETWEEN(1,9),CHOOSE(V5,RANDBETWEEN(0,8),RANDBETWEEN(0,7),RANDBETWEEN(0,6),RANDBETWEEN(0,5),RANDBETWEEN(0,4),RANDBETWEEN(0,3),RANDBETWEEN(0,2),RANDBETWEEN(0,1),RANDBETWEEN(0,8)))))","v":4},5,{"$f":"RANDBETWEEN(1,Worksheet!$B$13/10-1)","v":2},{"$f":"RANDBETWEEN(1,Worksheet!$B$13/10-1)","v":4},{"$f":"RANDBETWEEN(1,IF(Worksheet!$B$6=6,2,3))","v":3},{"$f":"CONCATENATE(CHOOSE(Worksheet!$B$6,CONCATENATE(V5,\" + \",W5),CONCATENATE(Y5,V5,\" + \",W5),CONCATENATE(Z5,V5,\" + \",Y5,W5),CONCATENATE(V5,\" + \",W5,\" + \",X5),CONCATENATE(CHOOSE(AA5,CONCATENATE(V5,\" + \",Y5,W5,\" + \",X5),CONCATENATE(Y5,V5,\" + \",W5,\" + \",Z5,X5),CONCATENATE(Y5,V5,\" + \",Z5,W5,\" + \",X5))),CHOOSE(AA5,CONCATENATE(Y5,\"0 + \",W5),CONCATENATE(W5,\" + \",Y5,\"0\"))),\" = \")","v":"28 + 4 = "},{"$f":"CHOOSE(Worksheet!$B$6,V5+W5,Y5*10+V5+W5,Z5*10+V5+Y5*10+W5,V5+W5+X5,CHOOSE(AA5,V5+Y5*10+W5+X5,Y5*10+V5+W5+Z5*10+X5,Y5*10+V5+Z5*10+W5+X5),Y5*10+W5)","v":32},null,{"$f":"IF(ROW()<=Worksheet!$B$4/4,AE4+1,\"\")","v":50},7,{"$f":"IF(Worksheet!AF10=6,RANDBETWEEN(1,9),IF(AND(Worksheet!$B$14),IF(AF5=0,RANDBETWEEN(IF(RAND()<0.3,0,1),9),CHOOSE(AF5,RANDBETWEEN(IF(RAND()<0.3,0,1),9),RANDBETWEEN(8,9),RANDBETWEEN(7,9),RANDBETWEEN(6,9),RANDBETWEEN(5,9),RANDBETWEEN(4,9),RANDBETWEEN(3,9),RANDBETWEEN(2,9),RANDBETWEEN(1,9))),IF(AF5=0,RANDBETWEEN(1,9),CHOOSE(AF5,RANDBETWEEN(0,8),RANDBETWEEN(0,7),RANDBETWEEN(0,6),RANDBETWEEN(0,5),RANDBETWEEN(0,4),RANDBETWEEN(0,3),RANDBETWEEN(0,2),RANDBETWEEN(0,1),RANDBETWEEN(0,8)))))","v":5},4,{"$f":"RANDBETWEEN(1,Worksheet!$B$13/10-1)","v":2},{"$f":"RANDBETWEEN(1,Worksheet!$B$13/10-1)","v":1},{"$f":"RANDBETWEEN(1,IF(Worksheet!$B$6=6,2,3))","v":1},{"$f":"CONCATENATE(CHOOSE(Worksheet!$B$6,CONCATENATE(AF5,\" + \",AG5),CONCATENATE(AI5,AF5,\" + \",AG5),CONCATENATE(AJ5,AF5,\" + \",AI5,AG5),CONCATENATE(AF5,\" + \",AG5,\" + \",AH5),CONCATENATE(CHOOSE(AK5,CONCATENATE(AF5,\" + \",AI5,AG5,\" + \",AH5),CONCATENATE(AI5,AF5,\" + \",AG5,\" + \",AJ5,AH5),CONCATENATE(AI5,AF5,\" + \",AJ5,AG5,\" + \",AH5))),CHOOSE(AK5,CONCATENATE(AI5,\"0 + \",AG5),CONCATENATE(AG5,\" + \",AI5,\"0\"))),\" = \")","v":"27 + 5 = "},{"$f":"CHOOSE(Worksheet!$B$6,AF5+AG5,AI5*10+AF5+AG5,AJ5*10+AF5+AI5*10+AG5,AF5+AG5+AH5,CHOOSE(AK5,AF5+AI5*10+AG5+AH5,AI5*10+AF5+AG5+AJ5*10+AH5,AI5*10+AF5+AJ5*10+AG5+AH5),AI5*10+AG5)","v":32}]
[{"$f":"IF(ROW()<=Worksheet!$B$4/4,ROW(),\"\")","v":6},2,{"$f":"IF(Worksheet!B11=6,RANDBETWEEN(1,9),IF(AND(Worksheet!$B$14),IF(B6=0,RANDBETWEEN(IF(RAND()<0.3,0,1),9),CHOOSE(B6,RANDBETWEEN(IF(RAND()<0.3,0,1),9),RANDBETWEEN(8,9),RANDBETWEEN(7,9),RANDBETWEEN(6,9),RANDBETWEEN(5,9),RANDBETWEEN(4,9),RANDBETWEEN(3,9),RANDBETWEEN(2,9),RANDBETWEEN(1,9))),IF(B6=0,RANDBETWEEN(1,9),CHOOSE(B6,RANDBETWEEN(0,8),RANDBETWEEN(0,7),RANDBETWEEN(0,6),RANDBETWEEN(0,5),RANDBETWEEN(0,4),RANDBETWEEN(0,3),RANDBETWEEN(0,2),RANDBETWEEN(0,1),RANDBETWEEN(0,8)))))","v":9},1,{"$f":"RANDBETWEEN(1,Worksheet!$B$13/10-1)","v":2},{"$f":"RANDBETWEEN(1,Worksheet!$B$13/10-1)","v":5},{"$f":"RANDBETWEEN(1,IF(Worksheet!$B$6=6,2,3))","v":2},{"$f":"CONCATENATE(CHOOSE(Worksheet!$B$6,CONCATENATE(B6,\" + \",C6),CONCATENATE(E6,B6,\" + \",C6),CONCATENATE(F6,B6,\" + \",E6,C6),CONCATENATE(B6,\" + \",C6,\" + \",D6),CONCATENATE(CHOOSE(G6,CONCATENATE(B6,\" + \",E6,C6,\" + \",D6),CONCATENATE(E6,B6,\" + \",C6,\" + \",F6,D6),CONCATENATE(E6,B6,\" + \",F6,C6,\" + \",D6))),CHOOSE(G6,CONCATENATE(E6,\"0 + \",C6),CONCATENATE(C6,\" + \",E6,\"0\"))),\" = \")","v":"22 + 9 = "},{"$f":"CHOOSE(Worksheet!$B$6,B6+C6,E6*10+B6+C6,F6*10+B6+E6*10+C6,B6+C6+D6,CHOOSE(G6,B6+E6*10+C6+D6,E6*10+B6+C6+F6*10+D6,E6*10+B6+F6*10+C6+D6),E6*10+C6)","v":31},null,{"$f":"IF(ROW()<=Worksheet!$B$4/4,K5+1,\"\")","v":21},2,{"$f":"IF(Worksheet!L11=6,RANDBETWEEN(1,9),IF(AND(Worksheet!$B$14),IF(L6=0,RANDBETWEEN(IF(RAND()<0.3,0,1),9),CHOOSE(L6,RANDBETWEEN(IF(RAND()<0.3,0,1),9),RANDBETWEEN(8,9),RANDBETWEEN(7,9),RANDBETWEEN(6,9),RANDBETWEEN(5,9),RANDBETWEEN(4,9),RANDBETWEEN(3,9),RANDBETWEEN(2,9),RANDBETWEEN(1,9))),IF(L6=0,RANDBETWEEN(1,9),CHOOSE(L6,RANDBETWEEN(0,8),RANDBETWEEN(0,7),RANDBETWEEN(0,6),RANDBETWEEN(0,5),RANDBETWEEN(0,4),RANDBETWEEN(0,3),RANDBETWEEN(0,2),RANDBETWEEN(0,1),RANDBETWEEN(0,8)))))","v":9},2,{"$f":"RANDBETWEEN(1,Worksheet!$B$13/10-1)","v":4},{"$f":"RANDBETWEEN(1,Worksheet!$B$13/10-1)","v":4},{"$f":"RANDBETWEEN(1,IF(Worksheet!$B$6=6,2,3))","v":1},{"$f":"CONCATENATE(CHOOSE(Worksheet!$B$6,CONCATENATE(L6,\" + \",M6),CONCATENATE(O6,L6,\" + \",M6),CONCATENATE(P6,L6,\" + \",O6,M6),CONCATENATE(L6,\" + \",M6,\" + \",N6),CONCATENATE(CHOOSE(Q6,CONCATENATE(L6,\" + \",O6,M6,\" + \",N6),CONCATENATE(O6,L6,\" + \",M6,\" + \",P6,N6),CONCATENATE(O6,L6,\" + \",P6,M6,\" + \",N6))),CHOOSE(Q6,CONCATENATE(O6,\"0 + \",M6),CONCATENATE(M6,\" + \",O6,\"0\"))),\" = \")","v":"42 + 9 = "},{"$f":"CHOOSE(Worksheet!$B$6,L6+M6,O6*10+L6+M6,P6*10+L6+O6*10+M6,L6+M6+N6,CHOOSE(Q6,L6+O6*10+M6+N6,O6*10+L6+M6+P6*10+N6,O6*10+L6+P6*10+M6+N6),O6*10+M6)","v":51},null,{"$f":"IF(ROW()<=Worksheet!$B$4/4,U5+1,\"\")","v":36},9,{"$f":"IF(Worksheet!V11=6,RANDBETWEEN(1,9),IF(AND(Worksheet!$B$14),IF(V6=0,RANDBETWEEN(IF(RAND()<0.3,0,1),9),CHOOSE(V6,RANDBETWEEN(IF(RAND()<0.3,0,1),9),RANDBETWEEN(8,9),RANDBETWEEN(7,9),RANDBETWEEN(6,9),RANDBETWEEN(5,9),RANDBETWEEN(4,9),RANDBETWEEN(3,9),RANDBETWEEN(2,9),RANDBETWEEN(1,9))),IF(V6=0,RANDBETWEEN(1,9),CHOOSE(V6,RANDBETWEEN(0,8),RANDBETWEEN(0,7),RANDBETWEEN(0,6),RANDBETWEEN(0,5),RANDBETWEEN(0,4),RANDBETWEEN(0,3),RANDBETWEEN(0,2),RANDBETWEEN(0,1),RANDBETWEEN(0,8)))))","v":6},2,{"$f":"RANDBETWEEN(1,Worksheet!$B$13/10-1)","v":1},{"$f":"RANDBETWEEN(1,Worksheet!$B$13/10-1)","v":2},{"$f":"RANDBETWEEN(1,IF(Worksheet!$B$6=6,2,3))","v":3},{"$f":"CONCATENATE(CHOOSE(Worksheet!$B$6,CONCATENATE(V6,\" + \",W6),CONCATENATE(Y6,V6,\" + \",W6),CONCATENATE(Z6,V6,\" + \",Y6,W6),CONCATENATE(V6,\" + \",W6,\" + \",X6),CONCATENATE(CHOOSE(AA6,CONCATENATE(V6,\" + \",Y6,W6,\" + \",X6),CONCATENATE(Y6,V6,\" + \",W6,\" + \",Z6,X6),CONCATENATE(Y6,V6,\" + \",Z6,W6,\" + \",X6))),CHOOSE(AA6,CONCATENATE(Y6,\"0 + \",W6),CONCATENATE(W6,\" + \",Y6,\"0\"))),\" = \")","v":"19 + 6 = "},{"$f":"CHOOSE(Worksheet!$B$6,V6+W6,Y6*10+V6+W6,Z6*10+V6+Y6*10+W6,V6+W6+X6,CHOOSE(AA6,V6+Y6*10+W6+X6,Y6*10+V6+W6+Z6*10+X6,Y6*10+V6+Z6*10+W6+X6),Y6*10+W6)","v":25},null,{"$f":"IF(ROW()<=Worksheet!$B$4/4,AE5+1,\"\")","v":51},3,{"$f":"IF(Worksheet!AF11=6,RANDBETWEEN(1,9),IF(AND(Worksheet!$B$14),IF(AF6=0,RANDBETWEEN(IF(RAND()<0.3,0,1),9),CHOOSE(AF6,RANDBETWEEN(IF(RAND()<0.3,0,1),9),RANDBETWEEN(8,9),RANDBETWEEN(7,9),RANDBETWEEN(6,9),RANDBETWEEN(5,9),RANDBETWEEN(4,9),RANDBETWEEN(3,9),RANDBETWEEN(2,9),RANDBETWEEN(1,9))),IF(AF6=0,RANDBETWEEN(1,9),CHOOSE(AF6,RANDBETWEEN(0,8),RANDBETWEEN(0,7),RANDBETWEEN(0,6),RANDBETWEEN(0,5),RANDBETWEEN(0,4),RANDBETWEEN(0,3),RANDBETWEEN(0,2),RANDBETWEEN(0,1),RANDBETWEEN(0,8)))))","v":8},3,{"$f":"RANDBETWEEN(1,Worksheet!$B$13/10-1)","v":3},{"$f":"RANDBETWEEN(1,Worksheet!$B$13/10-1)","v":2},{"$f":"RANDBETWEEN(1,IF(Worksheet!$B$6=6,2,3))","v":1},{"$f":"CONCATENATE(CHOOSE(Worksheet!$B$6,CONCATENATE(AF6,\" + \",AG6),CONCATENATE(AI6,AF6,\" + \",AG6),CONCATENATE(AJ6,AF6,\" + \",AI6,AG6),CONCATENATE(AF6,\" + \",AG6,\" + \",AH6),CONCATENATE(CHOOSE(AK6,CONCATENATE(AF6,\" + \",AI6,AG6,\" + \",AH6),CONCATENATE(AI6,AF6,\" + \",AG6,\" + \",AJ6,AH6),CONCATENATE(AI6,AF6,\" + \",AJ6,AG6,\" + \",AH6))),CHOOSE(AK6,CONCATENATE(AI6,\"0 + \",AG6),CONCATENATE(AG6,\" + \",AI6,\"0\"))),\" = \")","v":"33 + 8 = "},{"$f":"CHOOSE(Worksheet!$B$6,AF6+AG6,AI6*10+AF6+AG6,AJ6*10+AF6+AI6*10+AG6,AF6+AG6+AH6,CHOOSE(AK6,AF6+AI6*10+AG6+AH6,AI6*10+AF6+AG6+AJ6*10+AH6,AI6*10+AF6+AJ6*10+AG6+AH6),AI6*10+AG6)","v":41}]
[{"$f":"IF(ROW()<=Worksheet!$B$4/4,ROW(),\"\")","v":7},8,{"$f":"IF(Worksheet!B12=6,RANDBETWEEN(1,9),IF(AND(Worksheet!$B$14),IF(B7=0,RANDBETWEEN(IF(RAND()<0.3,0,1),9),CHOOSE(B7,RANDBETWEEN(IF(RAND()<0.3,0,1),9),RANDBETWEEN(8,9),RANDBETWEEN(7,9),RANDBETWEEN(6,9),RANDBETWEEN(5,9),RANDBETWEEN(4,9),RANDBETWEEN(3,9),RANDBETWEEN(2,9),RANDBETWEEN(1,9))),IF(B7=0,RANDBETWEEN(1,9),CHOOSE(B7,RANDBETWEEN(0,8),RANDBETWEEN(0,7),RANDBETWEEN(0,6),RANDBETWEEN(0,5),RANDBETWEEN(0,4),RANDBETWEEN(0,3),RANDBETWEEN(0,2),RANDBETWEEN(0,1),RANDBETWEEN(0,8)))))","v":8},6,{"$f":"RANDBETWEEN(1,Worksheet!$B$13/10-1)","v":4},{"$f":"RANDBETWEEN(1,Worksheet!$B$13/10-1)","v":3},{"$f":"RANDBETWEEN(1,IF(Worksheet!$B$6=6,2,3))","v":3},{"$f":"CONCATENATE(CHOOSE(Worksheet!$B$6,CONCATENATE(B7,\" + \",C7),CONCATENATE(E7,B7,\" + \",C7),CONCATENATE(F7,B7,\" + \",E7,C7),CONCATENATE(B7,\" + \",C7,\" + \",D7),CONCATENATE(CHOOSE(G7,CONCATENATE(B7,\" + \",E7,C7,\" + \",D7),CONCATENATE(E7,B7,\" + \",C7,\" + \",F7,D7),CONCATENATE(E7,B7,\" + \",F7,C7,\" + \",D7))),CHOOSE(G7,CONCATENATE(E7,\"0 + \",C7),CONCATENATE(C7,\" + \",E7,\"0\"))),\" = \")","v":"48 + 8 = "},{"$f":"CHOOSE(Worksheet!$B$6,B7+C7,E7*10+B7+C7,F7*10+B7+E7*10+C7,B7+C7+D7,CHOOSE(G7,B7+E7*10+C7+D7,E7*10+B7+C7+F7*10+D7,E7*10+B7+F7*10+C7+D7),E7*10+C7)","v":56},null,{"$f":"IF(ROW()<=Worksheet!$B$4/4,K6+1,\"\")","v":22},6,{"$f":"IF(Worksheet!L12=6,RANDBETWEEN(1,9),IF(AND(Worksheet!$B$14),IF(L7=0,RANDBETWEEN(IF(RAND()<0.3,0,1),9),CHOOSE(L7,RANDBETWEEN(IF(RAND()<0.3,0,1),9),RANDBETWEEN(8,9),RANDBETWEEN(7,9),RANDBETWEEN(6,9),RANDBETWEEN(5,9),RANDBETWEEN(4,9),RANDBETWEEN(3,9),RANDBETWEEN(2,9),RANDBETWEEN(1,9))),IF(L7=0,RANDBETWEEN(1,9),CHOOSE(L7,RANDBETWEEN(0,8),RANDBETWEEN(0,7),RANDBETWEEN(0,6),RANDBETWEEN(0,5),RANDBETWEEN(0,4),RANDBETWEEN(0,3),RANDBETWEEN(0,2),RANDBETWEEN(0,1),RANDBETWEEN(0,8)))))","v":9},1,{"$f":"RANDBETWEEN(1,Worksheet!$B$13/10-1)","v":5},{"$f":"RANDBETWEEN(1,Worksheet!$B$13/10-1)","v":4},{"$f":"RANDBETWEEN(1,IF(Worksheet!$B$6=6,2,3))","v":1},{"$f":"CONCATENATE(CHOOSE(Worksheet!$B$6,CONCATENATE(L7,\" + \",M7),CONCATENATE(O7,L7,\" + \",M7),CONCATENATE(P7,L7,\" + \",O7,M7),CONCATENATE(L7,\" + \",M7,\" + \",N7),CONCATENATE(CHOOSE(Q7,CONCATENATE(L7,\" + \",O7,M7,\" + \",N7),CONCATENATE(O7,L7,\" + \",M7,\" + \",P7,N7),CONCATENATE(O7,L7,\" + \",P7,M7,\" + \",N7))),CHOOSE(Q7,CONCATENATE(O7,\"0 + \",M7),CONCATENATE(M7,\" + \",O7,\"0\"))),\" = \")","v":"56 + 9 = "},{"$f":"CHOOSE(Worksheet!$B$6,L7+M7,O7*10+L7+M7,P7*10+L7+O7*10+M7,L7+M7+N7,CHOOSE(Q7,L7+O7*10+M7+N7,O7*10+L7+M7+P7*10+N7,O7*10+L7+P7*10+M7+N7),O7*10+M7)","v":65},null,{"$f":"IF(ROW()<=Worksheet!$B$4/4,U6+1,\"\")","v":37},6,{"$f":"IF(Worksheet!V12=6,RANDBETWEEN(1,9),IF(AND(Worksheet!$B$14),IF(V7=0,RANDBETWEEN(IF(RAND()<0.3,0,1),9),CHOOSE(V7,RANDBETWEEN(IF(RAND()<0.3,0,1),9),RANDBETWEEN(8,9),RANDBETWEEN(7,9),RANDBETWEEN(6,9),RANDBETWEEN(5,9),RANDBETWEEN(4,9),RANDBETWEEN(3,9),RANDBETWEEN(2,9),RANDBETWEEN(1,9))),IF(V7=0,RANDBETWEEN(1,9),CHOOSE(V7,RANDBETWEEN(0,8),RANDBETWEEN(0,7),RANDBETWEEN(0,6),RANDBETWEEN(0,5),RANDBETWEEN(0,4),RANDBETWEEN(0,3),RANDBETWEEN(0,2),RANDBETWEEN(0,1),RANDBETWEEN(0,8)))))","v":4},6,{"$f":"RANDBETWEEN(1,Worksheet!$B$13/10-1)","v":2},{"$f":"RANDBETWEEN(1,Worksheet!$B$13/10-1)","v":3},{"$f":"RANDBETWEEN(1,IF(Worksheet!$B$6=6,2,3))","v":1},{"$f":"CONCATENATE(CHOOSE(Worksheet!$B$6,CONCATENATE(V7,\" + \",W7),CONCATENATE(Y7,V7,\" + \",W7),CONCATENATE(Z7,V7,\" + \",Y7,W7),CONCATENATE(V7,\" + \",W7,\" + \",X7),CONCATENATE(CHOOSE(AA7,CONCATENATE(V7,\" + \",Y7,W7,\" + \",X7),CONCATENATE(Y7,V7,\" + \",W7,\" + \",Z7,X7),CONCATENATE(Y7,V7,\" + \",Z7,W7,\" + \",X7))),CHOOSE(AA7,CONCATENATE(Y7,\"0 + \",W7),CONCATENATE(W7,\" + \",Y7,\"0\"))),\" = \")","v":"26 + 4 = "},{"$f":"CHOOSE(Worksheet!$B$6,V7+W7,Y7*10+V7+W7,Z7*10+V7+Y7*10+W7,V7+W7+X7,CHOOSE(AA7,V7+Y7*10+W7+X7,Y7*10+V7+W7+Z7*10+X7,Y7*10+V7+Z7*10+W7+X7),Y7*10+W7)","v":30},null,{"$f":"IF(ROW()<=Worksheet!$B$4/4,AE6+1,\"\")","v":52},6,{"$f":"IF(Worksheet!AF12=6,RANDBETWEEN(1,9),IF(AND(Worksheet!$B$14),IF(AF7=0,RANDBETWEEN(IF(RAND()<0.3,0,1),9),CHOOSE(AF7,RANDBETWEEN(IF(RAND()<0.3,0,1),9),RANDBETWEEN(8,9),RANDBETWEEN(7,9),RANDBETWEEN(6,9),RANDBETWEEN(5,9),RANDBETWEEN(4,9),RANDBETWEEN(3,9),RANDBETWEEN(2,9),RANDBETWEEN(1,9))),IF(AF7=0,RANDBETWEEN(1,9),CHOOSE(AF7,RANDBETWEEN(0,8),RANDBETWEEN(0,7),RANDBETWEEN(0,6),RANDBETWEEN(0,5),RANDBETWEEN(0,4),RANDBETWEEN(0,3),RANDBETWEEN(0,2),RANDBETWEEN(0,1),RANDBETWEEN(0,8)))))","v":4},6,{"$f":"RANDBETWEEN(1,Worksheet!$B$13/10-1)","v":4},{"$f":"RANDBETWEEN(1,Worksheet!$B$13/10-1)","v":3},{"$f":"RANDBETWEEN(1,IF(Worksheet!$B$6=6,2,3))","v":2},{"$f":"CONCATENATE(CHOOSE(Worksheet!$B$6,CONCATENATE(AF7,\" + \",AG7),CONCATENATE(AI7,AF7,\" + \",AG7),CONCATENATE(AJ7,AF7,\" + \",AI7,AG7),CONCATENATE(AF7,\" + \",AG7,\" + \",AH7),CONCATENATE(CHOOSE(AK7,CONCATENATE(AF7,\" + \",AI7,AG7,\" + \",AH7),CONCATENATE(AI7,AF7,\" + \",AG7,\" + \",AJ7,AH7),CONCATENATE(AI7,AF7,\" + \",AJ7,AG7,\" + \",AH7))),CHOOSE(AK7,CONCATENATE(AI7,\"0 + \",AG7),CONCATENATE(AG7,\" + \",AI7,\"0\"))),\" = \")","v":"46 + 4 = "},{"$f":"CHOOSE(Worksheet!$B$6,AF7+AG7,AI7*10+AF7+AG7,AJ7*10+AF7+AI7*10+AG7,AF7+AG7+AH7,CHOOSE(AK7,AF7+AI7*10+AG7+AH7,AI7*10+AF7+AG7+AJ7*10+AH7,AI7*10+AF7+AJ7*10+AG7+AH7),AI7*10+AG7)","v":50}]
[{"$f":"IF(ROW()<=Worksheet!$B$4/4,ROW(),\"\")","v":8},8,{"$f":"IF(Worksheet!B13=6,RANDBETWEEN(1,9),IF(AND(Worksheet!$B$14),IF(B8=0,RANDBETWEEN(IF(RAND()<0.3,0,1),9),CHOOSE(B8,RANDBETWEEN(IF(RAND()<0.3,0,1),9),RANDBETWEEN(8,9),RANDBETWEEN(7,9),RANDBETWEEN(6,9),RANDBETWEEN(5,9),RANDBETWEEN(4,9),RANDBETWEEN(3,9),RANDBETWEEN(2,9),RANDBETWEEN(1,9))),IF(B8=0,RANDBETWEEN(1,9),CHOOSE(B8,RANDBETWEEN(0,8),RANDBETWEEN(0,7),RANDBETWEEN(0,6),RANDBETWEEN(0,5),RANDBETWEEN(0,4),RANDBETWEEN(0,3),RANDBETWEEN(0,2),RANDBETWEEN(0,1),RANDBETWEEN(0,8)))))","v":8},8,{"$f":"RANDBETWEEN(1,Worksheet!$B$13/10-1)","v":2},{"$f":"RANDBETWEEN(1,Worksheet!$B$13/10-1)","v":2},{"$f":"RANDBETWEEN(1,IF(Worksheet!$B$6=6,2,3))","v":3},{"$f":"CONCATENATE(CHOOSE(Worksheet!$B$6,CONCATENATE(B8,\" + \",C8),CONCATENATE(E8,B8,\" + \",C8),CONCATENATE(F8,B8,\" + \",E8,C8),CONCATENATE(B8,\" + \",C8,\" + \",D8),CONCATENATE(CHOOSE(G8,CONCATENATE(B8,\" + \",E8,C8,\" + \",D8),CONCATENATE(E8,B8,\" + \",C8,\" + \",F8,D8),CONCATENATE(E8,B8,\" + \",F8,C8,\" + \",D8))),CHOOSE(G8,CONCATENATE(E8,\"0 + \",C8),CONCATENATE(C8,\" + \",E8,\"0\"))),\" = \")","v":"28 + 8 = "},{"$f":"CHOOSE(Worksheet!$B$6,B8+C8,E8*10+B8+C8,F8*10+B8+E8*10+C8,B8+C8+D8,CHOOSE(G8,B8+E8*10+C8+D8,E8*10+B8+C8+F8*10+D8,E8*10+B8+F8*10+C8+D8),E8*10+C8)","v":36},null,{"$f":"IF(ROW()<=Worksheet!$B$4/4,K7+1,\"\")","v":23},3,{"$f":"IF(Worksheet!L13=6,RANDBETWEEN(1,9),IF(AND(Worksheet!$B$14),IF(L8=0,RANDBETWEEN(IF(RAND()<0.3,0,1),9),CHOOSE(L8,RANDBETWEEN(IF(RAND()<0.3,0,1),9),RANDBETWEEN(8,9),RANDBETWEEN(7,9),RANDBETWEEN(6,9),RANDBETWEEN(5,9),RANDBETWEEN(4,9),RANDBETWEEN(3,9),RANDBETWEEN(2,9),RANDBETWEEN(1,9))),IF(L8=0,RANDBETWEEN(1,9),CHOOSE(L8,RANDBETWEEN(0,8),RANDBETWEEN(0,7),RANDBETWEEN(0,6),RANDBETWEEN(0,5),RANDBETWEEN(0,4),RANDBETWEEN(0,3),RANDBETWEEN(0,2),RANDBETWEEN(0,1),RANDBETWEEN(0,8)))))","v":9},4,{"$f":"RANDBETWEEN(1,Worksheet!$B$13/10-1)","v":1},{"$f":"RANDBETWEEN(1,Worksheet!$B$13/10-1)","v":3},{"$f":"RANDBETWEEN(1,IF(Worksheet!$B$6=6,2,3))","v":3},{"$f":"CONCATENATE(CHOOSE(Worksheet!$B$6,CONCATENATE(L8,\" + \",M8),CONCATENATE(O8,L8,\" + \",M8),CONCATENATE(P8,L8,\" + \",O8,M8),CONCATENATE(L8,\" + \",M8,\" + \",N8),CONCATENATE(CHOOSE(Q8,CONCATENATE(L8,\" + \",O8,M8,\" + \",N8),CONCATENATE(O8,L8,\" + \",M8,\" + \",P8,N8),CONCATENATE(O8,L8,\" + \",P8,M8,\" + \",N8))),CHOOSE(Q8,CONCATENATE(O8,\"0 + \",M8),CONCATENATE(M8,\" + \",O8,\"0\"))),\" = \")","v":"13 + 9 = "},{"$f":"CHOOSE(Worksheet!$B$6,L8+M8,O8*10+L8+M8,P8*10+L8+O8*10+M8,L8+M8+N8,CHOOSE(Q8,L8+O8*10+M8+N8,O8*10+L8+M8+P8*10+N8,O8*10+L8+P8*10+M8+N8),O8*10+M8)","v":22},null,{"$f":"IF(ROW()<=Worksheet!$B$4/4,U7+1,\"\")","v":38},2,{"$f":"IF(Worksheet!V13=6,RANDBETWEEN(1,9),IF(AND(Worksheet!$B$14),IF(V8=0,RANDBETWEEN(IF(RAND()<0.3,0,1),9),CHOOSE(V8,RANDBETWEEN(IF(RAND()<0.3,0,1),9),RANDBETWEEN(8,9),RANDBETWEEN(7,9),RANDBETWEEN(6,9),RANDBETWEEN(5,9),RANDBETWEEN(4,9),RANDBETWEEN(3,9),RANDBETWEEN(2,9),RANDBETWEEN(1,9))),IF(V8=0,RANDBETWEEN(1,9),CHOOSE(V8,RANDBETWEEN(0,8),RANDBETWEEN(0,7),RANDBETWEEN(0,6),RANDBETWEEN(0,5),RANDBETWEEN(0,4),RANDBETWEEN(0,3),RANDBETWEEN(0,2),RANDBETWEEN(0,1),RANDBETWEEN(0,8)))))","v":9},8,{"$f":"RANDBETWEEN(1,Worksheet!$B$13/10-1)","v":3},{"$f":"RANDBETWEEN(1,Worksheet!$B$13/10-1)","v":5},{"$f":"RANDBETWEEN(1,IF(Worksheet!$B$6=6,2,3))","v":2},{"$f":"CONCATENATE(CHOOSE(Worksheet!$B$6,CONCATENATE(V8,\" + \",W8),CONCATENATE(Y8,V8,\" + \",W8),CONCATENATE(Z8,V8,\" + \",Y8,W8),CONCATENATE(V8,\" + \",W8,\" + \",X8),CONCATENATE(CHOOSE(AA8,CONCATENATE(V8,\" + \",Y8,W8,\" + \",X8),CONCATENATE(Y8,V8,\" + \",W8,\" + \",Z8,X8),CONCATENATE(Y8,V8,\" + \",Z8,W8,\" + \",X8))),CHOOSE(AA8,CONCATENATE(Y8,\"0 + \",W8),CONCATENATE(W8,\" + \",Y8,\"0\"))),\" = \")","v":"32 + 9 = "},{"$f":"CHOOSE(Worksheet!$B$6,V8+W8,Y8*10+V8+W8,Z8*10+V8+Y8*10+W8,V8+W8+X8,CHOOSE(AA8,V8+Y8*10+W8+X8,Y8*10+V8+W8+Z8*10+X8,Y8*10+V8+Z8*10+W8+X8),Y8*10+W8)","v":41},null,{"$f":"IF(ROW()<=Worksheet!$B$4/4,AE7+1,\"\")","v":53},6,{"$f":"IF(Worksheet!AF13=6,RANDBETWEEN(1,9),IF(AND(Worksheet!$B$14),IF(AF8=0,RANDBETWEEN(IF(RAND()<0.3,0,1),9),CHOOSE(AF8,RANDBETWEEN(IF(RAND()<0.3,0,1),9),RANDBETWEEN(8,9),RANDBETWEEN(7,9),RANDBETWEEN(6,9),RANDBETWEEN(5,9),RANDBETWEEN(4,9),RANDBETWEEN(3,9),RANDBETWEEN(2,9),RANDBETWEEN(1,9))),IF(AF8=0,RANDBETWEEN(1,9),CHOOSE(AF8,RANDBETWEEN(0,8),RANDBETWEEN(0,7),RANDBETWEEN(0,6),RANDBETWEEN(0,5),RANDBETWEEN(0,4),RANDBETWEEN(0,3),RANDBETWEEN(0,2),RANDBETWEEN(0,1),RANDBETWEEN(0,8)))))","v":6},2,{"$f":"RANDBETWEEN(1,Worksheet!$B$13/10-1)","v":1},{"$f":"RANDBETWEEN(1,Worksheet!$B$13/10-1)","v":4},{"$f":"RANDBETWEEN(1,IF(Worksheet!$B$6=6,2,3))","v":3},{"$f":"CONCATENATE(CHOOSE(Worksheet!$B$6,CONCATENATE(AF8,\" + \",AG8),CONCATENATE(AI8,AF8,\" + \",AG8),CONCATENATE(AJ8,AF8,\" + \",AI8,AG8),CONCATENATE(AF8,\" + \",AG8,\" + \",AH8),CONCATENATE(CHOOSE(AK8,CONCATENATE(AF8,\" + \",AI8,AG8,\" + \",AH8),CONCATENATE(AI8,AF8,\" + \",AG8,\" + \",AJ8,AH8),CONCATENATE(AI8,AF8,\" + \",AJ8,AG8,\" + \",AH8))),CHOOSE(AK8,CONCATENATE(AI8,\"0 + \",AG8),CONCATENATE(AG8,\" + \",AI8,\"0\"))),\" = \")","v":"16 + 6 = "},{"$f":"CHOOSE(Worksheet!$B$6,AF8+AG8,AI8*10+AF8+AG8,AJ8*10+AF8+AI8*10+AG8,AF8+AG8+AH8,CHOOSE(AK8,AF8+AI8*10+AG8+AH8,AI8*10+AF8+AG8+AJ8*10+AH8,AI8*10+AF8+AJ8*10+AG8+AH8),AI8*10+AG8)","v":22}]
[{"$f":"IF(ROW()<=Worksheet!$B$4/4,ROW(),\"\")","v":9},0,{"$f":"IF(Worksheet!B14=6,RANDBETWEEN(1,9),IF(AND(Worksheet!$B$14),IF(B9=0,RANDBETWEEN(IF(RAND()<0.3,0,1),9),CHOOSE(B9,RANDBETWEEN(IF(RAND()<0.3,0,1),9),RANDBETWEEN(8,9),RANDBETWEEN(7,9),RANDBETWEEN(6,9),RANDBETWEEN(5,9),RANDBETWEEN(4,9),RANDBETWEEN(3,9),RANDBETWEEN(2,9),RANDBETWEEN(1,9))),IF(B9=0,RANDBETWEEN(1,9),CHOOSE(B9,RANDBETWEEN(0,8),RANDBETWEEN(0,7),RANDBETWEEN(0,6),RANDBETWEEN(0,5),RANDBETWEEN(0,4),RANDBETWEEN(0,3),RANDBETWEEN(0,2),RANDBETWEEN(0,1),RANDBETWEEN(0,8)))))","v":7},1,{"$f":"RANDBETWEEN(1,Worksheet!$B$13/10-1)","v":4},{"$f":"RANDBETWEEN(1,Worksheet!$B$13/10-1)","v":5},{"$f":"RANDBETWEEN(1,IF(Worksheet!$B$6=6,2,3))","v":2},{"$f":"CONCATENATE(CHOOSE(Worksheet!$B$6,CONCATENATE(B9,\" + \",C9),CONCATENATE(E9,B9,\" + \",C9),CONCATENATE(F9,B9,\" + \",E9,C9),CONCATENATE(B9,\" + \",C9,\" + \",D9),CONCATENATE(CHOOSE(G9,CONCATENATE(B9,\" + \",E9,C9,\" + \",D9),CONCATENATE(E9,B9,\" + \",C9,\" + \",F9,D9),CONCATENATE(E9,B9,\" + \",F9,C9,\" + \",D9))),CHOOSE(G9,CONCATENATE(E9,\"0 + \",C9),CONCATENATE(C9,\" + \",E9,\"0\"))),\" = \")","v":"40 + 7 = "},{"$f":"CHOOSE(Worksheet!$B$6,B9+C9,E9*10+B9+C9,F9*10+B9+E9*10+C9,B9+C9+D9,CHOOSE(G9,B9+E9*10+C9+D9,E9*10+B9+C9+F9*10+D9,E9*10+B9+F9*10+C9+D9),E9*10+C9)","v":47},null,{"$f":"IF(ROW()<=Worksheet!$B$4/4,K8+1,\"\")","v":24},4,{"$f":"IF(Worksheet!L14=6,RANDBETWEEN(1,9),IF(AND(Worksheet!$B$14),IF(L9=0,RANDBETWEEN(IF(RAND()<0.3,0,1),9),CHOOSE(L9,RANDBETWEEN(IF(RAND()<0.3,0,1),9),RANDBETWEEN(8,9),RANDBETWEEN(7,9),RANDBETWEEN(6,9),RANDBETWEEN(5,9),RANDBETWEEN(4,9),RANDBETWEEN(3,9),RANDBETWEEN(2,9),RANDBETWEEN(1,9))),IF(L9=0,RANDBETWEEN(1,9),CHOOSE(L9,RANDBETWEEN(0,8),RANDBETWEEN(0,7),RANDBETWEEN(0,6),RANDBETWEEN(0,5),RANDBETWEEN(0,4),RANDBETWEEN(0,3),RANDBETWEEN(0,2),RANDBETWEEN(0,1),RANDBETWEEN(0,8)))))","v":8},2,{"$f":"RANDBETWEEN(1,Worksheet!$B$13/10-1)","v":2},{"$f":"RANDBETWEEN(1,Worksheet!$B$13/10-1)","v":1},{"$f":"RANDBETWEEN(1,IF(Worksheet!$B$6=6,2,3))","v":2},{"$f":"CONCATENATE(CHOOSE(Worksheet!$B$6,CONCATENATE(L9,\" + \",M9),CONCATENATE(O9,L9,\" + \",M9),CONCATENATE(P9,L9,\" + \",O9,M9),CONCATENATE(L9,\" + \",M9,\" + \",N9),CONCATENATE(CHOOSE(Q9,CONCATENATE(L9,\" + \",O9,M9,\" + \",N9),CONCATENATE(O9,L9,\" + \",M9,\" + \",P9,N9),CONCATENATE(O9,L9,\" + \",P9,M9,\" + \",N9))),CHOOSE(Q9,CONCATENATE(O9,\"0 + \",M9),CONCATENATE(M9,\" + \",O9,\"0\"))),\" = \")","v":"24 + 8 = "},{"$f":"CHOOSE(Worksheet!$B$6,L9+M9,O9*10+L9+M9,P9*10+L9+O9*10+M9,L9+M9+N9,CHOOSE(Q9,L9+O9*10+M9+N9,O9*10+L9+M9+P9*10+N9,O9*10+L9+P9*10+M9+N9),O9*10+M9)","v":32},null,{"$f":"IF(ROW()<=Worksheet!$B$4/4,U8+1,\"\")","v":39},2,{"$f":"IF(Worksheet!V14=6,RANDBETWEEN(1,9),IF(AND(Worksheet!$B$14),IF(V9=0,RANDBETWEEN(IF(RAND()<0.3,0,1),9),CHOOSE(V9,RANDBETWEEN(IF(RAND()<0.3,0,1),9),RANDBETWEEN(8,9),RANDBETWEEN(7,9),RANDBETWEEN(6,9),RANDBETWEEN(5,9),RANDBETWEEN(4,9),RANDBETWEEN(3,9),RANDBETWEEN(2,9),RANDBETWEEN(1,9))),IF(V9=0,RANDBETWEEN(1,9),CHOOSE(V9,RANDBETWEEN(0,8),RANDBETWEEN(0,7),RANDBETWEEN(0,6),RANDBETWEEN(0,5),RANDBETWEEN(0,4),RANDBETWEEN(0,3),RANDBETWEEN(0,2),RANDBETWEEN(0,1),RANDBETWEEN(0,8)))))","v":8},1,{"$f":"RANDBETWEEN(1,Worksheet!$B$13/10-1)","v":2},{"$f":"RANDBETWEEN(1,Worksheet!$B$13/10-1)","v":1},{"$f":"RANDBETWEEN(1,IF(Worksheet!$B$6=6,2,3))","v":2},{"$f":"CONCATENATE(CHOOSE(Worksheet!$B$6,CONCATENATE(V9,\" + \",W9),CONCATENATE(Y9,V9,\" + \",W9),CONCATENATE(Z9,V9,\" + \",Y9,W9),CONCATENATE(V9,\" + \",W9,\" + \",X9),CONCATENATE(CHOOSE(AA9,CONCATENATE(V9,\" + \",Y9,W9,\" + \",X9),CONCATENATE(Y9,V9,\" + \",W9,\" + \",Z9,X9),CONCATENATE(Y9,V9,\" + \",Z9,W9,\" + \",X9))),CHOOSE(AA9,CONCATENATE(Y9,\"0 + \",W9),CONCATENATE(W9,\" + \",Y9,\"0\"))),\" = \")","v":"22 + 8 = "},{"$f":"CHOOSE(Worksheet!$B$6,V9+W9,Y9*10+V9+W9,Z9*10+V9+Y9*10+W9,V9+W9+X9,CHOOSE(AA9,V9+Y9*10+W9+X9,Y9*10+V9+W9+Z9*10+X9,Y9*10+V9+Z9*10+W9+X9),Y9*10+W9)","v":30},null,{"$f":"IF(ROW()<=Worksheet!$B$4/4,AE8+1,\"\")","v":54},4,{"$f":"IF(Worksheet!AF14=6,RANDBETWEEN(1,9),IF(AND(Worksheet!$B$14),IF(AF9=0,RANDBETWEEN(IF(RAND()<0.3,0,1),9),CHOOSE(AF9,RANDBETWEEN(IF(RAND()<0.3,0,1),9),RANDBETWEEN(8,9),RANDBETWEEN(7,9),RANDBETWEEN(6,9),RANDBETWEEN(5,9),RANDBETWEEN(4,9),RANDBETWEEN(3,9),RANDBETWEEN(2,9),RANDBETWEEN(1,9))),IF(AF9=0,RANDBETWEEN(1,9),CHOOSE(AF9,RANDBETWEEN(0,8),RANDBETWEEN(0,7),RANDBETWEEN(0,6),RANDBETWEEN(0,5),RANDBETWEEN(0,4),RANDBETWEEN(0,3),RANDBETWEEN(0,2),RANDBETWEEN(0,1),RANDBETWEEN(0,8)))))","v":6},5,{"$f":"RANDBETWEEN(1,Worksheet!$B$13/10-1)","v":3},{"$f":"RANDBETWEEN(1,Worksheet!$B$13/10-1)","v":3},{"$f":"RANDBETWEEN(1,IF(Worksheet!$B$6=6,2,3))","v":3},{"$f":"CONCATENATE(CHOOSE(Worksheet!$B$6,CONCATENATE(AF9,\" + \",AG9),CONCATENATE(AI9,AF9,\" + \",AG9),CONCATENATE(AJ9,AF9,\" + \",AI9,AG9),CONCATENATE(AF9,\" + \",AG9,\" + \",AH9),CONCATENATE(CHOOSE(AK9,CONCATENATE(AF9,\" + \",AI9,AG9,\" + \",AH9),CONCATENATE(AI9,AF9,\" + \",AG9,\" + \",AJ9,AH9),CONCATENATE(AI9,AF9,\" + \",AJ9,AG9,\" + \",AH9))),CHOOSE(AK9,CONCATENATE(AI9,\"0 + \",AG9),CONCATENATE(AG9,\" + \",AI9,\"0\"))),\" = \")","v":"34 + 6 = "},{"$f":"CHOOSE(Worksheet!$B$6,AF9+AG9,AI9*10+AF9+AG9,AJ9*10+AF9+AI9*10+AG9,AF9+AG9+AH9,CHOOSE(AK9,AF9+AI9*10+AG9+AH9,AI9*10+AF9+AG9+AJ9*10+AH9,AI9*10+AF9+AJ9*10+AG9+AH9),AI9*10+AG9)","v":40}]
[{"$f":"IF(ROW()<=Worksheet!$B$4/4,ROW(),\"\")","v":10},6,{"$f":"IF(Worksheet!B15=6,RANDBETWEEN(1,9),IF(AND(Worksheet!$B$14),IF(B10=0,RANDBETWEEN(IF(RAND()<0.3,0,1),9),CHOOSE(B10,RANDBETWEEN(IF(RAND()<0.3,0,1),9),RANDBETWEEN(8,9),RANDBETWEEN(7,9),RANDBETWEEN(6,9),RANDBETWEEN(5,9),RANDBETWEEN(4,9),RANDBETWEEN(3,9),RANDBETWEEN(2,9),RANDBETWEEN(1,9))),IF(B10=0,RANDBETWEEN(1,9),CHOOSE(B10,RANDBETWEEN(0,8),RANDBETWEEN(0,7),RANDBETWEEN(0,6),RANDBETWEEN(0,5),RANDBETWEEN(0,4),RANDBETWEEN(0,3),RANDBETWEEN(0,2),RANDBETWEEN(0,1),RANDBETWEEN(0,8)))))","v":7},2,{"$f":"RANDBETWEEN(1,Worksheet!$B$13/10-1)","v":5},{"$f":"RANDBETWEEN(1,Worksheet!$B$13/10-1)","v":3},{"$f":"RANDBETWEEN(1,IF(Worksheet!$B$6=6,2,3))","v":3},{"$f":"CONCATENATE(CHOOSE(Worksheet!$B$6,CONCATENATE(B10,\" + \",C10),CONCATENATE(E10,B10,\" + \",C10),CONCATENATE(F10,B10,\" + \",E10,C10),CONCATENATE(B10,\" + \",C10,\" + \",D10),CONCATENATE(CHOOSE(G10,CONCATENATE(B10,\" + \",E10,C10,\" + \",D10),CONCATENATE(E10,B10,\" + \",C10,\" + \",F10,D10),CONCATENATE(E10,B10,\" + \",F10,C10,\" + \",D10))),CHOOSE(G10,CONCATENATE(E10,\"0 + \",C10),CONCATENATE(C10,\" + \",E10,\"0\"))),\" = \")","v":"56 + 7 = "},{"$f":"CHOOSE(Worksheet!$B$6,B10+C10,E10*10+B10+C10,F10*10+B10+E10*10+C10,B10+C10+D10,CHOOSE(G10,B10+E10*10+C10+D10,E10*10+B10+C10+F10*10+D10,E10*10+B10+F10*10+C10+D10),E10*10+C10)","v":63},null,{"$f":"IF(ROW()<=Worksheet!$B$4/4,K9+1,\"\")","v":25},4,{"$f":"IF(Worksheet!L15=6,RANDBETWEEN(1,9),IF(AND(Worksheet!$B$14),IF(L10=0,RANDBETWEEN(IF(RAND()<0.3,0,1),9),CHOOSE(L10,RANDBETWEEN(IF(RAND()<0.3,0,1),9),RANDBETWEEN(8,9),RANDBETWEEN(7,9),RANDBETWEEN(6,9),RANDBETWEEN(5,9),RANDBETWEEN(4,9),RANDBETWEEN(3,9),RANDBETWEEN(2,9),RANDBETWEEN(1,9))),IF(L10=0,RANDBETWEEN(1,9),CHOOSE(L10,RANDBETWEEN(0,8),RANDBETWEEN(0,7),RANDBETWEEN(0,6),RANDBETWEEN(0,5),RANDBETWEEN(0,4),RANDBETWEEN(0,3),RANDBETWEEN(0,2),RANDBETWEEN(0,1),RANDBETWEEN(0,8)))))","v":9},3,{"$f":"RANDBETWEEN(1,Worksheet!$B$13/10-1)","v":2},{"$f":"RANDBETWEEN(1,Worksheet!$B$13/10-1)","v":1},{"$f":"RANDBETWEEN(1,IF(Worksheet!$B$6=6,2,3))","v":2},{"$f":"CONCATENATE(CHOOSE(Worksheet!$B$6,CONCATENATE(L10,\" + \",M10),CONCATENATE(O10,L10,\" + \",M10),CONCATENATE(P10,L10,\" + \",O10,M10),CONCATENATE(L10,\" + \",M10,\" + \",N10),CONCATENATE(CHOOSE(Q10,CONCATENATE(L10,\" + \",O10,M10,\" + \",N10),CONCATENATE(O10,L10,\" + \",M10,\" + \",P10,N10),CONCATENATE(O10,L10,\" + \",P10,M10,\" + \",N10))),CHOOSE(Q10,CONCATENATE(O10,\"0 + \",M10),CONCATENATE(M10,\" + \",O10,\"0\"))),\" = \")","v":"24 + 9 = "},{"$f":"CHOOSE(Worksheet!$B$6,L10+M10,O10*10+L10+M10,P10*10+L10+O10*10+M10,L10+M10+N10,CHOOSE(Q10,L10+O10*10+M10+N10,O10*10+L10+M10+P10*10+N10,O10*10+L10+P10*10+M10+N10),O10*10+M10)","v":33},null,{"$f":"IF(ROW()<=Worksheet!$B$4/4,U9+1,\"\")","v":40},9,{"$f":"IF(Worksheet!V15=6,RANDBETWEEN(1,9),IF(AND(Worksheet!$B$14),IF(V10=0,RANDBETWEEN(IF(RAND()<0.3,0,1),9),CHOOSE(V10,RANDBETWEEN(IF(RAND()<0.3,0,1),9),RANDBETWEEN(8,9),RANDBETWEEN(7,9),RANDBETWEEN(6,9),RANDBETWEEN(5,9),RANDBETWEEN(4,9),RANDBETWEEN(3,9),RANDBETWEEN(2,9),RANDBETWEEN(1,9))),IF(V10=0,RANDBETWEEN(1,9),CHOOSE(V10,RANDBETWEEN(0,8),RANDBETWEEN(0,7),RANDBETWEEN(0,6),RANDBETWEEN(0,5),RANDBETWEEN(0,4),RANDBETWEEN(0,3),RANDBETWEEN(0,2),RANDBETWEEN(0,1),RANDBETWEEN(0,8)))))","v":4},8,{"$f":"RANDBETWEEN(1,Worksheet!$B$13/10-1)","v":3},{"$f":"RANDBETWEEN(1,Worksheet!$B$13/10-1)","v":3},{"$f":"RANDBETWEEN(1,IF(Worksheet!$B$6=6,2,3))","v":2},{"$f":"CONCATENATE(CHOOSE(Worksheet!$B$6,CONCATENATE(V10,\" + \",W10),CONCATENATE(Y10,V10,\" + \",W10),CONCATENATE(Z10,V10,\" + \",Y10,W10),CONCATENATE(V10,\" + \",W10,\" + \",X10),CONCATENATE(CHOOSE(AA10,CONCATENATE(V10,\" + \",Y10,W10,\" + \",X10),CONCATENATE(Y10,V10,\" + \",W10,\" + \",Z10,X10),CONCATENATE(Y10,V10,\" + \",Z10,W10,\" + \",X10))),CHOOSE(AA10,CONCATENATE(Y10,\"0 + \",W10),CONCATENATE(W10,\" + \",Y10,\"0\"))),\" = \")","v":"39 + 4 = "},{"$f":"CHOOSE(Worksheet!$B$6,V10+W10,Y10*10+V10+W10,Z10*10+V10+Y10*10+W10,V10+W10+X10,CHOOSE(AA10,V10+Y10*10+W10+X10,Y10*10+V10+W10+Z10*10+X10,Y10*10+V10+Z10*10+W10+X10),Y10*10+W10)","v":43},null,{"$f":"IF(ROW()<=Worksheet!$B$4/4,AE9+1,\"\")","v":55},8,{"$f":"IF(Worksheet!AF15=6,RANDBETWEEN(1,9),IF(AND(Worksheet!$B$14),IF(AF10=0,RANDBETWEEN(IF(RAND()<0.3,0,1),9),CHOOSE(AF10,RANDBETWEEN(IF(RAND()<0.3,0,1),9),RANDBETWEEN(8,9),RANDBETWEEN(7,9),RANDBETWEEN(6,9),RANDBETWEEN(5,9),RANDBETWEEN(4,9),RANDBETWEEN(3,9),RANDBETWEEN(2,9),RANDBETWEEN(1,9))),IF(AF10=0,RANDBETWEEN(1,9),CHOOSE(AF10,RANDBETWEEN(0,8),RANDBETWEEN(0,7),RANDBETWEEN(0,6),RANDBETWEEN(0,5),RANDBETWEEN(0,4),RANDBETWEEN(0,3),RANDBETWEEN(0,2),RANDBETWEEN(0,1),RANDBETWEEN(0,8)))))","v":5},6,{"$f":"RANDBETWEEN(1,Worksheet!$B$13/10-1)","v":5},{"$f":"RANDBETWEEN(1,Worksheet!$B$13/10-1)","v":4},{"$f":"RANDBETWEEN(1,IF(Worksheet!$B$6=6,2,3))","v":1},{"$f":"CONCATENATE(CHOOSE(Worksheet!$B$6,CONCATENATE(AF10,\" + \",AG10),CONCATENATE(AI10,AF10,\" + \",AG10),CONCATENATE(AJ10,AF10,\" + \",AI10,AG10),CONCATENATE(AF10,\" + \",AG10,\" + \",AH10),CONCATENATE(CHOOSE(AK10,CONCATENATE(AF10,\" + \",AI10,AG10,\" + \",AH10),CONCATENATE(AI10,AF10,\" + \",AG10,\" + \",AJ10,AH10),CONCATENATE(AI10,AF10,\" + \",AJ10,AG10,\" + \",AH10))),CHOOSE(AK10,CONCATENATE(AI10,\"0 + \",AG10),CONCATENATE(AG10,\" + \",AI10,\"0\"))),\" = \")","v":"58 + 5 = "},{"$f":"CHOOSE(Worksheet!$B$6,AF10+AG10,AI10*10+AF10+AG10,AJ10*10+AF10+AI10*10+AG10,AF10+AG10+AH10,CHOOSE(AK10,AF10+AI10*10+AG10+AH10,AI10*10+AF10+AG10+AJ10*10+AH10,AI10*10+AF10+AJ10*10+AG10+AH10),AI10*10+AG10)","v":63}]
[{"$f":"IF(ROW()<=Worksheet!$B$4/4,ROW(),\"\")","v":11},7,{"$f":"IF(Worksheet!B16=6,RANDBETWEEN(1,9),IF(AND(Worksheet!$B$14),IF(B11=0,RANDBETWEEN(IF(RAND()<0.3,0,1),9),CHOOSE(B11,RANDBETWEEN(IF(RAND()<0.3,0,1),9),RANDBETWEEN(8,9),RANDBETWEEN(7,9),RANDBETWEEN(6,9),RANDBETWEEN(5,9),RANDBETWEEN(4,9),RANDBETWEEN(3,9),RANDBETWEEN(2,9),RANDBETWEEN(1,9))),IF(B11=0,RANDBETWEEN(1,9),CHOOSE(B11,RANDBETWEEN(0,8),RANDBETWEEN(0,7),RANDBETWEEN(0,6),RANDBETWEEN(0,5),RANDBETWEEN(0,4),RANDBETWEEN(0,3),RANDBETWEEN(0,2),RANDBETWEEN(0,1),RANDBETWEEN(0,8)))))","v":8},7,{"$f":"RANDBETWEEN(1,Worksheet!$B$13/10-1)","v":1},{"$f":"RANDBETWEEN(1,Worksheet!$B$13/10-1)","v":1},{"$f":"RANDBETWEEN(1,IF(Worksheet!$B$6=6,2,3))","v":2},{"$f":"CONCATENATE(CHOOSE(Worksheet!$B$6,CONCATENATE(B11,\" + \",C11),CONCATENATE(E11,B11,\" + \",C11),CONCATENATE(F11,B11,\" + \",E11,C11),CONCATENATE(B11,\" + \",C11,\" + \",D11),CONCATENATE(CHOOSE(G11,CONCATENATE(B11,\" + \",E11,C11,\" + \",D11),CONCATENATE(E11,B11,\" + \",C11,\" + \",F11,D11),CONCATENATE(E11,B11,\" + \",F11,C11,\" + \",D11))),CHOOSE(G11,CONCATENATE(E11,\"0 + \",C11),CONCATENATE(C11,\" + \",E11,\"0\"))),\" = \")","v":"17 + 8 = "},{"$f":"CHOOSE(Worksheet!$B$6,B11+C11,E11*10+B11+C11,F11*10+B11+E11*10+C11,B11+C11+D11,CHOOSE(G11,B11+E11*10+C11+D11,E11*10+B11+C11+F11*10+D11,E11*10+B11+F11*10+C11+D11),E11*10+C11)","v":25},null,{"$f":"IF(ROW()<=Worksheet!$B$4/4,K10+1,\"\")","v":26},3,{"$f":"IF(Worksheet!L16=6,RANDBETWEEN(1,9),IF(AND(Worksheet!$B$14),IF(L11=0,RANDBETWEEN(IF(RAND()<0.3,0,1),9),CHOOSE(L11,RANDBETWEEN(IF(RAND()<0.3,0,1),9),RANDBETWEEN(8,9),RANDBETWEEN(7,9),RANDBETWEEN(6,9),RANDBETWEEN(5,9),RANDBETWEEN(4,9),RANDBETWEEN(3,9),RANDBETWEEN(2,9),RANDBETWEEN(1,9))),IF(L11=0,RANDBETWEEN(1,9),CHOOSE(L11,RANDBETWEEN(0,8),RANDBETWEEN(0,7),RANDBETWEEN(0,6),RANDBETWEEN(0,5),RANDBETWEEN(0,4),RANDBETWEEN(0,3),RANDBETWEEN(0,2),RANDBETWEEN(0,1),RANDBETWEEN(0,8)))))","v":9},2,{"$f":"RANDBETWEEN(1,Worksheet!$B$13/10-1)","v":4},{"$f":"RANDBETWEEN(1,Worksheet!$B$13/10-1)","v":3},{"$f":"RANDBETWEEN(1,IF(Worksheet!$B$6=6,2,3))","v":3},{"$f":"CONCATENATE(CHOOSE(Worksheet!$B$6,CONCATENATE(L11,\" + \",M11),CONCATENATE(O11,L11,\" + \",M11),CONCATENATE(P11,L11,\" + \",O11,M11),CONCATENATE(L11,\" + \",M11,\" + \",N11),CONCATENATE(CHOOSE(Q11,CONCATENATE(L11,\" + \",O11,M11,\" + \",N11),CONCATENATE(O11,L11,\" + \",M11,\" + \",P11,N11),CONCATENATE(O11,L11,\" + \",P11,M11,\" + \",N11))),CHOOSE(Q11,CONCATENATE(O11,\"0 + \",M11),CONCATENATE(M11,\" + \",O11,\"0\"))),\" = \")","v":"43 + 9 = "},{"$f":"CHOOSE(Worksheet!$B$6,L11+M11,O11*10+L11+M11,P11*10+L11+O11*10+M11,L11+M11+N11,CHOOSE(Q11,L11+O11*10+M11+N11,O11*10+L11+M11+P11*10+N11,O11*10+L11+P11*10+M11+N11),O11*10+M11)","v":52},null,{"$f":"IF(ROW()<=Worksheet!$B$4/4,U10+1,\"\")","v":41},6,{"$f":"IF(Worksheet!V16=6,RANDBETWEEN(1,9),IF(AND(Worksheet!$B$14),IF(V11=0,RANDBETWEEN(IF(RAND()<0.3,0,1),9),CHOOSE(V11,RANDBETWEEN(IF(RAND()<0.3,0,1),9),RANDBETWEEN(8,9),RANDBETWEEN(7,9),RANDBETWEEN(6,9),RANDBETWEEN(5,9),RANDBETWEEN(4,9),RANDBETWEEN(3,9),RANDBETWEEN(2,9),RANDBETWEEN(1,9))),IF(V11=0,RANDBETWEEN(1,9),CHOOSE(V11,RANDBETWEEN(0,8),RANDBETWEEN(0,7),RANDBETWEEN(0,6),RANDBETWEEN(0,5),RANDBETWEEN(0,4),RANDBETWEEN(0,3),RANDBETWEEN(0,2),RANDBETWEEN(0,1),RANDBETWEEN(0,8)))))","v":5},2,{"$f":"RANDBETWEEN(1,Worksheet!$B$13/10-1)","v":5},{"$f":"RANDBETWEEN(1,Worksheet!$B$13/10-1)","v":4},{"$f":"RANDBETWEEN(1,IF(Worksheet!$B$6=6,2,3))","v":3},{"$f":"CONCATENATE(CHOOSE(Worksheet!$B$6,CONCATENATE(V11,\" + \",W11),CONCATENATE(Y11,V11,\" + \",W11),CONCATENATE(Z11,V11,\" + \",Y11,W11),CONCATENATE(V11,\" + \",W11,\" + \",X11),CONCATENATE(CHOOSE(AA11,CONCATENATE(V11,\" + \",Y11,W11,\" + \",X11),CONCATENATE(Y11,V11,\" + \",W11,\" + \",Z11,X11),CONCATENATE(Y11,V11,\" + \",Z11,W11,\" + \",X11))),CHOOSE(AA11,CONCATENATE(Y11,\"0 + \",W11),CONCATENATE(W11,\" + \",Y11,\"0\"))),\" = \")","v":"56 + 5 = "},{"$f":"CHOOSE(Worksheet!$B$6,V11+W11,Y11*10+V11+W11,Z11*10+V11+Y11*10+W11,V11+W11+X11,CHOOSE(AA11,V11+Y11*10+W11+X11,Y11*10+V11+W11+Z11*10+X11,Y11*10+V11+Z11*10+W11+X11),Y11*10+W11)","v":61},null,{"$f":"IF(ROW()<=Worksheet!$B$4/4,AE10+1,\"\")","v":56},8,{"$f":"IF(Worksheet!AF16=6,RANDBETWEEN(1,9),IF(AND(Worksheet!$B$14),IF(AF11=0,RANDBETWEEN(IF(RAND()<0.3,0,1),9),CHOOSE(AF11,RANDBETWEEN(IF(RAND()<0.3,0,1),9),RANDBETWEEN(8,9),RANDBETWEEN(7,9),RANDBETWEEN(6,9),RANDBETWEEN(5,9),RANDBETWEEN(4,9),RANDBETWEEN(3,9),RANDBETWEEN(2,9),RANDBETWEEN(1,9))),IF(AF11=0,RANDBETWEEN(1,9),CHOOSE(AF11,RANDBETWEEN(0,8),RANDBETWEEN(0,7),RANDBETWEEN(0,6),RANDBETWEEN(0,5),RANDBETWEEN(0,4),RANDBETWEEN(0,3),RANDBETWEEN(0,2),RANDBETWEEN(0,1),RANDBETWEEN(0,8)))))","v":8},5,{"$f":"RANDBETWEEN(1,Worksheet!$B$13/10-1)","v":2},{"$f":"RANDBETWEEN(1,Worksheet!$B$13/10-1)","v":4},{"$f":"RANDBETWEEN(1,IF(Worksheet!$B$6=6,2,3))","v":2},{"$f":"CONCATENATE(CHOOSE(Worksheet!$B$6,CONCATENATE(AF11,\" + \",AG11),CONCATENATE(AI11,AF11,\" + \",AG11),CONCATENATE(AJ11,AF11,\" + \",AI11,AG11),CONCATENATE(AF11,\" + \",AG11,\" + \",AH11),CONCATENATE(CHOOSE(AK11,CONCATENATE(AF11,\" + \",AI11,AG11,\" + \",AH11),CONCATENATE(AI11,AF11,\" + \",AG11,\" + \",AJ11,AH11),CONCATENATE(AI11,AF11,\" + \",AJ11,AG11,\" + \",AH11))),CHOOSE(AK11,CONCATENATE(AI11,\"0 + \",AG11),CONCATENATE(AG11,\" + \",AI11,\"0\"))),\" = \")","v":"28 + 8 = "},{"$f":"CHOOSE(Worksheet!$B$6,AF11+AG11,AI11*10+AF11+AG11,AJ11*10+AF11+AI11*10+AG11,AF11+AG11+AH11,CHOOSE(AK11,AF11+AI11*10+AG11+AH11,AI11*10+AF11+AG11+AJ11*10+AH11,AI11*10+AF11+AJ11*10+AG11+AH11),AI11*10+AG11)","v":36}]
[{"$f":"IF(ROW()<=Worksheet!$B$4/4,ROW(),\"\")","v":12},7,{"$f":"IF(Worksheet!B17=6,RANDBETWEEN(1,9),IF(AND(Worksheet!$B$14),IF(B12=0,RANDBETWEEN(IF(RAND()<0.3,0,1),9),CHOOSE(B12,RANDBETWEEN(IF(RAND()<0.3,0,1),9),RANDBETWEEN(8,9),RANDBETWEEN(7,9),RANDBETWEEN(6,9),RANDBETWEEN(5,9),RANDBETWEEN(4,9),RANDBETWEEN(3,9),RANDBETWEEN(2,9),RANDBETWEEN(1,9))),IF(B12=0,RANDBETWEEN(1,9),CHOOSE(B12,RANDBETWEEN(0,8),RANDBETWEEN(0,7),RANDBETWEEN(0,6),RANDBETWEEN(0,5),RANDBETWEEN(0,4),RANDBETWEEN(0,3),RANDBETWEEN(0,2),RANDBETWEEN(0,1),RANDBETWEEN(0,8)))))","v":4},8,{"$f":"RANDBETWEEN(1,Worksheet!$B$13/10-1)","v":5},{"$f":"RANDBETWEEN(1,Worksheet!$B$13/10-1)","v":1},{"$f":"RANDBETWEEN(1,IF(Worksheet!$B$6=6,2,3))","v":3},{"$f":"CONCATENATE(CHOOSE(Worksheet!$B$6,CONCATENATE(B12,\" + \",C12),CONCATENATE(E12,B12,\" + \",C12),CONCATENATE(F12,B12,\" + \",E12,C12),CONCATENATE(B12,\" + \",C12,\" + \",D12),CONCATENATE(CHOOSE(G12,CONCATENATE(B12,\" + \",E12,C12,\" + \",D12),CONCATENATE(E12,B12,\" + \",C12,\" + \",F12,D12),CONCATENATE(E12,B12,\" + \",F12,C12,\" + \",D12))),CHOOSE(G12,CONCATENATE(E12,\"0 + \",C12),CONCATENATE(C12,\" + \",E12,\"0\"))),\" = \")","v":"57 + 4 = "},{"$f":"CHOOSE(Worksheet!$B$6,B12+C12,E12*10+B12+C12,F12*10+B12+E12*10+C12,B12+C12+D12,CHOOSE(G12,B12+E12*10+C12+D12,E12*10+B12+C12+F12*10+D12,E12*10+B12+F12*10+C12+D12),E12*10+C12)","v":61},null,{"$f":"IF(ROW()<=Worksheet!$B$4/4,K11+1,\"\")","v":27},9,{"$f":"IF(Worksheet!L17=6,RANDBETWEEN(1,9),IF(AND(Worksheet!$B$14),IF(L12=0,RANDBETWEEN(IF(RAND()<0.3,0,1),9),CHOOSE(L12,RANDBETWEEN(IF(RAND()<0.3,0,1),9),RANDBETWEEN(8,9),RANDBETWEEN(7,9),RANDBETWEEN(6,9),RANDBETWEEN(5,9),RANDBETWEEN(4,9),RANDBETWEEN(3,9),RANDBETWEEN(2,9),RANDBETWEEN(1,9))),IF(L12=0,RANDBETWEEN(1,9),CHOOSE(L12,RANDBETWEEN(0,8),RANDBETWEEN(0,7),RANDBETWEEN(0,6),RANDBETWEEN(0,5),RANDBETWEEN(0,4),RANDBETWEEN(0,3),RANDBETWEEN(0,2),RANDBETWEEN(0,1),RANDBETWEEN(0,8)))))","v":6},2,{"$f":"RANDBETWEEN(1,Worksheet!$B$13/10-1)","v":2},{"$f":"RANDBETWEEN(1,Worksheet!$B$13/10-1)","v":5},{"$f":"RANDBETWEEN(1,IF(Worksheet!$B$6=6,2,3))","v":1},{"$f":"CONCATENATE(CHOOSE(Worksheet!$B$6,CONCATENATE(L12,\" + \",M12),CONCATENATE(O12,L12,\" + \",M12),CONCATENATE(P12,L12,\" + \",O12,M12),CONCATENATE(L12,\" + \",M12,\" + \",N12),CONCATENATE(CHOOSE(Q12,CONCATENATE(L12,\" + \",O12,M12,\" + \",N12),CONCATENATE(O12,L12,\" + \",M12,\" + \",P12,N12),CONCATENATE(O12,L12,\" + \",P12,M12,\" + \",N12))),CHOOSE(Q12,CONCATENATE(O12,\"0 + \",M12),CONCATENATE(M12,\" + \",O12,\"0\"))),\" = \")","v":"29 + 6 = "},{"$f":"CHOOSE(Worksheet!$B$6,L12+M12,O12*10+L12+M12,P12*10+L12+O12*10+M12,L12+M12+N12,CHOOSE(Q12,L12+O12*10+M12+N12,O12*10+L12+M12+P12*10+N12,O12*10+L12+P12*10+M12+N12),O12*10+M12)","v":35},null,{"$f":"IF(ROW()<=Worksheet!$B$4/4,U11+1,\"\")","v":42},7,{"$f":"IF(Worksheet!V17=6,RANDBETWEEN(1,9),IF(AND(Worksheet!$B$14),IF(V12=0,RANDBETWEEN(IF(RAND()<0.3,0,1),9),CHOOSE(V12,RANDBETWEEN(IF(RAND()<0.3,0,1),9),RANDBETWEEN(8,9),RANDBETWEEN(7,9),RANDBETWEEN(6,9),RANDBETWEEN(5,9),RANDBETWEEN(4,9),RANDBETWEEN(3,9),RANDBETWEEN(2,9),RANDBETWEEN(1,9))),IF(V12=0,RANDBETWEEN(1,9),CHOOSE(V12,RANDBETWEEN(0,8),RANDBETWEEN(0,7),RANDBETWEEN(0,6),RANDBETWEEN(0,5),RANDBETWEEN(0,4),RANDBETWEEN(0,3),RANDBETWEEN(0,2),RANDBETWEEN(0,1),RANDBETWEEN(0,8)))))","v":7},2,{"$f":"RANDBETWEEN(1,Worksheet!$B$13/10-1)","v":2},{"$f":"RANDBETWEEN(1,Worksheet!$B$13/10-1)","v":2},{"$f":"RANDBETWEEN(1,IF(Worksheet!$B$6=6,2,3))","v":2},{"$f":"CONCATENATE(CHOOSE(Worksheet!$B$6,CONCATENATE(V12,\" + \",W12),CONCATENATE(Y12,V12,\" + \",W12),CONCATENATE(Z12,V12,\" + \",Y12,W12),CONCATENATE(V12,\" + \",W12,\" + \",X12),CONCATENATE(CHOOSE(AA12,CONCATENATE(V12,\" + \",Y12,W12,\" + \",X12),CONCATENATE(Y12,V12,\" + \",W12,\" + \",Z12,X12),CONCATENATE(Y12,V12,\" + \",Z12,W12,\" + \",X12))),CHOOSE(AA12,CONCATENATE(Y12,\"0 + \",W12),CONCATENATE(W12,\" + \",Y12,\"0\"))),\" = \")","v":"27 + 7 = "},{"$f":"CHOOSE(Worksheet!$B$6,V12+W12,Y12*10+V12+W12,Z12*10+V12+Y12*10+W12,V12+W12+X12,CHOOSE(AA12,V12+Y12*10+W12+X12,Y12*10+V12+W12+Z12*10+X12,Y12*10+V12+Z12*10+W12+X12),Y12*10+W12)","v":34},null,{"$f":"IF(ROW()<=Worksheet!$B$4/4,AE11+1,\"\")","v":57},5,{"$f":"IF(Worksheet!AF17=6,RANDBETWEEN(1,9),IF(AND(Worksheet!$B$14),IF(AF12=0,RANDBETWEEN(IF(RAND()<0.3,0,1),9),CHOOSE(AF12,RANDBETWEEN(IF(RAND()<0.3,0,1),9),RANDBETWEEN(8,9),RANDBETWEEN(7,9),RANDBETWEEN(6,9),RANDBETWEEN(5,9),RANDBETWEEN(4,9),RANDBETWEEN(3,9),RANDBETWEEN(2,9),RANDBETWEEN(1,9))),IF(AF12=0,RANDBETWEEN(1,9),CHOOSE(AF12,RANDBETWEEN(0,8),RANDBETWEEN(0,7),RANDBETWEEN(0,6),RANDBETWEEN(0,5),RANDBETWEEN(0,4),RANDBETWEEN(0,3),RANDBETWEEN(0,2),RANDBETWEEN(0,1),RANDBETWEEN(0,8)))))","v":8},4,{"$f":"RANDBETWEEN(1,Worksheet!$B$13/10-1)","v":3},{"$f":"RANDBETWEEN(1,Worksheet!$B$13/10-1)","v":3},{"$f":"RANDBETWEEN(1,IF(Worksheet!$B$6=6,2,3))","v":2},{"$f":"CONCATENATE(CHOOSE(Worksheet!$B$6,CONCATENATE(AF12,\" + \",AG12),CONCATENATE(AI12,AF12,\" + \",AG12),CONCATENATE(AJ12,AF12,\" + \",AI12,AG12),CONCATENATE(AF12,\" + \",AG12,\" + \",AH12),CONCATENATE(CHOOSE(AK12,CONCATENATE(AF12,\" + \",AI12,AG12,\" + \",AH12),CONCATENATE(AI12,AF12,\" + \",AG12,\" + \",AJ12,AH12),CONCATENATE(AI12,AF12,\" + \",AJ12,AG12,\" + \",AH12))),CHOOSE(AK12,CONCATENATE(AI12,\"0 + \",AG12),CONCATENATE(AG12,\" + \",AI12,\"0\"))),\" = \")","v":"35 + 8 = "},{"$f":"CHOOSE(Worksheet!$B$6,AF12+AG12,AI12*10+AF12+AG12,AJ12*10+AF12+AI12*10+AG12,AF12+AG12+AH12,CHOOSE(AK12,AF12+AI12*10+AG12+AH12,AI12*10+AF12+AG12+AJ12*10+AH12,AI12*10+AF12+AJ12*10+AG12+AH12),AI12*10+AG12)","v":43}]
[{"$f":"IF(ROW()<=Worksheet!$B$4/4,ROW(),\"\")","v":13},2,{"$f":"IF(Worksheet!B18=6,RANDBETWEEN(1,9),IF(AND(Worksheet!$B$14),IF(B13=0,RANDBETWEEN(IF(RAND()<0.3,0,1),9),CHOOSE(B13,RANDBETWEEN(IF(RAND()<0.3,0,1),9),RANDBETWEEN(8,9),RANDBETWEEN(7,9),RANDBETWEEN(6,9),RANDBETWEEN(5,9),RANDBETWEEN(4,9),RANDBETWEEN(3,9),RANDBETWEEN(2,9),RANDBETWEEN(1,9))),IF(B13=0,RANDBETWEEN(1,9),CHOOSE(B13,RANDBETWEEN(0,8),RANDBETWEEN(0,7),RANDBETWEEN(0,6),RANDBETWEEN(0,5),RANDBETWEEN(0,4),RANDBETWEEN(0,3),RANDBETWEEN(0,2),RANDBETWEEN(0,1),RANDBETWEEN(0,8)))))","v":9},5,{"$f":"RANDBETWEEN(1,Worksheet!$B$13/10-1)","v":1},{"$f":"RANDBETWEEN(1,Worksheet!$B$13/10-1)","v":4},{"$f":"RANDBETWEEN(1,IF(Worksheet!$B$6=6,2,3))","v":1},{"$f":"CONCATENATE(CHOOSE(Worksheet!$B$6,CONCATENATE(B13,\" + \",C13),CONCATENATE(E13,B13,\" + \",C13),CONCATENATE(F13,B13,\" + \",E13,C13),CONCATENATE(B13,\" + \",C13,\" + \",D13),CONCATENATE(CHOOSE(G13,CONCATENATE(B13,\" + \",E13,C13,\" + \",D13),CONCATENATE(E13,B13,\" + \",C13,\" + \",F13,D13),CONCATENATE(E13,B13,\" + \",F13,C13,\" + \",D13))),CHOOSE(G13,CONCATENATE(E13,\"0 + \",C13),CONCATENATE(C13,\" + \",E13,\"0\"))),\" = \")","v":"12 + 9 = "},{"$f":"CHOOSE(Worksheet!$B$6,B13+C13,E13*10+B13+C13,F13*10+B13+E13*10+C13,B13+C13+D13,CHOOSE(G13,B13+E13*10+C13+D13,E13*10+B13+C13+F13*10+D13,E13*10+B13+F13*10+C13+D13),E13*10+C13)","v":21},null,{"$f":"IF(ROW()<=Worksheet!$B$4/4,K12+1,\"\")","v":28},0,{"$f":"IF(Worksheet!L18=6,RANDBETWEEN(1,9),IF(AND(Worksheet!$B$14),IF(L13=0,RANDBETWEEN(IF(RAND()<0.3,0,1),9),CHOOSE(L13,RANDBETWEEN(IF(RAND()<0.3,0,1),9),RANDBETWEEN(8,9),RANDBETWEEN(7,9),RANDBETWEEN(6,9),RANDBETWEEN(5,9),RANDBETWEEN(4,9),RANDBETWEEN(3,9),RANDBETWEEN(2,9),RANDBETWEEN(1,9))),IF(L13=0,RANDBETWEEN(1,9),CHOOSE(L13,RANDBETWEEN(0,8),RANDBETWEEN(0,7),RANDBETWEEN(0,6),RANDBETWEEN(0,5),RANDBETWEEN(0,4),RANDBETWEEN(0,3),RANDBETWEEN(0,2),RANDBETWEEN(0,1),RANDBETWEEN(0,8)))))","v":8},1,{"$f":"RANDBETWEEN(1,Worksheet!$B$13/10-1)","v":2},{"$f":"RANDBETWEEN(1,Worksheet!$B$13/10-1)","v":4},{"$f":"RANDBETWEEN(1,IF(Worksheet!$B$6=6,2,3))","v":2},{"$f":"CONCATENATE(CHOOSE(Worksheet!$B$6,CONCATENATE(L13,\" + \",M13),CONCATENATE(O13,L13,\" + \",M13),CONCATENATE(P13,L13,\" + \",O13,M13),CONCATENATE(L13,\" + \",M13,\" + \",N13),CONCATENATE(CHOOSE(Q13,CONCATENATE(L13,\" + \",O13,M13,\" + \",N13),CONCATENATE(O13,L13,\" + \",M13,\" + \",P13,N13),CONCATENATE(O13,L13,\" + \",P13,M13,\" + \",N13))),CHOOSE(Q13,CONCATENATE(O13,\"0 + \",M13),CONCATENATE(M13,\" + \",O13,\"0\"))),\" = \")","v":"20 + 8 = "},{"$f":"CHOOSE(Worksheet!$B$6,L13+M13,O13*10+L13+M13,P13*10+L13+O13*10+M13,L13+M13+N13,CHOOSE(Q13,L13+O13*10+M13+N13,O13*10+L13+M13+P13*10+N13,O13*10+L13+P13*10+M13+N13),O13*10+M13)","v":28},null,{"$f":"IF(ROW()<=Worksheet!$B$4/4,U12+1,\"\")","v":43},0,{"$f":"IF(Worksheet!V18=6,RANDBETWEEN(1,9),IF(AND(Worksheet!$B$14),IF(V13=0,RANDBETWEEN(IF(RAND()<0.3,0,1),9),CHOOSE(V13,RANDBETWEEN(IF(RAND()<0.3,0,1),9),RANDBETWEEN(8,9),RANDBETWEEN(7,9),RANDBETWEEN(6,9),RANDBETWEEN(5,9),RANDBETWEEN(4,9),RANDBETWEEN(3,9),RANDBETWEEN(2,9),RANDBETWEEN(1,9))),IF(V13=0,RANDBETWEEN(1,9),CHOOSE(V13,RANDBETWEEN(0,8),RANDBETWEEN(0,7),RANDBETWEEN(0,6),RANDBETWEEN(0,5),RANDBETWEEN(0,4),RANDBETWEEN(0,3),RANDBETWEEN(0,2),RANDBETWEEN(0,1),RANDBETWEEN(0,8)))))","v":7},5,{"$f":"RANDBETWEEN(1,Worksheet!$B$13/10-1)","v":3},{"$f":"RANDBETWEEN(1,Worksheet!$B$13/10-1)","v":2},{"$f":"RANDBETWEEN(1,IF(Worksheet!$B$6=6,2,3))","v":3},{"$f":"CONCATENATE(CHOOSE(Worksheet!$B$6,CONCATENATE(V13,\" + \",W13),CONCATENATE(Y13,V13,\" + \",W13),CONCATENATE(Z13,V13,\" + \",Y13,W13),CONCATENATE(V13,\" + \",W13,\" + \",X13),CONCATENATE(CHOOSE(AA13,CONCATENATE(V13,\" + \",Y13,W13,\" + \",X13),CONCATENATE(Y13,V13,\" + \",W13,\" + \",Z13,X13),CONCATENATE(Y13,V13,\" + \",Z13,W13,\" + \",X13))),CHOOSE(AA13,CONCATENATE(Y13,\"0 + \",W13),CONCATENATE(W13,\" + \",Y13,\"0\"))),\" = \")","v":"30 + 7 = "},{"$f":"CHOOSE(Worksheet!$B$6,V13+W13,Y13*10+V13+W13,Z13*10+V13+Y13*10+W13,V13+W13+X13,CHOOSE(AA13,V13+Y13*10+W13+X13,Y13*10+V13+W13+Z13*10+X13,Y13*10+V13+Z13*10+W13+X13),Y13*10+W13)","v":37},null,{"$f":"IF(ROW()<=Worksheet!$B$4/4,AE12+1,\"\")","v":58},5,{"$f":"IF(Worksheet!AF18=6,RANDBETWEEN(1,9),IF(AND(Worksheet!$B$14),IF(AF13=0,RANDBETWEEN(IF(RAND()<0.3,0,1),9),CHOOSE(AF13,RANDBETWEEN(IF(RAND()<0.3,0,1),9),RANDBETWEEN(8,9),RANDBETWEEN(7,9),RANDBETWEEN(6,9),RANDBETWEEN(5,9),RANDBETWEEN(4,9),RANDBETWEEN(3,9),RANDBETWEEN(2,9),RANDBETWEEN(1,9))),IF(AF13=0,RANDBETWEEN(1,9),CHOOSE(AF13,RANDBETWEEN(0,8),RANDBETWEEN(0,7),RANDBETWEEN(0,6),RANDBETWEEN(0,5),RANDBETWEEN(0,4),RANDBETWEEN(0,3),RANDBETWEEN(0,2),RANDBETWEEN(0,1),RANDBETWEEN(0,8)))))","v":5},1,{"$f":"RANDBETWEEN(1,Worksheet!$B$13/10-1)","v":2},{"$f":"RANDBETWEEN(1,Worksheet!$B$13/10-1)","v":2},{"$f":"RANDBETWEEN(1,IF(Worksheet!$B$6=6,2,3))","v":1},{"$f":"CONCATENATE(CHOOSE(Worksheet!$B$6,CONCATENATE(AF13,\" + \",AG13),CONCATENATE(AI13,AF13,\" + \",AG13),CONCATENATE(AJ13,AF13,\" + \",AI13,AG13),CONCATENATE(AF13,\" + \",AG13,\" + \",AH13),CONCATENATE(CHOOSE(AK13,CONCATENATE(AF13,\" + \",AI13,AG13,\" + \",AH13),CONCATENATE(AI13,AF13,\" + \",AG13,\" + \",AJ13,AH13),CONCATENATE(AI13,AF13,\" + \",AJ13,AG13,\" + \",AH13))),CHOOSE(AK13,CONCATENATE(AI13,\"0 + \",AG13),CONCATENATE(AG13,\" + \",AI13,\"0\"))),\" = \")","v":"25 + 5 = "},{"$f":"CHOOSE(Worksheet!$B$6,AF13+AG13,AI13*10+AF13+AG13,AJ13*10+AF13+AI13*10+AG13,AF13+AG13+AH13,CHOOSE(AK13,AF13+AI13*10+AG13+AH13,AI13*10+AF13+AG13+AJ13*10+AH13,AI13*10+AF13+AJ13*10+AG13+AH13),AI13*10+AG13)","v":30}]
[{"$f":"IF(ROW()<=Worksheet!$B$4/4,ROW(),\"\")","v":14},6,{"$f":"IF(Worksheet!B19=6,RANDBETWEEN(1,9),IF(AND(Worksheet!$B$14),IF(B14=0,RANDBETWEEN(IF(RAND()<0.3,0,1),9),CHOOSE(B14,RANDBETWEEN(IF(RAND()<0.3,0,1),9),RANDBETWEEN(8,9),RANDBETWEEN(7,9),RANDBETWEEN(6,9),RANDBETWEEN(5,9),RANDBETWEEN(4,9),RANDBETWEEN(3,9),RANDBETWEEN(2,9),RANDBETWEEN(1,9))),IF(B14=0,RANDBETWEEN(1,9),CHOOSE(B14,RANDBETWEEN(0,8),RANDBETWEEN(0,7),RANDBETWEEN(0,6),RANDBETWEEN(0,5),RANDBETWEEN(0,4),RANDBETWEEN(0,3),RANDBETWEEN(0,2),RANDBETWEEN(0,1),RANDBETWEEN(0,8)))))","v":6},8,{"$f":"RANDBETWEEN(1,Worksheet!$B$13/10-1)","v":2},{"$f":"RANDBETWEEN(1,Worksheet!$B$13/10-1)","v":1},{"$f":"RANDBETWEEN(1,IF(Worksheet!$B$6=6,2,3))","v":2},{"$f":"CONCATENATE(CHOOSE(Worksheet!$B$6,CONCATENATE(B14,\" + \",C14),CONCATENATE(E14,B14,\" + \",C14),CONCATENATE(F14,B14,\" + \",E14,C14),CONCATENATE(B14,\" + \",C14,\" + \",D14),CONCATENATE(CHOOSE(G14,CONCATENATE(B14,\" + \",E14,C14,\" + \",D14),CONCATENATE(E14,B14,\" + \",C14,\" + \",F14,D14),CONCATENATE(E14,B14,\" + \",F14,C14,\" + \",D14))),CHOOSE(G14,CONCATENATE(E14,\"0 + \",C14),CONCATENATE(C14,\" + \",E14,\"0\"))),\" = \")","v":"26 + 6 = "},{"$f":"CHOOSE(Worksheet!$B$6,B14+C14,E14*10+B14+C14,F14*10+B14+E14*10+C14,B14+C14+D14,CHOOSE(G14,B14+E14*10+C14+D14,E14*10+B14+C14+F14*10+D14,E14*10+B14+F14*10+C14+D14),E14*10+C14)","v":32},null,{"$f":"IF(ROW()<=Worksheet!$B$4/4,K13+1,\"\")","v":29},5,{"$f":"IF(Worksheet!L19=6,RANDBETWEEN(1,9),IF(AND(Worksheet!$B$14),IF(L14=0,RANDBETWEEN(IF(RAND()<0.3,0,1),9),CHOOSE(L14,RANDBETWEEN(IF(RAND()<0.3,0,1),9),RANDBETWEEN(8,9),RANDBETWEEN(7,9),RANDBETWEEN(6,9),RANDBETWEEN(5,9),RANDBETWEEN(4,9),RANDBETWEEN(3,9),RANDBETWEEN(2,9),RANDBETWEEN(1,9))),IF(L14=0,RANDBETWEEN(1,9),CHOOSE(L14,RANDBETWEEN(0,8),RANDBETWEEN(0,7),RANDBETWEEN(0,6),RANDBETWEEN(0,5),RANDBETWEEN(0,4),RANDBETWEEN(0,3),RANDBETWEEN(0,2),RANDBETWEEN(0,1),RANDBETWEEN(0,8)))))","v":9},4,{"$f":"RANDBETWEEN(1,Worksheet!$B$13/10-1)","v":4},{"$f":"RANDBETWEEN(1,Worksheet!$B$13/10-1)","v":2},{"$f":"RANDBETWEEN(1,IF(Worksheet!$B$6=6,2,3))","v":3},{"$f":"CONCATENATE(CHOOSE(Worksheet!$B$6,CONCATENATE(L14,\" + \",M14),CONCATENATE(O14,L14,\" + \",M14),CONCATENATE(P14,L14,\" + \",O14,M14),CONCATENATE(L14,\" + \",M14,\" + \",N14),CONCATENATE(CHOOSE(Q14,CONCATENATE(L14,\" + \",O14,M14,\" + \",N14),CONCATENATE(O14,L14,\" + \",M14,\" + \",P14,N14),CONCATENATE(O14,L14,\" + \",P14,M14,\" + \",N14))),CHOOSE(Q14,CONCATENATE(O14,\"0 + \",M14),CONCATENATE(M14,\" + \",O14,\"0\"))),\" = \")","v":"45 + 9 = "},{"$f":"CHOOSE(Worksheet!$B$6,L14+M14,O14*10+L14+M14,P14*10+L14+O14*10+M14,L14+M14+N14,CHOOSE(Q14,L14+O14*10+M14+N14,O14*10+L14+M14+P14*10+N14,O14*10+L14+P14*10+M14+N14),O14*10+M14)","v":54},null,{"$f":"IF(ROW()<=Worksheet!$B$4/4,U13+1,\"\")","v":44},5,{"$f":"IF(Worksheet!V19=6,RANDBETWEEN(1,9),IF(AND(Worksheet!$B$14),IF(V14=0,RANDBETWEEN(IF(RAND()<0.3,0,1),9),CHOOSE(V14,RANDBETWEEN(IF(RAND()<0.3,0,1),9),RANDBETWEEN(8,9),RANDBETWEEN(7,9),RANDBETWEEN(6,9),RANDBETWEEN(5,9),RANDBETWEEN(4,9),RANDBETWEEN(3,9),RANDBETWEEN(2,9),RANDBETWEEN(1,9))),IF(V14=0,RANDBETWEEN(1,9),CHOOSE(V14,RANDBETWEEN(0,8),RANDBETWEEN(0,7),RANDBETWEEN(0,6),RANDBETWEEN(0,5),RANDBETWEEN(0,4),RANDBETWEEN(0,3),RANDBETWEEN(0,2),RANDBETWEEN(0,1),RANDBETWEEN(0,8)))))","v":7},2,{"$f":"RANDBETWEEN(1,Worksheet!$B$13/10-1)","v":4},{"$f":"RANDBETWEEN(1,Worksheet!$B$13/10-1)","v":1},{"$f":"RANDBETWEEN(1,IF(Worksheet!$B$6=6,2,3))","v":3},{"$f":"CONCATENATE(CHOOSE(Worksheet!$B$6,CONCATENATE(V14,\" + \",W14),CONCATENATE(Y14,V14,\" + \",W14),CONCATENATE(Z14,V14,\" + \",Y14,W14),CONCATENATE(V14,\" + \",W14,\" + \",X14),CONCATENATE(CHOOSE(AA14,CONCATENATE(V14,\" + \",Y14,W14,\" + \",X14),CONCATENATE(Y14,V14,\" + \",W14,\" + \",Z14,X14),CONCATENATE(Y14,V14,\" + \",Z14,W14,\" + \",X14))),CHOOSE(AA14,CONCATENATE(Y14,\"0 + \",W14),CONCATENATE(W14,\" + \",Y14,\"0\"))),\" = \")","v":"45 + 7 = "},{"$f":"CHOOSE(Worksheet!$B$6,V14+W14,Y14*10+V14+W14,Z14*10+V14+Y14*10+W14,V14+W14+X14,CHOOSE(AA14,V14+Y14*10+W14+X14,Y14*10+V14+W14+Z14*10+X14,Y14*10+V14+Z14*10+W14+X14),Y14*10+W14)","v":52},null,{"$f":"IF(ROW()<=Worksheet!$B$4/4,AE13+1,\"\")","v":59},3,{"$f":"IF(Worksheet!AF19=6,RANDBETWEEN(1,9),IF(AND(Worksheet!$B$14),IF(AF14=0,RANDBETWEEN(IF(RAND()<0.3,0,1),9),CHOOSE(AF14,RANDBETWEEN(IF(RAND()<0.3,0,1),9),RANDBETWEEN(8,9),RANDBETWEEN(7,9),RANDBETWEEN(6,9),RANDBETWEEN(5,9),RANDBETWEEN(4,9),RANDBETWEEN(3,9),RANDBETWEEN(2,9),RANDBETWEEN(1,9))),IF(AF14=0,RANDBETWEEN(1,9),CHOOSE(AF14,RANDBETWEEN(0,8),RANDBETWEEN(0,7),RANDBETWEEN(0,6),RANDBETWEEN(0,5),RANDBETWEEN(0,4),RANDBETWEEN(0,3),RANDBETWEEN(0,2),RANDBETWEEN(0,1),RANDBETWEEN(0,8)))))","v":9},4,{"$f":"RANDBETWEEN(1,Worksheet!$B$13/10-1)","v":5},{"$f":"RANDBETWEEN(1,Worksheet!$B$13/10-1)","v":4},{"$f":"RANDBETWEEN(1,IF(Worksheet!$B$6=6,2,3))","v":2},{"$f":"CONCATENATE(CHOOSE(Worksheet!$B$6,CONCATENATE(AF14,\" + \",AG14),CONCATENATE(AI14,AF14,\" + \",AG14),CONCATENATE(AJ14,AF14,\" + \",AI14,AG14),CONCATENATE(AF14,\" + \",AG14,\" + \",AH14),CONCATENATE(CHOOSE(AK14,CONCATENATE(AF14,\" + \",AI14,AG14,\" + \",AH14),CONCATENATE(AI14,AF14,\" + \",AG14,\" + \",AJ14,AH14),CONCATENATE(AI14,AF14,\" + \",AJ14,AG14,\" + \",AH14))),CHOOSE(AK14,CONCATENATE(AI14,\"0 + \",AG14),CONCATENATE(AG14,\" + \",AI14,\"0\"))),\" = \")","v":"53 + 9 = "},{"$f":"CHOOSE(Worksheet!$B$6,AF14+AG14,AI14*10+AF14+AG14,AJ14*10+AF14+AI14*10+AG14,AF14+AG14+AH14,CHOOSE(AK14,AF14+AI14*10+AG14+AH14,AI14*10+AF14+AG14+AJ14*10+AH14,AI14*10+AF14+AJ14*10+AG14+AH14),AI14*10+AG14)","v":62}]
[{"$f":"IF(ROW()<=Worksheet!$B$4/4,ROW(),\"\")","v":15},1,{"$f":"IF(Worksheet!B20=6,RANDBETWEEN(1,9),IF(AND(Worksheet!$B$14),IF(B15=0,RANDBETWEEN(IF(RAND()<0.3,0,1),9),CHOOSE(B15,RANDBETWEEN(IF(RAND()<0.3,0,1),9),RANDBETWEEN(8,9),RANDBETWEEN(7,9),RANDBETWEEN(6,9),RANDBETWEEN(5,9),RANDBETWEEN(4,9),RANDBETWEEN(3,9),RANDBETWEEN(2,9),RANDBETWEEN(1,9))),IF(B15=0,RANDBETWEEN(1,9),CHOOSE(B15,RANDBETWEEN(0,8),RANDBETWEEN(0,7),RANDBETWEEN(0,6),RANDBETWEEN(0,5),RANDBETWEEN(0,4),RANDBETWEEN(0,3),RANDBETWEEN(0,2),RANDBETWEEN(0,1),RANDBETWEEN(0,8)))))","v":6},1,{"$f":"RANDBETWEEN(1,Worksheet!$B$13/10-1)","v":3},{"$f":"RANDBETWEEN(1,Worksheet!$B$13/10-1)","v":3},{"$f":"RANDBETWEEN(1,IF(Worksheet!$B$6=6,2,3))","v":1},{"$f":"CONCATENATE(CHOOSE(Worksheet!$B$6,CONCATENATE(B15,\" + \",C15),CONCATENATE(E15,B15,\" + \",C15),CONCATENATE(F15,B15,\" + \",E15,C15),CONCATENATE(B15,\" + \",C15,\" + \",D15),CONCATENATE(CHOOSE(G15,CONCATENATE(B15,\" + \",E15,C15,\" + \",D15),CONCATENATE(E15,B15,\" + \",C15,\" + \",F15,D15),CONCATENATE(E15,B15,\" + \",F15,C15,\" + \",D15))),CHOOSE(G15,CONCATENATE(E15,\"0 + \",C15),CONCATENATE(C15,\" + \",E15,\"0\"))),\" = \")","v":"31 + 6 = "},{"$f":"CHOOSE(Worksheet!$B$6,B15+C15,E15*10+B15+C15,F15*10+B15+E15*10+C15,B15+C15+D15,CHOOSE(G15,B15+E15*10+C15+D15,E15*10+B15+C15+F15*10+D15,E15*10+B15+F15*10+C15+D15),E15*10+C15)","v":37},null,{"$f":"IF(ROW()<=Worksheet!$B$4/4,K14+1,\"\")","v":30},9,{"$f":"IF(Worksheet!L20=6,RANDBETWEEN(1,9),IF(AND(Worksheet!$B$14),IF(L15=0,RANDBETWEEN(IF(RAND()<0.3,0,1),9),CHOOSE(L15,RANDBETWEEN(IF(RAND()<0.3,0,1),9),RANDBETWEEN(8,9),RANDBETWEEN(7,9),RANDBETWEEN(6,9),RANDBETWEEN(5,9),RANDBETWEEN(4,9),RANDBETWEEN(3,9),RANDBETWEEN(2,9),RANDBETWEEN(1,9))),IF(L15=0,RANDBETWEEN(1,9),CHOOSE(L15,RANDBETWEEN(0,8),RANDBETWEEN(0,7),RANDBETWEEN(0,6),RANDBETWEEN(0,5),RANDBETWEEN(0,4),RANDBETWEEN(0,3),RANDBETWEEN(0,2),RANDBETWEEN(0,1),RANDBETWEEN(0,8)))))","v":6},4,{"$f":"RANDBETWEEN(1,Worksheet!$B$13/10-1)","v":4},{"$f":"RANDBETWEEN(1,Worksheet!$B$13/10-1)","v":5},{"$f":"RANDBETWEEN(1,IF(Worksheet!$B$6=6,2,3))","v":2},{"$f":"CONCATENATE(CHOOSE(Worksheet!$B$6,CONCATENATE(L15,\" + \",M15),CONCATENATE(O15,L15,\" + \",M15),CONCATENATE(P15,L15,\" + \",O15,M15),CONCATENATE(L15,\" + \",M15,\" + \",N15),CONCATENATE(CHOOSE(Q15,CONCATENATE(L15,\" + \",O15,M15,\" + \",N15),CONCATENATE(O15,L15,\" + \",M15,\" + \",P15,N15),CONCATENATE(O15,L15,\" + \",P15,M15,\" + \",N15))),CHOOSE(Q15,CONCATENATE(O15,\"0 + \",M15),CONCATENATE(M15,\" + \",O15,\"0\"))),\" = \")","v":"49 + 6 = "},{"$f":"CHOOSE(Worksheet!$B$6,L15+M15,O15*10+L15+M15,P15*10+L15+O15*10+M15,L15+M15+N15,CHOOSE(Q15,L15+O15*10+M15+N15,O15*10+L15+M15+P15*10+N15,O15*10+L15+P15*10+M15+N15),O15*10+M15)","v":55},null,{"$f":"IF(ROW()<=Worksheet!$B$4/4,U14+1,\"\")","v":45},5,{"$f":"IF(Worksheet!V20=6,RANDBETWEEN(1,9),IF(AND(Worksheet!$B$14),IF(V15=0,RANDBETWEEN(IF(RAND()<0.3,0,1),9),CHOOSE(V15,RANDBETWEEN(IF(RAND()<0.3,0,1),9),RANDBETWEEN(8,9),RANDBETWEEN(7,9),RANDBETWEEN(6,9),RANDBETWEEN(5,9),RANDBETWEEN(4,9),RANDBETWEEN(3,9),RANDBETWEEN(2,9),RANDBETWEEN(1,9))),IF(V15=0,RANDBETWEEN(1,9),CHOOSE(V15,RANDBETWEEN(0,8),RANDBETWEEN(0,7),RANDBETWEEN(0,6),RANDBETWEEN(0,5),RANDBETWEEN(0,4),RANDBETWEEN(0,3),RANDBETWEEN(0,2),RANDBETWEEN(0,1),RANDBETWEEN(0,8)))))","v":5},8,{"$f":"RANDBETWEEN(1,Worksheet!$B$13/10-1)","v":1},{"$f":"RANDBETWEEN(1,Worksheet!$B$13/10-1)","v":1},{"$f":"RANDBETWEEN(1,IF(Worksheet!$B$6=6,2,3))","v":1},{"$f":"CONCATENATE(CHOOSE(Worksheet!$B$6,CONCATENATE(V15,\" + \",W15),CONCATENATE(Y15,V15,\" + \",W15),CONCATENATE(Z15,V15,\" + \",Y15,W15),CONCATENATE(V15,\" + \",W15,\" + \",X15),CONCATENATE(CHOOSE(AA15,CONCATENATE(V15,\" + \",Y15,W15,\" + \",X15),CONCATENATE(Y15,V15,\" + \",W15,\" + \",Z15,X15),CONCATENATE(Y15,V15,\" + \",Z15,W15,\" + \",X15))),CHOOSE(AA15,CONCATENATE(Y15,\"0 + \",W15),CONCATENATE(W15,\" + \",Y15,\"0\"))),\" = \")","v":"15 + 5 = "},{"$f":"CHOOSE(Worksheet!$B$6,V15+W15,Y15*10+V15+W15,Z15*10+V15+Y15*10+W15,V15+W15+X15,CHOOSE(AA15,V15+Y15*10+W15+X15,Y15*10+V15+W15+Z15*10+X15,Y15*10+V15+Z15*10+W15+X15),Y15*10+W15)","v":20},null,{"$f":"IF(ROW()<=Worksheet!$B$4/4,AE14+1,\"\")","v":60},4,{"$f":"IF(Worksheet!AF20=6,RANDBETWEEN(1,9),IF(AND(Worksheet!$B$14),IF(AF15=0,RANDBETWEEN(IF(RAND()<0.3,0,1),9),CHOOSE(AF15,RANDBETWEEN(IF(RAND()<0.3,0,1),9),RANDBETWEEN(8,9),RANDBETWEEN(7,9),RANDBETWEEN(6,9),RANDBETWEEN(5,9),RANDBETWEEN(4,9),RANDBETWEEN(3,9),RANDBETWEEN(2,9),RANDBETWEEN(1,9))),IF(AF15=0,RANDBETWEEN(1,9),CHOOSE(AF15,RANDBETWEEN(0,8),RANDBETWEEN(0,7),RANDBETWEEN(0,6),RANDBETWEEN(0,5),RANDBETWEEN(0,4),RANDBETWEEN(0,3),RANDBETWEEN(0,2),RANDBETWEEN(0,1),RANDBETWEEN(0,8)))))","v":7},4,{"$f":"RANDBETWEEN(1,Worksheet!$B$13/10-1)","v":1},{"$f":"RANDBETWEEN(1,Worksheet!$B$13/10-1)","v":4},{"$f":"RANDBETWEEN(1,IF(Worksheet!$B$6=6,2,3))","v":3},{"$f":"CONCATENATE(CHOOSE(Worksheet!$B$6,CONCATENATE(AF15,\" + \",AG15),CONCATENATE(AI15,AF15,\" + \",AG15),CONCATENATE(AJ15,AF15,\" + \",AI15,AG15),CONCATENATE(AF15,\" + \",AG15,\" + \",AH15),CONCATENATE(CHOOSE(AK15,CONCATENATE(AF15,\" + \",AI15,AG15,\" + \",AH15),CONCATENATE(AI15,AF15,\" + \",AG15,\" + \",AJ15,AH15),CONCATENATE(AI15,AF15,\" + \",AJ15,AG15,\" + \",AH15))),CHOOSE(AK15,CONCATENATE(AI15,\"0 + \",AG15),CONCATENATE(AG15,\" + \",AI15,\"0\"))),\" = \")","v":"14 + 7 = "},{"$f":"CHOOSE(Worksheet!$B$6,AF15+AG15,AI15*10+AF15+AG15,AJ15*10+AF15+AI15*10+AG15,AF15+AG15+AH15,CHOOSE(AK15,AF15+AI15*10+AG15+AH15,AI15*10+AF15+AG15+AJ15*10+AH15,AI15*10+AF15+AJ15*10+AG15+AH15),AI15*10+AG15)","v":21}]