{"text_format":"1","workbook":"xlsx","n_sheets":2,"sheets":["Worksheet","SYSTEM FORMULAE"],"not_rendered":{"charts":0,"images":0,"macros":1,"external_links":0,"defined_names":2,"comments":0,"pivot_tables":0},"unopened":[],"bounds":{"document_bytes":16777216,"sheet_cells":100000,"rows_first":2000,"rows_last":500,"rows_between":2000,"halvings":0,"cell_chars":16384,"cell_head_chars":4096},"cells_cut":0,"cells_raw":0,"read":"whole","date_system":"1900"}

{"sheet":"Worksheet","index":0,"n_rows":16,"n_cols":26,"rows_kept":16,"cut":false,"hidden":false,"merged":[[1,0,1,1],[4,0,4,1],[0,2,0,25],[8,0,8,1]]}
[null,null,{"$f":"IF(B6=1,\"Add:\",IF(B6=2,\"Take away:\",\"Add or take away:\"))","v":"Add or take away:"}]
["Variables",null,1,32,"+",28,"=",60,16,81,"–",6,"=",75,31,67,"–",18,"=",49,46,44,"–",16,"=",28]
["SHOW ANSWERS",false,2,50,"–",6,"=",44,17,77,"+",36,"=",113,32,22,"+",89,"=",111,47,89,"–",20,"=",69]
["Number of questions (minimum 20, maximum 60)",60,3,47,"–",29,"=",18,18,74,"+",37,"=",111,33,89,"+",99,"=",188,48,88,"+",79,"=",167]
["Type of operation",null,4,69,"–",30,"=",39,19,13,"–",5,"=",8,34,84,"+",29,"=",113,49,61,"+",29,"=",90]
["Add",3,5,65,"+",68,"=",133,20,28,"+",34,"=",62,35,40,"–",35,"=",5,50,45,"–",16,"=",29]
["Take away",null,6,47,"+",84,"=",131,21,24,"–",15,"=",9,36,18,"+",98,"=",116,51,78,"+",59,"=",137]
["Mixed add and take away",null,7,45,"–",37,"=",8,22,75,"–",19,"=",56,37,64,"+",57,"=",121,52,59,"+",26,"=",85]
["Rounding requirements",null,8,76,"–",9,"=",67,23,29,"–",10,"=",19,38,51,"–",38,"=",13,53,45,"+",39,"=",84]
["Second number is only allowed to be single digit or 10",false,9,52,"+",29,"=",81,24,89,"–",70,"=",19,39,89,"–",20,"=",69,54,35,"+",29,"=",64]
["Ensure a tens boundary is crossed in every question",true,10,24,"–",8,"=",16,25,65,"+",75,"=",140,40,54,"+",38,"=",92,55,86,"+",14,"=",100]
["Allow final answer to be bigger than 100 (when adding)",true,11,81,"+",59,"=",140,26,36,"+",35,"=",71,41,32,"–",27,"=",5,56,77,"+",93,"=",170]
[null,null,12,56,"–",48,"=",8,27,22,"+",28,"=",50,42,57,"–",49,"=",8,57,37,"–",8,"=",29]
[null,null,13,62,"–",14,"=",48,28,56,"–",7,"=",49,43,87,"+",84,"=",171,58,65,"–",18,"=",47]
[null,null,14,12,"–",8,"=",4,29,16,"+",89,"=",105,44,17,"–",8,"=",9,59,63,"–",9,"=",54]
[null,null,15,40,"–",37,"=",3,30,36,"+",55,"=",91,45,44,"–",18,"=",26,60,16,"–",9,"=",7]

{"sheet":"SYSTEM FORMULAE","index":1,"n_rows":15,"n_cols":24,"rows_kept":15,"cut":false,"hidden":false,"merged":[]}
[{"$f":"IF(ROW()<=Worksheet!$B$4/4,ROW(),\"\")","v":1},{"$f":"IF(AND(C1=\"+\",Worksheet!$B$11),RANDBETWEEN(1,8)*10+RANDBETWEEN(1,9),RANDBETWEEN(11,99))","v":51},{"$f":"IF(Worksheet!$B$6=1,\"+\",IF(Worksheet!$B$6=2,\"–\",CHOOSE(RANDBETWEEN(1,2),\"+\",\"–\")))","v":"+"},{"$f":"IF(Worksheet!$B$10,IF(Worksheet!$B$11,IF(C1=\"+\",RANDBETWEEN(9-(B1-10*INT(B1/10))+1,IF(B1-10*INT(B1/10)=0,10,9)),RANDBETWEEN((B1-10*INT(B1/10)+1),IF(B1-10*INT(B1/10)=9,10,9))),RANDBETWEEN(1,9)),IF(C1=\"+\",IF(Worksheet!$B$12,IF(Worksheet!$B$11,10*RANDBETWEEN(1,9)+RANDBETWEEN(10-(B1-10*INT(B1/10)),IF(10-(B1-10*INT(B1/10))>9,10,9)),RANDBETWEEN(1,99)),IF(Worksheet!$B$11,INT(RANDBETWEEN(1,99-B1)/10)*10+RANDBETWEEN(10-(B1-10*INT(B1/10)),IF(10-(B1-10*INT(B1/10))=10,10,9)),RANDBETWEEN(0,99-B1))),IF(Worksheet!$B$11,RANDBETWEEN(B1-10*INT(B1/10)+1,IF(B1-10*INT(B1/10)+1=10,10,9))+10*RANDBETWEEN(0,INT(B1/10)-1),RANDBETWEEN(1,B1))))","v":19},"=",{"$f":"IF(C1=\"+\",B1+D1,B1-D1)","v":70},{"$f":"MAX(A1:A20)+1","v":16},{"$f":"IF(AND(I1=\"+\",Worksheet!$B$11),RANDBETWEEN(1,8)*10+RANDBETWEEN(1,9),RANDBETWEEN(11,99))","v":42},{"$f":"IF(Worksheet!$B$6=1,\"+\",IF(Worksheet!$B$6=2,\"–\",CHOOSE(RANDBETWEEN(1,2),\"+\",\"–\")))","v":"+"},{"$f":"IF(Worksheet!$B$10,IF(Worksheet!$B$11,IF(I1=\"+\",RANDBETWEEN(9-(H1-10*INT(H1/10))+1,IF(H1-10*INT(H1/10)=0,10,9)),RANDBETWEEN((H1-10*INT(H1/10)+1),IF(H1-10*INT(H1/10)=9,10,9))),RANDBETWEEN(1,9)),IF(I1=\"+\",IF(Worksheet!$B$12,IF(Worksheet!$B$11,10*RANDBETWEEN(1,9)+RANDBETWEEN(10-(H1-10*INT(H1/10)),IF(10-(H1-10*INT(H1/10))>9,10,9)),RANDBETWEEN(1,99)),IF(Worksheet!$B$11,INT(RANDBETWEEN(1,99-H1)/10)*10+RANDBETWEEN(10-(H1-10*INT(H1/10)),IF(10-(H1-10*INT(H1/10))=10,10,9)),RANDBETWEEN(0,99-H1))),IF(Worksheet!$B$11,RANDBETWEEN(H1-10*INT(H1/10)+1,IF(H1-10*INT(H1/10)+1=10,10,9))+10*RANDBETWEEN(0,INT(H1/10)-1),RANDBETWEEN(1,H1))))","v":89},"=",{"$f":"IF(I1=\"+\",H1+J1,H1-J1)","v":131},{"$f":"MAX(G1:G20)+1","v":31},{"$f":"IF(AND(O1=\"+\",Worksheet!$B$11),RANDBETWEEN(1,8)*10+RANDBETWEEN(1,9),RANDBETWEEN(11,99))","v":83},{"$f":"IF(Worksheet!$B$6=1,\"+\",IF(Worksheet!$B$6=2,\"–\",CHOOSE(RANDBETWEEN(1,2),\"+\",\"–\")))","v":"–"},{"$f":"IF(Worksheet!$B$10,IF(Worksheet!$B$11,IF(O1=\"+\",RANDBETWEEN(9-(N1-10*INT(N1/10))+1,IF(N1-10*INT(N1/10)=0,10,9)),RANDBETWEEN((N1-10*INT(N1/10)+1),IF(N1-10*INT(N1/10)=9,10,9))),RANDBETWEEN(1,9)),IF(O1=\"+\",IF(Worksheet!$B$12,IF(Worksheet!$B$11,10*RANDBETWEEN(1,9)+RANDBETWEEN(10-(N1-10*INT(N1/10)),IF(10-(N1-10*INT(N1/10))>9,10,9)),RANDBETWEEN(1,99)),IF(Worksheet!$B$11,INT(RANDBETWEEN(1,99-N1)/10)*10+RANDBETWEEN(10-(N1-10*INT(N1/10)),IF(10-(N1-10*INT(N1/10))=10,10,9)),RANDBETWEEN(0,99-N1))),IF(Worksheet!$B$11,RANDBETWEEN(N1-10*INT(N1/10)+1,IF(N1-10*INT(N1/10)+1=10,10,9))+10*RANDBETWEEN(0,INT(N1/10)-1),RANDBETWEEN(1,N1))))","v":26},"=",{"$f":"IF(O1=\"+\",N1+P1,N1-P1)","v":57},{"$f":"MAX(M1:M20)+1","v":46},{"$f":"IF(AND(U1=\"+\",Worksheet!$B$11),RANDBETWEEN(1,8)*10+RANDBETWEEN(1,9),RANDBETWEEN(11,99))","v":18},{"$f":"IF(Worksheet!$B$6=1,\"+\",IF(Worksheet!$B$6=2,\"–\",CHOOSE(RANDBETWEEN(1,2),\"+\",\"–\")))","v":"–"},{"$f":"IF(Worksheet!$B$10,IF(Worksheet!$B$11,IF(U1=\"+\",RANDBETWEEN(9-(T1-10*INT(T1/10))+1,IF(T1-10*INT(T1/10)=0,10,9)),RANDBETWEEN((T1-10*INT(T1/10)+1),IF(T1-10*INT(T1/10)=9,10,9))),RANDBETWEEN(1,9)),IF(U1=\"+\",IF(Worksheet!$B$12,IF(Worksheet!$B$11,10*RANDBETWEEN(1,9)+RANDBETWEEN(10-(T1-10*INT(T1/10)),IF(10-(T1-10*INT(T1/10))>9,10,9)),RANDBETWEEN(1,99)),IF(Worksheet!$B$11,INT(RANDBETWEEN(1,99-T1)/10)*10+RANDBETWEEN(10-(T1-10*INT(T1/10)),IF(10-(T1-10*INT(T1/10))=10,10,9)),RANDBETWEEN(0,99-T1))),IF(Worksheet!$B$11,RANDBETWEEN(T1-10*INT(T1/10)+1,IF(T1-10*INT(T1/10)+1=10,10,9))+10*RANDBETWEEN(0,INT(T1/10)-1),RANDBETWEEN(1,T1))))","v":9},"=",{"$f":"IF(U1=\"+\",T1+V1,T1-V1)","v":9}]
[{"$f":"IF(ROW()<=Worksheet!$B$4/4,ROW(),\"\")","v":2},{"$f":"IF(AND(C2=\"+\",Worksheet!$B$11),RANDBETWEEN(1,8)*10+RANDBETWEEN(1,9),RANDBETWEEN(11,99))","v":28},{"$f":"IF(Worksheet!$B$6=1,\"+\",IF(Worksheet!$B$6=2,\"–\",CHOOSE(RANDBETWEEN(1,2),\"+\",\"–\")))","v":"+"},{"$f":"IF(Worksheet!$B$10,IF(Worksheet!$B$11,IF(C2=\"+\",RANDBETWEEN(9-(B2-10*INT(B2/10))+1,IF(B2-10*INT(B2/10)=0,10,9)),RANDBETWEEN((B2-10*INT(B2/10)+1),IF(B2-10*INT(B2/10)=9,10,9))),RANDBETWEEN(1,9)),IF(C2=\"+\",IF(Worksheet!$B$12,IF(Worksheet!$B$11,10*RANDBETWEEN(1,9)+RANDBETWEEN(10-(B2-10*INT(B2/10)),IF(10-(B2-10*INT(B2/10))>9,10,9)),RANDBETWEEN(1,99)),IF(Worksheet!$B$11,INT(RANDBETWEEN(1,99-B2)/10)*10+RANDBETWEEN(10-(B2-10*INT(B2/10)),IF(10-(B2-10*INT(B2/10))=10,10,9)),RANDBETWEEN(0,99-B2))),IF(Worksheet!$B$11,RANDBETWEEN(B2-10*INT(B2/10)+1,IF(B2-10*INT(B2/10)+1=10,10,9))+10*RANDBETWEEN(0,INT(B2/10)-1),RANDBETWEEN(1,B2))))","v":73},"=",{"$f":"IF(C2=\"+\",B2+D2,B2-D2)","v":101},{"$f":"IF(ROW()<=Worksheet!$B$4/4,G1+1,\"\")","v":17},{"$f":"IF(AND(I2=\"+\",Worksheet!$B$11),RANDBETWEEN(1,8)*10+RANDBETWEEN(1,9),RANDBETWEEN(11,99))","v":53},{"$f":"IF(Worksheet!$B$6=1,\"+\",IF(Worksheet!$B$6=2,\"–\",CHOOSE(RANDBETWEEN(1,2),\"+\",\"–\")))","v":"+"},{"$f":"IF(Worksheet!$B$10,IF(Worksheet!$B$11,IF(I2=\"+\",RANDBETWEEN(9-(H2-10*INT(H2/10))+1,IF(H2-10*INT(H2/10)=0,10,9)),RANDBETWEEN((H2-10*INT(H2/10)+1),IF(H2-10*INT(H2/10)=9,10,9))),RANDBETWEEN(1,9)),IF(I2=\"+\",IF(Worksheet!$B$12,IF(Worksheet!$B$11,10*RANDBETWEEN(1,9)+RANDBETWEEN(10-(H2-10*INT(H2/10)),IF(10-(H2-10*INT(H2/10))>9,10,9)),RANDBETWEEN(1,99)),IF(Worksheet!$B$11,INT(RANDBETWEEN(1,99-H2)/10)*10+RANDBETWEEN(10-(H2-10*INT(H2/10)),IF(10-(H2-10*INT(H2/10))=10,10,9)),RANDBETWEEN(0,99-H2))),IF(Worksheet!$B$11,RANDBETWEEN(H2-10*INT(H2/10)+1,IF(H2-10*INT(H2/10)+1=10,10,9))+10*RANDBETWEEN(0,INT(H2/10)-1),RANDBETWEEN(1,H2))))","v":57},"=",{"$f":"IF(I2=\"+\",H2+J2,H2-J2)","v":110},{"$f":"IF(ROW()<=Worksheet!$B$4/4,M1+1,\"\")","v":32},{"$f":"IF(AND(O2=\"+\",Worksheet!$B$11),RANDBETWEEN(1,8)*10+RANDBETWEEN(1,9),RANDBETWEEN(11,99))","v":27},{"$f":"IF(Worksheet!$B$6=1,\"+\",IF(Worksheet!$B$6=2,\"–\",CHOOSE(RANDBETWEEN(1,2),\"+\",\"–\")))","v":"+"},{"$f":"IF(Worksheet!$B$10,IF(Worksheet!$B$11,IF(O2=\"+\",RANDBETWEEN(9-(N2-10*INT(N2/10))+1,IF(N2-10*INT(N2/10)=0,10,9)),RANDBETWEEN((N2-10*INT(N2/10)+1),IF(N2-10*INT(N2/10)=9,10,9))),RANDBETWEEN(1,9)),IF(O2=\"+\",IF(Worksheet!$B$12,IF(Worksheet!$B$11,10*RANDBETWEEN(1,9)+RANDBETWEEN(10-(N2-10*INT(N2/10)),IF(10-(N2-10*INT(N2/10))>9,10,9)),RANDBETWEEN(1,99)),IF(Worksheet!$B$11,INT(RANDBETWEEN(1,99-N2)/10)*10+RANDBETWEEN(10-(N2-10*INT(N2/10)),IF(10-(N2-10*INT(N2/10))=10,10,9)),RANDBETWEEN(0,99-N2))),IF(Worksheet!$B$11,RANDBETWEEN(N2-10*INT(N2/10)+1,IF(N2-10*INT(N2/10)+1=10,10,9))+10*RANDBETWEEN(0,INT(N2/10)-1),RANDBETWEEN(1,N2))))","v":77},"=",{"$f":"IF(O2=\"+\",N2+P2,N2-P2)","v":104},{"$f":"IF(ROW()<=Worksheet!$B$4/4,S1+1,\"\")","v":47},{"$f":"IF(AND(U2=\"+\",Worksheet!$B$11),RANDBETWEEN(1,8)*10+RANDBETWEEN(1,9),RANDBETWEEN(11,99))","v":43},{"$f":"IF(Worksheet!$B$6=1,\"+\",IF(Worksheet!$B$6=2,\"–\",CHOOSE(RANDBETWEEN(1,2),\"+\",\"–\")))","v":"+"},{"$f":"IF(Worksheet!$B$10,IF(Worksheet!$B$11,IF(U2=\"+\",RANDBETWEEN(9-(T2-10*INT(T2/10))+1,IF(T2-10*INT(T2/10)=0,10,9)),RANDBETWEEN((T2-10*INT(T2/10)+1),IF(T2-10*INT(T2/10)=9,10,9))),RANDBETWEEN(1,9)),IF(U2=\"+\",IF(Worksheet!$B$12,IF(Worksheet!$B$11,10*RANDBETWEEN(1,9)+RANDBETWEEN(10-(T2-10*INT(T2/10)),IF(10-(T2-10*INT(T2/10))>9,10,9)),RANDBETWEEN(1,99)),IF(Worksheet!$B$11,INT(RANDBETWEEN(1,99-T2)/10)*10+RANDBETWEEN(10-(T2-10*INT(T2/10)),IF(10-(T2-10*INT(T2/10))=10,10,9)),RANDBETWEEN(0,99-T2))),IF(Worksheet!$B$11,RANDBETWEEN(T2-10*INT(T2/10)+1,IF(T2-10*INT(T2/10)+1=10,10,9))+10*RANDBETWEEN(0,INT(T2/10)-1),RANDBETWEEN(1,T2))))","v":97},"=",{"$f":"IF(U2=\"+\",T2+V2,T2-V2)","v":140}]
[{"$f":"IF(ROW()<=Worksheet!$B$4/4,ROW(),\"\")","v":3},{"$f":"IF(AND(C3=\"+\",Worksheet!$B$11),RANDBETWEEN(1,8)*10+RANDBETWEEN(1,9),RANDBETWEEN(11,99))","v":65},{"$f":"IF(Worksheet!$B$6=1,\"+\",IF(Worksheet!$B$6=2,\"–\",CHOOSE(RANDBETWEEN(1,2),\"+\",\"–\")))","v":"–"},{"$f":"IF(Worksheet!$B$10,IF(Worksheet!$B$11,IF(C3=\"+\",RANDBETWEEN(9-(B3-10*INT(B3/10))+1,IF(B3-10*INT(B3/10)=0,10,9)),RANDBETWEEN((B3-10*INT(B3/10)+1),IF(B3-10*INT(B3/10)=9,10,9))),RANDBETWEEN(1,9)),IF(C3=\"+\",IF(Worksheet!$B$12,IF(Worksheet!$B$11,10*RANDBETWEEN(1,9)+RANDBETWEEN(10-(B3-10*INT(B3/10)),IF(10-(B3-10*INT(B3/10))>9,10,9)),RANDBETWEEN(1,99)),IF(Worksheet!$B$11,INT(RANDBETWEEN(1,99-B3)/10)*10+RANDBETWEEN(10-(B3-10*INT(B3/10)),IF(10-(B3-10*INT(B3/10))=10,10,9)),RANDBETWEEN(0,99-B3))),IF(Worksheet!$B$11,RANDBETWEEN(B3-10*INT(B3/10)+1,IF(B3-10*INT(B3/10)+1=10,10,9))+10*RANDBETWEEN(0,INT(B3/10)-1),RANDBETWEEN(1,B3))))","v":49},"=",16,{"$f":"IF(ROW()<=Worksheet!$B$4/4,G2+1,\"\")","v":18},{"$f":"IF(AND(I3=\"+\",Worksheet!$B$11),RANDBETWEEN(1,8)*10+RANDBETWEEN(1,9),RANDBETWEEN(11,99))","v":68},{"$f":"IF(Worksheet!$B$6=1,\"+\",IF(Worksheet!$B$6=2,\"–\",CHOOSE(RANDBETWEEN(1,2),\"+\",\"–\")))","v":"–"},{"$f":"IF(Worksheet!$B$10,IF(Worksheet!$B$11,IF(I3=\"+\",RANDBETWEEN(9-(H3-10*INT(H3/10))+1,IF(H3-10*INT(H3/10)=0,10,9)),RANDBETWEEN((H3-10*INT(H3/10)+1),IF(H3-10*INT(H3/10)=9,10,9))),RANDBETWEEN(1,9)),IF(I3=\"+\",IF(Worksheet!$B$12,IF(Worksheet!$B$11,10*RANDBETWEEN(1,9)+RANDBETWEEN(10-(H3-10*INT(H3/10)),IF(10-(H3-10*INT(H3/10))>9,10,9)),RANDBETWEEN(1,99)),IF(Worksheet!$B$11,INT(RANDBETWEEN(1,99-H3)/10)*10+RANDBETWEEN(10-(H3-10*INT(H3/10)),IF(10-(H3-10*INT(H3/10))=10,10,9)),RANDBETWEEN(0,99-H3))),IF(Worksheet!$B$11,RANDBETWEEN(H3-10*INT(H3/10)+1,IF(H3-10*INT(H3/10)+1=10,10,9))+10*RANDBETWEEN(0,INT(H3/10)-1),RANDBETWEEN(1,H3))))","v":49},"=",19,{"$f":"IF(ROW()<=Worksheet!$B$4/4,M2+1,\"\")","v":33},{"$f":"IF(AND(O3=\"+\",Worksheet!$B$11),RANDBETWEEN(1,8)*10+RANDBETWEEN(1,9),RANDBETWEEN(11,99))","v":71},{"$f":"IF(Worksheet!$B$6=1,\"+\",IF(Worksheet!$B$6=2,\"–\",CHOOSE(RANDBETWEEN(1,2),\"+\",\"–\")))","v":"–"},{"$f":"IF(Worksheet!$B$10,IF(Worksheet!$B$11,IF(O3=\"+\",RANDBETWEEN(9-(N3-10*INT(N3/10))+1,IF(N3-10*INT(N3/10)=0,10,9)),RANDBETWEEN((N3-10*INT(N3/10)+1),IF(N3-10*INT(N3/10)=9,10,9))),RANDBETWEEN(1,9)),IF(O3=\"+\",IF(Worksheet!$B$12,IF(Worksheet!$B$11,10*RANDBETWEEN(1,9)+RANDBETWEEN(10-(N3-10*INT(N3/10)),IF(10-(N3-10*INT(N3/10))>9,10,9)),RANDBETWEEN(1,99)),IF(Worksheet!$B$11,INT(RANDBETWEEN(1,99-N3)/10)*10+RANDBETWEEN(10-(N3-10*INT(N3/10)),IF(10-(N3-10*INT(N3/10))=10,10,9)),RANDBETWEEN(0,99-N3))),IF(Worksheet!$B$11,RANDBETWEEN(N3-10*INT(N3/10)+1,IF(N3-10*INT(N3/10)+1=10,10,9))+10*RANDBETWEEN(0,INT(N3/10)-1),RANDBETWEEN(1,N3))))","v":47},"=",24,{"$f":"IF(ROW()<=Worksheet!$B$4/4,S2+1,\"\")","v":48},{"$f":"IF(AND(U3=\"+\",Worksheet!$B$11),RANDBETWEEN(1,8)*10+RANDBETWEEN(1,9),RANDBETWEEN(11,99))","v":47},{"$f":"IF(Worksheet!$B$6=1,\"+\",IF(Worksheet!$B$6=2,\"–\",CHOOSE(RANDBETWEEN(1,2),\"+\",\"–\")))","v":"+"},{"$f":"IF(Worksheet!$B$10,IF(Worksheet!$B$11,IF(U3=\"+\",RANDBETWEEN(9-(T3-10*INT(T3/10))+1,IF(T3-10*INT(T3/10)=0,10,9)),RANDBETWEEN((T3-10*INT(T3/10)+1),IF(T3-10*INT(T3/10)=9,10,9))),RANDBETWEEN(1,9)),IF(U3=\"+\",IF(Worksheet!$B$12,IF(Worksheet!$B$11,10*RANDBETWEEN(1,9)+RANDBETWEEN(10-(T3-10*INT(T3/10)),IF(10-(T3-10*INT(T3/10))>9,10,9)),RANDBETWEEN(1,99)),IF(Worksheet!$B$11,INT(RANDBETWEEN(1,99-T3)/10)*10+RANDBETWEEN(10-(T3-10*INT(T3/10)),IF(10-(T3-10*INT(T3/10))=10,10,9)),RANDBETWEEN(0,99-T3))),IF(Worksheet!$B$11,RANDBETWEEN(T3-10*INT(T3/10)+1,IF(T3-10*INT(T3/10)+1=10,10,9))+10*RANDBETWEEN(0,INT(T3/10)-1),RANDBETWEEN(1,T3))))","v":93},"=",140]
[{"$f":"IF(ROW()<=Worksheet!$B$4/4,ROW(),\"\")","v":4},{"$f":"IF(AND(C4=\"+\",Worksheet!$B$11),RANDBETWEEN(1,8)*10+RANDBETWEEN(1,9),RANDBETWEEN(11,99))","v":51},{"$f":"IF(Worksheet!$B$6=1,\"+\",IF(Worksheet!$B$6=2,\"–\",CHOOSE(RANDBETWEEN(1,2),\"+\",\"–\")))","v":"–"},{"$f":"IF(Worksheet!$B$10,IF(Worksheet!$B$11,IF(C4=\"+\",RANDBETWEEN(9-(B4-10*INT(B4/10))+1,IF(B4-10*INT(B4/10)=0,10,9)),RANDBETWEEN((B4-10*INT(B4/10)+1),IF(B4-10*INT(B4/10)=9,10,9))),RANDBETWEEN(1,9)),IF(C4=\"+\",IF(Worksheet!$B$12,IF(Worksheet!$B$11,10*RANDBETWEEN(1,9)+RANDBETWEEN(10-(B4-10*INT(B4/10)),IF(10-(B4-10*INT(B4/10))>9,10,9)),RANDBETWEEN(1,99)),IF(Worksheet!$B$11,INT(RANDBETWEEN(1,99-B4)/10)*10+RANDBETWEEN(10-(B4-10*INT(B4/10)),IF(10-(B4-10*INT(B4/10))=10,10,9)),RANDBETWEEN(0,99-B4))),IF(Worksheet!$B$11,RANDBETWEEN(B4-10*INT(B4/10)+1,IF(B4-10*INT(B4/10)+1=10,10,9))+10*RANDBETWEEN(0,INT(B4/10)-1),RANDBETWEEN(1,B4))))","v":38},"=",13,{"$f":"IF(ROW()<=Worksheet!$B$4/4,G3+1,\"\")","v":19},{"$f":"IF(AND(I4=\"+\",Worksheet!$B$11),RANDBETWEEN(1,8)*10+RANDBETWEEN(1,9),RANDBETWEEN(11,99))","v":31},{"$f":"IF(Worksheet!$B$6=1,\"+\",IF(Worksheet!$B$6=2,\"–\",CHOOSE(RANDBETWEEN(1,2),\"+\",\"–\")))","v":"+"},{"$f":"IF(Worksheet!$B$10,IF(Worksheet!$B$11,IF(I4=\"+\",RANDBETWEEN(9-(H4-10*INT(H4/10))+1,IF(H4-10*INT(H4/10)=0,10,9)),RANDBETWEEN((H4-10*INT(H4/10)+1),IF(H4-10*INT(H4/10)=9,10,9))),RANDBETWEEN(1,9)),IF(I4=\"+\",IF(Worksheet!$B$12,IF(Worksheet!$B$11,10*RANDBETWEEN(1,9)+RANDBETWEEN(10-(H4-10*INT(H4/10)),IF(10-(H4-10*INT(H4/10))>9,10,9)),RANDBETWEEN(1,99)),IF(Worksheet!$B$11,INT(RANDBETWEEN(1,99-H4)/10)*10+RANDBETWEEN(10-(H4-10*INT(H4/10)),IF(10-(H4-10*INT(H4/10))=10,10,9)),RANDBETWEEN(0,99-H4))),IF(Worksheet!$B$11,RANDBETWEEN(H4-10*INT(H4/10)+1,IF(H4-10*INT(H4/10)+1=10,10,9))+10*RANDBETWEEN(0,INT(H4/10)-1),RANDBETWEEN(1,H4))))","v":39},"=",70,{"$f":"IF(ROW()<=Worksheet!$B$4/4,M3+1,\"\")","v":34},{"$f":"IF(AND(O4=\"+\",Worksheet!$B$11),RANDBETWEEN(1,8)*10+RANDBETWEEN(1,9),RANDBETWEEN(11,99))","v":28},{"$f":"IF(Worksheet!$B$6=1,\"+\",IF(Worksheet!$B$6=2,\"–\",CHOOSE(RANDBETWEEN(1,2),\"+\",\"–\")))","v":"–"},{"$f":"IF(Worksheet!$B$10,IF(Worksheet!$B$11,IF(O4=\"+\",RANDBETWEEN(9-(N4-10*INT(N4/10))+1,IF(N4-10*INT(N4/10)=0,10,9)),RANDBETWEEN((N4-10*INT(N4/10)+1),IF(N4-10*INT(N4/10)=9,10,9))),RANDBETWEEN(1,9)),IF(O4=\"+\",IF(Worksheet!$B$12,IF(Worksheet!$B$11,10*RANDBETWEEN(1,9)+RANDBETWEEN(10-(N4-10*INT(N4/10)),IF(10-(N4-10*INT(N4/10))>9,10,9)),RANDBETWEEN(1,99)),IF(Worksheet!$B$11,INT(RANDBETWEEN(1,99-N4)/10)*10+RANDBETWEEN(10-(N4-10*INT(N4/10)),IF(10-(N4-10*INT(N4/10))=10,10,9)),RANDBETWEEN(0,99-N4))),IF(Worksheet!$B$11,RANDBETWEEN(N4-10*INT(N4/10)+1,IF(N4-10*INT(N4/10)+1=10,10,9))+10*RANDBETWEEN(0,INT(N4/10)-1),RANDBETWEEN(1,N4))))","v":19},"=",9,{"$f":"IF(ROW()<=Worksheet!$B$4/4,S3+1,\"\")","v":49},{"$f":"IF(AND(U4=\"+\",Worksheet!$B$11),RANDBETWEEN(1,8)*10+RANDBETWEEN(1,9),RANDBETWEEN(11,99))","v":58},{"$f":"IF(Worksheet!$B$6=1,\"+\",IF(Worksheet!$B$6=2,\"–\",CHOOSE(RANDBETWEEN(1,2),\"+\",\"–\")))","v":"+"},{"$f":"IF(Worksheet!$B$10,IF(Worksheet!$B$11,IF(U4=\"+\",RANDBETWEEN(9-(T4-10*INT(T4/10))+1,IF(T4-10*INT(T4/10)=0,10,9)),RANDBETWEEN((T4-10*INT(T4/10)+1),IF(T4-10*INT(T4/10)=9,10,9))),RANDBETWEEN(1,9)),IF(U4=\"+\",IF(Worksheet!$B$12,IF(Worksheet!$B$11,10*RANDBETWEEN(1,9)+RANDBETWEEN(10-(T4-10*INT(T4/10)),IF(10-(T4-10*INT(T4/10))>9,10,9)),RANDBETWEEN(1,99)),IF(Worksheet!$B$11,INT(RANDBETWEEN(1,99-T4)/10)*10+RANDBETWEEN(10-(T4-10*INT(T4/10)),IF(10-(T4-10*INT(T4/10))=10,10,9)),RANDBETWEEN(0,99-T4))),IF(Worksheet!$B$11,RANDBETWEEN(T4-10*INT(T4/10)+1,IF(T4-10*INT(T4/10)+1=10,10,9))+10*RANDBETWEEN(0,INT(T4/10)-1),RANDBETWEEN(1,T4))))","v":27},"=",85]
[{"$f":"IF(ROW()<=Worksheet!$B$4/4,ROW(),\"\")","v":5},{"$f":"IF(AND(C5=\"+\",Worksheet!$B$11),RANDBETWEEN(1,8)*10+RANDBETWEEN(1,9),RANDBETWEEN(11,99))","v":84},{"$f":"IF(Worksheet!$B$6=1,\"+\",IF(Worksheet!$B$6=2,\"–\",CHOOSE(RANDBETWEEN(1,2),\"+\",\"–\")))","v":"+"},{"$f":"IF(Worksheet!$B$10,IF(Worksheet!$B$11,IF(C5=\"+\",RANDBETWEEN(9-(B5-10*INT(B5/10))+1,IF(B5-10*INT(B5/10)=0,10,9)),RANDBETWEEN((B5-10*INT(B5/10)+1),IF(B5-10*INT(B5/10)=9,10,9))),RANDBETWEEN(1,9)),IF(C5=\"+\",IF(Worksheet!$B$12,IF(Worksheet!$B$11,10*RANDBETWEEN(1,9)+RANDBETWEEN(10-(B5-10*INT(B5/10)),IF(10-(B5-10*INT(B5/10))>9,10,9)),RANDBETWEEN(1,99)),IF(Worksheet!$B$11,INT(RANDBETWEEN(1,99-B5)/10)*10+RANDBETWEEN(10-(B5-10*INT(B5/10)),IF(10-(B5-10*INT(B5/10))=10,10,9)),RANDBETWEEN(0,99-B5))),IF(Worksheet!$B$11,RANDBETWEEN(B5-10*INT(B5/10)+1,IF(B5-10*INT(B5/10)+1=10,10,9))+10*RANDBETWEEN(0,INT(B5/10)-1),RANDBETWEEN(1,B5))))","v":17},"=",101,{"$f":"IF(ROW()<=Worksheet!$B$4/4,G4+1,\"\")","v":20},{"$f":"IF(AND(I5=\"+\",Worksheet!$B$11),RANDBETWEEN(1,8)*10+RANDBETWEEN(1,9),RANDBETWEEN(11,99))","v":38},{"$f":"IF(Worksheet!$B$6=1,\"+\",IF(Worksheet!$B$6=2,\"–\",CHOOSE(RANDBETWEEN(1,2),\"+\",\"–\")))","v":"–"},{"$f":"IF(Worksheet!$B$10,IF(Worksheet!$B$11,IF(I5=\"+\",RANDBETWEEN(9-(H5-10*INT(H5/10))+1,IF(H5-10*INT(H5/10)=0,10,9)),RANDBETWEEN((H5-10*INT(H5/10)+1),IF(H5-10*INT(H5/10)=9,10,9))),RANDBETWEEN(1,9)),IF(I5=\"+\",IF(Worksheet!$B$12,IF(Worksheet!$B$11,10*RANDBETWEEN(1,9)+RANDBETWEEN(10-(H5-10*INT(H5/10)),IF(10-(H5-10*INT(H5/10))>9,10,9)),RANDBETWEEN(1,99)),IF(Worksheet!$B$11,INT(RANDBETWEEN(1,99-H5)/10)*10+RANDBETWEEN(10-(H5-10*INT(H5/10)),IF(10-(H5-10*INT(H5/10))=10,10,9)),RANDBETWEEN(0,99-H5))),IF(Worksheet!$B$11,RANDBETWEEN(H5-10*INT(H5/10)+1,IF(H5-10*INT(H5/10)+1=10,10,9))+10*RANDBETWEEN(0,INT(H5/10)-1),RANDBETWEEN(1,H5))))","v":19},"=",19,{"$f":"IF(ROW()<=Worksheet!$B$4/4,M4+1,\"\")","v":35},{"$f":"IF(AND(O5=\"+\",Worksheet!$B$11),RANDBETWEEN(1,8)*10+RANDBETWEEN(1,9),RANDBETWEEN(11,99))","v":32},{"$f":"IF(Worksheet!$B$6=1,\"+\",IF(Worksheet!$B$6=2,\"–\",CHOOSE(RANDBETWEEN(1,2),\"+\",\"–\")))","v":"–"},{"$f":"IF(Worksheet!$B$10,IF(Worksheet!$B$11,IF(O5=\"+\",RANDBETWEEN(9-(N5-10*INT(N5/10))+1,IF(N5-10*INT(N5/10)=0,10,9)),RANDBETWEEN((N5-10*INT(N5/10)+1),IF(N5-10*INT(N5/10)=9,10,9))),RANDBETWEEN(1,9)),IF(O5=\"+\",IF(Worksheet!$B$12,IF(Worksheet!$B$11,10*RANDBETWEEN(1,9)+RANDBETWEEN(10-(N5-10*INT(N5/10)),IF(10-(N5-10*INT(N5/10))>9,10,9)),RANDBETWEEN(1,99)),IF(Worksheet!$B$11,INT(RANDBETWEEN(1,99-N5)/10)*10+RANDBETWEEN(10-(N5-10*INT(N5/10)),IF(10-(N5-10*INT(N5/10))=10,10,9)),RANDBETWEEN(0,99-N5))),IF(Worksheet!$B$11,RANDBETWEEN(N5-10*INT(N5/10)+1,IF(N5-10*INT(N5/10)+1=10,10,9))+10*RANDBETWEEN(0,INT(N5/10)-1),RANDBETWEEN(1,N5))))","v":24},"=",8,{"$f":"IF(ROW()<=Worksheet!$B$4/4,S4+1,\"\")","v":50},{"$f":"IF(AND(U5=\"+\",Worksheet!$B$11),RANDBETWEEN(1,8)*10+RANDBETWEEN(1,9),RANDBETWEEN(11,99))","v":76},{"$f":"IF(Worksheet!$B$6=1,\"+\",IF(Worksheet!$B$6=2,\"–\",CHOOSE(RANDBETWEEN(1,2),\"+\",\"–\")))","v":"+"},{"$f":"IF(Worksheet!$B$10,IF(Worksheet!$B$11,IF(U5=\"+\",RANDBETWEEN(9-(T5-10*INT(T5/10))+1,IF(T5-10*INT(T5/10)=0,10,9)),RANDBETWEEN((T5-10*INT(T5/10)+1),IF(T5-10*INT(T5/10)=9,10,9))),RANDBETWEEN(1,9)),IF(U5=\"+\",IF(Worksheet!$B$12,IF(Worksheet!$B$11,10*RANDBETWEEN(1,9)+RANDBETWEEN(10-(T5-10*INT(T5/10)),IF(10-(T5-10*INT(T5/10))>9,10,9)),RANDBETWEEN(1,99)),IF(Worksheet!$B$11,INT(RANDBETWEEN(1,99-T5)/10)*10+RANDBETWEEN(10-(T5-10*INT(T5/10)),IF(10-(T5-10*INT(T5/10))=10,10,9)),RANDBETWEEN(0,99-T5))),IF(Worksheet!$B$11,RANDBETWEEN(T5-10*INT(T5/10)+1,IF(T5-10*INT(T5/10)+1=10,10,9))+10*RANDBETWEEN(0,INT(T5/10)-1),RANDBETWEEN(1,T5))))","v":64},"=",140]
[{"$f":"IF(ROW()<=Worksheet!$B$4/4,ROW(),\"\")","v":6},{"$f":"IF(AND(C6=\"+\",Worksheet!$B$11),RANDBETWEEN(1,8)*10+RANDBETWEEN(1,9),RANDBETWEEN(11,99))","v":91},{"$f":"IF(Worksheet!$B$6=1,\"+\",IF(Worksheet!$B$6=2,\"–\",CHOOSE(RANDBETWEEN(1,2),\"+\",\"–\")))","v":"–"},{"$f":"IF(Worksheet!$B$10,IF(Worksheet!$B$11,IF(C6=\"+\",RANDBETWEEN(9-(B6-10*INT(B6/10))+1,IF(B6-10*INT(B6/10)=0,10,9)),RANDBETWEEN((B6-10*INT(B6/10)+1),IF(B6-10*INT(B6/10)=9,10,9))),RANDBETWEEN(1,9)),IF(C6=\"+\",IF(Worksheet!$B$12,IF(Worksheet!$B$11,10*RANDBETWEEN(1,9)+RANDBETWEEN(10-(B6-10*INT(B6/10)),IF(10-(B6-10*INT(B6/10))>9,10,9)),RANDBETWEEN(1,99)),IF(Worksheet!$B$11,INT(RANDBETWEEN(1,99-B6)/10)*10+RANDBETWEEN(10-(B6-10*INT(B6/10)),IF(10-(B6-10*INT(B6/10))=10,10,9)),RANDBETWEEN(0,99-B6))),IF(Worksheet!$B$11,RANDBETWEEN(B6-10*INT(B6/10)+1,IF(B6-10*INT(B6/10)+1=10,10,9))+10*RANDBETWEEN(0,INT(B6/10)-1),RANDBETWEEN(1,B6))))","v":38},"=",53,{"$f":"IF(ROW()<=Worksheet!$B$4/4,G5+1,\"\")","v":21},{"$f":"IF(AND(I6=\"+\",Worksheet!$B$11),RANDBETWEEN(1,8)*10+RANDBETWEEN(1,9),RANDBETWEEN(11,99))","v":84},{"$f":"IF(Worksheet!$B$6=1,\"+\",IF(Worksheet!$B$6=2,\"–\",CHOOSE(RANDBETWEEN(1,2),\"+\",\"–\")))","v":"–"},{"$f":"IF(Worksheet!$B$10,IF(Worksheet!$B$11,IF(I6=\"+\",RANDBETWEEN(9-(H6-10*INT(H6/10))+1,IF(H6-10*INT(H6/10)=0,10,9)),RANDBETWEEN((H6-10*INT(H6/10)+1),IF(H6-10*INT(H6/10)=9,10,9))),RANDBETWEEN(1,9)),IF(I6=\"+\",IF(Worksheet!$B$12,IF(Worksheet!$B$11,10*RANDBETWEEN(1,9)+RANDBETWEEN(10-(H6-10*INT(H6/10)),IF(10-(H6-10*INT(H6/10))>9,10,9)),RANDBETWEEN(1,99)),IF(Worksheet!$B$11,INT(RANDBETWEEN(1,99-H6)/10)*10+RANDBETWEEN(10-(H6-10*INT(H6/10)),IF(10-(H6-10*INT(H6/10))=10,10,9)),RANDBETWEEN(0,99-H6))),IF(Worksheet!$B$11,RANDBETWEEN(H6-10*INT(H6/10)+1,IF(H6-10*INT(H6/10)+1=10,10,9))+10*RANDBETWEEN(0,INT(H6/10)-1),RANDBETWEEN(1,H6))))","v":27},"=",57,{"$f":"IF(ROW()<=Worksheet!$B$4/4,M5+1,\"\")","v":36},{"$f":"IF(AND(O6=\"+\",Worksheet!$B$11),RANDBETWEEN(1,8)*10+RANDBETWEEN(1,9),RANDBETWEEN(11,99))","v":15},{"$f":"IF(Worksheet!$B$6=1,\"+\",IF(Worksheet!$B$6=2,\"–\",CHOOSE(RANDBETWEEN(1,2),\"+\",\"–\")))","v":"+"},{"$f":"IF(Worksheet!$B$10,IF(Worksheet!$B$11,IF(O6=\"+\",RANDBETWEEN(9-(N6-10*INT(N6/10))+1,IF(N6-10*INT(N6/10)=0,10,9)),RANDBETWEEN((N6-10*INT(N6/10)+1),IF(N6-10*INT(N6/10)=9,10,9))),RANDBETWEEN(1,9)),IF(O6=\"+\",IF(Worksheet!$B$12,IF(Worksheet!$B$11,10*RANDBETWEEN(1,9)+RANDBETWEEN(10-(N6-10*INT(N6/10)),IF(10-(N6-10*INT(N6/10))>9,10,9)),RANDBETWEEN(1,99)),IF(Worksheet!$B$11,INT(RANDBETWEEN(1,99-N6)/10)*10+RANDBETWEEN(10-(N6-10*INT(N6/10)),IF(10-(N6-10*INT(N6/10))=10,10,9)),RANDBETWEEN(0,99-N6))),IF(Worksheet!$B$11,RANDBETWEEN(N6-10*INT(N6/10)+1,IF(N6-10*INT(N6/10)+1=10,10,9))+10*RANDBETWEEN(0,INT(N6/10)-1),RANDBETWEEN(1,N6))))","v":28},"=",43,{"$f":"IF(ROW()<=Worksheet!$B$4/4,S5+1,\"\")","v":51},{"$f":"IF(AND(U6=\"+\",Worksheet!$B$11),RANDBETWEEN(1,8)*10+RANDBETWEEN(1,9),RANDBETWEEN(11,99))","v":55},{"$f":"IF(Worksheet!$B$6=1,\"+\",IF(Worksheet!$B$6=2,\"–\",CHOOSE(RANDBETWEEN(1,2),\"+\",\"–\")))","v":"–"},{"$f":"IF(Worksheet!$B$10,IF(Worksheet!$B$11,IF(U6=\"+\",RANDBETWEEN(9-(T6-10*INT(T6/10))+1,IF(T6-10*INT(T6/10)=0,10,9)),RANDBETWEEN((T6-10*INT(T6/10)+1),IF(T6-10*INT(T6/10)=9,10,9))),RANDBETWEEN(1,9)),IF(U6=\"+\",IF(Worksheet!$B$12,IF(Worksheet!$B$11,10*RANDBETWEEN(1,9)+RANDBETWEEN(10-(T6-10*INT(T6/10)),IF(10-(T6-10*INT(T6/10))>9,10,9)),RANDBETWEEN(1,99)),IF(Worksheet!$B$11,INT(RANDBETWEEN(1,99-T6)/10)*10+RANDBETWEEN(10-(T6-10*INT(T6/10)),IF(10-(T6-10*INT(T6/10))=10,10,9)),RANDBETWEEN(0,99-T6))),IF(Worksheet!$B$11,RANDBETWEEN(T6-10*INT(T6/10)+1,IF(T6-10*INT(T6/10)+1=10,10,9))+10*RANDBETWEEN(0,INT(T6/10)-1),RANDBETWEEN(1,T6))))","v":26},"=",29]
[{"$f":"IF(ROW()<=Worksheet!$B$4/4,ROW(),\"\")","v":7},{"$f":"IF(AND(C7=\"+\",Worksheet!$B$11),RANDBETWEEN(1,8)*10+RANDBETWEEN(1,9),RANDBETWEEN(11,99))","v":14},{"$f":"IF(Worksheet!$B$6=1,\"+\",IF(Worksheet!$B$6=2,\"–\",CHOOSE(RANDBETWEEN(1,2),\"+\",\"–\")))","v":"–"},{"$f":"IF(Worksheet!$B$10,IF(Worksheet!$B$11,IF(C7=\"+\",RANDBETWEEN(9-(B7-10*INT(B7/10))+1,IF(B7-10*INT(B7/10)=0,10,9)),RANDBETWEEN((B7-10*INT(B7/10)+1),IF(B7-10*INT(B7/10)=9,10,9))),RANDBETWEEN(1,9)),IF(C7=\"+\",IF(Worksheet!$B$12,IF(Worksheet!$B$11,10*RANDBETWEEN(1,9)+RANDBETWEEN(10-(B7-10*INT(B7/10)),IF(10-(B7-10*INT(B7/10))>9,10,9)),RANDBETWEEN(1,99)),IF(Worksheet!$B$11,INT(RANDBETWEEN(1,99-B7)/10)*10+RANDBETWEEN(10-(B7-10*INT(B7/10)),IF(10-(B7-10*INT(B7/10))=10,10,9)),RANDBETWEEN(0,99-B7))),IF(Worksheet!$B$11,RANDBETWEEN(B7-10*INT(B7/10)+1,IF(B7-10*INT(B7/10)+1=10,10,9))+10*RANDBETWEEN(0,INT(B7/10)-1),RANDBETWEEN(1,B7))))","v":9},"=",5,{"$f":"IF(ROW()<=Worksheet!$B$4/4,G6+1,\"\")","v":22},{"$f":"IF(AND(I7=\"+\",Worksheet!$B$11),RANDBETWEEN(1,8)*10+RANDBETWEEN(1,9),RANDBETWEEN(11,99))","v":87},{"$f":"IF(Worksheet!$B$6=1,\"+\",IF(Worksheet!$B$6=2,\"–\",CHOOSE(RANDBETWEEN(1,2),\"+\",\"–\")))","v":"+"},{"$f":"IF(Worksheet!$B$10,IF(Worksheet!$B$11,IF(I7=\"+\",RANDBETWEEN(9-(H7-10*INT(H7/10))+1,IF(H7-10*INT(H7/10)=0,10,9)),RANDBETWEEN((H7-10*INT(H7/10)+1),IF(H7-10*INT(H7/10)=9,10,9))),RANDBETWEEN(1,9)),IF(I7=\"+\",IF(Worksheet!$B$12,IF(Worksheet!$B$11,10*RANDBETWEEN(1,9)+RANDBETWEEN(10-(H7-10*INT(H7/10)),IF(10-(H7-10*INT(H7/10))>9,10,9)),RANDBETWEEN(1,99)),IF(Worksheet!$B$11,INT(RANDBETWEEN(1,99-H7)/10)*10+RANDBETWEEN(10-(H7-10*INT(H7/10)),IF(10-(H7-10*INT(H7/10))=10,10,9)),RANDBETWEEN(0,99-H7))),IF(Worksheet!$B$11,RANDBETWEEN(H7-10*INT(H7/10)+1,IF(H7-10*INT(H7/10)+1=10,10,9))+10*RANDBETWEEN(0,INT(H7/10)-1),RANDBETWEEN(1,H7))))","v":64},"=",151,{"$f":"IF(ROW()<=Worksheet!$B$4/4,M6+1,\"\")","v":37},{"$f":"IF(AND(O7=\"+\",Worksheet!$B$11),RANDBETWEEN(1,8)*10+RANDBETWEEN(1,9),RANDBETWEEN(11,99))","v":15},{"$f":"IF(Worksheet!$B$6=1,\"+\",IF(Worksheet!$B$6=2,\"–\",CHOOSE(RANDBETWEEN(1,2),\"+\",\"–\")))","v":"–"},{"$f":"IF(Worksheet!$B$10,IF(Worksheet!$B$11,IF(O7=\"+\",RANDBETWEEN(9-(N7-10*INT(N7/10))+1,IF(N7-10*INT(N7/10)=0,10,9)),RANDBETWEEN((N7-10*INT(N7/10)+1),IF(N7-10*INT(N7/10)=9,10,9))),RANDBETWEEN(1,9)),IF(O7=\"+\",IF(Worksheet!$B$12,IF(Worksheet!$B$11,10*RANDBETWEEN(1,9)+RANDBETWEEN(10-(N7-10*INT(N7/10)),IF(10-(N7-10*INT(N7/10))>9,10,9)),RANDBETWEEN(1,99)),IF(Worksheet!$B$11,INT(RANDBETWEEN(1,99-N7)/10)*10+RANDBETWEEN(10-(N7-10*INT(N7/10)),IF(10-(N7-10*INT(N7/10))=10,10,9)),RANDBETWEEN(0,99-N7))),IF(Worksheet!$B$11,RANDBETWEEN(N7-10*INT(N7/10)+1,IF(N7-10*INT(N7/10)+1=10,10,9))+10*RANDBETWEEN(0,INT(N7/10)-1),RANDBETWEEN(1,N7))))","v":8},"=",7,{"$f":"IF(ROW()<=Worksheet!$B$4/4,S6+1,\"\")","v":52},{"$f":"IF(AND(U7=\"+\",Worksheet!$B$11),RANDBETWEEN(1,8)*10+RANDBETWEEN(1,9),RANDBETWEEN(11,99))","v":66},{"$f":"IF(Worksheet!$B$6=1,\"+\",IF(Worksheet!$B$6=2,\"–\",CHOOSE(RANDBETWEEN(1,2),\"+\",\"–\")))","v":"–"},{"$f":"IF(Worksheet!$B$10,IF(Worksheet!$B$11,IF(U7=\"+\",RANDBETWEEN(9-(T7-10*INT(T7/10))+1,IF(T7-10*INT(T7/10)=0,10,9)),RANDBETWEEN((T7-10*INT(T7/10)+1),IF(T7-10*INT(T7/10)=9,10,9))),RANDBETWEEN(1,9)),IF(U7=\"+\",IF(Worksheet!$B$12,IF(Worksheet!$B$11,10*RANDBETWEEN(1,9)+RANDBETWEEN(10-(T7-10*INT(T7/10)),IF(10-(T7-10*INT(T7/10))>9,10,9)),RANDBETWEEN(1,99)),IF(Worksheet!$B$11,INT(RANDBETWEEN(1,99-T7)/10)*10+RANDBETWEEN(10-(T7-10*INT(T7/10)),IF(10-(T7-10*INT(T7/10))=10,10,9)),RANDBETWEEN(0,99-T7))),IF(Worksheet!$B$11,RANDBETWEEN(T7-10*INT(T7/10)+1,IF(T7-10*INT(T7/10)+1=10,10,9))+10*RANDBETWEEN(0,INT(T7/10)-1),RANDBETWEEN(1,T7))))","v":8},"=",58]
[{"$f":"IF(ROW()<=Worksheet!$B$4/4,ROW(),\"\")","v":8},{"$f":"IF(AND(C8=\"+\",Worksheet!$B$11),RANDBETWEEN(1,8)*10+RANDBETWEEN(1,9),RANDBETWEEN(11,99))","v":76},{"$f":"IF(Worksheet!$B$6=1,\"+\",IF(Worksheet!$B$6=2,\"–\",CHOOSE(RANDBETWEEN(1,2),\"+\",\"–\")))","v":"+"},{"$f":"IF(Worksheet!$B$10,IF(Worksheet!$B$11,IF(C8=\"+\",RANDBETWEEN(9-(B8-10*INT(B8/10))+1,IF(B8-10*INT(B8/10)=0,10,9)),RANDBETWEEN((B8-10*INT(B8/10)+1),IF(B8-10*INT(B8/10)=9,10,9))),RANDBETWEEN(1,9)),IF(C8=\"+\",IF(Worksheet!$B$12,IF(Worksheet!$B$11,10*RANDBETWEEN(1,9)+RANDBETWEEN(10-(B8-10*INT(B8/10)),IF(10-(B8-10*INT(B8/10))>9,10,9)),RANDBETWEEN(1,99)),IF(Worksheet!$B$11,INT(RANDBETWEEN(1,99-B8)/10)*10+RANDBETWEEN(10-(B8-10*INT(B8/10)),IF(10-(B8-10*INT(B8/10))=10,10,9)),RANDBETWEEN(0,99-B8))),IF(Worksheet!$B$11,RANDBETWEEN(B8-10*INT(B8/10)+1,IF(B8-10*INT(B8/10)+1=10,10,9))+10*RANDBETWEEN(0,INT(B8/10)-1),RANDBETWEEN(1,B8))))","v":85},"=",161,{"$f":"IF(ROW()<=Worksheet!$B$4/4,G7+1,\"\")","v":23},{"$f":"IF(AND(I8=\"+\",Worksheet!$B$11),RANDBETWEEN(1,8)*10+RANDBETWEEN(1,9),RANDBETWEEN(11,99))","v":87},{"$f":"IF(Worksheet!$B$6=1,\"+\",IF(Worksheet!$B$6=2,\"–\",CHOOSE(RANDBETWEEN(1,2),\"+\",\"–\")))","v":"–"},{"$f":"IF(Worksheet!$B$10,IF(Worksheet!$B$11,IF(I8=\"+\",RANDBETWEEN(9-(H8-10*INT(H8/10))+1,IF(H8-10*INT(H8/10)=0,10,9)),RANDBETWEEN((H8-10*INT(H8/10)+1),IF(H8-10*INT(H8/10)=9,10,9))),RANDBETWEEN(1,9)),IF(I8=\"+\",IF(Worksheet!$B$12,IF(Worksheet!$B$11,10*RANDBETWEEN(1,9)+RANDBETWEEN(10-(H8-10*INT(H8/10)),IF(10-(H8-10*INT(H8/10))>9,10,9)),RANDBETWEEN(1,99)),IF(Worksheet!$B$11,INT(RANDBETWEEN(1,99-H8)/10)*10+RANDBETWEEN(10-(H8-10*INT(H8/10)),IF(10-(H8-10*INT(H8/10))=10,10,9)),RANDBETWEEN(0,99-H8))),IF(Worksheet!$B$11,RANDBETWEEN(H8-10*INT(H8/10)+1,IF(H8-10*INT(H8/10)+1=10,10,9))+10*RANDBETWEEN(0,INT(H8/10)-1),RANDBETWEEN(1,H8))))","v":38},"=",49,{"$f":"IF(ROW()<=Worksheet!$B$4/4,M7+1,\"\")","v":38},{"$f":"IF(AND(O8=\"+\",Worksheet!$B$11),RANDBETWEEN(1,8)*10+RANDBETWEEN(1,9),RANDBETWEEN(11,99))","v":14},{"$f":"IF(Worksheet!$B$6=1,\"+\",IF(Worksheet!$B$6=2,\"–\",CHOOSE(RANDBETWEEN(1,2),\"+\",\"–\")))","v":"–"},{"$f":"IF(Worksheet!$B$10,IF(Worksheet!$B$11,IF(O8=\"+\",RANDBETWEEN(9-(N8-10*INT(N8/10))+1,IF(N8-10*INT(N8/10)=0,10,9)),RANDBETWEEN((N8-10*INT(N8/10)+1),IF(N8-10*INT(N8/10)=9,10,9))),RANDBETWEEN(1,9)),IF(O8=\"+\",IF(Worksheet!$B$12,IF(Worksheet!$B$11,10*RANDBETWEEN(1,9)+RANDBETWEEN(10-(N8-10*INT(N8/10)),IF(10-(N8-10*INT(N8/10))>9,10,9)),RANDBETWEEN(1,99)),IF(Worksheet!$B$11,INT(RANDBETWEEN(1,99-N8)/10)*10+RANDBETWEEN(10-(N8-10*INT(N8/10)),IF(10-(N8-10*INT(N8/10))=10,10,9)),RANDBETWEEN(0,99-N8))),IF(Worksheet!$B$11,RANDBETWEEN(N8-10*INT(N8/10)+1,IF(N8-10*INT(N8/10)+1=10,10,9))+10*RANDBETWEEN(0,INT(N8/10)-1),RANDBETWEEN(1,N8))))","v":6},"=",8,{"$f":"IF(ROW()<=Worksheet!$B$4/4,S7+1,\"\")","v":53},{"$f":"IF(AND(U8=\"+\",Worksheet!$B$11),RANDBETWEEN(1,8)*10+RANDBETWEEN(1,9),RANDBETWEEN(11,99))","v":89},{"$f":"IF(Worksheet!$B$6=1,\"+\",IF(Worksheet!$B$6=2,\"–\",CHOOSE(RANDBETWEEN(1,2),\"+\",\"–\")))","v":"+"},{"$f":"IF(Worksheet!$B$10,IF(Worksheet!$B$11,IF(U8=\"+\",RANDBETWEEN(9-(T8-10*INT(T8/10))+1,IF(T8-10*INT(T8/10)=0,10,9)),RANDBETWEEN((T8-10*INT(T8/10)+1),IF(T8-10*INT(T8/10)=9,10,9))),RANDBETWEEN(1,9)),IF(U8=\"+\",IF(Worksheet!$B$12,IF(Worksheet!$B$11,10*RANDBETWEEN(1,9)+RANDBETWEEN(10-(T8-10*INT(T8/10)),IF(10-(T8-10*INT(T8/10))>9,10,9)),RANDBETWEEN(1,99)),IF(Worksheet!$B$11,INT(RANDBETWEEN(1,99-T8)/10)*10+RANDBETWEEN(10-(T8-10*INT(T8/10)),IF(10-(T8-10*INT(T8/10))=10,10,9)),RANDBETWEEN(0,99-T8))),IF(Worksheet!$B$11,RANDBETWEEN(T8-10*INT(T8/10)+1,IF(T8-10*INT(T8/10)+1=10,10,9))+10*RANDBETWEEN(0,INT(T8/10)-1),RANDBETWEEN(1,T8))))","v":21},"=",110]
[{"$f":"IF(ROW()<=Worksheet!$B$4/4,ROW(),\"\")","v":9},{"$f":"IF(AND(C9=\"+\",Worksheet!$B$11),RANDBETWEEN(1,8)*10+RANDBETWEEN(1,9),RANDBETWEEN(11,99))","v":78},{"$f":"IF(Worksheet!$B$6=1,\"+\",IF(Worksheet!$B$6=2,\"–\",CHOOSE(RANDBETWEEN(1,2),\"+\",\"–\")))","v":"+"},{"$f":"IF(Worksheet!$B$10,IF(Worksheet!$B$11,IF(C9=\"+\",RANDBETWEEN(9-(B9-10*INT(B9/10))+1,IF(B9-10*INT(B9/10)=0,10,9)),RANDBETWEEN((B9-10*INT(B9/10)+1),IF(B9-10*INT(B9/10)=9,10,9))),RANDBETWEEN(1,9)),IF(C9=\"+\",IF(Worksheet!$B$12,IF(Worksheet!$B$11,10*RANDBETWEEN(1,9)+RANDBETWEEN(10-(B9-10*INT(B9/10)),IF(10-(B9-10*INT(B9/10))>9,10,9)),RANDBETWEEN(1,99)),IF(Worksheet!$B$11,INT(RANDBETWEEN(1,99-B9)/10)*10+RANDBETWEEN(10-(B9-10*INT(B9/10)),IF(10-(B9-10*INT(B9/10))=10,10,9)),RANDBETWEEN(0,99-B9))),IF(Worksheet!$B$11,RANDBETWEEN(B9-10*INT(B9/10)+1,IF(B9-10*INT(B9/10)+1=10,10,9))+10*RANDBETWEEN(0,INT(B9/10)-1),RANDBETWEEN(1,B9))))","v":29},"=",107,{"$f":"IF(ROW()<=Worksheet!$B$4/4,G8+1,\"\")","v":24},{"$f":"IF(AND(I9=\"+\",Worksheet!$B$11),RANDBETWEEN(1,8)*10+RANDBETWEEN(1,9),RANDBETWEEN(11,99))","v":41},{"$f":"IF(Worksheet!$B$6=1,\"+\",IF(Worksheet!$B$6=2,\"–\",CHOOSE(RANDBETWEEN(1,2),\"+\",\"–\")))","v":"+"},{"$f":"IF(Worksheet!$B$10,IF(Worksheet!$B$11,IF(I9=\"+\",RANDBETWEEN(9-(H9-10*INT(H9/10))+1,IF(H9-10*INT(H9/10)=0,10,9)),RANDBETWEEN((H9-10*INT(H9/10)+1),IF(H9-10*INT(H9/10)=9,10,9))),RANDBETWEEN(1,9)),IF(I9=\"+\",IF(Worksheet!$B$12,IF(Worksheet!$B$11,10*RANDBETWEEN(1,9)+RANDBETWEEN(10-(H9-10*INT(H9/10)),IF(10-(H9-10*INT(H9/10))>9,10,9)),RANDBETWEEN(1,99)),IF(Worksheet!$B$11,INT(RANDBETWEEN(1,99-H9)/10)*10+RANDBETWEEN(10-(H9-10*INT(H9/10)),IF(10-(H9-10*INT(H9/10))=10,10,9)),RANDBETWEEN(0,99-H9))),IF(Worksheet!$B$11,RANDBETWEEN(H9-10*INT(H9/10)+1,IF(H9-10*INT(H9/10)+1=10,10,9))+10*RANDBETWEEN(0,INT(H9/10)-1),RANDBETWEEN(1,H9))))","v":99},"=",140,{"$f":"IF(ROW()<=Worksheet!$B$4/4,M8+1,\"\")","v":39},{"$f":"IF(AND(O9=\"+\",Worksheet!$B$11),RANDBETWEEN(1,8)*10+RANDBETWEEN(1,9),RANDBETWEEN(11,99))","v":66},{"$f":"IF(Worksheet!$B$6=1,\"+\",IF(Worksheet!$B$6=2,\"–\",CHOOSE(RANDBETWEEN(1,2),\"+\",\"–\")))","v":"+"},{"$f":"IF(Worksheet!$B$10,IF(Worksheet!$B$11,IF(O9=\"+\",RANDBETWEEN(9-(N9-10*INT(N9/10))+1,IF(N9-10*INT(N9/10)=0,10,9)),RANDBETWEEN((N9-10*INT(N9/10)+1),IF(N9-10*INT(N9/10)=9,10,9))),RANDBETWEEN(1,9)),IF(O9=\"+\",IF(Worksheet!$B$12,IF(Worksheet!$B$11,10*RANDBETWEEN(1,9)+RANDBETWEEN(10-(N9-10*INT(N9/10)),IF(10-(N9-10*INT(N9/10))>9,10,9)),RANDBETWEEN(1,99)),IF(Worksheet!$B$11,INT(RANDBETWEEN(1,99-N9)/10)*10+RANDBETWEEN(10-(N9-10*INT(N9/10)),IF(10-(N9-10*INT(N9/10))=10,10,9)),RANDBETWEEN(0,99-N9))),IF(Worksheet!$B$11,RANDBETWEEN(N9-10*INT(N9/10)+1,IF(N9-10*INT(N9/10)+1=10,10,9))+10*RANDBETWEEN(0,INT(N9/10)-1),RANDBETWEEN(1,N9))))","v":78},"=",144,{"$f":"IF(ROW()<=Worksheet!$B$4/4,S8+1,\"\")","v":54},{"$f":"IF(AND(U9=\"+\",Worksheet!$B$11),RANDBETWEEN(1,8)*10+RANDBETWEEN(1,9),RANDBETWEEN(11,99))","v":55},{"$f":"IF(Worksheet!$B$6=1,\"+\",IF(Worksheet!$B$6=2,\"–\",CHOOSE(RANDBETWEEN(1,2),\"+\",\"–\")))","v":"–"},{"$f":"IF(Worksheet!$B$10,IF(Worksheet!$B$11,IF(U9=\"+\",RANDBETWEEN(9-(T9-10*INT(T9/10))+1,IF(T9-10*INT(T9/10)=0,10,9)),RANDBETWEEN((T9-10*INT(T9/10)+1),IF(T9-10*INT(T9/10)=9,10,9))),RANDBETWEEN(1,9)),IF(U9=\"+\",IF(Worksheet!$B$12,IF(Worksheet!$B$11,10*RANDBETWEEN(1,9)+RANDBETWEEN(10-(T9-10*INT(T9/10)),IF(10-(T9-10*INT(T9/10))>9,10,9)),RANDBETWEEN(1,99)),IF(Worksheet!$B$11,INT(RANDBETWEEN(1,99-T9)/10)*10+RANDBETWEEN(10-(T9-10*INT(T9/10)),IF(10-(T9-10*INT(T9/10))=10,10,9)),RANDBETWEEN(0,99-T9))),IF(Worksheet!$B$11,RANDBETWEEN(T9-10*INT(T9/10)+1,IF(T9-10*INT(T9/10)+1=10,10,9))+10*RANDBETWEEN(0,INT(T9/10)-1),RANDBETWEEN(1,T9))))","v":36},"=",19]
[{"$f":"IF(ROW()<=Worksheet!$B$4/4,ROW(),\"\")","v":10},{"$f":"IF(AND(C10=\"+\",Worksheet!$B$11),RANDBETWEEN(1,8)*10+RANDBETWEEN(1,9),RANDBETWEEN(11,99))","v":74},{"$f":"IF(Worksheet!$B$6=1,\"+\",IF(Worksheet!$B$6=2,\"–\",CHOOSE(RANDBETWEEN(1,2),\"+\",\"–\")))","v":"–"},{"$f":"IF(Worksheet!$B$10,IF(Worksheet!$B$11,IF(C10=\"+\",RANDBETWEEN(9-(B10-10*INT(B10/10))+1,IF(B10-10*INT(B10/10)=0,10,9)),RANDBETWEEN((B10-10*INT(B10/10)+1),IF(B10-10*INT(B10/10)=9,10,9))),RANDBETWEEN(1,9)),IF(C10=\"+\",IF(Worksheet!$B$12,IF(Worksheet!$B$11,10*RANDBETWEEN(1,9)+RANDBETWEEN(10-(B10-10*INT(B10/10)),IF(10-(B10-10*INT(B10/10))>9,10,9)),RANDBETWEEN(1,99)),IF(Worksheet!$B$11,INT(RANDBETWEEN(1,99-B10)/10)*10+RANDBETWEEN(10-(B10-10*INT(B10/10)),IF(10-(B10-10*INT(B10/10))=10,10,9)),RANDBETWEEN(0,99-B10))),IF(Worksheet!$B$11,RANDBETWEEN(B10-10*INT(B10/10)+1,IF(B10-10*INT(B10/10)+1=10,10,9))+10*RANDBETWEEN(0,INT(B10/10)-1),RANDBETWEEN(1,B10))))","v":58},"=",16,{"$f":"IF(ROW()<=Worksheet!$B$4/4,G9+1,\"\")","v":25},{"$f":"IF(AND(I10=\"+\",Worksheet!$B$11),RANDBETWEEN(1,8)*10+RANDBETWEEN(1,9),RANDBETWEEN(11,99))","v":75},{"$f":"IF(Worksheet!$B$6=1,\"+\",IF(Worksheet!$B$6=2,\"–\",CHOOSE(RANDBETWEEN(1,2),\"+\",\"–\")))","v":"+"},{"$f":"IF(Worksheet!$B$10,IF(Worksheet!$B$11,IF(I10=\"+\",RANDBETWEEN(9-(H10-10*INT(H10/10))+1,IF(H10-10*INT(H10/10)=0,10,9)),RANDBETWEEN((H10-10*INT(H10/10)+1),IF(H10-10*INT(H10/10)=9,10,9))),RANDBETWEEN(1,9)),IF(I10=\"+\",IF(Worksheet!$B$12,IF(Worksheet!$B$11,10*RANDBETWEEN(1,9)+RANDBETWEEN(10-(H10-10*INT(H10/10)),IF(10-(H10-10*INT(H10/10))>9,10,9)),RANDBETWEEN(1,99)),IF(Worksheet!$B$11,INT(RANDBETWEEN(1,99-H10)/10)*10+RANDBETWEEN(10-(H10-10*INT(H10/10)),IF(10-(H10-10*INT(H10/10))=10,10,9)),RANDBETWEEN(0,99-H10))),IF(Worksheet!$B$11,RANDBETWEEN(H10-10*INT(H10/10)+1,IF(H10-10*INT(H10/10)+1=10,10,9))+10*RANDBETWEEN(0,INT(H10/10)-1),RANDBETWEEN(1,H10))))","v":75},"=",150,{"$f":"IF(ROW()<=Worksheet!$B$4/4,M9+1,\"\")","v":40},{"$f":"IF(AND(O10=\"+\",Worksheet!$B$11),RANDBETWEEN(1,8)*10+RANDBETWEEN(1,9),RANDBETWEEN(11,99))","v":34},{"$f":"IF(Worksheet!$B$6=1,\"+\",IF(Worksheet!$B$6=2,\"–\",CHOOSE(RANDBETWEEN(1,2),\"+\",\"–\")))","v":"+"},{"$f":"IF(Worksheet!$B$10,IF(Worksheet!$B$11,IF(O10=\"+\",RANDBETWEEN(9-(N10-10*INT(N10/10))+1,IF(N10-10*INT(N10/10)=0,10,9)),RANDBETWEEN((N10-10*INT(N10/10)+1),IF(N10-10*INT(N10/10)=9,10,9))),RANDBETWEEN(1,9)),IF(O10=\"+\",IF(Worksheet!$B$12,IF(Worksheet!$B$11,10*RANDBETWEEN(1,9)+RANDBETWEEN(10-(N10-10*INT(N10/10)),IF(10-(N10-10*INT(N10/10))>9,10,9)),RANDBETWEEN(1,99)),IF(Worksheet!$B$11,INT(RANDBETWEEN(1,99-N10)/10)*10+RANDBETWEEN(10-(N10-10*INT(N10/10)),IF(10-(N10-10*INT(N10/10))=10,10,9)),RANDBETWEEN(0,99-N10))),IF(Worksheet!$B$11,RANDBETWEEN(N10-10*INT(N10/10)+1,IF(N10-10*INT(N10/10)+1=10,10,9))+10*RANDBETWEEN(0,INT(N10/10)-1),RANDBETWEEN(1,N10))))","v":16},"=",50,{"$f":"IF(ROW()<=Worksheet!$B$4/4,S9+1,\"\")","v":55},{"$f":"IF(AND(U10=\"+\",Worksheet!$B$11),RANDBETWEEN(1,8)*10+RANDBETWEEN(1,9),RANDBETWEEN(11,99))","v":69},{"$f":"IF(Worksheet!$B$6=1,\"+\",IF(Worksheet!$B$6=2,\"–\",CHOOSE(RANDBETWEEN(1,2),\"+\",\"–\")))","v":"+"},{"$f":"IF(Worksheet!$B$10,IF(Worksheet!$B$11,IF(U10=\"+\",RANDBETWEEN(9-(T10-10*INT(T10/10))+1,IF(T10-10*INT(T10/10)=0,10,9)),RANDBETWEEN((T10-10*INT(T10/10)+1),IF(T10-10*INT(T10/10)=9,10,9))),RANDBETWEEN(1,9)),IF(U10=\"+\",IF(Worksheet!$B$12,IF(Worksheet!$B$11,10*RANDBETWEEN(1,9)+RANDBETWEEN(10-(T10-10*INT(T10/10)),IF(10-(T10-10*INT(T10/10))>9,10,9)),RANDBETWEEN(1,99)),IF(Worksheet!$B$11,INT(RANDBETWEEN(1,99-T10)/10)*10+RANDBETWEEN(10-(T10-10*INT(T10/10)),IF(10-(T10-10*INT(T10/10))=10,10,9)),RANDBETWEEN(0,99-T10))),IF(Worksheet!$B$11,RANDBETWEEN(T10-10*INT(T10/10)+1,IF(T10-10*INT(T10/10)+1=10,10,9))+10*RANDBETWEEN(0,INT(T10/10)-1),RANDBETWEEN(1,T10))))","v":78},"=",147]
[{"$f":"IF(ROW()<=Worksheet!$B$4/4,ROW(),\"\")","v":11},{"$f":"IF(AND(C11=\"+\",Worksheet!$B$11),RANDBETWEEN(1,8)*10+RANDBETWEEN(1,9),RANDBETWEEN(11,99))","v":39},{"$f":"IF(Worksheet!$B$6=1,\"+\",IF(Worksheet!$B$6=2,\"–\",CHOOSE(RANDBETWEEN(1,2),\"+\",\"–\")))","v":"–"},{"$f":"IF(Worksheet!$B$10,IF(Worksheet!$B$11,IF(C11=\"+\",RANDBETWEEN(9-(B11-10*INT(B11/10))+1,IF(B11-10*INT(B11/10)=0,10,9)),RANDBETWEEN((B11-10*INT(B11/10)+1),IF(B11-10*INT(B11/10)=9,10,9))),RANDBETWEEN(1,9)),IF(C11=\"+\",IF(Worksheet!$B$12,IF(Worksheet!$B$11,10*RANDBETWEEN(1,9)+RANDBETWEEN(10-(B11-10*INT(B11/10)),IF(10-(B11-10*INT(B11/10))>9,10,9)),RANDBETWEEN(1,99)),IF(Worksheet!$B$11,INT(RANDBETWEEN(1,99-B11)/10)*10+RANDBETWEEN(10-(B11-10*INT(B11/10)),IF(10-(B11-10*INT(B11/10))=10,10,9)),RANDBETWEEN(0,99-B11))),IF(Worksheet!$B$11,RANDBETWEEN(B11-10*INT(B11/10)+1,IF(B11-10*INT(B11/10)+1=10,10,9))+10*RANDBETWEEN(0,INT(B11/10)-1),RANDBETWEEN(1,B11))))","v":20},"=",19,{"$f":"IF(ROW()<=Worksheet!$B$4/4,G10+1,\"\")","v":26},{"$f":"IF(AND(I11=\"+\",Worksheet!$B$11),RANDBETWEEN(1,8)*10+RANDBETWEEN(1,9),RANDBETWEEN(11,99))","v":26},{"$f":"IF(Worksheet!$B$6=1,\"+\",IF(Worksheet!$B$6=2,\"–\",CHOOSE(RANDBETWEEN(1,2),\"+\",\"–\")))","v":"+"},{"$f":"IF(Worksheet!$B$10,IF(Worksheet!$B$11,IF(I11=\"+\",RANDBETWEEN(9-(H11-10*INT(H11/10))+1,IF(H11-10*INT(H11/10)=0,10,9)),RANDBETWEEN((H11-10*INT(H11/10)+1),IF(H11-10*INT(H11/10)=9,10,9))),RANDBETWEEN(1,9)),IF(I11=\"+\",IF(Worksheet!$B$12,IF(Worksheet!$B$11,10*RANDBETWEEN(1,9)+RANDBETWEEN(10-(H11-10*INT(H11/10)),IF(10-(H11-10*INT(H11/10))>9,10,9)),RANDBETWEEN(1,99)),IF(Worksheet!$B$11,INT(RANDBETWEEN(1,99-H11)/10)*10+RANDBETWEEN(10-(H11-10*INT(H11/10)),IF(10-(H11-10*INT(H11/10))=10,10,9)),RANDBETWEEN(0,99-H11))),IF(Worksheet!$B$11,RANDBETWEEN(H11-10*INT(H11/10)+1,IF(H11-10*INT(H11/10)+1=10,10,9))+10*RANDBETWEEN(0,INT(H11/10)-1),RANDBETWEEN(1,H11))))","v":99},"=",125,{"$f":"IF(ROW()<=Worksheet!$B$4/4,M10+1,\"\")","v":41},{"$f":"IF(AND(O11=\"+\",Worksheet!$B$11),RANDBETWEEN(1,8)*10+RANDBETWEEN(1,9),RANDBETWEEN(11,99))","v":28},{"$f":"IF(Worksheet!$B$6=1,\"+\",IF(Worksheet!$B$6=2,\"–\",CHOOSE(RANDBETWEEN(1,2),\"+\",\"–\")))","v":"+"},{"$f":"IF(Worksheet!$B$10,IF(Worksheet!$B$11,IF(O11=\"+\",RANDBETWEEN(9-(N11-10*INT(N11/10))+1,IF(N11-10*INT(N11/10)=0,10,9)),RANDBETWEEN((N11-10*INT(N11/10)+1),IF(N11-10*INT(N11/10)=9,10,9))),RANDBETWEEN(1,9)),IF(O11=\"+\",IF(Worksheet!$B$12,IF(Worksheet!$B$11,10*RANDBETWEEN(1,9)+RANDBETWEEN(10-(N11-10*INT(N11/10)),IF(10-(N11-10*INT(N11/10))>9,10,9)),RANDBETWEEN(1,99)),IF(Worksheet!$B$11,INT(RANDBETWEEN(1,99-N11)/10)*10+RANDBETWEEN(10-(N11-10*INT(N11/10)),IF(10-(N11-10*INT(N11/10))=10,10,9)),RANDBETWEEN(0,99-N11))),IF(Worksheet!$B$11,RANDBETWEEN(N11-10*INT(N11/10)+1,IF(N11-10*INT(N11/10)+1=10,10,9))+10*RANDBETWEEN(0,INT(N11/10)-1),RANDBETWEEN(1,N11))))","v":24},"=",52,{"$f":"IF(ROW()<=Worksheet!$B$4/4,S10+1,\"\")","v":56},{"$f":"IF(AND(U11=\"+\",Worksheet!$B$11),RANDBETWEEN(1,8)*10+RANDBETWEEN(1,9),RANDBETWEEN(11,99))","v":95},{"$f":"IF(Worksheet!$B$6=1,\"+\",IF(Worksheet!$B$6=2,\"–\",CHOOSE(RANDBETWEEN(1,2),\"+\",\"–\")))","v":"–"},{"$f":"IF(Worksheet!$B$10,IF(Worksheet!$B$11,IF(U11=\"+\",RANDBETWEEN(9-(T11-10*INT(T11/10))+1,IF(T11-10*INT(T11/10)=0,10,9)),RANDBETWEEN((T11-10*INT(T11/10)+1),IF(T11-10*INT(T11/10)=9,10,9))),RANDBETWEEN(1,9)),IF(U11=\"+\",IF(Worksheet!$B$12,IF(Worksheet!$B$11,10*RANDBETWEEN(1,9)+RANDBETWEEN(10-(T11-10*INT(T11/10)),IF(10-(T11-10*INT(T11/10))>9,10,9)),RANDBETWEEN(1,99)),IF(Worksheet!$B$11,INT(RANDBETWEEN(1,99-T11)/10)*10+RANDBETWEEN(10-(T11-10*INT(T11/10)),IF(10-(T11-10*INT(T11/10))=10,10,9)),RANDBETWEEN(0,99-T11))),IF(Worksheet!$B$11,RANDBETWEEN(T11-10*INT(T11/10)+1,IF(T11-10*INT(T11/10)+1=10,10,9))+10*RANDBETWEEN(0,INT(T11/10)-1),RANDBETWEEN(1,T11))))","v":69},"=",26]
[{"$f":"IF(ROW()<=Worksheet!$B$4/4,ROW(),\"\")","v":12},{"$f":"IF(AND(C12=\"+\",Worksheet!$B$11),RANDBETWEEN(1,8)*10+RANDBETWEEN(1,9),RANDBETWEEN(11,99))","v":54},{"$f":"IF(Worksheet!$B$6=1,\"+\",IF(Worksheet!$B$6=2,\"–\",CHOOSE(RANDBETWEEN(1,2),\"+\",\"–\")))","v":"+"},{"$f":"IF(Worksheet!$B$10,IF(Worksheet!$B$11,IF(C12=\"+\",RANDBETWEEN(9-(B12-10*INT(B12/10))+1,IF(B12-10*INT(B12/10)=0,10,9)),RANDBETWEEN((B12-10*INT(B12/10)+1),IF(B12-10*INT(B12/10)=9,10,9))),RANDBETWEEN(1,9)),IF(C12=\"+\",IF(Worksheet!$B$12,IF(Worksheet!$B$11,10*RANDBETWEEN(1,9)+RANDBETWEEN(10-(B12-10*INT(B12/10)),IF(10-(B12-10*INT(B12/10))>9,10,9)),RANDBETWEEN(1,99)),IF(Worksheet!$B$11,INT(RANDBETWEEN(1,99-B12)/10)*10+RANDBETWEEN(10-(B12-10*INT(B12/10)),IF(10-(B12-10*INT(B12/10))=10,10,9)),RANDBETWEEN(0,99-B12))),IF(Worksheet!$B$11,RANDBETWEEN(B12-10*INT(B12/10)+1,IF(B12-10*INT(B12/10)+1=10,10,9))+10*RANDBETWEEN(0,INT(B12/10)-1),RANDBETWEEN(1,B12))))","v":16},"=",70,{"$f":"IF(ROW()<=Worksheet!$B$4/4,G11+1,\"\")","v":27},{"$f":"IF(AND(I12=\"+\",Worksheet!$B$11),RANDBETWEEN(1,8)*10+RANDBETWEEN(1,9),RANDBETWEEN(11,99))","v":12},{"$f":"IF(Worksheet!$B$6=1,\"+\",IF(Worksheet!$B$6=2,\"–\",CHOOSE(RANDBETWEEN(1,2),\"+\",\"–\")))","v":"+"},{"$f":"IF(Worksheet!$B$10,IF(Worksheet!$B$11,IF(I12=\"+\",RANDBETWEEN(9-(H12-10*INT(H12/10))+1,IF(H12-10*INT(H12/10)=0,10,9)),RANDBETWEEN((H12-10*INT(H12/10)+1),IF(H12-10*INT(H12/10)=9,10,9))),RANDBETWEEN(1,9)),IF(I12=\"+\",IF(Worksheet!$B$12,IF(Worksheet!$B$11,10*RANDBETWEEN(1,9)+RANDBETWEEN(10-(H12-10*INT(H12/10)),IF(10-(H12-10*INT(H12/10))>9,10,9)),RANDBETWEEN(1,99)),IF(Worksheet!$B$11,INT(RANDBETWEEN(1,99-H12)/10)*10+RANDBETWEEN(10-(H12-10*INT(H12/10)),IF(10-(H12-10*INT(H12/10))=10,10,9)),RANDBETWEEN(0,99-H12))),IF(Worksheet!$B$11,RANDBETWEEN(H12-10*INT(H12/10)+1,IF(H12-10*INT(H12/10)+1=10,10,9))+10*RANDBETWEEN(0,INT(H12/10)-1),RANDBETWEEN(1,H12))))","v":38},"=",50,{"$f":"IF(ROW()<=Worksheet!$B$4/4,M11+1,\"\")","v":42},{"$f":"IF(AND(O12=\"+\",Worksheet!$B$11),RANDBETWEEN(1,8)*10+RANDBETWEEN(1,9),RANDBETWEEN(11,99))","v":78},{"$f":"IF(Worksheet!$B$6=1,\"+\",IF(Worksheet!$B$6=2,\"–\",CHOOSE(RANDBETWEEN(1,2),\"+\",\"–\")))","v":"+"},{"$f":"IF(Worksheet!$B$10,IF(Worksheet!$B$11,IF(O12=\"+\",RANDBETWEEN(9-(N12-10*INT(N12/10))+1,IF(N12-10*INT(N12/10)=0,10,9)),RANDBETWEEN((N12-10*INT(N12/10)+1),IF(N12-10*INT(N12/10)=9,10,9))),RANDBETWEEN(1,9)),IF(O12=\"+\",IF(Worksheet!$B$12,IF(Worksheet!$B$11,10*RANDBETWEEN(1,9)+RANDBETWEEN(10-(N12-10*INT(N12/10)),IF(10-(N12-10*INT(N12/10))>9,10,9)),RANDBETWEEN(1,99)),IF(Worksheet!$B$11,INT(RANDBETWEEN(1,99-N12)/10)*10+RANDBETWEEN(10-(N12-10*INT(N12/10)),IF(10-(N12-10*INT(N12/10))=10,10,9)),RANDBETWEEN(0,99-N12))),IF(Worksheet!$B$11,RANDBETWEEN(N12-10*INT(N12/10)+1,IF(N12-10*INT(N12/10)+1=10,10,9))+10*RANDBETWEEN(0,INT(N12/10)-1),RANDBETWEEN(1,N12))))","v":27},"=",105,{"$f":"IF(ROW()<=Worksheet!$B$4/4,S11+1,\"\")","v":57},{"$f":"IF(AND(U12=\"+\",Worksheet!$B$11),RANDBETWEEN(1,8)*10+RANDBETWEEN(1,9),RANDBETWEEN(11,99))","v":42},{"$f":"IF(Worksheet!$B$6=1,\"+\",IF(Worksheet!$B$6=2,\"–\",CHOOSE(RANDBETWEEN(1,2),\"+\",\"–\")))","v":"–"},{"$f":"IF(Worksheet!$B$10,IF(Worksheet!$B$11,IF(U12=\"+\",RANDBETWEEN(9-(T12-10*INT(T12/10))+1,IF(T12-10*INT(T12/10)=0,10,9)),RANDBETWEEN((T12-10*INT(T12/10)+1),IF(T12-10*INT(T12/10)=9,10,9))),RANDBETWEEN(1,9)),IF(U12=\"+\",IF(Worksheet!$B$12,IF(Worksheet!$B$11,10*RANDBETWEEN(1,9)+RANDBETWEEN(10-(T12-10*INT(T12/10)),IF(10-(T12-10*INT(T12/10))>9,10,9)),RANDBETWEEN(1,99)),IF(Worksheet!$B$11,INT(RANDBETWEEN(1,99-T12)/10)*10+RANDBETWEEN(10-(T12-10*INT(T12/10)),IF(10-(T12-10*INT(T12/10))=10,10,9)),RANDBETWEEN(0,99-T12))),IF(Worksheet!$B$11,RANDBETWEEN(T12-10*INT(T12/10)+1,IF(T12-10*INT(T12/10)+1=10,10,9))+10*RANDBETWEEN(0,INT(T12/10)-1),RANDBETWEEN(1,T12))))","v":24},"=",18]
[{"$f":"IF(ROW()<=Worksheet!$B$4/4,ROW(),\"\")","v":13},{"$f":"IF(AND(C13=\"+\",Worksheet!$B$11),RANDBETWEEN(1,8)*10+RANDBETWEEN(1,9),RANDBETWEEN(11,99))","v":31},{"$f":"IF(Worksheet!$B$6=1,\"+\",IF(Worksheet!$B$6=2,\"–\",CHOOSE(RANDBETWEEN(1,2),\"+\",\"–\")))","v":"–"},{"$f":"IF(Worksheet!$B$10,IF(Worksheet!$B$11,IF(C13=\"+\",RANDBETWEEN(9-(B13-10*INT(B13/10))+1,IF(B13-10*INT(B13/10)=0,10,9)),RANDBETWEEN((B13-10*INT(B13/10)+1),IF(B13-10*INT(B13/10)=9,10,9))),RANDBETWEEN(1,9)),IF(C13=\"+\",IF(Worksheet!$B$12,IF(Worksheet!$B$11,10*RANDBETWEEN(1,9)+RANDBETWEEN(10-(B13-10*INT(B13/10)),IF(10-(B13-10*INT(B13/10))>9,10,9)),RANDBETWEEN(1,99)),IF(Worksheet!$B$11,INT(RANDBETWEEN(1,99-B13)/10)*10+RANDBETWEEN(10-(B13-10*INT(B13/10)),IF(10-(B13-10*INT(B13/10))=10,10,9)),RANDBETWEEN(0,99-B13))),IF(Worksheet!$B$11,RANDBETWEEN(B13-10*INT(B13/10)+1,IF(B13-10*INT(B13/10)+1=10,10,9))+10*RANDBETWEEN(0,INT(B13/10)-1),RANDBETWEEN(1,B13))))","v":14},"=",17,{"$f":"IF(ROW()<=Worksheet!$B$4/4,G12+1,\"\")","v":28},{"$f":"IF(AND(I13=\"+\",Worksheet!$B$11),RANDBETWEEN(1,8)*10+RANDBETWEEN(1,9),RANDBETWEEN(11,99))","v":88},{"$f":"IF(Worksheet!$B$6=1,\"+\",IF(Worksheet!$B$6=2,\"–\",CHOOSE(RANDBETWEEN(1,2),\"+\",\"–\")))","v":"+"},{"$f":"IF(Worksheet!$B$10,IF(Worksheet!$B$11,IF(I13=\"+\",RANDBETWEEN(9-(H13-10*INT(H13/10))+1,IF(H13-10*INT(H13/10)=0,10,9)),RANDBETWEEN((H13-10*INT(H13/10)+1),IF(H13-10*INT(H13/10)=9,10,9))),RANDBETWEEN(1,9)),IF(I13=\"+\",IF(Worksheet!$B$12,IF(Worksheet!$B$11,10*RANDBETWEEN(1,9)+RANDBETWEEN(10-(H13-10*INT(H13/10)),IF(10-(H13-10*INT(H13/10))>9,10,9)),RANDBETWEEN(1,99)),IF(Worksheet!$B$11,INT(RANDBETWEEN(1,99-H13)/10)*10+RANDBETWEEN(10-(H13-10*INT(H13/10)),IF(10-(H13-10*INT(H13/10))=10,10,9)),RANDBETWEEN(0,99-H13))),IF(Worksheet!$B$11,RANDBETWEEN(H13-10*INT(H13/10)+1,IF(H13-10*INT(H13/10)+1=10,10,9))+10*RANDBETWEEN(0,INT(H13/10)-1),RANDBETWEEN(1,H13))))","v":72},"=",160,{"$f":"IF(ROW()<=Worksheet!$B$4/4,M12+1,\"\")","v":43},{"$f":"IF(AND(O13=\"+\",Worksheet!$B$11),RANDBETWEEN(1,8)*10+RANDBETWEEN(1,9),RANDBETWEEN(11,99))","v":81},{"$f":"IF(Worksheet!$B$6=1,\"+\",IF(Worksheet!$B$6=2,\"–\",CHOOSE(RANDBETWEEN(1,2),\"+\",\"–\")))","v":"+"},{"$f":"IF(Worksheet!$B$10,IF(Worksheet!$B$11,IF(O13=\"+\",RANDBETWEEN(9-(N13-10*INT(N13/10))+1,IF(N13-10*INT(N13/10)=0,10,9)),RANDBETWEEN((N13-10*INT(N13/10)+1),IF(N13-10*INT(N13/10)=9,10,9))),RANDBETWEEN(1,9)),IF(O13=\"+\",IF(Worksheet!$B$12,IF(Worksheet!$B$11,10*RANDBETWEEN(1,9)+RANDBETWEEN(10-(N13-10*INT(N13/10)),IF(10-(N13-10*INT(N13/10))>9,10,9)),RANDBETWEEN(1,99)),IF(Worksheet!$B$11,INT(RANDBETWEEN(1,99-N13)/10)*10+RANDBETWEEN(10-(N13-10*INT(N13/10)),IF(10-(N13-10*INT(N13/10))=10,10,9)),RANDBETWEEN(0,99-N13))),IF(Worksheet!$B$11,RANDBETWEEN(N13-10*INT(N13/10)+1,IF(N13-10*INT(N13/10)+1=10,10,9))+10*RANDBETWEEN(0,INT(N13/10)-1),RANDBETWEEN(1,N13))))","v":29},"=",110,{"$f":"IF(ROW()<=Worksheet!$B$4/4,S12+1,\"\")","v":58},{"$f":"IF(AND(U13=\"+\",Worksheet!$B$11),RANDBETWEEN(1,8)*10+RANDBETWEEN(1,9),RANDBETWEEN(11,99))","v":61},{"$f":"IF(Worksheet!$B$6=1,\"+\",IF(Worksheet!$B$6=2,\"–\",CHOOSE(RANDBETWEEN(1,2),\"+\",\"–\")))","v":"+"},{"$f":"IF(Worksheet!$B$10,IF(Worksheet!$B$11,IF(U13=\"+\",RANDBETWEEN(9-(T13-10*INT(T13/10))+1,IF(T13-10*INT(T13/10)=0,10,9)),RANDBETWEEN((T13-10*INT(T13/10)+1),IF(T13-10*INT(T13/10)=9,10,9))),RANDBETWEEN(1,9)),IF(U13=\"+\",IF(Worksheet!$B$12,IF(Worksheet!$B$11,10*RANDBETWEEN(1,9)+RANDBETWEEN(10-(T13-10*INT(T13/10)),IF(10-(T13-10*INT(T13/10))>9,10,9)),RANDBETWEEN(1,99)),IF(Worksheet!$B$11,INT(RANDBETWEEN(1,99-T13)/10)*10+RANDBETWEEN(10-(T13-10*INT(T13/10)),IF(10-(T13-10*INT(T13/10))=10,10,9)),RANDBETWEEN(0,99-T13))),IF(Worksheet!$B$11,RANDBETWEEN(T13-10*INT(T13/10)+1,IF(T13-10*INT(T13/10)+1=10,10,9))+10*RANDBETWEEN(0,INT(T13/10)-1),RANDBETWEEN(1,T13))))","v":99},"=",160]
[{"$f":"IF(ROW()<=Worksheet!$B$4/4,ROW(),\"\")","v":14},{"$f":"IF(AND(C14=\"+\",Worksheet!$B$11),RANDBETWEEN(1,8)*10+RANDBETWEEN(1,9),RANDBETWEEN(11,99))","v":49},{"$f":"IF(Worksheet!$B$6=1,\"+\",IF(Worksheet!$B$6=2,\"–\",CHOOSE(RANDBETWEEN(1,2),\"+\",\"–\")))","v":"+"},{"$f":"IF(Worksheet!$B$10,IF(Worksheet!$B$11,IF(C14=\"+\",RANDBETWEEN(9-(B14-10*INT(B14/10))+1,IF(B14-10*INT(B14/10)=0,10,9)),RANDBETWEEN((B14-10*INT(B14/10)+1),IF(B14-10*INT(B14/10)=9,10,9))),RANDBETWEEN(1,9)),IF(C14=\"+\",IF(Worksheet!$B$12,IF(Worksheet!$B$11,10*RANDBETWEEN(1,9)+RANDBETWEEN(10-(B14-10*INT(B14/10)),IF(10-(B14-10*INT(B14/10))>9,10,9)),RANDBETWEEN(1,99)),IF(Worksheet!$B$11,INT(RANDBETWEEN(1,99-B14)/10)*10+RANDBETWEEN(10-(B14-10*INT(B14/10)),IF(10-(B14-10*INT(B14/10))=10,10,9)),RANDBETWEEN(0,99-B14))),IF(Worksheet!$B$11,RANDBETWEEN(B14-10*INT(B14/10)+1,IF(B14-10*INT(B14/10)+1=10,10,9))+10*RANDBETWEEN(0,INT(B14/10)-1),RANDBETWEEN(1,B14))))","v":16},"=",65,{"$f":"IF(ROW()<=Worksheet!$B$4/4,G13+1,\"\")","v":29},{"$f":"IF(AND(I14=\"+\",Worksheet!$B$11),RANDBETWEEN(1,8)*10+RANDBETWEEN(1,9),RANDBETWEEN(11,99))","v":97},{"$f":"IF(Worksheet!$B$6=1,\"+\",IF(Worksheet!$B$6=2,\"–\",CHOOSE(RANDBETWEEN(1,2),\"+\",\"–\")))","v":"–"},{"$f":"IF(Worksheet!$B$10,IF(Worksheet!$B$11,IF(I14=\"+\",RANDBETWEEN(9-(H14-10*INT(H14/10))+1,IF(H14-10*INT(H14/10)=0,10,9)),RANDBETWEEN((H14-10*INT(H14/10)+1),IF(H14-10*INT(H14/10)=9,10,9))),RANDBETWEEN(1,9)),IF(I14=\"+\",IF(Worksheet!$B$12,IF(Worksheet!$B$11,10*RANDBETWEEN(1,9)+RANDBETWEEN(10-(H14-10*INT(H14/10)),IF(10-(H14-10*INT(H14/10))>9,10,9)),RANDBETWEEN(1,99)),IF(Worksheet!$B$11,INT(RANDBETWEEN(1,99-H14)/10)*10+RANDBETWEEN(10-(H14-10*INT(H14/10)),IF(10-(H14-10*INT(H14/10))=10,10,9)),RANDBETWEEN(0,99-H14))),IF(Worksheet!$B$11,RANDBETWEEN(H14-10*INT(H14/10)+1,IF(H14-10*INT(H14/10)+1=10,10,9))+10*RANDBETWEEN(0,INT(H14/10)-1),RANDBETWEEN(1,H14))))","v":49},"=",48,{"$f":"IF(ROW()<=Worksheet!$B$4/4,M13+1,\"\")","v":44},{"$f":"IF(AND(O14=\"+\",Worksheet!$B$11),RANDBETWEEN(1,8)*10+RANDBETWEEN(1,9),RANDBETWEEN(11,99))","v":87},{"$f":"IF(Worksheet!$B$6=1,\"+\",IF(Worksheet!$B$6=2,\"–\",CHOOSE(RANDBETWEEN(1,2),\"+\",\"–\")))","v":"+"},{"$f":"IF(Worksheet!$B$10,IF(Worksheet!$B$11,IF(O14=\"+\",RANDBETWEEN(9-(N14-10*INT(N14/10))+1,IF(N14-10*INT(N14/10)=0,10,9)),RANDBETWEEN((N14-10*INT(N14/10)+1),IF(N14-10*INT(N14/10)=9,10,9))),RANDBETWEEN(1,9)),IF(O14=\"+\",IF(Worksheet!$B$12,IF(Worksheet!$B$11,10*RANDBETWEEN(1,9)+RANDBETWEEN(10-(N14-10*INT(N14/10)),IF(10-(N14-10*INT(N14/10))>9,10,9)),RANDBETWEEN(1,99)),IF(Worksheet!$B$11,INT(RANDBETWEEN(1,99-N14)/10)*10+RANDBETWEEN(10-(N14-10*INT(N14/10)),IF(10-(N14-10*INT(N14/10))=10,10,9)),RANDBETWEEN(0,99-N14))),IF(Worksheet!$B$11,RANDBETWEEN(N14-10*INT(N14/10)+1,IF(N14-10*INT(N14/10)+1=10,10,9))+10*RANDBETWEEN(0,INT(N14/10)-1),RANDBETWEEN(1,N14))))","v":69},"=",156,{"$f":"IF(ROW()<=Worksheet!$B$4/4,S13+1,\"\")","v":59},{"$f":"IF(AND(U14=\"+\",Worksheet!$B$11),RANDBETWEEN(1,8)*10+RANDBETWEEN(1,9),RANDBETWEEN(11,99))","v":94},{"$f":"IF(Worksheet!$B$6=1,\"+\",IF(Worksheet!$B$6=2,\"–\",CHOOSE(RANDBETWEEN(1,2),\"+\",\"–\")))","v":"–"},{"$f":"IF(Worksheet!$B$10,IF(Worksheet!$B$11,IF(U14=\"+\",RANDBETWEEN(9-(T14-10*INT(T14/10))+1,IF(T14-10*INT(T14/10)=0,10,9)),RANDBETWEEN((T14-10*INT(T14/10)+1),IF(T14-10*INT(T14/10)=9,10,9))),RANDBETWEEN(1,9)),IF(U14=\"+\",IF(Worksheet!$B$12,IF(Worksheet!$B$11,10*RANDBETWEEN(1,9)+RANDBETWEEN(10-(T14-10*INT(T14/10)),IF(10-(T14-10*INT(T14/10))>9,10,9)),RANDBETWEEN(1,99)),IF(Worksheet!$B$11,INT(RANDBETWEEN(1,99-T14)/10)*10+RANDBETWEEN(10-(T14-10*INT(T14/10)),IF(10-(T14-10*INT(T14/10))=10,10,9)),RANDBETWEEN(0,99-T14))),IF(Worksheet!$B$11,RANDBETWEEN(T14-10*INT(T14/10)+1,IF(T14-10*INT(T14/10)+1=10,10,9))+10*RANDBETWEEN(0,INT(T14/10)-1),RANDBETWEEN(1,T14))))","v":46},"=",48]
[{"$f":"IF(ROW()<=Worksheet!$B$4/4,ROW(),\"\")","v":15},{"$f":"IF(AND(C15=\"+\",Worksheet!$B$11),RANDBETWEEN(1,8)*10+RANDBETWEEN(1,9),RANDBETWEEN(11,99))","v":48},{"$f":"IF(Worksheet!$B$6=1,\"+\",IF(Worksheet!$B$6=2,\"–\",CHOOSE(RANDBETWEEN(1,2),\"+\",\"–\")))","v":"+"},{"$f":"IF(Worksheet!$B$10,IF(Worksheet!$B$11,IF(C15=\"+\",RANDBETWEEN(9-(B15-10*INT(B15/10))+1,IF(B15-10*INT(B15/10)=0,10,9)),RANDBETWEEN((B15-10*INT(B15/10)+1),IF(B15-10*INT(B15/10)=9,10,9))),RANDBETWEEN(1,9)),IF(C15=\"+\",IF(Worksheet!$B$12,IF(Worksheet!$B$11,10*RANDBETWEEN(1,9)+RANDBETWEEN(10-(B15-10*INT(B15/10)),IF(10-(B15-10*INT(B15/10))>9,10,9)),RANDBETWEEN(1,99)),IF(Worksheet!$B$11,INT(RANDBETWEEN(1,99-B15)/10)*10+RANDBETWEEN(10-(B15-10*INT(B15/10)),IF(10-(B15-10*INT(B15/10))=10,10,9)),RANDBETWEEN(0,99-B15))),IF(Worksheet!$B$11,RANDBETWEEN(B15-10*INT(B15/10)+1,IF(B15-10*INT(B15/10)+1=10,10,9))+10*RANDBETWEEN(0,INT(B15/10)-1),RANDBETWEEN(1,B15))))","v":16},"=",64,{"$f":"IF(ROW()<=Worksheet!$B$4/4,G14+1,\"\")","v":30},{"$f":"IF(AND(I15=\"+\",Worksheet!$B$11),RANDBETWEEN(1,8)*10+RANDBETWEEN(1,9),RANDBETWEEN(11,99))","v":94},{"$f":"IF(Worksheet!$B$6=1,\"+\",IF(Worksheet!$B$6=2,\"–\",CHOOSE(RANDBETWEEN(1,2),\"+\",\"–\")))","v":"–"},{"$f":"IF(Worksheet!$B$10,IF(Worksheet!$B$11,IF(I15=\"+\",RANDBETWEEN(9-(H15-10*INT(H15/10))+1,IF(H15-10*INT(H15/10)=0,10,9)),RANDBETWEEN((H15-10*INT(H15/10)+1),IF(H15-10*INT(H15/10)=9,10,9))),RANDBETWEEN(1,9)),IF(I15=\"+\",IF(Worksheet!$B$12,IF(Worksheet!$B$11,10*RANDBETWEEN(1,9)+RANDBETWEEN(10-(H15-10*INT(H15/10)),IF(10-(H15-10*INT(H15/10))>9,10,9)),RANDBETWEEN(1,99)),IF(Worksheet!$B$11,INT(RANDBETWEEN(1,99-H15)/10)*10+RANDBETWEEN(10-(H15-10*INT(H15/10)),IF(10-(H15-10*INT(H15/10))=10,10,9)),RANDBETWEEN(0,99-H15))),IF(Worksheet!$B$11,RANDBETWEEN(H15-10*INT(H15/10)+1,IF(H15-10*INT(H15/10)+1=10,10,9))+10*RANDBETWEEN(0,INT(H15/10)-1),RANDBETWEEN(1,H15))))","v":55},"=",39,{"$f":"IF(ROW()<=Worksheet!$B$4/4,M14+1,\"\")","v":45},{"$f":"IF(AND(O15=\"+\",Worksheet!$B$11),RANDBETWEEN(1,8)*10+RANDBETWEEN(1,9),RANDBETWEEN(11,99))","v":31},{"$f":"IF(Worksheet!$B$6=1,\"+\",IF(Worksheet!$B$6=2,\"–\",CHOOSE(RANDBETWEEN(1,2),\"+\",\"–\")))","v":"–"},{"$f":"IF(Worksheet!$B$10,IF(Worksheet!$B$11,IF(O15=\"+\",RANDBETWEEN(9-(N15-10*INT(N15/10))+1,IF(N15-10*INT(N15/10)=0,10,9)),RANDBETWEEN((N15-10*INT(N15/10)+1),IF(N15-10*INT(N15/10)=9,10,9))),RANDBETWEEN(1,9)),IF(O15=\"+\",IF(Worksheet!$B$12,IF(Worksheet!$B$11,10*RANDBETWEEN(1,9)+RANDBETWEEN(10-(N15-10*INT(N15/10)),IF(10-(N15-10*INT(N15/10))>9,10,9)),RANDBETWEEN(1,99)),IF(Worksheet!$B$11,INT(RANDBETWEEN(1,99-N15)/10)*10+RANDBETWEEN(10-(N15-10*INT(N15/10)),IF(10-(N15-10*INT(N15/10))=10,10,9)),RANDBETWEEN(0,99-N15))),IF(Worksheet!$B$11,RANDBETWEEN(N15-10*INT(N15/10)+1,IF(N15-10*INT(N15/10)+1=10,10,9))+10*RANDBETWEEN(0,INT(N15/10)-1),RANDBETWEEN(1,N15))))","v":22},"=",9,{"$f":"IF(ROW()<=Worksheet!$B$4/4,S14+1,\"\")","v":60},{"$f":"IF(AND(U15=\"+\",Worksheet!$B$11),RANDBETWEEN(1,8)*10+RANDBETWEEN(1,9),RANDBETWEEN(11,99))","v":21},{"$f":"IF(Worksheet!$B$6=1,\"+\",IF(Worksheet!$B$6=2,\"–\",CHOOSE(RANDBETWEEN(1,2),\"+\",\"–\")))","v":"–"},{"$f":"IF(Worksheet!$B$10,IF(Worksheet!$B$11,IF(U15=\"+\",RANDBETWEEN(9-(T15-10*INT(T15/10))+1,IF(T15-10*INT(T15/10)=0,10,9)),RANDBETWEEN((T15-10*INT(T15/10)+1),IF(T15-10*INT(T15/10)=9,10,9))),RANDBETWEEN(1,9)),IF(U15=\"+\",IF(Worksheet!$B$12,IF(Worksheet!$B$11,10*RANDBETWEEN(1,9)+RANDBETWEEN(10-(T15-10*INT(T15/10)),IF(10-(T15-10*INT(T15/10))>9,10,9)),RANDBETWEEN(1,99)),IF(Worksheet!$B$11,INT(RANDBETWEEN(1,99-T15)/10)*10+RANDBETWEEN(10-(T15-10*INT(T15/10)),IF(10-(T15-10*INT(T15/10))=10,10,9)),RANDBETWEEN(0,99-T15))),IF(Worksheet!$B$11,RANDBETWEEN(T15-10*INT(T15/10)+1,IF(T15-10*INT(T15/10)+1=10,10,9))+10*RANDBETWEEN(0,INT(T15/10)-1),RANDBETWEEN(1,T15))))","v":2},"=",19]