{"text_format":"1","workbook":"xlsx","n_sheets":2,"sheets":["Worksheet","SYSTEM FORMULAE"],"not_rendered":{"charts":0,"images":0,"macros":1,"external_links":0,"defined_names":2,"comments":0,"pivot_tables":0},"unopened":[],"bounds":{"document_bytes":16777216,"sheet_cells":100000,"rows_first":2000,"rows_last":500,"rows_between":2000,"halvings":0,"cell_chars":16384,"cell_head_chars":4096},"cells_cut":0,"cells_raw":0,"read":"whole","date_system":"1900"}

{"sheet":"Worksheet","index":0,"n_rows":16,"n_cols":37,"rows_kept":16,"cut":false,"hidden":false,"merged":[[1,0,1,1],[4,0,4,1],[0,2,0,36],[6,0,6,1]]}
[null,null,"What number do you have to add on to get the total shown?"]
["Variables",null,1,74,26,74,"+",26,"=",100,null,16,70,0,0,"+",70,"=",70,null,31,89,11,89,"+",11,"=",100,null,46,32,8,32,"+",8,"=",40]
["SHOW ANSWERS",false,2,49,51,49,"+",51,"=",100,null,17,30,0,30,"+",0,"=",30,null,32,26,4,26,"+",4,"=",30,null,47,80,20,80,"+",20,"=",100]
["Number of questions (minimum 20, maximum 60)",60,3,69,31,69,"+",31,"=",100,null,18,79,1,79,"+",1,"=",80,null,33,57,3,57,"+",3,"=",60,null,48,39,61,61,"+",39,"=",100]
["Numbers in question",null,4,92,8,92,"+",8,"=",100,null,19,53,7,53,"+",7,"=",60,null,34,71,9,71,"+",9,"=",80,null,49,66,34,66,"+",34,"=",100]
["Maximum number",{"$f":"10^B11","v":100},5,49,1,1,"+",49,"=",50,null,20,54,46,46,"+",54,"=",100,null,35,63,7,63,"+",7,"=",70,null,50,87,13,13,"+",87,"=",100]
["Include questions of what you need to add on to get the nearest…",null,6,93,7,7,"+",93,"=",100,null,21,68,2,2,"+",68,"=",70,null,36,30,0,0,"+",30,"=",30,null,51,85,15,15,"+",85,"=",100]
["… nearest 10",2,7,60,0,60,"+",0,"=",60,null,22,73,7,73,"+",7,"=",80,null,37,57,3,57,"+",3,"=",60,null,52,85,15,85,"+",15,"=",100]
["… nearest 10 or 100",0,8,68,2,68,"+",2,"=",70,null,23,93,7,93,"+",7,"=",100,null,38,83,7,7,"+",83,"=",90,null,53,17,83,17,"+",83,"=",100]
["… nearest 10, 100 or 1000",0,9,61,39,39,"+",61,"=",100,null,24,100,0,100,"+",0,"=",100,null,39,65,35,65,"+",35,"=",100,null,54,58,42,58,"+",42,"=",100]
["… nearest 100 only",2,10,35,5,5,"+",35,"=",40,null,25,89,11,11,"+",89,"=",100,null,40,48,2,2,"+",48,"=",50,null,55,43,7,43,"+",7,"=",50]
["… nearest 1000 only",0,11,28,2,28,"+",2,"=",30,null,26,79,21,79,"+",21,"=",100,null,41,11,89,11,"+",89,"=",100,null,56,26,4,26,"+",4,"=",30]
["… nearest 100 or 1000",0,12,41,9,9,"+",41,"=",50,null,27,94,6,94,"+",6,"=",100,null,42,55,5,5,"+",55,"=",60,null,57,25,5,5,"+",25,"=",30]
[null,null,13,30,70,70,"+",30,"=",100,null,28,56,4,4,"+",56,"=",60,null,43,86,14,14,"+",86,"=",100,null,58,56,44,44,"+",56,"=",100]
[null,null,14,94,6,94,"+",6,"=",100,null,29,19,81,19,"+",81,"=",100,null,44,22,8,22,"+",8,"=",30,null,59,16,4,4,"+",16,"=",20]
[null,null,15,75,25,25,"+",75,"=",100,null,30,77,23,23,"+",77,"=",100,null,45,26,4,26,"+",4,"=",30,null,60,81,19,19,"+",81,"=",100]

{"sheet":"SYSTEM FORMULAE","index":1,"n_rows":15,"n_cols":35,"rows_kept":15,"cut":false,"hidden":false,"merged":[]}
[{"$f":"IF(ROW()<=Worksheet!$B$4/4,ROW(),\"\")","v":1},{"$f":"RANDBETWEEN(11,Worksheet!$B$6)","v":22},{"$f":"H1-B1","v":78},{"$f":"IF(RAND()<0.5,B1,H1-B1)","v":22},"+",{"$f":"IF(D1=B1,H1-B1,B1)","v":78},"=",{"$f":"CEILING(B1,10^RANDBETWEEN(IF(Worksheet!$B$8<4,1,IF(Worksheet!$B$8=5,3,2)),IF(Worksheet!$B$8<4,Worksheet!$B$8,IF(Worksheet!$B$8=4,2,3))))","v":100},null,{"$f":"MAX(A1:A20)+1","v":16},{"$f":"RANDBETWEEN(11,Worksheet!$B$6)","v":21},{"$f":"Q1-K1","v":9},{"$f":"IF(RAND()<0.5,K1,Q1-K1)","v":21},"+",{"$f":"IF(M1=K1,Q1-K1,K1)","v":9},"=",{"$f":"CEILING(K1,10^RANDBETWEEN(IF(Worksheet!$B$8<4,1,IF(Worksheet!$B$8=5,3,2)),IF(Worksheet!$B$8<4,Worksheet!$B$8,IF(Worksheet!$B$8=4,2,3))))","v":30},null,{"$f":"MAX(J1:J20)+1","v":31},{"$f":"RANDBETWEEN(11,Worksheet!$B$6)","v":44},{"$f":"Z1-T1","v":56},{"$f":"IF(RAND()<0.5,T1,Z1-T1)","v":44},"+",{"$f":"IF(V1=T1,Z1-T1,T1)","v":56},"=",{"$f":"CEILING(T1,10^RANDBETWEEN(IF(Worksheet!$B$8<4,1,IF(Worksheet!$B$8=5,3,2)),IF(Worksheet!$B$8<4,Worksheet!$B$8,IF(Worksheet!$B$8=4,2,3))))","v":100},null,{"$f":"MAX(S1:S20)+1","v":46},{"$f":"RANDBETWEEN(11,Worksheet!$B$6)","v":69},{"$f":"AI1-AC1","v":31},{"$f":"IF(RAND()<0.5,AC1,AI1-AC1)","v":31},"+",{"$f":"IF(AE1=AC1,AI1-AC1,AC1)","v":69},"=",{"$f":"CEILING(AC1,10^RANDBETWEEN(IF(Worksheet!$B$8<4,1,IF(Worksheet!$B$8=5,3,2)),IF(Worksheet!$B$8<4,Worksheet!$B$8,IF(Worksheet!$B$8=4,2,3))))","v":100}]
[{"$f":"IF(ROW()<=Worksheet!$B$4/4,ROW(),\"\")","v":2},{"$f":"RANDBETWEEN(11,Worksheet!$B$6)","v":79},{"$f":"H2-B2","v":21},{"$f":"IF(RAND()<0.5,B2,H2-B2)","v":21},"+",{"$f":"IF(D2=B2,H2-B2,B2)","v":79},"=",{"$f":"CEILING(B2,10^RANDBETWEEN(IF(Worksheet!$B$8<4,1,IF(Worksheet!$B$8=5,3,2)),IF(Worksheet!$B$8<4,Worksheet!$B$8,IF(Worksheet!$B$8=4,2,3))))","v":100},null,{"$f":"IF(ROW()<=Worksheet!$B$4/4,J1+1,\"\")","v":17},{"$f":"RANDBETWEEN(11,Worksheet!$B$6)","v":64},{"$f":"Q2-K2","v":36},{"$f":"IF(RAND()<0.5,K2,Q2-K2)","v":64},"+",{"$f":"IF(M2=K2,Q2-K2,K2)","v":36},"=",{"$f":"CEILING(K2,10^RANDBETWEEN(IF(Worksheet!$B$8<4,1,IF(Worksheet!$B$8=5,3,2)),IF(Worksheet!$B$8<4,Worksheet!$B$8,IF(Worksheet!$B$8=4,2,3))))","v":100},null,{"$f":"IF(ROW()<=Worksheet!$B$4/4,S1+1,\"\")","v":32},{"$f":"RANDBETWEEN(11,Worksheet!$B$6)","v":24},{"$f":"Z2-T2","v":6},{"$f":"IF(RAND()<0.5,T2,Z2-T2)","v":24},"+",{"$f":"IF(V2=T2,Z2-T2,T2)","v":6},"=",{"$f":"CEILING(T2,10^RANDBETWEEN(IF(Worksheet!$B$8<4,1,IF(Worksheet!$B$8=5,3,2)),IF(Worksheet!$B$8<4,Worksheet!$B$8,IF(Worksheet!$B$8=4,2,3))))","v":30},null,{"$f":"IF(ROW()<=Worksheet!$B$4/4,AB1+1,\"\")","v":47},{"$f":"RANDBETWEEN(11,Worksheet!$B$6)","v":75},{"$f":"AI2-AC2","v":5},{"$f":"IF(RAND()<0.5,AC2,AI2-AC2)","v":5},"+",{"$f":"IF(AE2=AC2,AI2-AC2,AC2)","v":75},"=",{"$f":"CEILING(AC2,10^RANDBETWEEN(IF(Worksheet!$B$8<4,1,IF(Worksheet!$B$8=5,3,2)),IF(Worksheet!$B$8<4,Worksheet!$B$8,IF(Worksheet!$B$8=4,2,3))))","v":80}]
[{"$f":"IF(ROW()<=Worksheet!$B$4/4,ROW(),\"\")","v":3},{"$f":"RANDBETWEEN(11,Worksheet!$B$6)","v":43},57,43,"+",57,"=",{"$f":"CEILING(B3,10^RANDBETWEEN(IF(Worksheet!$B$8<4,1,IF(Worksheet!$B$8=5,3,2)),IF(Worksheet!$B$8<4,Worksheet!$B$8,IF(Worksheet!$B$8=4,2,3))))","v":100},null,{"$f":"IF(ROW()<=Worksheet!$B$4/4,J2+1,\"\")","v":18},{"$f":"RANDBETWEEN(11,Worksheet!$B$6)","v":23},77,77,"+",23,"=",{"$f":"CEILING(K3,10^RANDBETWEEN(IF(Worksheet!$B$8<4,1,IF(Worksheet!$B$8=5,3,2)),IF(Worksheet!$B$8<4,Worksheet!$B$8,IF(Worksheet!$B$8=4,2,3))))","v":100},null,{"$f":"IF(ROW()<=Worksheet!$B$4/4,S2+1,\"\")","v":33},{"$f":"RANDBETWEEN(11,Worksheet!$B$6)","v":48},52,52,"+",48,"=",{"$f":"CEILING(T3,10^RANDBETWEEN(IF(Worksheet!$B$8<4,1,IF(Worksheet!$B$8=5,3,2)),IF(Worksheet!$B$8<4,Worksheet!$B$8,IF(Worksheet!$B$8=4,2,3))))","v":100},null,{"$f":"IF(ROW()<=Worksheet!$B$4/4,AB2+1,\"\")","v":48},{"$f":"RANDBETWEEN(11,Worksheet!$B$6)","v":15},5,15,"+",5,"=",{"$f":"CEILING(AC3,10^RANDBETWEEN(IF(Worksheet!$B$8<4,1,IF(Worksheet!$B$8=5,3,2)),IF(Worksheet!$B$8<4,Worksheet!$B$8,IF(Worksheet!$B$8=4,2,3))))","v":20}]
[{"$f":"IF(ROW()<=Worksheet!$B$4/4,ROW(),\"\")","v":4},{"$f":"RANDBETWEEN(11,Worksheet!$B$6)","v":31},9,31,"+",9,"=",{"$f":"CEILING(B4,10^RANDBETWEEN(IF(Worksheet!$B$8<4,1,IF(Worksheet!$B$8=5,3,2)),IF(Worksheet!$B$8<4,Worksheet!$B$8,IF(Worksheet!$B$8=4,2,3))))","v":40},null,{"$f":"IF(ROW()<=Worksheet!$B$4/4,J3+1,\"\")","v":19},{"$f":"RANDBETWEEN(11,Worksheet!$B$6)","v":19},1,19,"+",1,"=",{"$f":"CEILING(K4,10^RANDBETWEEN(IF(Worksheet!$B$8<4,1,IF(Worksheet!$B$8=5,3,2)),IF(Worksheet!$B$8<4,Worksheet!$B$8,IF(Worksheet!$B$8=4,2,3))))","v":20},null,{"$f":"IF(ROW()<=Worksheet!$B$4/4,S3+1,\"\")","v":34},{"$f":"RANDBETWEEN(11,Worksheet!$B$6)","v":45},55,45,"+",55,"=",{"$f":"CEILING(T4,10^RANDBETWEEN(IF(Worksheet!$B$8<4,1,IF(Worksheet!$B$8=5,3,2)),IF(Worksheet!$B$8<4,Worksheet!$B$8,IF(Worksheet!$B$8=4,2,3))))","v":100},null,{"$f":"IF(ROW()<=Worksheet!$B$4/4,AB3+1,\"\")","v":49},{"$f":"RANDBETWEEN(11,Worksheet!$B$6)","v":12},88,12,"+",88,"=",{"$f":"CEILING(AC4,10^RANDBETWEEN(IF(Worksheet!$B$8<4,1,IF(Worksheet!$B$8=5,3,2)),IF(Worksheet!$B$8<4,Worksheet!$B$8,IF(Worksheet!$B$8=4,2,3))))","v":100}]
[{"$f":"IF(ROW()<=Worksheet!$B$4/4,ROW(),\"\")","v":5},{"$f":"RANDBETWEEN(11,Worksheet!$B$6)","v":92},8,8,"+",92,"=",{"$f":"CEILING(B5,10^RANDBETWEEN(IF(Worksheet!$B$8<4,1,IF(Worksheet!$B$8=5,3,2)),IF(Worksheet!$B$8<4,Worksheet!$B$8,IF(Worksheet!$B$8=4,2,3))))","v":100},null,{"$f":"IF(ROW()<=Worksheet!$B$4/4,J4+1,\"\")","v":20},{"$f":"RANDBETWEEN(11,Worksheet!$B$6)","v":45},55,55,"+",45,"=",{"$f":"CEILING(K5,10^RANDBETWEEN(IF(Worksheet!$B$8<4,1,IF(Worksheet!$B$8=5,3,2)),IF(Worksheet!$B$8<4,Worksheet!$B$8,IF(Worksheet!$B$8=4,2,3))))","v":100},null,{"$f":"IF(ROW()<=Worksheet!$B$4/4,S4+1,\"\")","v":35},{"$f":"RANDBETWEEN(11,Worksheet!$B$6)","v":94},6,94,"+",6,"=",{"$f":"CEILING(T5,10^RANDBETWEEN(IF(Worksheet!$B$8<4,1,IF(Worksheet!$B$8=5,3,2)),IF(Worksheet!$B$8<4,Worksheet!$B$8,IF(Worksheet!$B$8=4,2,3))))","v":100},null,{"$f":"IF(ROW()<=Worksheet!$B$4/4,AB4+1,\"\")","v":50},{"$f":"RANDBETWEEN(11,Worksheet!$B$6)","v":46},4,4,"+",46,"=",{"$f":"CEILING(AC5,10^RANDBETWEEN(IF(Worksheet!$B$8<4,1,IF(Worksheet!$B$8=5,3,2)),IF(Worksheet!$B$8<4,Worksheet!$B$8,IF(Worksheet!$B$8=4,2,3))))","v":50}]
[{"$f":"IF(ROW()<=Worksheet!$B$4/4,ROW(),\"\")","v":6},{"$f":"RANDBETWEEN(11,Worksheet!$B$6)","v":28},2,28,"+",2,"=",{"$f":"CEILING(B6,10^RANDBETWEEN(IF(Worksheet!$B$8<4,1,IF(Worksheet!$B$8=5,3,2)),IF(Worksheet!$B$8<4,Worksheet!$B$8,IF(Worksheet!$B$8=4,2,3))))","v":30},null,{"$f":"IF(ROW()<=Worksheet!$B$4/4,J5+1,\"\")","v":21},{"$f":"RANDBETWEEN(11,Worksheet!$B$6)","v":95},5,5,"+",95,"=",{"$f":"CEILING(K6,10^RANDBETWEEN(IF(Worksheet!$B$8<4,1,IF(Worksheet!$B$8=5,3,2)),IF(Worksheet!$B$8<4,Worksheet!$B$8,IF(Worksheet!$B$8=4,2,3))))","v":100},null,{"$f":"IF(ROW()<=Worksheet!$B$4/4,S5+1,\"\")","v":36},{"$f":"RANDBETWEEN(11,Worksheet!$B$6)","v":48},52,52,"+",48,"=",{"$f":"CEILING(T6,10^RANDBETWEEN(IF(Worksheet!$B$8<4,1,IF(Worksheet!$B$8=5,3,2)),IF(Worksheet!$B$8<4,Worksheet!$B$8,IF(Worksheet!$B$8=4,2,3))))","v":100},null,{"$f":"IF(ROW()<=Worksheet!$B$4/4,AB5+1,\"\")","v":51},{"$f":"RANDBETWEEN(11,Worksheet!$B$6)","v":65},35,65,"+",35,"=",{"$f":"CEILING(AC6,10^RANDBETWEEN(IF(Worksheet!$B$8<4,1,IF(Worksheet!$B$8=5,3,2)),IF(Worksheet!$B$8<4,Worksheet!$B$8,IF(Worksheet!$B$8=4,2,3))))","v":100}]
[{"$f":"IF(ROW()<=Worksheet!$B$4/4,ROW(),\"\")","v":7},{"$f":"RANDBETWEEN(11,Worksheet!$B$6)","v":39},61,61,"+",39,"=",{"$f":"CEILING(B7,10^RANDBETWEEN(IF(Worksheet!$B$8<4,1,IF(Worksheet!$B$8=5,3,2)),IF(Worksheet!$B$8<4,Worksheet!$B$8,IF(Worksheet!$B$8=4,2,3))))","v":100},null,{"$f":"IF(ROW()<=Worksheet!$B$4/4,J6+1,\"\")","v":22},{"$f":"RANDBETWEEN(11,Worksheet!$B$6)","v":71},9,71,"+",9,"=",{"$f":"CEILING(K7,10^RANDBETWEEN(IF(Worksheet!$B$8<4,1,IF(Worksheet!$B$8=5,3,2)),IF(Worksheet!$B$8<4,Worksheet!$B$8,IF(Worksheet!$B$8=4,2,3))))","v":80},null,{"$f":"IF(ROW()<=Worksheet!$B$4/4,S6+1,\"\")","v":37},{"$f":"RANDBETWEEN(11,Worksheet!$B$6)","v":53},7,53,"+",7,"=",{"$f":"CEILING(T7,10^RANDBETWEEN(IF(Worksheet!$B$8<4,1,IF(Worksheet!$B$8=5,3,2)),IF(Worksheet!$B$8<4,Worksheet!$B$8,IF(Worksheet!$B$8=4,2,3))))","v":60},null,{"$f":"IF(ROW()<=Worksheet!$B$4/4,AB6+1,\"\")","v":52},{"$f":"RANDBETWEEN(11,Worksheet!$B$6)","v":17},3,17,"+",3,"=",{"$f":"CEILING(AC7,10^RANDBETWEEN(IF(Worksheet!$B$8<4,1,IF(Worksheet!$B$8=5,3,2)),IF(Worksheet!$B$8<4,Worksheet!$B$8,IF(Worksheet!$B$8=4,2,3))))","v":20}]
[{"$f":"IF(ROW()<=Worksheet!$B$4/4,ROW(),\"\")","v":8},{"$f":"RANDBETWEEN(11,Worksheet!$B$6)","v":97},3,97,"+",3,"=",{"$f":"CEILING(B8,10^RANDBETWEEN(IF(Worksheet!$B$8<4,1,IF(Worksheet!$B$8=5,3,2)),IF(Worksheet!$B$8<4,Worksheet!$B$8,IF(Worksheet!$B$8=4,2,3))))","v":100},null,{"$f":"IF(ROW()<=Worksheet!$B$4/4,J7+1,\"\")","v":23},{"$f":"RANDBETWEEN(11,Worksheet!$B$6)","v":26},4,4,"+",26,"=",{"$f":"CEILING(K8,10^RANDBETWEEN(IF(Worksheet!$B$8<4,1,IF(Worksheet!$B$8=5,3,2)),IF(Worksheet!$B$8<4,Worksheet!$B$8,IF(Worksheet!$B$8=4,2,3))))","v":30},null,{"$f":"IF(ROW()<=Worksheet!$B$4/4,S7+1,\"\")","v":38},{"$f":"RANDBETWEEN(11,Worksheet!$B$6)","v":29},71,29,"+",71,"=",{"$f":"CEILING(T8,10^RANDBETWEEN(IF(Worksheet!$B$8<4,1,IF(Worksheet!$B$8=5,3,2)),IF(Worksheet!$B$8<4,Worksheet!$B$8,IF(Worksheet!$B$8=4,2,3))))","v":100},null,{"$f":"IF(ROW()<=Worksheet!$B$4/4,AB7+1,\"\")","v":53},{"$f":"RANDBETWEEN(11,Worksheet!$B$6)","v":74},6,74,"+",6,"=",{"$f":"CEILING(AC8,10^RANDBETWEEN(IF(Worksheet!$B$8<4,1,IF(Worksheet!$B$8=5,3,2)),IF(Worksheet!$B$8<4,Worksheet!$B$8,IF(Worksheet!$B$8=4,2,3))))","v":80}]
[{"$f":"IF(ROW()<=Worksheet!$B$4/4,ROW(),\"\")","v":9},{"$f":"RANDBETWEEN(11,Worksheet!$B$6)","v":96},4,96,"+",4,"=",{"$f":"CEILING(B9,10^RANDBETWEEN(IF(Worksheet!$B$8<4,1,IF(Worksheet!$B$8=5,3,2)),IF(Worksheet!$B$8<4,Worksheet!$B$8,IF(Worksheet!$B$8=4,2,3))))","v":100},null,{"$f":"IF(ROW()<=Worksheet!$B$4/4,J8+1,\"\")","v":24},{"$f":"RANDBETWEEN(11,Worksheet!$B$6)","v":42},58,58,"+",42,"=",{"$f":"CEILING(K9,10^RANDBETWEEN(IF(Worksheet!$B$8<4,1,IF(Worksheet!$B$8=5,3,2)),IF(Worksheet!$B$8<4,Worksheet!$B$8,IF(Worksheet!$B$8=4,2,3))))","v":100},null,{"$f":"IF(ROW()<=Worksheet!$B$4/4,S8+1,\"\")","v":39},{"$f":"RANDBETWEEN(11,Worksheet!$B$6)","v":97},3,97,"+",3,"=",{"$f":"CEILING(T9,10^RANDBETWEEN(IF(Worksheet!$B$8<4,1,IF(Worksheet!$B$8=5,3,2)),IF(Worksheet!$B$8<4,Worksheet!$B$8,IF(Worksheet!$B$8=4,2,3))))","v":100},null,{"$f":"IF(ROW()<=Worksheet!$B$4/4,AB8+1,\"\")","v":54},{"$f":"RANDBETWEEN(11,Worksheet!$B$6)","v":39},61,39,"+",61,"=",{"$f":"CEILING(AC9,10^RANDBETWEEN(IF(Worksheet!$B$8<4,1,IF(Worksheet!$B$8=5,3,2)),IF(Worksheet!$B$8<4,Worksheet!$B$8,IF(Worksheet!$B$8=4,2,3))))","v":100}]
[{"$f":"IF(ROW()<=Worksheet!$B$4/4,ROW(),\"\")","v":10},{"$f":"RANDBETWEEN(11,Worksheet!$B$6)","v":29},71,29,"+",71,"=",{"$f":"CEILING(B10,10^RANDBETWEEN(IF(Worksheet!$B$8<4,1,IF(Worksheet!$B$8=5,3,2)),IF(Worksheet!$B$8<4,Worksheet!$B$8,IF(Worksheet!$B$8=4,2,3))))","v":100},null,{"$f":"IF(ROW()<=Worksheet!$B$4/4,J9+1,\"\")","v":25},{"$f":"RANDBETWEEN(11,Worksheet!$B$6)","v":33},67,33,"+",67,"=",{"$f":"CEILING(K10,10^RANDBETWEEN(IF(Worksheet!$B$8<4,1,IF(Worksheet!$B$8=5,3,2)),IF(Worksheet!$B$8<4,Worksheet!$B$8,IF(Worksheet!$B$8=4,2,3))))","v":100},null,{"$f":"IF(ROW()<=Worksheet!$B$4/4,S9+1,\"\")","v":40},{"$f":"RANDBETWEEN(11,Worksheet!$B$6)","v":57},43,57,"+",43,"=",{"$f":"CEILING(T10,10^RANDBETWEEN(IF(Worksheet!$B$8<4,1,IF(Worksheet!$B$8=5,3,2)),IF(Worksheet!$B$8<4,Worksheet!$B$8,IF(Worksheet!$B$8=4,2,3))))","v":100},null,{"$f":"IF(ROW()<=Worksheet!$B$4/4,AB9+1,\"\")","v":55},{"$f":"RANDBETWEEN(11,Worksheet!$B$6)","v":54},46,46,"+",54,"=",{"$f":"CEILING(AC10,10^RANDBETWEEN(IF(Worksheet!$B$8<4,1,IF(Worksheet!$B$8=5,3,2)),IF(Worksheet!$B$8<4,Worksheet!$B$8,IF(Worksheet!$B$8=4,2,3))))","v":100}]
[{"$f":"IF(ROW()<=Worksheet!$B$4/4,ROW(),\"\")","v":11},{"$f":"RANDBETWEEN(11,Worksheet!$B$6)","v":42},58,42,"+",58,"=",{"$f":"CEILING(B11,10^RANDBETWEEN(IF(Worksheet!$B$8<4,1,IF(Worksheet!$B$8=5,3,2)),IF(Worksheet!$B$8<4,Worksheet!$B$8,IF(Worksheet!$B$8=4,2,3))))","v":100},null,{"$f":"IF(ROW()<=Worksheet!$B$4/4,J10+1,\"\")","v":26},{"$f":"RANDBETWEEN(11,Worksheet!$B$6)","v":12},8,12,"+",8,"=",{"$f":"CEILING(K11,10^RANDBETWEEN(IF(Worksheet!$B$8<4,1,IF(Worksheet!$B$8=5,3,2)),IF(Worksheet!$B$8<4,Worksheet!$B$8,IF(Worksheet!$B$8=4,2,3))))","v":20},null,{"$f":"IF(ROW()<=Worksheet!$B$4/4,S10+1,\"\")","v":41},{"$f":"RANDBETWEEN(11,Worksheet!$B$6)","v":38},2,2,"+",38,"=",{"$f":"CEILING(T11,10^RANDBETWEEN(IF(Worksheet!$B$8<4,1,IF(Worksheet!$B$8=5,3,2)),IF(Worksheet!$B$8<4,Worksheet!$B$8,IF(Worksheet!$B$8=4,2,3))))","v":40},null,{"$f":"IF(ROW()<=Worksheet!$B$4/4,AB10+1,\"\")","v":56},{"$f":"RANDBETWEEN(11,Worksheet!$B$6)","v":88},12,88,"+",12,"=",{"$f":"CEILING(AC11,10^RANDBETWEEN(IF(Worksheet!$B$8<4,1,IF(Worksheet!$B$8=5,3,2)),IF(Worksheet!$B$8<4,Worksheet!$B$8,IF(Worksheet!$B$8=4,2,3))))","v":100}]
[{"$f":"IF(ROW()<=Worksheet!$B$4/4,ROW(),\"\")","v":12},{"$f":"RANDBETWEEN(11,Worksheet!$B$6)","v":79},1,1,"+",79,"=",{"$f":"CEILING(B12,10^RANDBETWEEN(IF(Worksheet!$B$8<4,1,IF(Worksheet!$B$8=5,3,2)),IF(Worksheet!$B$8<4,Worksheet!$B$8,IF(Worksheet!$B$8=4,2,3))))","v":80},null,{"$f":"IF(ROW()<=Worksheet!$B$4/4,J11+1,\"\")","v":27},{"$f":"RANDBETWEEN(11,Worksheet!$B$6)","v":29},1,1,"+",29,"=",{"$f":"CEILING(K12,10^RANDBETWEEN(IF(Worksheet!$B$8<4,1,IF(Worksheet!$B$8=5,3,2)),IF(Worksheet!$B$8<4,Worksheet!$B$8,IF(Worksheet!$B$8=4,2,3))))","v":30},null,{"$f":"IF(ROW()<=Worksheet!$B$4/4,S11+1,\"\")","v":42},{"$f":"RANDBETWEEN(11,Worksheet!$B$6)","v":40},0,40,"+",0,"=",{"$f":"CEILING(T12,10^RANDBETWEEN(IF(Worksheet!$B$8<4,1,IF(Worksheet!$B$8=5,3,2)),IF(Worksheet!$B$8<4,Worksheet!$B$8,IF(Worksheet!$B$8=4,2,3))))","v":40},null,{"$f":"IF(ROW()<=Worksheet!$B$4/4,AB11+1,\"\")","v":57},{"$f":"RANDBETWEEN(11,Worksheet!$B$6)","v":89},1,89,"+",1,"=",{"$f":"CEILING(AC12,10^RANDBETWEEN(IF(Worksheet!$B$8<4,1,IF(Worksheet!$B$8=5,3,2)),IF(Worksheet!$B$8<4,Worksheet!$B$8,IF(Worksheet!$B$8=4,2,3))))","v":90}]
[{"$f":"IF(ROW()<=Worksheet!$B$4/4,ROW(),\"\")","v":13},{"$f":"RANDBETWEEN(11,Worksheet!$B$6)","v":79},21,79,"+",21,"=",{"$f":"CEILING(B13,10^RANDBETWEEN(IF(Worksheet!$B$8<4,1,IF(Worksheet!$B$8=5,3,2)),IF(Worksheet!$B$8<4,Worksheet!$B$8,IF(Worksheet!$B$8=4,2,3))))","v":100},null,{"$f":"IF(ROW()<=Worksheet!$B$4/4,J12+1,\"\")","v":28},{"$f":"RANDBETWEEN(11,Worksheet!$B$6)","v":100},0,0,"+",100,"=",{"$f":"CEILING(K13,10^RANDBETWEEN(IF(Worksheet!$B$8<4,1,IF(Worksheet!$B$8=5,3,2)),IF(Worksheet!$B$8<4,Worksheet!$B$8,IF(Worksheet!$B$8=4,2,3))))","v":100},null,{"$f":"IF(ROW()<=Worksheet!$B$4/4,S12+1,\"\")","v":43},{"$f":"RANDBETWEEN(11,Worksheet!$B$6)","v":58},42,58,"+",42,"=",{"$f":"CEILING(T13,10^RANDBETWEEN(IF(Worksheet!$B$8<4,1,IF(Worksheet!$B$8=5,3,2)),IF(Worksheet!$B$8<4,Worksheet!$B$8,IF(Worksheet!$B$8=4,2,3))))","v":100},null,{"$f":"IF(ROW()<=Worksheet!$B$4/4,AB12+1,\"\")","v":58},{"$f":"RANDBETWEEN(11,Worksheet!$B$6)","v":96},4,4,"+",96,"=",{"$f":"CEILING(AC13,10^RANDBETWEEN(IF(Worksheet!$B$8<4,1,IF(Worksheet!$B$8=5,3,2)),IF(Worksheet!$B$8<4,Worksheet!$B$8,IF(Worksheet!$B$8=4,2,3))))","v":100}]
[{"$f":"IF(ROW()<=Worksheet!$B$4/4,ROW(),\"\")","v":14},{"$f":"RANDBETWEEN(11,Worksheet!$B$6)","v":47},53,53,"+",47,"=",{"$f":"CEILING(B14,10^RANDBETWEEN(IF(Worksheet!$B$8<4,1,IF(Worksheet!$B$8=5,3,2)),IF(Worksheet!$B$8<4,Worksheet!$B$8,IF(Worksheet!$B$8=4,2,3))))","v":100},null,{"$f":"IF(ROW()<=Worksheet!$B$4/4,J13+1,\"\")","v":29},{"$f":"RANDBETWEEN(11,Worksheet!$B$6)","v":81},19,19,"+",81,"=",{"$f":"CEILING(K14,10^RANDBETWEEN(IF(Worksheet!$B$8<4,1,IF(Worksheet!$B$8=5,3,2)),IF(Worksheet!$B$8<4,Worksheet!$B$8,IF(Worksheet!$B$8=4,2,3))))","v":100},null,{"$f":"IF(ROW()<=Worksheet!$B$4/4,S13+1,\"\")","v":44},{"$f":"RANDBETWEEN(11,Worksheet!$B$6)","v":46},4,4,"+",46,"=",{"$f":"CEILING(T14,10^RANDBETWEEN(IF(Worksheet!$B$8<4,1,IF(Worksheet!$B$8=5,3,2)),IF(Worksheet!$B$8<4,Worksheet!$B$8,IF(Worksheet!$B$8=4,2,3))))","v":50},null,{"$f":"IF(ROW()<=Worksheet!$B$4/4,AB13+1,\"\")","v":59},{"$f":"RANDBETWEEN(11,Worksheet!$B$6)","v":70},30,70,"+",30,"=",{"$f":"CEILING(AC14,10^RANDBETWEEN(IF(Worksheet!$B$8<4,1,IF(Worksheet!$B$8=5,3,2)),IF(Worksheet!$B$8<4,Worksheet!$B$8,IF(Worksheet!$B$8=4,2,3))))","v":100}]
[{"$f":"IF(ROW()<=Worksheet!$B$4/4,ROW(),\"\")","v":15},{"$f":"RANDBETWEEN(11,Worksheet!$B$6)","v":35},5,35,"+",5,"=",{"$f":"CEILING(B15,10^RANDBETWEEN(IF(Worksheet!$B$8<4,1,IF(Worksheet!$B$8=5,3,2)),IF(Worksheet!$B$8<4,Worksheet!$B$8,IF(Worksheet!$B$8=4,2,3))))","v":40},null,{"$f":"IF(ROW()<=Worksheet!$B$4/4,J14+1,\"\")","v":30},{"$f":"RANDBETWEEN(11,Worksheet!$B$6)","v":98},2,98,"+",2,"=",{"$f":"CEILING(K15,10^RANDBETWEEN(IF(Worksheet!$B$8<4,1,IF(Worksheet!$B$8=5,3,2)),IF(Worksheet!$B$8<4,Worksheet!$B$8,IF(Worksheet!$B$8=4,2,3))))","v":100},null,{"$f":"IF(ROW()<=Worksheet!$B$4/4,S14+1,\"\")","v":45},{"$f":"RANDBETWEEN(11,Worksheet!$B$6)","v":19},81,81,"+",19,"=",{"$f":"CEILING(T15,10^RANDBETWEEN(IF(Worksheet!$B$8<4,1,IF(Worksheet!$B$8=5,3,2)),IF(Worksheet!$B$8<4,Worksheet!$B$8,IF(Worksheet!$B$8=4,2,3))))","v":100},null,{"$f":"IF(ROW()<=Worksheet!$B$4/4,AB14+1,\"\")","v":60},{"$f":"RANDBETWEEN(11,Worksheet!$B$6)","v":75},5,75,"+",5,"=",{"$f":"CEILING(AC15,10^RANDBETWEEN(IF(Worksheet!$B$8<4,1,IF(Worksheet!$B$8=5,3,2)),IF(Worksheet!$B$8<4,Worksheet!$B$8,IF(Worksheet!$B$8=4,2,3))))","v":80}]