{"text_format":"1","workbook":"xlsx","n_sheets":2,"sheets":["Worksheet","SYSTEM FORMULAE"],"not_rendered":{"charts":0,"images":0,"macros":1,"external_links":0,"defined_names":4,"comments":0,"pivot_tables":0},"unopened":[],"bounds":{"document_bytes":16777216,"sheet_cells":100000,"rows_first":2000,"rows_last":500,"rows_between":2000,"halvings":0,"cell_chars":16384,"cell_head_chars":4096},"cells_cut":0,"cells_raw":0,"read":"whole","date_system":"1900"}

{"sheet":"Worksheet","index":0,"n_rows":22,"n_cols":17,"rows_kept":22,"cut":false,"hidden":false,"merged":[[0,8,1,8],[0,5,1,5],[6,0,6,3],[7,0,7,3],[1,0,1,3],[0,6,0,7],[1,6,1,7]]}
[null,null,null,null,null,"adjust difficulty here.  Aim for a spread.","Number Topics: Revision Questions",null,"Answers (by default this column will not print)"]
["Include questions on these NUMBER topics      (if you only choose a limited number of topics, some questions may appear blank)",null,null,null,null,null,"No calculators: write working whenever you need to.  Use another sheet if you need more space"]
["Numerals, Count, Order (revision of previous level)",true,"Fractions",true,null,{"$f":"IF(O3=1,\"Easy\",IF(O3=2,\"Medium\",\"Hard\"))","v":"Easy"},1,"Write down the next two numbers in this decreasing pattern:                9.004    ,    9.003    ,    9.002    ,    9.001    ,    _______________    ,    _______________ ","8.991    ,    8.981",null,null,null,null,{"$f":"CONCATENATE(TRUE,F3,COUNTIF($F$3:F3,F3))","v":"TRUEEasy1"},1,{"$f":"VLOOKUP(N3,Questions,20,FALSE)","v":"Write down the next two numbers in this decreasing pattern:                9.005    ,    9.004    ,    9.003    ,    9.002    ,    _______________    ,    _______________ "},{"$f":"VLOOKUP(N3,Questions,30,FALSE)","v":"8.992    ,    8.982"}]
["Add, Subtract, Multiply, Divide (revision of previous level)",true,"Decimals and Standard Form",true,null,{"$f":"IF(O4=1,\"Easy\",IF(O4=2,\"Medium\",\"Hard\"))","v":"Easy"},2,"Work out the value of: 3 × ( 7  –  9 )      ","-6",null,null,null,null,{"$f":"CONCATENATE(TRUE,F4,COUNTIF($F$3:F4,F4))","v":"TRUEEasy2"},1,"Work out the value of: 6 × ( 2  –  6 )      ","-24"]
["Surds and Indices",true,"Percentages",true,null,"Easy",3,"Algebra.  If  x = 5 , what is the value of:     3x²?    ","75",null,null,null,null,{"$f":"CONCATENATE(TRUE,F5,COUNTIF($F$3:F5,F5))","v":"TRUEEasy3"},1,"Algebra.  If  g = 2 , what is the value of:     6g²?    ","24"]
["Negative Numbers",true,"Rounding",true,null,"Easy",4,"Add the fractions:   1/3 + 3/4           ","13/12",null,null,null,null,{"$f":"CONCATENATE(TRUE,F6,COUNTIF($F$3:F6,F6))","v":"TRUEEasy4"},1,"Add the fractions:   1/4 + 3/5           ","17/20"]
[{"$f":"IF(OR('SYSTEM FORMULAE'!A3<20,'SYSTEM FORMULAE'!U1<'SYSTEM FORMULAE'!T1,'SYSTEM FORMULAE'!U2<'SYSTEM FORMULAE'!T2,'SYSTEM FORMULAE'!U3<'SYSTEM FORMULAE'!T3),\"there are not enough potential questions.  Please choose more topics\",\"\")","v":""},null,null,null,null,"Easy",5,"Work out the value of: 4 ( 7 – 1 )      ","24",null,null,null,null,{"$f":"CONCATENATE(TRUE,F7,COUNTIF($F$3:F7,F7))","v":"TRUEEasy5"},1,"Work out the value of: 3 ( 8 – 7 )      ","3"]
["Optionally include additional questions on these (selected) ALGEBRA topics",null,null,null,null,"Medium",6,"Solve the equation 6q – 3 = 135 .      Show your working in full.     ","q = 23",null,null,null,null,{"$f":"CONCATENATE(TRUE,F8,COUNTIF($F$3:F8,F8))","v":"TRUEMedium1"},2,"Solve the equation 2q – 5 = 19 .      Show your working in full.     ","q = 12"]
["Substitution and Using formulae",true,"Equations and Inequations",true,null,"Medium",7,"What is  39 to the power of 0?   ( 39^0 )        ","1",null,null,null,null,{"$f":"CONCATENATE(TRUE,F9,COUNTIF($F$3:F9,F9))","v":"TRUEMedium2"},2,"What is  75 to the power of 0?   ( 75^0 )        ","1"]
[null,null,null,null,null,"Medium",8,"Use a written sum to divide:  3620 ÷ 9, giving your remainder as a fraction or to 2 decimal place          ","402.22 or 402 2/9",null,null,null,null,{"$f":"CONCATENATE(TRUE,F10,COUNTIF($F$3:F10,F10))","v":"TRUEMedium3"},2,"Use a written sum to divide:  1145 ÷ 9, giving your remainder as a fraction or to 2 decimal place          ","127.22 or 127 2/9"]
[null,null,null,null,null,"Medium",9,"Change the number  8.937 × 10^5 (10 to the power of 5) from standard form to normal form      ","893700",null,null,null,null,{"$f":"CONCATENATE(TRUE,F11,COUNTIF($F$3:F11,F11))","v":"TRUEMedium4"},2,"Change the number  1.448 × 10^6 (10 to the power of 6) from standard form to normal form      ","1448000"]
[null,null,null,null,null,"Medium",10,"Solve the equation      ¼w = 7       ","w=28",null,null,null,null,{"$f":"CONCATENATE(TRUE,F12,COUNTIF($F$3:F12,F12))","v":"TRUEMedium5"},2,"Solve the equation      ¼j = 4       ","j=16"]
[null,null,null,null,null,"Medium",11,"Which ONE of these numbers is a PRIME number: 12  ,  41  ,  60  ,  81     ","41",null,null,null,null,{"$f":"CONCATENATE(TRUE,F13,COUNTIF($F$3:F13,F13))","v":"TRUEMedium6"},2,"Which ONE of these numbers is a PRIME number: 21  ,  31  ,  30  ,  32     ","31"]
[null,null,null,null,null,"Medium",12,"Multiply:      2   2/5    ×   6     ","14  2/5   or   72/5",null,null,null,null,{"$f":"CONCATENATE(TRUE,F14,COUNTIF($F$3:F14,F14))","v":"TRUEMedium7"},2,"Take away the fractions:   2/7 – 1/6           ","5/42"]
[null,null,null,null,null,"Medium",13,"Take away the fractions:   3/7 – 2/6 ,    giving your answer in its simplest form          ","2/21",null,null,null,null,{"$f":"CONCATENATE(TRUE,F15,COUNTIF($F$3:F15,F15))","v":"TRUEMedium8"},2,"Divide:    4858 ÷ 700         ","6.94"]
[null,null,null,null,null,"Medium",14,"Divide:    4491 ÷ 90         ","49.9",null,null,null,null,{"$f":"CONCATENATE(TRUE,F16,COUNTIF($F$3:F16,F16))","v":"TRUEMedium9"},2,"Write the mixed number   11   7/14   as a topheavy fraction       ","161/14"]
[null,null,null,null,null,"Hard",15,"Round the number 93.6 to one significant figure          ","90",null,null,null,null,{"$f":"CONCATENATE(TRUE,F17,COUNTIF($F$3:F17,F17))","v":"TRUEHard1"},3,"Round the number 40.07 to one significant figure          ","40"]
[null,null,null,null,null,"Hard",16,"Multiply out the bracket and simplify: 9 ( 1 – 2u )     ","9 – 18u",null,null,null,null,{"$f":"CONCATENATE(TRUE,F18,COUNTIF($F$3:F18,F18))","v":"TRUEHard2"},3,"Multiply out the bracket and simplify: 7 ( 1 – 10v )     ","7 – 70v"]
[null,null,null,null,null,"Hard",17,"Write the number 3963 in standard form          ","3.963× 10^3  (10 to the power of 3)",null,null,null,null,{"$f":"CONCATENATE(TRUE,F19,COUNTIF($F$3:F19,F19))","v":"TRUEHard3"},3,"Write the number 3069 in standard form          ","3.069× 10^3  (10 to the power of 3)"]
[null,null,null,null,null,"Hard",18,"Write the number 876 in standard form          ","8.76× 10^2  (10 to the power of 2)",null,null,null,null,{"$f":"CONCATENATE(TRUE,F20,COUNTIF($F$3:F20,F20))","v":"TRUEHard4"},3,"Write the number 304 in standard form          ","3.04× 10^2  (10 to the power of 2)"]
[null,null,null,null,null,"Hard",19,"What is  (–16)² ?        ","256",null,null,null,null,{"$f":"CONCATENATE(TRUE,F21,COUNTIF($F$3:F21,F21))","v":"TRUEHard5"},3,"What is  (–18)² ?        ","324"]
[null,null,null,null,null,"Hard",20,"A laptop costs £900 .  In a sale, its price is reduced by  15% .  What is its price in the sale?     ","£765",null,null,null,null,{"$f":"CONCATENATE(TRUE,F22,COUNTIF($F$3:F22,F22))","v":"TRUEHard6"},3,"A scooter costs £800 .  In a sale, its price is reduced by  15% .  What is its price in the sale?     ","£680"]

{"sheet":"SYSTEM FORMULAE","index":1,"n_rows":355,"n_cols":34,"rows_kept":355,"cut":false,"hidden":false,"merged":[]}
["Possible topics","Num","+-×÷","Surds",null,null,"numerical simplifying using laws of indices",null,null,null,null,null,null,null,null,null,null,null,"hard",{"$f":"COUNTIF(Worksheet!$F$3:$F$22,S1)","v":6},{"$f":"COUNTIF(AH$5:AH$796,\"TRUEHard\")","v":64}]
[null,null,"Frac","Dec","%",null,null,null,null,null,null,null,null,null,null,null,null,null,"medium",{"$f":"COUNTIF(Worksheet!$F$3:$F$22,S2)","v":9},{"$f":"COUNTIF(AH$5:AH$796,\"TRUEMedium\")","v":146}]
[{"$f":"COUNTIF(AE5:AE796,TRUE)","v":349},"Neg","Round","Alg","Eqn",null,null,null,null,null,null,null,null,null,null,null,null,null,"easy",{"$f":"COUNTIF(Worksheet!$F$3:$F$22,S3)","v":5},{"$f":"COUNTIF(AH$5:AH$796,\"TRUEEasy\")","v":139}]
["allow inclusion?","rand()","topic","difficulty",null,null,null,null,null,null,null,null,null,null,null,null,null,null,null,null,"Answers"]
[{"$f":"CONCATENATE(AE5,D5,AG5)","v":"TRUEMedium1"},{"$f":"RAND()","v":0.23316786011647517},"Eqn","Medium",321,"Solve the equation",{"$f":"RANDBETWEEN(2,10)","v":2},{"$f":"CHOOSE(RANDBETWEEN(1,22),\"a\",\"b\",\"c\",\"d\",\"f\",\"g\",\"h\",\"j\",\"k\",\"m\",\"n\",\"p\",\"q\",\"r\",\"s\",\"t\",\"u\",\"v\",\"w\",\"x\",\"y\",\"z\")","v":"q"},"–",{"$f":"RANDBETWEEN(1,10)","v":5},"=",{"$f":"G5*W5-J5","v":19},".      Show your working in full.",null,null,null,null,null,null,{"$f":"CONCATENATE(F5,\" \",G5,\"\",H5,\" \",I5,\" \",J5,\" \",K5,\" \",L5,\" \",M5,\" \",N5,\" \",O5,\" \",P5,\" \",Q5,\" \",R5)","v":"Solve the equation 2q – 5 = 19 .      Show your working in full.     "},{"$f":"H5","v":"q"}," = ",{"$f":"RANDBETWEEN(10,30)","v":12},null,null,null,null,null,{"$f":"IF(L5<0,NA(),\"\")","v":""},{"$f":"IF(OR(ISNA(U5),ISNA(V5),ISNA(W5),ISNA(X5),ISNA(Y5),ISNA(Z5),ISNA(AA5),ISNA(AB5),ISNA(AC5)),NA(),CONCATENATE(U5,V5,W5,X5,Y5,Z5,AA5,AB5))","v":"q = 12"},{"$f":"IF(ISNA(AD5),FALSE,IF(C5=$B$1,Worksheet!$B$3,IF(C5=$C$1,Worksheet!$B$4,IF(C5=$D$1,Worksheet!$B$5,IF(C5=$C$2,Worksheet!$D$3,IF(C5=$D$2,Worksheet!$D$4,IF(C5=$E$2,Worksheet!$D$5,IF(C5=$C$3,Worksheet!$D$6,IF(C5=$B$3,Worksheet!$B$6,IF(C5=$D$3,Worksheet!$B$9,IF(C5=$E$3,Worksheet!$D$9,FALSE)))))))))))","v":true},{"$f":"IF(AE5,D5,\"\")","v":"Medium"},{"$f":"IF(AE5,COUNTIF($AF$5:AF5,AF5),\"X\")","v":1},{"$f":"CONCATENATE(AE5,AF5)","v":"TRUEMedium"}]
[{"$f":"CONCATENATE(AE6,D6,AG6)","v":"TRUEEasy1"},{"$f":"RAND()","v":0.92271546160254714},"Dec","Easy",130,"Write down the next two numbers in this decreasing pattern:               ",{"$f":"RANDBETWEEN(1,20)+RANDBETWEEN(4,5)*0.001","v":9.0050000000000008},"   ,   ",{"$f":"G6+$S6","v":9.0040000000000013},"   ,   ",{"$f":"I6+$S6","v":9.0030000000000019},"   ,   ",{"$f":"K6+$S6","v":9.0020000000000024},"   ,   ","_______________","   ,   ","_______________",null,-1E-3,{"$f":"CONCATENATE(F6,\" \",G6,\" \",H6,\" \",I6,\" \",J6,\" \",K6,\" \",L6,\" \",M6,\" \",N6,\" \",O6,\" \",P6,\" \",Q6,\" \",R6)","v":"Write down the next two numbers in this decreasing pattern:                9.005    ,    9.004    ,    9.003    ,    9.002    ,    _______________    ,    _______________ "},{"$f":"M6-0.01","v":8.9920000000000027},"    ,    ",{"$f":"U6-0.01","v":8.9820000000000029},null,null,null,null,null,{"$f":"IF(ISERROR(T6),NA(),\"\")","v":""},{"$f":"IF(OR(ISNA(U6),ISNA(V6),ISNA(W6),ISNA(X6),ISNA(Y6),ISNA(Z6),ISNA(AA6),ISNA(AB6),ISNA(AC6)),NA(),CONCATENATE(U6,V6,W6,X6,Y6,Z6,AA6,AB6))","v":"8.992    ,    8.982"},{"$f":"IF(ISNA(AD6),FALSE,IF(C6=$B$1,Worksheet!$B$3,IF(C6=$C$1,Worksheet!$B$4,IF(C6=$D$1,Worksheet!$B$5,IF(C6=$C$2,Worksheet!$D$3,IF(C6=$D$2,Worksheet!$D$4,IF(C6=$E$2,Worksheet!$D$5,IF(C6=$C$3,Worksheet!$D$6,IF(C6=$B$3,Worksheet!$B$6,IF(C6=$D$3,Worksheet!$B$9,IF(C6=$E$3,Worksheet!$D$9,FALSE)))))))))))","v":true},{"$f":"IF(AE6,D6,\"\")","v":"Easy"},{"$f":"IF(AE6,COUNTIF($AF$5:AF6,AF6),\"X\")","v":1},{"$f":"CONCATENATE(AE6,AF6)","v":"TRUEEasy"}]
[{"$f":"CONCATENATE(AE7,D7,AG7)","v":"TRUEEasy2"},{"$f":"RAND()","v":0.40291468826517607},"Neg","Easy",25,"Work out the value of:",{"$f":"RANDBETWEEN(2,9)","v":6},"× (",{"$f":"RANDBETWEEN(1,K7-1)","v":2}," – ",{"$f":"RANDBETWEEN(5,10)","v":6},")",null,null,null,null,null,null,null,{"$f":"CONCATENATE(F7,\" \",G7,\" \",H7,\" \",I7,\" \",J7,\" \",K7,\" \",L7,\" \",M7,\" \",N7,\" \",O7,\" \",P7,\" \",Q7,\" \",R7)","v":"Work out the value of: 6 × ( 2  –  6 )      "},{"$f":"(I7-K7)*G7","v":-24},null,null,null,null,null,null,null,{"$f":"IF(ISERROR(T7),NA(),\"\")","v":""},{"$f":"IF(OR(ISNA(U7),ISNA(V7),ISNA(W7),ISNA(X7),ISNA(Y7),ISNA(Z7),ISNA(AA7),ISNA(AB7),ISNA(AC7)),NA(),CONCATENATE(U7,V7,W7,X7,Y7,Z7,AA7,AB7))","v":"-24"},{"$f":"IF(ISNA(AD7),FALSE,IF(C7=$B$1,Worksheet!$B$3,IF(C7=$C$1,Worksheet!$B$4,IF(C7=$D$1,Worksheet!$B$5,IF(C7=$C$2,Worksheet!$D$3,IF(C7=$D$2,Worksheet!$D$4,IF(C7=$E$2,Worksheet!$D$5,IF(C7=$C$3,Worksheet!$D$6,IF(C7=$B$3,Worksheet!$B$6,IF(C7=$D$3,Worksheet!$B$9,IF(C7=$E$3,Worksheet!$D$9,FALSE)))))))))))","v":true},{"$f":"IF(AE7,D7,\"\")","v":"Easy"},{"$f":"IF(AE7,COUNTIF($AF$5:AF7,AF7),\"X\")","v":2},{"$f":"CONCATENATE(AE7,AF7)","v":"TRUEEasy"}]
[{"$f":"CONCATENATE(AE8,D8,AG8)","v":"TRUEMedium2"},{"$f":"RAND()","v":0.87701277883562467},"Surds","Medium",58,"What is ",{"$f":"RANDBETWEEN(2,100)","v":75},"to the power of 0?   (",{"$f":"G8","v":75},"^0 )",null,null,null,null,null,null,null,null,null,{"$f":"CONCATENATE(F8,\" \",G8,\" \",H8,\" \",I8,\"\",J8,\" \",K8,\" \",L8,\" \",M8,\" \",N8,\" \",O8,\" \",P8,\" \",Q8,\" \",R8)","v":"What is  75 to the power of 0?   ( 75^0 )        "},1,null,null,null,null,null,null,null,{"$f":"IF(ISERROR(T8),NA(),\"\")","v":""},{"$f":"IF(OR(ISNA(U8),ISNA(V8),ISNA(W8),ISNA(X8),ISNA(Y8),ISNA(Z8),ISNA(AA8),ISNA(AB8),ISNA(AC8)),NA(),CONCATENATE(U8,V8,W8,X8,Y8,Z8,AA8,AB8))","v":"1"},{"$f":"IF(ISNA(AD8),FALSE,IF(C8=$B$1,Worksheet!$B$3,IF(C8=$C$1,Worksheet!$B$4,IF(C8=$D$1,Worksheet!$B$5,IF(C8=$C$2,Worksheet!$D$3,IF(C8=$D$2,Worksheet!$D$4,IF(C8=$E$2,Worksheet!$D$5,IF(C8=$C$3,Worksheet!$D$6,IF(C8=$B$3,Worksheet!$B$6,IF(C8=$D$3,Worksheet!$B$9,IF(C8=$E$3,Worksheet!$D$9,FALSE)))))))))))","v":true},{"$f":"IF(AE8,D8,\"\")","v":"Medium"},{"$f":"IF(AE8,COUNTIF($AF$5:AF8,AF8),\"X\")","v":2},{"$f":"CONCATENATE(AE8,AF8)","v":"TRUEMedium"}]
[{"$f":"CONCATENATE(AE9,D9,AG9)","v":"TRUEEasy3"},{"$f":"RAND()","v":1.2466257329084685E-2},"Alg","Easy",314,"Algebra.  If ",{"$f":"CHOOSE(RANDBETWEEN(1,22),\"a\",\"b\",\"c\",\"d\",\"f\",\"g\",\"h\",\"j\",\"k\",\"m\",\"n\",\"p\",\"q\",\"r\",\"s\",\"t\",\"u\",\"v\",\"w\",\"x\",\"y\",\"z\")","v":"g"},"=",{"$f":"RANDBETWEEN(2,5)","v":2},", what is the value of:    ",{"$f":"RANDBETWEEN(2,10)","v":6},{"$f":"G9","v":"g"},"²","?",null,null,null,null,null,{"$f":"CONCATENATE(F9,\" \",G9,\" \",H9,\" \",I9,\" \",J9,\" \",K9,\"\",L9,\"\",M9,\"\",N9,\" \",O9,\" \",P9,\" \",Q9,\" \",R9)","v":"Algebra.  If  g = 2 , what is the value of:     6g²?    "},{"$f":"K9*I9^2","v":24},null,null,null,null,null,null,null,{"$f":"IF(ISERROR(T9),NA(),\"\")","v":""},{"$f":"IF(OR(ISNA(U9),ISNA(V9),ISNA(W9),ISNA(X9),ISNA(Y9),ISNA(Z9),ISNA(AA9),ISNA(AB9),ISNA(AC9)),NA(),CONCATENATE(U9,V9,W9,X9,Y9,Z9,AA9,AB9))","v":"24"},{"$f":"IF(ISNA(AD9),FALSE,IF(C9=$B$1,Worksheet!$B$3,IF(C9=$C$1,Worksheet!$B$4,IF(C9=$D$1,Worksheet!$B$5,IF(C9=$C$2,Worksheet!$D$3,IF(C9=$D$2,Worksheet!$D$4,IF(C9=$E$2,Worksheet!$D$5,IF(C9=$C$3,Worksheet!$D$6,IF(C9=$B$3,Worksheet!$B$6,IF(C9=$D$3,Worksheet!$B$9,IF(C9=$E$3,Worksheet!$D$9,FALSE)))))))))))","v":true},{"$f":"IF(AE9,D9,\"\")","v":"Easy"},{"$f":"IF(AE9,COUNTIF($AF$5:AF9,AF9),\"X\")","v":3},{"$f":"CONCATENATE(AE9,AF9)","v":"TRUEEasy"}]
[{"$f":"CONCATENATE(AE10,D10,AG10)","v":"TRUEEasy4"},{"$f":"RAND()","v":0.59884152314448047},"Frac","Easy",98,"Add the fractions:  ",{"$f":"IF(I10=4,CHOOSE(RANDBETWEEN(1,2),1,3),RANDBETWEEN(1,I10-1))","v":1},"/",{"$f":"RANDBETWEEN(3,5)","v":4},"+",{"$f":"IF(M10=4,CHOOSE(RANDBETWEEN(1,2),1,3),RANDBETWEEN(1,M10-1))","v":3},"/",{"$f":"SMALL(IF(I10={3,4,5},\"\",{3,4,5}),RANDBETWEEN(1,2))","v":5},{"$f":"IF(GCD(G10*M10+I10*K10,I10*M10)=1,\"\",\",    giving your answer in its simplest form\")","v":""},null,null,null,null,null,{"$f":"CONCATENATE(F10,\" \",G10,\"\",H10,\"\",I10,\" \",J10,\" \",K10,\"\",L10,\"\",M10,\" \",N10,\"       \",O10,\" \",P10,\" \",Q10,\" \",R10)","v":"Add the fractions:   1/4 + 3/5           "},{"$f":"(G10*M10+I10*K10)/GCD(G10*M10+I10*K10,I10*M10)","v":17},"/",{"$f":"I10*M10/GCD(G10*M10+I10*K10,I10*M10)","v":20},null,null,null,null,null,{"$f":"IF(ISERROR(T10),NA(),\"\")","v":""},{"$f":"IF(OR(ISNA(U10),ISNA(V10),ISNA(W10),ISNA(X10),ISNA(Y10),ISNA(Z10),ISNA(AA10),ISNA(AB10),ISNA(AC10)),NA(),CONCATENATE(U10,V10,W10,X10,Y10,Z10,AA10,AB10))","v":"17/20"},{"$f":"IF(ISNA(AD10),FALSE,IF(C10=$B$1,Worksheet!$B$3,IF(C10=$C$1,Worksheet!$B$4,IF(C10=$D$1,Worksheet!$B$5,IF(C10=$C$2,Worksheet!$D$3,IF(C10=$D$2,Worksheet!$D$4,IF(C10=$E$2,Worksheet!$D$5,IF(C10=$C$3,Worksheet!$D$6,IF(C10=$B$3,Worksheet!$B$6,IF(C10=$D$3,Worksheet!$B$9,IF(C10=$E$3,Worksheet!$D$9,FALSE)))))))))))","v":true},{"$f":"IF(AE10,D10,\"\")","v":"Easy"},{"$f":"IF(AE10,COUNTIF($AF$5:AF10,AF10),\"X\")","v":4},{"$f":"CONCATENATE(AE10,AF10)","v":"TRUEEasy"}]
[{"$f":"CONCATENATE(AE11,D11,AG11)","v":"TRUEHard1"},{"$f":"RAND()","v":0.47702727144057377},"Round","Hard",187,"Round the number",{"$f":"RANDBETWEEN(11,99)+RANDBETWEEN(1,99)/100","v":40.07},"to one significant figure",null,null,null,null,null,null,null,null,null,null,{"$f":"RANDBETWEEN(10000,99999)","v":64551},{"$f":"CONCATENATE(F11,\" \",G11,\" \",H11,\" \",I11,\" \",J11,\" \",K11,\" \",L11,\" \",M11,\" \",N11,\" \",O11,\" \",P11,\" \",Q11,\" \",R11)","v":"Round the number 40.07 to one significant figure          "},{"$f":"MROUND(G11,10)","v":40},null,null,null,null,null,null,null,{"$f":"IF(ISERROR(T11),NA(),\"\")","v":""},{"$f":"IF(OR(ISNA(U11),ISNA(V11),ISNA(W11),ISNA(X11),ISNA(Y11),ISNA(Z11),ISNA(AA11),ISNA(AB11),ISNA(AC11)),NA(),CONCATENATE(U11,V11,W11,X11,Y11,Z11,AA11,AB11))","v":"40"},{"$f":"IF(ISNA(AD11),FALSE,IF(C11=$B$1,Worksheet!$B$3,IF(C11=$C$1,Worksheet!$B$4,IF(C11=$D$1,Worksheet!$B$5,IF(C11=$C$2,Worksheet!$D$3,IF(C11=$D$2,Worksheet!$D$4,IF(C11=$E$2,Worksheet!$D$5,IF(C11=$C$3,Worksheet!$D$6,IF(C11=$B$3,Worksheet!$B$6,IF(C11=$D$3,Worksheet!$B$9,IF(C11=$E$3,Worksheet!$D$9,FALSE)))))))))))","v":true},{"$f":"IF(AE11,D11,\"\")","v":"Hard"},{"$f":"IF(AE11,COUNTIF($AF$5:AF11,AF11),\"X\")","v":1},{"$f":"CONCATENATE(AE11,AF11)","v":"TRUEHard"}]
[{"$f":"CONCATENATE(AE12,D12,AG12)","v":"TRUEMedium3"},{"$f":"RAND()","v":0.3781523163262146},"+-×÷","Medium",72,"Use a written sum to divide: ",{"$f":"RANDBETWEEN(70,500)*9+RANDBETWEEN(1,8)","v":1145},"÷ 9, giving your remainder as a fraction or to 2 decimal place",null,null,null,null,null,null,null,null,null,null,null,{"$f":"CONCATENATE(F12,\" \",G12,\" \",H12,\" \",I12,\" \",J12,\" \",K12,\" \",L12,\" \",M12,\" \",N12,\" \",O12,\" \",P12,\" \",Q12,\" \",R12)","v":"Use a written sum to divide:  1145 ÷ 9, giving your remainder as a fraction or to 2 decimal place          "},{"$f":"TEXT(G12/9,\"#.00\")","v":"127.22"}," or ",{"$f":"TEXT(G12/9,\"### #/#\")","v":"127 2/9"},null,null,null,null,null,{"$f":"IF(ISERROR(T12),NA(),\"\")","v":""},{"$f":"IF(OR(ISNA(U12),ISNA(V12),ISNA(W12),ISNA(X12),ISNA(Y12),ISNA(Z12),ISNA(AA12),ISNA(AB12),ISNA(AC12)),NA(),CONCATENATE(U12,V12,W12,X12,Y12,Z12,AA12,AB12))","v":"127.22 or 127 2/9"},{"$f":"IF(ISNA(AD12),FALSE,IF(C12=$B$1,Worksheet!$B$3,IF(C12=$C$1,Worksheet!$B$4,IF(C12=$D$1,Worksheet!$B$5,IF(C12=$C$2,Worksheet!$D$3,IF(C12=$D$2,Worksheet!$D$4,IF(C12=$E$2,Worksheet!$D$5,IF(C12=$C$3,Worksheet!$D$6,IF(C12=$B$3,Worksheet!$B$6,IF(C12=$D$3,Worksheet!$B$9,IF(C12=$E$3,Worksheet!$D$9,FALSE)))))))))))","v":true},{"$f":"IF(AE12,D12,\"\")","v":"Medium"},{"$f":"IF(AE12,COUNTIF($AF$5:AF12,AF12),\"X\")","v":3},{"$f":"CONCATENATE(AE12,AF12)","v":"TRUEMedium"}]
[{"$f":"CONCATENATE(AE13,D13,AG13)","v":"TRUEMedium4"},{"$f":"RAND()","v":0.93401117698781089},"Dec","Medium",192,"Change the number ",{"$f":"RANDBETWEEN(1,9)+RANDBETWEEN(1,999)/1000","v":1.448},"× 10^",{"$f":"RANDBETWEEN(2,6)","v":6},"(10 to the power of",{"$f":"I13","v":6},") from standard form to normal form",null,null,null,null,null,null,null,{"$f":"CONCATENATE(F13,\" \",G13,\" \",H13,\"\",I13,\" \",J13,\" \",K13,\"\",L13,\" \",M13,\" \",N13,\" \",O13,\" \",P13,\" \",Q13,\" \",R13)","v":"Change the number  1.448 × 10^6 (10 to the power of 6) from standard form to normal form      "},{"$f":"G13*10^I13","v":1448000},null,null,null,null,null,null,null,{"$f":"IF(ISERROR(T13),NA(),\"\")","v":""},{"$f":"IF(OR(ISNA(U13),ISNA(V13),ISNA(W13),ISNA(X13),ISNA(Y13),ISNA(Z13),ISNA(AA13),ISNA(AB13),ISNA(AC13)),NA(),CONCATENATE(U13,V13,W13,X13,Y13,Z13,AA13,AB13))","v":"1448000"},{"$f":"IF(ISNA(AD13),FALSE,IF(C13=$B$1,Worksheet!$B$3,IF(C13=$C$1,Worksheet!$B$4,IF(C13=$D$1,Worksheet!$B$5,IF(C13=$C$2,Worksheet!$D$3,IF(C13=$D$2,Worksheet!$D$4,IF(C13=$E$2,Worksheet!$D$5,IF(C13=$C$3,Worksheet!$D$6,IF(C13=$B$3,Worksheet!$B$6,IF(C13=$D$3,Worksheet!$B$9,IF(C13=$E$3,Worksheet!$D$9,FALSE)))))))))))","v":true},{"$f":"IF(AE13,D13,\"\")","v":"Medium"},{"$f":"IF(AE13,COUNTIF($AF$5:AF13,AF13),\"X\")","v":4},{"$f":"CONCATENATE(AE13,AF13)","v":"TRUEMedium"}]
[{"$f":"CONCATENATE(AE14,D14,AG14)","v":"TRUEMedium5"},{"$f":"RAND()","v":0.55341583455035581},"Eqn","Medium",349,"Solve the equation     ","¼",{"$f":"CHOOSE(RANDBETWEEN(1,22),\"a\",\"b\",\"c\",\"d\",\"f\",\"g\",\"h\",\"j\",\"k\",\"m\",\"n\",\"p\",\"q\",\"r\",\"s\",\"t\",\"u\",\"v\",\"w\",\"x\",\"y\",\"z\")","v":"j"},null,"=",{"$f":"RANDBETWEEN(2,10)","v":4},null,null,null,null,null,null,null,null,{"$f":"CONCATENATE(F14,\" \",G14,\"\",H14,\"\",I14,\" \",J14,\" \",K14,\" \",L14,\" \",M14,\" \",N14,\" \",O14,\" \",P14,\" \",Q14,\" \",R14)","v":"Solve the equation      ¼j = 4       "},{"$f":"H14","v":"j"},"=",{"$f":"K14*4","v":16},null,null,null,null,null,{"$f":"IF(L14<0,NA(),\"\")","v":""},{"$f":"IF(OR(ISNA(U14),ISNA(V14),ISNA(W14),ISNA(X14),ISNA(Y14),ISNA(Z14),ISNA(AA14),ISNA(AB14),ISNA(AC14)),NA(),CONCATENATE(U14,V14,W14,X14,Y14,Z14,AA14,AB14))","v":"j=16"},{"$f":"IF(ISNA(AD14),FALSE,IF(C14=$B$1,Worksheet!$B$3,IF(C14=$C$1,Worksheet!$B$4,IF(C14=$D$1,Worksheet!$B$5,IF(C14=$C$2,Worksheet!$D$3,IF(C14=$D$2,Worksheet!$D$4,IF(C14=$E$2,Worksheet!$D$5,IF(C14=$C$3,Worksheet!$D$6,IF(C14=$B$3,Worksheet!$B$6,IF(C14=$D$3,Worksheet!$B$9,IF(C14=$E$3,Worksheet!$D$9,FALSE)))))))))))","v":true},{"$f":"IF(AE14,D14,\"\")","v":"Medium"},{"$f":"IF(AE14,COUNTIF($AF$5:AF14,AF14),\"X\")","v":5},{"$f":"CONCATENATE(AE14,AF14)","v":"TRUEMedium"}]
[{"$f":"CONCATENATE(AE15,D15,AG15)","v":"TRUEHard2"},{"$f":"RAND()","v":0.11844558209157607},"Alg","Hard",339,"Multiply out the bracket and simplify:",{"$f":"RANDBETWEEN(2,10)","v":7},"(",1,"–",{"$f":"RANDBETWEEN(1,10)","v":10},{"$f":"CHOOSE(RANDBETWEEN(1,22),\"a\",\"b\",\"c\",\"d\",\"f\",\"g\",\"h\",\"j\",\"k\",\"m\",\"n\",\"p\",\"q\",\"r\",\"s\",\"t\",\"u\",\"v\",\"w\",\"x\",\"y\",\"z\")","v":"v"},")",null,null,null,null,null,null,{"$f":"CONCATENATE(F15,\" \",G15,\" \",H15,\" \",I15,\" \",J15,\" \",K15,\"\",L15,\" \",M15,\" \",N15,\" \",O15,\" \",P15,\" \",Q15,\" \",R15)","v":"Multiply out the bracket and simplify: 7 ( 1 – 10v )     "},{"$f":"CONCATENATE(G15*I15,\" \",J15,\" \",G15*K15,L15)","v":"7 – 70v"},null,null,null,null,null,null,null,{"$f":"IF(L15<0,NA(),\"\")","v":""},{"$f":"IF(OR(ISNA(U15),ISNA(V15),ISNA(W15),ISNA(X15),ISNA(Y15),ISNA(Z15),ISNA(AA15),ISNA(AB15),ISNA(AC15)),NA(),CONCATENATE(U15,V15,W15,X15,Y15,Z15,AA15,AB15))","v":"7 – 70v"},{"$f":"IF(ISNA(AD15),FALSE,IF(C15=$B$1,Worksheet!$B$3,IF(C15=$C$1,Worksheet!$B$4,IF(C15=$D$1,Worksheet!$B$5,IF(C15=$C$2,Worksheet!$D$3,IF(C15=$D$2,Worksheet!$D$4,IF(C15=$E$2,Worksheet!$D$5,IF(C15=$C$3,Worksheet!$D$6,IF(C15=$B$3,Worksheet!$B$6,IF(C15=$D$3,Worksheet!$B$9,IF(C15=$E$3,Worksheet!$D$9,FALSE)))))))))))","v":true},{"$f":"IF(AE15,D15,\"\")","v":"Hard"},{"$f":"IF(AE15,COUNTIF($AF$5:AF15,AF15),\"X\")","v":2},{"$f":"CONCATENATE(AE15,AF15)","v":"TRUEHard"}]
[{"$f":"CONCATENATE(AE16,D16,AG16)","v":"TRUEEasy5"},{"$f":"RAND()","v":4.4935070968683544E-2},"+-×÷","Easy",67,"Work out the value of:",{"$f":"RANDBETWEEN(2,9)","v":3},"(",{"$f":"RANDBETWEEN(K16,9)","v":8},"–",{"$f":"RANDBETWEEN(1,7)","v":7},")",null,null,null,null,null,null,null,{"$f":"CONCATENATE(F16,\" \",G16,\" \",H16,\" \",I16,\" \",J16,\" \",K16,\" \",L16,\" \",M16,\" \",N16,\" \",O16,\" \",P16,\" \",Q16,\" \",R16)","v":"Work out the value of: 3 ( 8 – 7 )      "},{"$f":"(I16-K16)*G16","v":3},null,null,null,null,null,null,null,{"$f":"IF(ISERROR(T16),NA(),\"\")","v":""},{"$f":"IF(OR(ISNA(U16),ISNA(V16),ISNA(W16),ISNA(X16),ISNA(Y16),ISNA(Z16),ISNA(AA16),ISNA(AB16),ISNA(AC16)),NA(),CONCATENATE(U16,V16,W16,X16,Y16,Z16,AA16,AB16))","v":"3"},{"$f":"IF(ISNA(AD16),FALSE,IF(C16=$B$1,Worksheet!$B$3,IF(C16=$C$1,Worksheet!$B$4,IF(C16=$D$1,Worksheet!$B$5,IF(C16=$C$2,Worksheet!$D$3,IF(C16=$D$2,Worksheet!$D$4,IF(C16=$E$2,Worksheet!$D$5,IF(C16=$C$3,Worksheet!$D$6,IF(C16=$B$3,Worksheet!$B$6,IF(C16=$D$3,Worksheet!$B$9,IF(C16=$E$3,Worksheet!$D$9,FALSE)))))))))))","v":true},{"$f":"IF(AE16,D16,\"\")","v":"Easy"},{"$f":"IF(AE16,COUNTIF($AF$5:AF16,AF16),\"X\")","v":5},{"$f":"CONCATENATE(AE16,AF16)","v":"TRUEEasy"}]
[{"$f":"CONCATENATE(AE17,D17,AG17)","v":"TRUEEasy6"},{"$f":"RAND()","v":0.62917421595411016},"Alg","Easy",310,"Algebra.  If a =",{"$f":"RANDBETWEEN(1,5)+0.5","v":2.5},"and b =",{"$f":"RANDBETWEEN(1,5)+0.5","v":4.5},", what is the value of:    ",{"$f":"RANDBETWEEN(2,9)","v":2},"a +",{"$f":"RANDBETWEEN(2,9)","v":6},"b ?",null,null,null,null,null,{"$f":"CONCATENATE(F17,\" \",G17,\" \",H17,\" \",I17,\" \",J17,\" \",K17,\"\",L17,\" \",M17,\"\",N17,\" \",O17,\" \",P17,\" \",Q17,\" \",R17)","v":"Algebra.  If a = 2.5 and b = 4.5 , what is the value of:     2a + 6b ?    "},{"$f":"K17*G17+I17*M17","v":32},null,null,null,null,null,null,null,{"$f":"IF(ISERROR(T17),NA(),\"\")","v":""},{"$f":"IF(OR(ISNA(U17),ISNA(V17),ISNA(W17),ISNA(X17),ISNA(Y17),ISNA(Z17),ISNA(AA17),ISNA(AB17),ISNA(AC17)),NA(),CONCATENATE(U17,V17,W17,X17,Y17,Z17,AA17,AB17))","v":"32"},{"$f":"IF(ISNA(AD17),FALSE,IF(C17=$B$1,Worksheet!$B$3,IF(C17=$C$1,Worksheet!$B$4,IF(C17=$D$1,Worksheet!$B$5,IF(C17=$C$2,Worksheet!$D$3,IF(C17=$D$2,Worksheet!$D$4,IF(C17=$E$2,Worksheet!$D$5,IF(C17=$C$3,Worksheet!$D$6,IF(C17=$B$3,Worksheet!$B$6,IF(C17=$D$3,Worksheet!$B$9,IF(C17=$E$3,Worksheet!$D$9,FALSE)))))))))))","v":true},{"$f":"IF(AE17,D17,\"\")","v":"Easy"},{"$f":"IF(AE17,COUNTIF($AF$5:AF17,AF17),\"X\")","v":6},{"$f":"CONCATENATE(AE17,AF17)","v":"TRUEEasy"}]
[{"$f":"CONCATENATE(AE18,D18,AG18)","v":"TRUEMedium6"},{"$f":"RAND()","v":0.86258652878426378},"+-×÷","Medium",33,"Which ONE of these numbers is a PRIME number:",{"$f":"IF(RAND()<0.25,S18,RANDBETWEEN(3,9)*RANDBETWEEN(3,9))","v":21}," , ",{"$f":"IF(AND(G18<>S18,RAND()<0.34),S18,RANDBETWEEN(3,9)*RANDBETWEEN(3,10))","v":31}," , ",{"$f":"IF(AND(G18<>S18,I18<>S18,RAND()<0.5),S18,RANDBETWEEN(2,10)*RANDBETWEEN(2,10))","v":30}," , ",{"$f":"IF(AND(G18<>S18,I18<>S18,K18<>S18),S18,RANDBETWEEN(3,11)*RANDBETWEEN(5,11))","v":32},null,null,null,null,null,{"$f":"CHOOSE(RANDBETWEEN(1,10),13,11,17,19,23,29,31,37,43,41)","v":31},{"$f":"CONCATENATE(F18,\" \",G18,\" \",H18,\" \",I18,\" \",J18,\" \",K18,\" \",L18,\" \",M18,\" \",N18,\" \",O18,\" \",P18,\" \",Q18,\" \",R18)","v":"Which ONE of these numbers is a PRIME number: 21  ,  31  ,  30  ,  32     "},{"$f":"S18","v":31},null,null,null,null,null,null,null,{"$f":"IF(ISERROR(T18),NA(),\"\")","v":""},{"$f":"IF(OR(ISNA(U18),ISNA(V18),ISNA(W18),ISNA(X18),ISNA(Y18),ISNA(Z18),ISNA(AA18),ISNA(AB18),ISNA(AC18)),NA(),CONCATENATE(U18,V18,W18,X18,Y18,Z18,AA18,AB18))","v":"31"},{"$f":"IF(ISNA(AD18),FALSE,IF(C18=$B$1,Worksheet!$B$3,IF(C18=$C$1,Worksheet!$B$4,IF(C18=$D$1,Worksheet!$B$5,IF(C18=$C$2,Worksheet!$D$3,IF(C18=$D$2,Worksheet!$D$4,IF(C18=$E$2,Worksheet!$D$5,IF(C18=$C$3,Worksheet!$D$6,IF(C18=$B$3,Worksheet!$B$6,IF(C18=$D$3,Worksheet!$B$9,IF(C18=$E$3,Worksheet!$D$9,FALSE)))))))))))","v":true},{"$f":"IF(AE18,D18,\"\")","v":"Medium"},{"$f":"IF(AE18,COUNTIF($AF$5:AF18,AF18),\"X\")","v":6},{"$f":"CONCATENATE(AE18,AF18)","v":"TRUEMedium"}]
[{"$f":"CONCATENATE(AE19,D19,AG19)","v":"TRUEEasy7"},{"$f":"RAND()","v":0.90839309329761753},"Alg","Easy",312,"Algebra.  If ",{"$f":"CHOOSE(RANDBETWEEN(1,22),\"a\",\"b\",\"c\",\"d\",\"f\",\"g\",\"h\",\"j\",\"k\",\"m\",\"n\",\"p\",\"q\",\"r\",\"s\",\"t\",\"u\",\"v\",\"w\",\"x\",\"y\",\"z\")","v":"v"},"=",{"$f":"RANDBETWEEN(1,5)+0.5","v":4.5},", what is the value of:    ",{"$f":"RANDBETWEEN(1,10)","v":4},"+",{"$f":"RANDBETWEEN(2,10)","v":9},{"$f":"G19","v":"v"},"?",null,null,null,null,{"$f":"CONCATENATE(F19,\" \",G19,\" \",H19,\" \",I19,\" \",J19,\" \",K19,\" \",L19,\" \",M19,\"\",N19,\" \",O19,\" \",P19,\" \",Q19,\" \",R19)","v":"Algebra.  If  v = 4.5 , what is the value of:     4 + 9v ?   "},{"$f":"K19+M19*I19","v":44.5},null,null,null,null,null,null,null,{"$f":"IF(ISERROR(T19),NA(),\"\")","v":""},{"$f":"IF(OR(ISNA(U19),ISNA(V19),ISNA(W19),ISNA(X19),ISNA(Y19),ISNA(Z19),ISNA(AA19),ISNA(AB19),ISNA(AC19)),NA(),CONCATENATE(U19,V19,W19,X19,Y19,Z19,AA19,AB19))","v":"44.5"},{"$f":"IF(ISNA(AD19),FALSE,IF(C19=$B$1,Worksheet!$B$3,IF(C19=$C$1,Worksheet!$B$4,IF(C19=$D$1,Worksheet!$B$5,IF(C19=$C$2,Worksheet!$D$3,IF(C19=$D$2,Worksheet!$D$4,IF(C19=$E$2,Worksheet!$D$5,IF(C19=$C$3,Worksheet!$D$6,IF(C19=$B$3,Worksheet!$B$6,IF(C19=$D$3,Worksheet!$B$9,IF(C19=$E$3,Worksheet!$D$9,FALSE)))))))))))","v":true},{"$f":"IF(AE19,D19,\"\")","v":"Easy"},{"$f":"IF(AE19,COUNTIF($AF$5:AF19,AF19),\"X\")","v":7},{"$f":"CONCATENATE(AE19,AF19)","v":"TRUEEasy"}]
[{"$f":"CONCATENATE(AE20,D20,AG20)","v":"FALSEMediumX"},{"$f":"RAND()","v":0.15883126950231485},"Frac","Medium",119,"Multiply:     ",{"$f":"RANDBETWEEN(1,3)","v":2},{"$f":"IF(J20=4,CHOOSE(RANDBETWEEN(1,2),1,3),RANDBETWEEN(1,J20-1))","v":2},"/",{"$f":"RANDBETWEEN(3,5)","v":3},null,"  ×  ",{"$f":"RANDBETWEEN(1,3)*J20-RANDBETWEEN(1,J20-1)","v":1},null,null,null,null,null,null,{"$f":"CONCATENATE(F20,\" \",G20,\"   \",H20,\"\",I20,\"\",J20,\" \",K20,\" \",L20,\" \",M20,\"   \",N20,\"\",O20,\"\",P20,\" \",Q20,\" \",R20)","v":"Multiply:      2   2/3    ×   1     "},{"$f":"M20*G20+INT(M20*H20/J20)","v":2},{"$f":"MOD(H20*M20,J20)/AC20","v":2},{"$f":"IF(M20=1,NA(),\"/\")","v":{"$error":"#N/A"}},{"$f":"J20/AC20","v":3},{"$f":"IF(V20=\"\",\"\",\"   or   \")","v":"   or   "},{"$f":"IF(V20=\"\",\"\",X20*U20+V20)","v":8},{"$f":"IF(V20=\"\",\"\",\"/\")","v":"/"},{"$f":"X20","v":3},{"$f":"GCD(MOD(H20*M20,J20),J20)","v":1},{"$f":"IF(OR(ISNA(U20),ISNA(V20),ISNA(W20),ISNA(X20),ISNA(Y20),ISNA(Z20),ISNA(AA20),ISNA(AB20),ISNA(AC20)),NA(),CONCATENATE(IF(U20=0,\"\",U20),IF(U20=0,\"\",\"  \"),IF(U20=0,\"\",V20),IF(U20=0,\"\",W20),IF(U20=0,\"\",X20),IF(U20=0,\"\",Y20),Z20,AA20,AB20))","v":{"$error":"#N/A"}},{"$f":"IF(ISNA(AD20),FALSE,IF(C20=$B$1,Worksheet!$B$3,IF(C20=$C$1,Worksheet!$B$4,IF(C20=$D$1,Worksheet!$B$5,IF(C20=$C$2,Worksheet!$D$3,IF(C20=$D$2,Worksheet!$D$4,IF(C20=$E$2,Worksheet!$D$5,IF(C20=$C$3,Worksheet!$D$6,IF(C20=$B$3,Worksheet!$B$6,IF(C20=$D$3,Worksheet!$B$9,IF(C20=$E$3,Worksheet!$D$9,FALSE)))))))))))","v":false},{"$f":"IF(AE20,D20,\"\")","v":""},{"$f":"IF(AE20,COUNTIF($AF$5:AF20,AF20),\"X\")","v":"X"},{"$f":"CONCATENATE(AE20,AF20)","v":"FALSE"}]
[{"$f":"CONCATENATE(AE21,D21,AG21)","v":"TRUEMedium7"},{"$f":"RAND()","v":0.52908701061508712},"Frac","Medium",100,"Take away the fractions:  ",{"$f":"IF(I21=4,CHOOSE(RANDBETWEEN(1,2),1,3),RANDBETWEEN(1,I21-1))","v":2},"/",{"$f":"RANDBETWEEN(5,8)","v":7},"–",{"$f":"RANDBETWEEN(1,MIN(M21-1,(G21/I21)*M21))","v":1},"/",{"$f":"SMALL(IF(I21={5,6,7,8},\"\",{5,6,7,8}),RANDBETWEEN(1,3))","v":6},{"$f":"IF(GCD(G21*M21+I21*K21,I21*M21)=1,\"\",\",    giving your answer in its simplest form\")","v":""},null,null,null,null,null,{"$f":"CONCATENATE(F21,\" \",G21,\"\",H21,\"\",I21,\" \",J21,\" \",K21,\"\",L21,\"\",M21,\" \",N21,\"       \",O21,\" \",P21,\" \",Q21,\" \",R21)","v":"Take away the fractions:   2/7 – 1/6           "},{"$f":"(G21*M21-I21*K21)/GCD(G21*M21+I21*K21,I21*M21)","v":5},"/",{"$f":"I21*M21/GCD(G21*M21-I21*K21,I21*M21)","v":42},null,null,{"$f":"IF(U21=0,NA(),\"\")","v":""},null,null,{"$f":"IF(ISERROR(T21),NA(),\"\")","v":""},{"$f":"IF(OR(ISNA(U21),ISNA(V21),ISNA(W21),ISNA(X21),ISNA(Y21),ISNA(Z21),ISNA(AA21),ISNA(AB21),ISNA(AC21)),NA(),CONCATENATE(U21,V21,W21,X21,Y21,Z21,AA21,AB21))","v":"5/42"},{"$f":"IF(ISNA(AD21),FALSE,IF(C21=$B$1,Worksheet!$B$3,IF(C21=$C$1,Worksheet!$B$4,IF(C21=$D$1,Worksheet!$B$5,IF(C21=$C$2,Worksheet!$D$3,IF(C21=$D$2,Worksheet!$D$4,IF(C21=$E$2,Worksheet!$D$5,IF(C21=$C$3,Worksheet!$D$6,IF(C21=$B$3,Worksheet!$B$6,IF(C21=$D$3,Worksheet!$B$9,IF(C21=$E$3,Worksheet!$D$9,FALSE)))))))))))","v":true},{"$f":"IF(AE21,D21,\"\")","v":"Medium"},{"$f":"IF(AE21,COUNTIF($AF$5:AF21,AF21),\"X\")","v":7},{"$f":"CONCATENATE(AE21,AF21)","v":"TRUEMedium"}]
[{"$f":"CONCATENATE(AE22,D22,AG22)","v":"TRUEEasy8"},{"$f":"RAND()","v":0.34853732126297687},"Frac","Easy",112,"Multiply:     ",{"$f":"RANDBETWEEN(2,10)","v":9},null,null,"  ×  ",{"$f":"IF(M22=4,CHOOSE(RANDBETWEEN(1,2),1,3),RANDBETWEEN(1,M22-1))","v":1},"/",{"$f":"RANDBETWEEN(2,10)","v":4},{"$f":"IF(GCD(K22,M22)=1,\"\",\",    giving your answer in its simplest form\")","v":""},null,null,null,null,null,{"$f":"CONCATENATE(F22,\" \",G22,\"\",H22,\"\",I22,\" \",J22,\" \",K22,\"\",L22,\"\",M22,\" \",N22,\"       \",O22,\" \",P22,\" \",Q22,\" \",R22)","v":"Multiply:      9   ×   1/4           "},{"$f":"G22*K22/Z22","v":9},{"$f":"IF(M22/Z22=1,\"\",\"/\")","v":"/"},{"$f":"IF(M22/Z22=1,\"\",M22/Z22)","v":4},null,null,{"$f":"GCD(M22,G22*K22)","v":1},null,null,{"$f":"IF(ISERROR(T22),NA(),\"\")","v":""},{"$f":"IF(OR(ISNA(U22),ISNA(V22),ISNA(W22),ISNA(X22),ISNA(Y22),ISNA(Z22),ISNA(AA22),ISNA(AB22),ISNA(AC22)),NA(),CONCATENATE(U22,V22,W22,X22,Y22,AA22,AB22))","v":"9/4"},{"$f":"IF(ISNA(AD22),FALSE,IF(C22=$B$1,Worksheet!$B$3,IF(C22=$C$1,Worksheet!$B$4,IF(C22=$D$1,Worksheet!$B$5,IF(C22=$C$2,Worksheet!$D$3,IF(C22=$D$2,Worksheet!$D$4,IF(C22=$E$2,Worksheet!$D$5,IF(C22=$C$3,Worksheet!$D$6,IF(C22=$B$3,Worksheet!$B$6,IF(C22=$D$3,Worksheet!$B$9,IF(C22=$E$3,Worksheet!$D$9,FALSE)))))))))))","v":true},{"$f":"IF(AE22,D22,\"\")","v":"Easy"},{"$f":"IF(AE22,COUNTIF($AF$5:AF22,AF22),\"X\")","v":8},{"$f":"CONCATENATE(AE22,AF22)","v":"TRUEEasy"}]
[{"$f":"CONCATENATE(AE23,D23,AG23)","v":"TRUEMedium8"},{"$f":"RAND()","v":0.79035788618545133},"Dec","Medium",248,"Divide:   ",{"$f":"S23*(RANDBETWEEN(1,9)+RANDBETWEEN(1,99)*10)","v":4858},"÷",{"$f":"S23*10^RANDBETWEEN(1,2)","v":700},null,null,null,null,null,null,null,null,null,{"$f":"RANDBETWEEN(2,9)","v":7},{"$f":"CONCATENATE(F23,\" \",G23,\" \",H23,\" \",I23,\" \",J23,\" \",K23,\" \",L23,\" \",M23,\" \",N23,\" \",O23,\" \",P23,\" \",Q23,\" \",R23)","v":"Divide:    4858 ÷ 700         "},{"$f":"G23/I23","v":6.94},null,null,null,null,null,null,null,{"$f":"IF(ISERROR(T23),NA(),\"\")","v":""},{"$f":"IF(OR(ISNA(U23),ISNA(V23),ISNA(W23),ISNA(X23),ISNA(Y23),ISNA(Z23),ISNA(AA23),ISNA(AB23),ISNA(AC23)),NA(),CONCATENATE(U23,V23,W23,X23,Y23,Z23,AA23,AB23))","v":"6.94"},{"$f":"IF(ISNA(AD23),FALSE,IF(C23=$B$1,Worksheet!$B$3,IF(C23=$C$1,Worksheet!$B$4,IF(C23=$D$1,Worksheet!$B$5,IF(C23=$C$2,Worksheet!$D$3,IF(C23=$D$2,Worksheet!$D$4,IF(C23=$E$2,Worksheet!$D$5,IF(C23=$C$3,Worksheet!$D$6,IF(C23=$B$3,Worksheet!$B$6,IF(C23=$D$3,Worksheet!$B$9,IF(C23=$E$3,Worksheet!$D$9,FALSE)))))))))))","v":true},{"$f":"IF(AE23,D23,\"\")","v":"Medium"},{"$f":"IF(AE23,COUNTIF($AF$5:AF23,AF23),\"X\")","v":8},{"$f":"CONCATENATE(AE23,AF23)","v":"TRUEMedium"}]
[{"$f":"CONCATENATE(AE24,D24,AG24)","v":"TRUEMedium9"},{"$f":"RAND()","v":0.45121314705390259},"Frac","Medium",89,"Write the mixed number",{"$f":"RANDBETWEEN(3,12)","v":11},{"$f":"IF(J24=3,2,IF(J24=4,CHOOSE(RANDBETWEEN(1,2),1,3),IF(J24=5,RANDBETWEEN(1,4),IF(J24=6,CHOOSE(RANDBETWEEN(1,2),1,5),IF(J24=7,RANDBETWEEN(1,6),IF(J24=8,CHOOSE(RANDBETWEEN(1,4),1,3,5,7),IF(J24=9,CHOOSE(RANDBETWEEN(1,5),1,2,4,5,7),CHOOSE(RANDBETWEEN(1,4),1,3,7,9))))))))","v":7},"/",{"$f":"RANDBETWEEN(3,15)","v":14},"as a topheavy fraction",null,null,null,null,null,null,null,null,{"$f":"CONCATENATE(F24,\"   \",G24,\"   \",H24,\"\",I24,\"\",J24,\"   \",K24,\" \",L24,\" \",M24,\" \",N24,\" \",O24,\" \",P24,\" \",Q24,\" \",R24)","v":"Write the mixed number   11   7/14   as a topheavy fraction       "},{"$f":"J24*G24+H24","v":161},"/",{"$f":"J24","v":14},null,null,null,null,null,{"$f":"IF(ISERROR(T24),NA(),\"\")","v":""},{"$f":"IF(OR(ISNA(U24),ISNA(V24),ISNA(W24),ISNA(X24),ISNA(Y24),ISNA(Z24),ISNA(AA24),ISNA(AB24),ISNA(AC24)),NA(),CONCATENATE(U24,V24,W24,X24,Y24,Z24,AA24,AB24))","v":"161/14"},{"$f":"IF(ISNA(AD24),FALSE,IF(C24=$B$1,Worksheet!$B$3,IF(C24=$C$1,Worksheet!$B$4,IF(C24=$D$1,Worksheet!$B$5,IF(C24=$C$2,Worksheet!$D$3,IF(C24=$D$2,Worksheet!$D$4,IF(C24=$E$2,Worksheet!$D$5,IF(C24=$C$3,Worksheet!$D$6,IF(C24=$B$3,Worksheet!$B$6,IF(C24=$D$3,Worksheet!$B$9,IF(C24=$E$3,Worksheet!$D$9,FALSE)))))))))))","v":true},{"$f":"IF(AE24,D24,\"\")","v":"Medium"},{"$f":"IF(AE24,COUNTIF($AF$5:AF24,AF24),\"X\")","v":9},{"$f":"CONCATENATE(AE24,AF24)","v":"TRUEMedium"}]
[{"$f":"CONCATENATE(AE25,D25,AG25)","v":"TRUEEasy9"},{"$f":"RAND()","v":0.40053694600466139},"Neg","Easy",220,"Take away:   ","(–",{"$f":"RANDBETWEEN(1,10)","v":4},") – (–",{"$f":"RANDBETWEEN(1,9)","v":6},")",null,null,null,null,null,null,null,null,{"$f":"CONCATENATE(F25,\" \",G25,\"\",H25,\"\",I25,\"\",J25,\"\",K25,\" \",L25,\" \",M25,\" \",N25,\" \",O25,\" \",P25,\" \",Q25,\" \",R25)","v":"Take away:    (–4) – (–6)       "},{"$f":"-1*H25+J25","v":2},null,null,null,null,null,null,null,{"$f":"IF(ISERROR(T25),NA(),\"\")","v":""},{"$f":"IF(OR(ISNA(U25),ISNA(V25),ISNA(W25),ISNA(X25),ISNA(Y25),ISNA(Z25),ISNA(AA25),ISNA(AB25),ISNA(AC25)),NA(),CONCATENATE(U25,V25,W25,X25,Y25,Z25,AA25,AB25))","v":"2"},{"$f":"IF(ISNA(AD25),FALSE,IF(C25=$B$1,Worksheet!$B$3,IF(C25=$C$1,Worksheet!$B$4,IF(C25=$D$1,Worksheet!$B$5,IF(C25=$C$2,Worksheet!$D$3,IF(C25=$D$2,Worksheet!$D$4,IF(C25=$E$2,Worksheet!$D$5,IF(C25=$C$3,Worksheet!$D$6,IF(C25=$B$3,Worksheet!$B$6,IF(C25=$D$3,Worksheet!$B$9,IF(C25=$E$3,Worksheet!$D$9,FALSE)))))))))))","v":true},{"$f":"IF(AE25,D25,\"\")","v":"Easy"},{"$f":"IF(AE25,COUNTIF($AF$5:AF25,AF25),\"X\")","v":9},{"$f":"CONCATENATE(AE25,AF25)","v":"TRUEEasy"}]
[{"$f":"CONCATENATE(AE26,D26,AG26)","v":"TRUEEasy10"},{"$f":"RAND()","v":0.35405885126127279},"+-×÷","Easy",24,"Work out the value of:","(",{"$f":"IF(I26=\"–\",RANDBETWEEN(J26,9),RANDBETWEEN(1,9))","v":2},{"$f":"CHOOSE(RANDBETWEEN(1,2),\"+\",\"–\")","v":"+"},{"$f":"RANDBETWEEN(1,5)","v":5},")(",{"$f":"IF(M26=\"–\",RANDBETWEEN(N26,9),RANDBETWEEN(1,9))","v":2},{"$f":"CHOOSE(RANDBETWEEN(1,2),\"+\",\"–\")","v":"–"},{"$f":"RANDBETWEEN(1,5)","v":2},")",null,null,null,null,{"$f":"CONCATENATE(F26,\" \",G26,\" \",H26,\" \",I26,\" \",J26,\" \",K26,\" \",L26,\" \",M26,\" \",N26,\" \",O26,\" \",P26,\" \",Q26,\" \",R26)","v":"Work out the value of: ( 2 + 5 )( 2 – 2 )   "},{"$f":"(IF(I26=\"+\",H26+J26,H26-J26)*IF(M26=\"+\",L26+N26,L26-N26))","v":0},null,null,null,null,null,null,null,{"$f":"IF(ISERROR(T26),NA(),\"\")","v":""},{"$f":"IF(OR(ISNA(U26),ISNA(V26),ISNA(W26),ISNA(X26),ISNA(Y26),ISNA(Z26),ISNA(AA26),ISNA(AB26),ISNA(AC26)),NA(),CONCATENATE(U26,V26,W26,X26,Y26,Z26,AA26,AB26))","v":"0"},{"$f":"IF(ISNA(AD26),FALSE,IF(C26=$B$1,Worksheet!$B$3,IF(C26=$C$1,Worksheet!$B$4,IF(C26=$D$1,Worksheet!$B$5,IF(C26=$C$2,Worksheet!$D$3,IF(C26=$D$2,Worksheet!$D$4,IF(C26=$E$2,Worksheet!$D$5,IF(C26=$C$3,Worksheet!$D$6,IF(C26=$B$3,Worksheet!$B$6,IF(C26=$D$3,Worksheet!$B$9,IF(C26=$E$3,Worksheet!$D$9,FALSE)))))))))))","v":true},{"$f":"IF(AE26,D26,\"\")","v":"Easy"},{"$f":"IF(AE26,COUNTIF($AF$5:AF26,AF26),\"X\")","v":10},{"$f":"CONCATENATE(AE26,AF26)","v":"TRUEEasy"}]
[{"$f":"CONCATENATE(AE27,D27,AG27)","v":"TRUEHard3"},{"$f":"RAND()","v":0.49016505582713643},"Dec","Hard",203,"Write the number",{"$f":"RANDBETWEEN(2,9)*1000+RANDBETWEEN(1,999)","v":3069},"in standard form",null,null,null,null,null,null,null,null,null,null,null,{"$f":"CONCATENATE(F27,\" \",G27,\" \",H27,\" \",I27,\" \",J27,\" \",K27,\" \",L27,\" \",M27,\" \",N27,\" \",O27,\" \",P27,\" \",Q27,\" \",R27)","v":"Write the number 3069 in standard form          "},{"$f":"G27/1000","v":3.069},"× 10^3  (10 to the power of 3)",null,null,null,null,null,null,{"$f":"IF(ISERROR(T27),NA(),\"\")","v":""},{"$f":"IF(OR(ISNA(U27),ISNA(V27),ISNA(W27),ISNA(X27),ISNA(Y27),ISNA(Z27),ISNA(AA27),ISNA(AB27),ISNA(AC27)),NA(),CONCATENATE(U27,V27,W27,X27,Y27,Z27,AA27,AB27))","v":"3.069× 10^3  (10 to the power of 3)"},{"$f":"IF(ISNA(AD27),FALSE,IF(C27=$B$1,Worksheet!$B$3,IF(C27=$C$1,Worksheet!$B$4,IF(C27=$D$1,Worksheet!$B$5,IF(C27=$C$2,Worksheet!$D$3,IF(C27=$D$2,Worksheet!$D$4,IF(C27=$E$2,Worksheet!$D$5,IF(C27=$C$3,Worksheet!$D$6,IF(C27=$B$3,Worksheet!$B$6,IF(C27=$D$3,Worksheet!$B$9,IF(C27=$E$3,Worksheet!$D$9,FALSE)))))))))))","v":true},{"$f":"IF(AE27,D27,\"\")","v":"Hard"},{"$f":"IF(AE27,COUNTIF($AF$5:AF27,AF27),\"X\")","v":3},{"$f":"CONCATENATE(AE27,AF27)","v":"TRUEHard"}]
[{"$f":"CONCATENATE(AE28,D28,AG28)","v":"TRUEHard4"},{"$f":"RAND()","v":0.3219186937405677},"Dec","Hard",204,"Write the number",{"$f":"RANDBETWEEN(2,9)*100+RANDBETWEEN(1,99)","v":304},"in standard form",null,null,null,null,null,null,null,null,null,null,null,{"$f":"CONCATENATE(F28,\" \",G28,\" \",H28,\" \",I28,\" \",J28,\" \",K28,\" \",L28,\" \",M28,\" \",N28,\" \",O28,\" \",P28,\" \",Q28,\" \",R28)","v":"Write the number 304 in standard form          "},{"$f":"G28/100","v":3.04},"× 10^2  (10 to the power of 2)",null,null,null,null,null,null,{"$f":"IF(ISERROR(T28),NA(),\"\")","v":""},{"$f":"IF(OR(ISNA(U28),ISNA(V28),ISNA(W28),ISNA(X28),ISNA(Y28),ISNA(Z28),ISNA(AA28),ISNA(AB28),ISNA(AC28)),NA(),CONCATENATE(U28,V28,W28,X28,Y28,Z28,AA28,AB28))","v":"3.04× 10^2  (10 to the power of 2)"},{"$f":"IF(ISNA(AD28),FALSE,IF(C28=$B$1,Worksheet!$B$3,IF(C28=$C$1,Worksheet!$B$4,IF(C28=$D$1,Worksheet!$B$5,IF(C28=$C$2,Worksheet!$D$3,IF(C28=$D$2,Worksheet!$D$4,IF(C28=$E$2,Worksheet!$D$5,IF(C28=$C$3,Worksheet!$D$6,IF(C28=$B$3,Worksheet!$B$6,IF(C28=$D$3,Worksheet!$B$9,IF(C28=$E$3,Worksheet!$D$9,FALSE)))))))))))","v":true},{"$f":"IF(AE28,D28,\"\")","v":"Hard"},{"$f":"IF(AE28,COUNTIF($AF$5:AF28,AF28),\"X\")","v":4},{"$f":"CONCATENATE(AE28,AF28)","v":"TRUEHard"}]
[{"$f":"CONCATENATE(AE29,D29,AG29)","v":"TRUEHard5"},{"$f":"RAND()","v":0.76846848963212866},"Neg","Hard",213,"What is ","(–",{"$f":"RANDBETWEEN(11,20)","v":18},")²","?",null,null,null,null,null,null,null,null,null,{"$f":"CONCATENATE(F29,\" \",G29,\"\",H29,\"\",I29,\" \",J29,\" \",K29,\" \",L29,\" \",M29,\" \",N29,\" \",O29,\" \",P29,\" \",Q29,\" \",R29)","v":"What is  (–18)² ?        "},{"$f":"H29^2","v":324},null,null,null,null,null,null,null,{"$f":"IF(ISERROR(T29),NA(),\"\")","v":""},{"$f":"IF(OR(ISNA(U29),ISNA(V29),ISNA(W29),ISNA(X29),ISNA(Y29),ISNA(Z29),ISNA(AA29),ISNA(AB29),ISNA(AC29)),NA(),CONCATENATE(U29,V29,W29,X29,Y29,Z29,AA29,AB29))","v":"324"},{"$f":"IF(ISNA(AD29),FALSE,IF(C29=$B$1,Worksheet!$B$3,IF(C29=$C$1,Worksheet!$B$4,IF(C29=$D$1,Worksheet!$B$5,IF(C29=$C$2,Worksheet!$D$3,IF(C29=$D$2,Worksheet!$D$4,IF(C29=$E$2,Worksheet!$D$5,IF(C29=$C$3,Worksheet!$D$6,IF(C29=$B$3,Worksheet!$B$6,IF(C29=$D$3,Worksheet!$B$9,IF(C29=$E$3,Worksheet!$D$9,FALSE)))))))))))","v":true},{"$f":"IF(AE29,D29,\"\")","v":"Hard"},{"$f":"IF(AE29,COUNTIF($AF$5:AF29,AF29),\"X\")","v":5},{"$f":"CONCATENATE(AE29,AF29)","v":"TRUEHard"}]
[{"$f":"CONCATENATE(AE30,D30,AG30)","v":"TRUEEasy11"},{"$f":"RAND()","v":0.30210463499307327},"Dec","Easy",245,"Multiply:     ",{"$f":"RANDBETWEEN(1,9)+RANDBETWEEN(1,99)/100","v":8.93},"×",{"$f":"RANDBETWEEN(2,9)*10^RANDBETWEEN(2,2)","v":300},null,null,null,null,null,null,null,null,null,null,{"$f":"CONCATENATE(F30,\" \",G30,\" \",H30,\" \",I30,\" \",J30,\" \",K30,\" \",L30,\" \",M30,\" \",N30,\" \",O30,\" \",P30,\" \",Q30,\" \",R30)","v":"Multiply:      8.93 × 300         "},{"$f":"G30*I30","v":2679},null,null,null,null,null,null,null,{"$f":"IF(ISERROR(T30),NA(),\"\")","v":""},{"$f":"IF(OR(ISNA(U30),ISNA(V30),ISNA(W30),ISNA(X30),ISNA(Y30),ISNA(Z30),ISNA(AA30),ISNA(AB30),ISNA(AC30)),NA(),CONCATENATE(U30,V30,W30,X30,Y30,Z30,AA30,AB30))","v":"2679"},{"$f":"IF(ISNA(AD30),FALSE,IF(C30=$B$1,Worksheet!$B$3,IF(C30=$C$1,Worksheet!$B$4,IF(C30=$D$1,Worksheet!$B$5,IF(C30=$C$2,Worksheet!$D$3,IF(C30=$D$2,Worksheet!$D$4,IF(C30=$E$2,Worksheet!$D$5,IF(C30=$C$3,Worksheet!$D$6,IF(C30=$B$3,Worksheet!$B$6,IF(C30=$D$3,Worksheet!$B$9,IF(C30=$E$3,Worksheet!$D$9,FALSE)))))))))))","v":true},{"$f":"IF(AE30,D30,\"\")","v":"Easy"},{"$f":"IF(AE30,COUNTIF($AF$5:AF30,AF30),\"X\")","v":11},{"$f":"CONCATENATE(AE30,AF30)","v":"TRUEEasy"}]
[{"$f":"CONCATENATE(AE31,D31,AG31)","v":"TRUEEasy12"},{"$f":"RAND()","v":5.4362571004941795E-2},"%","Easy",274,"Calculate",{"$f":"10*CHOOSE(RANDBETWEEN(1,7),2,3,4,6,7,8,9)","v":70},"%","of","£",{"$f":"10*RANDBETWEEN(2,9)","v":70},null,null,null,null,null,null,null,null,{"$f":"CONCATENATE(F31,\" \",G31,\"\",H31,\" \",I31,\" \",J31,\"\",K31,\" \",L31,\" \",M31,\" \",N31,\" \",O31,\" \",P31,\" \",Q31,\" \",R31)","v":"Calculate 70% of £70       "},"£",{"$f":"K31/100*G31","v":49},null,null,null,null,null,null,{"$f":"IF(ISERROR(T31),NA(),\"\")","v":""},{"$f":"IF(OR(ISNA(U31),ISNA(V31),ISNA(W31),ISNA(X31),ISNA(Y31),ISNA(Z31),ISNA(AA31),ISNA(AB31),ISNA(AC31)),NA(),CONCATENATE(U31,V31,W31,X31,Y31,Z31,AA31,AB31))","v":"£49"},{"$f":"IF(ISNA(AD31),FALSE,IF(C31=$B$1,Worksheet!$B$3,IF(C31=$C$1,Worksheet!$B$4,IF(C31=$D$1,Worksheet!$B$5,IF(C31=$C$2,Worksheet!$D$3,IF(C31=$D$2,Worksheet!$D$4,IF(C31=$E$2,Worksheet!$D$5,IF(C31=$C$3,Worksheet!$D$6,IF(C31=$B$3,Worksheet!$B$6,IF(C31=$D$3,Worksheet!$B$9,IF(C31=$E$3,Worksheet!$D$9,FALSE)))))))))))","v":true},{"$f":"IF(AE31,D31,\"\")","v":"Easy"},{"$f":"IF(AE31,COUNTIF($AF$5:AF31,AF31),\"X\")","v":12},{"$f":"CONCATENATE(AE31,AF31)","v":"TRUEEasy"}]
[{"$f":"CONCATENATE(AE32,D32,AG32)","v":"TRUEEasy13"},{"$f":"RAND()","v":0.69372937714140659},"Dec","Easy",129,"Write down the next two numbers in this increasing pattern:               ",{"$f":"RANDBETWEEN(1,20)+0.99+RANDBETWEEN(6,7)*0.001","v":2.996},"   ,   ",{"$f":"G32+$S32","v":2.9969999999999999},"   ,   ",{"$f":"I32+$S32","v":2.9979999999999998},"   ,   ",{"$f":"K32+$S32","v":2.9989999999999997},"   ,   ","_______________","   ,   ","_______________",null,1E-3,{"$f":"CONCATENATE(F32,\" \",G32,\" \",H32,\" \",I32,\" \",J32,\" \",K32,\" \",L32,\" \",M32,\" \",N32,\" \",O32,\" \",P32,\" \",Q32,\" \",R32)","v":"Write down the next two numbers in this increasing pattern:                2.996    ,    2.997    ,    2.998    ,    2.999    ,    _______________    ,    _______________ "},{"$f":"M32+0.01","v":3.0089999999999995},"    ,    ",{"$f":"U32+0.01","v":3.0189999999999992},null,null,null,null,null,{"$f":"IF(ISERROR(T32),NA(),\"\")","v":""},{"$f":"IF(OR(ISNA(U32),ISNA(V32),ISNA(W32),ISNA(X32),ISNA(Y32),ISNA(Z32),ISNA(AA32),ISNA(AB32),ISNA(AC32)),NA(),CONCATENATE(U32,V32,W32,X32,Y32,Z32,AA32,AB32))","v":"3.009    ,    3.019"},{"$f":"IF(ISNA(AD32),FALSE,IF(C32=$B$1,Worksheet!$B$3,IF(C32=$C$1,Worksheet!$B$4,IF(C32=$D$1,Worksheet!$B$5,IF(C32=$C$2,Worksheet!$D$3,IF(C32=$D$2,Worksheet!$D$4,IF(C32=$E$2,Worksheet!$D$5,IF(C32=$C$3,Worksheet!$D$6,IF(C32=$B$3,Worksheet!$B$6,IF(C32=$D$3,Worksheet!$B$9,IF(C32=$E$3,Worksheet!$D$9,FALSE)))))))))))","v":true},{"$f":"IF(AE32,D32,\"\")","v":"Easy"},{"$f":"IF(AE32,COUNTIF($AF$5:AF32,AF32),\"X\")","v":13},{"$f":"CONCATENATE(AE32,AF32)","v":"TRUEEasy"}]
[{"$f":"CONCATENATE(AE33,D33,AG33)","v":"TRUEMedium10"},{"$f":"RAND()","v":0.5254577710885312},"%","Medium",272,"Calculate",{"$f":"RANDBETWEEN(1,9)*10+RANDBETWEEN(1,9)","v":93},"%","of","£",{"$f":"1000*RANDBETWEEN(2,9)","v":2000},null,null,null,null,null,null,null,null,{"$f":"CONCATENATE(F33,\" \",G33,\"\",H33,\" \",I33,\" \",J33,\"\",K33,\" \",L33,\" \",M33,\" \",N33,\" \",O33,\" \",P33,\" \",Q33,\" \",R33)","v":"Calculate 93% of £2000       "},"£",{"$f":"K33/100*G33","v":1860},null,null,null,null,null,null,{"$f":"IF(ISERROR(T33),NA(),\"\")","v":""},{"$f":"IF(OR(ISNA(U33),ISNA(V33),ISNA(W33),ISNA(X33),ISNA(Y33),ISNA(Z33),ISNA(AA33),ISNA(AB33),ISNA(AC33)),NA(),CONCATENATE(U33,V33,W33,X33,Y33,Z33,AA33,AB33))","v":"£1860"},{"$f":"IF(ISNA(AD33),FALSE,IF(C33=$B$1,Worksheet!$B$3,IF(C33=$C$1,Worksheet!$B$4,IF(C33=$D$1,Worksheet!$B$5,IF(C33=$C$2,Worksheet!$D$3,IF(C33=$D$2,Worksheet!$D$4,IF(C33=$E$2,Worksheet!$D$5,IF(C33=$C$3,Worksheet!$D$6,IF(C33=$B$3,Worksheet!$B$6,IF(C33=$D$3,Worksheet!$B$9,IF(C33=$E$3,Worksheet!$D$9,FALSE)))))))))))","v":true},{"$f":"IF(AE33,D33,\"\")","v":"Medium"},{"$f":"IF(AE33,COUNTIF($AF$5:AF33,AF33),\"X\")","v":10},{"$f":"CONCATENATE(AE33,AF33)","v":"TRUEMedium"}]
[{"$f":"CONCATENATE(AE34,D34,AG34)","v":"TRUEHard6"},{"$f":"RAND()","v":0.47231413210311413},"%","Hard",280,"A",{"$f":"CHOOSE(RANDBETWEEN(1,4),\"holiday\",\"laptop\",\"scooter\",\"television\")","v":"scooter"},"costs £",{"$f":"100*RANDBETWEEN(4,9)","v":800},".  In a sale, its price is reduced by ",15,"%",".  What is its price in the sale?",null,null,null,null,null,null,{"$f":"CONCATENATE(F34,\" \",G34,\" \",H34,\"\",I34,\" \",J34,\" \",K34,\"\",L34,\" \",M34,\" \",N34,\" \",O34,\" \",P34,\" \",Q34,\" \",R34)","v":"A scooter costs £800 .  In a sale, its price is reduced by  15% .  What is its price in the sale?     "},"£",{"$f":"(100-K34)/100*I34","v":680},null,null,null,null,null,null,{"$f":"IF(ISERROR(T34),NA(),\"\")","v":""},{"$f":"IF(OR(ISNA(U34),ISNA(V34),ISNA(W34),ISNA(X34),ISNA(Y34),ISNA(Z34),ISNA(AA34),ISNA(AB34),ISNA(AC34)),NA(),CONCATENATE(U34,V34,W34,X34,Y34,Z34,AA34,AB34))","v":"£680"},{"$f":"IF(ISNA(AD34),FALSE,IF(C34=$B$1,Worksheet!$B$3,IF(C34=$C$1,Worksheet!$B$4,IF(C34=$D$1,Worksheet!$B$5,IF(C34=$C$2,Worksheet!$D$3,IF(C34=$D$2,Worksheet!$D$4,IF(C34=$E$2,Worksheet!$D$5,IF(C34=$C$3,Worksheet!$D$6,IF(C34=$B$3,Worksheet!$B$6,IF(C34=$D$3,Worksheet!$B$9,IF(C34=$E$3,Worksheet!$D$9,FALSE)))))))))))","v":true},{"$f":"IF(AE34,D34,\"\")","v":"Hard"},{"$f":"IF(AE34,COUNTIF($AF$5:AF34,AF34),\"X\")","v":6},{"$f":"CONCATENATE(AE34,AF34)","v":"TRUEHard"}]
[{"$f":"CONCATENATE(AE35,D35,AG35)","v":"TRUEEasy14"},{"$f":"RAND()","v":0.70256961458782785},"Dec","Easy",122,"Write down the next two numbers in this decreasing pattern:               ",{"$f":"RANDBETWEEN(1001,9999)/100","v":20.49},"   ,   ",{"$f":"G35+$S35","v":20.29},"   ,   ",{"$f":"I35+$S35","v":20.09},"   ,   ",{"$f":"K35+$S35","v":19.89},"   ,   ","_______________","   ,   ","_______________",null,{"$f":"-1*10^RANDBETWEEN(-2,-1)*CHOOSE(RANDBETWEEN(1,2),2,5)","v":-0.2},{"$f":"CONCATENATE(F35,\" \",G35,\" \",H35,\" \",I35,\" \",J35,\" \",K35,\" \",L35,\" \",M35,\" \",N35,\" \",O35,\" \",P35,\" \",Q35,\" \",R35)","v":"Write down the next two numbers in this decreasing pattern:                20.49    ,    20.29    ,    20.09    ,    19.89    ,    _______________    ,    _______________ "},{"$f":"M35+S35","v":19.690000000000001},"    ,    ",{"$f":"U35+S35","v":19.490000000000002},null,null,null,null,null,{"$f":"IF(ISERROR(T35),NA(),\"\")","v":""},{"$f":"IF(OR(ISNA(U35),ISNA(V35),ISNA(W35),ISNA(X35),ISNA(Y35),ISNA(Z35),ISNA(AA35),ISNA(AB35),ISNA(AC35)),NA(),CONCATENATE(U35,V35,W35,X35,Y35,Z35,AA35,AB35))","v":"19.69    ,    19.49"},{"$f":"IF(ISNA(AD35),FALSE,IF(C35=$B$1,Worksheet!$B$3,IF(C35=$C$1,Worksheet!$B$4,IF(C35=$D$1,Worksheet!$B$5,IF(C35=$C$2,Worksheet!$D$3,IF(C35=$D$2,Worksheet!$D$4,IF(C35=$E$2,Worksheet!$D$5,IF(C35=$C$3,Worksheet!$D$6,IF(C35=$B$3,Worksheet!$B$6,IF(C35=$D$3,Worksheet!$B$9,IF(C35=$E$3,Worksheet!$D$9,FALSE)))))))))))","v":true},{"$f":"IF(AE35,D35,\"\")","v":"Easy"},{"$f":"IF(AE35,COUNTIF($AF$5:AF35,AF35),\"X\")","v":14},{"$f":"CONCATENATE(AE35,AF35)","v":"TRUEEasy"}]
[{"$f":"CONCATENATE(AE36,D36,AG36)","v":"TRUEMedium11"},{"$f":"RAND()","v":0.98844002493893302},"Dec","Medium",196,"Write the number",{"$f":"RANDBETWEEN(2,9)/100","v":0.02},"in standard form",null,null,null,null,null,null,null,null,null,null,null,{"$f":"CONCATENATE(F36,\" \",G36,\" \",H36,\" \",I36,\" \",J36,\" \",K36,\" \",L36,\" \",M36,\" \",N36,\" \",O36,\" \",P36,\" \",Q36,\" \",R36)","v":"Write the number 0.02 in standard form          "},{"$f":"G36*100","v":2},"× 10^(-2)  (10 to the power of -2)",null,null,null,null,null,null,{"$f":"IF(ISERROR(T36),NA(),\"\")","v":""},{"$f":"IF(OR(ISNA(U36),ISNA(V36),ISNA(W36),ISNA(X36),ISNA(Y36),ISNA(Z36),ISNA(AA36),ISNA(AB36),ISNA(AC36)),NA(),CONCATENATE(U36,V36,W36,X36,Y36,Z36,AA36,AB36))","v":"2× 10^(-2)  (10 to the power of -2)"},{"$f":"IF(ISNA(AD36),FALSE,IF(C36=$B$1,Worksheet!$B$3,IF(C36=$C$1,Worksheet!$B$4,IF(C36=$D$1,Worksheet!$B$5,IF(C36=$C$2,Worksheet!$D$3,IF(C36=$D$2,Worksheet!$D$4,IF(C36=$E$2,Worksheet!$D$5,IF(C36=$C$3,Worksheet!$D$6,IF(C36=$B$3,Worksheet!$B$6,IF(C36=$D$3,Worksheet!$B$9,IF(C36=$E$3,Worksheet!$D$9,FALSE)))))))))))","v":true},{"$f":"IF(AE36,D36,\"\")","v":"Medium"},{"$f":"IF(AE36,COUNTIF($AF$5:AF36,AF36),\"X\")","v":11},{"$f":"CONCATENATE(AE36,AF36)","v":"TRUEMedium"}]
[{"$f":"CONCATENATE(AE37,D37,AG37)","v":"TRUEHard7"},{"$f":"RAND()","v":0.85972546516921367},"%","Hard",267,"What sum could you type into a calculator to work out",{"$f":"RANDBETWEEN(1,20)+RANDBETWEEN(1,9)/10","v":1.3},"%","of","£",{"$f":"RANDBETWEEN(1001,99999)","v":42547},"?     Circle the correct answer: ",{"$f":"CONCATENATE(K37,\" ÷ \",G37/100)","v":"42547 ÷ 0.013"},{"$f":"CONCATENATE(K37,\" × \",G37/100)","v":"42547 × 0.013"},{"$f":"CONCATENATE(G37/100,\" ÷ \",K37)","v":"0.013 ÷ 42547"},{"$f":"CONCATENATE(G37/10,\" × \",K37)","v":"0.13 × 42547"},null,null,null,{"$f":"CONCATENATE(F37,\" \",G37,\"\",H37,\" \",I37,\" \",J37,\"\",K37,\"\",L37,\"      \",M37,\"       \",N37,\"       \",O37,\" \",P37,\" \",Q37,\" \",R37)","v":"What sum could you type into a calculator to work out 1.3% of £42547?     Circle the correct answer:       42547 ÷ 0.013       42547 × 0.013       0.013 ÷ 42547 0.13 × 42547  "},{"$f":"N37","v":"42547 × 0.013"},null,null,null,null,null,null,null,{"$f":"IF(ISERROR(T37),NA(),\"\")","v":""},{"$f":"IF(OR(ISNA(U37),ISNA(V37),ISNA(W37),ISNA(X37),ISNA(Y37),ISNA(Z37),ISNA(AA37),ISNA(AB37),ISNA(AC37)),NA(),CONCATENATE(U37,V37,W37,X37,Y37,Z37,AA37,AB37))","v":"42547 × 0.013"},{"$f":"IF(ISNA(AD37),FALSE,IF(C37=$B$1,Worksheet!$B$3,IF(C37=$C$1,Worksheet!$B$4,IF(C37=$D$1,Worksheet!$B$5,IF(C37=$C$2,Worksheet!$D$3,IF(C37=$D$2,Worksheet!$D$4,IF(C37=$E$2,Worksheet!$D$5,IF(C37=$C$3,Worksheet!$D$6,IF(C37=$B$3,Worksheet!$B$6,IF(C37=$D$3,Worksheet!$B$9,IF(C37=$E$3,Worksheet!$D$9,FALSE)))))))))))","v":true},{"$f":"IF(AE37,D37,\"\")","v":"Hard"},{"$f":"IF(AE37,COUNTIF($AF$5:AF37,AF37),\"X\")","v":7},{"$f":"CONCATENATE(AE37,AF37)","v":"TRUEHard"}]
[{"$f":"CONCATENATE(AE38,D38,AG38)","v":"TRUEEasy15"},{"$f":"RAND()","v":0.3918530821314159},"+-×÷","Easy",22,"Work out the value of:",{"$f":"RANDBETWEEN(2,9)","v":6},"(",{"$f":"RANDBETWEEN(10,30)","v":26},"+",{"$f":"RANDBETWEEN(10,30)","v":19},")",null,null,null,null,null,null,null,{"$f":"CONCATENATE(F38,\" \",G38,\" \",H38,\" \",I38,\" \",J38,\" \",K38,\" \",L38,\" \",M38,\" \",N38,\" \",O38,\" \",P38,\" \",Q38,\" \",R38)","v":"Work out the value of: 6 ( 26 + 19 )      "},{"$f":"(I38+K38)*G38","v":270},null,null,null,null,null,null,null,{"$f":"IF(ISERROR(T38),NA(),\"\")","v":""},{"$f":"IF(OR(ISNA(U38),ISNA(V38),ISNA(W38),ISNA(X38),ISNA(Y38),ISNA(Z38),ISNA(AA38),ISNA(AB38),ISNA(AC38)),NA(),CONCATENATE(U38,V38,W38,X38,Y38,Z38,AA38,AB38))","v":"270"},{"$f":"IF(ISNA(AD38),FALSE,IF(C38=$B$1,Worksheet!$B$3,IF(C38=$C$1,Worksheet!$B$4,IF(C38=$D$1,Worksheet!$B$5,IF(C38=$C$2,Worksheet!$D$3,IF(C38=$D$2,Worksheet!$D$4,IF(C38=$E$2,Worksheet!$D$5,IF(C38=$C$3,Worksheet!$D$6,IF(C38=$B$3,Worksheet!$B$6,IF(C38=$D$3,Worksheet!$B$9,IF(C38=$E$3,Worksheet!$D$9,FALSE)))))))))))","v":true},{"$f":"IF(AE38,D38,\"\")","v":"Easy"},{"$f":"IF(AE38,COUNTIF($AF$5:AF38,AF38),\"X\")","v":15},{"$f":"CONCATENATE(AE38,AF38)","v":"TRUEEasy"}]
[{"$f":"CONCATENATE(AE39,D39,AG39)","v":"TRUEEasy16"},{"$f":"RAND()","v":0.22321250320882313},"Dec","Easy",136,"Write the fraction ",{"$f":"RANDBETWEEN(1,9)+RANDBETWEEN(1,9)*10+IF(I39=10000,RANDBETWEEN(1,9)*100,0)","v":17},"/",{"$f":"CHOOSE(RANDBETWEEN(1,2),1000,1000)","v":1000},"as a decimal",null,null,null,null,null,null,null,null,null,{"$f":"CONCATENATE(F39,\" \",G39,\"\",H39,\"\",I39,\" \",J39,\" \",K39,\" \",L39,\" \",M39,\" \",N39,\" \",O39,\" \",P39,\" \",Q39,\" \",R39)","v":"Write the fraction  17/1000 as a decimal        "},{"$f":"G39/I39","v":1.7000000000000001E-2},null,null,null,null,null,null,null,{"$f":"IF(ISERROR(T39),NA(),\"\")","v":""},{"$f":"IF(OR(ISNA(U39),ISNA(V39),ISNA(W39),ISNA(X39),ISNA(Y39),ISNA(Z39),ISNA(AA39),ISNA(AB39),ISNA(AC39)),NA(),CONCATENATE(U39,V39,W39,X39,Y39,Z39,AA39,AB39))","v":"0.017"},{"$f":"IF(ISNA(AD39),FALSE,IF(C39=$B$1,Worksheet!$B$3,IF(C39=$C$1,Worksheet!$B$4,IF(C39=$D$1,Worksheet!$B$5,IF(C39=$C$2,Worksheet!$D$3,IF(C39=$D$2,Worksheet!$D$4,IF(C39=$E$2,Worksheet!$D$5,IF(C39=$C$3,Worksheet!$D$6,IF(C39=$B$3,Worksheet!$B$6,IF(C39=$D$3,Worksheet!$B$9,IF(C39=$E$3,Worksheet!$D$9,FALSE)))))))))))","v":true},{"$f":"IF(AE39,D39,\"\")","v":"Easy"},{"$f":"IF(AE39,COUNTIF($AF$5:AF39,AF39),\"X\")","v":16},{"$f":"CONCATENATE(AE39,AF39)","v":"TRUEEasy"}]
[{"$f":"CONCATENATE(AE40,D40,AG40)","v":"TRUEEasy17"},{"$f":"RAND()","v":4.1510798465572041E-2},"Frac","Easy",74,"Fractions.     Without a calculator, work out:   ",{"$f":"TEXT(R40/S40,\"##/##\")","v":"3/5"},"of",{"$f":"S40*RANDBETWEEN(3,9)*10^RANDBETWEEN(2,3)","v":20000},null,null,null,null,null,null,null,null,{"$f":"RANDBETWEEN(2,S40-1)","v":3},{"$f":"RANDBETWEEN(5,9)","v":5},{"$f":"CONCATENATE(F40,\" \",G40,\" \",H40,\" \",I40,\" \",J40,\" \",K40,\" \",L40,\" \",M40,\" \",N40,\" \",O40,\" \",P40,\" \",Q40)","v":"Fractions.     Without a calculator, work out:    3/5 of 20000        "},{"$f":"I40/S40*VALUE(LEFT(G40,1))","v":12000},null,null,null,null,null,null,null,{"$f":"IF(ISERROR(T40),NA(),\"\")","v":""},{"$f":"IF(OR(ISNA(U40),ISNA(V40),ISNA(W40),ISNA(X40),ISNA(Y40),ISNA(Z40),ISNA(AA40),ISNA(AB40),ISNA(AC40)),NA(),CONCATENATE(U40,V40,W40,X40,Y40,Z40,AA40,AB40))","v":"12000"},{"$f":"IF(ISNA(AD40),FALSE,IF(C40=$B$1,Worksheet!$B$3,IF(C40=$C$1,Worksheet!$B$4,IF(C40=$D$1,Worksheet!$B$5,IF(C40=$C$2,Worksheet!$D$3,IF(C40=$D$2,Worksheet!$D$4,IF(C40=$E$2,Worksheet!$D$5,IF(C40=$C$3,Worksheet!$D$6,IF(C40=$B$3,Worksheet!$B$6,IF(C40=$D$3,Worksheet!$B$9,IF(C40=$E$3,Worksheet!$D$9,FALSE)))))))))))","v":true},{"$f":"IF(AE40,D40,\"\")","v":"Easy"},{"$f":"IF(AE40,COUNTIF($AF$5:AF40,AF40),\"X\")","v":17},{"$f":"CONCATENATE(AE40,AF40)","v":"TRUEEasy"}]
[{"$f":"CONCATENATE(AE41,D41,AG41)","v":"TRUEHard8"},{"$f":"RAND()","v":0.20128309473279116},"Dec","Hard",255,"Multiply:   ",{"$f":"RANDBETWEEN(10,99)*1000","v":71000},"×",{"$f":"10^RANDBETWEEN(-3,-2)*RANDBETWEEN(2,9)","v":7.0000000000000007E-2},null,null,null,null,null,null,null,null,null,null,{"$f":"CONCATENATE(F41,\" \",G41,\" \",H41,\" \",I41,\" \",J41,\" \",K41,\" \",L41,\" \",M41,\" \",N41,\" \",O41,\" \",P41,\" \",Q41,\" \",R41)","v":"Multiply:    71000 × 0.07         "},{"$f":"G41*I41","v":4970.0000000000009},null,null,null,null,null,null,null,{"$f":"IF(ISERROR(T41),NA(),\"\")","v":""},{"$f":"IF(OR(ISNA(U41),ISNA(V41),ISNA(W41),ISNA(X41),ISNA(Y41),ISNA(Z41),ISNA(AA41),ISNA(AB41),ISNA(AC41)),NA(),CONCATENATE(U41,V41,W41,X41,Y41,Z41,AA41,AB41))","v":"4970"},{"$f":"IF(ISNA(AD41),FALSE,IF(C41=$B$1,Worksheet!$B$3,IF(C41=$C$1,Worksheet!$B$4,IF(C41=$D$1,Worksheet!$B$5,IF(C41=$C$2,Worksheet!$D$3,IF(C41=$D$2,Worksheet!$D$4,IF(C41=$E$2,Worksheet!$D$5,IF(C41=$C$3,Worksheet!$D$6,IF(C41=$B$3,Worksheet!$B$6,IF(C41=$D$3,Worksheet!$B$9,IF(C41=$E$3,Worksheet!$D$9,FALSE)))))))))))","v":true},{"$f":"IF(AE41,D41,\"\")","v":"Hard"},{"$f":"IF(AE41,COUNTIF($AF$5:AF41,AF41),\"X\")","v":8},{"$f":"CONCATENATE(AE41,AF41)","v":"TRUEHard"}]
[{"$f":"CONCATENATE(AE42,D42,AG42)","v":"TRUEEasy18"},{"$f":"RAND()","v":0.35417922199878893},"+-×÷","Easy",11,"Take away  ",{"$f":"RANDBETWEEN(2,99)*1000","v":17000}," – ",{"$f":"RANDBETWEEN(500,G42-100)","v":11792},"  without a calculator",null,null,null,null,null,null,null,null,null,{"$f":"CONCATENATE(F42,\" \",G42,\" \",H42,\" \",I42,\" \",J42,\" \",K42,\" \",L42,\" \",M42,\" \",N42,\" \",O42,\" \",P42,\" \",Q42,\" \",R42)","v":"Take away   17000  –  11792   without a calculator        "},{"$f":"G42-I42","v":5208},null,null,null,null,null,null,null,{"$f":"IF(ISERROR(T42),NA(),\"\")","v":""},{"$f":"IF(OR(ISNA(U42),ISNA(V42),ISNA(W42),ISNA(X42),ISNA(Y42),ISNA(Z42),ISNA(AA42),ISNA(AB42),ISNA(AC42)),NA(),CONCATENATE(U42,V42,W42,X42,Y42,Z42,AA42,AB42))","v":"5208"},{"$f":"IF(ISNA(AD42),FALSE,IF(C42=$B$1,Worksheet!$B$3,IF(C42=$C$1,Worksheet!$B$4,IF(C42=$D$1,Worksheet!$B$5,IF(C42=$C$2,Worksheet!$D$3,IF(C42=$D$2,Worksheet!$D$4,IF(C42=$E$2,Worksheet!$D$5,IF(C42=$C$3,Worksheet!$D$6,IF(C42=$B$3,Worksheet!$B$6,IF(C42=$D$3,Worksheet!$B$9,IF(C42=$E$3,Worksheet!$D$9,FALSE)))))))))))","v":true},{"$f":"IF(AE42,D42,\"\")","v":"Easy"},{"$f":"IF(AE42,COUNTIF($AF$5:AF42,AF42),\"X\")","v":18},{"$f":"CONCATENATE(AE42,AF42)","v":"TRUEEasy"}]
[{"$f":"CONCATENATE(AE43,D43,AG43)","v":"TRUEEasy19"},{"$f":"RAND()","v":0.89460370063651495},"+-×÷","Easy",66,"Work out the value of:",{"$f":"RANDBETWEEN(2,9)","v":8},"(",{"$f":"RANDBETWEEN(1,7)","v":5},"+",{"$f":"RANDBETWEEN(1,7)","v":4},")",null,null,null,null,null,null,null,{"$f":"CONCATENATE(F43,\" \",G43,\" \",H43,\" \",I43,\" \",J43,\" \",K43,\" \",L43,\" \",M43,\" \",N43,\" \",O43,\" \",P43,\" \",Q43,\" \",R43)","v":"Work out the value of: 8 ( 5 + 4 )      "},{"$f":"(I43+K43)*G43","v":72},null,null,null,null,null,null,null,{"$f":"IF(ISERROR(T43),NA(),\"\")","v":""},{"$f":"IF(OR(ISNA(U43),ISNA(V43),ISNA(W43),ISNA(X43),ISNA(Y43),ISNA(Z43),ISNA(AA43),ISNA(AB43),ISNA(AC43)),NA(),CONCATENATE(U43,V43,W43,X43,Y43,Z43,AA43,AB43))","v":"72"},{"$f":"IF(ISNA(AD43),FALSE,IF(C43=$B$1,Worksheet!$B$3,IF(C43=$C$1,Worksheet!$B$4,IF(C43=$D$1,Worksheet!$B$5,IF(C43=$C$2,Worksheet!$D$3,IF(C43=$D$2,Worksheet!$D$4,IF(C43=$E$2,Worksheet!$D$5,IF(C43=$C$3,Worksheet!$D$6,IF(C43=$B$3,Worksheet!$B$6,IF(C43=$D$3,Worksheet!$B$9,IF(C43=$E$3,Worksheet!$D$9,FALSE)))))))))))","v":true},{"$f":"IF(AE43,D43,\"\")","v":"Easy"},{"$f":"IF(AE43,COUNTIF($AF$5:AF43,AF43),\"X\")","v":19},{"$f":"CONCATENATE(AE43,AF43)","v":"TRUEEasy"}]
[{"$f":"CONCATENATE(AE44,D44,AG44)","v":"TRUEHard9"},{"$f":"RAND()","v":0.69088159629437673},"Dec","Hard",202,"Write the number",{"$f":"RANDBETWEEN(2,9)/100+RANDBETWEEN(1,99)/10000","v":8.09E-2},"in standard form",null,null,null,null,null,null,null,null,null,null,null,{"$f":"CONCATENATE(F44,\" \",G44,\" \",H44,\" \",I44,\" \",J44,\" \",K44,\" \",L44,\" \",M44,\" \",N44,\" \",O44,\" \",P44,\" \",Q44,\" \",R44)","v":"Write the number 0.0809 in standard form          "},{"$f":"G44*100","v":8.09},"× 10^(-2)  (10 to the power of -2)",null,null,null,null,null,null,{"$f":"IF(ISERROR(T44),NA(),\"\")","v":""},{"$f":"IF(OR(ISNA(U44),ISNA(V44),ISNA(W44),ISNA(X44),ISNA(Y44),ISNA(Z44),ISNA(AA44),ISNA(AB44),ISNA(AC44)),NA(),CONCATENATE(U44,V44,W44,X44,Y44,Z44,AA44,AB44))","v":"8.09× 10^(-2)  (10 to the power of -2)"},{"$f":"IF(ISNA(AD44),FALSE,IF(C44=$B$1,Worksheet!$B$3,IF(C44=$C$1,Worksheet!$B$4,IF(C44=$D$1,Worksheet!$B$5,IF(C44=$C$2,Worksheet!$D$3,IF(C44=$D$2,Worksheet!$D$4,IF(C44=$E$2,Worksheet!$D$5,IF(C44=$C$3,Worksheet!$D$6,IF(C44=$B$3,Worksheet!$B$6,IF(C44=$D$3,Worksheet!$B$9,IF(C44=$E$3,Worksheet!$D$9,FALSE)))))))))))","v":true},{"$f":"IF(AE44,D44,\"\")","v":"Hard"},{"$f":"IF(AE44,COUNTIF($AF$5:AF44,AF44),\"X\")","v":9},{"$f":"CONCATENATE(AE44,AF44)","v":"TRUEHard"}]
[{"$f":"CONCATENATE(AE45,D45,AG45)","v":"TRUEMedium12"},{"$f":"RAND()","v":0.86411429899613446},"Dec","Medium",253,"Multiply:   ",{"$f":"RANDBETWEEN(10,99)*100","v":6000},"×",{"$f":"10^RANDBETWEEN(-2,-1)*RANDBETWEEN(2,9)","v":0.08},null,null,null,null,null,null,null,null,null,null,{"$f":"CONCATENATE(F45,\" \",G45,\" \",H45,\" \",I45,\" \",J45,\" \",K45,\" \",L45,\" \",M45,\" \",N45,\" \",O45,\" \",P45,\" \",Q45,\" \",R45)","v":"Multiply:    6000 × 0.08         "},{"$f":"G45*I45","v":480},null,null,null,null,null,null,null,{"$f":"IF(ISERROR(T45),NA(),\"\")","v":""},{"$f":"IF(OR(ISNA(U45),ISNA(V45),ISNA(W45),ISNA(X45),ISNA(Y45),ISNA(Z45),ISNA(AA45),ISNA(AB45),ISNA(AC45)),NA(),CONCATENATE(U45,V45,W45,X45,Y45,Z45,AA45,AB45))","v":"480"},{"$f":"IF(ISNA(AD45),FALSE,IF(C45=$B$1,Worksheet!$B$3,IF(C45=$C$1,Worksheet!$B$4,IF(C45=$D$1,Worksheet!$B$5,IF(C45=$C$2,Worksheet!$D$3,IF(C45=$D$2,Worksheet!$D$4,IF(C45=$E$2,Worksheet!$D$5,IF(C45=$C$3,Worksheet!$D$6,IF(C45=$B$3,Worksheet!$B$6,IF(C45=$D$3,Worksheet!$B$9,IF(C45=$E$3,Worksheet!$D$9,FALSE)))))))))))","v":true},{"$f":"IF(AE45,D45,\"\")","v":"Medium"},{"$f":"IF(AE45,COUNTIF($AF$5:AF45,AF45),\"X\")","v":12},{"$f":"CONCATENATE(AE45,AF45)","v":"TRUEMedium"}]
[{"$f":"CONCATENATE(AE46,D46,AG46)","v":"TRUEMedium13"},{"$f":"RAND()","v":0.87690574723365644},"Dec","Medium",162,"What is seven eighths (7/8) as a decimal?",null,null,null,null,null,null,null,null,null,null,null,null,null,{"$f":"CONCATENATE(F46,\" \",G46,\" \",H46,\" \",I46,\" \",J46,\" \",K46,\" \",L46,\" \",M46,\" \",N46,\" \",O46,\" \",P46,\" \",Q46,\" \",R46)","v":"What is seven eighths (7/8) as a decimal?            "},0.875,null,null,null,null,null,null,null,{"$f":"IF(ISERROR(T46),NA(),\"\")","v":""},{"$f":"IF(OR(ISNA(U46),ISNA(V46),ISNA(W46),ISNA(X46),ISNA(Y46),ISNA(Z46),ISNA(AA46),ISNA(AB46),ISNA(AC46)),NA(),CONCATENATE(U46,V46,W46,X46,Y46,Z46,AA46,AB46))","v":"0.875"},{"$f":"IF(ISNA(AD46),FALSE,IF(C46=$B$1,Worksheet!$B$3,IF(C46=$C$1,Worksheet!$B$4,IF(C46=$D$1,Worksheet!$B$5,IF(C46=$C$2,Worksheet!$D$3,IF(C46=$D$2,Worksheet!$D$4,IF(C46=$E$2,Worksheet!$D$5,IF(C46=$C$3,Worksheet!$D$6,IF(C46=$B$3,Worksheet!$B$6,IF(C46=$D$3,Worksheet!$B$9,IF(C46=$E$3,Worksheet!$D$9,FALSE)))))))))))","v":true},{"$f":"IF(AE46,D46,\"\")","v":"Medium"},{"$f":"IF(AE46,COUNTIF($AF$5:AF46,AF46),\"X\")","v":13},{"$f":"CONCATENATE(AE46,AF46)","v":"TRUEMedium"}]
[{"$f":"CONCATENATE(AE47,D47,AG47)","v":"TRUEEasy20"},{"$f":"RAND()","v":0.10439871210063956},"Alg","Easy",315,"Algebra.  If ",{"$f":"CHOOSE(RANDBETWEEN(1,22),\"a\",\"b\",\"c\",\"d\",\"f\",\"g\",\"h\",\"j\",\"k\",\"m\",\"n\",\"p\",\"q\",\"r\",\"s\",\"t\",\"u\",\"v\",\"w\",\"x\",\"y\",\"z\")","v":"f"},"=",{"$f":"RANDBETWEEN(2,5)","v":4},", what is the value of:    ",{"$f":"RANDBETWEEN(2,10)","v":5},{"$f":"G47","v":"f"},"²","?",null,null,null,null,null,{"$f":"CONCATENATE(F47,\" \",G47,\" \",H47,\" \",I47,\" \",J47,\" \",K47,\"\",L47,\"\",M47,\"\",N47,\" \",O47,\" \",P47,\" \",Q47,\" \",R47)","v":"Algebra.  If  f = 4 , what is the value of:     5f²?    "},{"$f":"K47*I47^2","v":80},null,null,null,null,null,null,null,{"$f":"IF(ISERROR(T47),NA(),\"\")","v":""},{"$f":"IF(OR(ISNA(U47),ISNA(V47),ISNA(W47),ISNA(X47),ISNA(Y47),ISNA(Z47),ISNA(AA47),ISNA(AB47),ISNA(AC47)),NA(),CONCATENATE(U47,V47,W47,X47,Y47,Z47,AA47,AB47))","v":"80"},{"$f":"IF(ISNA(AD47),FALSE,IF(C47=$B$1,Worksheet!$B$3,IF(C47=$C$1,Worksheet!$B$4,IF(C47=$D$1,Worksheet!$B$5,IF(C47=$C$2,Worksheet!$D$3,IF(C47=$D$2,Worksheet!$D$4,IF(C47=$E$2,Worksheet!$D$5,IF(C47=$C$3,Worksheet!$D$6,IF(C47=$B$3,Worksheet!$B$6,IF(C47=$D$3,Worksheet!$B$9,IF(C47=$E$3,Worksheet!$D$9,FALSE)))))))))))","v":true},{"$f":"IF(AE47,D47,\"\")","v":"Easy"},{"$f":"IF(AE47,COUNTIF($AF$5:AF47,AF47),\"X\")","v":20},{"$f":"CONCATENATE(AE47,AF47)","v":"TRUEEasy"}]
[{"$f":"CONCATENATE(AE48,D48,AG48)","v":"TRUEHard10"},{"$f":"RAND()","v":0.23906408550143865},"Dec","Hard",243,"Divide: ",{"$f":"(9*RANDBETWEEN(11,99)+RANDBETWEEN(1,8))/10","v":23.6}," ÷ ",9,", giving your answer as a decimal rounded to 3 decimal places",null,null,null,null,null,null,null,null,null,{"$f":"CONCATENATE(F48,\" \",G48,\" \",H48,\" \",I48,\" \",J48,\" \",K48,\" \",L48,\" \",M48,\" \",N48,\" \",O48,\" \",P48,\" \",Q48,\" \",R48)","v":"Divide:  23.6  ÷  9 , giving your answer as a decimal rounded to 3 decimal places        "},{"$f":"MROUND(G48/I48,0.001)","v":2.6219999999999999},null,null,null,null,null,null,null,{"$f":"IF(ISERROR(T48),NA(),\"\")","v":""},{"$f":"IF(OR(ISNA(U48),ISNA(V48),ISNA(W48),ISNA(X48),ISNA(Y48),ISNA(Z48),ISNA(AA48),ISNA(AB48),ISNA(AC48)),NA(),CONCATENATE(U48,V48,W48,X48,Y48,Z48,AA48,AB48))","v":"2.622"},{"$f":"IF(ISNA(AD48),FALSE,IF(C48=$B$1,Worksheet!$B$3,IF(C48=$C$1,Worksheet!$B$4,IF(C48=$D$1,Worksheet!$B$5,IF(C48=$C$2,Worksheet!$D$3,IF(C48=$D$2,Worksheet!$D$4,IF(C48=$E$2,Worksheet!$D$5,IF(C48=$C$3,Worksheet!$D$6,IF(C48=$B$3,Worksheet!$B$6,IF(C48=$D$3,Worksheet!$B$9,IF(C48=$E$3,Worksheet!$D$9,FALSE)))))))))))","v":true},{"$f":"IF(AE48,D48,\"\")","v":"Hard"},{"$f":"IF(AE48,COUNTIF($AF$5:AF48,AF48),\"X\")","v":10},{"$f":"CONCATENATE(AE48,AF48)","v":"TRUEHard"}]
[{"$f":"CONCATENATE(AE49,D49,AG49)","v":"TRUEMedium14"},{"$f":"RAND()","v":0.42568470297881111},"Frac","Medium",102,"Add the fractions:  ",{"$f":"IF(I49=4,CHOOSE(RANDBETWEEN(1,2),1,3),RANDBETWEEN(1,I49-1))","v":3},"/",{"$f":"RANDBETWEEN(5,8)","v":8},"+",{"$f":"RANDBETWEEN(1,M49-1)","v":1},"/",{"$f":"SMALL(IF(I49={5,6,7,8},\"\",{5,6,7,8}),RANDBETWEEN(1,3))","v":6},{"$f":"IF(GCD(G49*M49+I49*K49,I49*M49)=1,\"\",\",    giving your answer in its simplest form\")","v":",    giving your answer in its simplest form"},null,null,null,null,null,{"$f":"CONCATENATE(F49,\" \",G49,\"\",H49,\"\",I49,\" \",J49,\" \",K49,\"\",L49,\"\",M49,\" \",N49,\"       \",O49,\" \",P49,\" \",Q49,\" \",R49)","v":"Add the fractions:   3/8 + 1/6 ,    giving your answer in its simplest form          "},{"$f":"(G49*M49+I49*K49)/GCD(G49*M49+I49*K49,I49*M49)","v":13},"/",{"$f":"I49*M49/GCD(G49*M49+I49*K49,I49*M49)","v":24},{"$f":"IF(INT(G49*M49+I49*K49/GCD(G49*M49+I49*K49,I49*M49))=G49*M49+I49*K49/GCD(G49*M49+I49*K49,I49*M49),\"\",NA())","v":""},null,null,null,null,{"$f":"IF(ISERROR(T49),NA(),\"\")","v":""},{"$f":"IF(OR(ISNA(U49),ISNA(V49),ISNA(W49),ISNA(X49),ISNA(Y49),ISNA(Z49),ISNA(AA49),ISNA(AB49),ISNA(AC49)),NA(),CONCATENATE(U49,V49,W49,X49,Y49,Z49,AA49,AB49))","v":"13/24"},{"$f":"IF(ISNA(AD49),FALSE,IF(C49=$B$1,Worksheet!$B$3,IF(C49=$C$1,Worksheet!$B$4,IF(C49=$D$1,Worksheet!$B$5,IF(C49=$C$2,Worksheet!$D$3,IF(C49=$D$2,Worksheet!$D$4,IF(C49=$E$2,Worksheet!$D$5,IF(C49=$C$3,Worksheet!$D$6,IF(C49=$B$3,Worksheet!$B$6,IF(C49=$D$3,Worksheet!$B$9,IF(C49=$E$3,Worksheet!$D$9,FALSE)))))))))))","v":true},{"$f":"IF(AE49,D49,\"\")","v":"Medium"},{"$f":"IF(AE49,COUNTIF($AF$5:AF49,AF49),\"X\")","v":14},{"$f":"CONCATENATE(AE49,AF49)","v":"TRUEMedium"}]
[{"$f":"CONCATENATE(AE50,D50,AG50)","v":"TRUEMedium15"},{"$f":"RAND()","v":0.69990799912747037},"Alg","Medium",335,"Multiply out the bracket and simplify:",{"$f":"RANDBETWEEN(2,10)","v":8},"(",{"$f":"CHOOSE(RANDBETWEEN(1,22),\"a\",\"b\",\"c\",\"d\",\"f\",\"g\",\"h\",\"j\",\"k\",\"m\",\"n\",\"p\",\"q\",\"r\",\"s\",\"t\",\"u\",\"v\",\"w\",\"x\",\"y\",\"z\")","v":"r"},"+",{"$f":"RANDBETWEEN(1,10)","v":6},")","+",{"$f":"RANDBETWEEN(1,10)","v":10},null,null,null,null,null,{"$f":"CONCATENATE(F50,\" \",G50,\" \",H50,\" \",I50,\" \",J50,\" \",K50,\" \",L50,\" \",M50,\" \",N50,\" \",O50,\" \",P50,\" \",Q50,\" \",R50)","v":"Multiply out the bracket and simplify: 8 ( r + 6 ) + 10    "},{"$f":"CONCATENATE(G50,I50,\" \",J50,\" \",G50*K50+N50)","v":"8r + 58"},null,null,null,null,null,null,null,{"$f":"IF(L50<0,NA(),\"\")","v":""},{"$f":"IF(OR(ISNA(U50),ISNA(V50),ISNA(W50),ISNA(X50),ISNA(Y50),ISNA(Z50),ISNA(AA50),ISNA(AB50),ISNA(AC50)),NA(),CONCATENATE(U50,V50,W50,X50,Y50,Z50,AA50,AB50))","v":"8r + 58"},{"$f":"IF(ISNA(AD50),FALSE,IF(C50=$B$1,Worksheet!$B$3,IF(C50=$C$1,Worksheet!$B$4,IF(C50=$D$1,Worksheet!$B$5,IF(C50=$C$2,Worksheet!$D$3,IF(C50=$D$2,Worksheet!$D$4,IF(C50=$E$2,Worksheet!$D$5,IF(C50=$C$3,Worksheet!$D$6,IF(C50=$B$3,Worksheet!$B$6,IF(C50=$D$3,Worksheet!$B$9,IF(C50=$E$3,Worksheet!$D$9,FALSE)))))))))))","v":true},{"$f":"IF(AE50,D50,\"\")","v":"Medium"},{"$f":"IF(AE50,COUNTIF($AF$5:AF50,AF50),\"X\")","v":15},{"$f":"CONCATENATE(AE50,AF50)","v":"TRUEMedium"}]
[{"$f":"CONCATENATE(AE51,D51,AG51)","v":"TRUEEasy21"},{"$f":"RAND()","v":1.1082003513767869E-2},"%","Easy",288,"What fraction is the same as","33⅓%","?",null,null,null,null,null,null,null,null,null,null,null,{"$f":"CONCATENATE(F51,\" \",G51,\"\",H51,\" \",I51,\" \",J51,\" \",K51,\" \",L51,\" \",M51,\" \",N51,\" \",O51,\" \",P51,\" \",Q51,\" \",R51)","v":"What fraction is the same as 33⅓%?          "},"1/3 (one third)",null,null,null,null,null,null,null,{"$f":"IF(ISERROR(T51),NA(),\"\")","v":""},{"$f":"IF(OR(ISNA(U51),ISNA(V51),ISNA(W51),ISNA(X51),ISNA(Y51),ISNA(Z51),ISNA(AA51),ISNA(AB51),ISNA(AC51)),NA(),CONCATENATE(U51,V51,W51,X51,Y51,Z51,AA51,AB51))","v":"1/3 (one third)"},{"$f":"IF(ISNA(AD51),FALSE,IF(C51=$B$1,Worksheet!$B$3,IF(C51=$C$1,Worksheet!$B$4,IF(C51=$D$1,Worksheet!$B$5,IF(C51=$C$2,Worksheet!$D$3,IF(C51=$D$2,Worksheet!$D$4,IF(C51=$E$2,Worksheet!$D$5,IF(C51=$C$3,Worksheet!$D$6,IF(C51=$B$3,Worksheet!$B$6,IF(C51=$D$3,Worksheet!$B$9,IF(C51=$E$3,Worksheet!$D$9,FALSE)))))))))))","v":true},{"$f":"IF(AE51,D51,\"\")","v":"Easy"},{"$f":"IF(AE51,COUNTIF($AF$5:AF51,AF51),\"X\")","v":21},{"$f":"CONCATENATE(AE51,AF51)","v":"TRUEEasy"}]
[{"$f":"CONCATENATE(AE52,D52,AG52)","v":"TRUEMedium16"},{"$f":"RAND()","v":0.49440189716861327},"Alg","Medium",317,"Algebra.  If ",{"$f":"CHOOSE(RANDBETWEEN(1,22),\"a\",\"b\",\"c\",\"d\",\"f\",\"g\",\"h\",\"j\",\"k\",\"m\",\"n\",\"p\",\"q\",\"r\",\"s\",\"t\",\"u\",\"v\",\"w\",\"x\",\"y\",\"z\")","v":"s"},"=",{"$f":"RANDBETWEEN(5,10)","v":7},", what is the value of:    ",{"$f":"RANDBETWEEN(2,10)","v":10},{"$f":"G52","v":"s"},"²","?",null,null,null,null,null,{"$f":"CONCATENATE(F52,\" \",G52,\" \",H52,\" \",I52,\" \",J52,\" \",K52,\"\",L52,\"\",M52,\"\",N52,\" \",O52,\" \",P52,\" \",Q52,\" \",R52)","v":"Algebra.  If  s = 7 , what is the value of:     10s²?    "},{"$f":"K52*I52^2","v":490},null,null,null,null,null,null,null,{"$f":"IF(ISERROR(T52),NA(),\"\")","v":""},{"$f":"IF(OR(ISNA(U52),ISNA(V52),ISNA(W52),ISNA(X52),ISNA(Y52),ISNA(Z52),ISNA(AA52),ISNA(AB52),ISNA(AC52)),NA(),CONCATENATE(U52,V52,W52,X52,Y52,Z52,AA52,AB52))","v":"490"},{"$f":"IF(ISNA(AD52),FALSE,IF(C52=$B$1,Worksheet!$B$3,IF(C52=$C$1,Worksheet!$B$4,IF(C52=$D$1,Worksheet!$B$5,IF(C52=$C$2,Worksheet!$D$3,IF(C52=$D$2,Worksheet!$D$4,IF(C52=$E$2,Worksheet!$D$5,IF(C52=$C$3,Worksheet!$D$6,IF(C52=$B$3,Worksheet!$B$6,IF(C52=$D$3,Worksheet!$B$9,IF(C52=$E$3,Worksheet!$D$9,FALSE)))))))))))","v":true},{"$f":"IF(AE52,D52,\"\")","v":"Medium"},{"$f":"IF(AE52,COUNTIF($AF$5:AF52,AF52),\"X\")","v":16},{"$f":"CONCATENATE(AE52,AF52)","v":"TRUEMedium"}]
[{"$f":"CONCATENATE(AE53,D53,AG53)","v":"TRUEEasy22"},{"$f":"RAND()","v":0.8594863227872912},"Dec","Easy",191,"Change the number ",{"$f":"RANDBETWEEN(1,9)+RANDBETWEEN(1,9)/10","v":2.8},"× 10^",{"$f":"RANDBETWEEN(-5,-1)","v":-3},"(10 to the power of",{"$f":"I53","v":-3},") from standard form to normal form",null,null,null,null,null,null,null,{"$f":"CONCATENATE(F53,\" \",G53,\" \",H53,\"(\",I53,\") \",J53,\" (\",K53,\")\",L53,\" \",M53,\" \",N53,\" \",O53,\" \",P53,\" \",Q53,\" \",R53)","v":"Change the number  2.8 × 10^(-3) (10 to the power of (-3)) from standard form to normal form      "},{"$f":"G53*10^I53","v":2.8E-3},null,null,null,null,null,null,null,{"$f":"IF(ISERROR(T53),NA(),\"\")","v":""},{"$f":"IF(OR(ISNA(U53),ISNA(V53),ISNA(W53),ISNA(X53),ISNA(Y53),ISNA(Z53),ISNA(AA53),ISNA(AB53),ISNA(AC53)),NA(),CONCATENATE(U53,V53,W53,X53,Y53,Z53,AA53,AB53))","v":"0.0028"},{"$f":"IF(ISNA(AD53),FALSE,IF(C53=$B$1,Worksheet!$B$3,IF(C53=$C$1,Worksheet!$B$4,IF(C53=$D$1,Worksheet!$B$5,IF(C53=$C$2,Worksheet!$D$3,IF(C53=$D$2,Worksheet!$D$4,IF(C53=$E$2,Worksheet!$D$5,IF(C53=$C$3,Worksheet!$D$6,IF(C53=$B$3,Worksheet!$B$6,IF(C53=$D$3,Worksheet!$B$9,IF(C53=$E$3,Worksheet!$D$9,FALSE)))))))))))","v":true},{"$f":"IF(AE53,D53,\"\")","v":"Easy"},{"$f":"IF(AE53,COUNTIF($AF$5:AF53,AF53),\"X\")","v":22},{"$f":"CONCATENATE(AE53,AF53)","v":"TRUEEasy"}]
[{"$f":"CONCATENATE(AE54,D54,AG54)","v":"TRUEMedium17"},{"$f":"RAND()","v":0.57352193686144959},"+-×÷","Medium",73,"Use a written sum to divide: ",{"$f":"RANDBETWEEN(70,500)*6+RANDBETWEEN(1,5)","v":1660},"÷ 6, giving your remainder as a fraction or to 2 decimal place",null,null,null,null,null,null,null,null,null,null,null,{"$f":"CONCATENATE(F54,\" \",G54,\" \",H54,\" \",I54,\" \",J54,\" \",K54,\" \",L54,\" \",M54,\" \",N54,\" \",O54,\" \",P54,\" \",Q54,\" \",R54)","v":"Use a written sum to divide:  1660 ÷ 6, giving your remainder as a fraction or to 2 decimal place          "},{"$f":"TEXT(G54/6,\"#.00\")","v":"276.67"}," or ",{"$f":"TEXT(G54/6,\"### #/#\")","v":"276 2/3"},null,null,null,null,null,{"$f":"IF(ISERROR(T54),NA(),\"\")","v":""},{"$f":"IF(OR(ISNA(U54),ISNA(V54),ISNA(W54),ISNA(X54),ISNA(Y54),ISNA(Z54),ISNA(AA54),ISNA(AB54),ISNA(AC54)),NA(),CONCATENATE(U54,V54,W54,X54,Y54,Z54,AA54,AB54))","v":"276.67 or 276 2/3"},{"$f":"IF(ISNA(AD54),FALSE,IF(C54=$B$1,Worksheet!$B$3,IF(C54=$C$1,Worksheet!$B$4,IF(C54=$D$1,Worksheet!$B$5,IF(C54=$C$2,Worksheet!$D$3,IF(C54=$D$2,Worksheet!$D$4,IF(C54=$E$2,Worksheet!$D$5,IF(C54=$C$3,Worksheet!$D$6,IF(C54=$B$3,Worksheet!$B$6,IF(C54=$D$3,Worksheet!$B$9,IF(C54=$E$3,Worksheet!$D$9,FALSE)))))))))))","v":true},{"$f":"IF(AE54,D54,\"\")","v":"Medium"},{"$f":"IF(AE54,COUNTIF($AF$5:AF54,AF54),\"X\")","v":17},{"$f":"CONCATENATE(AE54,AF54)","v":"TRUEMedium"}]
[{"$f":"CONCATENATE(AE55,D55,AG55)","v":"TRUEMedium18"},{"$f":"RAND()","v":0.58357629002548161},"Frac","Medium",90,"Write the mixed number",{"$f":"RANDBETWEEN(5,15)","v":5},{"$f":"IF(J55=3,2,IF(J55=4,CHOOSE(RANDBETWEEN(1,2),1,3),IF(J55=5,RANDBETWEEN(1,4),IF(J55=6,CHOOSE(RANDBETWEEN(1,2),1,5),IF(J55=7,RANDBETWEEN(1,6),IF(J55=8,CHOOSE(RANDBETWEEN(1,4),1,3,5,7),IF(J55=9,CHOOSE(RANDBETWEEN(1,5),1,2,4,5,7),CHOOSE(RANDBETWEEN(1,4),1,3,7,9))))))))","v":5},"/",{"$f":"RANDBETWEEN(5,15)","v":9},"as a topheavy fraction",null,null,null,null,null,null,null,null,{"$f":"CONCATENATE(F55,\"   \",G55,\"   \",H55,\"\",I55,\"\",J55,\"   \",K55,\" \",L55,\" \",M55,\" \",N55,\" \",O55,\" \",P55,\" \",Q55,\" \",R55)","v":"Write the mixed number   5   5/9   as a topheavy fraction       "},{"$f":"J55*G55+H55","v":50},"/",{"$f":"J55","v":9},null,null,null,null,null,{"$f":"IF(ISERROR(T55),NA(),\"\")","v":""},{"$f":"IF(OR(ISNA(U55),ISNA(V55),ISNA(W55),ISNA(X55),ISNA(Y55),ISNA(Z55),ISNA(AA55),ISNA(AB55),ISNA(AC55)),NA(),CONCATENATE(U55,V55,W55,X55,Y55,Z55,AA55,AB55))","v":"50/9"},{"$f":"IF(ISNA(AD55),FALSE,IF(C55=$B$1,Worksheet!$B$3,IF(C55=$C$1,Worksheet!$B$4,IF(C55=$D$1,Worksheet!$B$5,IF(C55=$C$2,Worksheet!$D$3,IF(C55=$D$2,Worksheet!$D$4,IF(C55=$E$2,Worksheet!$D$5,IF(C55=$C$3,Worksheet!$D$6,IF(C55=$B$3,Worksheet!$B$6,IF(C55=$D$3,Worksheet!$B$9,IF(C55=$E$3,Worksheet!$D$9,FALSE)))))))))))","v":true},{"$f":"IF(AE55,D55,\"\")","v":"Medium"},{"$f":"IF(AE55,COUNTIF($AF$5:AF55,AF55),\"X\")","v":18},{"$f":"CONCATENATE(AE55,AF55)","v":"TRUEMedium"}]
[{"$f":"CONCATENATE(AE56,D56,AG56)","v":"TRUEEasy23"},{"$f":"RAND()","v":4.0416765432792157E-2},"Neg","Easy",218,"Take away:   ",{"$f":"RANDBETWEEN(30,60)","v":42},"–",{"$f":"RANDBETWEEN(G56+1,80)","v":64},null,null,null,null,null,null,null,null,null,null,{"$f":"CONCATENATE(F56,\" \",G56,\" \",H56,\" \",I56,\"\",J56,\"\",K56,\" \",L56,\" \",M56,\" \",N56,\" \",O56,\" \",P56,\" \",Q56,\" \",R56)","v":"Take away:    42 – 64       "},{"$f":"G56-I56","v":-22},null,null,null,null,null,null,null,{"$f":"IF(ISERROR(T56),NA(),\"\")","v":""},{"$f":"IF(OR(ISNA(U56),ISNA(V56),ISNA(W56),ISNA(X56),ISNA(Y56),ISNA(Z56),ISNA(AA56),ISNA(AB56),ISNA(AC56)),NA(),CONCATENATE(U56,V56,W56,X56,Y56,Z56,AA56,AB56))","v":"-22"},{"$f":"IF(ISNA(AD56),FALSE,IF(C56=$B$1,Worksheet!$B$3,IF(C56=$C$1,Worksheet!$B$4,IF(C56=$D$1,Worksheet!$B$5,IF(C56=$C$2,Worksheet!$D$3,IF(C56=$D$2,Worksheet!$D$4,IF(C56=$E$2,Worksheet!$D$5,IF(C56=$C$3,Worksheet!$D$6,IF(C56=$B$3,Worksheet!$B$6,IF(C56=$D$3,Worksheet!$B$9,IF(C56=$E$3,Worksheet!$D$9,FALSE)))))))))))","v":true},{"$f":"IF(AE56,D56,\"\")","v":"Easy"},{"$f":"IF(AE56,COUNTIF($AF$5:AF56,AF56),\"X\")","v":23},{"$f":"CONCATENATE(AE56,AF56)","v":"TRUEEasy"}]
[{"$f":"CONCATENATE(AE57,D57,AG57)","v":"TRUEEasy24"},{"$f":"RAND()","v":0.62331585489685459},"Alg","Easy",332,"Multiply out the bracket:",{"$f":"RANDBETWEEN(2,10)","v":10},"(",{"$f":"CHOOSE(RANDBETWEEN(1,22),\"a\",\"b\",\"c\",\"d\",\"f\",\"g\",\"h\",\"j\",\"k\",\"m\",\"n\",\"p\",\"q\",\"r\",\"s\",\"t\",\"u\",\"v\",\"w\",\"x\",\"y\",\"z\")","v":"q"},"–",{"$f":"RANDBETWEEN(1,10)","v":1},")",null,null,null,null,null,null,null,{"$f":"CONCATENATE(F57,\" \",G57,\" \",H57,\" \",I57,\" \",J57,\" \",K57,\" \",L57,\" \",M57,\" \",N57,\" \",O57,\" \",P57,\" \",Q57,\" \",R57)","v":"Multiply out the bracket: 10 ( q – 1 )      "},{"$f":"CONCATENATE(G57,I57,\" \",J57,\" \",G57*K57)","v":"10q – 10"},null,null,null,null,null,null,null,{"$f":"IF(L57<0,NA(),\"\")","v":""},{"$f":"IF(OR(ISNA(U57),ISNA(V57),ISNA(W57),ISNA(X57),ISNA(Y57),ISNA(Z57),ISNA(AA57),ISNA(AB57),ISNA(AC57)),NA(),CONCATENATE(U57,V57,W57,X57,Y57,Z57,AA57,AB57))","v":"10q – 10"},{"$f":"IF(ISNA(AD57),FALSE,IF(C57=$B$1,Worksheet!$B$3,IF(C57=$C$1,Worksheet!$B$4,IF(C57=$D$1,Worksheet!$B$5,IF(C57=$C$2,Worksheet!$D$3,IF(C57=$D$2,Worksheet!$D$4,IF(C57=$E$2,Worksheet!$D$5,IF(C57=$C$3,Worksheet!$D$6,IF(C57=$B$3,Worksheet!$B$6,IF(C57=$D$3,Worksheet!$B$9,IF(C57=$E$3,Worksheet!$D$9,FALSE)))))))))))","v":true},{"$f":"IF(AE57,D57,\"\")","v":"Easy"},{"$f":"IF(AE57,COUNTIF($AF$5:AF57,AF57),\"X\")","v":24},{"$f":"CONCATENATE(AE57,AF57)","v":"TRUEEasy"}]
[{"$f":"CONCATENATE(AE58,D58,AG58)","v":"TRUEMedium19"},{"$f":"RAND()","v":0.75239668103267965},"Round","Medium",182,"Round the number",{"$f":"TEXT(S58,\"###,###\")","v":"13,502"},"to one significant figure",null,null,null,null,null,null,null,null,null,null,{"$f":"RANDBETWEEN(10000,99999)","v":13502},{"$f":"CONCATENATE(F58,\" \",G58,\" \",H58,\" \",I58,\" \",J58,\" \",K58,\" \",L58,\" \",M58,\" \",N58,\" \",O58,\" \",P58,\" \",Q58,\" \",R58)","v":"Round the number 13,502 to one significant figure          "},{"$f":"TEXT(MROUND(S58,10000),\"###,###\")","v":"10,000"},null,null,null,null,null,null,null,{"$f":"IF(ISERROR(T58),NA(),\"\")","v":""},{"$f":"IF(OR(ISNA(U58),ISNA(V58),ISNA(W58),ISNA(X58),ISNA(Y58),ISNA(Z58),ISNA(AA58),ISNA(AB58),ISNA(AC58)),NA(),CONCATENATE(U58,V58,W58,X58,Y58,Z58,AA58,AB58))","v":"10,000"},{"$f":"IF(ISNA(AD58),FALSE,IF(C58=$B$1,Worksheet!$B$3,IF(C58=$C$1,Worksheet!$B$4,IF(C58=$D$1,Worksheet!$B$5,IF(C58=$C$2,Worksheet!$D$3,IF(C58=$D$2,Worksheet!$D$4,IF(C58=$E$2,Worksheet!$D$5,IF(C58=$C$3,Worksheet!$D$6,IF(C58=$B$3,Worksheet!$B$6,IF(C58=$D$3,Worksheet!$B$9,IF(C58=$E$3,Worksheet!$D$9,FALSE)))))))))))","v":true},{"$f":"IF(AE58,D58,\"\")","v":"Medium"},{"$f":"IF(AE58,COUNTIF($AF$5:AF58,AF58),\"X\")","v":19},{"$f":"CONCATENATE(AE58,AF58)","v":"TRUEMedium"}]
[{"$f":"CONCATENATE(AE59,D59,AG59)","v":"TRUEEasy25"},{"$f":"RAND()","v":0.49668199304075622},"Neg","Easy",27,"Work out the value of:","(",{"$f":"RANDBETWEEN(1,J59-1)","v":4},{"$f":"CHOOSE(RANDBETWEEN(1,2),\"+\",\"–\")","v":"+"},{"$f":"RANDBETWEEN(5,10)","v":7},") × (",{"$f":"RANDBETWEEN(1,N59-1)","v":6},{"$f":"IF(I59=\"+\",\"–\",CHOOSE(RANDBETWEEN(1,2),\"+\",\"–\"))","v":"–"},{"$f":"RANDBETWEEN(5,10)","v":7},")",null,null,null,null,{"$f":"CONCATENATE(F59,\" \",G59,\" \",H59,\" \",I59,\" \",J59,\" \",K59,\" \",L59,\" \",M59,\" \",N59,\" \",O59,\" \",P59,\" \",Q59,\" \",R59)","v":"Work out the value of: ( 4 + 7 ) × ( 6 – 7 )   "},{"$f":"(IF(I59=\"+\",H59+J59,H59-J59)*IF(M59=\"+\",L59+N59,L59-N59))","v":-11},null,null,null,null,null,null,null,{"$f":"IF(ISERROR(T59),NA(),\"\")","v":""},{"$f":"IF(OR(ISNA(U59),ISNA(V59),ISNA(W59),ISNA(X59),ISNA(Y59),ISNA(Z59),ISNA(AA59),ISNA(AB59),ISNA(AC59)),NA(),CONCATENATE(U59,V59,W59,X59,Y59,Z59,AA59,AB59))","v":"-11"},{"$f":"IF(ISNA(AD59),FALSE,IF(C59=$B$1,Worksheet!$B$3,IF(C59=$C$1,Worksheet!$B$4,IF(C59=$D$1,Worksheet!$B$5,IF(C59=$C$2,Worksheet!$D$3,IF(C59=$D$2,Worksheet!$D$4,IF(C59=$E$2,Worksheet!$D$5,IF(C59=$C$3,Worksheet!$D$6,IF(C59=$B$3,Worksheet!$B$6,IF(C59=$D$3,Worksheet!$B$9,IF(C59=$E$3,Worksheet!$D$9,FALSE)))))))))))","v":true},{"$f":"IF(AE59,D59,\"\")","v":"Easy"},{"$f":"IF(AE59,COUNTIF($AF$5:AF59,AF59),\"X\")","v":25},{"$f":"CONCATENATE(AE59,AF59)","v":"TRUEEasy"}]
[{"$f":"CONCATENATE(AE60,D60,AG60)","v":"TRUEMedium20"},{"$f":"RAND()","v":0.22858277029595719},"Alg","Medium",305,"Algebra.  If ",{"$f":"CHOOSE(RANDBETWEEN(1,22),\"a\",\"b\",\"c\",\"d\",\"f\",\"g\",\"h\",\"j\",\"k\",\"m\",\"n\",\"p\",\"q\",\"r\",\"s\",\"t\",\"u\",\"v\",\"w\",\"x\",\"y\",\"z\")","v":"b"},"=",{"$f":"RANDBETWEEN(-10,-1)","v":-9},", what is the value of:    ",{"$f":"RANDBETWEEN(4,10)*10","v":70},"–",{"$f":"RANDBETWEEN(2,10)","v":7},{"$f":"G60","v":"b"},"?",null,null,null,null,{"$f":"CONCATENATE(F60,\" \",G60,\" \",H60,\" \",I60,\" \",J60,\" \",K60,\" \",L60,\" \",M60,\"\",N60,\" \",O60,\" \",P60,\" \",Q60,\" \",R60)","v":"Algebra.  If  b = -9 , what is the value of:     70 – 7b ?   "},{"$f":"K60-M60*I60","v":133},null,null,null,null,null,null,null,{"$f":"IF(ISERROR(T60),NA(),\"\")","v":""},{"$f":"IF(OR(ISNA(U60),ISNA(V60),ISNA(W60),ISNA(X60),ISNA(Y60),ISNA(Z60),ISNA(AA60),ISNA(AB60),ISNA(AC60)),NA(),CONCATENATE(U60,V60,W60,X60,Y60,Z60,AA60,AB60))","v":"133"},{"$f":"IF(ISNA(AD60),FALSE,IF(C60=$B$1,Worksheet!$B$3,IF(C60=$C$1,Worksheet!$B$4,IF(C60=$D$1,Worksheet!$B$5,IF(C60=$C$2,Worksheet!$D$3,IF(C60=$D$2,Worksheet!$D$4,IF(C60=$E$2,Worksheet!$D$5,IF(C60=$C$3,Worksheet!$D$6,IF(C60=$B$3,Worksheet!$B$6,IF(C60=$D$3,Worksheet!$B$9,IF(C60=$E$3,Worksheet!$D$9,FALSE)))))))))))","v":true},{"$f":"IF(AE60,D60,\"\")","v":"Medium"},{"$f":"IF(AE60,COUNTIF($AF$5:AF60,AF60),\"X\")","v":20},{"$f":"CONCATENATE(AE60,AF60)","v":"TRUEMedium"}]
[{"$f":"CONCATENATE(AE61,D61,AG61)","v":"TRUEMedium21"},{"$f":"RAND()","v":0.57721393610738647},"Alg","Medium",340,"Factorise:    ",{"$f":"S61*RANDBETWEEN(1,10)","v":3},{"$f":"CHOOSE(RANDBETWEEN(1,22),\"a\",\"b\",\"c\",\"d\",\"f\",\"g\",\"h\",\"j\",\"k\",\"m\",\"n\",\"p\",\"q\",\"r\",\"s\",\"t\",\"u\",\"v\",\"w\",\"x\",\"y\",\"z\")","v":"p"},"+",{"$f":"S61*RANDBETWEEN(2,10)","v":27},null,null,null,null,null,null,null,null,{"$f":"RANDBETWEEN(2,5)","v":3},{"$f":"CONCATENATE(F61,\" \",G61,\"\",H61,\" \",I61,\" \",J61,\" \",K61,\" \",L61,\" \",M61,\" \",N61,\" \",O61,\" \",P61,\" \",Q61,\" \",R61)","v":"Factorise:     3p + 27        "},{"$f":"AC61","v":3},"(",{"$f":"IF(G61/AC61=1,\"\",G61/AC61)","v":""},{"$f":"H61","v":"p"},{"$f":"I61","v":"+"},{"$f":"J61/AC61","v":9},")",null,{"$f":"GCD(G61,J61)","v":3},{"$f":"IF(OR(ISNA(U61),ISNA(V61),ISNA(W61),ISNA(X61),ISNA(Y61),ISNA(Z61),ISNA(AA61),ISNA(AB61),ISNA(AC61)),NA(),CONCATENATE(U61,V61,W61,X61,Y61,Z61,AA61,AB61))","v":"3(p+9)"},{"$f":"IF(ISNA(AD61),FALSE,IF(C61=$B$1,Worksheet!$B$3,IF(C61=$C$1,Worksheet!$B$4,IF(C61=$D$1,Worksheet!$B$5,IF(C61=$C$2,Worksheet!$D$3,IF(C61=$D$2,Worksheet!$D$4,IF(C61=$E$2,Worksheet!$D$5,IF(C61=$C$3,Worksheet!$D$6,IF(C61=$B$3,Worksheet!$B$6,IF(C61=$D$3,Worksheet!$B$9,IF(C61=$E$3,Worksheet!$D$9,FALSE)))))))))))","v":true},{"$f":"IF(AE61,D61,\"\")","v":"Medium"},{"$f":"IF(AE61,COUNTIF($AF$5:AF61,AF61),\"X\")","v":21},{"$f":"CONCATENATE(AE61,AF61)","v":"TRUEMedium"}]
[{"$f":"CONCATENATE(AE62,D62,AG62)","v":"TRUEEasy26"},{"$f":"RAND()","v":0.15312996705080817},"%","Easy",263,{"$f":"CONCATENATE(CHOOSE(RANDBETWEEN(1,10),\"Jemma\",\"Cameron\",\"Stephen\",\"Matthew\",\"Charlie\",\"Liam\",\"Megan\",\"Elliot\",\"John\",\"Chelsea\"),\" gets a mark of \")","v":"Matthew gets a mark of "},{"$f":"RANDBETWEEN(1,I62-1)","v":36},"/",{"$f":"CHOOSE(RANDBETWEEN(1,3),20,25,50)","v":50},"on a",{"$f":"CHOOSE(RANDBETWEEN(1,4),\"spelling\",\"geography\",\"french\",\"science\")","v":"geography"},"test.  What percentage is this?",null,null,null,null,null,null,null,{"$f":"CONCATENATE(F62,\"\",G62,\"\",H62,\"\",I62,\" \",J62,\" \",K62,\" \",L62,\" \",M62,\" \",N62,\" \",O62,\" \",P62,\" \",Q62,\" \",R62)","v":"Matthew gets a mark of 36/50 on a geography test.  What percentage is this?      "},{"$f":"G62/I62*100","v":72},"%",null,null,{"$f":"IF(U62=50,NA(),\"\")","v":""},null,null,null,{"$f":"IF(ISERROR(T62),NA(),\"\")","v":""},{"$f":"IF(OR(ISNA(U62),ISNA(V62),ISNA(W62),ISNA(X62),ISNA(Y62),ISNA(Z62),ISNA(AA62),ISNA(AB62),ISNA(AC62)),NA(),CONCATENATE(U62,V62,W62,X62,Y62,Z62,AA62,AB62))","v":"72%"},{"$f":"IF(ISNA(AD62),FALSE,IF(C62=$B$1,Worksheet!$B$3,IF(C62=$C$1,Worksheet!$B$4,IF(C62=$D$1,Worksheet!$B$5,IF(C62=$C$2,Worksheet!$D$3,IF(C62=$D$2,Worksheet!$D$4,IF(C62=$E$2,Worksheet!$D$5,IF(C62=$C$3,Worksheet!$D$6,IF(C62=$B$3,Worksheet!$B$6,IF(C62=$D$3,Worksheet!$B$9,IF(C62=$E$3,Worksheet!$D$9,FALSE)))))))))))","v":true},{"$f":"IF(AE62,D62,\"\")","v":"Easy"},{"$f":"IF(AE62,COUNTIF($AF$5:AF62,AF62),\"X\")","v":26},{"$f":"CONCATENATE(AE62,AF62)","v":"TRUEEasy"}]
[{"$f":"CONCATENATE(AE63,D63,AG63)","v":"TRUEEasy27"},{"$f":"RAND()","v":2.9351657588520985E-2},"Dec","Easy",159,"What is one eighth (1/8) as a decimal?",null,null,null,null,null,null,null,null,null,null,null,null,null,{"$f":"CONCATENATE(F63,\" \",G63,\" \",H63,\" \",I63,\" \",J63,\" \",K63,\" \",L63,\" \",M63,\" \",N63,\" \",O63,\" \",P63,\" \",Q63,\" \",R63)","v":"What is one eighth (1/8) as a decimal?            "},0.125,null,null,null,null,null,null,null,{"$f":"IF(ISERROR(T63),NA(),\"\")","v":""},{"$f":"IF(OR(ISNA(U63),ISNA(V63),ISNA(W63),ISNA(X63),ISNA(Y63),ISNA(Z63),ISNA(AA63),ISNA(AB63),ISNA(AC63)),NA(),CONCATENATE(U63,V63,W63,X63,Y63,Z63,AA63,AB63))","v":"0.125"},{"$f":"IF(ISNA(AD63),FALSE,IF(C63=$B$1,Worksheet!$B$3,IF(C63=$C$1,Worksheet!$B$4,IF(C63=$D$1,Worksheet!$B$5,IF(C63=$C$2,Worksheet!$D$3,IF(C63=$D$2,Worksheet!$D$4,IF(C63=$E$2,Worksheet!$D$5,IF(C63=$C$3,Worksheet!$D$6,IF(C63=$B$3,Worksheet!$B$6,IF(C63=$D$3,Worksheet!$B$9,IF(C63=$E$3,Worksheet!$D$9,FALSE)))))))))))","v":true},{"$f":"IF(AE63,D63,\"\")","v":"Easy"},{"$f":"IF(AE63,COUNTIF($AF$5:AF63,AF63),\"X\")","v":27},{"$f":"CONCATENATE(AE63,AF63)","v":"TRUEEasy"}]
[{"$f":"CONCATENATE(AE64,D64,AG64)","v":"TRUEMedium22"},{"$f":"RAND()","v":0.18479993482427159},"Frac","Medium",77,"Fractions.     Without a calculator, work out:   ",{"$f":"TEXT(R64/S64,\"##/##\")","v":"1/8"},"of",{"$f":"S64*RANDBETWEEN(3,6)","v":48},null,null,null,null,null,null,null,null,{"$f":"RANDBETWEEN(2,S64-1)","v":2},{"$f":"RANDBETWEEN(11,19)","v":16},{"$f":"CONCATENATE(F64,\" \",G64,\" \",H64,\" \",I64,\" \",J64,\" \",K64,\" \",L64,\" \",M64,\" \",N64,\" \",O64,\" \",P64,\" \",Q64)","v":"Fractions.     Without a calculator, work out:    1/8 of 48        "},{"$f":"I64/S64*VALUE(LEFT(G64,SEARCH(\"/\",G64,1)-1))","v":3},null,null,null,null,null,null,null,{"$f":"IF(ISERROR(T64),NA(),\"\")","v":""},{"$f":"IF(OR(ISNA(U64),ISNA(V64),ISNA(W64),ISNA(X64),ISNA(Y64),ISNA(Z64),ISNA(AA64),ISNA(AB64),ISNA(AC64)),NA(),CONCATENATE(U64,V64,W64,X64,Y64,Z64,AA64,AB64))","v":"3"},{"$f":"IF(ISNA(AD64),FALSE,IF(C64=$B$1,Worksheet!$B$3,IF(C64=$C$1,Worksheet!$B$4,IF(C64=$D$1,Worksheet!$B$5,IF(C64=$C$2,Worksheet!$D$3,IF(C64=$D$2,Worksheet!$D$4,IF(C64=$E$2,Worksheet!$D$5,IF(C64=$C$3,Worksheet!$D$6,IF(C64=$B$3,Worksheet!$B$6,IF(C64=$D$3,Worksheet!$B$9,IF(C64=$E$3,Worksheet!$D$9,FALSE)))))))))))","v":true},{"$f":"IF(AE64,D64,\"\")","v":"Medium"},{"$f":"IF(AE64,COUNTIF($AF$5:AF64,AF64),\"X\")","v":22},{"$f":"CONCATENATE(AE64,AF64)","v":"TRUEMedium"}]
[{"$f":"CONCATENATE(AE65,D65,AG65)","v":"TRUEMedium23"},{"$f":"RAND()","v":0.23595613397510751},"Dec","Medium",144,"Write the decimal ",{"$f":"S65/10000","v":0.27760000000000001},"as a fraction",{"$f":"IF(GCD(1000,S65)<>1,\", simplifying your answer\",\"\")","v":", simplifying your answer"},null,null,null,null,null,null,null,null,null,{"$f":"RANDBETWEEN(1,999)*10+RANDBETWEEN(1,9)","v":2776},{"$f":"CONCATENATE(F65,\" \",G65,\" \",H65,\" \",I65,\" \",J65,\" \",K65,\" \",L65,\" \",M65,\" \",N65,\" \",O65,\" \",P65,\" \",Q65,\" \",R65)","v":"Write the decimal  0.2776 as a fraction , simplifying your answer         "},{"$f":"TEXT(S65/10000,\"###/#####\")","v":"347/1250"},null,null,null,null,null,null,null,{"$f":"IF(ISERROR(T65),NA(),\"\")","v":""},{"$f":"IF(OR(ISNA(U65),ISNA(V65),ISNA(W65),ISNA(X65),ISNA(Y65),ISNA(Z65),ISNA(AA65),ISNA(AB65),ISNA(AC65)),NA(),CONCATENATE(U65,V65,W65,X65,Y65,Z65,AA65,AB65))","v":"347/1250"},{"$f":"IF(ISNA(AD65),FALSE,IF(C65=$B$1,Worksheet!$B$3,IF(C65=$C$1,Worksheet!$B$4,IF(C65=$D$1,Worksheet!$B$5,IF(C65=$C$2,Worksheet!$D$3,IF(C65=$D$2,Worksheet!$D$4,IF(C65=$E$2,Worksheet!$D$5,IF(C65=$C$3,Worksheet!$D$6,IF(C65=$B$3,Worksheet!$B$6,IF(C65=$D$3,Worksheet!$B$9,IF(C65=$E$3,Worksheet!$D$9,FALSE)))))))))))","v":true},{"$f":"IF(AE65,D65,\"\")","v":"Medium"},{"$f":"IF(AE65,COUNTIF($AF$5:AF65,AF65),\"X\")","v":23},{"$f":"CONCATENATE(AE65,AF65)","v":"TRUEMedium"}]
[{"$f":"CONCATENATE(AE66,D66,AG66)","v":"TRUEEasy28"},{"$f":"RAND()","v":0.68835360273888158},"Num","Easy",6,"Write down the next two numbers in this increasing pattern:               ",{"$f":"TEXT(RANDBETWEEN(1,99)*10^RANDBETWEEN(6,7)+RANDBETWEEN(0,9)*10^RANDBETWEEN(3,5),\"###,###\")","v":"990,000,000"},"   ,   ",{"$f":"TEXT(G66+$S66,\"###,###,###\")","v":"991,000,000"},"   ,   ",{"$f":"TEXT(I66+$S66,\"###,###,###\")","v":"992,000,000"},"   ,   ",{"$f":"TEXT(K66+$S66,\"###,###,###\")","v":"993,000,000"},"   ,   ","_______________","   ,   ","_______________",null,{"$f":"10^RANDBETWEEN(4,6)","v":1000000},{"$f":"CONCATENATE(F66,\" \",G66,\" \",H66,\" \",I66,\" \",J66,\" \",K66,\" \",L66,\" \",M66,\" \",N66,\" \",O66,\" \",P66,\" \",Q66,\" \",R66)","v":"Write down the next two numbers in this increasing pattern:                990,000,000    ,    991,000,000    ,    992,000,000    ,    993,000,000    ,    _______________    ,    _______________ "},{"$f":"TEXT(M66+S66,\"###,###,###\")","v":"994,000,000"},"    ,    ",{"$f":"TEXT(U66+S66,\"###,###,###\")","v":"995,000,000"},null,null,null,null,null,{"$f":"IF(ISERROR(T66),NA(),\"\")","v":""},{"$f":"IF(OR(ISNA(U66),ISNA(V66),ISNA(W66),ISNA(X66),ISNA(Y66),ISNA(Z66),ISNA(AA66),ISNA(AB66),ISNA(AC66)),NA(),CONCATENATE(U66,V66,W66,X66,Y66,Z66,AA66,AB66))","v":"994,000,000    ,    995,000,000"},{"$f":"IF(ISNA(AD66),FALSE,IF(C66=$B$1,Worksheet!$B$3,IF(C66=$C$1,Worksheet!$B$4,IF(C66=$D$1,Worksheet!$B$5,IF(C66=$C$2,Worksheet!$D$3,IF(C66=$D$2,Worksheet!$D$4,IF(C66=$E$2,Worksheet!$D$5,IF(C66=$C$3,Worksheet!$D$6,IF(C66=$B$3,Worksheet!$B$6,IF(C66=$D$3,Worksheet!$B$9,IF(C66=$E$3,Worksheet!$D$9,FALSE)))))))))))","v":true},{"$f":"IF(AE66,D66,\"\")","v":"Easy"},{"$f":"IF(AE66,COUNTIF($AF$5:AF66,AF66),\"X\")","v":28},{"$f":"CONCATENATE(AE66,AF66)","v":"TRUEEasy"}]
[{"$f":"CONCATENATE(AE67,D67,AG67)","v":"TRUEEasy29"},{"$f":"RAND()","v":0.75132110262915441},"%","Easy",264,"What sum could you type into a calculator to work out",{"$f":"RANDBETWEEN(1,99)","v":33},"%","of","£",{"$f":"RANDBETWEEN(1001,99999)","v":38120},"?     Circle the correct answer: ",{"$f":"CONCATENATE(K67,\" × 100 ÷ \",G67)","v":"38120 × 100 ÷ 33"},{"$f":"CONCATENATE(K67,\" ÷ \",G67)","v":"38120 ÷ 33"},{"$f":"CONCATENATE(K67,\" ÷ 100 × \",G67)","v":"38120 ÷ 100 × 33"},null,null,null,null,{"$f":"CONCATENATE(F67,\" \",G67,\"\",H67,\" \",I67,\" \",J67,\"\",K67,\"\",L67,\"      \",M67,\"       \",N67,\"       \",O67,\" \",P67,\" \",Q67,\" \",R67)","v":"What sum could you type into a calculator to work out 33% of £38120?     Circle the correct answer:       38120 × 100 ÷ 33       38120 ÷ 33       38120 ÷ 100 × 33   "},{"$f":"O67","v":"38120 ÷ 100 × 33"},null,null,null,null,null,null,null,{"$f":"IF(ISERROR(T67),NA(),\"\")","v":""},{"$f":"IF(OR(ISNA(U67),ISNA(V67),ISNA(W67),ISNA(X67),ISNA(Y67),ISNA(Z67),ISNA(AA67),ISNA(AB67),ISNA(AC67)),NA(),CONCATENATE(U67,V67,W67,X67,Y67,Z67,AA67,AB67))","v":"38120 ÷ 100 × 33"},{"$f":"IF(ISNA(AD67),FALSE,IF(C67=$B$1,Worksheet!$B$3,IF(C67=$C$1,Worksheet!$B$4,IF(C67=$D$1,Worksheet!$B$5,IF(C67=$C$2,Worksheet!$D$3,IF(C67=$D$2,Worksheet!$D$4,IF(C67=$E$2,Worksheet!$D$5,IF(C67=$C$3,Worksheet!$D$6,IF(C67=$B$3,Worksheet!$B$6,IF(C67=$D$3,Worksheet!$B$9,IF(C67=$E$3,Worksheet!$D$9,FALSE)))))))))))","v":true},{"$f":"IF(AE67,D67,\"\")","v":"Easy"},{"$f":"IF(AE67,COUNTIF($AF$5:AF67,AF67),\"X\")","v":29},{"$f":"CONCATENATE(AE67,AF67)","v":"TRUEEasy"}]
[{"$f":"CONCATENATE(AE68,D68,AG68)","v":"TRUEMedium24"},{"$f":"RAND()","v":5.0627898663391679E-2},"+-×÷","Medium",149,"Take away by writing down a sum:   ",{"$f":"RANDBETWEEN(1,9)+RANDBETWEEN(1,9)*0.1","v":1.3},"–",{"$f":"RANDBETWEEN(1,FLOOR(G68,1))+RANDBETWEEN(0,9)*0.1+RANDBETWEEN(0,9)*0.01+RANDBETWEEN(1,9)*0.001","v":1.1260000000000001},null,null,null,null,null,null,null,null,null,null,{"$f":"CONCATENATE(F68,\" \",G68,\" \",H68,\" \",I68,\" \",J68,\" \",K68,\" \",L68,\" \",M68,\" \",N68,\" \",O68,\" \",P68,\" \",Q68,\" \",R68)","v":"Take away by writing down a sum:    1.3 – 1.126         "},{"$f":"ROUND(G68-I68,3)","v":0.17399999999999999},{"$f":"IF(U68<0,NA(),\"\")","v":""},null,null,null,null,null,null,{"$f":"IF(ISERROR(T68),NA(),\"\")","v":""},{"$f":"IF(OR(ISNA(U68),ISNA(V68),ISNA(W68),ISNA(X68),ISNA(Y68),ISNA(Z68),ISNA(AA68),ISNA(AB68),ISNA(AC68)),NA(),CONCATENATE(U68,V68,W68,X68,Y68,Z68,AA68,AB68))","v":"0.174"},{"$f":"IF(ISNA(AD68),FALSE,IF(C68=$B$1,Worksheet!$B$3,IF(C68=$C$1,Worksheet!$B$4,IF(C68=$D$1,Worksheet!$B$5,IF(C68=$C$2,Worksheet!$D$3,IF(C68=$D$2,Worksheet!$D$4,IF(C68=$E$2,Worksheet!$D$5,IF(C68=$C$3,Worksheet!$D$6,IF(C68=$B$3,Worksheet!$B$6,IF(C68=$D$3,Worksheet!$B$9,IF(C68=$E$3,Worksheet!$D$9,FALSE)))))))))))","v":true},{"$f":"IF(AE68,D68,\"\")","v":"Medium"},{"$f":"IF(AE68,COUNTIF($AF$5:AF68,AF68),\"X\")","v":24},{"$f":"CONCATENATE(AE68,AF68)","v":"TRUEMedium"}]
[{"$f":"CONCATENATE(AE69,D69,AG69)","v":"TRUEMedium25"},{"$f":"RAND()","v":0.23007130000250653},"%","Medium",271,"Calculate",{"$f":"RANDBETWEEN(1,9)*10+RANDBETWEEN(1,9)","v":87},"%","of","£",{"$f":"1000*RANDBETWEEN(2,9)","v":5000},null,null,null,null,null,null,null,null,{"$f":"CONCATENATE(F69,\" \",G69,\"\",H69,\" \",I69,\" \",J69,\"\",K69,\" \",L69,\" \",M69,\" \",N69,\" \",O69,\" \",P69,\" \",Q69,\" \",R69)","v":"Calculate 87% of £5000       "},"£",{"$f":"K69/100*G69","v":4350},null,null,null,null,null,null,{"$f":"IF(ISERROR(T69),NA(),\"\")","v":""},{"$f":"IF(OR(ISNA(U69),ISNA(V69),ISNA(W69),ISNA(X69),ISNA(Y69),ISNA(Z69),ISNA(AA69),ISNA(AB69),ISNA(AC69)),NA(),CONCATENATE(U69,V69,W69,X69,Y69,Z69,AA69,AB69))","v":"£4350"},{"$f":"IF(ISNA(AD69),FALSE,IF(C69=$B$1,Worksheet!$B$3,IF(C69=$C$1,Worksheet!$B$4,IF(C69=$D$1,Worksheet!$B$5,IF(C69=$C$2,Worksheet!$D$3,IF(C69=$D$2,Worksheet!$D$4,IF(C69=$E$2,Worksheet!$D$5,IF(C69=$C$3,Worksheet!$D$6,IF(C69=$B$3,Worksheet!$B$6,IF(C69=$D$3,Worksheet!$B$9,IF(C69=$E$3,Worksheet!$D$9,FALSE)))))))))))","v":true},{"$f":"IF(AE69,D69,\"\")","v":"Medium"},{"$f":"IF(AE69,COUNTIF($AF$5:AF69,AF69),\"X\")","v":25},{"$f":"CONCATENATE(AE69,AF69)","v":"TRUEMedium"}]
[{"$f":"CONCATENATE(AE70,D70,AG70)","v":"TRUEEasy30"},{"$f":"RAND()","v":0.39002460381217186},"Dec","Easy",189,"Change the number ",{"$f":"RANDBETWEEN(1,9)+RANDBETWEEN(1,9)/10","v":2.2999999999999998},"× 10^",{"$f":"RANDBETWEEN(2,6)","v":3},"(10 to the power of",{"$f":"I70","v":3},") from standard form to normal form",null,null,null,null,null,null,null,{"$f":"CONCATENATE(F70,\" \",G70,\" \",H70,\"\",I70,\" \",J70,\" \",K70,\"\",L70,\" \",M70,\" \",N70,\" \",O70,\" \",P70,\" \",Q70,\" \",R70)","v":"Change the number  2.3 × 10^3 (10 to the power of 3) from standard form to normal form      "},{"$f":"G70*10^I70","v":2300},null,null,null,null,null,null,null,{"$f":"IF(ISERROR(T70),NA(),\"\")","v":""},{"$f":"IF(OR(ISNA(U70),ISNA(V70),ISNA(W70),ISNA(X70),ISNA(Y70),ISNA(Z70),ISNA(AA70),ISNA(AB70),ISNA(AC70)),NA(),CONCATENATE(U70,V70,W70,X70,Y70,Z70,AA70,AB70))","v":"2300"},{"$f":"IF(ISNA(AD70),FALSE,IF(C70=$B$1,Worksheet!$B$3,IF(C70=$C$1,Worksheet!$B$4,IF(C70=$D$1,Worksheet!$B$5,IF(C70=$C$2,Worksheet!$D$3,IF(C70=$D$2,Worksheet!$D$4,IF(C70=$E$2,Worksheet!$D$5,IF(C70=$C$3,Worksheet!$D$6,IF(C70=$B$3,Worksheet!$B$6,IF(C70=$D$3,Worksheet!$B$9,IF(C70=$E$3,Worksheet!$D$9,FALSE)))))))))))","v":true},{"$f":"IF(AE70,D70,\"\")","v":"Easy"},{"$f":"IF(AE70,COUNTIF($AF$5:AF70,AF70),\"X\")","v":30},{"$f":"CONCATENATE(AE70,AF70)","v":"TRUEEasy"}]
[{"$f":"CONCATENATE(AE71,D71,AG71)","v":"TRUEEasy31"},{"$f":"RAND()","v":0.95929066266167995},"Num","Easy",4,"Write down the next two numbers in this increasing pattern:               ",{"$f":"TEXT(RANDBETWEEN(1,99)*1000000+RANDBETWEEN(0,99)*1000+RANDBETWEEN(1,999),\"###,###\")","v":"39,044,707"},"   ,   ",{"$f":"TEXT(G71+$S71,\"###,###,###\")","v":"39,054,707"},"   ,   ",{"$f":"TEXT(I71+$S71,\"###,###,###\")","v":"39,064,707"},"   ,   ",{"$f":"TEXT(K71+$S71,\"###,###,###\")","v":"39,074,707"},"   ,   ","_______________","   ,   ","_______________",null,{"$f":"CHOOSE(RANDBETWEEN(1,3),10000,100000,1000000)","v":10000},{"$f":"CONCATENATE(F71,\" \",G71,\" \",H71,\" \",I71,\" \",J71,\" \",K71,\" \",L71,\" \",M71,\" \",N71,\" \",O71,\" \",P71,\" \",Q71,\" \",R71)","v":"Write down the next two numbers in this increasing pattern:                39,044,707    ,    39,054,707    ,    39,064,707    ,    39,074,707    ,    _______________    ,    _______________ "},{"$f":"TEXT(M71+S71,\"###,###,###\")","v":"39,084,707"},"    ,    ",{"$f":"TEXT(U71+S71,\"###,###,###\")","v":"39,094,707"},null,null,null,null,null,{"$f":"IF(ISERROR(T71),NA(),\"\")","v":""},{"$f":"IF(OR(ISNA(U71),ISNA(V71),ISNA(W71),ISNA(X71),ISNA(Y71),ISNA(Z71),ISNA(AA71),ISNA(AB71),ISNA(AC71)),NA(),CONCATENATE(U71,V71,W71,X71,Y71,Z71,AA71,AB71))","v":"39,084,707    ,    39,094,707"},{"$f":"IF(ISNA(AD71),FALSE,IF(C71=$B$1,Worksheet!$B$3,IF(C71=$C$1,Worksheet!$B$4,IF(C71=$D$1,Worksheet!$B$5,IF(C71=$C$2,Worksheet!$D$3,IF(C71=$D$2,Worksheet!$D$4,IF(C71=$E$2,Worksheet!$D$5,IF(C71=$C$3,Worksheet!$D$6,IF(C71=$B$3,Worksheet!$B$6,IF(C71=$D$3,Worksheet!$B$9,IF(C71=$E$3,Worksheet!$D$9,FALSE)))))))))))","v":true},{"$f":"IF(AE71,D71,\"\")","v":"Easy"},{"$f":"IF(AE71,COUNTIF($AF$5:AF71,AF71),\"X\")","v":31},{"$f":"CONCATENATE(AE71,AF71)","v":"TRUEEasy"}]
[{"$f":"CONCATENATE(AE72,D72,AG72)","v":"TRUEHard11"},{"$f":"RAND()","v":0.38867740105489146},"Eqn","Hard",345,"Solve the equation     ",{"$f":"CHOOSE(RANDBETWEEN(1,22),\"a\",\"b\",\"c\",\"d\",\"f\",\"g\",\"h\",\"j\",\"k\",\"m\",\"n\",\"p\",\"q\",\"r\",\"s\",\"t\",\"u\",\"v\",\"w\",\"x\",\"y\",\"z\")","v":"k"},"=",{"$f":"RANDBETWEEN(2,10)^2","v":4},null,null,null,null,null,null,null,null,null,null,{"$f":"CONCATENATE(F72,\" \",G72,\" \",H72,\" \",I72,\" \",J72,\" \",K72,\" \",L72,\" \",M72,\" \",N72,\" \",O72,\" \",P72,\" \",Q72,\" \",R72)","v":"Solve the equation      k = 4         "},{"$f":"G72","v":"k"},"=","±",{"$f":"SQRT(I72)","v":2},null,null,null,null,{"$f":"IF(L72<0,NA(),\"\")","v":""},{"$f":"IF(OR(ISNA(U72),ISNA(V72),ISNA(W72),ISNA(X72),ISNA(Y72),ISNA(Z72),ISNA(AA72),ISNA(AB72),ISNA(AC72)),NA(),CONCATENATE(U72,V72,W72,X72,Y72,Z72,AA72,AB72))","v":"k=±2"},{"$f":"IF(ISNA(AD72),FALSE,IF(C72=$B$1,Worksheet!$B$3,IF(C72=$C$1,Worksheet!$B$4,IF(C72=$D$1,Worksheet!$B$5,IF(C72=$C$2,Worksheet!$D$3,IF(C72=$D$2,Worksheet!$D$4,IF(C72=$E$2,Worksheet!$D$5,IF(C72=$C$3,Worksheet!$D$6,IF(C72=$B$3,Worksheet!$B$6,IF(C72=$D$3,Worksheet!$B$9,IF(C72=$E$3,Worksheet!$D$9,FALSE)))))))))))","v":true},{"$f":"IF(AE72,D72,\"\")","v":"Hard"},{"$f":"IF(AE72,COUNTIF($AF$5:AF72,AF72),\"X\")","v":11},{"$f":"CONCATENATE(AE72,AF72)","v":"TRUEHard"}]
[{"$f":"CONCATENATE(AE73,D73,AG73)","v":"TRUEEasy32"},{"$f":"RAND()","v":0.45831072517797511},"+-×÷","Easy",61,"Work out the value of:","(",{"$f":"RANDBETWEEN(2,5)","v":2},"×",{"$f":"RANDBETWEEN(2,IF(H73=5,4,5))","v":5},")²",null,null,null,null,null,null,null,null,{"$f":"CONCATENATE(F73,\" \",G73,\" \",H73,\" \",I73,\" \",J73,\" \",K73,\" \",L73,\" \",M73,\" \",N73,\" \",O73,\" \",P73,\" \",Q73,\" \",R73)","v":"Work out the value of: ( 2 × 5 )²       "},{"$f":"(H73*J73)^2","v":100},null,null,null,null,null,null,null,{"$f":"IF(ISERROR(T73),NA(),\"\")","v":""},{"$f":"IF(OR(ISNA(U73),ISNA(V73),ISNA(W73),ISNA(X73),ISNA(Y73),ISNA(Z73),ISNA(AA73),ISNA(AB73),ISNA(AC73)),NA(),CONCATENATE(U73,V73,W73,X73,Y73,Z73,AA73,AB73))","v":"100"},{"$f":"IF(ISNA(AD73),FALSE,IF(C73=$B$1,Worksheet!$B$3,IF(C73=$C$1,Worksheet!$B$4,IF(C73=$D$1,Worksheet!$B$5,IF(C73=$C$2,Worksheet!$D$3,IF(C73=$D$2,Worksheet!$D$4,IF(C73=$E$2,Worksheet!$D$5,IF(C73=$C$3,Worksheet!$D$6,IF(C73=$B$3,Worksheet!$B$6,IF(C73=$D$3,Worksheet!$B$9,IF(C73=$E$3,Worksheet!$D$9,FALSE)))))))))))","v":true},{"$f":"IF(AE73,D73,\"\")","v":"Easy"},{"$f":"IF(AE73,COUNTIF($AF$5:AF73,AF73),\"X\")","v":32},{"$f":"CONCATENATE(AE73,AF73)","v":"TRUEEasy"}]
[{"$f":"CONCATENATE(AE74,D74,AG74)","v":"TRUEEasy33"},{"$f":"RAND()","v":0.3943223883186544},"Dec","Easy",157,"Divide:   ",{"$f":"RANDBETWEEN(11,99)","v":56},"÷",10000,null,null,null,null,null,null,null,null,null,null,{"$f":"CONCATENATE(F74,\" \",G74,\" \",H74,\" \",I74,\" \",J74,\" \",K74,\" \",L74,\" \",M74,\" \",N74,\" \",O74,\" \",P74,\" \",Q74,\" \",R74)","v":"Divide:    56 ÷ 10000         "},{"$f":"G74/I74","v":5.5999999999999999E-3},null,null,null,null,null,null,null,{"$f":"IF(ISERROR(T74),NA(),\"\")","v":""},{"$f":"IF(OR(ISNA(U74),ISNA(V74),ISNA(W74),ISNA(X74),ISNA(Y74),ISNA(Z74),ISNA(AA74),ISNA(AB74),ISNA(AC74)),NA(),CONCATENATE(U74,V74,W74,X74,Y74,Z74,AA74,AB74))","v":"0.0056"},{"$f":"IF(ISNA(AD74),FALSE,IF(C74=$B$1,Worksheet!$B$3,IF(C74=$C$1,Worksheet!$B$4,IF(C74=$D$1,Worksheet!$B$5,IF(C74=$C$2,Worksheet!$D$3,IF(C74=$D$2,Worksheet!$D$4,IF(C74=$E$2,Worksheet!$D$5,IF(C74=$C$3,Worksheet!$D$6,IF(C74=$B$3,Worksheet!$B$6,IF(C74=$D$3,Worksheet!$B$9,IF(C74=$E$3,Worksheet!$D$9,FALSE)))))))))))","v":true},{"$f":"IF(AE74,D74,\"\")","v":"Easy"},{"$f":"IF(AE74,COUNTIF($AF$5:AF74,AF74),\"X\")","v":33},{"$f":"CONCATENATE(AE74,AF74)","v":"TRUEEasy"}]
[{"$f":"CONCATENATE(AE75,D75,AG75)","v":"TRUEHard12"},{"$f":"RAND()","v":0.67363297037575276},"Dec","Hard",142,"What number is exactly half way between",{"$f":"RANDBETWEEN(1,9)+RANDBETWEEN(0,9)*0.1+RANDBETWEEN(1,9)*0.01+RANDBETWEEN(1,9)*0.001","v":1.3780000000000001},"and",{"$f":"G75+0.005","v":1.383},"?",null,null,null,null,null,null,null,null,null,{"$f":"CONCATENATE(F75,\" \",G75,\" \",H75,\" \",I75,\"\",J75,\"\",K75,\" \",L75,\" \",M75,\" \",N75,\" \",O75,\" \",P75,\" \",Q75,\" \",R75)","v":"What number is exactly half way between 1.378 and 1.383?       "},{"$f":"G75+0.0025","v":1.3805000000000001},null,null,null,null,null,null,null,{"$f":"IF(ISERROR(T75),NA(),\"\")","v":""},{"$f":"IF(OR(ISNA(U75),ISNA(V75),ISNA(W75),ISNA(X75),ISNA(Y75),ISNA(Z75),ISNA(AA75),ISNA(AB75),ISNA(AC75)),NA(),CONCATENATE(U75,V75,W75,X75,Y75,Z75,AA75,AB75))","v":"1.3805"},{"$f":"IF(ISNA(AD75),FALSE,IF(C75=$B$1,Worksheet!$B$3,IF(C75=$C$1,Worksheet!$B$4,IF(C75=$D$1,Worksheet!$B$5,IF(C75=$C$2,Worksheet!$D$3,IF(C75=$D$2,Worksheet!$D$4,IF(C75=$E$2,Worksheet!$D$5,IF(C75=$C$3,Worksheet!$D$6,IF(C75=$B$3,Worksheet!$B$6,IF(C75=$D$3,Worksheet!$B$9,IF(C75=$E$3,Worksheet!$D$9,FALSE)))))))))))","v":true},{"$f":"IF(AE75,D75,\"\")","v":"Hard"},{"$f":"IF(AE75,COUNTIF($AF$5:AF75,AF75),\"X\")","v":12},{"$f":"CONCATENATE(AE75,AF75)","v":"TRUEHard"}]
[{"$f":"CONCATENATE(AE76,D76,AG76)","v":"TRUEEasy34"},{"$f":"RAND()","v":0.74912897811142654},"+-×÷","Easy",14,"Multiply",{"$f":"RANDBETWEEN(6,9)","v":8}," × ",{"$f":"RANDBETWEEN(6,9)","v":6},null,null,null,null,null,null,null,null,null,null,{"$f":"CONCATENATE(F76,\" \",G76,\" \",H76,\" \",I76,\" \",J76,\" \",K76,\" \",L76,\" \",M76,\" \",N76,\" \",O76,\" \",P76,\" \",Q76,\" \",R76)","v":"Multiply 8  ×  6         "},{"$f":"G76*I76","v":48},null,null,null,null,null,null,null,{"$f":"IF(ISERROR(T76),NA(),\"\")","v":""},{"$f":"IF(OR(ISNA(U76),ISNA(V76),ISNA(W76),ISNA(X76),ISNA(Y76),ISNA(Z76),ISNA(AA76),ISNA(AB76),ISNA(AC76)),NA(),CONCATENATE(U76,V76,W76,X76,Y76,Z76,AA76,AB76))","v":"48"},{"$f":"IF(ISNA(AD76),FALSE,IF(C76=$B$1,Worksheet!$B$3,IF(C76=$C$1,Worksheet!$B$4,IF(C76=$D$1,Worksheet!$B$5,IF(C76=$C$2,Worksheet!$D$3,IF(C76=$D$2,Worksheet!$D$4,IF(C76=$E$2,Worksheet!$D$5,IF(C76=$C$3,Worksheet!$D$6,IF(C76=$B$3,Worksheet!$B$6,IF(C76=$D$3,Worksheet!$B$9,IF(C76=$E$3,Worksheet!$D$9,FALSE)))))))))))","v":true},{"$f":"IF(AE76,D76,\"\")","v":"Easy"},{"$f":"IF(AE76,COUNTIF($AF$5:AF76,AF76),\"X\")","v":34},{"$f":"CONCATENATE(AE76,AF76)","v":"TRUEEasy"}]
[{"$f":"CONCATENATE(AE77,D77,AG77)","v":"TRUEHard13"},{"$f":"RAND()","v":0.40502209933702427},"Neg","Hard",232,"Work out of the value of:   ","(–",{"$f":"RANDBETWEEN(2,10)","v":3},")² –",{"$f":"RANDBETWEEN(H77^2+1,H77^2+20)","v":24},null,null,null,null,null,null,null,null,null,{"$f":"CONCATENATE(F77,\" \",G77,\"\",H77,\"\",I77,\" \",J77,\" \",K77,\" \",L77,\" \",M77,\" \",N77,\" \",O77,\" \",P77,\" \",Q77,\" \",R77)","v":"Work out of the value of:    (–3)² – 24        "},{"$f":"H77^2-J77","v":-15},null,null,null,null,null,null,null,{"$f":"IF(ISERROR(T77),NA(),\"\")","v":""},{"$f":"IF(OR(ISNA(U77),ISNA(V77),ISNA(W77),ISNA(X77),ISNA(Y77),ISNA(Z77),ISNA(AA77),ISNA(AB77),ISNA(AC77)),NA(),CONCATENATE(U77,V77,W77,X77,Y77,Z77,AA77,AB77))","v":"-15"},{"$f":"IF(ISNA(AD77),FALSE,IF(C77=$B$1,Worksheet!$B$3,IF(C77=$C$1,Worksheet!$B$4,IF(C77=$D$1,Worksheet!$B$5,IF(C77=$C$2,Worksheet!$D$3,IF(C77=$D$2,Worksheet!$D$4,IF(C77=$E$2,Worksheet!$D$5,IF(C77=$C$3,Worksheet!$D$6,IF(C77=$B$3,Worksheet!$B$6,IF(C77=$D$3,Worksheet!$B$9,IF(C77=$E$3,Worksheet!$D$9,FALSE)))))))))))","v":true},{"$f":"IF(AE77,D77,\"\")","v":"Hard"},{"$f":"IF(AE77,COUNTIF($AF$5:AF77,AF77),\"X\")","v":13},{"$f":"CONCATENATE(AE77,AF77)","v":"TRUEHard"}]
[{"$f":"CONCATENATE(AE78,D78,AG78)","v":"TRUEMedium26"},{"$f":"RAND()","v":0.9983318059665971},"Round","Medium",178,"Round the number",{"$f":"RANDBETWEEN(100,999)*10+RANDBETWEEN(0,9)","v":6317},"to one significant figure",null,null,null,null,null,null,null,null,null,null,null,{"$f":"CONCATENATE(F78,\" \",G78,\" \",H78,\" \",I78,\" \",J78,\" \",K78,\" \",L78,\" \",M78,\" \",N78,\" \",O78,\" \",P78,\" \",Q78,\" \",R78)","v":"Round the number 6317 to one significant figure          "},{"$f":"MROUND(G78,1000)","v":6000},null,null,null,null,null,null,null,{"$f":"IF(ISERROR(T78),NA(),\"\")","v":""},{"$f":"IF(OR(ISNA(U78),ISNA(V78),ISNA(W78),ISNA(X78),ISNA(Y78),ISNA(Z78),ISNA(AA78),ISNA(AB78),ISNA(AC78)),NA(),CONCATENATE(U78,V78,W78,X78,Y78,Z78,AA78,AB78))","v":"6000"},{"$f":"IF(ISNA(AD78),FALSE,IF(C78=$B$1,Worksheet!$B$3,IF(C78=$C$1,Worksheet!$B$4,IF(C78=$D$1,Worksheet!$B$5,IF(C78=$C$2,Worksheet!$D$3,IF(C78=$D$2,Worksheet!$D$4,IF(C78=$E$2,Worksheet!$D$5,IF(C78=$C$3,Worksheet!$D$6,IF(C78=$B$3,Worksheet!$B$6,IF(C78=$D$3,Worksheet!$B$9,IF(C78=$E$3,Worksheet!$D$9,FALSE)))))))))))","v":true},{"$f":"IF(AE78,D78,\"\")","v":"Medium"},{"$f":"IF(AE78,COUNTIF($AF$5:AF78,AF78),\"X\")","v":26},{"$f":"CONCATENATE(AE78,AF78)","v":"TRUEMedium"}]
[{"$f":"CONCATENATE(AE79,D79,AG79)","v":"TRUEMedium27"},{"$f":"RAND()","v":0.13467859019365747},"Dec","Medium",161,"What is five eighths (5/8) as a decimal?",null,null,null,null,null,null,null,null,null,null,null,null,null,{"$f":"CONCATENATE(F79,\" \",G79,\" \",H79,\" \",I79,\" \",J79,\" \",K79,\" \",L79,\" \",M79,\" \",N79,\" \",O79,\" \",P79,\" \",Q79,\" \",R79)","v":"What is five eighths (5/8) as a decimal?            "},0.625,null,null,null,null,null,null,null,{"$f":"IF(ISERROR(T79),NA(),\"\")","v":""},{"$f":"IF(OR(ISNA(U79),ISNA(V79),ISNA(W79),ISNA(X79),ISNA(Y79),ISNA(Z79),ISNA(AA79),ISNA(AB79),ISNA(AC79)),NA(),CONCATENATE(U79,V79,W79,X79,Y79,Z79,AA79,AB79))","v":"0.625"},{"$f":"IF(ISNA(AD79),FALSE,IF(C79=$B$1,Worksheet!$B$3,IF(C79=$C$1,Worksheet!$B$4,IF(C79=$D$1,Worksheet!$B$5,IF(C79=$C$2,Worksheet!$D$3,IF(C79=$D$2,Worksheet!$D$4,IF(C79=$E$2,Worksheet!$D$5,IF(C79=$C$3,Worksheet!$D$6,IF(C79=$B$3,Worksheet!$B$6,IF(C79=$D$3,Worksheet!$B$9,IF(C79=$E$3,Worksheet!$D$9,FALSE)))))))))))","v":true},{"$f":"IF(AE79,D79,\"\")","v":"Medium"},{"$f":"IF(AE79,COUNTIF($AF$5:AF79,AF79),\"X\")","v":27},{"$f":"CONCATENATE(AE79,AF79)","v":"TRUEMedium"}]
[{"$f":"CONCATENATE(AE80,D80,AG80)","v":"TRUEMedium28"},{"$f":"RAND()","v":0.22438064964917348},"Eqn","Medium",325,"Solve the equation",{"$f":"RANDBETWEEN(2,10)","v":10},{"$f":"CHOOSE(RANDBETWEEN(1,22),\"a\",\"b\",\"c\",\"d\",\"f\",\"g\",\"h\",\"j\",\"k\",\"m\",\"n\",\"p\",\"q\",\"r\",\"s\",\"t\",\"u\",\"v\",\"w\",\"x\",\"y\",\"z\")","v":"c"},"–",{"$f":"RANDBETWEEN(1,10)","v":4},"=",{"$f":"G80*(W80/Y80)-J80","v":23},".      Show your working in full and give your answer as a fraction.",null,null,null,null,null,null,{"$f":"CONCATENATE(F80,\" \",G80,\"\",H80,\" \",I80,\" \",J80,\" \",K80,\" \",L80,\" \",M80,\" \",N80,\" \",O80,\" \",P80,\" \",Q80,\" \",R80)","v":"Solve the equation 10c – 4 = 23 .      Show your working in full and give your answer as a fraction.     "},{"$f":"H80","v":"c"}," = ",{"$f":"AB80*G80+AA80","v":27},"/",{"$f":"G80","v":10},null,{"$f":"RANDBETWEEN(1,G80)","v":7},{"$f":"RANDBETWEEN(1,10)","v":2},{"$f":"IF(L80<0,NA(),\"\")","v":""},{"$f":"IF(OR(ISNA(U80),ISNA(V80),ISNA(W80),ISNA(X80),ISNA(Y80),ISNA(Z80),ISNA(AA80),ISNA(AB80),ISNA(AC80)),NA(),CONCATENATE(U80,V80,W80,X80,Y80,Z80))","v":"c = 27/10"},{"$f":"IF(ISNA(AD80),FALSE,IF(C80=$B$1,Worksheet!$B$3,IF(C80=$C$1,Worksheet!$B$4,IF(C80=$D$1,Worksheet!$B$5,IF(C80=$C$2,Worksheet!$D$3,IF(C80=$D$2,Worksheet!$D$4,IF(C80=$E$2,Worksheet!$D$5,IF(C80=$C$3,Worksheet!$D$6,IF(C80=$B$3,Worksheet!$B$6,IF(C80=$D$3,Worksheet!$B$9,IF(C80=$E$3,Worksheet!$D$9,FALSE)))))))))))","v":true},{"$f":"IF(AE80,D80,\"\")","v":"Medium"},{"$f":"IF(AE80,COUNTIF($AF$5:AF80,AF80),\"X\")","v":28},{"$f":"CONCATENATE(AE80,AF80)","v":"TRUEMedium"}]
[{"$f":"CONCATENATE(AE81,D81,AG81)","v":"TRUEEasy35"},{"$f":"RAND()","v":0.33029488187891998},"%","Easy",289,"What fraction is the same as","66⅔%","?",null,null,null,null,null,null,null,null,null,null,null,{"$f":"CONCATENATE(F81,\" \",G81,\"\",H81,\" \",I81,\" \",J81,\" \",K81,\" \",L81,\" \",M81,\" \",N81,\" \",O81,\" \",P81,\" \",Q81,\" \",R81)","v":"What fraction is the same as 66⅔%?          "},"2/3 (two thirds)",null,null,null,null,null,null,null,{"$f":"IF(ISERROR(T81),NA(),\"\")","v":""},{"$f":"IF(OR(ISNA(U81),ISNA(V81),ISNA(W81),ISNA(X81),ISNA(Y81),ISNA(Z81),ISNA(AA81),ISNA(AB81),ISNA(AC81)),NA(),CONCATENATE(U81,V81,W81,X81,Y81,Z81,AA81,AB81))","v":"2/3 (two thirds)"},{"$f":"IF(ISNA(AD81),FALSE,IF(C81=$B$1,Worksheet!$B$3,IF(C81=$C$1,Worksheet!$B$4,IF(C81=$D$1,Worksheet!$B$5,IF(C81=$C$2,Worksheet!$D$3,IF(C81=$D$2,Worksheet!$D$4,IF(C81=$E$2,Worksheet!$D$5,IF(C81=$C$3,Worksheet!$D$6,IF(C81=$B$3,Worksheet!$B$6,IF(C81=$D$3,Worksheet!$B$9,IF(C81=$E$3,Worksheet!$D$9,FALSE)))))))))))","v":true},{"$f":"IF(AE81,D81,\"\")","v":"Easy"},{"$f":"IF(AE81,COUNTIF($AF$5:AF81,AF81),\"X\")","v":35},{"$f":"CONCATENATE(AE81,AF81)","v":"TRUEEasy"}]
[{"$f":"CONCATENATE(AE82,D82,AG82)","v":"TRUEEasy36"},{"$f":"RAND()","v":0.77829229887650409},"Eqn","Easy",327,"Solve the inequation",{"$f":"RANDBETWEEN(2,10)","v":9},{"$f":"CHOOSE(RANDBETWEEN(1,22),\"a\",\"b\",\"c\",\"d\",\"f\",\"g\",\"h\",\"j\",\"k\",\"m\",\"n\",\"p\",\"q\",\"r\",\"s\",\"t\",\"u\",\"v\",\"w\",\"x\",\"y\",\"z\")","v":"r"},"+",{"$f":"RANDBETWEEN(1,10)","v":6},{"$f":"CHOOSE(RANDBETWEEN(1,4),\"<\",\">\",\"≤\",\"≥\")","v":"≥"},{"$f":"G82*W82+J82","v":24},".      Show your working in full.",null,null,null,null,null,null,{"$f":"CONCATENATE(F82,\" \",G82,\"\",H82,\" \",I82,\" \",J82,\" \",K82,\" \",L82,\" \",M82,\" \",N82,\" \",O82,\" \",P82,\" \",Q82,\" \",R82)","v":"Solve the inequation 9r + 6 ≥ 24 .      Show your working in full.     "},{"$f":"H82","v":"r"},{"$f":"K82","v":"≥"},{"$f":"RANDBETWEEN(2,10)","v":2},null,null,null,null,null,{"$f":"IF(ISERROR(T82),NA(),\"\")","v":""},{"$f":"IF(OR(ISNA(U82),ISNA(V82),ISNA(W82),ISNA(X82),ISNA(Y82),ISNA(Z82),ISNA(AA82),ISNA(AB82),ISNA(AC82)),NA(),CONCATENATE(U82,\" \",V82,\" \",W82,X82,Y82,Z82,AA82,AB82))","v":"r ≥ 2"},{"$f":"IF(ISNA(AD82),FALSE,IF(C82=$B$1,Worksheet!$B$3,IF(C82=$C$1,Worksheet!$B$4,IF(C82=$D$1,Worksheet!$B$5,IF(C82=$C$2,Worksheet!$D$3,IF(C82=$D$2,Worksheet!$D$4,IF(C82=$E$2,Worksheet!$D$5,IF(C82=$C$3,Worksheet!$D$6,IF(C82=$B$3,Worksheet!$B$6,IF(C82=$D$3,Worksheet!$B$9,IF(C82=$E$3,Worksheet!$D$9,FALSE)))))))))))","v":true},{"$f":"IF(AE82,D82,\"\")","v":"Easy"},{"$f":"IF(AE82,COUNTIF($AF$5:AF82,AF82),\"X\")","v":36},{"$f":"CONCATENATE(AE82,AF82)","v":"TRUEEasy"}]
[{"$f":"CONCATENATE(AE83,D83,AG83)","v":"TRUEMedium29"},{"$f":"RAND()","v":0.86311188842160569},"%","Medium",276,"Calculate",{"$f":"RANDBETWEEN(1,9)*10+5","v":65},"%","of","£",{"$f":"1000*RANDBETWEEN(2,9)","v":9000},null,null,null,null,null,null,null,null,{"$f":"CONCATENATE(F83,\" \",G83,\"\",H83,\" \",I83,\" \",J83,\"\",K83,\" \",L83,\" \",M83,\" \",N83,\" \",O83,\" \",P83,\" \",Q83,\" \",R83)","v":"Calculate 65% of £9000       "},"£",{"$f":"K83/100*G83","v":5850},null,null,null,null,null,null,{"$f":"IF(ISERROR(T83),NA(),\"\")","v":""},{"$f":"IF(OR(ISNA(U83),ISNA(V83),ISNA(W83),ISNA(X83),ISNA(Y83),ISNA(Z83),ISNA(AA83),ISNA(AB83),ISNA(AC83)),NA(),CONCATENATE(U83,V83,W83,X83,Y83,Z83,AA83,AB83))","v":"£5850"},{"$f":"IF(ISNA(AD83),FALSE,IF(C83=$B$1,Worksheet!$B$3,IF(C83=$C$1,Worksheet!$B$4,IF(C83=$D$1,Worksheet!$B$5,IF(C83=$C$2,Worksheet!$D$3,IF(C83=$D$2,Worksheet!$D$4,IF(C83=$E$2,Worksheet!$D$5,IF(C83=$C$3,Worksheet!$D$6,IF(C83=$B$3,Worksheet!$B$6,IF(C83=$D$3,Worksheet!$B$9,IF(C83=$E$3,Worksheet!$D$9,FALSE)))))))))))","v":true},{"$f":"IF(AE83,D83,\"\")","v":"Medium"},{"$f":"IF(AE83,COUNTIF($AF$5:AF83,AF83),\"X\")","v":29},{"$f":"CONCATENATE(AE83,AF83)","v":"TRUEMedium"}]
[{"$f":"CONCATENATE(AE84,D84,AG84)","v":"TRUEMedium30"},{"$f":"RAND()","v":0.19353098246122469},"Dec","Medium",147,"Fill in the blank:",{"$f":"RANDBETWEEN(1001,9999)/1000","v":6.2380000000000004},"+","________","=",{"$f":" ROUNDUP(G84,0)+RANDBETWEEN(1,4)","v":10},null,null,null,null,null,null,null,null,{"$f":"CONCATENATE(F84,\" \",G84,\" \",H84,\" \",I84,\" \",J84,\" \",K84,\" \",L84,\" \",M84,\" \",N84,\" \",O84,\" \",P84,\" \",Q84,\" \",R84)","v":"Fill in the blank: 6.238 + ________ = 10       "},{"$f":"ROUND(K84-G84,3)","v":3.762},null,null,null,null,null,null,null,{"$f":"IF(ISERROR(T84),NA(),\"\")","v":""},{"$f":"IF(OR(ISNA(U84),ISNA(V84),ISNA(W84),ISNA(X84),ISNA(Y84),ISNA(Z84),ISNA(AA84),ISNA(AB84),ISNA(AC84)),NA(),CONCATENATE(U84,V84,W84,X84,Y84,Z84,AA84,AB84))","v":"3.762"},{"$f":"IF(ISNA(AD84),FALSE,IF(C84=$B$1,Worksheet!$B$3,IF(C84=$C$1,Worksheet!$B$4,IF(C84=$D$1,Worksheet!$B$5,IF(C84=$C$2,Worksheet!$D$3,IF(C84=$D$2,Worksheet!$D$4,IF(C84=$E$2,Worksheet!$D$5,IF(C84=$C$3,Worksheet!$D$6,IF(C84=$B$3,Worksheet!$B$6,IF(C84=$D$3,Worksheet!$B$9,IF(C84=$E$3,Worksheet!$D$9,FALSE)))))))))))","v":true},{"$f":"IF(AE84,D84,\"\")","v":"Medium"},{"$f":"IF(AE84,COUNTIF($AF$5:AF84,AF84),\"X\")","v":30},{"$f":"CONCATENATE(AE84,AF84)","v":"TRUEMedium"}]
[{"$f":"CONCATENATE(AE85,D85,AG85)","v":"TRUEEasy37"},{"$f":"RAND()","v":0.81182198258230065},"Round","Easy",174,"Round the number",{"$f":"ROUND(RAND()+RANDBETWEEN(11,999),8)","v":38.655849490000001},"to","the nearest penny",null,null,null,null,null,null,null,null,null,null,{"$f":"CONCATENATE(F85,\" \",G85,\" \",H85,\" \",I85,\" \",J85,\" \",K85,\" \",L85,\" \",M85,\" \",N85,\" \",O85,\" \",P85,\" \",Q85,\" \",R85)","v":"Round the number 38.65584949 to the nearest penny         "},"£",{"$f":"TEXT(ROUND(G85,2),\"0.00\")","v":"38.66"},null,null,null,null,null,null,{"$f":"IF(ISERROR(T85),NA(),\"\")","v":""},{"$f":"IF(OR(ISNA(U85),ISNA(V85),ISNA(W85),ISNA(X85),ISNA(Y85),ISNA(Z85),ISNA(AA85),ISNA(AB85),ISNA(AC85)),NA(),CONCATENATE(U85,V85,W85,X85,Y85,Z85,AA85,AB85))","v":"£38.66"},{"$f":"IF(ISNA(AD85),FALSE,IF(C85=$B$1,Worksheet!$B$3,IF(C85=$C$1,Worksheet!$B$4,IF(C85=$D$1,Worksheet!$B$5,IF(C85=$C$2,Worksheet!$D$3,IF(C85=$D$2,Worksheet!$D$4,IF(C85=$E$2,Worksheet!$D$5,IF(C85=$C$3,Worksheet!$D$6,IF(C85=$B$3,Worksheet!$B$6,IF(C85=$D$3,Worksheet!$B$9,IF(C85=$E$3,Worksheet!$D$9,FALSE)))))))))))","v":true},{"$f":"IF(AE85,D85,\"\")","v":"Easy"},{"$f":"IF(AE85,COUNTIF($AF$5:AF85,AF85),\"X\")","v":37},{"$f":"CONCATENATE(AE85,AF85)","v":"TRUEEasy"}]
[{"$f":"CONCATENATE(AE86,D86,AG86)","v":"TRUEEasy38"},{"$f":"RAND()","v":0.39236782567644335},"%","Easy",261,"Change the fraction",{"$f":"RANDBETWEEN(1,I86-1)","v":6},"/",{"$f":"CHOOSE(RANDBETWEEN(1,3),20,25,50)","v":25},"into a percentage",null,null,null,null,null,null,null,null,null,{"$f":"CONCATENATE(F86,\" \",G86,\"\",H86,\"\",I86,\" \",J86,\" \",K86,\" \",L86,\" \",M86,\" \",N86,\" \",O86,\" \",P86,\" \",Q86,\" \",R86)","v":"Change the fraction 6/25 into a percentage        "},{"$f":"G86/I86*100","v":24},"%",null,null,null,null,null,null,{"$f":"IF(ISERROR(T86),NA(),\"\")","v":""},{"$f":"IF(OR(ISNA(U86),ISNA(V86),ISNA(W86),ISNA(X86),ISNA(Y86),ISNA(Z86),ISNA(AA86),ISNA(AB86),ISNA(AC86)),NA(),CONCATENATE(U86,V86,W86,X86,Y86,Z86,AA86,AB86))","v":"24%"},{"$f":"IF(ISNA(AD86),FALSE,IF(C86=$B$1,Worksheet!$B$3,IF(C86=$C$1,Worksheet!$B$4,IF(C86=$D$1,Worksheet!$B$5,IF(C86=$C$2,Worksheet!$D$3,IF(C86=$D$2,Worksheet!$D$4,IF(C86=$E$2,Worksheet!$D$5,IF(C86=$C$3,Worksheet!$D$6,IF(C86=$B$3,Worksheet!$B$6,IF(C86=$D$3,Worksheet!$B$9,IF(C86=$E$3,Worksheet!$D$9,FALSE)))))))))))","v":true},{"$f":"IF(AE86,D86,\"\")","v":"Easy"},{"$f":"IF(AE86,COUNTIF($AF$5:AF86,AF86),\"X\")","v":38},{"$f":"CONCATENATE(AE86,AF86)","v":"TRUEEasy"}]
[{"$f":"CONCATENATE(AE87,D87,AG87)","v":"TRUEMedium31"},{"$f":"RAND()","v":0.2263151418482332},"Eqn","Medium",342,"Change the subject of the formula",{"$f":"CHOOSE(RANDBETWEEN(1,22),\"a\",\"b\",\"c\",\"d\",\"f\",\"g\",\"h\",\"j\",\"k\",\"m\",\"n\",\"p\",\"q\",\"r\",\"s\",\"t\",\"u\",\"v\",\"w\",\"x\",\"y\",\"z\")","v":"a"},"=",{"$f":"RANDBETWEEN(2,10)","v":3},{"$f":"CHOOSE(RANDBETWEEN(1,22),\"a\",\"b\",\"c\",\"d\",\"f\",\"g\",\"h\",\"j\",\"k\",\"m\",\"n\",\"p\",\"q\",\"r\",\"s\",\"t\",\"u\",\"v\",\"w\",\"x\",\"y\",\"z\")","v":"g"},"to",{"$f":"J87","v":"g"},null,null,null,null,null,null,null,{"$f":"CONCATENATE(F87,\" \",G87,\"\",H87,\"\",I87,\"\",J87,\" \",K87,\" \",L87,\" \",M87,\" \",N87,\" \",O87,\" \",P87,\" \",Q87,\" \",R87)","v":"Change the subject of the formula a=3g to g      "},{"$f":"IF(G87=J87,NA(),\"\")","v":""},{"$f":"L87","v":"g"},"=",{"$f":"G87","v":"a"},"/",{"$f":"I87","v":3},null,null,{"$f":"IF(L87<0,NA(),\"\")","v":""},{"$f":"IF(OR(ISNA(U87),ISNA(V87),ISNA(W87),ISNA(X87),ISNA(Y87),ISNA(Z87),ISNA(AA87),ISNA(AB87),ISNA(AC87)),NA(),CONCATENATE(U87,V87,W87,X87,Y87,Z87,AA87,AB87))","v":"g=a/3"},{"$f":"IF(ISNA(AD87),FALSE,IF(C87=$B$1,Worksheet!$B$3,IF(C87=$C$1,Worksheet!$B$4,IF(C87=$D$1,Worksheet!$B$5,IF(C87=$C$2,Worksheet!$D$3,IF(C87=$D$2,Worksheet!$D$4,IF(C87=$E$2,Worksheet!$D$5,IF(C87=$C$3,Worksheet!$D$6,IF(C87=$B$3,Worksheet!$B$6,IF(C87=$D$3,Worksheet!$B$9,IF(C87=$E$3,Worksheet!$D$9,FALSE)))))))))))","v":true},{"$f":"IF(AE87,D87,\"\")","v":"Medium"},{"$f":"IF(AE87,COUNTIF($AF$5:AF87,AF87),\"X\")","v":31},{"$f":"CONCATENATE(AE87,AF87)","v":"TRUEMedium"}]
[{"$f":"CONCATENATE(AE88,D88,AG88)","v":"TRUEMedium32"},{"$f":"RAND()","v":0.78542441738185187},"Dec","Medium",252,"Multiply:   ",{"$f":"10^RANDBETWEEN(-2,-1)*RANDBETWEEN(2,9)","v":0.05},"×",{"$f":"RANDBETWEEN(10,99)*100","v":8400},null,null,null,null,null,null,null,null,null,null,{"$f":"CONCATENATE(F88,\" \",G88,\" \",H88,\" \",I88,\" \",J88,\" \",K88,\" \",L88,\" \",M88,\" \",N88,\" \",O88,\" \",P88,\" \",Q88,\" \",R88)","v":"Multiply:    0.05 × 8400         "},{"$f":"G88*I88","v":420},null,null,null,null,null,null,null,{"$f":"IF(ISERROR(T88),NA(),\"\")","v":""},{"$f":"IF(OR(ISNA(U88),ISNA(V88),ISNA(W88),ISNA(X88),ISNA(Y88),ISNA(Z88),ISNA(AA88),ISNA(AB88),ISNA(AC88)),NA(),CONCATENATE(U88,V88,W88,X88,Y88,Z88,AA88,AB88))","v":"420"},{"$f":"IF(ISNA(AD88),FALSE,IF(C88=$B$1,Worksheet!$B$3,IF(C88=$C$1,Worksheet!$B$4,IF(C88=$D$1,Worksheet!$B$5,IF(C88=$C$2,Worksheet!$D$3,IF(C88=$D$2,Worksheet!$D$4,IF(C88=$E$2,Worksheet!$D$5,IF(C88=$C$3,Worksheet!$D$6,IF(C88=$B$3,Worksheet!$B$6,IF(C88=$D$3,Worksheet!$B$9,IF(C88=$E$3,Worksheet!$D$9,FALSE)))))))))))","v":true},{"$f":"IF(AE88,D88,\"\")","v":"Medium"},{"$f":"IF(AE88,COUNTIF($AF$5:AF88,AF88),\"X\")","v":32},{"$f":"CONCATENATE(AE88,AF88)","v":"TRUEMedium"}]
[{"$f":"CONCATENATE(AE89,D89,AG89)","v":"TRUEHard14"},{"$f":"RAND()","v":0.48917490038758049},"Surds","Hard",48,"Simplify      ",{"$f":"RANDBETWEEN(2,5)","v":3},"√",{"$f":"CHOOSE(RANDBETWEEN(1,4),2,3,5,7)","v":5},"×",{"$f":"RANDBETWEEN(2,5)","v":4},"√",{"$f":"I89","v":5},null,null,null,null,null,null,{"$f":"CONCATENATE(F89,\"\",G89,\"\",H89,\"\",I89,\" \",J89,\" \",K89,\"\",L89,\"\",M89,\" \",N89,\" \",O89,\" \",P89,\" \",Q89,\" \",R89)","v":"Simplify      3√5 × 4√5     "},{"$f":"M89*K89*G89","v":60},null,null,null,null,null,null,null,{"$f":"IF(ISERROR(T89),NA(),\"\")","v":""},{"$f":"IF(OR(ISNA(U89),ISNA(V89),ISNA(W89),ISNA(X89),ISNA(Y89),ISNA(Z89),ISNA(AA89),ISNA(AB89),ISNA(AC89)),NA(),CONCATENATE(U89,V89,W89,X89,Y89,Z89,AA89,AB89))","v":"60"},{"$f":"IF(ISNA(AD89),FALSE,IF(C89=$B$1,Worksheet!$B$3,IF(C89=$C$1,Worksheet!$B$4,IF(C89=$D$1,Worksheet!$B$5,IF(C89=$C$2,Worksheet!$D$3,IF(C89=$D$2,Worksheet!$D$4,IF(C89=$E$2,Worksheet!$D$5,IF(C89=$C$3,Worksheet!$D$6,IF(C89=$B$3,Worksheet!$B$6,IF(C89=$D$3,Worksheet!$B$9,IF(C89=$E$3,Worksheet!$D$9,FALSE)))))))))))","v":true},{"$f":"IF(AE89,D89,\"\")","v":"Hard"},{"$f":"IF(AE89,COUNTIF($AF$5:AF89,AF89),\"X\")","v":14},{"$f":"CONCATENATE(AE89,AF89)","v":"TRUEHard"}]
[{"$f":"CONCATENATE(AE90,D90,AG90)","v":"TRUEMedium33"},{"$f":"RAND()","v":0.49904793784645163},"Neg","Medium",223,"Take away:   ","(–",{"$f":"RANDBETWEEN(1,10)","v":5},") – (–",{"$f":"RANDBETWEEN(1,9)","v":8},")",null,null,null,null,null,null,null,null,{"$f":"CONCATENATE(F90,\" \",G90,\"\",H90,\"\",I90,\"\",J90,\"\",K90,\" \",L90,\" \",M90,\" \",N90,\" \",O90,\" \",P90,\" \",Q90,\" \",R90)","v":"Take away:    (–5) – (–8)       "},{"$f":"-1*H90+J90","v":3},null,null,null,null,null,null,null,{"$f":"IF(ISERROR(T90),NA(),\"\")","v":""},{"$f":"IF(OR(ISNA(U90),ISNA(V90),ISNA(W90),ISNA(X90),ISNA(Y90),ISNA(Z90),ISNA(AA90),ISNA(AB90),ISNA(AC90)),NA(),CONCATENATE(U90,V90,W90,X90,Y90,Z90,AA90,AB90))","v":"3"},{"$f":"IF(ISNA(AD90),FALSE,IF(C90=$B$1,Worksheet!$B$3,IF(C90=$C$1,Worksheet!$B$4,IF(C90=$D$1,Worksheet!$B$5,IF(C90=$C$2,Worksheet!$D$3,IF(C90=$D$2,Worksheet!$D$4,IF(C90=$E$2,Worksheet!$D$5,IF(C90=$C$3,Worksheet!$D$6,IF(C90=$B$3,Worksheet!$B$6,IF(C90=$D$3,Worksheet!$B$9,IF(C90=$E$3,Worksheet!$D$9,FALSE)))))))))))","v":true},{"$f":"IF(AE90,D90,\"\")","v":"Medium"},{"$f":"IF(AE90,COUNTIF($AF$5:AF90,AF90),\"X\")","v":33},{"$f":"CONCATENATE(AE90,AF90)","v":"TRUEMedium"}]
[{"$f":"CONCATENATE(AE91,D91,AG91)","v":"TRUEMedium34"},{"$f":"RAND()","v":0.68835136026254429},"Dec","Medium",193,"Change the number ",{"$f":"RANDBETWEEN(1,9)+RANDBETWEEN(1,999)/1000","v":7.8529999999999998},"× 10^",{"$f":"RANDBETWEEN(2,6)","v":6},"(10 to the power of",{"$f":"I91","v":6},") from standard form to normal form",null,null,null,null,null,null,null,{"$f":"CONCATENATE(F91,\" \",G91,\" \",H91,\"\",I91,\" \",J91,\" \",K91,\"\",L91,\" \",M91,\" \",N91,\" \",O91,\" \",P91,\" \",Q91,\" \",R91)","v":"Change the number  7.853 × 10^6 (10 to the power of 6) from standard form to normal form      "},{"$f":"G91*10^I91","v":7853000},null,null,null,null,null,null,null,{"$f":"IF(ISERROR(T91),NA(),\"\")","v":""},{"$f":"IF(OR(ISNA(U91),ISNA(V91),ISNA(W91),ISNA(X91),ISNA(Y91),ISNA(Z91),ISNA(AA91),ISNA(AB91),ISNA(AC91)),NA(),CONCATENATE(U91,V91,W91,X91,Y91,Z91,AA91,AB91))","v":"7853000"},{"$f":"IF(ISNA(AD91),FALSE,IF(C91=$B$1,Worksheet!$B$3,IF(C91=$C$1,Worksheet!$B$4,IF(C91=$D$1,Worksheet!$B$5,IF(C91=$C$2,Worksheet!$D$3,IF(C91=$D$2,Worksheet!$D$4,IF(C91=$E$2,Worksheet!$D$5,IF(C91=$C$3,Worksheet!$D$6,IF(C91=$B$3,Worksheet!$B$6,IF(C91=$D$3,Worksheet!$B$9,IF(C91=$E$3,Worksheet!$D$9,FALSE)))))))))))","v":true},{"$f":"IF(AE91,D91,\"\")","v":"Medium"},{"$f":"IF(AE91,COUNTIF($AF$5:AF91,AF91),\"X\")","v":34},{"$f":"CONCATENATE(AE91,AF91)","v":"TRUEMedium"}]
[{"$f":"CONCATENATE(AE92,D92,AG92)","v":"TRUEMedium35"},{"$f":"RAND()","v":0.33031703085692254},"%","Medium",290,"What fraction is the same as","12½%","?",null,null,null,null,null,null,null,null,null,null,null,{"$f":"CONCATENATE(F92,\" \",G92,\"\",H92,\" \",I92,\" \",J92,\" \",K92,\" \",L92,\" \",M92,\" \",N92,\" \",O92,\" \",P92,\" \",Q92,\" \",R92)","v":"What fraction is the same as 12½%?          "},"1/8 (one eighth)",null,null,null,null,null,null,null,{"$f":"IF(ISERROR(T92),NA(),\"\")","v":""},{"$f":"IF(OR(ISNA(U92),ISNA(V92),ISNA(W92),ISNA(X92),ISNA(Y92),ISNA(Z92),ISNA(AA92),ISNA(AB92),ISNA(AC92)),NA(),CONCATENATE(U92,V92,W92,X92,Y92,Z92,AA92,AB92))","v":"1/8 (one eighth)"},{"$f":"IF(ISNA(AD92),FALSE,IF(C92=$B$1,Worksheet!$B$3,IF(C92=$C$1,Worksheet!$B$4,IF(C92=$D$1,Worksheet!$B$5,IF(C92=$C$2,Worksheet!$D$3,IF(C92=$D$2,Worksheet!$D$4,IF(C92=$E$2,Worksheet!$D$5,IF(C92=$C$3,Worksheet!$D$6,IF(C92=$B$3,Worksheet!$B$6,IF(C92=$D$3,Worksheet!$B$9,IF(C92=$E$3,Worksheet!$D$9,FALSE)))))))))))","v":true},{"$f":"IF(AE92,D92,\"\")","v":"Medium"},{"$f":"IF(AE92,COUNTIF($AF$5:AF92,AF92),\"X\")","v":35},{"$f":"CONCATENATE(AE92,AF92)","v":"TRUEMedium"}]
[{"$f":"CONCATENATE(AE93,D93,AG93)","v":"TRUEEasy39"},{"$f":"RAND()","v":0.71612303492169826},"Neg","Easy",209,"Multiply:   ",{"$f":"RANDBETWEEN(2,10)*10","v":40},"× (–",{"$f":"RANDBETWEEN(2,10)","v":9},")",null,null,null,null,null,null,null,null,null,{"$f":"CONCATENATE(F93,\" \",G93,\" \",H93,\"\",I93,\"\",J93,\" \",K93,\" \",L93,\" \",M93,\" \",N93,\" \",O93,\" \",P93,\" \",Q93,\" \",R93)","v":"Multiply:    40 × (–9)        "},{"$f":"G93*I93","v":360},null,null,null,null,null,null,null,{"$f":"IF(ISERROR(T93),NA(),\"\")","v":""},{"$f":"IF(OR(ISNA(U93),ISNA(V93),ISNA(W93),ISNA(X93),ISNA(Y93),ISNA(Z93),ISNA(AA93),ISNA(AB93),ISNA(AC93)),NA(),CONCATENATE(U93,V93,W93,X93,Y93,Z93,AA93,AB93))","v":"360"},{"$f":"IF(ISNA(AD93),FALSE,IF(C93=$B$1,Worksheet!$B$3,IF(C93=$C$1,Worksheet!$B$4,IF(C93=$D$1,Worksheet!$B$5,IF(C93=$C$2,Worksheet!$D$3,IF(C93=$D$2,Worksheet!$D$4,IF(C93=$E$2,Worksheet!$D$5,IF(C93=$C$3,Worksheet!$D$6,IF(C93=$B$3,Worksheet!$B$6,IF(C93=$D$3,Worksheet!$B$9,IF(C93=$E$3,Worksheet!$D$9,FALSE)))))))))))","v":true},{"$f":"IF(AE93,D93,\"\")","v":"Easy"},{"$f":"IF(AE93,COUNTIF($AF$5:AF93,AF93),\"X\")","v":39},{"$f":"CONCATENATE(AE93,AF93)","v":"TRUEEasy"}]
[{"$f":"CONCATENATE(AE94,D94,AG94)","v":"TRUEEasy40"},{"$f":"RAND()","v":0.5356745275176058},"Alg","Easy",311,"Algebra.  If a =",{"$f":"RANDBETWEEN(1,5)+0.5","v":1.5},"and b =",{"$f":"RANDBETWEEN(1,5)+0.5","v":2.5},", what is the value of:    ",{"$f":"RANDBETWEEN(3,9)","v":3},"a –",{"$f":"RANDBETWEEN(2,10)","v":9},"b ?",null,null,null,null,null,{"$f":"CONCATENATE(F94,\" \",G94,\" \",H94,\" \",I94,\" \",J94,\" \",K94,\"\",L94,\" \",M94,\"\",N94,\" \",O94,\" \",P94,\" \",Q94,\" \",R94)","v":"Algebra.  If a = 1.5 and b = 2.5 , what is the value of:     3a – 9b ?    "},{"$f":"K94*G94-I94*M94","v":-18},null,null,null,null,null,null,null,{"$f":"IF(ISERROR(T94),NA(),\"\")","v":""},{"$f":"IF(OR(ISNA(U94),ISNA(V94),ISNA(W94),ISNA(X94),ISNA(Y94),ISNA(Z94),ISNA(AA94),ISNA(AB94),ISNA(AC94)),NA(),CONCATENATE(U94,V94,W94,X94,Y94,Z94,AA94,AB94))","v":"-18"},{"$f":"IF(ISNA(AD94),FALSE,IF(C94=$B$1,Worksheet!$B$3,IF(C94=$C$1,Worksheet!$B$4,IF(C94=$D$1,Worksheet!$B$5,IF(C94=$C$2,Worksheet!$D$3,IF(C94=$D$2,Worksheet!$D$4,IF(C94=$E$2,Worksheet!$D$5,IF(C94=$C$3,Worksheet!$D$6,IF(C94=$B$3,Worksheet!$B$6,IF(C94=$D$3,Worksheet!$B$9,IF(C94=$E$3,Worksheet!$D$9,FALSE)))))))))))","v":true},{"$f":"IF(AE94,D94,\"\")","v":"Easy"},{"$f":"IF(AE94,COUNTIF($AF$5:AF94,AF94),\"X\")","v":40},{"$f":"CONCATENATE(AE94,AF94)","v":"TRUEEasy"}]
[{"$f":"CONCATENATE(AE95,D95,AG95)","v":"TRUEMedium36"},{"$f":"RAND()","v":0.13580574073920593},"Surds","Medium",41,"What is the cube root of",{"$f":"RANDBETWEEN(1,3)^3","v":27},"?     (   ³√",{"$f":"G95","v":27},"  )",null,null,null,null,null,null,null,null,null,{"$f":"CONCATENATE(F95,\" \",G95,\" \",H95,\"\",I95,\" \",J95,\" \",K95,\" \",L95,\" \",M95,\" \",N95,\" \",O95,\" \",P95,\" \",Q95,\" \",R95)","v":"What is the cube root of 27 ?     (   ³√27   )        "},{"$f":"G95^(1/3)","v":2.9999999999999996},null,null,null,null,null,null,null,{"$f":"IF(ISERROR(T95),NA(),\"\")","v":""},{"$f":"IF(OR(ISNA(U95),ISNA(V95),ISNA(W95),ISNA(X95),ISNA(Y95),ISNA(Z95),ISNA(AA95),ISNA(AB95),ISNA(AC95)),NA(),CONCATENATE(U95,V95,W95,X95,Y95,Z95,AA95,AB95))","v":"3"},{"$f":"IF(ISNA(AD95),FALSE,IF(C95=$B$1,Worksheet!$B$3,IF(C95=$C$1,Worksheet!$B$4,IF(C95=$D$1,Worksheet!$B$5,IF(C95=$C$2,Worksheet!$D$3,IF(C95=$D$2,Worksheet!$D$4,IF(C95=$E$2,Worksheet!$D$5,IF(C95=$C$3,Worksheet!$D$6,IF(C95=$B$3,Worksheet!$B$6,IF(C95=$D$3,Worksheet!$B$9,IF(C95=$E$3,Worksheet!$D$9,FALSE)))))))))))","v":true},{"$f":"IF(AE95,D95,\"\")","v":"Medium"},{"$f":"IF(AE95,COUNTIF($AF$5:AF95,AF95),\"X\")","v":36},{"$f":"CONCATENATE(AE95,AF95)","v":"TRUEMedium"}]
[{"$f":"CONCATENATE(AE96,D96,AG96)","v":"TRUEEasy41"},{"$f":"RAND()","v":0.90491237469718877},"Frac","Easy",81,"Write the fraction ",{"$f":"S96*U96","v":80},"/",{"$f":"S96*W96","v":96},"in its simplest form",null,null,null,null,null,null,null,null,{"$f":"2^RANDBETWEEN(3,5)","v":16},{"$f":"CONCATENATE(F96,\" \",G96,\"\",H96,\"\",I96,\" \",J96,\" \",K96,\" \",L96,\" \",M96,\" \",N96,\" \",O96,\" \",P96,\" \",Q96,\" \",R96)","v":"Write the fraction  80/96 in its simplest form        "},{"$f":"IF(W96=3,2,IF(W96=4,CHOOSE(RANDBETWEEN(1,2),1,3),IF(W96=5,RANDBETWEEN(1,4),IF(W96=6,CHOOSE(RANDBETWEEN(1,2),1,5),IF(W96=7,RANDBETWEEN(1,6),IF(W96=8,CHOOSE(RANDBETWEEN(1,4),1,3,5,7),IF(W96=9,CHOOSE(RANDBETWEEN(1,5),1,2,4,5,7),CHOOSE(RANDBETWEEN(1,4),1,3,7,9))))))))","v":5},"/",{"$f":"RANDBETWEEN(3,10)","v":6},null,null,null,null,null,{"$f":"IF(ISERROR(T96),NA(),\"\")","v":""},{"$f":"IF(OR(ISNA(U96),ISNA(V96),ISNA(W96),ISNA(X96),ISNA(Y96),ISNA(Z96),ISNA(AA96),ISNA(AB96),ISNA(AC96)),NA(),CONCATENATE(U96,V96,W96,X96,Y96,Z96,AA96,AB96))","v":"5/6"},{"$f":"IF(ISNA(AD96),FALSE,IF(C96=$B$1,Worksheet!$B$3,IF(C96=$C$1,Worksheet!$B$4,IF(C96=$D$1,Worksheet!$B$5,IF(C96=$C$2,Worksheet!$D$3,IF(C96=$D$2,Worksheet!$D$4,IF(C96=$E$2,Worksheet!$D$5,IF(C96=$C$3,Worksheet!$D$6,IF(C96=$B$3,Worksheet!$B$6,IF(C96=$D$3,Worksheet!$B$9,IF(C96=$E$3,Worksheet!$D$9,FALSE)))))))))))","v":true},{"$f":"IF(AE96,D96,\"\")","v":"Easy"},{"$f":"IF(AE96,COUNTIF($AF$5:AF96,AF96),\"X\")","v":41},{"$f":"CONCATENATE(AE96,AF96)","v":"TRUEEasy"}]
[{"$f":"CONCATENATE(AE97,D97,AG97)","v":"TRUEHard15"},{"$f":"RAND()","v":0.28423282282003104},"%","Hard",283,"Write",{"$f":"RANDBETWEEN(1,9)+RANDBETWEEN(1,9)/10","v":7.3},"%","as a fraction in its simplest form",null,null,null,null,null,null,null,null,null,null,{"$f":"CONCATENATE(F97,\" \",G97,\"\",H97,\" \",I97,\" \",J97,\" \",K97,\" \",L97,\" \",M97,\" \",N97,\" \",O97,\" \",P97,\" \",Q97,\" \",R97)","v":"Write 7.3% as a fraction in its simplest form         "},{"$f":"TEXT(G97/100,\"##/###\")","v":"10/137"},null,null,null,null,null,null,null,{"$f":"IF(ISERROR(T97),NA(),\"\")","v":""},{"$f":"IF(OR(ISNA(U97),ISNA(V97),ISNA(W97),ISNA(X97),ISNA(Y97),ISNA(Z97),ISNA(AA97),ISNA(AB97),ISNA(AC97)),NA(),CONCATENATE(U97,V97,W97,X97,Y97,Z97,AA97,AB97))","v":"10/137"},{"$f":"IF(ISNA(AD97),FALSE,IF(C97=$B$1,Worksheet!$B$3,IF(C97=$C$1,Worksheet!$B$4,IF(C97=$D$1,Worksheet!$B$5,IF(C97=$C$2,Worksheet!$D$3,IF(C97=$D$2,Worksheet!$D$4,IF(C97=$E$2,Worksheet!$D$5,IF(C97=$C$3,Worksheet!$D$6,IF(C97=$B$3,Worksheet!$B$6,IF(C97=$D$3,Worksheet!$B$9,IF(C97=$E$3,Worksheet!$D$9,FALSE)))))))))))","v":true},{"$f":"IF(AE97,D97,\"\")","v":"Hard"},{"$f":"IF(AE97,COUNTIF($AF$5:AF97,AF97),\"X\")","v":15},{"$f":"CONCATENATE(AE97,AF97)","v":"TRUEHard"}]
[{"$f":"CONCATENATE(AE98,D98,AG98)","v":"TRUEEasy42"},{"$f":"RAND()","v":0.29616036380257982},"Surds","Easy",35,"Square roots.    What is   √",{"$f":"RANDBETWEEN(1,10)^2","v":100},"?",null,null,null,null,null,null,null,null,null,null,null,{"$f":"CONCATENATE(F98,\"\",G98,\" \",H98,\" \",I98,\" \",J98,\" \",K98,\" \",L98,\" \",M98,\" \",N98,\" \",O98,\" \",P98,\" \",Q98,\" \",R98)","v":"Square roots.    What is   √100 ?          "},{"$f":"SQRT(G98)","v":10},null,null,null,null,null,null,null,{"$f":"IF(ISERROR(T98),NA(),\"\")","v":""},{"$f":"IF(OR(ISNA(U98),ISNA(V98),ISNA(W98),ISNA(X98),ISNA(Y98),ISNA(Z98),ISNA(AA98),ISNA(AB98),ISNA(AC98)),NA(),CONCATENATE(U98,V98,W98,X98,Y98,Z98,AA98,AB98))","v":"10"},{"$f":"IF(ISNA(AD98),FALSE,IF(C98=$B$1,Worksheet!$B$3,IF(C98=$C$1,Worksheet!$B$4,IF(C98=$D$1,Worksheet!$B$5,IF(C98=$C$2,Worksheet!$D$3,IF(C98=$D$2,Worksheet!$D$4,IF(C98=$E$2,Worksheet!$D$5,IF(C98=$C$3,Worksheet!$D$6,IF(C98=$B$3,Worksheet!$B$6,IF(C98=$D$3,Worksheet!$B$9,IF(C98=$E$3,Worksheet!$D$9,FALSE)))))))))))","v":true},{"$f":"IF(AE98,D98,\"\")","v":"Easy"},{"$f":"IF(AE98,COUNTIF($AF$5:AF98,AF98),\"X\")","v":42},{"$f":"CONCATENATE(AE98,AF98)","v":"TRUEEasy"}]
[{"$f":"CONCATENATE(AE99,D99,AG99)","v":"TRUEHard16"},{"$f":"RAND()","v":0.75635247957952645},"Round","Hard",186,"Round the number",{"$f":"RANDBETWEEN(1,9)+RANDBETWEEN(0,9)/10+RANDBETWEEN(1,9)/100","v":7.85},"to one significant figure",null,null,null,null,null,null,null,null,null,null,null,{"$f":"CONCATENATE(F99,\" \",G99,\" \",H99,\" \",I99,\" \",J99,\" \",K99,\" \",L99,\" \",M99,\" \",N99,\" \",O99,\" \",P99,\" \",Q99,\" \",R99)","v":"Round the number 7.85 to one significant figure          "},{"$f":"MROUND(G99,1)","v":8},null,null,null,null,null,null,null,{"$f":"IF(ISERROR(T99),NA(),\"\")","v":""},{"$f":"IF(OR(ISNA(U99),ISNA(V99),ISNA(W99),ISNA(X99),ISNA(Y99),ISNA(Z99),ISNA(AA99),ISNA(AB99),ISNA(AC99)),NA(),CONCATENATE(U99,V99,W99,X99,Y99,Z99,AA99,AB99))","v":"8"},{"$f":"IF(ISNA(AD99),FALSE,IF(C99=$B$1,Worksheet!$B$3,IF(C99=$C$1,Worksheet!$B$4,IF(C99=$D$1,Worksheet!$B$5,IF(C99=$C$2,Worksheet!$D$3,IF(C99=$D$2,Worksheet!$D$4,IF(C99=$E$2,Worksheet!$D$5,IF(C99=$C$3,Worksheet!$D$6,IF(C99=$B$3,Worksheet!$B$6,IF(C99=$D$3,Worksheet!$B$9,IF(C99=$E$3,Worksheet!$D$9,FALSE)))))))))))","v":true},{"$f":"IF(AE99,D99,\"\")","v":"Hard"},{"$f":"IF(AE99,COUNTIF($AF$5:AF99,AF99),\"X\")","v":16},{"$f":"CONCATENATE(AE99,AF99)","v":"TRUEHard"}]
[{"$f":"CONCATENATE(AE100,D100,AG100)","v":"TRUEHard17"},{"$f":"RAND()","v":0.82799497663943744},"Surds","Hard",42,"What is the cube root of",{"$f":"CHOOSE(RANDBETWEEN(1,4),4,5,6,10)^3","v":216},"?     (   ³√",{"$f":"G100","v":216},"  )",null,null,null,null,null,null,null,null,null,{"$f":"CONCATENATE(F100,\" \",G100,\" \",H100,\"\",I100,\" \",J100,\" \",K100,\" \",L100,\" \",M100,\" \",N100,\" \",O100,\" \",P100,\" \",Q100,\" \",R100)","v":"What is the cube root of 216 ?     (   ³√216   )        "},{"$f":"G100^(1/3)","v":6},null,null,null,null,null,null,null,{"$f":"IF(ISERROR(T100),NA(),\"\")","v":""},{"$f":"IF(OR(ISNA(U100),ISNA(V100),ISNA(W100),ISNA(X100),ISNA(Y100),ISNA(Z100),ISNA(AA100),ISNA(AB100),ISNA(AC100)),NA(),CONCATENATE(U100,V100,W100,X100,Y100,Z100,AA100,AB100))","v":"6"},{"$f":"IF(ISNA(AD100),FALSE,IF(C100=$B$1,Worksheet!$B$3,IF(C100=$C$1,Worksheet!$B$4,IF(C100=$D$1,Worksheet!$B$5,IF(C100=$C$2,Worksheet!$D$3,IF(C100=$D$2,Worksheet!$D$4,IF(C100=$E$2,Worksheet!$D$5,IF(C100=$C$3,Worksheet!$D$6,IF(C100=$B$3,Worksheet!$B$6,IF(C100=$D$3,Worksheet!$B$9,IF(C100=$E$3,Worksheet!$D$9,FALSE)))))))))))","v":true},{"$f":"IF(AE100,D100,\"\")","v":"Hard"},{"$f":"IF(AE100,COUNTIF($AF$5:AF100,AF100),\"X\")","v":17},{"$f":"CONCATENATE(AE100,AF100)","v":"TRUEHard"}]
[{"$f":"CONCATENATE(AE101,D101,AG101)","v":"TRUEMedium37"},{"$f":"RAND()","v":0.56963200350142495},"Alg","Medium",333,"Multiply out the bracket:",{"$f":"RANDBETWEEN(2,10)","v":8},"(",{"$f":"RANDBETWEEN(2,10)","v":2},{"$f":"CHOOSE(RANDBETWEEN(1,22),\"a\",\"b\",\"c\",\"d\",\"f\",\"g\",\"h\",\"j\",\"k\",\"m\",\"n\",\"p\",\"q\",\"r\",\"s\",\"t\",\"u\",\"v\",\"w\",\"x\",\"y\",\"z\")","v":"r"},"+",{"$f":"RANDBETWEEN(1,10)","v":2},")",null,null,null,null,null,null,{"$f":"CONCATENATE(F101,\" \",G101,\" \",H101,\" \",I101,\" \",J101,\" \",K101,\" \",L101,\" \",M101,\" \",N101,\" \",O101,\" \",P101,\" \",Q101,\" \",R101)","v":"Multiply out the bracket: 8 ( 2 r + 2 )     "},{"$f":"CONCATENATE(G101*I101,J101,\" \",K101,\" \",G101*L101)","v":"16r + 16"},null,null,null,null,null,null,null,{"$f":"IF(L101<0,NA(),\"\")","v":""},{"$f":"IF(OR(ISNA(U101),ISNA(V101),ISNA(W101),ISNA(X101),ISNA(Y101),ISNA(Z101),ISNA(AA101),ISNA(AB101),ISNA(AC101)),NA(),CONCATENATE(U101,V101,W101,X101,Y101,Z101,AA101,AB101))","v":"16r + 16"},{"$f":"IF(ISNA(AD101),FALSE,IF(C101=$B$1,Worksheet!$B$3,IF(C101=$C$1,Worksheet!$B$4,IF(C101=$D$1,Worksheet!$B$5,IF(C101=$C$2,Worksheet!$D$3,IF(C101=$D$2,Worksheet!$D$4,IF(C101=$E$2,Worksheet!$D$5,IF(C101=$C$3,Worksheet!$D$6,IF(C101=$B$3,Worksheet!$B$6,IF(C101=$D$3,Worksheet!$B$9,IF(C101=$E$3,Worksheet!$D$9,FALSE)))))))))))","v":true},{"$f":"IF(AE101,D101,\"\")","v":"Medium"},{"$f":"IF(AE101,COUNTIF($AF$5:AF101,AF101),\"X\")","v":37},{"$f":"CONCATENATE(AE101,AF101)","v":"TRUEMedium"}]
[{"$f":"CONCATENATE(AE102,D102,AG102)","v":"TRUEEasy43"},{"$f":"RAND()","v":0.71830978030998438},"Neg","Easy",26,"Work out the value of:",{"$f":"RANDBETWEEN(2,9)","v":6},"× (",{"$f":"RANDBETWEEN(1,K102-1)","v":4}," – ",{"$f":"RANDBETWEEN(5,10)","v":6},")",null,null,null,null,null,null,null,{"$f":"CONCATENATE(F102,\" \",G102,\" \",H102,\" \",I102,\" \",J102,\" \",K102,\" \",L102,\" \",M102,\" \",N102,\" \",O102,\" \",P102,\" \",Q102,\" \",R102)","v":"Work out the value of: 6 × ( 4  –  6 )      "},{"$f":"(I102-K102)*G102","v":-12},null,null,null,null,null,null,null,{"$f":"IF(ISERROR(T102),NA(),\"\")","v":""},{"$f":"IF(OR(ISNA(U102),ISNA(V102),ISNA(W102),ISNA(X102),ISNA(Y102),ISNA(Z102),ISNA(AA102),ISNA(AB102),ISNA(AC102)),NA(),CONCATENATE(U102,V102,W102,X102,Y102,Z102,AA102,AB102))","v":"-12"},{"$f":"IF(ISNA(AD102),FALSE,IF(C102=$B$1,Worksheet!$B$3,IF(C102=$C$1,Worksheet!$B$4,IF(C102=$D$1,Worksheet!$B$5,IF(C102=$C$2,Worksheet!$D$3,IF(C102=$D$2,Worksheet!$D$4,IF(C102=$E$2,Worksheet!$D$5,IF(C102=$C$3,Worksheet!$D$6,IF(C102=$B$3,Worksheet!$B$6,IF(C102=$D$3,Worksheet!$B$9,IF(C102=$E$3,Worksheet!$D$9,FALSE)))))))))))","v":true},{"$f":"IF(AE102,D102,\"\")","v":"Easy"},{"$f":"IF(AE102,COUNTIF($AF$5:AF102,AF102),\"X\")","v":43},{"$f":"CONCATENATE(AE102,AF102)","v":"TRUEEasy"}]
[{"$f":"CONCATENATE(AE103,D103,AG103)","v":"TRUEEasy44"},{"$f":"RAND()","v":0.74006608939380469},"Frac","Easy",79,"Fractions.     Without a calculator, work out:   ",{"$f":"TEXT(R103/S103,\"##/##\")","v":"3/4"},"of",{"$f":"S103*RANDBETWEEN(3,9)*10^RANDBETWEEN(2,3)","v":3200},null,null,null,null,null,null,null,null,{"$f":"RANDBETWEEN(2,S103-1)","v":6},{"$f":"RANDBETWEEN(5,9)","v":8},{"$f":"CONCATENATE(F103,\" \",G103,\" \",H103,\" \",I103,\" \",J103,\" \",K103,\" \",L103,\" \",M103,\" \",N103,\" \",O103,\" \",P103,\" \",Q103)","v":"Fractions.     Without a calculator, work out:    3/4 of 3200        "},{"$f":"I103/S103*VALUE(LEFT(G103,1))","v":1200},null,null,null,null,null,null,null,{"$f":"IF(ISERROR(T103),NA(),\"\")","v":""},{"$f":"IF(OR(ISNA(U103),ISNA(V103),ISNA(W103),ISNA(X103),ISNA(Y103),ISNA(Z103),ISNA(AA103),ISNA(AB103),ISNA(AC103)),NA(),CONCATENATE(U103,V103,W103,X103,Y103,Z103,AA103,AB103))","v":"1200"},{"$f":"IF(ISNA(AD103),FALSE,IF(C103=$B$1,Worksheet!$B$3,IF(C103=$C$1,Worksheet!$B$4,IF(C103=$D$1,Worksheet!$B$5,IF(C103=$C$2,Worksheet!$D$3,IF(C103=$D$2,Worksheet!$D$4,IF(C103=$E$2,Worksheet!$D$5,IF(C103=$C$3,Worksheet!$D$6,IF(C103=$B$3,Worksheet!$B$6,IF(C103=$D$3,Worksheet!$B$9,IF(C103=$E$3,Worksheet!$D$9,FALSE)))))))))))","v":true},{"$f":"IF(AE103,D103,\"\")","v":"Easy"},{"$f":"IF(AE103,COUNTIF($AF$5:AF103,AF103),\"X\")","v":44},{"$f":"CONCATENATE(AE103,AF103)","v":"TRUEEasy"}]
[{"$f":"CONCATENATE(AE104,D104,AG104)","v":"TRUEMedium38"},{"$f":"RAND()","v":0.31447645184187167},"+-×÷","Medium",12,"Take away  ",{"$f":"RANDBETWEEN(2,99)*10000+RANDBETWEEN(1,99)*100","v":549700}," – ",{"$f":"RANDBETWEEN(500,G104-100)","v":231786},"  without a calculator",null,null,null,null,null,null,null,null,null,{"$f":"CONCATENATE(F104,\" \",G104,\" \",H104,\" \",I104,\" \",J104,\" \",K104,\" \",L104,\" \",M104,\" \",N104,\" \",O104,\" \",P104,\" \",Q104,\" \",R104)","v":"Take away   549700  –  231786   without a calculator        "},{"$f":"G104-I104","v":317914},null,null,null,null,null,null,null,{"$f":"IF(ISERROR(T104),NA(),\"\")","v":""},{"$f":"IF(OR(ISNA(U104),ISNA(V104),ISNA(W104),ISNA(X104),ISNA(Y104),ISNA(Z104),ISNA(AA104),ISNA(AB104),ISNA(AC104)),NA(),CONCATENATE(U104,V104,W104,X104,Y104,Z104,AA104,AB104))","v":"317914"},{"$f":"IF(ISNA(AD104),FALSE,IF(C104=$B$1,Worksheet!$B$3,IF(C104=$C$1,Worksheet!$B$4,IF(C104=$D$1,Worksheet!$B$5,IF(C104=$C$2,Worksheet!$D$3,IF(C104=$D$2,Worksheet!$D$4,IF(C104=$E$2,Worksheet!$D$5,IF(C104=$C$3,Worksheet!$D$6,IF(C104=$B$3,Worksheet!$B$6,IF(C104=$D$3,Worksheet!$B$9,IF(C104=$E$3,Worksheet!$D$9,FALSE)))))))))))","v":true},{"$f":"IF(AE104,D104,\"\")","v":"Medium"},{"$f":"IF(AE104,COUNTIF($AF$5:AF104,AF104),\"X\")","v":38},{"$f":"CONCATENATE(AE104,AF104)","v":"TRUEMedium"}]
[{"$f":"CONCATENATE(AE105,D105,AG105)","v":"TRUEEasy45"},{"$f":"RAND()","v":0.28511322837671715},"Dec","Easy",256,"Divide:   ",{"$f":"RANDBETWEEN(2,9)*10^RANDBETWEEN(0,1)","v":80},"÷",{"$f":"10^RANDBETWEEN(-2,-1)","v":0.1},null,null,null,null,null,null,null,null,null,null,{"$f":"CONCATENATE(F105,\" \",G105,\" \",H105,\" \",I105,\" \",J105,\" \",K105,\" \",L105,\" \",M105,\" \",N105,\" \",O105,\" \",P105,\" \",Q105,\" \",R105)","v":"Divide:    80 ÷ 0.1         "},{"$f":"G105/I105","v":800},null,null,null,null,null,null,null,{"$f":"IF(ISERROR(T105),NA(),\"\")","v":""},{"$f":"IF(OR(ISNA(U105),ISNA(V105),ISNA(W105),ISNA(X105),ISNA(Y105),ISNA(Z105),ISNA(AA105),ISNA(AB105),ISNA(AC105)),NA(),CONCATENATE(U105,V105,W105,X105,Y105,Z105,AA105,AB105))","v":"800"},{"$f":"IF(ISNA(AD105),FALSE,IF(C105=$B$1,Worksheet!$B$3,IF(C105=$C$1,Worksheet!$B$4,IF(C105=$D$1,Worksheet!$B$5,IF(C105=$C$2,Worksheet!$D$3,IF(C105=$D$2,Worksheet!$D$4,IF(C105=$E$2,Worksheet!$D$5,IF(C105=$C$3,Worksheet!$D$6,IF(C105=$B$3,Worksheet!$B$6,IF(C105=$D$3,Worksheet!$B$9,IF(C105=$E$3,Worksheet!$D$9,FALSE)))))))))))","v":true},{"$f":"IF(AE105,D105,\"\")","v":"Easy"},{"$f":"IF(AE105,COUNTIF($AF$5:AF105,AF105),\"X\")","v":45},{"$f":"CONCATENATE(AE105,AF105)","v":"TRUEEasy"}]
[{"$f":"CONCATENATE(AE106,D106,AG106)","v":"TRUEMedium39"},{"$f":"RAND()","v":0.61632270492738772},"Dec","Medium",247,"Multiply:     ",{"$f":"RANDBETWEEN(1,9)+RANDBETWEEN(1,999)/1000","v":3.0459999999999998},"×",{"$f":"RANDBETWEEN(2,9)*10^RANDBETWEEN(2,3)","v":5000},null,null,null,null,null,null,null,null,null,null,{"$f":"CONCATENATE(F106,\" \",G106,\" \",H106,\" \",I106,\" \",J106,\" \",K106,\" \",L106,\" \",M106,\" \",N106,\" \",O106,\" \",P106,\" \",Q106,\" \",R106)","v":"Multiply:      3.046 × 5000         "},{"$f":"G106*I106","v":15230},null,null,null,null,null,null,null,{"$f":"IF(ISERROR(T106),NA(),\"\")","v":""},{"$f":"IF(OR(ISNA(U106),ISNA(V106),ISNA(W106),ISNA(X106),ISNA(Y106),ISNA(Z106),ISNA(AA106),ISNA(AB106),ISNA(AC106)),NA(),CONCATENATE(U106,V106,W106,X106,Y106,Z106,AA106,AB106))","v":"15230"},{"$f":"IF(ISNA(AD106),FALSE,IF(C106=$B$1,Worksheet!$B$3,IF(C106=$C$1,Worksheet!$B$4,IF(C106=$D$1,Worksheet!$B$5,IF(C106=$C$2,Worksheet!$D$3,IF(C106=$D$2,Worksheet!$D$4,IF(C106=$E$2,Worksheet!$D$5,IF(C106=$C$3,Worksheet!$D$6,IF(C106=$B$3,Worksheet!$B$6,IF(C106=$D$3,Worksheet!$B$9,IF(C106=$E$3,Worksheet!$D$9,FALSE)))))))))))","v":true},{"$f":"IF(AE106,D106,\"\")","v":"Medium"},{"$f":"IF(AE106,COUNTIF($AF$5:AF106,AF106),\"X\")","v":39},{"$f":"CONCATENATE(AE106,AF106)","v":"TRUEMedium"}]
[{"$f":"CONCATENATE(AE107,D107,AG107)","v":"TRUEMedium40"},{"$f":"RAND()","v":0.27362244553816062},"+-×÷","Medium",9,"Fill in the blank:",{"$f":"RANDBETWEEN(101,999)*100","v":75300},"+  _______ = ",{"$f":"TEXT(100000,\"##,###\")","v":"100,000"},null,null,null,null,null,null,null,null,null,null,{"$f":"CONCATENATE(F107,\" \",G107,\" \",H107,\" \",I107,\" \",J107,\" \",K107,\" \",L107,\" \",M107,\" \",N107,\" \",O107,\" \",P107,\" \",Q107,\" \",R107)","v":"Fill in the blank: 75300 +  _______ =  100,000         "},{"$f":"100000-G107","v":24700},null,null,null,null,null,null,null,{"$f":"IF(ISERROR(T107),NA(),\"\")","v":""},{"$f":"IF(OR(ISNA(U107),ISNA(V107),ISNA(W107),ISNA(X107),ISNA(Y107),ISNA(Z107),ISNA(AA107),ISNA(AB107),ISNA(AC107)),NA(),CONCATENATE(U107,V107,W107,X107,Y107,Z107,AA107,AB107))","v":"24700"},{"$f":"IF(ISNA(AD107),FALSE,IF(C107=$B$1,Worksheet!$B$3,IF(C107=$C$1,Worksheet!$B$4,IF(C107=$D$1,Worksheet!$B$5,IF(C107=$C$2,Worksheet!$D$3,IF(C107=$D$2,Worksheet!$D$4,IF(C107=$E$2,Worksheet!$D$5,IF(C107=$C$3,Worksheet!$D$6,IF(C107=$B$3,Worksheet!$B$6,IF(C107=$D$3,Worksheet!$B$9,IF(C107=$E$3,Worksheet!$D$9,FALSE)))))))))))","v":true},{"$f":"IF(AE107,D107,\"\")","v":"Medium"},{"$f":"IF(AE107,COUNTIF($AF$5:AF107,AF107),\"X\")","v":40},{"$f":"CONCATENATE(AE107,AF107)","v":"TRUEMedium"}]
[{"$f":"CONCATENATE(AE108,D108,AG108)","v":"TRUEMedium41"},{"$f":"RAND()","v":0.11594812636646268},"%","Medium",287,"Write",{"$f":"(RANDBETWEEN(1,9)*10+5)/1000","v":8.5000000000000006E-2},"as a percentage",null,null,null,null,null,null,null,null,null,null,null,{"$f":"CONCATENATE(F108,\" \",G108,\" \",H108,\" \",I108,\" \",J108,\" \",K108,\" \",L108,\" \",M108,\" \",N108,\" \",O108,\" \",P108,\" \",Q108,\" \",R108)","v":"Write 0.085 as a percentage          "},{"$f":"G108*100","v":8.5},"%",null,null,null,null,null,null,{"$f":"IF(ISERROR(T108),NA(),\"\")","v":""},{"$f":"IF(OR(ISNA(U108),ISNA(V108),ISNA(W108),ISNA(X108),ISNA(Y108),ISNA(Z108),ISNA(AA108),ISNA(AB108),ISNA(AC108)),NA(),CONCATENATE(U108,V108,W108,X108,Y108,Z108,AA108,AB108))","v":"8.5%"},{"$f":"IF(ISNA(AD108),FALSE,IF(C108=$B$1,Worksheet!$B$3,IF(C108=$C$1,Worksheet!$B$4,IF(C108=$D$1,Worksheet!$B$5,IF(C108=$C$2,Worksheet!$D$3,IF(C108=$D$2,Worksheet!$D$4,IF(C108=$E$2,Worksheet!$D$5,IF(C108=$C$3,Worksheet!$D$6,IF(C108=$B$3,Worksheet!$B$6,IF(C108=$D$3,Worksheet!$B$9,IF(C108=$E$3,Worksheet!$D$9,FALSE)))))))))))","v":true},{"$f":"IF(AE108,D108,\"\")","v":"Medium"},{"$f":"IF(AE108,COUNTIF($AF$5:AF108,AF108),\"X\")","v":41},{"$f":"CONCATENATE(AE108,AF108)","v":"TRUEMedium"}]
[{"$f":"CONCATENATE(AE109,D109,AG109)","v":"TRUEEasy46"},{"$f":"RAND()","v":0.55458939305216959},"Dec","Easy",123,"Add:   ",{"$f":"RANDBETWEEN(2,6)+0.1*RANDBETWEEN(3,9)","v":5.5},"+",{"$f":"RANDBETWEEN(2,5)+RANDBETWEEN(0,9)*0.1+RANDBETWEEN(1,9)*0.01","v":5.37},null,null,null,null,null,null,null,null,null,null,{"$f":"CONCATENATE(F109,\" \",G109,\" \",H109,\" \",I109,\" \",J109,\" \",K109,\" \",L109,\" \",M109,\" \",N109,\" \",O109,\" \",P109,\" \",Q109,\" \",R109)","v":"Add:    5.5 + 5.37         "},{"$f":"G109+I109","v":10.870000000000001},null,null,null,null,null,null,null,{"$f":"IF(ISERROR(T109),NA(),\"\")","v":""},{"$f":"IF(OR(ISNA(U109),ISNA(V109),ISNA(W109),ISNA(X109),ISNA(Y109),ISNA(Z109),ISNA(AA109),ISNA(AB109),ISNA(AC109)),NA(),CONCATENATE(U109,V109,W109,X109,Y109,Z109,AA109,AB109))","v":"10.87"},{"$f":"IF(ISNA(AD109),FALSE,IF(C109=$B$1,Worksheet!$B$3,IF(C109=$C$1,Worksheet!$B$4,IF(C109=$D$1,Worksheet!$B$5,IF(C109=$C$2,Worksheet!$D$3,IF(C109=$D$2,Worksheet!$D$4,IF(C109=$E$2,Worksheet!$D$5,IF(C109=$C$3,Worksheet!$D$6,IF(C109=$B$3,Worksheet!$B$6,IF(C109=$D$3,Worksheet!$B$9,IF(C109=$E$3,Worksheet!$D$9,FALSE)))))))))))","v":true},{"$f":"IF(AE109,D109,\"\")","v":"Easy"},{"$f":"IF(AE109,COUNTIF($AF$5:AF109,AF109),\"X\")","v":46},{"$f":"CONCATENATE(AE109,AF109)","v":"TRUEEasy"}]
[{"$f":"CONCATENATE(AE110,D110,AG110)","v":"TRUEMedium42"},{"$f":"RAND()","v":0.62065401121882913},"Dec","Medium",257,"Divide:   ",{"$f":"RANDBETWEEN(2,5)*10^RANDBETWEEN(0,2)*S110","v":1200},"÷",{"$f":"10^RANDBETWEEN(-2,-1)*S110","v":0.4},null,null,null,null,null,null,null,null,null,{"$f":"RANDBETWEEN(2,5)","v":4},{"$f":"CONCATENATE(F110,\" \",G110,\" \",H110,\" \",I110,\" \",J110,\" \",K110,\" \",L110,\" \",M110,\" \",N110,\" \",O110,\" \",P110,\" \",Q110,\" \",R110)","v":"Divide:    1200 ÷ 0.4         "},{"$f":"G110/I110","v":3000},null,null,null,null,null,null,null,{"$f":"IF(ISERROR(T110),NA(),\"\")","v":""},{"$f":"IF(OR(ISNA(U110),ISNA(V110),ISNA(W110),ISNA(X110),ISNA(Y110),ISNA(Z110),ISNA(AA110),ISNA(AB110),ISNA(AC110)),NA(),CONCATENATE(U110,V110,W110,X110,Y110,Z110,AA110,AB110))","v":"3000"},{"$f":"IF(ISNA(AD110),FALSE,IF(C110=$B$1,Worksheet!$B$3,IF(C110=$C$1,Worksheet!$B$4,IF(C110=$D$1,Worksheet!$B$5,IF(C110=$C$2,Worksheet!$D$3,IF(C110=$D$2,Worksheet!$D$4,IF(C110=$E$2,Worksheet!$D$5,IF(C110=$C$3,Worksheet!$D$6,IF(C110=$B$3,Worksheet!$B$6,IF(C110=$D$3,Worksheet!$B$9,IF(C110=$E$3,Worksheet!$D$9,FALSE)))))))))))","v":true},{"$f":"IF(AE110,D110,\"\")","v":"Medium"},{"$f":"IF(AE110,COUNTIF($AF$5:AF110,AF110),\"X\")","v":42},{"$f":"CONCATENATE(AE110,AF110)","v":"TRUEMedium"}]
[{"$f":"CONCATENATE(AE111,D111,AG111)","v":"TRUEHard18"},{"$f":"RAND()","v":3.6144889758083498E-2},"Frac","Hard",114,"Take away the mixed numbers:      ",{"$f":"RANDBETWEEN(M111+1,5)","v":3},{"$f":"IF(J111=4,CHOOSE(RANDBETWEEN(1,2),1,3),RANDBETWEEN(1,J111-1))","v":2},"/",{"$f":"RANDBETWEEN(3,5)","v":3},null,"  –  ",{"$f":"RANDBETWEEN(1,3)","v":1},{"$f":"IF(P111=4,CHOOSE(RANDBETWEEN(1,2),1,3),RANDBETWEEN(1,P111-1))","v":3},"/",{"$f":"SMALL(IF(J111={3,4,5},\"\",{3,4,5}),RANDBETWEEN(1,2))","v":4},null,null,null,{"$f":"CONCATENATE(F111,\" \",G111,\"   \",H111,\"\",I111,\"\",J111,\" \",K111,\" \",L111,\" \",M111,\"   \",N111,\"\",O111,\"\",P111,\" \",Q111,\" \",R111)","v":"Take away the mixed numbers:       3   2/3    –   1   3/4  "},{"$f":"IF(P111*H111-J111*N111<=0,G111-M111-1,G111-M111)","v":1},{"$f":"(H111*P111-J111*N111+IF(H111*P111-J111*N111<0,J111*P111,0))/AC111","v":11},"/",{"$f":"J111*P111/AC111","v":12},{"$f":"IF(V111=\"\",\"\",\"   or   \")","v":"   or   "},{"$f":"IF(V111=\"\",\"\",X111*U111+V111)","v":23},{"$f":"IF(V111=\"\",\"\",\"/\")","v":"/"},{"$f":"X111","v":12},{"$f":"GCD(ABS(H111*P111-J111*N111),P111*J111)","v":1},{"$f":"IF(OR(ISNA(U111),ISNA(V111),ISNA(W111),ISNA(X111),ISNA(Y111),ISNA(Z111),ISNA(AA111),ISNA(AB111),ISNA(AC111)),NA(),CONCATENATE(IF(U111=0,\"\",U111),IF(U111=0,\"\",\"  \"),IF(U111=0,\"\",V111),IF(U111=0,\"\",W111),IF(U111=0,\"\",X111),IF(U111=0,\"\",Y111),Z111,AA111,AB111))","v":"1  11/12   or   23/12"},{"$f":"IF(ISNA(AD111),FALSE,IF(C111=$B$1,Worksheet!$B$3,IF(C111=$C$1,Worksheet!$B$4,IF(C111=$D$1,Worksheet!$B$5,IF(C111=$C$2,Worksheet!$D$3,IF(C111=$D$2,Worksheet!$D$4,IF(C111=$E$2,Worksheet!$D$5,IF(C111=$C$3,Worksheet!$D$6,IF(C111=$B$3,Worksheet!$B$6,IF(C111=$D$3,Worksheet!$B$9,IF(C111=$E$3,Worksheet!$D$9,FALSE)))))))))))","v":true},{"$f":"IF(AE111,D111,\"\")","v":"Hard"},{"$f":"IF(AE111,COUNTIF($AF$5:AF111,AF111),\"X\")","v":18},{"$f":"CONCATENATE(AE111,AF111)","v":"TRUEHard"}]
[{"$f":"CONCATENATE(AE112,D112,AG112)","v":"TRUEMedium43"},{"$f":"RAND()","v":0.6031865431680028},"%","Medium",300,"What is £",{"$f":"S112*I112","v":27000},"as a percentage of £",{"$f":"RANDBETWEEN(2,9)*10^RANDBETWEEN(2,4)","v":30000},"?",null,null,null,null,null,null,null,null,{"$f":"0.1*RANDBETWEEN(2,9)","v":0.9},{"$f":"CONCATENATE(F112,\"\",G112,\" \",H112,\"\",I112,\" \",J112,\" \",K112,\" \",L112,\" \",M112,\" \",N112,\" \",O112,\" \",P112,\" \",Q112,\" \",R112)","v":"What is £27000 as a percentage of £30000 ?        "},{"$f":"S112*100","v":90},"%",null,null,null,null,null,null,{"$f":"IF(ISERROR(T112),NA(),\"\")","v":""},{"$f":"IF(OR(ISNA(U112),ISNA(V112),ISNA(W112),ISNA(X112),ISNA(Y112),ISNA(Z112),ISNA(AA112),ISNA(AB112),ISNA(AC112)),NA(),CONCATENATE(U112,V112,W112,X112,Y112,Z112,AA112,AB112))","v":"90%"},{"$f":"IF(ISNA(AD112),FALSE,IF(C112=$B$1,Worksheet!$B$3,IF(C112=$C$1,Worksheet!$B$4,IF(C112=$D$1,Worksheet!$B$5,IF(C112=$C$2,Worksheet!$D$3,IF(C112=$D$2,Worksheet!$D$4,IF(C112=$E$2,Worksheet!$D$5,IF(C112=$C$3,Worksheet!$D$6,IF(C112=$B$3,Worksheet!$B$6,IF(C112=$D$3,Worksheet!$B$9,IF(C112=$E$3,Worksheet!$D$9,FALSE)))))))))))","v":true},{"$f":"IF(AE112,D112,\"\")","v":"Medium"},{"$f":"IF(AE112,COUNTIF($AF$5:AF112,AF112),\"X\")","v":43},{"$f":"CONCATENATE(AE112,AF112)","v":"TRUEMedium"}]
[{"$f":"CONCATENATE(AE113,D113,AG113)","v":"TRUEEasy47"},{"$f":"RAND()","v":0.61270034938190732},"Neg","Easy",215,"Add:   ","(–",{"$f":"RANDBETWEEN(10,30)","v":26},") + (–",{"$f":"RANDBETWEEN(10,30)","v":21},")",null,null,null,null,null,null,null,null,{"$f":"CONCATENATE(F113,\" \",G113,\"\",H113,\"\",I113,\"\",J113,\"\",K113,\" \",L113,\" \",M113,\" \",N113,\" \",O113,\" \",P113,\" \",Q113,\" \",R113)","v":"Add:    (–26) + (–21)       "},"–",{"$f":"H113+J113","v":47},null,null,null,null,null,null,{"$f":"IF(ISERROR(T113),NA(),\"\")","v":""},{"$f":"IF(OR(ISNA(U113),ISNA(V113),ISNA(W113),ISNA(X113),ISNA(Y113),ISNA(Z113),ISNA(AA113),ISNA(AB113),ISNA(AC113)),NA(),CONCATENATE(U113,V113,W113,X113,Y113,Z113,AA113,AB113))","v":"–47"},{"$f":"IF(ISNA(AD113),FALSE,IF(C113=$B$1,Worksheet!$B$3,IF(C113=$C$1,Worksheet!$B$4,IF(C113=$D$1,Worksheet!$B$5,IF(C113=$C$2,Worksheet!$D$3,IF(C113=$D$2,Worksheet!$D$4,IF(C113=$E$2,Worksheet!$D$5,IF(C113=$C$3,Worksheet!$D$6,IF(C113=$B$3,Worksheet!$B$6,IF(C113=$D$3,Worksheet!$B$9,IF(C113=$E$3,Worksheet!$D$9,FALSE)))))))))))","v":true},{"$f":"IF(AE113,D113,\"\")","v":"Easy"},{"$f":"IF(AE113,COUNTIF($AF$5:AF113,AF113),\"X\")","v":47},{"$f":"CONCATENATE(AE113,AF113)","v":"TRUEEasy"}]
[{"$f":"CONCATENATE(AE114,D114,AG114)","v":"TRUEMedium44"},{"$f":"RAND()","v":0.4366159022090772},"Eqn","Medium",322,"Solve the equation",{"$f":"RANDBETWEEN(2,10)","v":8},{"$f":"CHOOSE(RANDBETWEEN(1,22),\"a\",\"b\",\"c\",\"d\",\"f\",\"g\",\"h\",\"j\",\"k\",\"m\",\"n\",\"p\",\"q\",\"r\",\"s\",\"t\",\"u\",\"v\",\"w\",\"x\",\"y\",\"z\")","v":"m"},"+",{"$f":"RANDBETWEEN(1,10)","v":6},"=",{"$f":"G114*(W114/Y114)+J114","v":43},".      Show your working in full and give your answer as a fraction.",null,null,null,null,null,null,{"$f":"CONCATENATE(F114,\" \",G114,\"\",H114,\" \",I114,\" \",J114,\" \",K114,\" \",L114,\" \",M114,\" \",N114,\" \",O114,\" \",P114,\" \",Q114,\" \",R114)","v":"Solve the equation 8m + 6 = 43 .      Show your working in full and give your answer as a fraction.     "},{"$f":"H114","v":"m"}," = ",{"$f":"AB114*G114+AA114","v":37},"/",{"$f":"G114","v":8},null,{"$f":"RANDBETWEEN(1,G114)","v":5},{"$f":"RANDBETWEEN(1,10)","v":4},{"$f":"IF(ISERROR(T114),NA(),\"\")","v":""},{"$f":"IF(OR(ISNA(U114),ISNA(V114),ISNA(W114),ISNA(X114),ISNA(Y114),ISNA(Z114),ISNA(AA114),ISNA(AB114),ISNA(AC114)),NA(),CONCATENATE(U114,V114,W114,X114,Y114,Z114))","v":"m = 37/8"},{"$f":"IF(ISNA(AD114),FALSE,IF(C114=$B$1,Worksheet!$B$3,IF(C114=$C$1,Worksheet!$B$4,IF(C114=$D$1,Worksheet!$B$5,IF(C114=$C$2,Worksheet!$D$3,IF(C114=$D$2,Worksheet!$D$4,IF(C114=$E$2,Worksheet!$D$5,IF(C114=$C$3,Worksheet!$D$6,IF(C114=$B$3,Worksheet!$B$6,IF(C114=$D$3,Worksheet!$B$9,IF(C114=$E$3,Worksheet!$D$9,FALSE)))))))))))","v":true},{"$f":"IF(AE114,D114,\"\")","v":"Medium"},{"$f":"IF(AE114,COUNTIF($AF$5:AF114,AF114),\"X\")","v":44},{"$f":"CONCATENATE(AE114,AF114)","v":"TRUEMedium"}]
[{"$f":"CONCATENATE(AE115,D115,AG115)","v":"TRUEHard19"},{"$f":"RAND()","v":0.19231419587311072},"Neg","Hard",230,"Work out of the value of:   ",{"$f":"RANDBETWEEN(1,20)","v":13},"– ",{"$f":"RANDBETWEEN(2,5)","v":5}," × (–",{"$f":"RANDBETWEEN(2,5)","v":4},")","   (remember BODMAS)",null,null,null,null,null,null,{"$f":"CONCATENATE(F115,\" \",G115,\" \",H115,\"\",I115,\"\",J115,\"\",K115,\"\",L115,\" \",M115,\" \",N115,\" \",O115,\" \",P115,\" \",Q115,\" \",R115)","v":"Work out of the value of:    13 – 5 × (–4)    (remember BODMAS)     "},{"$f":"G115+I115*K115","v":33},null,null,null,null,null,null,null,{"$f":"IF(ISERROR(T115),NA(),\"\")","v":""},{"$f":"IF(OR(ISNA(U115),ISNA(V115),ISNA(W115),ISNA(X115),ISNA(Y115),ISNA(Z115),ISNA(AA115),ISNA(AB115),ISNA(AC115)),NA(),CONCATENATE(U115,V115,W115,X115,Y115,Z115,AA115,AB115))","v":"33"},{"$f":"IF(ISNA(AD115),FALSE,IF(C115=$B$1,Worksheet!$B$3,IF(C115=$C$1,Worksheet!$B$4,IF(C115=$D$1,Worksheet!$B$5,IF(C115=$C$2,Worksheet!$D$3,IF(C115=$D$2,Worksheet!$D$4,IF(C115=$E$2,Worksheet!$D$5,IF(C115=$C$3,Worksheet!$D$6,IF(C115=$B$3,Worksheet!$B$6,IF(C115=$D$3,Worksheet!$B$9,IF(C115=$E$3,Worksheet!$D$9,FALSE)))))))))))","v":true},{"$f":"IF(AE115,D115,\"\")","v":"Hard"},{"$f":"IF(AE115,COUNTIF($AF$5:AF115,AF115),\"X\")","v":19},{"$f":"CONCATENATE(AE115,AF115)","v":"TRUEHard"}]
[{"$f":"CONCATENATE(AE116,D116,AG116)","v":"TRUEHard20"},{"$f":"RAND()","v":0.58445921119192967},"Alg","Hard",308,"Algebra.  If x =",{"$f":"RANDBETWEEN(-5,5)","v":-5},"and y =",{"$f":"RANDBETWEEN(-5,5)","v":-2},", what is the value of",{"$f":"RANDBETWEEN(2,5)","v":4},"(x – y) ?",null,null,null,null,null,null,null,{"$f":"CONCATENATE(F116,\" \",G116,\" \",H116,\" \",I116,\" \",J116,\" \",K116,\"\",L116,\" \",M116,\" \",N116,\" \",O116,\" \",P116,\" \",Q116,\" \",R116)","v":"Algebra.  If x = -5 and y = -2 , what is the value of 4(x – y) ?      "},{"$f":"(G116-I116)*K116","v":-12},null,null,null,null,null,null,null,{"$f":"IF(ISERROR(T116),NA(),\"\")","v":""},{"$f":"IF(OR(ISNA(U116),ISNA(V116),ISNA(W116),ISNA(X116),ISNA(Y116),ISNA(Z116),ISNA(AA116),ISNA(AB116),ISNA(AC116)),NA(),CONCATENATE(U116,V116,W116,X116,Y116,Z116,AA116,AB116))","v":"-12"},{"$f":"IF(ISNA(AD116),FALSE,IF(C116=$B$1,Worksheet!$B$3,IF(C116=$C$1,Worksheet!$B$4,IF(C116=$D$1,Worksheet!$B$5,IF(C116=$C$2,Worksheet!$D$3,IF(C116=$D$2,Worksheet!$D$4,IF(C116=$E$2,Worksheet!$D$5,IF(C116=$C$3,Worksheet!$D$6,IF(C116=$B$3,Worksheet!$B$6,IF(C116=$D$3,Worksheet!$B$9,IF(C116=$E$3,Worksheet!$D$9,FALSE)))))))))))","v":true},{"$f":"IF(AE116,D116,\"\")","v":"Hard"},{"$f":"IF(AE116,COUNTIF($AF$5:AF116,AF116),\"X\")","v":20},{"$f":"CONCATENATE(AE116,AF116)","v":"TRUEHard"}]
[{"$f":"CONCATENATE(AE117,D117,AG117)","v":"TRUEMedium45"},{"$f":"RAND()","v":0.70754129068942628},"Frac","Medium",118,"Multiply:     ",{"$f":"RANDBETWEEN(1,5)","v":4},{"$f":"IF(J117=4,CHOOSE(RANDBETWEEN(1,2),1,3),RANDBETWEEN(1,J117-1))","v":1},"/",{"$f":"RANDBETWEEN(3,5)","v":3},null,"  ×  ",{"$f":"RANDBETWEEN(1,3)*J117","v":3},null,null,null,null,null,null,{"$f":"CONCATENATE(F117,\" \",G117,\"   \",H117,\"\",I117,\"\",J117,\" \",K117,\" \",L117,\" \",M117,\"   \",N117,\"\",O117,\"\",P117,\" \",Q117,\" \",R117)","v":"Multiply:      4   1/3    ×   3     "},{"$f":"M117*G117+M117*H117/J117","v":13},null,null,null,null,null,null,null,{"$f":"IF(ISERROR(T117),NA(),\"\")","v":""},{"$f":"IF(OR(ISNA(U117),ISNA(V117),ISNA(W117),ISNA(X117),ISNA(Y117),ISNA(Z117),ISNA(AA117),ISNA(AB117),ISNA(AC117)),NA(),CONCATENATE(U117,V117,W117,X117,Y117,Z117,AA117,AB117))","v":"13"},{"$f":"IF(ISNA(AD117),FALSE,IF(C117=$B$1,Worksheet!$B$3,IF(C117=$C$1,Worksheet!$B$4,IF(C117=$D$1,Worksheet!$B$5,IF(C117=$C$2,Worksheet!$D$3,IF(C117=$D$2,Worksheet!$D$4,IF(C117=$E$2,Worksheet!$D$5,IF(C117=$C$3,Worksheet!$D$6,IF(C117=$B$3,Worksheet!$B$6,IF(C117=$D$3,Worksheet!$B$9,IF(C117=$E$3,Worksheet!$D$9,FALSE)))))))))))","v":true},{"$f":"IF(AE117,D117,\"\")","v":"Medium"},{"$f":"IF(AE117,COUNTIF($AF$5:AF117,AF117),\"X\")","v":45},{"$f":"CONCATENATE(AE117,AF117)","v":"TRUEMedium"}]
[{"$f":"CONCATENATE(AE118,D118,AG118)","v":"TRUEHard21"},{"$f":"RAND()","v":0.92781546129493997},"%","Hard",293,"What fraction is the same as","87½%","?",null,null,null,null,null,null,null,null,null,null,null,{"$f":"CONCATENATE(F118,\" \",G118,\"\",H118,\" \",I118,\" \",J118,\" \",K118,\" \",L118,\" \",M118,\" \",N118,\" \",O118,\" \",P118,\" \",Q118,\" \",R118)","v":"What fraction is the same as 87½%?          "},"7/8 (seven eighths)",null,null,null,null,null,null,null,{"$f":"IF(ISERROR(T118),NA(),\"\")","v":""},{"$f":"IF(OR(ISNA(U118),ISNA(V118),ISNA(W118),ISNA(X118),ISNA(Y118),ISNA(Z118),ISNA(AA118),ISNA(AB118),ISNA(AC118)),NA(),CONCATENATE(U118,V118,W118,X118,Y118,Z118,AA118,AB118))","v":"7/8 (seven eighths)"},{"$f":"IF(ISNA(AD118),FALSE,IF(C118=$B$1,Worksheet!$B$3,IF(C118=$C$1,Worksheet!$B$4,IF(C118=$D$1,Worksheet!$B$5,IF(C118=$C$2,Worksheet!$D$3,IF(C118=$D$2,Worksheet!$D$4,IF(C118=$E$2,Worksheet!$D$5,IF(C118=$C$3,Worksheet!$D$6,IF(C118=$B$3,Worksheet!$B$6,IF(C118=$D$3,Worksheet!$B$9,IF(C118=$E$3,Worksheet!$D$9,FALSE)))))))))))","v":true},{"$f":"IF(AE118,D118,\"\")","v":"Hard"},{"$f":"IF(AE118,COUNTIF($AF$5:AF118,AF118),\"X\")","v":21},{"$f":"CONCATENATE(AE118,AF118)","v":"TRUEHard"}]
[{"$f":"CONCATENATE(AE119,D119,AG119)","v":"TRUEMedium46"},{"$f":"RAND()","v":0.6974705318371599},"Neg","Medium",225,"Work out the value of:    (",{"$f":"RANDBETWEEN(-5,-1)","v":-3},") +",{"$f":"RANDBETWEEN(1,10)","v":3},"×",{"$f":"RANDBETWEEN(1,10)","v":7},"   (remember BODMAS)",null,null,null,null,null,null,null,{"$f":"CONCATENATE(F119,\"\",G119,\"\",H119,\" \",I119,\" \",J119,\" \",K119,\" \",L119,\" \",M119,\" \",N119,\" \",O119,\" \",P119,\" \",Q119,\" \",R119)","v":"Work out the value of:    (-3) + 3 × 7    (remember BODMAS)      "},{"$f":"G119+I119*K119","v":18},null,null,null,null,null,null,null,{"$f":"IF(ISERROR(T119),NA(),\"\")","v":""},{"$f":"IF(OR(ISNA(U119),ISNA(V119),ISNA(W119),ISNA(X119),ISNA(Y119),ISNA(Z119),ISNA(AA119),ISNA(AB119),ISNA(AC119)),NA(),CONCATENATE(U119,V119,W119,X119,Y119,Z119,AA119,AB119))","v":"18"},{"$f":"IF(ISNA(AD119),FALSE,IF(C119=$B$1,Worksheet!$B$3,IF(C119=$C$1,Worksheet!$B$4,IF(C119=$D$1,Worksheet!$B$5,IF(C119=$C$2,Worksheet!$D$3,IF(C119=$D$2,Worksheet!$D$4,IF(C119=$E$2,Worksheet!$D$5,IF(C119=$C$3,Worksheet!$D$6,IF(C119=$B$3,Worksheet!$B$6,IF(C119=$D$3,Worksheet!$B$9,IF(C119=$E$3,Worksheet!$D$9,FALSE)))))))))))","v":true},{"$f":"IF(AE119,D119,\"\")","v":"Medium"},{"$f":"IF(AE119,COUNTIF($AF$5:AF119,AF119),\"X\")","v":46},{"$f":"CONCATENATE(AE119,AF119)","v":"TRUEMedium"}]
[{"$f":"CONCATENATE(AE120,D120,AG120)","v":"TRUEMedium47"},{"$f":"RAND()","v":0.35556703445769744},"Frac","Medium",80,"Fractions.     Without a calculator, work out:   ",{"$f":"TEXT(R120/S120,\"##/##\")","v":"9/17"},"of",{"$f":"S120*RANDBETWEEN(3,6)","v":102},null,null,null,null,null,null,null,null,{"$f":"RANDBETWEEN(2,S120-1)","v":9},{"$f":"RANDBETWEEN(11,19)","v":17},{"$f":"CONCATENATE(F120,\" \",G120,\" \",H120,\" \",I120,\" \",J120,\" \",K120,\" \",L120,\" \",M120,\" \",N120,\" \",O120,\" \",P120,\" \",Q120)","v":"Fractions.     Without a calculator, work out:    9/17 of 102        "},{"$f":"I120/S120*VALUE(LEFT(G120,SEARCH(\"/\",G120,1)-1))","v":54},null,null,null,null,null,null,null,{"$f":"IF(ISERROR(T120),NA(),\"\")","v":""},{"$f":"IF(OR(ISNA(U120),ISNA(V120),ISNA(W120),ISNA(X120),ISNA(Y120),ISNA(Z120),ISNA(AA120),ISNA(AB120),ISNA(AC120)),NA(),CONCATENATE(U120,V120,W120,X120,Y120,Z120,AA120,AB120))","v":"54"},{"$f":"IF(ISNA(AD120),FALSE,IF(C120=$B$1,Worksheet!$B$3,IF(C120=$C$1,Worksheet!$B$4,IF(C120=$D$1,Worksheet!$B$5,IF(C120=$C$2,Worksheet!$D$3,IF(C120=$D$2,Worksheet!$D$4,IF(C120=$E$2,Worksheet!$D$5,IF(C120=$C$3,Worksheet!$D$6,IF(C120=$B$3,Worksheet!$B$6,IF(C120=$D$3,Worksheet!$B$9,IF(C120=$E$3,Worksheet!$D$9,FALSE)))))))))))","v":true},{"$f":"IF(AE120,D120,\"\")","v":"Medium"},{"$f":"IF(AE120,COUNTIF($AF$5:AF120,AF120),\"X\")","v":47},{"$f":"CONCATENATE(AE120,AF120)","v":"TRUEMedium"}]
[{"$f":"CONCATENATE(AE121,D121,AG121)","v":"TRUEEasy48"},{"$f":"RAND()","v":0.91422384449505079},"Frac","Easy",99,"Take away the fractions:  ",{"$f":"IF(I121=4,CHOOSE(RANDBETWEEN(1,2),1,3),RANDBETWEEN(1,I121-1))","v":4},"/",{"$f":"RANDBETWEEN(3,5)","v":5},"–",{"$f":"IF(M121=4,CHOOSE(RANDBETWEEN(1,2),1,3),RANDBETWEEN(1,MIN(G121/I121*M121,M121-1)))","v":2},"/",{"$f":"SMALL(IF(I121={3,4,5},\"\",{3,4,5}),RANDBETWEEN(1,2))","v":3},{"$f":"IF(GCD(G121*M121+I121*K121,I121*M121)=1,\"\",\",    giving your answer in its simplest form\")","v":""},null,null,null,null,null,{"$f":"CONCATENATE(F121,\" \",G121,\"\",H121,\"\",I121,\" \",J121,\" \",K121,\"\",L121,\"\",M121,\" \",N121,\"       \",O121,\" \",P121,\" \",Q121,\" \",R121)","v":"Take away the fractions:   4/5 – 2/3           "},{"$f":"(G121*M121-I121*K121)/GCD(G121*M121+I121*K121,I121*M121)","v":2},"/",{"$f":"I121*M121/GCD(G121*M121-I121*K121,I121*M121)","v":15},null,null,{"$f":"IF(U121=0,NA(),\"\")","v":""},null,null,{"$f":"IF(ISERROR(T121),NA(),\"\")","v":""},{"$f":"IF(OR(ISNA(U121),ISNA(V121),ISNA(W121),ISNA(X121),ISNA(Y121),ISNA(Z121),ISNA(AA121),ISNA(AB121),ISNA(AC121)),NA(),CONCATENATE(U121,V121,W121,X121,Y121,Z121,AA121,AB121))","v":"2/15"},{"$f":"IF(ISNA(AD121),FALSE,IF(C121=$B$1,Worksheet!$B$3,IF(C121=$C$1,Worksheet!$B$4,IF(C121=$D$1,Worksheet!$B$5,IF(C121=$C$2,Worksheet!$D$3,IF(C121=$D$2,Worksheet!$D$4,IF(C121=$E$2,Worksheet!$D$5,IF(C121=$C$3,Worksheet!$D$6,IF(C121=$B$3,Worksheet!$B$6,IF(C121=$D$3,Worksheet!$B$9,IF(C121=$E$3,Worksheet!$D$9,FALSE)))))))))))","v":true},{"$f":"IF(AE121,D121,\"\")","v":"Easy"},{"$f":"IF(AE121,COUNTIF($AF$5:AF121,AF121),\"X\")","v":48},{"$f":"CONCATENATE(AE121,AF121)","v":"TRUEEasy"}]
[{"$f":"CONCATENATE(AE122,D122,AG122)","v":"TRUEMedium48"},{"$f":"RAND()","v":0.95272045306374697},"Frac","Medium",95,"Change the fraction",{"$f":"RANDBETWEEN(1,8)","v":3},"/9","into a decimal correct to 3 decimal places",null,null,null,null,null,null,null,null,null,null,{"$f":"CONCATENATE(F122,\" \",G122,\"\",H122,\" \",I122,\" \",J122,\" \",K122,\" \",L122,\" \",M122,\" \",N122,\" \",O122,\" \",P122,\" \",Q122,\" \",R122)","v":"Change the fraction 3/9 into a decimal correct to 3 decimal places         "},{"$f":"TEXT(G122/9,\"0.000\")","v":"0.333"},null,null,null,null,null,null,null,{"$f":"IF(ISERROR(T122),NA(),\"\")","v":""},{"$f":"IF(OR(ISNA(U122),ISNA(V122),ISNA(W122),ISNA(X122),ISNA(Y122),ISNA(Z122),ISNA(AA122),ISNA(AB122),ISNA(AC122)),NA(),CONCATENATE(U122,V122,W122,X122,Y122,Z122,AA122,AB122))","v":"0.333"},{"$f":"IF(ISNA(AD122),FALSE,IF(C122=$B$1,Worksheet!$B$3,IF(C122=$C$1,Worksheet!$B$4,IF(C122=$D$1,Worksheet!$B$5,IF(C122=$C$2,Worksheet!$D$3,IF(C122=$D$2,Worksheet!$D$4,IF(C122=$E$2,Worksheet!$D$5,IF(C122=$C$3,Worksheet!$D$6,IF(C122=$B$3,Worksheet!$B$6,IF(C122=$D$3,Worksheet!$B$9,IF(C122=$E$3,Worksheet!$D$9,FALSE)))))))))))","v":true},{"$f":"IF(AE122,D122,\"\")","v":"Medium"},{"$f":"IF(AE122,COUNTIF($AF$5:AF122,AF122),\"X\")","v":48},{"$f":"CONCATENATE(AE122,AF122)","v":"TRUEMedium"}]
[{"$f":"CONCATENATE(AE123,D123,AG123)","v":"TRUEMedium49"},{"$f":"RAND()","v":0.65161095171191885},"%","Medium",281,"A",{"$f":"CHOOSE(RANDBETWEEN(1,5),\"jacket\",\"pair of trainers\",\"mobile phone\",\"MP3 player\",\"video game\")","v":"MP3 player"},"costs £",{"$f":"10*RANDBETWEEN(4,9)","v":90},".  In a sale, its price is reduced by ",{"$f":"RANDBETWEEN(2,9)","v":4},"%",".  What is its price in the sale?",null,null,null,null,null,null,{"$f":"CONCATENATE(F123,\" \",G123,\" \",H123,\"\",I123,\" \",J123,\" \",K123,\"\",L123,\" \",M123,\" \",N123,\" \",O123,\" \",P123,\" \",Q123,\" \",R123)","v":"A MP3 player costs £90 .  In a sale, its price is reduced by  4% .  What is its price in the sale?     "},"£",{"$f":"TEXT((100-K123)/100*I123,\"#.00\")","v":"86.40"},null,null,null,null,null,null,{"$f":"IF(ISERROR(T123),NA(),\"\")","v":""},{"$f":"IF(OR(ISNA(U123),ISNA(V123),ISNA(W123),ISNA(X123),ISNA(Y123),ISNA(Z123),ISNA(AA123),ISNA(AB123),ISNA(AC123)),NA(),CONCATENATE(U123,V123,W123,X123,Y123,Z123,AA123,AB123))","v":"£86.40"},{"$f":"IF(ISNA(AD123),FALSE,IF(C123=$B$1,Worksheet!$B$3,IF(C123=$C$1,Worksheet!$B$4,IF(C123=$D$1,Worksheet!$B$5,IF(C123=$C$2,Worksheet!$D$3,IF(C123=$D$2,Worksheet!$D$4,IF(C123=$E$2,Worksheet!$D$5,IF(C123=$C$3,Worksheet!$D$6,IF(C123=$B$3,Worksheet!$B$6,IF(C123=$D$3,Worksheet!$B$9,IF(C123=$E$3,Worksheet!$D$9,FALSE)))))))))))","v":true},{"$f":"IF(AE123,D123,\"\")","v":"Medium"},{"$f":"IF(AE123,COUNTIF($AF$5:AF123,AF123),\"X\")","v":49},{"$f":"CONCATENATE(AE123,AF123)","v":"TRUEMedium"}]
[{"$f":"CONCATENATE(AE124,D124,AG124)","v":"TRUEMedium50"},{"$f":"RAND()","v":0.65975513987390133},"Dec","Medium",200,"Write the number",{"$f":"RANDBETWEEN(2,9)/10","v":0.5},"in standard form",null,null,null,null,null,null,null,null,null,null,null,{"$f":"CONCATENATE(F124,\" \",G124,\" \",H124,\" \",I124,\" \",J124,\" \",K124,\" \",L124,\" \",M124,\" \",N124,\" \",O124,\" \",P124,\" \",Q124,\" \",R124)","v":"Write the number 0.5 in standard form          "},{"$f":"G124*10","v":5},"× 10^(-1)  (10 to the power of -1)",null,null,null,null,null,null,{"$f":"IF(ISERROR(T124),NA(),\"\")","v":""},{"$f":"IF(OR(ISNA(U124),ISNA(V124),ISNA(W124),ISNA(X124),ISNA(Y124),ISNA(Z124),ISNA(AA124),ISNA(AB124),ISNA(AC124)),NA(),CONCATENATE(U124,V124,W124,X124,Y124,Z124,AA124,AB124))","v":"5× 10^(-1)  (10 to the power of -1)"},{"$f":"IF(ISNA(AD124),FALSE,IF(C124=$B$1,Worksheet!$B$3,IF(C124=$C$1,Worksheet!$B$4,IF(C124=$D$1,Worksheet!$B$5,IF(C124=$C$2,Worksheet!$D$3,IF(C124=$D$2,Worksheet!$D$4,IF(C124=$E$2,Worksheet!$D$5,IF(C124=$C$3,Worksheet!$D$6,IF(C124=$B$3,Worksheet!$B$6,IF(C124=$D$3,Worksheet!$B$9,IF(C124=$E$3,Worksheet!$D$9,FALSE)))))))))))","v":true},{"$f":"IF(AE124,D124,\"\")","v":"Medium"},{"$f":"IF(AE124,COUNTIF($AF$5:AF124,AF124),\"X\")","v":50},{"$f":"CONCATENATE(AE124,AF124)","v":"TRUEMedium"}]
[{"$f":"CONCATENATE(AE125,D125,AG125)","v":"TRUEEasy49"},{"$f":"RAND()","v":1.0153169465947465E-2},"Neg","Easy",214,"What is ","(–",{"$f":"RANDBETWEEN(1,10)","v":10},")²","?",null,null,null,null,null,null,null,null,null,{"$f":"CONCATENATE(F125,\" \",G125,\"\",H125,\"\",I125,\" \",J125,\" \",K125,\" \",L125,\" \",M125,\" \",N125,\" \",O125,\" \",P125,\" \",Q125,\" \",R125)","v":"What is  (–10)² ?        "},{"$f":"H125^2","v":100},null,null,null,null,null,null,null,{"$f":"IF(ISERROR(T125),NA(),\"\")","v":""},{"$f":"IF(OR(ISNA(U125),ISNA(V125),ISNA(W125),ISNA(X125),ISNA(Y125),ISNA(Z125),ISNA(AA125),ISNA(AB125),ISNA(AC125)),NA(),CONCATENATE(U125,V125,W125,X125,Y125,Z125,AA125,AB125))","v":"100"},{"$f":"IF(ISNA(AD125),FALSE,IF(C125=$B$1,Worksheet!$B$3,IF(C125=$C$1,Worksheet!$B$4,IF(C125=$D$1,Worksheet!$B$5,IF(C125=$C$2,Worksheet!$D$3,IF(C125=$D$2,Worksheet!$D$4,IF(C125=$E$2,Worksheet!$D$5,IF(C125=$C$3,Worksheet!$D$6,IF(C125=$B$3,Worksheet!$B$6,IF(C125=$D$3,Worksheet!$B$9,IF(C125=$E$3,Worksheet!$D$9,FALSE)))))))))))","v":true},{"$f":"IF(AE125,D125,\"\")","v":"Easy"},{"$f":"IF(AE125,COUNTIF($AF$5:AF125,AF125),\"X\")","v":49},{"$f":"CONCATENATE(AE125,AF125)","v":"TRUEEasy"}]
[{"$f":"CONCATENATE(AE126,D126,AG126)","v":"TRUEHard22"},{"$f":"RAND()","v":0.96709929187085608},"Dec","Hard",205,"Write the number",{"$f":"RANDBETWEEN(2,9)*10000+RANDBETWEEN(1,999)*10","v":79150},"in standard form",null,null,null,null,null,null,null,null,null,null,null,{"$f":"CONCATENATE(F126,\" \",G126,\" \",H126,\" \",I126,\" \",J126,\" \",K126,\" \",L126,\" \",M126,\" \",N126,\" \",O126,\" \",P126,\" \",Q126,\" \",R126)","v":"Write the number 79150 in standard form          "},{"$f":"G126/10000","v":7.915},"× 10^4  (10 to the power of 4)",null,null,null,null,null,null,{"$f":"IF(ISERROR(T126),NA(),\"\")","v":""},{"$f":"IF(OR(ISNA(U126),ISNA(V126),ISNA(W126),ISNA(X126),ISNA(Y126),ISNA(Z126),ISNA(AA126),ISNA(AB126),ISNA(AC126)),NA(),CONCATENATE(U126,V126,W126,X126,Y126,Z126,AA126,AB126))","v":"7.915× 10^4  (10 to the power of 4)"},{"$f":"IF(ISNA(AD126),FALSE,IF(C126=$B$1,Worksheet!$B$3,IF(C126=$C$1,Worksheet!$B$4,IF(C126=$D$1,Worksheet!$B$5,IF(C126=$C$2,Worksheet!$D$3,IF(C126=$D$2,Worksheet!$D$4,IF(C126=$E$2,Worksheet!$D$5,IF(C126=$C$3,Worksheet!$D$6,IF(C126=$B$3,Worksheet!$B$6,IF(C126=$D$3,Worksheet!$B$9,IF(C126=$E$3,Worksheet!$D$9,FALSE)))))))))))","v":true},{"$f":"IF(AE126,D126,\"\")","v":"Hard"},{"$f":"IF(AE126,COUNTIF($AF$5:AF126,AF126),\"X\")","v":22},{"$f":"CONCATENATE(AE126,AF126)","v":"TRUEHard"}]
[{"$f":"CONCATENATE(AE127,D127,AG127)","v":"TRUEMedium51"},{"$f":"RAND()","v":0.79863445999990901},"Frac","Medium",78,"Fractions.     Without a calculator, work out:   ",{"$f":"TEXT(R127/S127,\"##/##\")","v":"11/35"},"of",{"$f":"S127*RANDBETWEEN(3,6)","v":210},null,null,null,null,null,null,null,null,{"$f":"RANDBETWEEN(2,S127-1)","v":22},{"$f":"RANDBETWEEN(2,10)*10","v":70},{"$f":"CONCATENATE(F127,\" \",G127,\" \",H127,\" \",I127,\" \",J127,\" \",K127,\" \",L127,\" \",M127,\" \",N127,\" \",O127,\" \",P127,\" \",Q127)","v":"Fractions.     Without a calculator, work out:    11/35 of 210        "},{"$f":"I127/S127*VALUE(LEFT(G127,1))","v":3},null,null,null,null,null,null,null,{"$f":"IF(ISERROR(T127),NA(),\"\")","v":""},{"$f":"IF(OR(ISNA(U127),ISNA(V127),ISNA(W127),ISNA(X127),ISNA(Y127),ISNA(Z127),ISNA(AA127),ISNA(AB127),ISNA(AC127)),NA(),CONCATENATE(U127,V127,W127,X127,Y127,Z127,AA127,AB127))","v":"3"},{"$f":"IF(ISNA(AD127),FALSE,IF(C127=$B$1,Worksheet!$B$3,IF(C127=$C$1,Worksheet!$B$4,IF(C127=$D$1,Worksheet!$B$5,IF(C127=$C$2,Worksheet!$D$3,IF(C127=$D$2,Worksheet!$D$4,IF(C127=$E$2,Worksheet!$D$5,IF(C127=$C$3,Worksheet!$D$6,IF(C127=$B$3,Worksheet!$B$6,IF(C127=$D$3,Worksheet!$B$9,IF(C127=$E$3,Worksheet!$D$9,FALSE)))))))))))","v":true},{"$f":"IF(AE127,D127,\"\")","v":"Medium"},{"$f":"IF(AE127,COUNTIF($AF$5:AF127,AF127),\"X\")","v":51},{"$f":"CONCATENATE(AE127,AF127)","v":"TRUEMedium"}]
[{"$f":"CONCATENATE(AE128,D128,AG128)","v":"TRUEMedium52"},{"$f":"RAND()","v":0.50090007058275798},"Dec","Medium",167,"Rewrite the numbers in order from ",{"$f":"IF(RAND()<0.5,\"smallest to biggest:   \",\"biggest to smallest:   \")","v":"biggest to smallest:   "},{"$f":"$S128/1000000","v":0.88113799999999998},{"$f":"MROUND(($S128/RANDBETWEEN(2,3))/1000000,10^RANDBETWEEN(-3,-2))","v":0.29399999999999998},{"$f":"MROUND(($S128/RANDBETWEEN(4,5))/1000000,10^RANDBETWEEN(-5,-4))","v":0.22028000000000003},{"$f":"MROUND(($S128/RANDBETWEEN(5,6))/1000000,10^RANDBETWEEN(-5,-1))","v":0.1},{"$f":"MROUND(($S128*2/RANDBETWEEN(5,6))/1000000,10^RANDBETWEEN(-5,-1))","v":0.4},null,{"$f":"L128","v":0.4},{"$f":"H128","v":0.88113799999999998},{"$f":"I128","v":0.29399999999999998},{"$f":"J128","v":0.22028000000000003},{"$f":"K128","v":0.1},{"$f":"RANDBETWEEN(101,999999)","v":881138},{"$f":"CONCATENATE(F128,\" \",G128,\" \",H128,\",   \",I128,\",   \",J128,\",    \",K128,\",    \",L128,\" \",M128)","v":"Rewrite the numbers in order from  biggest to smallest:    0.881138,   0.294,   0.22028,    0.1,    0.4 "},{"$f":"IF(LARGE($N128:$R128,IF($G128=\"biggest to smallest:   \",1,5))=$O128,$H128,IF(LARGE($N128:$R128,IF($G128=\"biggest to smallest:   \",1,5))=$P128,$I128,IF(LARGE($N128:$R128,IF($G128=\"biggest to smallest:   \",1,5))=$Q128,$J128,IF(LARGE($N128:$R128,IF($G128=\"biggest to smallest:   \",1,5))=$R128,$K128,$L128))))","v":0.88113799999999998},{"$f":"IF(LARGE($N128:$R128,IF($G128=\"biggest to smallest:   \",2,4))=$O128,$H128,IF(LARGE($N128:$R128,IF($G128=\"biggest to smallest:   \",2,4))=$P128,$I128,IF(LARGE($N128:$R128,IF($G128=\"biggest to smallest:   \",2,4))=$Q128,$J128,IF(LARGE($N128:$R128,IF($G128=\"biggest to smallest:   \",2,4))=$R128,$K128,$L128))))","v":0.4},{"$f":"IF(LARGE($N128:$R128,IF($G128=\"biggest to smallest:   \",3,3))=$O128,$H128,IF(LARGE($N128:$R128,IF($G128=\"biggest to smallest:   \",3,3))=$P128,$I128,IF(LARGE($N128:$R128,IF($G128=\"biggest to smallest:   \",3,3))=$Q128,$J128,IF(LARGE($N128:$R128,IF($G128=\"biggest to smallest:   \",3,3))=$R128,$K128,$L128))))","v":0.29399999999999998},{"$f":"IF(LARGE($N128:$R128,IF($G128=\"biggest to smallest:   \",4,2))=$O128,$H128,IF(LARGE($N128:$R128,IF($G128=\"biggest to smallest:   \",4,2))=$P128,$I128,IF(LARGE($N128:$R128,IF($G128=\"biggest to smallest:   \",4,2))=$Q128,$J128,IF(LARGE($N128:$R128,IF($G128=\"biggest to smallest:   \",4,2))=$R128,$K128,$L128))))","v":0.22028000000000003},{"$f":"IF(LARGE($N128:$R128,IF($G128=\"biggest to smallest:   \",5,1))=$O128,$H128,IF(LARGE($N128:$R128,IF($G128=\"biggest to smallest:   \",5,1))=$P128,$I128,IF(LARGE($N128:$R128,IF($G128=\"biggest to smallest:   \",5,1))=$Q128,$J128,IF(LARGE($N128:$R128,IF($G128=\"biggest to smallest:   \",5,1))=$R128,$K128,$L128))))","v":0.1},null,null,{"$f":"IF(OR(H128=L128,I128=L128,J128=L128,K128=L128,I128=J128,I128=K128),NA(),\"\")","v":""},{"$f":"IF(ISERROR(T128),NA(),\"\")","v":""},{"$f":"IF(OR(ISNA(U128),ISNA(V128),ISNA(W128),ISNA(X128),ISNA(Y128)),NA(),CONCATENATE(U128,\",   \",V128,\",   \",W128,\",   \",X128,\",   \",Y128,Z128,AA128,AB128,AC128))","v":"0.881138,   0.4,   0.294,   0.22028,   0.1"},true,{"$f":"IF(AE128,D128,\"\")","v":"Medium"},{"$f":"IF(AE128,COUNTIF($AF$5:AF128,AF128),\"X\")","v":52},{"$f":"CONCATENATE(AE128,AF128)","v":"TRUEMedium"}]
[{"$f":"CONCATENATE(AE129,D129,AG129)","v":"TRUEEasy50"},{"$f":"RAND()","v":0.72105740149491915},"+-×÷","Easy",23,"Work out the value of:",{"$f":"RANDBETWEEN(2,9)","v":6},"(",{"$f":"RANDBETWEEN(10,30)","v":12},"–",{"$f":"RANDBETWEEN(1,I129)","v":5},")",null,null,null,null,null,null,null,{"$f":"CONCATENATE(F129,\" \",G129,\" \",H129,\" \",I129,\" \",J129,\" \",K129,\" \",L129,\" \",M129,\" \",N129,\" \",O129,\" \",P129,\" \",Q129,\" \",R129)","v":"Work out the value of: 6 ( 12 – 5 )      "},{"$f":"(I129-K129)*G129","v":42},null,null,null,null,null,null,null,{"$f":"IF(ISERROR(T129),NA(),\"\")","v":""},{"$f":"IF(OR(ISNA(U129),ISNA(V129),ISNA(W129),ISNA(X129),ISNA(Y129),ISNA(Z129),ISNA(AA129),ISNA(AB129),ISNA(AC129)),NA(),CONCATENATE(U129,V129,W129,X129,Y129,Z129,AA129,AB129))","v":"42"},{"$f":"IF(ISNA(AD129),FALSE,IF(C129=$B$1,Worksheet!$B$3,IF(C129=$C$1,Worksheet!$B$4,IF(C129=$D$1,Worksheet!$B$5,IF(C129=$C$2,Worksheet!$D$3,IF(C129=$D$2,Worksheet!$D$4,IF(C129=$E$2,Worksheet!$D$5,IF(C129=$C$3,Worksheet!$D$6,IF(C129=$B$3,Worksheet!$B$6,IF(C129=$D$3,Worksheet!$B$9,IF(C129=$E$3,Worksheet!$D$9,FALSE)))))))))))","v":true},{"$f":"IF(AE129,D129,\"\")","v":"Easy"},{"$f":"IF(AE129,COUNTIF($AF$5:AF129,AF129),\"X\")","v":50},{"$f":"CONCATENATE(AE129,AF129)","v":"TRUEEasy"}]
[{"$f":"CONCATENATE(AE130,D130,AG130)","v":"TRUEEasy51"},{"$f":"RAND()","v":0.35287934860380621},"Dec","Easy",188,"Change the number ",{"$f":"RANDBETWEEN(1,9)+RANDBETWEEN(1,9)/10","v":6.1},"× 10^",{"$f":"RANDBETWEEN(2,6)","v":6},"(10 to the power of",{"$f":"I130","v":6},") from standard form to normal form",null,null,null,null,null,null,null,{"$f":"CONCATENATE(F130,\" \",G130,\" \",H130,\"\",I130,\" \",J130,\" \",K130,\"\",L130,\" \",M130,\" \",N130,\" \",O130,\" \",P130,\" \",Q130,\" \",R130)","v":"Change the number  6.1 × 10^6 (10 to the power of 6) from standard form to normal form      "},{"$f":"G130*10^I130","v":6100000},null,null,null,null,null,null,null,{"$f":"IF(ISERROR(T130),NA(),\"\")","v":""},{"$f":"IF(OR(ISNA(U130),ISNA(V130),ISNA(W130),ISNA(X130),ISNA(Y130),ISNA(Z130),ISNA(AA130),ISNA(AB130),ISNA(AC130)),NA(),CONCATENATE(U130,V130,W130,X130,Y130,Z130,AA130,AB130))","v":"6100000"},{"$f":"IF(ISNA(AD130),FALSE,IF(C130=$B$1,Worksheet!$B$3,IF(C130=$C$1,Worksheet!$B$4,IF(C130=$D$1,Worksheet!$B$5,IF(C130=$C$2,Worksheet!$D$3,IF(C130=$D$2,Worksheet!$D$4,IF(C130=$E$2,Worksheet!$D$5,IF(C130=$C$3,Worksheet!$D$6,IF(C130=$B$3,Worksheet!$B$6,IF(C130=$D$3,Worksheet!$B$9,IF(C130=$E$3,Worksheet!$D$9,FALSE)))))))))))","v":true},{"$f":"IF(AE130,D130,\"\")","v":"Easy"},{"$f":"IF(AE130,COUNTIF($AF$5:AF130,AF130),\"X\")","v":51},{"$f":"CONCATENATE(AE130,AF130)","v":"TRUEEasy"}]
[{"$f":"CONCATENATE(AE131,D131,AG131)","v":"TRUEMedium53"},{"$f":"RAND()","v":0.72527120383823307},"Eqn","Medium",319,"Solve the equation",{"$f":"RANDBETWEEN(2,10)","v":6},{"$f":"CHOOSE(RANDBETWEEN(1,22),\"a\",\"b\",\"c\",\"d\",\"f\",\"g\",\"h\",\"j\",\"k\",\"m\",\"n\",\"p\",\"q\",\"r\",\"s\",\"t\",\"u\",\"v\",\"w\",\"x\",\"y\",\"z\")","v":"y"},"+",{"$f":"RANDBETWEEN(1,10)","v":5},"=",{"$f":"G131*W131+J131","v":89},".      Show your working in full.",null,null,null,null,null,null,{"$f":"CONCATENATE(F131,\" \",G131,\"\",H131,\" \",I131,\" \",J131,\" \",K131,\" \",L131,\" \",M131,\" \",N131,\" \",O131,\" \",P131,\" \",Q131,\" \",R131)","v":"Solve the equation 6y + 5 = 89 .      Show your working in full.     "},{"$f":"H131","v":"y"}," = ",{"$f":"RANDBETWEEN(10,30)","v":14},null,null,null,null,null,{"$f":"IF(ISERROR(T131),NA(),\"\")","v":""},{"$f":"IF(OR(ISNA(U131),ISNA(V131),ISNA(W131),ISNA(X131),ISNA(Y131),ISNA(Z131),ISNA(AA131),ISNA(AB131),ISNA(AC131)),NA(),CONCATENATE(U131,V131,W131,X131,Y131,Z131,AA131,AB131))","v":"y = 14"},{"$f":"IF(ISNA(AD131),FALSE,IF(C131=$B$1,Worksheet!$B$3,IF(C131=$C$1,Worksheet!$B$4,IF(C131=$D$1,Worksheet!$B$5,IF(C131=$C$2,Worksheet!$D$3,IF(C131=$D$2,Worksheet!$D$4,IF(C131=$E$2,Worksheet!$D$5,IF(C131=$C$3,Worksheet!$D$6,IF(C131=$B$3,Worksheet!$B$6,IF(C131=$D$3,Worksheet!$B$9,IF(C131=$E$3,Worksheet!$D$9,FALSE)))))))))))","v":true},{"$f":"IF(AE131,D131,\"\")","v":"Medium"},{"$f":"IF(AE131,COUNTIF($AF$5:AF131,AF131),\"X\")","v":53},{"$f":"CONCATENATE(AE131,AF131)","v":"TRUEMedium"}]
[{"$f":"CONCATENATE(AE132,D132,AG132)","v":"TRUEEasy52"},{"$f":"RAND()","v":0.19484804990792737},"Frac","Easy",85,"Write the topheavy fraction ",{"$f":"5*RANDBETWEEN(1,5)+RANDBETWEEN(1,4)","v":19},"/5","as a mixed number",null,null,null,null,null,null,null,null,null,null,{"$f":"CONCATENATE(F132,\" \",G132,\"\",H132,\" \",I132,\" \",J132,\" \",K132,\" \",L132,\" \",M132,\" \",N132,\" \",O132,\" \",P132,\" \",Q132,\" \",R132)","v":"Write the topheavy fraction  19/5 as a mixed number         "},{"$f":"INT(G132/5)","v":3}," ",{"$f":"MOD(G132,5)","v":4},"/",5,null,null,null,{"$f":"IF(ISERROR(T132),NA(),\"\")","v":""},{"$f":"IF(OR(ISNA(U132),ISNA(V132),ISNA(W132),ISNA(X132),ISNA(Y132),ISNA(Z132),ISNA(AA132),ISNA(AB132),ISNA(AC132)),NA(),CONCATENATE(U132,V132,W132,X132,Y132,Z132,AA132,AB132))","v":"3 4/5"},{"$f":"IF(ISNA(AD132),FALSE,IF(C132=$B$1,Worksheet!$B$3,IF(C132=$C$1,Worksheet!$B$4,IF(C132=$D$1,Worksheet!$B$5,IF(C132=$C$2,Worksheet!$D$3,IF(C132=$D$2,Worksheet!$D$4,IF(C132=$E$2,Worksheet!$D$5,IF(C132=$C$3,Worksheet!$D$6,IF(C132=$B$3,Worksheet!$B$6,IF(C132=$D$3,Worksheet!$B$9,IF(C132=$E$3,Worksheet!$D$9,FALSE)))))))))))","v":true},{"$f":"IF(AE132,D132,\"\")","v":"Easy"},{"$f":"IF(AE132,COUNTIF($AF$5:AF132,AF132),\"X\")","v":52},{"$f":"CONCATENATE(AE132,AF132)","v":"TRUEEasy"}]
[{"$f":"CONCATENATE(AE133,D133,AG133)","v":"TRUEHard23"},{"$f":"RAND()","v":0.34206066295337867},"Frac","Hard",120,"Multiply:     ",{"$f":"RANDBETWEEN(1,5)","v":5},{"$f":"IF(J133=4,CHOOSE(RANDBETWEEN(1,2),1,3),RANDBETWEEN(1,J133-1))","v":1},"/",{"$f":"RANDBETWEEN(3,5)","v":5},null,"  ×  ",{"$f":"RANDBETWEEN(2,4)*J133-RANDBETWEEN(1,J133-1)","v":14},null,null,null,null,null,null,{"$f":"CONCATENATE(F133,\" \",G133,\"   \",H133,\"\",I133,\"\",J133,\" \",K133,\" \",L133,\" \",M133,\"   \",N133,\"\",O133,\"\",P133,\" \",Q133,\" \",R133)","v":"Multiply:      5   1/5    ×   14     "},{"$f":"M133*G133+INT(M133*H133/J133)","v":72},{"$f":"MOD(H133*M133,J133)/AC133","v":4},{"$f":"IF(M133=1,NA(),\"/\")","v":"/"},{"$f":"J133/AC133","v":5},{"$f":"IF(V133=\"\",\"\",\"   or   \")","v":"   or   "},{"$f":"IF(V133=\"\",\"\",X133*U133+V133)","v":364},{"$f":"IF(V133=\"\",\"\",\"/\")","v":"/"},{"$f":"X133","v":5},{"$f":"GCD(MOD(H133*M133,J133),J133)","v":1},{"$f":"IF(OR(ISNA(U133),ISNA(V133),ISNA(W133),ISNA(X133),ISNA(Y133),ISNA(Z133),ISNA(AA133),ISNA(AB133),ISNA(AC133)),NA(),CONCATENATE(IF(U133=0,\"\",U133),IF(U133=0,\"\",\"  \"),IF(U133=0,\"\",V133),IF(U133=0,\"\",W133),IF(U133=0,\"\",X133),IF(U133=0,\"\",Y133),Z133,AA133,AB133))","v":"72  4/5   or   364/5"},{"$f":"IF(ISNA(AD133),FALSE,IF(C133=$B$1,Worksheet!$B$3,IF(C133=$C$1,Worksheet!$B$4,IF(C133=$D$1,Worksheet!$B$5,IF(C133=$C$2,Worksheet!$D$3,IF(C133=$D$2,Worksheet!$D$4,IF(C133=$E$2,Worksheet!$D$5,IF(C133=$C$3,Worksheet!$D$6,IF(C133=$B$3,Worksheet!$B$6,IF(C133=$D$3,Worksheet!$B$9,IF(C133=$E$3,Worksheet!$D$9,FALSE)))))))))))","v":true},{"$f":"IF(AE133,D133,\"\")","v":"Hard"},{"$f":"IF(AE133,COUNTIF($AF$5:AF133,AF133),\"X\")","v":23},{"$f":"CONCATENATE(AE133,AF133)","v":"TRUEHard"}]
[{"$f":"CONCATENATE(AE134,D134,AG134)","v":"TRUEEasy53"},{"$f":"RAND()","v":0.33330755841930071},"Dec","Easy",137,"What number is exactly half way between",{"$f":"RANDBETWEEN(1,9)+RANDBETWEEN(0,9)*0.1+RANDBETWEEN(1,9)*0.01+RANDBETWEEN(1,8)*0.001","v":2.9529999999999998},"and",{"$f":"G134+0.001","v":2.9539999999999997},"?",null,null,null,null,null,null,null,null,null,{"$f":"CONCATENATE(F134,\" \",G134,\" \",H134,\" \",I134,\"\",J134,\"\",K134,\" \",L134,\" \",M134,\" \",N134,\" \",O134,\" \",P134,\" \",Q134,\" \",R134)","v":"What number is exactly half way between 2.953 and 2.954?       "},{"$f":"G134+0.0005","v":2.9535},null,null,null,null,null,null,null,{"$f":"IF(ISERROR(T134),NA(),\"\")","v":""},{"$f":"IF(OR(ISNA(U134),ISNA(V134),ISNA(W134),ISNA(X134),ISNA(Y134),ISNA(Z134),ISNA(AA134),ISNA(AB134),ISNA(AC134)),NA(),CONCATENATE(U134,V134,W134,X134,Y134,Z134,AA134,AB134))","v":"2.9535"},{"$f":"IF(ISNA(AD134),FALSE,IF(C134=$B$1,Worksheet!$B$3,IF(C134=$C$1,Worksheet!$B$4,IF(C134=$D$1,Worksheet!$B$5,IF(C134=$C$2,Worksheet!$D$3,IF(C134=$D$2,Worksheet!$D$4,IF(C134=$E$2,Worksheet!$D$5,IF(C134=$C$3,Worksheet!$D$6,IF(C134=$B$3,Worksheet!$B$6,IF(C134=$D$3,Worksheet!$B$9,IF(C134=$E$3,Worksheet!$D$9,FALSE)))))))))))","v":true},{"$f":"IF(AE134,D134,\"\")","v":"Easy"},{"$f":"IF(AE134,COUNTIF($AF$5:AF134,AF134),\"X\")","v":53},{"$f":"CONCATENATE(AE134,AF134)","v":"TRUEEasy"}]
[{"$f":"CONCATENATE(AE135,D135,AG135)","v":"TRUEEasy54"},{"$f":"RAND()","v":0.80598130769020515},"Alg","Easy",331,"Multiply out the bracket:",{"$f":"RANDBETWEEN(2,10)","v":3},"(",{"$f":"CHOOSE(RANDBETWEEN(1,22),\"a\",\"b\",\"c\",\"d\",\"f\",\"g\",\"h\",\"j\",\"k\",\"m\",\"n\",\"p\",\"q\",\"r\",\"s\",\"t\",\"u\",\"v\",\"w\",\"x\",\"y\",\"z\")","v":"n"},"+",{"$f":"RANDBETWEEN(1,10)","v":9},")",null,null,null,null,null,null,null,{"$f":"CONCATENATE(F135,\" \",G135,\" \",H135,\" \",I135,\" \",J135,\" \",K135,\" \",L135,\" \",M135,\" \",N135,\" \",O135,\" \",P135,\" \",Q135,\" \",R135)","v":"Multiply out the bracket: 3 ( n + 9 )      "},{"$f":"CONCATENATE(G135,I135,\" \",J135,\" \",G135*K135)","v":"3n + 27"},null,null,null,null,null,null,null,{"$f":"IF(L135<0,NA(),\"\")","v":""},{"$f":"IF(OR(ISNA(U135),ISNA(V135),ISNA(W135),ISNA(X135),ISNA(Y135),ISNA(Z135),ISNA(AA135),ISNA(AB135),ISNA(AC135)),NA(),CONCATENATE(U135,V135,W135,X135,Y135,Z135,AA135,AB135))","v":"3n + 27"},{"$f":"IF(ISNA(AD135),FALSE,IF(C135=$B$1,Worksheet!$B$3,IF(C135=$C$1,Worksheet!$B$4,IF(C135=$D$1,Worksheet!$B$5,IF(C135=$C$2,Worksheet!$D$3,IF(C135=$D$2,Worksheet!$D$4,IF(C135=$E$2,Worksheet!$D$5,IF(C135=$C$3,Worksheet!$D$6,IF(C135=$B$3,Worksheet!$B$6,IF(C135=$D$3,Worksheet!$B$9,IF(C135=$E$3,Worksheet!$D$9,FALSE)))))))))))","v":true},{"$f":"IF(AE135,D135,\"\")","v":"Easy"},{"$f":"IF(AE135,COUNTIF($AF$5:AF135,AF135),\"X\")","v":54},{"$f":"CONCATENATE(AE135,AF135)","v":"TRUEEasy"}]
[{"$f":"CONCATENATE(AE136,D136,AG136)","v":"TRUEMedium54"},{"$f":"RAND()","v":0.8487386047451273},"Surds","Medium",37,"Square roots.    What is   √",{"$f":"(RANDBETWEEN(2,10)*10)^2","v":3600},"?",null,null,null,null,null,null,null,null,null,null,null,{"$f":"CONCATENATE(F136,\"\",G136,\" \",H136,\" \",I136,\" \",J136,\" \",K136,\" \",L136,\" \",M136,\" \",N136,\" \",O136,\" \",P136,\" \",Q136,\" \",R136)","v":"Square roots.    What is   √3600 ?          "},{"$f":"SQRT(G136)","v":60},null,null,null,null,null,null,null,{"$f":"IF(ISERROR(T136),NA(),\"\")","v":""},{"$f":"IF(OR(ISNA(U136),ISNA(V136),ISNA(W136),ISNA(X136),ISNA(Y136),ISNA(Z136),ISNA(AA136),ISNA(AB136),ISNA(AC136)),NA(),CONCATENATE(U136,V136,W136,X136,Y136,Z136,AA136,AB136))","v":"60"},{"$f":"IF(ISNA(AD136),FALSE,IF(C136=$B$1,Worksheet!$B$3,IF(C136=$C$1,Worksheet!$B$4,IF(C136=$D$1,Worksheet!$B$5,IF(C136=$C$2,Worksheet!$D$3,IF(C136=$D$2,Worksheet!$D$4,IF(C136=$E$2,Worksheet!$D$5,IF(C136=$C$3,Worksheet!$D$6,IF(C136=$B$3,Worksheet!$B$6,IF(C136=$D$3,Worksheet!$B$9,IF(C136=$E$3,Worksheet!$D$9,FALSE)))))))))))","v":true},{"$f":"IF(AE136,D136,\"\")","v":"Medium"},{"$f":"IF(AE136,COUNTIF($AF$5:AF136,AF136),\"X\")","v":54},{"$f":"CONCATENATE(AE136,AF136)","v":"TRUEMedium"}]
[{"$f":"CONCATENATE(AE137,D137,AG137)","v":"TRUEMedium55"},{"$f":"RAND()","v":0.2854272242664263},"%","Medium",278,"A",{"$f":"CHOOSE(RANDBETWEEN(1,5),\"jacket\",\"pair of trainers\",\"mobile phone\",\"MP3 player\",\"video game\")","v":"mobile phone"},"costs £",{"$f":"10*RANDBETWEEN(4,9)","v":70},".  In a sale, its price is reduced by ",{"$f":"10*RANDBETWEEN(2,4)","v":40},"%",".  What is its price in the sale?",null,null,null,null,null,null,{"$f":"CONCATENATE(F137,\" \",G137,\" \",H137,\"\",I137,\" \",J137,\" \",K137,\"\",L137,\" \",M137,\" \",N137,\" \",O137,\" \",P137,\" \",Q137,\" \",R137)","v":"A mobile phone costs £70 .  In a sale, its price is reduced by  40% .  What is its price in the sale?     "},"£",{"$f":"(100-K137)/100*I137","v":42},null,null,null,null,null,null,{"$f":"IF(ISERROR(T137),NA(),\"\")","v":""},{"$f":"IF(OR(ISNA(U137),ISNA(V137),ISNA(W137),ISNA(X137),ISNA(Y137),ISNA(Z137),ISNA(AA137),ISNA(AB137),ISNA(AC137)),NA(),CONCATENATE(U137,V137,W137,X137,Y137,Z137,AA137,AB137))","v":"£42"},{"$f":"IF(ISNA(AD137),FALSE,IF(C137=$B$1,Worksheet!$B$3,IF(C137=$C$1,Worksheet!$B$4,IF(C137=$D$1,Worksheet!$B$5,IF(C137=$C$2,Worksheet!$D$3,IF(C137=$D$2,Worksheet!$D$4,IF(C137=$E$2,Worksheet!$D$5,IF(C137=$C$3,Worksheet!$D$6,IF(C137=$B$3,Worksheet!$B$6,IF(C137=$D$3,Worksheet!$B$9,IF(C137=$E$3,Worksheet!$D$9,FALSE)))))))))))","v":true},{"$f":"IF(AE137,D137,\"\")","v":"Medium"},{"$f":"IF(AE137,COUNTIF($AF$5:AF137,AF137),\"X\")","v":55},{"$f":"CONCATENATE(AE137,AF137)","v":"TRUEMedium"}]
[{"$f":"CONCATENATE(AE138,D138,AG138)","v":"TRUEEasy55"},{"$f":"RAND()","v":3.0755268338618635E-2},"+-×÷","Easy",10,"Add  ",{"$f":"RANDBETWEEN(10000,99999)","v":98809}," + ",{"$f":"RANDBETWEEN(10000,99999)","v":36598},"  without a calculator",null,null,null,null,null,null,null,null,null,{"$f":"CONCATENATE(F138,\" \",G138,\" \",H138,\" \",I138,\" \",J138,\" \",K138,\" \",L138,\" \",M138,\" \",N138,\" \",O138,\" \",P138,\" \",Q138,\" \",R138)","v":"Add   98809  +  36598   without a calculator        "},{"$f":"G138+I138","v":135407},null,null,null,null,null,null,null,{"$f":"IF(ISERROR(T138),NA(),\"\")","v":""},{"$f":"IF(OR(ISNA(U138),ISNA(V138),ISNA(W138),ISNA(X138),ISNA(Y138),ISNA(Z138),ISNA(AA138),ISNA(AB138),ISNA(AC138)),NA(),CONCATENATE(U138,V138,W138,X138,Y138,Z138,AA138,AB138))","v":"135407"},{"$f":"IF(ISNA(AD138),FALSE,IF(C138=$B$1,Worksheet!$B$3,IF(C138=$C$1,Worksheet!$B$4,IF(C138=$D$1,Worksheet!$B$5,IF(C138=$C$2,Worksheet!$D$3,IF(C138=$D$2,Worksheet!$D$4,IF(C138=$E$2,Worksheet!$D$5,IF(C138=$C$3,Worksheet!$D$6,IF(C138=$B$3,Worksheet!$B$6,IF(C138=$D$3,Worksheet!$B$9,IF(C138=$E$3,Worksheet!$D$9,FALSE)))))))))))","v":true},{"$f":"IF(AE138,D138,\"\")","v":"Easy"},{"$f":"IF(AE138,COUNTIF($AF$5:AF138,AF138),\"X\")","v":55},{"$f":"CONCATENATE(AE138,AF138)","v":"TRUEEasy"}]
[{"$f":"CONCATENATE(AE139,D139,AG139)","v":"TRUEEasy56"},{"$f":"RAND()","v":0.63841356444707753},"%","Easy",268,"What is","33⅓%","of",{"$f":"3*RANDBETWEEN(2,10)*10^RANDBETWEEN(0,3)","v":27},"?",null,null,null,null,null,null,null,null,null,{"$f":"CONCATENATE(F139,\" \",G139,\" \",H139,\" \",I139,\"\",J139,\" \",K139,\" \",L139,\" \",M139,\" \",N139,\" \",O139,\" \",P139,\" \",Q139,\" \",R139)","v":"What is 33⅓% of 27?        "},{"$f":"I139/3","v":9},null,null,null,null,null,null,null,{"$f":"IF(ISERROR(T139),NA(),\"\")","v":""},{"$f":"IF(OR(ISNA(U139),ISNA(V139),ISNA(W139),ISNA(X139),ISNA(Y139),ISNA(Z139),ISNA(AA139),ISNA(AB139),ISNA(AC139)),NA(),CONCATENATE(U139,V139,W139,X139,Y139,Z139,AA139,AB139))","v":"9"},{"$f":"IF(ISNA(AD139),FALSE,IF(C139=$B$1,Worksheet!$B$3,IF(C139=$C$1,Worksheet!$B$4,IF(C139=$D$1,Worksheet!$B$5,IF(C139=$C$2,Worksheet!$D$3,IF(C139=$D$2,Worksheet!$D$4,IF(C139=$E$2,Worksheet!$D$5,IF(C139=$C$3,Worksheet!$D$6,IF(C139=$B$3,Worksheet!$B$6,IF(C139=$D$3,Worksheet!$B$9,IF(C139=$E$3,Worksheet!$D$9,FALSE)))))))))))","v":true},{"$f":"IF(AE139,D139,\"\")","v":"Easy"},{"$f":"IF(AE139,COUNTIF($AF$5:AF139,AF139),\"X\")","v":56},{"$f":"CONCATENATE(AE139,AF139)","v":"TRUEEasy"}]
[{"$f":"CONCATENATE(AE140,D140,AG140)","v":"TRUEMedium56"},{"$f":"RAND()","v":0.49863528990372874},"Alg","Medium",313,"Algebra.  If ",{"$f":"CHOOSE(RANDBETWEEN(1,22),\"a\",\"b\",\"c\",\"d\",\"f\",\"g\",\"h\",\"j\",\"k\",\"m\",\"n\",\"p\",\"q\",\"r\",\"s\",\"t\",\"u\",\"v\",\"w\",\"x\",\"y\",\"z\")","v":"u"},"=",{"$f":"RANDBETWEEN(1,5)+0.5","v":5.5},", what is the value of:    ",{"$f":"RANDBETWEEN(4,10)*10","v":70},"–",{"$f":"RANDBETWEEN(2,10)","v":10},{"$f":"G140","v":"u"},"?",null,null,null,null,{"$f":"CONCATENATE(F140,\" \",G140,\" \",H140,\" \",I140,\" \",J140,\" \",K140,\" \",L140,\" \",M140,\"\",N140,\" \",O140,\" \",P140,\" \",Q140,\" \",R140)","v":"Algebra.  If  u = 5.5 , what is the value of:     70 – 10u ?   "},{"$f":"K140-M140*I140","v":15},null,null,null,null,null,null,null,{"$f":"IF(ISERROR(T140),NA(),\"\")","v":""},{"$f":"IF(OR(ISNA(U140),ISNA(V140),ISNA(W140),ISNA(X140),ISNA(Y140),ISNA(Z140),ISNA(AA140),ISNA(AB140),ISNA(AC140)),NA(),CONCATENATE(U140,V140,W140,X140,Y140,Z140,AA140,AB140))","v":"15"},{"$f":"IF(ISNA(AD140),FALSE,IF(C140=$B$1,Worksheet!$B$3,IF(C140=$C$1,Worksheet!$B$4,IF(C140=$D$1,Worksheet!$B$5,IF(C140=$C$2,Worksheet!$D$3,IF(C140=$D$2,Worksheet!$D$4,IF(C140=$E$2,Worksheet!$D$5,IF(C140=$C$3,Worksheet!$D$6,IF(C140=$B$3,Worksheet!$B$6,IF(C140=$D$3,Worksheet!$B$9,IF(C140=$E$3,Worksheet!$D$9,FALSE)))))))))))","v":true},{"$f":"IF(AE140,D140,\"\")","v":"Medium"},{"$f":"IF(AE140,COUNTIF($AF$5:AF140,AF140),\"X\")","v":56},{"$f":"CONCATENATE(AE140,AF140)","v":"TRUEMedium"}]
[{"$f":"CONCATENATE(AE141,D141,AG141)","v":"TRUEMedium57"},{"$f":"RAND()","v":0.47318941139161397},"Surds","Medium",51,"Simplify      ",{"$f":"RANDBETWEEN(4,10)","v":5},"√",{"$f":"CHOOSE(RANDBETWEEN(1,4),2,3,5,7)","v":2},"–",{"$f":"RANDBETWEEN(2,G141-1)","v":3},"√",{"$f":"I141","v":2},null,null,null,null,null,null,{"$f":"CONCATENATE(F141,\"\",G141,\"\",H141,\"\",I141,\" \",J141,\" \",K141,\"\",L141,\"\",M141,\" \",N141,\" \",O141,\" \",P141,\" \",Q141,\" \",R141)","v":"Simplify      5√2 – 3√2     "},{"$f":"G141-K141","v":2},"√",{"$f":"I141","v":2},null,null,null,null,null,{"$f":"IF(ISERROR(T141),NA(),\"\")","v":""},{"$f":"IF(OR(ISNA(U141),ISNA(V141),ISNA(W141),ISNA(X141),ISNA(Y141),ISNA(Z141),ISNA(AA141),ISNA(AB141),ISNA(AC141)),NA(),CONCATENATE(U141,V141,W141,X141,Y141,Z141,AA141,AB141))","v":"2√2"},{"$f":"IF(ISNA(AD141),FALSE,IF(C141=$B$1,Worksheet!$B$3,IF(C141=$C$1,Worksheet!$B$4,IF(C141=$D$1,Worksheet!$B$5,IF(C141=$C$2,Worksheet!$D$3,IF(C141=$D$2,Worksheet!$D$4,IF(C141=$E$2,Worksheet!$D$5,IF(C141=$C$3,Worksheet!$D$6,IF(C141=$B$3,Worksheet!$B$6,IF(C141=$D$3,Worksheet!$B$9,IF(C141=$E$3,Worksheet!$D$9,FALSE)))))))))))","v":true},{"$f":"IF(AE141,D141,\"\")","v":"Medium"},{"$f":"IF(AE141,COUNTIF($AF$5:AF141,AF141),\"X\")","v":57},{"$f":"CONCATENATE(AE141,AF141)","v":"TRUEMedium"}]
[{"$f":"CONCATENATE(AE142,D142,AG142)","v":"TRUEEasy57"},{"$f":"RAND()","v":0.11363917869724838},"+-×÷","Easy",148,"Take away:   ",{"$f":"RANDBETWEEN(1,9)+RANDBETWEEN(1,9)*0.1+RANDBETWEEN(0,9)*0.01","v":3.12},"–",{"$f":"RANDBETWEEN(1,9)+RANDBETWEEN(0,9)*0.1+RANDBETWEEN(0,9)*0.01+RANDBETWEEN(1,9)*0.001","v":8.2550000000000008},null,null,null,null,null,null,null,null,null,null,{"$f":"CONCATENATE(F142,\" \",G142,\" \",H142,\" \",I142,\" \",J142,\" \",K142,\" \",L142,\" \",M142,\" \",N142,\" \",O142,\" \",P142,\" \",Q142,\" \",R142)","v":"Take away:    3.12 – 8.255         "},{"$f":"G142+I142","v":11.375},null,null,null,null,null,null,null,{"$f":"IF(ISERROR(T142),NA(),\"\")","v":""},{"$f":"IF(OR(ISNA(U142),ISNA(V142),ISNA(W142),ISNA(X142),ISNA(Y142),ISNA(Z142),ISNA(AA142),ISNA(AB142),ISNA(AC142)),NA(),CONCATENATE(U142,V142,W142,X142,Y142,Z142,AA142,AB142))","v":"11.375"},{"$f":"IF(ISNA(AD142),FALSE,IF(C142=$B$1,Worksheet!$B$3,IF(C142=$C$1,Worksheet!$B$4,IF(C142=$D$1,Worksheet!$B$5,IF(C142=$C$2,Worksheet!$D$3,IF(C142=$D$2,Worksheet!$D$4,IF(C142=$E$2,Worksheet!$D$5,IF(C142=$C$3,Worksheet!$D$6,IF(C142=$B$3,Worksheet!$B$6,IF(C142=$D$3,Worksheet!$B$9,IF(C142=$E$3,Worksheet!$D$9,FALSE)))))))))))","v":true},{"$f":"IF(AE142,D142,\"\")","v":"Easy"},{"$f":"IF(AE142,COUNTIF($AF$5:AF142,AF142),\"X\")","v":57},{"$f":"CONCATENATE(AE142,AF142)","v":"TRUEEasy"}]
[{"$f":"CONCATENATE(AE143,D143,AG143)","v":"TRUEHard24"},{"$f":"RAND()","v":8.8370505595679272E-2},"Frac","Hard",115,"Add the mixed numbers:      ",{"$f":"RANDBETWEEN(1,5)","v":4},{"$f":"IF(J143=4,CHOOSE(RANDBETWEEN(1,2),1,3),RANDBETWEEN(1,J143-1))","v":1},"/",{"$f":"RANDBETWEEN(5,8)","v":5},null,"  +  ",{"$f":"RANDBETWEEN(1,5)","v":1},{"$f":"RANDBETWEEN(1,P143-1)","v":1},"/",{"$f":"SMALL(IF(J143={5,6,7,8},\"\",{5,6,7,8}),RANDBETWEEN(1,3))","v":6},null,null,null,{"$f":"CONCATENATE(F143,\" \",G143,\"   \",H143,\"\",I143,\"\",J143,\" \",K143,\" \",L143,\" \",M143,\"   \",N143,\"\",O143,\"\",P143,\" \",Q143,\" \",R143)","v":"Add the mixed numbers:       4   1/5    +   1   1/6  "},{"$f":"IF(P143*H143+J143*N143>=J143*P143,M143+G143+1,M143+G143)","v":5},{"$f":"IF((H143*P143+J143*N143-IF(H143*P143+J143*N143>=J143*P143,J143*P143,0))/AC143=0,\"\",(H143*P143+J143*N143-IF(H143*P143+J143*N143>=J143*P143,J143*P143,0))/AC143)","v":11},{"$f":"IF((H143*P143+J143*N143-IF(H143*P143+J143*N143>=J143*P143,J143*P143,0))/AC143=0,\"\",\"/\")","v":"/"},{"$f":"IF((H143*P143+J143*N143-IF(H143*P143+J143*N143>=J143*P143,J143*P143,0))/AC143=0,\"\",J143*P143/AC143)","v":30},{"$f":"IF(V143=\"\",\"\",\"   or   \")","v":"   or   "},{"$f":"IF(V143=\"\",\"\",X143*U143+V143)","v":161},{"$f":"IF(V143=\"\",\"\",\"/\")","v":"/"},{"$f":"X143","v":30},{"$f":"GCD(H143*P143+J143*N143,P143*J143)","v":1},{"$f":"IF(OR(ISNA(U143),ISNA(V143),ISNA(W143),ISNA(X143),ISNA(Y143),ISNA(Z143),ISNA(AA143),ISNA(AB143),ISNA(AC143)),NA(),CONCATENATE(U143,\"  \",V143,W143,X143,Y143,Z143,AA143,AB143))","v":"5  11/30   or   161/30"},{"$f":"IF(ISNA(AD143),FALSE,IF(C143=$B$1,Worksheet!$B$3,IF(C143=$C$1,Worksheet!$B$4,IF(C143=$D$1,Worksheet!$B$5,IF(C143=$C$2,Worksheet!$D$3,IF(C143=$D$2,Worksheet!$D$4,IF(C143=$E$2,Worksheet!$D$5,IF(C143=$C$3,Worksheet!$D$6,IF(C143=$B$3,Worksheet!$B$6,IF(C143=$D$3,Worksheet!$B$9,IF(C143=$E$3,Worksheet!$D$9,FALSE)))))))))))","v":true},{"$f":"IF(AE143,D143,\"\")","v":"Hard"},{"$f":"IF(AE143,COUNTIF($AF$5:AF143,AF143),\"X\")","v":24},{"$f":"CONCATENATE(AE143,AF143)","v":"TRUEHard"}]
[{"$f":"CONCATENATE(AE144,D144,AG144)","v":"TRUEEasy58"},{"$f":"RAND()","v":0.62097434532682227},"Eqn","Easy",320,"Solve the equation",{"$f":"RANDBETWEEN(2,10)","v":8},{"$f":"CHOOSE(RANDBETWEEN(1,22),\"a\",\"b\",\"c\",\"d\",\"f\",\"g\",\"h\",\"j\",\"k\",\"m\",\"n\",\"p\",\"q\",\"r\",\"s\",\"t\",\"u\",\"v\",\"w\",\"x\",\"y\",\"z\")","v":"k"},"–",{"$f":"RANDBETWEEN(1,10)","v":4},"=",{"$f":"G144*W144-J144","v":228},".      Show your working in full.",null,null,null,null,null,null,{"$f":"CONCATENATE(F144,\" \",G144,\"\",H144,\" \",I144,\" \",J144,\" \",K144,\" \",L144,\" \",M144,\" \",N144,\" \",O144,\" \",P144,\" \",Q144,\" \",R144)","v":"Solve the equation 8k – 4 = 228 .      Show your working in full.     "},{"$f":"H144","v":"k"}," = ",{"$f":"RANDBETWEEN(10,30)","v":29},null,null,null,null,null,{"$f":"IF(L144<0,NA(),\"\")","v":""},{"$f":"IF(OR(ISNA(U144),ISNA(V144),ISNA(W144),ISNA(X144),ISNA(Y144),ISNA(Z144),ISNA(AA144),ISNA(AB144),ISNA(AC144)),NA(),CONCATENATE(U144,V144,W144,X144,Y144,Z144,AA144,AB144))","v":"k = 29"},{"$f":"IF(ISNA(AD144),FALSE,IF(C144=$B$1,Worksheet!$B$3,IF(C144=$C$1,Worksheet!$B$4,IF(C144=$D$1,Worksheet!$B$5,IF(C144=$C$2,Worksheet!$D$3,IF(C144=$D$2,Worksheet!$D$4,IF(C144=$E$2,Worksheet!$D$5,IF(C144=$C$3,Worksheet!$D$6,IF(C144=$B$3,Worksheet!$B$6,IF(C144=$D$3,Worksheet!$B$9,IF(C144=$E$3,Worksheet!$D$9,FALSE)))))))))))","v":true},{"$f":"IF(AE144,D144,\"\")","v":"Easy"},{"$f":"IF(AE144,COUNTIF($AF$5:AF144,AF144),\"X\")","v":58},{"$f":"CONCATENATE(AE144,AF144)","v":"TRUEEasy"}]
[{"$f":"CONCATENATE(AE145,D145,AG145)","v":"TRUEMedium58"},{"$f":"RAND()","v":0.82174724311989189},"Round","Medium",173,"Round the number",{"$f":"ROUND(RAND()+RANDBETWEEN(11,999),8)","v":485.14592879999998},"to",{"$f":"CHOOSE(RANDBETWEEN(1,2),\"two\",\"three\")","v":"three"},{"$f":"CONCATENATE(\"decimal place\",IF(I145=\"one\",\"\",\"s\"))","v":"decimal places"},null,null,null,null,null,null,null,null,null,{"$f":"CONCATENATE(F145,\" \",G145,\" \",H145,\" \",I145,\" \",J145,\" \",K145,\" \",L145,\" \",M145,\" \",N145,\" \",O145,\" \",P145,\" \",Q145,\" \",R145)","v":"Round the number 485.1459288 to three decimal places        "},{"$f":"ROUND(G145,IF(I145=\"two\",2,3))","v":485.14600000000002},null,null,null,null,null,null,null,{"$f":"IF(ISERROR(T145),NA(),\"\")","v":""},{"$f":"IF(OR(ISNA(U145),ISNA(V145),ISNA(W145),ISNA(X145),ISNA(Y145),ISNA(Z145),ISNA(AA145),ISNA(AB145),ISNA(AC145)),NA(),CONCATENATE(U145,V145,W145,X145,Y145,Z145,AA145,AB145))","v":"485.146"},{"$f":"IF(ISNA(AD145),FALSE,IF(C145=$B$1,Worksheet!$B$3,IF(C145=$C$1,Worksheet!$B$4,IF(C145=$D$1,Worksheet!$B$5,IF(C145=$C$2,Worksheet!$D$3,IF(C145=$D$2,Worksheet!$D$4,IF(C145=$E$2,Worksheet!$D$5,IF(C145=$C$3,Worksheet!$D$6,IF(C145=$B$3,Worksheet!$B$6,IF(C145=$D$3,Worksheet!$B$9,IF(C145=$E$3,Worksheet!$D$9,FALSE)))))))))))","v":true},{"$f":"IF(AE145,D145,\"\")","v":"Medium"},{"$f":"IF(AE145,COUNTIF($AF$5:AF145,AF145),\"X\")","v":58},{"$f":"CONCATENATE(AE145,AF145)","v":"TRUEMedium"}]
[{"$f":"CONCATENATE(AE146,D146,AG146)","v":"TRUEHard25"},{"$f":"RAND()","v":0.87432074724176956},"Surds","Hard",53,"Simplify      ",{"$f":"RANDBETWEEN(4,10)","v":10},"√",{"$f":"CHOOSE(RANDBETWEEN(1,4),2,3,5,7)","v":3},"–",null,"√",{"$f":"I146","v":3},null,null,null,null,null,null,{"$f":"CONCATENATE(F146,\"\",G146,\"\",H146,\"\",I146,\" \",J146,\" \",K146,\"\",L146,\"\",M146,\" \",N146,\" \",O146,\" \",P146,\" \",Q146,\" \",R146)","v":"Simplify      10√3 – √3     "},{"$f":"G146-1","v":9},"√",{"$f":"I146","v":3},null,null,null,null,null,{"$f":"IF(ISERROR(T146),NA(),\"\")","v":""},{"$f":"IF(OR(ISNA(U146),ISNA(V146),ISNA(W146),ISNA(X146),ISNA(Y146),ISNA(Z146),ISNA(AA146),ISNA(AB146),ISNA(AC146)),NA(),CONCATENATE(U146,V146,W146,X146,Y146,Z146,AA146,AB146))","v":"9√3"},{"$f":"IF(ISNA(AD146),FALSE,IF(C146=$B$1,Worksheet!$B$3,IF(C146=$C$1,Worksheet!$B$4,IF(C146=$D$1,Worksheet!$B$5,IF(C146=$C$2,Worksheet!$D$3,IF(C146=$D$2,Worksheet!$D$4,IF(C146=$E$2,Worksheet!$D$5,IF(C146=$C$3,Worksheet!$D$6,IF(C146=$B$3,Worksheet!$B$6,IF(C146=$D$3,Worksheet!$B$9,IF(C146=$E$3,Worksheet!$D$9,FALSE)))))))))))","v":true},{"$f":"IF(AE146,D146,\"\")","v":"Hard"},{"$f":"IF(AE146,COUNTIF($AF$5:AF146,AF146),\"X\")","v":25},{"$f":"CONCATENATE(AE146,AF146)","v":"TRUEHard"}]
[{"$f":"CONCATENATE(AE147,D147,AG147)","v":"TRUEHard26"},{"$f":"RAND()","v":0.58612931213606756},"Frac","Hard",110,"Divide the fractions:  ",{"$f":"IF(I147=4,CHOOSE(RANDBETWEEN(1,2),1,3),RANDBETWEEN(1,I147-1))","v":3},"/",{"$f":"RANDBETWEEN(9,20)","v":17},"×",{"$f":"RANDBETWEEN(1,MIN(M147-1,(G147/I147)*M147))","v":1},"/",{"$f":"RANDBETWEEN(9,20)","v":15},{"$f":"IF(GCD(G147*M147,I147*K147)=1,\"\",\",    giving your answer in its simplest form\")","v":""},null,null,null,null,null,{"$f":"CONCATENATE(F147,\" \",G147,\"\",H147,\"\",I147,\" \",J147,\" \",K147,\"\",L147,\"\",M147,\" \",N147,\"       \",O147,\" \",P147,\" \",Q147,\" \",R147)","v":"Divide the fractions:   3/17 × 1/15           "},{"$f":"(G147*M147)/GCD(G147*M147,I147*K147)","v":45},"/",{"$f":"I147*K147/GCD(G147*M147,I147*K147)","v":17},null,null,{"$f":"IF(U147=0,NA(),\"\")","v":""},null,null,{"$f":"IF(ISERROR(T147),NA(),\"\")","v":""},{"$f":"IF(OR(ISNA(U147),ISNA(V147),ISNA(W147),ISNA(X147),ISNA(Y147),ISNA(Z147),ISNA(AA147),ISNA(AB147),ISNA(AC147)),NA(),CONCATENATE(U147,V147,W147,X147,Y147,Z147,AA147,AB147))","v":"45/17"},{"$f":"IF(ISNA(AD147),FALSE,IF(C147=$B$1,Worksheet!$B$3,IF(C147=$C$1,Worksheet!$B$4,IF(C147=$D$1,Worksheet!$B$5,IF(C147=$C$2,Worksheet!$D$3,IF(C147=$D$2,Worksheet!$D$4,IF(C147=$E$2,Worksheet!$D$5,IF(C147=$C$3,Worksheet!$D$6,IF(C147=$B$3,Worksheet!$B$6,IF(C147=$D$3,Worksheet!$B$9,IF(C147=$E$3,Worksheet!$D$9,FALSE)))))))))))","v":true},{"$f":"IF(AE147,D147,\"\")","v":"Hard"},{"$f":"IF(AE147,COUNTIF($AF$5:AF147,AF147),\"X\")","v":26},{"$f":"CONCATENATE(AE147,AF147)","v":"TRUEHard"}]
[{"$f":"CONCATENATE(AE148,D148,AG148)","v":"TRUEHard27"},{"$f":"RAND()","v":0.33035714889731194},"Round","Hard",185,"Round the number",{"$f":"RANDBETWEEN(100,999)+RANDBETWEEN(1,9)/10","v":118.6},"to one significant figure",null,null,null,null,null,null,null,null,null,null,null,{"$f":"CONCATENATE(F148,\" \",G148,\" \",H148,\" \",I148,\" \",J148,\" \",K148,\" \",L148,\" \",M148,\" \",N148,\" \",O148,\" \",P148,\" \",Q148,\" \",R148)","v":"Round the number 118.6 to one significant figure          "},{"$f":"MROUND(G148,100)","v":100},null,null,null,null,null,null,null,{"$f":"IF(ISERROR(T148),NA(),\"\")","v":""},{"$f":"IF(OR(ISNA(U148),ISNA(V148),ISNA(W148),ISNA(X148),ISNA(Y148),ISNA(Z148),ISNA(AA148),ISNA(AB148),ISNA(AC148)),NA(),CONCATENATE(U148,V148,W148,X148,Y148,Z148,AA148,AB148))","v":"100"},{"$f":"IF(ISNA(AD148),FALSE,IF(C148=$B$1,Worksheet!$B$3,IF(C148=$C$1,Worksheet!$B$4,IF(C148=$D$1,Worksheet!$B$5,IF(C148=$C$2,Worksheet!$D$3,IF(C148=$D$2,Worksheet!$D$4,IF(C148=$E$2,Worksheet!$D$5,IF(C148=$C$3,Worksheet!$D$6,IF(C148=$B$3,Worksheet!$B$6,IF(C148=$D$3,Worksheet!$B$9,IF(C148=$E$3,Worksheet!$D$9,FALSE)))))))))))","v":true},{"$f":"IF(AE148,D148,\"\")","v":"Hard"},{"$f":"IF(AE148,COUNTIF($AF$5:AF148,AF148),\"X\")","v":27},{"$f":"CONCATENATE(AE148,AF148)","v":"TRUEHard"}]
[{"$f":"CONCATENATE(AE149,D149,AG149)","v":"TRUEMedium59"},{"$f":"RAND()","v":0.76033283032280663},"Frac","Medium",113,"Add the mixed numbers:      ",{"$f":"RANDBETWEEN(1,5)","v":2},{"$f":"IF(J149=4,CHOOSE(RANDBETWEEN(1,2),1,3),RANDBETWEEN(1,J149-1))","v":1},"/",{"$f":"RANDBETWEEN(3,5)","v":3},null,"  +  ",{"$f":"RANDBETWEEN(1,5)","v":5},{"$f":"IF(P149=4,CHOOSE(RANDBETWEEN(1,2),1,3),RANDBETWEEN(1,P149-1))","v":3},"/",{"$f":"SMALL(IF(J149={3,4,5},\"\",{3,4,5}),RANDBETWEEN(1,2))","v":4},null,null,null,{"$f":"CONCATENATE(F149,\" \",G149,\"   \",H149,\"\",I149,\"\",J149,\" \",K149,\" \",L149,\" \",M149,\"   \",N149,\"\",O149,\"\",P149,\" \",Q149,\" \",R149)","v":"Add the mixed numbers:       2   1/3    +   5   3/4  "},{"$f":"IF(P149*H149+J149*N149>=J149*P149,M149+G149+1,M149+G149)","v":8},{"$f":"IF((H149*P149+J149*N149-IF(H149*P149+J149*N149>=J149*P149,J149*P149,0))/AC149=0,\"\",(H149*P149+J149*N149-IF(H149*P149+J149*N149>=J149*P149,J149*P149,0))/AC149)","v":1},{"$f":"IF((H149*P149+J149*N149-IF(H149*P149+J149*N149>=J149*P149,J149*P149,0))/AC149=0,\"\",\"/\")","v":"/"},{"$f":"IF((H149*P149+J149*N149-IF(H149*P149+J149*N149>=J149*P149,J149*P149,0))/AC149=0,\"\",J149*P149/AC149)","v":12},{"$f":"IF(V149=\"\",\"\",\"   or   \")","v":"   or   "},{"$f":"IF(V149=\"\",\"\",X149*U149+V149)","v":97},{"$f":"IF(V149=\"\",\"\",\"/\")","v":"/"},{"$f":"X149","v":12},{"$f":"GCD(H149*P149+J149*N149,P149*J149)","v":1},{"$f":"IF(OR(ISNA(U149),ISNA(V149),ISNA(W149),ISNA(X149),ISNA(Y149),ISNA(Z149),ISNA(AA149),ISNA(AB149),ISNA(AC149)),NA(),CONCATENATE(U149,\"  \",V149,W149,X149,Y149,Z149,AA149,AB149))","v":"8  1/12   or   97/12"},{"$f":"IF(ISNA(AD149),FALSE,IF(C149=$B$1,Worksheet!$B$3,IF(C149=$C$1,Worksheet!$B$4,IF(C149=$D$1,Worksheet!$B$5,IF(C149=$C$2,Worksheet!$D$3,IF(C149=$D$2,Worksheet!$D$4,IF(C149=$E$2,Worksheet!$D$5,IF(C149=$C$3,Worksheet!$D$6,IF(C149=$B$3,Worksheet!$B$6,IF(C149=$D$3,Worksheet!$B$9,IF(C149=$E$3,Worksheet!$D$9,FALSE)))))))))))","v":true},{"$f":"IF(AE149,D149,\"\")","v":"Medium"},{"$f":"IF(AE149,COUNTIF($AF$5:AF149,AF149),\"X\")","v":59},{"$f":"CONCATENATE(AE149,AF149)","v":"TRUEMedium"}]
[{"$f":"CONCATENATE(AE150,D150,AG150)","v":"TRUEMedium60"},{"$f":"RAND()","v":2.4492505495455896E-3},"Surds","Medium",54,"Simplify      ",{"$f":"RANDBETWEEN(2,5)","v":3},"√",{"$f":"CHOOSE(RANDBETWEEN(1,4),2,3,5,7)","v":2},"×",null,"√",{"$f":"I150","v":2},null,null,null,null,null,null,{"$f":"CONCATENATE(F150,\"\",G150,\"\",H150,\"\",I150,\" \",J150,\" \",K150,\"\",L150,\"\",M150,\" \",N150,\" \",O150,\" \",P150,\" \",Q150,\" \",R150)","v":"Simplify      3√2 × √2     "},{"$f":"M150*G150","v":6},null,{"$f":"IF(AND(G150=G149,I150=I149,K150=K149),NA(),\"\")","v":""},null,null,null,null,null,{"$f":"IF(ISERROR(T150),NA(),\"\")","v":""},{"$f":"IF(OR(ISNA(U150),ISNA(V150),ISNA(W150),ISNA(X150),ISNA(Y150),ISNA(Z150),ISNA(AA150),ISNA(AB150),ISNA(AC150)),NA(),CONCATENATE(U150,V150,W150,X150,Y150,Z150,AA150,AB150))","v":"6"},{"$f":"IF(ISNA(AD150),FALSE,IF(C150=$B$1,Worksheet!$B$3,IF(C150=$C$1,Worksheet!$B$4,IF(C150=$D$1,Worksheet!$B$5,IF(C150=$C$2,Worksheet!$D$3,IF(C150=$D$2,Worksheet!$D$4,IF(C150=$E$2,Worksheet!$D$5,IF(C150=$C$3,Worksheet!$D$6,IF(C150=$B$3,Worksheet!$B$6,IF(C150=$D$3,Worksheet!$B$9,IF(C150=$E$3,Worksheet!$D$9,FALSE)))))))))))","v":true},{"$f":"IF(AE150,D150,\"\")","v":"Medium"},{"$f":"IF(AE150,COUNTIF($AF$5:AF150,AF150),\"X\")","v":60},{"$f":"CONCATENATE(AE150,AF150)","v":"TRUEMedium"}]
[{"$f":"CONCATENATE(AE151,D151,AG151)","v":"TRUEMedium61"},{"$f":"RAND()","v":3.1999612452432213E-2},"Surds","Medium",36,"Square roots.    What is   √",{"$f":"RANDBETWEEN(11,15)^2","v":169},"?",null,null,null,null,null,null,null,null,null,null,null,{"$f":"CONCATENATE(F151,\"\",G151,\" \",H151,\" \",I151,\" \",J151,\" \",K151,\" \",L151,\" \",M151,\" \",N151,\" \",O151,\" \",P151,\" \",Q151,\" \",R151)","v":"Square roots.    What is   √169 ?          "},{"$f":"SQRT(G151)","v":13},null,null,null,null,null,null,null,{"$f":"IF(ISERROR(T151),NA(),\"\")","v":""},{"$f":"IF(OR(ISNA(U151),ISNA(V151),ISNA(W151),ISNA(X151),ISNA(Y151),ISNA(Z151),ISNA(AA151),ISNA(AB151),ISNA(AC151)),NA(),CONCATENATE(U151,V151,W151,X151,Y151,Z151,AA151,AB151))","v":"13"},{"$f":"IF(ISNA(AD151),FALSE,IF(C151=$B$1,Worksheet!$B$3,IF(C151=$C$1,Worksheet!$B$4,IF(C151=$D$1,Worksheet!$B$5,IF(C151=$C$2,Worksheet!$D$3,IF(C151=$D$2,Worksheet!$D$4,IF(C151=$E$2,Worksheet!$D$5,IF(C151=$C$3,Worksheet!$D$6,IF(C151=$B$3,Worksheet!$B$6,IF(C151=$D$3,Worksheet!$B$9,IF(C151=$E$3,Worksheet!$D$9,FALSE)))))))))))","v":true},{"$f":"IF(AE151,D151,\"\")","v":"Medium"},{"$f":"IF(AE151,COUNTIF($AF$5:AF151,AF151),\"X\")","v":61},{"$f":"CONCATENATE(AE151,AF151)","v":"TRUEMedium"}]
[{"$f":"CONCATENATE(AE152,D152,AG152)","v":"TRUEMedium62"},{"$f":"RAND()","v":0.79416753681173102},"+-×÷","Medium",71,"Use a written sum to divide: ",{"$f":"RANDBETWEEN(70,500)*7+RANDBETWEEN(1,6)","v":1419},"÷ 7, giving your remainder as a fraction or to 2 decimal place",null,null,null,null,null,null,null,null,null,null,null,{"$f":"CONCATENATE(F152,\" \",G152,\" \",H152,\" \",I152,\" \",J152,\" \",K152,\" \",L152,\" \",M152,\" \",N152,\" \",O152,\" \",P152,\" \",Q152,\" \",R152)","v":"Use a written sum to divide:  1419 ÷ 7, giving your remainder as a fraction or to 2 decimal place          "},{"$f":"TEXT(G152/7,\"#.00\")","v":"202.71"}," or ",{"$f":"TEXT(G152/7,\"### #/#\")","v":"202 5/7"},null,null,null,null,null,{"$f":"IF(ISERROR(T152),NA(),\"\")","v":""},{"$f":"IF(OR(ISNA(U152),ISNA(V152),ISNA(W152),ISNA(X152),ISNA(Y152),ISNA(Z152),ISNA(AA152),ISNA(AB152),ISNA(AC152)),NA(),CONCATENATE(U152,V152,W152,X152,Y152,Z152,AA152,AB152))","v":"202.71 or 202 5/7"},{"$f":"IF(ISNA(AD152),FALSE,IF(C152=$B$1,Worksheet!$B$3,IF(C152=$C$1,Worksheet!$B$4,IF(C152=$D$1,Worksheet!$B$5,IF(C152=$C$2,Worksheet!$D$3,IF(C152=$D$2,Worksheet!$D$4,IF(C152=$E$2,Worksheet!$D$5,IF(C152=$C$3,Worksheet!$D$6,IF(C152=$B$3,Worksheet!$B$6,IF(C152=$D$3,Worksheet!$B$9,IF(C152=$E$3,Worksheet!$D$9,FALSE)))))))))))","v":true},{"$f":"IF(AE152,D152,\"\")","v":"Medium"},{"$f":"IF(AE152,COUNTIF($AF$5:AF152,AF152),\"X\")","v":62},{"$f":"CONCATENATE(AE152,AF152)","v":"TRUEMedium"}]
[{"$f":"CONCATENATE(AE153,D153,AG153)","v":"TRUEHard28"},{"$f":"RAND()","v":0.63905254635795095},"Neg","Hard",231,"Work out of the value of:   ",{"$f":"RANDBETWEEN(1,20)","v":19},"– (–",{"$f":"RANDBETWEEN(2,5)","v":4},") × ",{"$f":"RANDBETWEEN(2,5)","v":4},null,"   (remember BODMAS)",null,null,null,null,null,null,{"$f":"CONCATENATE(F153,\" \",G153,\" \",H153,\"\",I153,\"\",J153,\"\",K153,\"\",L153,\" \",M153,\" \",N153,\" \",O153,\" \",P153,\" \",Q153,\" \",R153)","v":"Work out of the value of:    19 – (–4) × 4    (remember BODMAS)     "},{"$f":"G153+I153*K153","v":35},null,null,null,null,null,null,null,{"$f":"IF(ISERROR(T153),NA(),\"\")","v":""},{"$f":"IF(OR(ISNA(U153),ISNA(V153),ISNA(W153),ISNA(X153),ISNA(Y153),ISNA(Z153),ISNA(AA153),ISNA(AB153),ISNA(AC153)),NA(),CONCATENATE(U153,V153,W153,X153,Y153,Z153,AA153,AB153))","v":"35"},{"$f":"IF(ISNA(AD153),FALSE,IF(C153=$B$1,Worksheet!$B$3,IF(C153=$C$1,Worksheet!$B$4,IF(C153=$D$1,Worksheet!$B$5,IF(C153=$C$2,Worksheet!$D$3,IF(C153=$D$2,Worksheet!$D$4,IF(C153=$E$2,Worksheet!$D$5,IF(C153=$C$3,Worksheet!$D$6,IF(C153=$B$3,Worksheet!$B$6,IF(C153=$D$3,Worksheet!$B$9,IF(C153=$E$3,Worksheet!$D$9,FALSE)))))))))))","v":true},{"$f":"IF(AE153,D153,\"\")","v":"Hard"},{"$f":"IF(AE153,COUNTIF($AF$5:AF153,AF153),\"X\")","v":28},{"$f":"CONCATENATE(AE153,AF153)","v":"TRUEHard"}]
[{"$f":"CONCATENATE(AE154,D154,AG154)","v":"TRUEHard29"},{"$f":"RAND()","v":0.97397966360960431},"+-×÷","Hard",21,"Use a method of your choice to multiply ",{"$f":"RANDBETWEEN(1,9)+100*RANDBETWEEN(1,3)+RANDBETWEEN(1,9)","v":116}," ×",{"$f":"RANDBETWEEN(2,9)*10+RANDBETWEEN(1,9)","v":45},"without a calculator",null,null,null,null,null,null,null,null,null,{"$f":"CONCATENATE(F154,\" \",G154,\" \",H154,\" \",I154,\" \",J154,\" \",K154,\" \",L154,\" \",M154,\" \",N154,\" \",O154,\" \",P154,\" \",Q154,\" \",R154)","v":"Use a method of your choice to multiply  116  × 45 without a calculator        "},{"$f":"G154*I154","v":5220},null,null,null,null,null,null,null,{"$f":"IF(ISERROR(T154),NA(),\"\")","v":""},{"$f":"IF(OR(ISNA(U154),ISNA(V154),ISNA(W154),ISNA(X154),ISNA(Y154),ISNA(Z154),ISNA(AA154),ISNA(AB154),ISNA(AC154)),NA(),CONCATENATE(U154,V154,W154,X154,Y154,Z154,AA154,AB154))","v":"5220"},{"$f":"IF(ISNA(AD154),FALSE,IF(C154=$B$1,Worksheet!$B$3,IF(C154=$C$1,Worksheet!$B$4,IF(C154=$D$1,Worksheet!$B$5,IF(C154=$C$2,Worksheet!$D$3,IF(C154=$D$2,Worksheet!$D$4,IF(C154=$E$2,Worksheet!$D$5,IF(C154=$C$3,Worksheet!$D$6,IF(C154=$B$3,Worksheet!$B$6,IF(C154=$D$3,Worksheet!$B$9,IF(C154=$E$3,Worksheet!$D$9,FALSE)))))))))))","v":true},{"$f":"IF(AE154,D154,\"\")","v":"Hard"},{"$f":"IF(AE154,COUNTIF($AF$5:AF154,AF154),\"X\")","v":29},{"$f":"CONCATENATE(AE154,AF154)","v":"TRUEHard"}]
[{"$f":"CONCATENATE(AE155,D155,AG155)","v":"TRUEEasy59"},{"$f":"RAND()","v":0.24084022280677753},"Dec","Easy",143,"Write the decimal ",{"$f":"S155/1000","v":0.19700000000000001},"as a fraction",{"$f":"IF(GCD(1000,S155)<>1,\", simplifying your answer\",\"\")","v":""},null,null,null,null,null,null,null,null,null,{"$f":"RANDBETWEEN(1,99)*10+RANDBETWEEN(1,9)","v":197},{"$f":"CONCATENATE(F155,\" \",G155,\" \",H155,\" \",I155,\" \",J155,\" \",K155,\" \",L155,\" \",M155,\" \",N155,\" \",O155,\" \",P155,\" \",Q155,\" \",R155)","v":"Write the decimal  0.197 as a fraction          "},{"$f":"TEXT(S155/1000,\"###/####\")","v":"197/1000"},null,null,null,null,null,null,null,{"$f":"IF(ISERROR(T155),NA(),\"\")","v":""},{"$f":"IF(OR(ISNA(U155),ISNA(V155),ISNA(W155),ISNA(X155),ISNA(Y155),ISNA(Z155),ISNA(AA155),ISNA(AB155),ISNA(AC155)),NA(),CONCATENATE(U155,V155,W155,X155,Y155,Z155,AA155,AB155))","v":"197/1000"},{"$f":"IF(ISNA(AD155),FALSE,IF(C155=$B$1,Worksheet!$B$3,IF(C155=$C$1,Worksheet!$B$4,IF(C155=$D$1,Worksheet!$B$5,IF(C155=$C$2,Worksheet!$D$3,IF(C155=$D$2,Worksheet!$D$4,IF(C155=$E$2,Worksheet!$D$5,IF(C155=$C$3,Worksheet!$D$6,IF(C155=$B$3,Worksheet!$B$6,IF(C155=$D$3,Worksheet!$B$9,IF(C155=$E$3,Worksheet!$D$9,FALSE)))))))))))","v":true},{"$f":"IF(AE155,D155,\"\")","v":"Easy"},{"$f":"IF(AE155,COUNTIF($AF$5:AF155,AF155),\"X\")","v":59},{"$f":"CONCATENATE(AE155,AF155)","v":"TRUEEasy"}]
[{"$f":"CONCATENATE(AE156,D156,AG156)","v":"TRUEMedium63"},{"$f":"RAND()","v":7.4082085419932442E-2},"Alg","Medium",307,"Algebra.  If x =",{"$f":"RANDBETWEEN(-5,5)","v":5},"and y =",{"$f":"RANDBETWEEN(-5,5)","v":5},", what is the value of",{"$f":"RANDBETWEEN(2,5)","v":3},"(x + y) ?",null,null,null,null,null,null,null,{"$f":"CONCATENATE(F156,\" \",G156,\" \",H156,\" \",I156,\" \",J156,\" \",K156,\"\",L156,\" \",M156,\" \",N156,\" \",O156,\" \",P156,\" \",Q156,\" \",R156)","v":"Algebra.  If x = 5 and y = 5 , what is the value of 3(x + y) ?      "},{"$f":"(G156+I156)*K156","v":30},null,null,null,null,null,null,null,{"$f":"IF(ISERROR(T156),NA(),\"\")","v":""},{"$f":"IF(OR(ISNA(U156),ISNA(V156),ISNA(W156),ISNA(X156),ISNA(Y156),ISNA(Z156),ISNA(AA156),ISNA(AB156),ISNA(AC156)),NA(),CONCATENATE(U156,V156,W156,X156,Y156,Z156,AA156,AB156))","v":"30"},{"$f":"IF(ISNA(AD156),FALSE,IF(C156=$B$1,Worksheet!$B$3,IF(C156=$C$1,Worksheet!$B$4,IF(C156=$D$1,Worksheet!$B$5,IF(C156=$C$2,Worksheet!$D$3,IF(C156=$D$2,Worksheet!$D$4,IF(C156=$E$2,Worksheet!$D$5,IF(C156=$C$3,Worksheet!$D$6,IF(C156=$B$3,Worksheet!$B$6,IF(C156=$D$3,Worksheet!$B$9,IF(C156=$E$3,Worksheet!$D$9,FALSE)))))))))))","v":true},{"$f":"IF(AE156,D156,\"\")","v":"Medium"},{"$f":"IF(AE156,COUNTIF($AF$5:AF156,AF156),\"X\")","v":63},{"$f":"CONCATENATE(AE156,AF156)","v":"TRUEMedium"}]
[{"$f":"CONCATENATE(AE157,D157,AG157)","v":"TRUEEasy60"},{"$f":"RAND()","v":1.3611856823183888E-2},"Dec","Easy",126,"Multiply (without writing a sum down):   ",{"$f":"RANDBETWEEN(2,5)+0.5","v":2.5},"×",{"$f":"RANDBETWEEN(2,9)","v":7},null,null,null,null,null,null,null,null,null,null,{"$f":"CONCATENATE(F157,\" \",G157,\" \",H157,\" \",I157,\" \",J157,\" \",K157,\" \",L157,\" \",M157,\" \",N157,\" \",O157,\" \",P157,\" \",Q157,\" \",R157)","v":"Multiply (without writing a sum down):    2.5 × 7         "},{"$f":"G157*I157","v":17.5},null,null,null,null,null,null,null,{"$f":"IF(ISERROR(T157),NA(),\"\")","v":""},{"$f":"IF(OR(ISNA(U157),ISNA(V157),ISNA(W157),ISNA(X157),ISNA(Y157),ISNA(Z157),ISNA(AA157),ISNA(AB157),ISNA(AC157)),NA(),CONCATENATE(U157,V157,W157,X157,Y157,Z157,AA157,AB157))","v":"17.5"},{"$f":"IF(ISNA(AD157),FALSE,IF(C157=$B$1,Worksheet!$B$3,IF(C157=$C$1,Worksheet!$B$4,IF(C157=$D$1,Worksheet!$B$5,IF(C157=$C$2,Worksheet!$D$3,IF(C157=$D$2,Worksheet!$D$4,IF(C157=$E$2,Worksheet!$D$5,IF(C157=$C$3,Worksheet!$D$6,IF(C157=$B$3,Worksheet!$B$6,IF(C157=$D$3,Worksheet!$B$9,IF(C157=$E$3,Worksheet!$D$9,FALSE)))))))))))","v":true},{"$f":"IF(AE157,D157,\"\")","v":"Easy"},{"$f":"IF(AE157,COUNTIF($AF$5:AF157,AF157),\"X\")","v":60},{"$f":"CONCATENATE(AE157,AF157)","v":"TRUEEasy"}]
[{"$f":"CONCATENATE(AE158,D158,AG158)","v":"TRUEHard30"},{"$f":"RAND()","v":0.73358138087373159},"%","Hard",285,"Write",{"$f":"RANDBETWEEN(1,9)/1000","v":2E-3},"as a percentage",null,null,null,null,null,null,null,null,null,null,null,{"$f":"CONCATENATE(F158,\" \",G158,\" \",H158,\" \",I158,\" \",J158,\" \",K158,\" \",L158,\" \",M158,\" \",N158,\" \",O158,\" \",P158,\" \",Q158,\" \",R158)","v":"Write 0.002 as a percentage          "},{"$f":"G158*100","v":0.2},"%",null,null,null,null,null,null,{"$f":"IF(ISERROR(T158),NA(),\"\")","v":""},{"$f":"IF(OR(ISNA(U158),ISNA(V158),ISNA(W158),ISNA(X158),ISNA(Y158),ISNA(Z158),ISNA(AA158),ISNA(AB158),ISNA(AC158)),NA(),CONCATENATE(U158,V158,W158,X158,Y158,Z158,AA158,AB158))","v":"0.2%"},{"$f":"IF(ISNA(AD158),FALSE,IF(C158=$B$1,Worksheet!$B$3,IF(C158=$C$1,Worksheet!$B$4,IF(C158=$D$1,Worksheet!$B$5,IF(C158=$C$2,Worksheet!$D$3,IF(C158=$D$2,Worksheet!$D$4,IF(C158=$E$2,Worksheet!$D$5,IF(C158=$C$3,Worksheet!$D$6,IF(C158=$B$3,Worksheet!$B$6,IF(C158=$D$3,Worksheet!$B$9,IF(C158=$E$3,Worksheet!$D$9,FALSE)))))))))))","v":true},{"$f":"IF(AE158,D158,\"\")","v":"Hard"},{"$f":"IF(AE158,COUNTIF($AF$5:AF158,AF158),\"X\")","v":30},{"$f":"CONCATENATE(AE158,AF158)","v":"TRUEHard"}]
[{"$f":"CONCATENATE(AE159,D159,AG159)","v":"TRUEMedium64"},{"$f":"RAND()","v":0.47336436991666975},"Dec","Medium",238,"Divide: ",{"$f":"3*RANDBETWEEN(11,99)+RANDBETWEEN(1,2)","v":151}," ÷ ",3,", giving your answer as a decimal rounded to 3 decimal places",null,null,null,null,null,null,null,null,null,{"$f":"CONCATENATE(F159,\" \",G159,\" \",H159,\" \",I159,\" \",J159,\" \",K159,\" \",L159,\" \",M159,\" \",N159,\" \",O159,\" \",P159,\" \",Q159,\" \",R159)","v":"Divide:  151  ÷  3 , giving your answer as a decimal rounded to 3 decimal places        "},{"$f":"MROUND(G159/I159,0.001)","v":50.332999999999998},null,null,null,null,null,null,null,{"$f":"IF(ISERROR(T159),NA(),\"\")","v":""},{"$f":"IF(OR(ISNA(U159),ISNA(V159),ISNA(W159),ISNA(X159),ISNA(Y159),ISNA(Z159),ISNA(AA159),ISNA(AB159),ISNA(AC159)),NA(),CONCATENATE(U159,V159,W159,X159,Y159,Z159,AA159,AB159))","v":"50.333"},{"$f":"IF(ISNA(AD159),FALSE,IF(C159=$B$1,Worksheet!$B$3,IF(C159=$C$1,Worksheet!$B$4,IF(C159=$D$1,Worksheet!$B$5,IF(C159=$C$2,Worksheet!$D$3,IF(C159=$D$2,Worksheet!$D$4,IF(C159=$E$2,Worksheet!$D$5,IF(C159=$C$3,Worksheet!$D$6,IF(C159=$B$3,Worksheet!$B$6,IF(C159=$D$3,Worksheet!$B$9,IF(C159=$E$3,Worksheet!$D$9,FALSE)))))))))))","v":true},{"$f":"IF(AE159,D159,\"\")","v":"Medium"},{"$f":"IF(AE159,COUNTIF($AF$5:AF159,AF159),\"X\")","v":64},{"$f":"CONCATENATE(AE159,AF159)","v":"TRUEMedium"}]
[{"$f":"CONCATENATE(AE160,D160,AG160)","v":"TRUEMedium65"},{"$f":"RAND()","v":0.74625441476276555},"Dec","Medium",140,"What number is exactly half way between",{"$f":"RANDBETWEEN(1,9)+RANDBETWEEN(0,9)*0.1+RANDBETWEEN(1,9)*0.01","v":8.2399999999999984},"and",{"$f":"G160+0.05","v":8.2899999999999991},"?",null,null,null,null,null,null,null,null,null,{"$f":"CONCATENATE(F160,\" \",G160,\" \",H160,\" \",I160,\"\",J160,\"\",K160,\" \",L160,\" \",M160,\" \",N160,\" \",O160,\" \",P160,\" \",Q160,\" \",R160)","v":"What number is exactly half way between 8.24 and 8.29?       "},{"$f":"G160+0.025","v":8.2649999999999988},null,null,null,null,null,null,null,{"$f":"IF(ISERROR(T160),NA(),\"\")","v":""},{"$f":"IF(OR(ISNA(U160),ISNA(V160),ISNA(W160),ISNA(X160),ISNA(Y160),ISNA(Z160),ISNA(AA160),ISNA(AB160),ISNA(AC160)),NA(),CONCATENATE(U160,V160,W160,X160,Y160,Z160,AA160,AB160))","v":"8.265"},{"$f":"IF(ISNA(AD160),FALSE,IF(C160=$B$1,Worksheet!$B$3,IF(C160=$C$1,Worksheet!$B$4,IF(C160=$D$1,Worksheet!$B$5,IF(C160=$C$2,Worksheet!$D$3,IF(C160=$D$2,Worksheet!$D$4,IF(C160=$E$2,Worksheet!$D$5,IF(C160=$C$3,Worksheet!$D$6,IF(C160=$B$3,Worksheet!$B$6,IF(C160=$D$3,Worksheet!$B$9,IF(C160=$E$3,Worksheet!$D$9,FALSE)))))))))))","v":true},{"$f":"IF(AE160,D160,\"\")","v":"Medium"},{"$f":"IF(AE160,COUNTIF($AF$5:AF160,AF160),\"X\")","v":65},{"$f":"CONCATENATE(AE160,AF160)","v":"TRUEMedium"}]
[{"$f":"CONCATENATE(AE161,D161,AG161)","v":"TRUEMedium66"},{"$f":"RAND()","v":0.74051346350720382},"Dec","Medium",139,"What number is exactly half way between",{"$f":"RANDBETWEEN(1,9)+RANDBETWEEN(0,9)*0.1+RANDBETWEEN(1,9)*0.01","v":9.3500000000000014},"and",{"$f":"G161+0.03","v":9.3800000000000008},"?",null,null,null,null,null,null,null,null,null,{"$f":"CONCATENATE(F161,\" \",G161,\" \",H161,\" \",I161,\"\",J161,\"\",K161,\" \",L161,\" \",M161,\" \",N161,\" \",O161,\" \",P161,\" \",Q161,\" \",R161)","v":"What number is exactly half way between 9.35 and 9.38?       "},{"$f":"G161+0.015","v":9.365000000000002},null,null,null,null,null,null,null,{"$f":"IF(ISERROR(T161),NA(),\"\")","v":""},{"$f":"IF(OR(ISNA(U161),ISNA(V161),ISNA(W161),ISNA(X161),ISNA(Y161),ISNA(Z161),ISNA(AA161),ISNA(AB161),ISNA(AC161)),NA(),CONCATENATE(U161,V161,W161,X161,Y161,Z161,AA161,AB161))","v":"9.365"},{"$f":"IF(ISNA(AD161),FALSE,IF(C161=$B$1,Worksheet!$B$3,IF(C161=$C$1,Worksheet!$B$4,IF(C161=$D$1,Worksheet!$B$5,IF(C161=$C$2,Worksheet!$D$3,IF(C161=$D$2,Worksheet!$D$4,IF(C161=$E$2,Worksheet!$D$5,IF(C161=$C$3,Worksheet!$D$6,IF(C161=$B$3,Worksheet!$B$6,IF(C161=$D$3,Worksheet!$B$9,IF(C161=$E$3,Worksheet!$D$9,FALSE)))))))))))","v":true},{"$f":"IF(AE161,D161,\"\")","v":"Medium"},{"$f":"IF(AE161,COUNTIF($AF$5:AF161,AF161),\"X\")","v":66},{"$f":"CONCATENATE(AE161,AF161)","v":"TRUEMedium"}]
[{"$f":"CONCATENATE(AE162,D162,AG162)","v":"TRUEMedium67"},{"$f":"RAND()","v":0.42575369263024121},"+-×÷","Medium",32,"Which ONE of these numbers is a PRIME number:",{"$f":"IF(RAND()<0.25,S162,CHOOSE(RANDBETWEEN(1,2),9,6))","v":6}," , ",{"$f":"IF(AND(G162<>S162,RAND()<0.34),S162,CHOOSE(RANDBETWEEN(1,2),8,4))","v":7}," , ",{"$f":"IF(AND(G162<>S162,I162<>S162,RAND()<0.5),S162,IF(G162=S162,CHOOSE(RANDBETWEEN(1,2),6,9),IF(I162=4,8,IF(I162=8,4,IF(G162=6,9,6)))))","v":9}," , ",{"$f":"IF(AND(G162<>S162,I162<>S162,K162<>S162),S162,IF(INT((G162*I162*K162)/6)<>(G162*I162*K162)/6,6,IF(INT((G162*I162*K162)/4)<>(G162*I162*K162)/4,4,IF(INT((G162*I162*K162)/9)<>(G162*I162*K162)/9,9,8))))","v":4},null,null,null,null,null,{"$f":"CHOOSE(RANDBETWEEN(1,4),2,3,5,7)","v":7},{"$f":"CONCATENATE(F162,\" \",G162,\" \",H162,\" \",I162,\" \",J162,\" \",K162,\" \",L162,\" \",M162,\" \",N162,\" \",O162,\" \",P162,\" \",Q162,\" \",R162)","v":"Which ONE of these numbers is a PRIME number: 6  ,  7  ,  9  ,  4     "},{"$f":"S162","v":7},null,null,null,null,null,null,null,{"$f":"IF(ISERROR(T162),NA(),\"\")","v":""},{"$f":"IF(OR(ISNA(U162),ISNA(V162),ISNA(W162),ISNA(X162),ISNA(Y162),ISNA(Z162),ISNA(AA162),ISNA(AB162),ISNA(AC162)),NA(),CONCATENATE(U162,V162,W162,X162,Y162,Z162,AA162,AB162))","v":"7"},{"$f":"IF(ISNA(AD162),FALSE,IF(C162=$B$1,Worksheet!$B$3,IF(C162=$C$1,Worksheet!$B$4,IF(C162=$D$1,Worksheet!$B$5,IF(C162=$C$2,Worksheet!$D$3,IF(C162=$D$2,Worksheet!$D$4,IF(C162=$E$2,Worksheet!$D$5,IF(C162=$C$3,Worksheet!$D$6,IF(C162=$B$3,Worksheet!$B$6,IF(C162=$D$3,Worksheet!$B$9,IF(C162=$E$3,Worksheet!$D$9,FALSE)))))))))))","v":true},{"$f":"IF(AE162,D162,\"\")","v":"Medium"},{"$f":"IF(AE162,COUNTIF($AF$5:AF162,AF162),\"X\")","v":67},{"$f":"CONCATENATE(AE162,AF162)","v":"TRUEMedium"}]
[{"$f":"CONCATENATE(AE163,D163,AG163)","v":"TRUEHard31"},{"$f":"RAND()","v":0.27808924554089809},"Surds","Hard",56,"Negative powers:     What is 10 to the power of negative",{"$f":"RANDBETWEEN(1,4)","v":3},"?   ( 10 ^ –",{"$f":"G163","v":3},")",null,null,null,null,null,null,null,null,null,{"$f":"CONCATENATE(F163,\" \",G163,\" \",H163,\" \",I163,\" \",J163,\" \",K163,\" \",L163,\" \",M163,\" \",N163,\" \",O163,\" \",P163,\" \",Q163,\" \",R163)","v":"Negative powers:     What is 10 to the power of negative 3 ?   ( 10 ^ – 3 )        "},{"$f":"10^-1*G163","v":0.30000000000000004},null,null,null,null,null,null,null,{"$f":"IF(ISERROR(T163),NA(),\"\")","v":""},{"$f":"IF(OR(ISNA(U163),ISNA(V163),ISNA(W163),ISNA(X163),ISNA(Y163),ISNA(Z163),ISNA(AA163),ISNA(AB163),ISNA(AC163)),NA(),CONCATENATE(U163,V163,W163,X163,Y163,Z163,AA163,AB163))","v":"0.3"},{"$f":"IF(ISNA(AD163),FALSE,IF(C163=$B$1,Worksheet!$B$3,IF(C163=$C$1,Worksheet!$B$4,IF(C163=$D$1,Worksheet!$B$5,IF(C163=$C$2,Worksheet!$D$3,IF(C163=$D$2,Worksheet!$D$4,IF(C163=$E$2,Worksheet!$D$5,IF(C163=$C$3,Worksheet!$D$6,IF(C163=$B$3,Worksheet!$B$6,IF(C163=$D$3,Worksheet!$B$9,IF(C163=$E$3,Worksheet!$D$9,FALSE)))))))))))","v":true},{"$f":"IF(AE163,D163,\"\")","v":"Hard"},{"$f":"IF(AE163,COUNTIF($AF$5:AF163,AF163),\"X\")","v":31},{"$f":"CONCATENATE(AE163,AF163)","v":"TRUEHard"}]
[{"$f":"CONCATENATE(AE164,D164,AG164)","v":"TRUEMedium68"},{"$f":"RAND()","v":0.82133318831254742},"Frac","Medium",82,"Write the fraction ",{"$f":"S164*U164","v":1800},"/",{"$f":"S164*W164","v":7200},"in its simplest form",null,null,null,null,null,null,null,null,{"$f":"2^RANDBETWEEN(0,3)*3^RANDBETWEEN(0,2)*5^RANDBETWEEN(1,2)","v":1800},{"$f":"CONCATENATE(F164,\" \",G164,\"\",H164,\"\",I164,\" \",J164,\" \",K164,\" \",L164,\" \",M164,\" \",N164,\" \",O164,\" \",P164,\" \",Q164,\" \",R164)","v":"Write the fraction  1800/7200 in its simplest form        "},{"$f":"IF(W164=3,2,IF(W164=4,CHOOSE(RANDBETWEEN(1,2),1,3),IF(W164=5,RANDBETWEEN(1,4),IF(W164=6,CHOOSE(RANDBETWEEN(1,2),1,5),IF(W164=7,RANDBETWEEN(1,6),IF(W164=8,CHOOSE(RANDBETWEEN(1,4),1,3,5,7),IF(W164=9,CHOOSE(RANDBETWEEN(1,5),1,2,4,5,7),CHOOSE(RANDBETWEEN(1,4),1,3,7,9))))))))","v":1},"/",{"$f":"RANDBETWEEN(3,10)","v":4},null,null,null,null,null,{"$f":"IF(ISERROR(T164),NA(),\"\")","v":""},{"$f":"IF(OR(ISNA(U164),ISNA(V164),ISNA(W164),ISNA(X164),ISNA(Y164),ISNA(Z164),ISNA(AA164),ISNA(AB164),ISNA(AC164)),NA(),CONCATENATE(U164,V164,W164,X164,Y164,Z164,AA164,AB164))","v":"1/4"},{"$f":"IF(ISNA(AD164),FALSE,IF(C164=$B$1,Worksheet!$B$3,IF(C164=$C$1,Worksheet!$B$4,IF(C164=$D$1,Worksheet!$B$5,IF(C164=$C$2,Worksheet!$D$3,IF(C164=$D$2,Worksheet!$D$4,IF(C164=$E$2,Worksheet!$D$5,IF(C164=$C$3,Worksheet!$D$6,IF(C164=$B$3,Worksheet!$B$6,IF(C164=$D$3,Worksheet!$B$9,IF(C164=$E$3,Worksheet!$D$9,FALSE)))))))))))","v":true},{"$f":"IF(AE164,D164,\"\")","v":"Medium"},{"$f":"IF(AE164,COUNTIF($AF$5:AF164,AF164),\"X\")","v":68},{"$f":"CONCATENATE(AE164,AF164)","v":"TRUEMedium"}]
[{"$f":"CONCATENATE(AE165,D165,AG165)","v":"TRUEEasy61"},{"$f":"RAND()","v":0.30045682245154892},"Dec","Easy",127,"Divide (without writing a sum down):   ",{"$f":"U165*I165","v":8.8000000000000007},"÷",{"$f":"RANDBETWEEN(2,5)","v":2},null,null,null,null,null,null,null,null,null,null,{"$f":"CONCATENATE(F165,\" \",G165,\" \",H165,\" \",I165,\" \",J165,\" \",K165,\" \",L165,\" \",M165,\" \",N165,\" \",O165,\" \",P165,\" \",Q165,\" \",R165)","v":"Divide (without writing a sum down):    8.8 ÷ 2         "},{"$f":"RANDBETWEEN(1,5)+RANDBETWEEN(1,9)*0.1","v":4.4000000000000004},null,null,null,null,null,null,null,{"$f":"IF(ISERROR(T165),NA(),\"\")","v":""},{"$f":"IF(OR(ISNA(U165),ISNA(V165),ISNA(W165),ISNA(X165),ISNA(Y165),ISNA(Z165),ISNA(AA165),ISNA(AB165),ISNA(AC165)),NA(),CONCATENATE(U165,V165,W165,X165,Y165,Z165,AA165,AB165))","v":"4.4"},{"$f":"IF(ISNA(AD165),FALSE,IF(C165=$B$1,Worksheet!$B$3,IF(C165=$C$1,Worksheet!$B$4,IF(C165=$D$1,Worksheet!$B$5,IF(C165=$C$2,Worksheet!$D$3,IF(C165=$D$2,Worksheet!$D$4,IF(C165=$E$2,Worksheet!$D$5,IF(C165=$C$3,Worksheet!$D$6,IF(C165=$B$3,Worksheet!$B$6,IF(C165=$D$3,Worksheet!$B$9,IF(C165=$E$3,Worksheet!$D$9,FALSE)))))))))))","v":true},{"$f":"IF(AE165,D165,\"\")","v":"Easy"},{"$f":"IF(AE165,COUNTIF($AF$5:AF165,AF165),\"X\")","v":61},{"$f":"CONCATENATE(AE165,AF165)","v":"TRUEEasy"}]
[{"$f":"CONCATENATE(AE166,D166,AG166)","v":"TRUEMedium69"},{"$f":"RAND()","v":0.4523006422066812},"Surds","Medium",34,"Which ONE of these numbers is a SQUARE number:",{"$f":"IF(RAND()<0.25,S166,CHOOSE(RANDBETWEEN(1,3),3,5,12)*RANDBETWEEN(6,11))","v":45}," , ",{"$f":"IF(AND(G166<>S166,RAND()<0.34),S166,2*RANDBETWEEN(19,31))","v":44}," , ",{"$f":"IF(AND(G166<>S166,I166<>S166,RAND()<0.5),S166,3*RANDBETWEEN(13,26))","v":144}," , ",{"$f":"IF(AND(G166<>S166,I166<>S166,K166<>S166),S166,9*RANDBETWEEN(10,15))","v":126},null,null,null,null,null,{"$f":"RANDBETWEEN(5,15)^2","v":144},{"$f":"CONCATENATE(F166,\" \",G166,\" \",H166,\" \",I166,\" \",J166,\" \",K166,\" \",L166,\" \",M166,\" \",N166,\" \",O166,\" \",P166,\" \",Q166,\" \",R166)","v":"Which ONE of these numbers is a SQUARE number: 45  ,  44  ,  144  ,  126     "},{"$f":"S166","v":144},null,null,null,null,null,null,null,{"$f":"IF(ISERROR(T166),NA(),\"\")","v":""},{"$f":"IF(OR(ISNA(U166),ISNA(V166),ISNA(W166),ISNA(X166),ISNA(Y166),ISNA(Z166),ISNA(AA166),ISNA(AB166),ISNA(AC166)),NA(),CONCATENATE(U166,V166,W166,X166,Y166,Z166,AA166,AB166))","v":"144"},{"$f":"IF(ISNA(AD166),FALSE,IF(C166=$B$1,Worksheet!$B$3,IF(C166=$C$1,Worksheet!$B$4,IF(C166=$D$1,Worksheet!$B$5,IF(C166=$C$2,Worksheet!$D$3,IF(C166=$D$2,Worksheet!$D$4,IF(C166=$E$2,Worksheet!$D$5,IF(C166=$C$3,Worksheet!$D$6,IF(C166=$B$3,Worksheet!$B$6,IF(C166=$D$3,Worksheet!$B$9,IF(C166=$E$3,Worksheet!$D$9,FALSE)))))))))))","v":true},{"$f":"IF(AE166,D166,\"\")","v":"Medium"},{"$f":"IF(AE166,COUNTIF($AF$5:AF166,AF166),\"X\")","v":69},{"$f":"CONCATENATE(AE166,AF166)","v":"TRUEMedium"}]
[{"$f":"CONCATENATE(AE167,D167,AG167)","v":"TRUEEasy62"},{"$f":"RAND()","v":0.35595168841020541},"+-×÷","Easy",64,"Divide without a calculator: ",{"$f":"RANDBETWEEN(2,10)*4+RANDBETWEEN(1,3)","v":31},"÷",4,null,null,null,null,null,null,null,null,null,null,{"$f":"CONCATENATE(F167,\" \",G167,\" \",H167,\" \",I167,\" \",J167,\" \",K167,\" \",L167,\" \",M167,\" \",N167,\" \",O167,\" \",P167,\" \",Q167,\" \",R167)","v":"Divide without a calculator:  31 ÷ 4         "},{"$f":"G167/I167","v":7.75}," or ",{"$f":"TEXT(U167,\"# #/#\")","v":"7 3/4"},null,null,null,null,null,{"$f":"IF(ISERROR(T167),NA(),\"\")","v":""},{"$f":"IF(OR(ISNA(U167),ISNA(V167),ISNA(W167),ISNA(X167),ISNA(Y167),ISNA(Z167),ISNA(AA167),ISNA(AB167),ISNA(AC167)),NA(),CONCATENATE(U167,V167,W167,X167,Y167,Z167,AA167,AB167))","v":"7.75 or 7 3/4"},{"$f":"IF(ISNA(AD167),FALSE,IF(C167=$B$1,Worksheet!$B$3,IF(C167=$C$1,Worksheet!$B$4,IF(C167=$D$1,Worksheet!$B$5,IF(C167=$C$2,Worksheet!$D$3,IF(C167=$D$2,Worksheet!$D$4,IF(C167=$E$2,Worksheet!$D$5,IF(C167=$C$3,Worksheet!$D$6,IF(C167=$B$3,Worksheet!$B$6,IF(C167=$D$3,Worksheet!$B$9,IF(C167=$E$3,Worksheet!$D$9,FALSE)))))))))))","v":true},{"$f":"IF(AE167,D167,\"\")","v":"Easy"},{"$f":"IF(AE167,COUNTIF($AF$5:AF167,AF167),\"X\")","v":62},{"$f":"CONCATENATE(AE167,AF167)","v":"TRUEEasy"}]
[{"$f":"CONCATENATE(AE168,D168,AG168)","v":"TRUEEasy63"},{"$f":"RAND()","v":0.30967932539993193},"%","Easy",277,"Calculate",{"$f":"RANDBETWEEN(1,9)*10+5","v":85},"%","of","£",{"$f":"1000*RANDBETWEEN(2,9)","v":3000},null,null,null,null,null,null,null,null,{"$f":"CONCATENATE(F168,\" \",G168,\"\",H168,\" \",I168,\" \",J168,\"\",K168,\" \",L168,\" \",M168,\" \",N168,\" \",O168,\" \",P168,\" \",Q168,\" \",R168)","v":"Calculate 85% of £3000       "},"£",{"$f":"K168/100*G168","v":2550},null,null,null,null,null,null,{"$f":"IF(ISERROR(T168),NA(),\"\")","v":""},{"$f":"IF(OR(ISNA(U168),ISNA(V168),ISNA(W168),ISNA(X168),ISNA(Y168),ISNA(Z168),ISNA(AA168),ISNA(AB168),ISNA(AC168)),NA(),CONCATENATE(U168,V168,W168,X168,Y168,Z168,AA168,AB168))","v":"£2550"},{"$f":"IF(ISNA(AD168),FALSE,IF(C168=$B$1,Worksheet!$B$3,IF(C168=$C$1,Worksheet!$B$4,IF(C168=$D$1,Worksheet!$B$5,IF(C168=$C$2,Worksheet!$D$3,IF(C168=$D$2,Worksheet!$D$4,IF(C168=$E$2,Worksheet!$D$5,IF(C168=$C$3,Worksheet!$D$6,IF(C168=$B$3,Worksheet!$B$6,IF(C168=$D$3,Worksheet!$B$9,IF(C168=$E$3,Worksheet!$D$9,FALSE)))))))))))","v":true},{"$f":"IF(AE168,D168,\"\")","v":"Easy"},{"$f":"IF(AE168,COUNTIF($AF$5:AF168,AF168),\"X\")","v":63},{"$f":"CONCATENATE(AE168,AF168)","v":"TRUEEasy"}]
[{"$f":"CONCATENATE(AE169,D169,AG169)","v":"TRUEHard32"},{"$f":"RAND()","v":0.17589652604717176},"Surds","Hard",18,"Square numbers.    Use an appropriate written sum to calculate",{"$f":"RANDBETWEEN(2,9)*10+RANDBETWEEN(1,9)","v":48},"²",null,null,null,null,null,null,null,null,null,null,null,{"$f":"CONCATENATE(F169,\" \",G169,\"\",H169,\" \",I169,\" \",J169,\" \",K169,\" \",L169,\" \",M169,\" \",N169,\" \",O169,\" \",P169,\" \",Q169,\" \",R169)","v":"Square numbers.    Use an appropriate written sum to calculate 48²          "},{"$f":"G169^2","v":2304},null,null,null,null,null,null,null,{"$f":"IF(ISERROR(T169),NA(),\"\")","v":""},{"$f":"IF(OR(ISNA(U169),ISNA(V169),ISNA(W169),ISNA(X169),ISNA(Y169),ISNA(Z169),ISNA(AA169),ISNA(AB169),ISNA(AC169)),NA(),CONCATENATE(U169,V169,W169,X169,Y169,Z169,AA169,AB169))","v":"2304"},{"$f":"IF(ISNA(AD169),FALSE,IF(C169=$B$1,Worksheet!$B$3,IF(C169=$C$1,Worksheet!$B$4,IF(C169=$D$1,Worksheet!$B$5,IF(C169=$C$2,Worksheet!$D$3,IF(C169=$D$2,Worksheet!$D$4,IF(C169=$E$2,Worksheet!$D$5,IF(C169=$C$3,Worksheet!$D$6,IF(C169=$B$3,Worksheet!$B$6,IF(C169=$D$3,Worksheet!$B$9,IF(C169=$E$3,Worksheet!$D$9,FALSE)))))))))))","v":true},{"$f":"IF(AE169,D169,\"\")","v":"Hard"},{"$f":"IF(AE169,COUNTIF($AF$5:AF169,AF169),\"X\")","v":32},{"$f":"CONCATENATE(AE169,AF169)","v":"TRUEHard"}]
[{"$f":"CONCATENATE(AE170,D170,AG170)","v":"TRUEMedium70"},{"$f":"RAND()","v":0.9990234172008835},"Dec","Medium",197,"Write the number",{"$f":"RANDBETWEEN(2,9)*1000","v":8000},"in standard form",null,null,null,null,null,null,null,null,null,null,null,{"$f":"CONCATENATE(F170,\" \",G170,\" \",H170,\" \",I170,\" \",J170,\" \",K170,\" \",L170,\" \",M170,\" \",N170,\" \",O170,\" \",P170,\" \",Q170,\" \",R170)","v":"Write the number 8000 in standard form          "},{"$f":"G170/1000","v":8},"× 10^3  (10 to the power of 3)",null,null,null,null,null,null,{"$f":"IF(ISERROR(T170),NA(),\"\")","v":""},{"$f":"IF(OR(ISNA(U170),ISNA(V170),ISNA(W170),ISNA(X170),ISNA(Y170),ISNA(Z170),ISNA(AA170),ISNA(AB170),ISNA(AC170)),NA(),CONCATENATE(U170,V170,W170,X170,Y170,Z170,AA170,AB170))","v":"8× 10^3  (10 to the power of 3)"},{"$f":"IF(ISNA(AD170),FALSE,IF(C170=$B$1,Worksheet!$B$3,IF(C170=$C$1,Worksheet!$B$4,IF(C170=$D$1,Worksheet!$B$5,IF(C170=$C$2,Worksheet!$D$3,IF(C170=$D$2,Worksheet!$D$4,IF(C170=$E$2,Worksheet!$D$5,IF(C170=$C$3,Worksheet!$D$6,IF(C170=$B$3,Worksheet!$B$6,IF(C170=$D$3,Worksheet!$B$9,IF(C170=$E$3,Worksheet!$D$9,FALSE)))))))))))","v":true},{"$f":"IF(AE170,D170,\"\")","v":"Medium"},{"$f":"IF(AE170,COUNTIF($AF$5:AF170,AF170),\"X\")","v":70},{"$f":"CONCATENATE(AE170,AF170)","v":"TRUEMedium"}]
[{"$f":"CONCATENATE(AE171,D171,AG171)","v":"TRUEMedium71"},{"$f":"RAND()","v":0.92630196880671034},"Neg","Medium",226,"Work out of the value of:   ",{"$f":"RANDBETWEEN(10,30)","v":15},"+ (–",{"$f":"RANDBETWEEN(2,6)","v":6},") ×",{"$f":"RANDBETWEEN(1,10)","v":1},"   (remember BODMAS)",null,null,null,null,null,null,null,{"$f":"CONCATENATE(F171,\" \",G171,\" \",H171,\"\",I171,\"\",J171,\" \",K171,\" \",L171,\" \",M171,\" \",N171,\" \",O171,\" \",P171,\" \",Q171,\" \",R171)","v":"Work out of the value of:    15 + (–6) × 1    (remember BODMAS)      "},{"$f":"G171-I171*K171","v":9},null,null,null,null,null,null,null,{"$f":"IF(ISERROR(T171),NA(),\"\")","v":""},{"$f":"IF(OR(ISNA(U171),ISNA(V171),ISNA(W171),ISNA(X171),ISNA(Y171),ISNA(Z171),ISNA(AA171),ISNA(AB171),ISNA(AC171)),NA(),CONCATENATE(U171,V171,W171,X171,Y171,Z171,AA171,AB171))","v":"9"},{"$f":"IF(ISNA(AD171),FALSE,IF(C171=$B$1,Worksheet!$B$3,IF(C171=$C$1,Worksheet!$B$4,IF(C171=$D$1,Worksheet!$B$5,IF(C171=$C$2,Worksheet!$D$3,IF(C171=$D$2,Worksheet!$D$4,IF(C171=$E$2,Worksheet!$D$5,IF(C171=$C$3,Worksheet!$D$6,IF(C171=$B$3,Worksheet!$B$6,IF(C171=$D$3,Worksheet!$B$9,IF(C171=$E$3,Worksheet!$D$9,FALSE)))))))))))","v":true},{"$f":"IF(AE171,D171,\"\")","v":"Medium"},{"$f":"IF(AE171,COUNTIF($AF$5:AF171,AF171),\"X\")","v":71},{"$f":"CONCATENATE(AE171,AF171)","v":"TRUEMedium"}]
[{"$f":"CONCATENATE(AE172,D172,AG172)","v":"TRUEMedium72"},{"$f":"RAND()","v":7.2968330292638162E-2},"%","Medium",295,"What is three eighths (3/8) as a percentage?",null,null,null,null,null,null,null,null,null,null,null,null,null,{"$f":"CONCATENATE(F172,\" \",G172,\" \",H172,\" \",I172,\" \",J172,\" \",K172,\" \",L172,\" \",M172,\" \",N172,\" \",O172,\" \",P172,\" \",Q172,\" \",R172)","v":"What is three eighths (3/8) as a percentage?            "},"37.5%",null,null,null,null,null,null,null,{"$f":"IF(ISERROR(T172),NA(),\"\")","v":""},{"$f":"IF(OR(ISNA(U172),ISNA(V172),ISNA(W172),ISNA(X172),ISNA(Y172),ISNA(Z172),ISNA(AA172),ISNA(AB172),ISNA(AC172)),NA(),CONCATENATE(U172,V172,W172,X172,Y172,Z172,AA172,AB172))","v":"37.5%"},{"$f":"IF(ISNA(AD172),FALSE,IF(C172=$B$1,Worksheet!$B$3,IF(C172=$C$1,Worksheet!$B$4,IF(C172=$D$1,Worksheet!$B$5,IF(C172=$C$2,Worksheet!$D$3,IF(C172=$D$2,Worksheet!$D$4,IF(C172=$E$2,Worksheet!$D$5,IF(C172=$C$3,Worksheet!$D$6,IF(C172=$B$3,Worksheet!$B$6,IF(C172=$D$3,Worksheet!$B$9,IF(C172=$E$3,Worksheet!$D$9,FALSE)))))))))))","v":true},{"$f":"IF(AE172,D172,\"\")","v":"Medium"},{"$f":"IF(AE172,COUNTIF($AF$5:AF172,AF172),\"X\")","v":72},{"$f":"CONCATENATE(AE172,AF172)","v":"TRUEMedium"}]
[{"$f":"CONCATENATE(AE173,D173,AG173)","v":"TRUEMedium73"},{"$f":"RAND()","v":0.52456020632511091},"+-×÷","Medium",154,"Divide by writing down a sum:   ",{"$f":"RANDBETWEEN(0,9)+RANDBETWEEN(1,99)*0.01","v":8.01},"÷",{"$f":"CHOOSE(RANDBETWEEN(1,2),5,8,4)","v":8},null,null,null,null,null,null,null,null,null,null,{"$f":"CONCATENATE(F173,\" \",G173,\" \",H173,\" \",I173,\" \",J173,\" \",K173,\" \",L173,\" \",M173,\" \",N173,\" \",O173,\" \",P173,\" \",Q173,\" \",R173)","v":"Divide by writing down a sum:    8.01 ÷ 8         "},{"$f":"G173/I173","v":1.00125},null,null,null,null,null,null,null,{"$f":"IF(ISERROR(T173),NA(),\"\")","v":""},{"$f":"IF(OR(ISNA(U173),ISNA(V173),ISNA(W173),ISNA(X173),ISNA(Y173),ISNA(Z173),ISNA(AA173),ISNA(AB173),ISNA(AC173)),NA(),CONCATENATE(U173,V173,W173,X173,Y173,Z173,AA173,AB173))","v":"1.00125"},{"$f":"IF(ISNA(AD173),FALSE,IF(C173=$B$1,Worksheet!$B$3,IF(C173=$C$1,Worksheet!$B$4,IF(C173=$D$1,Worksheet!$B$5,IF(C173=$C$2,Worksheet!$D$3,IF(C173=$D$2,Worksheet!$D$4,IF(C173=$E$2,Worksheet!$D$5,IF(C173=$C$3,Worksheet!$D$6,IF(C173=$B$3,Worksheet!$B$6,IF(C173=$D$3,Worksheet!$B$9,IF(C173=$E$3,Worksheet!$D$9,FALSE)))))))))))","v":true},{"$f":"IF(AE173,D173,\"\")","v":"Medium"},{"$f":"IF(AE173,COUNTIF($AF$5:AF173,AF173),\"X\")","v":73},{"$f":"CONCATENATE(AE173,AF173)","v":"TRUEMedium"}]
[{"$f":"CONCATENATE(AE174,D174,AG174)","v":"TRUEMedium74"},{"$f":"RAND()","v":0.99131954039176107},"%","Medium",292,"What fraction is the same as","62½%","?",null,null,null,null,null,null,null,null,null,null,null,{"$f":"CONCATENATE(F174,\" \",G174,\"\",H174,\" \",I174,\" \",J174,\" \",K174,\" \",L174,\" \",M174,\" \",N174,\" \",O174,\" \",P174,\" \",Q174,\" \",R174)","v":"What fraction is the same as 62½%?          "},"5/8 (five eighths)",null,null,null,null,null,null,null,{"$f":"IF(ISERROR(T174),NA(),\"\")","v":""},{"$f":"IF(OR(ISNA(U174),ISNA(V174),ISNA(W174),ISNA(X174),ISNA(Y174),ISNA(Z174),ISNA(AA174),ISNA(AB174),ISNA(AC174)),NA(),CONCATENATE(U174,V174,W174,X174,Y174,Z174,AA174,AB174))","v":"5/8 (five eighths)"},{"$f":"IF(ISNA(AD174),FALSE,IF(C174=$B$1,Worksheet!$B$3,IF(C174=$C$1,Worksheet!$B$4,IF(C174=$D$1,Worksheet!$B$5,IF(C174=$C$2,Worksheet!$D$3,IF(C174=$D$2,Worksheet!$D$4,IF(C174=$E$2,Worksheet!$D$5,IF(C174=$C$3,Worksheet!$D$6,IF(C174=$B$3,Worksheet!$B$6,IF(C174=$D$3,Worksheet!$B$9,IF(C174=$E$3,Worksheet!$D$9,FALSE)))))))))))","v":true},{"$f":"IF(AE174,D174,\"\")","v":"Medium"},{"$f":"IF(AE174,COUNTIF($AF$5:AF174,AF174),\"X\")","v":74},{"$f":"CONCATENATE(AE174,AF174)","v":"TRUEMedium"}]
[{"$f":"CONCATENATE(AE175,D175,AG175)","v":"TRUEEasy64"},{"$f":"RAND()","v":0.55802939415715158},"Frac","Easy",106,"Divide:     ",1,null,null," ÷ ",{"$f":"IF(M175=4,CHOOSE(RANDBETWEEN(1,2),1,3),RANDBETWEEN(1,M175-1))","v":1},"/",{"$f":"RANDBETWEEN(2,10)","v":3},{"$f":"IF(GCD(K175,M175)=1,\"\",\",    giving your answer in its simplest form\")","v":""},null,null,null,null,null,{"$f":"CONCATENATE(F175,\" \",G175,\"\",H175,\"\",I175,\" \",J175,\" \",K175,\"\",L175,\"\",M175,\" \",N175,\"       \",O175,\" \",P175,\" \",Q175,\" \",R175)","v":"Divide:      1  ÷  1/3           "},{"$f":"M175/Z175","v":3},{"$f":"IF(K175/Z175=1,\"\",\"/\")","v":""},{"$f":"IF(K175/Z175=1,\"\",K175/Z175)","v":""},null,null,{"$f":"GCD(M175,K175)","v":1},null,null,{"$f":"IF(ISERROR(T175),NA(),\"\")","v":""},{"$f":"IF(OR(ISNA(U175),ISNA(V175),ISNA(W175),ISNA(X175),ISNA(Y175),ISNA(Z175),ISNA(AA175),ISNA(AB175),ISNA(AC175)),NA(),CONCATENATE(U175,V175,W175,X175,Y175,AA175,AB175))","v":"3"},{"$f":"IF(ISNA(AD175),FALSE,IF(C175=$B$1,Worksheet!$B$3,IF(C175=$C$1,Worksheet!$B$4,IF(C175=$D$1,Worksheet!$B$5,IF(C175=$C$2,Worksheet!$D$3,IF(C175=$D$2,Worksheet!$D$4,IF(C175=$E$2,Worksheet!$D$5,IF(C175=$C$3,Worksheet!$D$6,IF(C175=$B$3,Worksheet!$B$6,IF(C175=$D$3,Worksheet!$B$9,IF(C175=$E$3,Worksheet!$D$9,FALSE)))))))))))","v":true},{"$f":"IF(AE175,D175,\"\")","v":"Easy"},{"$f":"IF(AE175,COUNTIF($AF$5:AF175,AF175),\"X\")","v":64},{"$f":"CONCATENATE(AE175,AF175)","v":"TRUEEasy"}]
[{"$f":"CONCATENATE(AE176,D176,AG176)","v":"TRUEEasy65"},{"$f":"RAND()","v":3.0905980936540955E-2},"Dec","Easy",131,"Write down the next two numbers in this decreasing pattern:               ",{"$f":"RANDBETWEEN(10001,99999)/1000","v":95.585999999999999},"   ,   ",{"$f":"G176+$S176","v":95.581000000000003},"   ,   ",{"$f":"I176+$S176","v":95.576000000000008},"   ,   ",{"$f":"K176+$S176","v":95.571000000000012},"   ,   ","_______________","   ,   ","_______________",null,{"$f":"-1*10^RANDBETWEEN(-3,-1)*CHOOSE(RANDBETWEEN(1,2),2,5)","v":-5.0000000000000001E-3},{"$f":"CONCATENATE(F176,\" \",G176,\" \",H176,\" \",I176,\" \",J176,\" \",K176,\" \",L176,\" \",M176,\" \",N176,\" \",O176,\" \",P176,\" \",Q176,\" \",R176)","v":"Write down the next two numbers in this decreasing pattern:                95.586    ,    95.581    ,    95.576    ,    95.571    ,    _______________    ,    _______________ "},{"$f":"M176+S176","v":95.566000000000017},"    ,    ",{"$f":"U176+S176","v":95.561000000000021},null,null,null,null,null,{"$f":"IF(ISERROR(T176),NA(),\"\")","v":""},{"$f":"IF(OR(ISNA(U176),ISNA(V176),ISNA(W176),ISNA(X176),ISNA(Y176),ISNA(Z176),ISNA(AA176),ISNA(AB176),ISNA(AC176)),NA(),CONCATENATE(U176,V176,W176,X176,Y176,Z176,AA176,AB176))","v":"95.566    ,    95.561"},{"$f":"IF(ISNA(AD176),FALSE,IF(C176=$B$1,Worksheet!$B$3,IF(C176=$C$1,Worksheet!$B$4,IF(C176=$D$1,Worksheet!$B$5,IF(C176=$C$2,Worksheet!$D$3,IF(C176=$D$2,Worksheet!$D$4,IF(C176=$E$2,Worksheet!$D$5,IF(C176=$C$3,Worksheet!$D$6,IF(C176=$B$3,Worksheet!$B$6,IF(C176=$D$3,Worksheet!$B$9,IF(C176=$E$3,Worksheet!$D$9,FALSE)))))))))))","v":true},{"$f":"IF(AE176,D176,\"\")","v":"Easy"},{"$f":"IF(AE176,COUNTIF($AF$5:AF176,AF176),\"X\")","v":65},{"$f":"CONCATENATE(AE176,AF176)","v":"TRUEEasy"}]
[{"$f":"CONCATENATE(AE177,D177,AG177)","v":"TRUEMedium75"},{"$f":"RAND()","v":0.4797644608395667},"Dec","Medium",241,"Divide: ",{"$f":"(3*RANDBETWEEN(11,99)+RANDBETWEEN(1,2))/10","v":25.6}," ÷ ",3,", giving your answer as a decimal rounded to 3 decimal places",null,null,null,null,null,null,null,null,null,{"$f":"CONCATENATE(F177,\" \",G177,\" \",H177,\" \",I177,\" \",J177,\" \",K177,\" \",L177,\" \",M177,\" \",N177,\" \",O177,\" \",P177,\" \",Q177,\" \",R177)","v":"Divide:  25.6  ÷  3 , giving your answer as a decimal rounded to 3 decimal places        "},{"$f":"MROUND(G177/I177,0.001)","v":8.5329999999999995},null,null,null,null,null,null,null,{"$f":"IF(ISERROR(T177),NA(),\"\")","v":""},{"$f":"IF(OR(ISNA(U177),ISNA(V177),ISNA(W177),ISNA(X177),ISNA(Y177),ISNA(Z177),ISNA(AA177),ISNA(AB177),ISNA(AC177)),NA(),CONCATENATE(U177,V177,W177,X177,Y177,Z177,AA177,AB177))","v":"8.533"},{"$f":"IF(ISNA(AD177),FALSE,IF(C177=$B$1,Worksheet!$B$3,IF(C177=$C$1,Worksheet!$B$4,IF(C177=$D$1,Worksheet!$B$5,IF(C177=$C$2,Worksheet!$D$3,IF(C177=$D$2,Worksheet!$D$4,IF(C177=$E$2,Worksheet!$D$5,IF(C177=$C$3,Worksheet!$D$6,IF(C177=$B$3,Worksheet!$B$6,IF(C177=$D$3,Worksheet!$B$9,IF(C177=$E$3,Worksheet!$D$9,FALSE)))))))))))","v":true},{"$f":"IF(AE177,D177,\"\")","v":"Medium"},{"$f":"IF(AE177,COUNTIF($AF$5:AF177,AF177),\"X\")","v":75},{"$f":"CONCATENATE(AE177,AF177)","v":"TRUEMedium"}]
[{"$f":"CONCATENATE(AE178,D178,AG178)","v":"TRUEMedium76"},{"$f":"RAND()","v":0.33784310268734596},"Neg","Medium",234,"Add:   ","(–",{"$f":"RANDBETWEEN(1,9)+0.5","v":6.5},") + (–",{"$f":"RANDBETWEEN(1,9)+0.5","v":8.5},")",null,null,null,null,null,null,null,null,{"$f":"CONCATENATE(F178,\" \",G178,\"\",H178,\"\",I178,\"\",J178,\"\",K178,\" \",L178,\" \",M178,\" \",N178,\" \",O178,\" \",P178,\" \",Q178,\" \",R178)","v":"Add:    (–6.5) + (–8.5)       "},"–",{"$f":"H178+J178","v":15},null,null,null,null,null,null,{"$f":"IF(ISERROR(T178),NA(),\"\")","v":""},{"$f":"IF(OR(ISNA(U178),ISNA(V178),ISNA(W178),ISNA(X178),ISNA(Y178),ISNA(Z178),ISNA(AA178),ISNA(AB178),ISNA(AC178)),NA(),CONCATENATE(U178,V178,W178,X178,Y178,Z178,AA178,AB178))","v":"–15"},{"$f":"IF(ISNA(AD178),FALSE,IF(C178=$B$1,Worksheet!$B$3,IF(C178=$C$1,Worksheet!$B$4,IF(C178=$D$1,Worksheet!$B$5,IF(C178=$C$2,Worksheet!$D$3,IF(C178=$D$2,Worksheet!$D$4,IF(C178=$E$2,Worksheet!$D$5,IF(C178=$C$3,Worksheet!$D$6,IF(C178=$B$3,Worksheet!$B$6,IF(C178=$D$3,Worksheet!$B$9,IF(C178=$E$3,Worksheet!$D$9,FALSE)))))))))))","v":true},{"$f":"IF(AE178,D178,\"\")","v":"Medium"},{"$f":"IF(AE178,COUNTIF($AF$5:AF178,AF178),\"X\")","v":76},{"$f":"CONCATENATE(AE178,AF178)","v":"TRUEMedium"}]
[{"$f":"CONCATENATE(AE179,D179,AG179)","v":"TRUEEasy66"},{"$f":"RAND()","v":0.16813419119839912},"%","Easy",262,{"$f":"CONCATENATE(CHOOSE(RANDBETWEEN(1,10),\"Jemma\",\"Cameron\",\"Stephen\",\"Matthew\",\"Charlie\",\"Liam\",\"Megan\",\"Elliot\",\"John\",\"Chelsea\"),\" gets a mark of \")","v":"Megan gets a mark of "},{"$f":"RANDBETWEEN(1,I179-1)","v":36},"/",{"$f":"CHOOSE(RANDBETWEEN(1,3),20,25,50)","v":50},"on a",{"$f":"CHOOSE(RANDBETWEEN(1,4),\"spelling\",\"geography\",\"french\",\"science\")","v":"science"},"test.  What percentage is this?",null,null,null,null,null,null,null,{"$f":"CONCATENATE(F179,\"\",G179,\"\",H179,\"\",I179,\" \",J179,\" \",K179,\" \",L179,\" \",M179,\" \",N179,\" \",O179,\" \",P179,\" \",Q179,\" \",R179)","v":"Megan gets a mark of 36/50 on a science test.  What percentage is this?      "},{"$f":"G179/I179*100","v":72},"%",null,null,{"$f":"IF(U179=50,NA(),\"\")","v":""},null,null,null,{"$f":"IF(ISERROR(T179),NA(),\"\")","v":""},{"$f":"IF(OR(ISNA(U179),ISNA(V179),ISNA(W179),ISNA(X179),ISNA(Y179),ISNA(Z179),ISNA(AA179),ISNA(AB179),ISNA(AC179)),NA(),CONCATENATE(U179,V179,W179,X179,Y179,Z179,AA179,AB179))","v":"72%"},{"$f":"IF(ISNA(AD179),FALSE,IF(C179=$B$1,Worksheet!$B$3,IF(C179=$C$1,Worksheet!$B$4,IF(C179=$D$1,Worksheet!$B$5,IF(C179=$C$2,Worksheet!$D$3,IF(C179=$D$2,Worksheet!$D$4,IF(C179=$E$2,Worksheet!$D$5,IF(C179=$C$3,Worksheet!$D$6,IF(C179=$B$3,Worksheet!$B$6,IF(C179=$D$3,Worksheet!$B$9,IF(C179=$E$3,Worksheet!$D$9,FALSE)))))))))))","v":true},{"$f":"IF(AE179,D179,\"\")","v":"Easy"},{"$f":"IF(AE179,COUNTIF($AF$5:AF179,AF179),\"X\")","v":66},{"$f":"CONCATENATE(AE179,AF179)","v":"TRUEEasy"}]
[{"$f":"CONCATENATE(AE180,D180,AG180)","v":"TRUEEasy67"},{"$f":"RAND()","v":0.94287514175996512},"Surds","Easy",29,"Work out the value of:",{"$f":"RANDBETWEEN(4,10)","v":7},"×",{"$f":"RANDBETWEEN(2,10)","v":7},"²",null,null,null,null,null,null,null,null,null,{"$f":"CONCATENATE(F180,\" \",G180,\" \",H180,\" \",I180,\"\",J180,\" \",K180,\" \",L180,\" \",M180,\" \",N180,\" \",O180,\" \",P180,\" \",Q180,\" \",R180)","v":"Work out the value of: 7 × 7²        "},{"$f":"G180*I180^2","v":343},null,null,null,null,null,null,null,{"$f":"IF(ISERROR(T180),NA(),\"\")","v":""},{"$f":"IF(OR(ISNA(U180),ISNA(V180),ISNA(W180),ISNA(X180),ISNA(Y180),ISNA(Z180),ISNA(AA180),ISNA(AB180),ISNA(AC180)),NA(),CONCATENATE(U180,V180,W180,X180,Y180,Z180,AA180,AB180))","v":"343"},{"$f":"IF(ISNA(AD180),FALSE,IF(C180=$B$1,Worksheet!$B$3,IF(C180=$C$1,Worksheet!$B$4,IF(C180=$D$1,Worksheet!$B$5,IF(C180=$C$2,Worksheet!$D$3,IF(C180=$D$2,Worksheet!$D$4,IF(C180=$E$2,Worksheet!$D$5,IF(C180=$C$3,Worksheet!$D$6,IF(C180=$B$3,Worksheet!$B$6,IF(C180=$D$3,Worksheet!$B$9,IF(C180=$E$3,Worksheet!$D$9,FALSE)))))))))))","v":true},{"$f":"IF(AE180,D180,\"\")","v":"Easy"},{"$f":"IF(AE180,COUNTIF($AF$5:AF180,AF180),\"X\")","v":67},{"$f":"CONCATENATE(AE180,AF180)","v":"TRUEEasy"}]
[{"$f":"CONCATENATE(AE181,D181,AG181)","v":"TRUEMedium77"},{"$f":"RAND()","v":0.12877216979249761},"%","Medium",265,"What sum could you type into a calculator to work out",{"$f":"RANDBETWEEN(1,99)","v":30},"%","of","£",{"$f":"RANDBETWEEN(1001,99999)","v":45492},"?     Circle the correct answer: ",{"$f":"CONCATENATE(K181,\" ÷ \",G181/100)","v":"45492 ÷ 0.3"},{"$f":"CONCATENATE(K181,\" × \",G181/100)","v":"45492 × 0.3"},{"$f":"CONCATENATE(G181/100,\" ÷ \",K181)","v":"0.3 ÷ 45492"},{"$f":"CONCATENATE(G181/10,\" × \",K181)","v":"3 × 45492"},null,null,null,{"$f":"CONCATENATE(F181,\" \",G181,\"\",H181,\" \",I181,\" \",J181,\"\",K181,\"\",L181,\"      \",M181,\"       \",N181,\"       \",O181,\" \",P181,\" \",Q181,\" \",R181)","v":"What sum could you type into a calculator to work out 30% of £45492?     Circle the correct answer:       45492 ÷ 0.3       45492 × 0.3       0.3 ÷ 45492 3 × 45492  "},{"$f":"N181","v":"45492 × 0.3"},null,null,null,null,null,null,null,{"$f":"IF(ISERROR(T181),NA(),\"\")","v":""},{"$f":"IF(OR(ISNA(U181),ISNA(V181),ISNA(W181),ISNA(X181),ISNA(Y181),ISNA(Z181),ISNA(AA181),ISNA(AB181),ISNA(AC181)),NA(),CONCATENATE(U181,V181,W181,X181,Y181,Z181,AA181,AB181))","v":"45492 × 0.3"},{"$f":"IF(ISNA(AD181),FALSE,IF(C181=$B$1,Worksheet!$B$3,IF(C181=$C$1,Worksheet!$B$4,IF(C181=$D$1,Worksheet!$B$5,IF(C181=$C$2,Worksheet!$D$3,IF(C181=$D$2,Worksheet!$D$4,IF(C181=$E$2,Worksheet!$D$5,IF(C181=$C$3,Worksheet!$D$6,IF(C181=$B$3,Worksheet!$B$6,IF(C181=$D$3,Worksheet!$B$9,IF(C181=$E$3,Worksheet!$D$9,FALSE)))))))))))","v":true},{"$f":"IF(AE181,D181,\"\")","v":"Medium"},{"$f":"IF(AE181,COUNTIF($AF$5:AF181,AF181),\"X\")","v":77},{"$f":"CONCATENATE(AE181,AF181)","v":"TRUEMedium"}]
[{"$f":"CONCATENATE(AE182,D182,AG182)","v":"TRUEMedium78"},{"$f":"RAND()","v":0.69340473576004624},"Dec","Medium",138,"What number is exactly half way between",{"$f":"RANDBETWEEN(1,9)+RANDBETWEEN(0,9)*0.1+RANDBETWEEN(1,9)*0.01+0.009","v":6.6390000000000002},"and",{"$f":"G182+0.001","v":6.6400000000000006},"?",null,null,null,null,null,null,null,null,null,{"$f":"CONCATENATE(F182,\" \",G182,\" \",H182,\" \",I182,\"\",J182,\"\",K182,\" \",L182,\" \",M182,\" \",N182,\" \",O182,\" \",P182,\" \",Q182,\" \",R182)","v":"What number is exactly half way between 6.639 and 6.64?       "},{"$f":"G182+0.0005","v":6.6395},null,null,null,null,null,null,null,{"$f":"IF(ISERROR(T182),NA(),\"\")","v":""},{"$f":"IF(OR(ISNA(U182),ISNA(V182),ISNA(W182),ISNA(X182),ISNA(Y182),ISNA(Z182),ISNA(AA182),ISNA(AB182),ISNA(AC182)),NA(),CONCATENATE(U182,V182,W182,X182,Y182,Z182,AA182,AB182))","v":"6.6395"},{"$f":"IF(ISNA(AD182),FALSE,IF(C182=$B$1,Worksheet!$B$3,IF(C182=$C$1,Worksheet!$B$4,IF(C182=$D$1,Worksheet!$B$5,IF(C182=$C$2,Worksheet!$D$3,IF(C182=$D$2,Worksheet!$D$4,IF(C182=$E$2,Worksheet!$D$5,IF(C182=$C$3,Worksheet!$D$6,IF(C182=$B$3,Worksheet!$B$6,IF(C182=$D$3,Worksheet!$B$9,IF(C182=$E$3,Worksheet!$D$9,FALSE)))))))))))","v":true},{"$f":"IF(AE182,D182,\"\")","v":"Medium"},{"$f":"IF(AE182,COUNTIF($AF$5:AF182,AF182),\"X\")","v":78},{"$f":"CONCATENATE(AE182,AF182)","v":"TRUEMedium"}]
[{"$f":"CONCATENATE(AE183,D183,AG183)","v":"TRUEEasy68"},{"$f":"RAND()","v":0.12868428393210229},"Alg","Easy",302,"Algebra.  If a =",{"$f":"RANDBETWEEN(-10,-2)","v":-5},"and b =",{"$f":"RANDBETWEEN(-10,-2)","v":-10},", what is the value of:    ",{"$f":"RANDBETWEEN(2,9)","v":7},"a +",{"$f":"RANDBETWEEN(2,9)","v":3},"b ?",null,null,null,null,null,{"$f":"CONCATENATE(F183,\" \",G183,\" \",H183,\" \",I183,\" \",J183,\" \",K183,\"\",L183,\" \",M183,\"\",N183,\" \",O183,\" \",P183,\" \",Q183,\" \",R183)","v":"Algebra.  If a = -5 and b = -10 , what is the value of:     7a + 3b ?    "},{"$f":"K183*G183+I183*M183","v":-65},null,null,null,null,null,null,null,{"$f":"IF(ISERROR(T183),NA(),\"\")","v":""},{"$f":"IF(OR(ISNA(U183),ISNA(V183),ISNA(W183),ISNA(X183),ISNA(Y183),ISNA(Z183),ISNA(AA183),ISNA(AB183),ISNA(AC183)),NA(),CONCATENATE(U183,V183,W183,X183,Y183,Z183,AA183,AB183))","v":"-65"},{"$f":"IF(ISNA(AD183),FALSE,IF(C183=$B$1,Worksheet!$B$3,IF(C183=$C$1,Worksheet!$B$4,IF(C183=$D$1,Worksheet!$B$5,IF(C183=$C$2,Worksheet!$D$3,IF(C183=$D$2,Worksheet!$D$4,IF(C183=$E$2,Worksheet!$D$5,IF(C183=$C$3,Worksheet!$D$6,IF(C183=$B$3,Worksheet!$B$6,IF(C183=$D$3,Worksheet!$B$9,IF(C183=$E$3,Worksheet!$D$9,FALSE)))))))))))","v":true},{"$f":"IF(AE183,D183,\"\")","v":"Easy"},{"$f":"IF(AE183,COUNTIF($AF$5:AF183,AF183),\"X\")","v":68},{"$f":"CONCATENATE(AE183,AF183)","v":"TRUEEasy"}]
[{"$f":"CONCATENATE(AE184,D184,AG184)","v":"TRUEMedium79"},{"$f":"RAND()","v":6.9268376438592849E-2},"Neg","Medium",224,"Work out the value of:","(–",{"$f":"RANDBETWEEN(1,10)","v":10},") × ",{"$f":"RANDBETWEEN(1,10)","v":1},"–",{"$f":"RANDBETWEEN(1,10)","v":7},null,"   (remember BODMAS)",null,null,null,null,null,{"$f":"CONCATENATE(F184,\" \",G184,\" \",H184,\"\",I184,\" \",J184,\" \",K184,\" \",L184,\" \",M184,\" \",N184,\" \",O184,\" \",P184,\" \",Q184,\" \",R184)","v":"Work out the value of: (– 10) ×  1 – 7     (remember BODMAS)    "},{"$f":"H184*J184-L184","v":3},null,null,null,null,null,null,null,{"$f":"IF(ISERROR(T184),NA(),\"\")","v":""},{"$f":"IF(OR(ISNA(U184),ISNA(V184),ISNA(W184),ISNA(X184),ISNA(Y184),ISNA(Z184),ISNA(AA184),ISNA(AB184),ISNA(AC184)),NA(),CONCATENATE(U184,V184,W184,X184,Y184,Z184,AA184,AB184))","v":"3"},{"$f":"IF(ISNA(AD184),FALSE,IF(C184=$B$1,Worksheet!$B$3,IF(C184=$C$1,Worksheet!$B$4,IF(C184=$D$1,Worksheet!$B$5,IF(C184=$C$2,Worksheet!$D$3,IF(C184=$D$2,Worksheet!$D$4,IF(C184=$E$2,Worksheet!$D$5,IF(C184=$C$3,Worksheet!$D$6,IF(C184=$B$3,Worksheet!$B$6,IF(C184=$D$3,Worksheet!$B$9,IF(C184=$E$3,Worksheet!$D$9,FALSE)))))))))))","v":true},{"$f":"IF(AE184,D184,\"\")","v":"Medium"},{"$f":"IF(AE184,COUNTIF($AF$5:AF184,AF184),\"X\")","v":79},{"$f":"CONCATENATE(AE184,AF184)","v":"TRUEMedium"}]
[{"$f":"CONCATENATE(AE185,D185,AG185)","v":"TRUEMedium80"},{"$f":"RAND()","v":0.5751942177867414},"Neg","Medium",236,"Add:   ",{"$f":"RANDBETWEEN(1,5)+RANDBETWEEN(1,9)/10","v":3.8},"+ (–",{"$f":"RANDBETWEEN(1,10)+RANDBETWEEN(1,9)/10","v":8.1999999999999993},")",null,null,null,null,null,null,null,null,null,{"$f":"CONCATENATE(F185,\" \",G185,\" \",H185,\"\",I185,\"\",J185,\"\",K185,\" \",L185,\" \",M185,\" \",N185,\" \",O185,\" \",P185,\" \",Q185,\" \",R185)","v":"Add:    3.8 + (–8.2)       "},{"$f":"G185-I185","v":-4.3999999999999995},null,null,null,null,null,null,null,{"$f":"IF(ISERROR(T185),NA(),\"\")","v":""},{"$f":"IF(OR(ISNA(U185),ISNA(V185),ISNA(W185),ISNA(X185),ISNA(Y185),ISNA(Z185),ISNA(AA185),ISNA(AB185),ISNA(AC185)),NA(),CONCATENATE(U185,V185,W185,X185,Y185,Z185,AA185,AB185))","v":"-4.4"},{"$f":"IF(ISNA(AD185),FALSE,IF(C185=$B$1,Worksheet!$B$3,IF(C185=$C$1,Worksheet!$B$4,IF(C185=$D$1,Worksheet!$B$5,IF(C185=$C$2,Worksheet!$D$3,IF(C185=$D$2,Worksheet!$D$4,IF(C185=$E$2,Worksheet!$D$5,IF(C185=$C$3,Worksheet!$D$6,IF(C185=$B$3,Worksheet!$B$6,IF(C185=$D$3,Worksheet!$B$9,IF(C185=$E$3,Worksheet!$D$9,FALSE)))))))))))","v":true},{"$f":"IF(AE185,D185,\"\")","v":"Medium"},{"$f":"IF(AE185,COUNTIF($AF$5:AF185,AF185),\"X\")","v":80},{"$f":"CONCATENATE(AE185,AF185)","v":"TRUEMedium"}]
[{"$f":"CONCATENATE(AE186,D186,AG186)","v":"TRUEEasy69"},{"$f":"RAND()","v":0.27762435865452595},"Dec","Easy",244,"Multiply:     ",{"$f":"RANDBETWEEN(1,9)+RANDBETWEEN(1,99)/100","v":6.64},"×",{"$f":"RANDBETWEEN(2,9)*10^RANDBETWEEN(1,1)","v":80},null,null,null,null,null,null,null,null,null,null,{"$f":"CONCATENATE(F186,\" \",G186,\" \",H186,\" \",I186,\" \",J186,\" \",K186,\" \",L186,\" \",M186,\" \",N186,\" \",O186,\" \",P186,\" \",Q186,\" \",R186)","v":"Multiply:      6.64 × 80         "},{"$f":"G186*I186","v":531.19999999999993},null,null,null,null,null,null,null,{"$f":"IF(ISERROR(T186),NA(),\"\")","v":""},{"$f":"IF(OR(ISNA(U186),ISNA(V186),ISNA(W186),ISNA(X186),ISNA(Y186),ISNA(Z186),ISNA(AA186),ISNA(AB186),ISNA(AC186)),NA(),CONCATENATE(U186,V186,W186,X186,Y186,Z186,AA186,AB186))","v":"531.2"},{"$f":"IF(ISNA(AD186),FALSE,IF(C186=$B$1,Worksheet!$B$3,IF(C186=$C$1,Worksheet!$B$4,IF(C186=$D$1,Worksheet!$B$5,IF(C186=$C$2,Worksheet!$D$3,IF(C186=$D$2,Worksheet!$D$4,IF(C186=$E$2,Worksheet!$D$5,IF(C186=$C$3,Worksheet!$D$6,IF(C186=$B$3,Worksheet!$B$6,IF(C186=$D$3,Worksheet!$B$9,IF(C186=$E$3,Worksheet!$D$9,FALSE)))))))))))","v":true},{"$f":"IF(AE186,D186,\"\")","v":"Easy"},{"$f":"IF(AE186,COUNTIF($AF$5:AF186,AF186),\"X\")","v":69},{"$f":"CONCATENATE(AE186,AF186)","v":"TRUEEasy"}]
[{"$f":"CONCATENATE(AE187,D187,AG187)","v":"TRUEMedium81"},{"$f":"RAND()","v":0.1538187338583743},"Dec","Medium",199,"Write the number",{"$f":"RANDBETWEEN(2,9)*10000","v":40000},"in standard form",null,null,null,null,null,null,null,null,null,null,null,{"$f":"CONCATENATE(F187,\" \",G187,\" \",H187,\" \",I187,\" \",J187,\" \",K187,\" \",L187,\" \",M187,\" \",N187,\" \",O187,\" \",P187,\" \",Q187,\" \",R187)","v":"Write the number 40000 in standard form          "},{"$f":"G187/10000","v":4},"× 10^4  (10 to the power of 4)",null,null,null,null,null,null,{"$f":"IF(ISERROR(T187),NA(),\"\")","v":""},{"$f":"IF(OR(ISNA(U187),ISNA(V187),ISNA(W187),ISNA(X187),ISNA(Y187),ISNA(Z187),ISNA(AA187),ISNA(AB187),ISNA(AC187)),NA(),CONCATENATE(U187,V187,W187,X187,Y187,Z187,AA187,AB187))","v":"4× 10^4  (10 to the power of 4)"},{"$f":"IF(ISNA(AD187),FALSE,IF(C187=$B$1,Worksheet!$B$3,IF(C187=$C$1,Worksheet!$B$4,IF(C187=$D$1,Worksheet!$B$5,IF(C187=$C$2,Worksheet!$D$3,IF(C187=$D$2,Worksheet!$D$4,IF(C187=$E$2,Worksheet!$D$5,IF(C187=$C$3,Worksheet!$D$6,IF(C187=$B$3,Worksheet!$B$6,IF(C187=$D$3,Worksheet!$B$9,IF(C187=$E$3,Worksheet!$D$9,FALSE)))))))))))","v":true},{"$f":"IF(AE187,D187,\"\")","v":"Medium"},{"$f":"IF(AE187,COUNTIF($AF$5:AF187,AF187),\"X\")","v":81},{"$f":"CONCATENATE(AE187,AF187)","v":"TRUEMedium"}]
[{"$f":"CONCATENATE(AE188,D188,AG188)","v":"TRUEEasy70"},{"$f":"RAND()","v":0.33918017144464463},"Num","Easy",2,"Write the number",{"$f":"RANDBETWEEN(1,9)","v":5},{"$f":"CHOOSE(RANDBETWEEN(1,3),\"¼\",\"¾\",\"½\")","v":"¼"},{"$f":"CHOOSE(RANDBETWEEN(1,2),\"million\",\"billion\")","v":"million"},"in figures in full",null,null,null,null,null,null,null,null,null,{"$f":"CONCATENATE(F188,\" \",G188,\"\",H188,\" \",I188,\" \",J188,\" \",K188,\" \",L188,\" \",M188,\" \",N188,\" \",O188,\" \",P188,\" \",Q188,\" \",R188)","v":"Write the number 5¼ million in figures in full        "},{"$f":"G188","v":5},",",{"$f":"IF(H188=\"¼\",25,IF(H188=\"¾\",75,IF(H188=\"½\",50,NA())))","v":25},"0,000",{"$f":"IF(I188=\"billion\",\",000\",\"\")","v":""},null,null,null,{"$f":"IF(ISERROR(T188),NA(),\"\")","v":""},{"$f":"IF(OR(ISNA(U188),ISNA(V188),ISNA(W188),ISNA(X188),ISNA(Y188),ISNA(Z188),ISNA(AA188),ISNA(AB188),ISNA(AC188)),NA(),CONCATENATE(U188,V188,W188,X188,Y188,Z188,AA188,AB188))","v":"5,250,000"},{"$f":"IF(ISNA(AD188),FALSE,IF(C188=$B$1,Worksheet!$B$3,IF(C188=$C$1,Worksheet!$B$4,IF(C188=$D$1,Worksheet!$B$5,IF(C188=$C$2,Worksheet!$D$3,IF(C188=$D$2,Worksheet!$D$4,IF(C188=$E$2,Worksheet!$D$5,IF(C188=$C$3,Worksheet!$D$6,IF(C188=$B$3,Worksheet!$B$6,IF(C188=$D$3,Worksheet!$B$9,IF(C188=$E$3,Worksheet!$D$9,FALSE)))))))))))","v":true},{"$f":"IF(AE188,D188,\"\")","v":"Easy"},{"$f":"IF(AE188,COUNTIF($AF$5:AF188,AF188),\"X\")","v":70},{"$f":"CONCATENATE(AE188,AF188)","v":"TRUEEasy"}]
[{"$f":"CONCATENATE(AE189,D189,AG189)","v":"TRUEEasy71"},{"$f":"RAND()","v":0.90892645152538187},"+-×÷","Easy",19,"Use a method of your choice to multiply ",{"$f":"RANDBETWEEN(2,9)*10+RANDBETWEEN(1,9)","v":64}," ×",{"$f":"RANDBETWEEN(2,9)*10+RANDBETWEEN(1,9)","v":36},"without a calculator",null,null,null,null,null,null,null,null,null,{"$f":"CONCATENATE(F189,\" \",G189,\" \",H189,\" \",I189,\" \",J189,\" \",K189,\" \",L189,\" \",M189,\" \",N189,\" \",O189,\" \",P189,\" \",Q189,\" \",R189)","v":"Use a method of your choice to multiply  64  × 36 without a calculator        "},{"$f":"G189*I189","v":2304},null,null,null,null,null,null,null,{"$f":"IF(ISERROR(T189),NA(),\"\")","v":""},{"$f":"IF(OR(ISNA(U189),ISNA(V189),ISNA(W189),ISNA(X189),ISNA(Y189),ISNA(Z189),ISNA(AA189),ISNA(AB189),ISNA(AC189)),NA(),CONCATENATE(U189,V189,W189,X189,Y189,Z189,AA189,AB189))","v":"2304"},{"$f":"IF(ISNA(AD189),FALSE,IF(C189=$B$1,Worksheet!$B$3,IF(C189=$C$1,Worksheet!$B$4,IF(C189=$D$1,Worksheet!$B$5,IF(C189=$C$2,Worksheet!$D$3,IF(C189=$D$2,Worksheet!$D$4,IF(C189=$E$2,Worksheet!$D$5,IF(C189=$C$3,Worksheet!$D$6,IF(C189=$B$3,Worksheet!$B$6,IF(C189=$D$3,Worksheet!$B$9,IF(C189=$E$3,Worksheet!$D$9,FALSE)))))))))))","v":true},{"$f":"IF(AE189,D189,\"\")","v":"Easy"},{"$f":"IF(AE189,COUNTIF($AF$5:AF189,AF189),\"X\")","v":71},{"$f":"CONCATENATE(AE189,AF189)","v":"TRUEEasy"}]
[{"$f":"CONCATENATE(AE190,D190,AG190)","v":"TRUEMedium82"},{"$f":"RAND()","v":0.31928748983549482},"Dec","Medium",133,"Write the fraction ",{"$f":"RANDBETWEEN(1,9)","v":3},"/",{"$f":"CHOOSE(RANDBETWEEN(1,2),1000,10000)","v":1000},"as a decimal",null,null,null,null,null,null,null,null,null,{"$f":"CONCATENATE(F190,\" \",G190,\"\",H190,\"\",I190,\" \",J190,\" \",K190,\" \",L190,\" \",M190,\" \",N190,\" \",O190,\" \",P190,\" \",Q190,\" \",R190)","v":"Write the fraction  3/1000 as a decimal        "},{"$f":"G190/I190","v":3.0000000000000001E-3},null,null,null,null,null,null,null,{"$f":"IF(ISERROR(T190),NA(),\"\")","v":""},{"$f":"IF(OR(ISNA(U190),ISNA(V190),ISNA(W190),ISNA(X190),ISNA(Y190),ISNA(Z190),ISNA(AA190),ISNA(AB190),ISNA(AC190)),NA(),CONCATENATE(U190,V190,W190,X190,Y190,Z190,AA190,AB190))","v":"0.003"},{"$f":"IF(ISNA(AD190),FALSE,IF(C190=$B$1,Worksheet!$B$3,IF(C190=$C$1,Worksheet!$B$4,IF(C190=$D$1,Worksheet!$B$5,IF(C190=$C$2,Worksheet!$D$3,IF(C190=$D$2,Worksheet!$D$4,IF(C190=$E$2,Worksheet!$D$5,IF(C190=$C$3,Worksheet!$D$6,IF(C190=$B$3,Worksheet!$B$6,IF(C190=$D$3,Worksheet!$B$9,IF(C190=$E$3,Worksheet!$D$9,FALSE)))))))))))","v":true},{"$f":"IF(AE190,D190,\"\")","v":"Medium"},{"$f":"IF(AE190,COUNTIF($AF$5:AF190,AF190),\"X\")","v":82},{"$f":"CONCATENATE(AE190,AF190)","v":"TRUEMedium"}]
[{"$f":"CONCATENATE(AE191,D191,AG191)","v":"TRUEHard33"},{"$f":"RAND()","v":0.29299216175686282},"Dec","Hard",206,"Write the number",{"$f":"RANDBETWEEN(2,9)/10+RANDBETWEEN(1,99)/1000","v":0.52200000000000002},"in standard form",null,null,null,null,null,null,null,null,null,null,null,{"$f":"CONCATENATE(F191,\" \",G191,\" \",H191,\" \",I191,\" \",J191,\" \",K191,\" \",L191,\" \",M191,\" \",N191,\" \",O191,\" \",P191,\" \",Q191,\" \",R191)","v":"Write the number 0.522 in standard form          "},{"$f":"G191*10","v":5.2200000000000006},"× 10^(-1)  (10 to the power of -1)",null,null,null,null,null,null,{"$f":"IF(ISERROR(T191),NA(),\"\")","v":""},{"$f":"IF(OR(ISNA(U191),ISNA(V191),ISNA(W191),ISNA(X191),ISNA(Y191),ISNA(Z191),ISNA(AA191),ISNA(AB191),ISNA(AC191)),NA(),CONCATENATE(U191,V191,W191,X191,Y191,Z191,AA191,AB191))","v":"5.22× 10^(-1)  (10 to the power of -1)"},{"$f":"IF(ISNA(AD191),FALSE,IF(C191=$B$1,Worksheet!$B$3,IF(C191=$C$1,Worksheet!$B$4,IF(C191=$D$1,Worksheet!$B$5,IF(C191=$C$2,Worksheet!$D$3,IF(C191=$D$2,Worksheet!$D$4,IF(C191=$E$2,Worksheet!$D$5,IF(C191=$C$3,Worksheet!$D$6,IF(C191=$B$3,Worksheet!$B$6,IF(C191=$D$3,Worksheet!$B$9,IF(C191=$E$3,Worksheet!$D$9,FALSE)))))))))))","v":true},{"$f":"IF(AE191,D191,\"\")","v":"Hard"},{"$f":"IF(AE191,COUNTIF($AF$5:AF191,AF191),\"X\")","v":33},{"$f":"CONCATENATE(AE191,AF191)","v":"TRUEHard"}]
[{"$f":"CONCATENATE(AE192,D192,AG192)","v":"TRUEMedium83"},{"$f":"RAND()","v":0.58495436496881525},"Dec","Medium",160,"What is three eighths (3/8) as a decimal?",null,null,null,null,null,null,null,null,null,null,null,null,null,{"$f":"CONCATENATE(F192,\" \",G192,\" \",H192,\" \",I192,\" \",J192,\" \",K192,\" \",L192,\" \",M192,\" \",N192,\" \",O192,\" \",P192,\" \",Q192,\" \",R192)","v":"What is three eighths (3/8) as a decimal?            "},0.375,null,null,null,null,null,null,null,{"$f":"IF(ISERROR(T192),NA(),\"\")","v":""},{"$f":"IF(OR(ISNA(U192),ISNA(V192),ISNA(W192),ISNA(X192),ISNA(Y192),ISNA(Z192),ISNA(AA192),ISNA(AB192),ISNA(AC192)),NA(),CONCATENATE(U192,V192,W192,X192,Y192,Z192,AA192,AB192))","v":"0.375"},{"$f":"IF(ISNA(AD192),FALSE,IF(C192=$B$1,Worksheet!$B$3,IF(C192=$C$1,Worksheet!$B$4,IF(C192=$D$1,Worksheet!$B$5,IF(C192=$C$2,Worksheet!$D$3,IF(C192=$D$2,Worksheet!$D$4,IF(C192=$E$2,Worksheet!$D$5,IF(C192=$C$3,Worksheet!$D$6,IF(C192=$B$3,Worksheet!$B$6,IF(C192=$D$3,Worksheet!$B$9,IF(C192=$E$3,Worksheet!$D$9,FALSE)))))))))))","v":true},{"$f":"IF(AE192,D192,\"\")","v":"Medium"},{"$f":"IF(AE192,COUNTIF($AF$5:AF192,AF192),\"X\")","v":83},{"$f":"CONCATENATE(AE192,AF192)","v":"TRUEMedium"}]
[{"$f":"CONCATENATE(AE193,D193,AG193)","v":"TRUEMedium84"},{"$f":"RAND()","v":0.98681864118044971},"Neg","Medium",237,"Take away:   ",{"$f":"RANDBETWEEN(1,5)+RANDBETWEEN(1,9)/10","v":4.0999999999999996},"– (–",{"$f":"RANDBETWEEN(1,5)+RANDBETWEEN(1,9)/10","v":4.2},")",null,null,null,null,null,null,null,null,null,{"$f":"CONCATENATE(F193,\" \",G193,\" \",H193,\"\",I193,\"\",J193,\"\",K193,\" \",L193,\" \",M193,\" \",N193,\" \",O193,\" \",P193,\" \",Q193,\" \",R193)","v":"Take away:    4.1 – (–4.2)       "},{"$f":"G193+I193","v":8.3000000000000007},null,null,null,null,null,null,null,{"$f":"IF(ISERROR(T193),NA(),\"\")","v":""},{"$f":"IF(OR(ISNA(U193),ISNA(V193),ISNA(W193),ISNA(X193),ISNA(Y193),ISNA(Z193),ISNA(AA193),ISNA(AB193),ISNA(AC193)),NA(),CONCATENATE(U193,V193,W193,X193,Y193,Z193,AA193,AB193))","v":"8.3"},{"$f":"IF(ISNA(AD193),FALSE,IF(C193=$B$1,Worksheet!$B$3,IF(C193=$C$1,Worksheet!$B$4,IF(C193=$D$1,Worksheet!$B$5,IF(C193=$C$2,Worksheet!$D$3,IF(C193=$D$2,Worksheet!$D$4,IF(C193=$E$2,Worksheet!$D$5,IF(C193=$C$3,Worksheet!$D$6,IF(C193=$B$3,Worksheet!$B$6,IF(C193=$D$3,Worksheet!$B$9,IF(C193=$E$3,Worksheet!$D$9,FALSE)))))))))))","v":true},{"$f":"IF(AE193,D193,\"\")","v":"Medium"},{"$f":"IF(AE193,COUNTIF($AF$5:AF193,AF193),\"X\")","v":84},{"$f":"CONCATENATE(AE193,AF193)","v":"TRUEMedium"}]
[{"$f":"CONCATENATE(AE194,D194,AG194)","v":"TRUEHard34"},{"$f":"RAND()","v":3.965914821990979E-2},"Frac","Hard",96,"Change the fraction",{"$f":"RANDBETWEEN(1,10)","v":5},"/11","into a decimal correct to 3 decimal places",null,null,null,null,null,null,null,null,null,null,{"$f":"CONCATENATE(F194,\" \",G194,\"\",H194,\" \",I194,\" \",J194,\" \",K194,\" \",L194,\" \",M194,\" \",N194,\" \",O194,\" \",P194,\" \",Q194,\" \",R194)","v":"Change the fraction 5/11 into a decimal correct to 3 decimal places         "},{"$f":"TEXT(G194/11,\"0.000\")","v":"0.455"},null,null,null,null,null,null,null,{"$f":"IF(ISERROR(T194),NA(),\"\")","v":""},{"$f":"IF(OR(ISNA(U194),ISNA(V194),ISNA(W194),ISNA(X194),ISNA(Y194),ISNA(Z194),ISNA(AA194),ISNA(AB194),ISNA(AC194)),NA(),CONCATENATE(U194,V194,W194,X194,Y194,Z194,AA194,AB194))","v":"0.455"},{"$f":"IF(ISNA(AD194),FALSE,IF(C194=$B$1,Worksheet!$B$3,IF(C194=$C$1,Worksheet!$B$4,IF(C194=$D$1,Worksheet!$B$5,IF(C194=$C$2,Worksheet!$D$3,IF(C194=$D$2,Worksheet!$D$4,IF(C194=$E$2,Worksheet!$D$5,IF(C194=$C$3,Worksheet!$D$6,IF(C194=$B$3,Worksheet!$B$6,IF(C194=$D$3,Worksheet!$B$9,IF(C194=$E$3,Worksheet!$D$9,FALSE)))))))))))","v":true},{"$f":"IF(AE194,D194,\"\")","v":"Hard"},{"$f":"IF(AE194,COUNTIF($AF$5:AF194,AF194),\"X\")","v":34},{"$f":"CONCATENATE(AE194,AF194)","v":"TRUEHard"}]
[{"$f":"CONCATENATE(AE195,D195,AG195)","v":"TRUEMedium85"},{"$f":"RAND()","v":0.22488049063279159},"+-×÷","Medium",13,"Take away  ",{"$f":"RANDBETWEEN(2,999)*10000+RANDBETWEEN(1,99)*100+RANDBETWEEN(1,99)","v":2867718}," – ",{"$f":"RANDBETWEEN(500,G195-100)","v":1265466},"  without a calculator",null,null,null,null,null,null,null,null,null,{"$f":"CONCATENATE(F195,\" \",G195,\" \",H195,\" \",I195,\" \",J195,\" \",K195,\" \",L195,\" \",M195,\" \",N195,\" \",O195,\" \",P195,\" \",Q195,\" \",R195)","v":"Take away   2867718  –  1265466   without a calculator        "},{"$f":"G195-I195","v":1602252},null,null,null,null,null,null,null,{"$f":"IF(ISERROR(T195),NA(),\"\")","v":""},{"$f":"IF(OR(ISNA(U195),ISNA(V195),ISNA(W195),ISNA(X195),ISNA(Y195),ISNA(Z195),ISNA(AA195),ISNA(AB195),ISNA(AC195)),NA(),CONCATENATE(U195,V195,W195,X195,Y195,Z195,AA195,AB195))","v":"1602252"},{"$f":"IF(ISNA(AD195),FALSE,IF(C195=$B$1,Worksheet!$B$3,IF(C195=$C$1,Worksheet!$B$4,IF(C195=$D$1,Worksheet!$B$5,IF(C195=$C$2,Worksheet!$D$3,IF(C195=$D$2,Worksheet!$D$4,IF(C195=$E$2,Worksheet!$D$5,IF(C195=$C$3,Worksheet!$D$6,IF(C195=$B$3,Worksheet!$B$6,IF(C195=$D$3,Worksheet!$B$9,IF(C195=$E$3,Worksheet!$D$9,FALSE)))))))))))","v":true},{"$f":"IF(AE195,D195,\"\")","v":"Medium"},{"$f":"IF(AE195,COUNTIF($AF$5:AF195,AF195),\"X\")","v":85},{"$f":"CONCATENATE(AE195,AF195)","v":"TRUEMedium"}]
[{"$f":"CONCATENATE(AE196,D196,AG196)","v":"TRUEEasy72"},{"$f":"RAND()","v":0.98577047861687561},"%","Easy",268,"What is","33⅓%","of",{"$f":"3*RANDBETWEEN(11,99)*10^RANDBETWEEN(0,3)","v":222000},"?",null,null,null,null,null,null,null,null,null,{"$f":"CONCATENATE(F196,\" \",G196,\" \",H196,\" \",I196,\"\",J196,\" \",K196,\" \",L196,\" \",M196,\" \",N196,\" \",O196,\" \",P196,\" \",Q196,\" \",R196)","v":"What is 33⅓% of 222000?        "},{"$f":"I196/3","v":74000},null,null,null,null,null,null,null,{"$f":"IF(ISERROR(T196),NA(),\"\")","v":""},{"$f":"IF(OR(ISNA(U196),ISNA(V196),ISNA(W196),ISNA(X196),ISNA(Y196),ISNA(Z196),ISNA(AA196),ISNA(AB196),ISNA(AC196)),NA(),CONCATENATE(U196,V196,W196,X196,Y196,Z196,AA196,AB196))","v":"74000"},{"$f":"IF(ISNA(AD196),FALSE,IF(C196=$B$1,Worksheet!$B$3,IF(C196=$C$1,Worksheet!$B$4,IF(C196=$D$1,Worksheet!$B$5,IF(C196=$C$2,Worksheet!$D$3,IF(C196=$D$2,Worksheet!$D$4,IF(C196=$E$2,Worksheet!$D$5,IF(C196=$C$3,Worksheet!$D$6,IF(C196=$B$3,Worksheet!$B$6,IF(C196=$D$3,Worksheet!$B$9,IF(C196=$E$3,Worksheet!$D$9,FALSE)))))))))))","v":true},{"$f":"IF(AE196,D196,\"\")","v":"Easy"},{"$f":"IF(AE196,COUNTIF($AF$5:AF196,AF196),\"X\")","v":72},{"$f":"CONCATENATE(AE196,AF196)","v":"TRUEEasy"}]
[{"$f":"CONCATENATE(AE197,D197,AG197)","v":"TRUEEasy73"},{"$f":"RAND()","v":0.65170417525053825},"Frac","Easy",75,"Fractions.     Without a calculator, work out:   ",{"$f":"TEXT(R197/S197,\"##/##\")","v":"5/12"},"of",{"$f":"S197*RANDBETWEEN(3,6)","v":72},null,null,null,null,null,null,null,null,{"$f":"RANDBETWEEN(2,S197-1)","v":5},{"$f":"RANDBETWEEN(11,19)","v":12},{"$f":"CONCATENATE(F197,\" \",G197,\" \",H197,\" \",I197,\" \",J197,\" \",K197,\" \",L197,\" \",M197,\" \",N197,\" \",O197,\" \",P197,\" \",Q197)","v":"Fractions.     Without a calculator, work out:    5/12 of 72        "},{"$f":"I197/S197*VALUE(LEFT(G197,SEARCH(\"/\",G197,1)-1))","v":30},null,null,null,null,null,null,null,{"$f":"IF(ISERROR(T197),NA(),\"\")","v":""},{"$f":"IF(OR(ISNA(U197),ISNA(V197),ISNA(W197),ISNA(X197),ISNA(Y197),ISNA(Z197),ISNA(AA197),ISNA(AB197),ISNA(AC197)),NA(),CONCATENATE(U197,V197,W197,X197,Y197,Z197,AA197,AB197))","v":"30"},{"$f":"IF(ISNA(AD197),FALSE,IF(C197=$B$1,Worksheet!$B$3,IF(C197=$C$1,Worksheet!$B$4,IF(C197=$D$1,Worksheet!$B$5,IF(C197=$C$2,Worksheet!$D$3,IF(C197=$D$2,Worksheet!$D$4,IF(C197=$E$2,Worksheet!$D$5,IF(C197=$C$3,Worksheet!$D$6,IF(C197=$B$3,Worksheet!$B$6,IF(C197=$D$3,Worksheet!$B$9,IF(C197=$E$3,Worksheet!$D$9,FALSE)))))))))))","v":true},{"$f":"IF(AE197,D197,\"\")","v":"Easy"},{"$f":"IF(AE197,COUNTIF($AF$5:AF197,AF197),\"X\")","v":73},{"$f":"CONCATENATE(AE197,AF197)","v":"TRUEEasy"}]
[{"$f":"CONCATENATE(AE198,D198,AG198)","v":"TRUEEasy74"},{"$f":"RAND()","v":0.11057774836826351},"Eqn","Easy",318,"Solve the equation",{"$f":"RANDBETWEEN(2,10)","v":7},{"$f":"CHOOSE(RANDBETWEEN(1,22),\"a\",\"b\",\"c\",\"d\",\"f\",\"g\",\"h\",\"j\",\"k\",\"m\",\"n\",\"p\",\"q\",\"r\",\"s\",\"t\",\"u\",\"v\",\"w\",\"x\",\"y\",\"z\")","v":"p"},"+",{"$f":"RANDBETWEEN(1,10)","v":7},"=",{"$f":"G198*W198+J198","v":98},".      Show your working in full.",null,null,null,null,null,null,{"$f":"CONCATENATE(F198,\" \",G198,\"\",H198,\" \",I198,\" \",J198,\" \",K198,\" \",L198,\" \",M198,\" \",N198,\" \",O198,\" \",P198,\" \",Q198,\" \",R198)","v":"Solve the equation 7p + 7 = 98 .      Show your working in full.     "},{"$f":"H198","v":"p"}," = ",{"$f":"RANDBETWEEN(8,20)","v":13},null,null,null,null,null,{"$f":"IF(ISERROR(T198),NA(),\"\")","v":""},{"$f":"IF(OR(ISNA(U198),ISNA(V198),ISNA(W198),ISNA(X198),ISNA(Y198),ISNA(Z198),ISNA(AA198),ISNA(AB198),ISNA(AC198)),NA(),CONCATENATE(U198,V198,W198,X198,Y198,Z198,AA198,AB198))","v":"p = 13"},{"$f":"IF(ISNA(AD198),FALSE,IF(C198=$B$1,Worksheet!$B$3,IF(C198=$C$1,Worksheet!$B$4,IF(C198=$D$1,Worksheet!$B$5,IF(C198=$C$2,Worksheet!$D$3,IF(C198=$D$2,Worksheet!$D$4,IF(C198=$E$2,Worksheet!$D$5,IF(C198=$C$3,Worksheet!$D$6,IF(C198=$B$3,Worksheet!$B$6,IF(C198=$D$3,Worksheet!$B$9,IF(C198=$E$3,Worksheet!$D$9,FALSE)))))))))))","v":true},{"$f":"IF(AE198,D198,\"\")","v":"Easy"},{"$f":"IF(AE198,COUNTIF($AF$5:AF198,AF198),\"X\")","v":74},{"$f":"CONCATENATE(AE198,AF198)","v":"TRUEEasy"}]
[{"$f":"CONCATENATE(AE199,D199,AG199)","v":"TRUEEasy75"},{"$f":"RAND()","v":0.63199837226809352},"Dec","Easy",163,"What is one third (1/3) as a decimal?",null,null,null,null,null,null,null,null,null,null,null,null,null,{"$f":"CONCATENATE(F199,\" \",G199,\" \",H199,\" \",I199,\" \",J199,\" \",K199,\" \",L199,\" \",M199,\" \",N199,\" \",O199,\" \",P199,\" \",Q199,\" \",R199)","v":"What is one third (1/3) as a decimal?            "},"0.3333…  (0.33 recurring)",null,null,null,null,null,null,null,{"$f":"IF(ISERROR(T199),NA(),\"\")","v":""},{"$f":"IF(OR(ISNA(U199),ISNA(V199),ISNA(W199),ISNA(X199),ISNA(Y199),ISNA(Z199),ISNA(AA199),ISNA(AB199),ISNA(AC199)),NA(),CONCATENATE(U199,V199,W199,X199,Y199,Z199,AA199,AB199))","v":"0.3333…  (0.33 recurring)"},{"$f":"IF(ISNA(AD199),FALSE,IF(C199=$B$1,Worksheet!$B$3,IF(C199=$C$1,Worksheet!$B$4,IF(C199=$D$1,Worksheet!$B$5,IF(C199=$C$2,Worksheet!$D$3,IF(C199=$D$2,Worksheet!$D$4,IF(C199=$E$2,Worksheet!$D$5,IF(C199=$C$3,Worksheet!$D$6,IF(C199=$B$3,Worksheet!$B$6,IF(C199=$D$3,Worksheet!$B$9,IF(C199=$E$3,Worksheet!$D$9,FALSE)))))))))))","v":true},{"$f":"IF(AE199,D199,\"\")","v":"Easy"},{"$f":"IF(AE199,COUNTIF($AF$5:AF199,AF199),\"X\")","v":75},{"$f":"CONCATENATE(AE199,AF199)","v":"TRUEEasy"}]
[{"$f":"CONCATENATE(AE200,D200,AG200)","v":"TRUEEasy76"},{"$f":"RAND()","v":0.92496531882483168},"Dec","Easy",158,"Divide:   ",{"$f":"RANDBETWEEN(101,999)","v":483},"÷",10000,null,null,null,null,null,null,null,null,null,null,{"$f":"CONCATENATE(F200,\" \",G200,\" \",H200,\" \",I200,\" \",J200,\" \",K200,\" \",L200,\" \",M200,\" \",N200,\" \",O200,\" \",P200,\" \",Q200,\" \",R200)","v":"Divide:    483 ÷ 10000         "},{"$f":"G200/I200","v":4.8300000000000003E-2},null,null,null,null,null,null,null,{"$f":"IF(ISERROR(T200),NA(),\"\")","v":""},{"$f":"IF(OR(ISNA(U200),ISNA(V200),ISNA(W200),ISNA(X200),ISNA(Y200),ISNA(Z200),ISNA(AA200),ISNA(AB200),ISNA(AC200)),NA(),CONCATENATE(U200,V200,W200,X200,Y200,Z200,AA200,AB200))","v":"0.0483"},{"$f":"IF(ISNA(AD200),FALSE,IF(C200=$B$1,Worksheet!$B$3,IF(C200=$C$1,Worksheet!$B$4,IF(C200=$D$1,Worksheet!$B$5,IF(C200=$C$2,Worksheet!$D$3,IF(C200=$D$2,Worksheet!$D$4,IF(C200=$E$2,Worksheet!$D$5,IF(C200=$C$3,Worksheet!$D$6,IF(C200=$B$3,Worksheet!$B$6,IF(C200=$D$3,Worksheet!$B$9,IF(C200=$E$3,Worksheet!$D$9,FALSE)))))))))))","v":true},{"$f":"IF(AE200,D200,\"\")","v":"Easy"},{"$f":"IF(AE200,COUNTIF($AF$5:AF200,AF200),\"X\")","v":76},{"$f":"CONCATENATE(AE200,AF200)","v":"TRUEEasy"}]
[{"$f":"CONCATENATE(AE201,D201,AG201)","v":"TRUEMedium86"},{"$f":"RAND()","v":0.92378953694179311},"Round","Medium",176,"Round the number",{"$f":"ROUND(RAND()+RANDBETWEEN(11,999),8)","v":703.93903107999995},"to",{"$f":"CHOOSE(RANDBETWEEN(1,3),\"three\",\"four\",\"five\")","v":"four"},{"$f":"CONCATENATE(\"decimal place\",IF(I201=\"one\",\"\",\"s\"))","v":"decimal places"},null,null,null,null,null,null,null,null,null,{"$f":"CONCATENATE(F201,\" \",G201,\" \",H201,\" \",I201,\" \",J201,\" \",K201,\" \",L201,\" \",M201,\" \",N201,\" \",O201,\" \",P201,\" \",Q201,\" \",R201)","v":"Round the number 703.93903108 to four decimal places        "},{"$f":"ROUND(G201,IF(I201=\"three\",3,IF(I201=\"four\",4,5)))","v":703.93899999999996},null,null,null,null,null,null,null,{"$f":"IF(ISERROR(T201),NA(),\"\")","v":""},{"$f":"IF(OR(ISNA(U201),ISNA(V201),ISNA(W201),ISNA(X201),ISNA(Y201),ISNA(Z201),ISNA(AA201),ISNA(AB201),ISNA(AC201)),NA(),CONCATENATE(U201,V201,W201,X201,Y201,Z201,AA201,AB201))","v":"703.939"},{"$f":"IF(ISNA(AD201),FALSE,IF(C201=$B$1,Worksheet!$B$3,IF(C201=$C$1,Worksheet!$B$4,IF(C201=$D$1,Worksheet!$B$5,IF(C201=$C$2,Worksheet!$D$3,IF(C201=$D$2,Worksheet!$D$4,IF(C201=$E$2,Worksheet!$D$5,IF(C201=$C$3,Worksheet!$D$6,IF(C201=$B$3,Worksheet!$B$6,IF(C201=$D$3,Worksheet!$B$9,IF(C201=$E$3,Worksheet!$D$9,FALSE)))))))))))","v":true},{"$f":"IF(AE201,D201,\"\")","v":"Medium"},{"$f":"IF(AE201,COUNTIF($AF$5:AF201,AF201),\"X\")","v":86},{"$f":"CONCATENATE(AE201,AF201)","v":"TRUEMedium"}]
[{"$f":"CONCATENATE(AE202,D202,AG202)","v":"TRUEHard35"},{"$f":"RAND()","v":0.7990770669511178},"Surds","Hard",52,"Simplify      ",{"$f":"RANDBETWEEN(2,10)","v":2},"√",{"$f":"CHOOSE(RANDBETWEEN(1,4),2,3,5,7)","v":5},"+",null,"√",{"$f":"I202","v":5},null,null,null,null,null,null,{"$f":"CONCATENATE(F202,\"\",G202,\"\",H202,\"\",I202,\" \",J202,\" \",K202,\"\",L202,\"\",M202,\" \",N202,\" \",O202,\" \",P202,\" \",Q202,\" \",R202)","v":"Simplify      2√5 + √5     "},{"$f":"G202+1","v":3},"√",{"$f":"I202","v":5},null,null,null,null,null,{"$f":"IF(ISERROR(T202),NA(),\"\")","v":""},{"$f":"IF(OR(ISNA(U202),ISNA(V202),ISNA(W202),ISNA(X202),ISNA(Y202),ISNA(Z202),ISNA(AA202),ISNA(AB202),ISNA(AC202)),NA(),CONCATENATE(U202,V202,W202,X202,Y202,Z202,AA202,AB202))","v":"3√5"},{"$f":"IF(ISNA(AD202),FALSE,IF(C202=$B$1,Worksheet!$B$3,IF(C202=$C$1,Worksheet!$B$4,IF(C202=$D$1,Worksheet!$B$5,IF(C202=$C$2,Worksheet!$D$3,IF(C202=$D$2,Worksheet!$D$4,IF(C202=$E$2,Worksheet!$D$5,IF(C202=$C$3,Worksheet!$D$6,IF(C202=$B$3,Worksheet!$B$6,IF(C202=$D$3,Worksheet!$B$9,IF(C202=$E$3,Worksheet!$D$9,FALSE)))))))))))","v":true},{"$f":"IF(AE202,D202,\"\")","v":"Hard"},{"$f":"IF(AE202,COUNTIF($AF$5:AF202,AF202),\"X\")","v":35},{"$f":"CONCATENATE(AE202,AF202)","v":"TRUEHard"}]
[{"$f":"CONCATENATE(AE203,D203,AG203)","v":"TRUEMedium87"},{"$f":"RAND()","v":0.45437651543014324},"%","Medium",296,"What is five eighths (5/8) as a percentage?",null,null,null,null,null,null,null,null,null,null,null,null,null,{"$f":"CONCATENATE(F203,\" \",G203,\" \",H203,\" \",I203,\" \",J203,\" \",K203,\" \",L203,\" \",M203,\" \",N203,\" \",O203,\" \",P203,\" \",Q203,\" \",R203)","v":"What is five eighths (5/8) as a percentage?            "},"62.5%",null,null,null,null,null,null,null,{"$f":"IF(ISERROR(T203),NA(),\"\")","v":""},{"$f":"IF(OR(ISNA(U203),ISNA(V203),ISNA(W203),ISNA(X203),ISNA(Y203),ISNA(Z203),ISNA(AA203),ISNA(AB203),ISNA(AC203)),NA(),CONCATENATE(U203,V203,W203,X203,Y203,Z203,AA203,AB203))","v":"62.5%"},{"$f":"IF(ISNA(AD203),FALSE,IF(C203=$B$1,Worksheet!$B$3,IF(C203=$C$1,Worksheet!$B$4,IF(C203=$D$1,Worksheet!$B$5,IF(C203=$C$2,Worksheet!$D$3,IF(C203=$D$2,Worksheet!$D$4,IF(C203=$E$2,Worksheet!$D$5,IF(C203=$C$3,Worksheet!$D$6,IF(C203=$B$3,Worksheet!$B$6,IF(C203=$D$3,Worksheet!$B$9,IF(C203=$E$3,Worksheet!$D$9,FALSE)))))))))))","v":true},{"$f":"IF(AE203,D203,\"\")","v":"Medium"},{"$f":"IF(AE203,COUNTIF($AF$5:AF203,AF203),\"X\")","v":87},{"$f":"CONCATENATE(AE203,AF203)","v":"TRUEMedium"}]
[{"$f":"CONCATENATE(AE204,D204,AG204)","v":"TRUEMedium88"},{"$f":"RAND()","v":0.68344482314327104},"Dec","Medium",198,"Write the number",{"$f":"RANDBETWEEN(2,9)*100","v":600},"in standard form",null,null,null,null,null,null,null,null,null,null,null,{"$f":"CONCATENATE(F204,\" \",G204,\" \",H204,\" \",I204,\" \",J204,\" \",K204,\" \",L204,\" \",M204,\" \",N204,\" \",O204,\" \",P204,\" \",Q204,\" \",R204)","v":"Write the number 600 in standard form          "},{"$f":"G204/100","v":6},"× 10^2  (10 to the power of 2)",null,null,null,null,null,null,{"$f":"IF(ISERROR(T204),NA(),\"\")","v":""},{"$f":"IF(OR(ISNA(U204),ISNA(V204),ISNA(W204),ISNA(X204),ISNA(Y204),ISNA(Z204),ISNA(AA204),ISNA(AB204),ISNA(AC204)),NA(),CONCATENATE(U204,V204,W204,X204,Y204,Z204,AA204,AB204))","v":"6× 10^2  (10 to the power of 2)"},{"$f":"IF(ISNA(AD204),FALSE,IF(C204=$B$1,Worksheet!$B$3,IF(C204=$C$1,Worksheet!$B$4,IF(C204=$D$1,Worksheet!$B$5,IF(C204=$C$2,Worksheet!$D$3,IF(C204=$D$2,Worksheet!$D$4,IF(C204=$E$2,Worksheet!$D$5,IF(C204=$C$3,Worksheet!$D$6,IF(C204=$B$3,Worksheet!$B$6,IF(C204=$D$3,Worksheet!$B$9,IF(C204=$E$3,Worksheet!$D$9,FALSE)))))))))))","v":true},{"$f":"IF(AE204,D204,\"\")","v":"Medium"},{"$f":"IF(AE204,COUNTIF($AF$5:AF204,AF204),\"X\")","v":88},{"$f":"CONCATENATE(AE204,AF204)","v":"TRUEMedium"}]
[{"$f":"CONCATENATE(AE205,D205,AG205)","v":"TRUEHard36"},{"$f":"RAND()","v":0.52266545818828269},"Surds","Hard",49,"Simplify      ",{"$f":"RANDBETWEEN(2,5)","v":3},"√",{"$f":"CHOOSE(RANDBETWEEN(1,4),2,3,5,7)","v":5},"×",{"$f":"RANDBETWEEN(2,5)","v":2},"√",{"$f":"I205","v":5},null,null,null,null,null,null,{"$f":"CONCATENATE(F205,\"\",G205,\"\",H205,\"\",I205,\" \",J205,\" \",K205,\"\",L205,\"\",M205,\" \",N205,\" \",O205,\" \",P205,\" \",Q205,\" \",R205)","v":"Simplify      3√5 × 2√5     "},{"$f":"M205*K205*G205","v":30},null,{"$f":"IF(AND(G205=G204,I205=I204,K205=K204),NA(),\"\")","v":""},null,null,null,null,null,{"$f":"IF(ISERROR(T205),NA(),\"\")","v":""},{"$f":"IF(OR(ISNA(U205),ISNA(V205),ISNA(W205),ISNA(X205),ISNA(Y205),ISNA(Z205),ISNA(AA205),ISNA(AB205),ISNA(AC205)),NA(),CONCATENATE(U205,V205,W205,X205,Y205,Z205,AA205,AB205))","v":"30"},{"$f":"IF(ISNA(AD205),FALSE,IF(C205=$B$1,Worksheet!$B$3,IF(C205=$C$1,Worksheet!$B$4,IF(C205=$D$1,Worksheet!$B$5,IF(C205=$C$2,Worksheet!$D$3,IF(C205=$D$2,Worksheet!$D$4,IF(C205=$E$2,Worksheet!$D$5,IF(C205=$C$3,Worksheet!$D$6,IF(C205=$B$3,Worksheet!$B$6,IF(C205=$D$3,Worksheet!$B$9,IF(C205=$E$3,Worksheet!$D$9,FALSE)))))))))))","v":true},{"$f":"IF(AE205,D205,\"\")","v":"Hard"},{"$f":"IF(AE205,COUNTIF($AF$5:AF205,AF205),\"X\")","v":36},{"$f":"CONCATENATE(AE205,AF205)","v":"TRUEHard"}]
[{"$f":"CONCATENATE(AE206,D206,AG206)","v":"TRUEEasy77"},{"$f":"RAND()","v":0.74536664623850291},"+-×÷","Easy",47,"Write down a chimney sum to work out:",{"$f":"RANDBETWEEN(3,9)","v":4},"•",{"$f":"TEXT(RANDBETWEEN(1,999),0)","v":"187"},"×",{"$f":"RANDBETWEEN(3,9)","v":8},null,null,null,null,null,null,null,null,{"$f":"CONCATENATE(F206,\" \",G206,\"\",H206,\"\",I206,\" \",J206,\" \",K206,\" \",L206,\" \",M206,\" \",N206,\" \",O206,\" \",P206,\" \",Q206,\" \",R206)","v":"Write down a chimney sum to work out: 4•187 × 8       "},{"$f":"(G206+I206/100)*K206","v":46.96},null,null,null,null,null,null,null,{"$f":"IF(ISERROR(T206),NA(),\"\")","v":""},{"$f":"IF(OR(ISNA(U206),ISNA(V206),ISNA(W206),ISNA(X206),ISNA(Y206),ISNA(Z206),ISNA(AA206),ISNA(AB206),ISNA(AC206)),NA(),CONCATENATE(U206,V206,W206,X206,Y206,Z206,AA206,AB206))","v":"46.96"},{"$f":"IF(ISNA(AD206),FALSE,IF(C206=$B$1,Worksheet!$B$3,IF(C206=$C$1,Worksheet!$B$4,IF(C206=$D$1,Worksheet!$B$5,IF(C206=$C$2,Worksheet!$D$3,IF(C206=$D$2,Worksheet!$D$4,IF(C206=$E$2,Worksheet!$D$5,IF(C206=$C$3,Worksheet!$D$6,IF(C206=$B$3,Worksheet!$B$6,IF(C206=$D$3,Worksheet!$B$9,IF(C206=$E$3,Worksheet!$D$9,FALSE)))))))))))","v":true},{"$f":"IF(AE206,D206,\"\")","v":"Easy"},{"$f":"IF(AE206,COUNTIF($AF$5:AF206,AF206),\"X\")","v":77},{"$f":"CONCATENATE(AE206,AF206)","v":"TRUEEasy"}]
[{"$f":"CONCATENATE(AE207,D207,AG207)","v":"TRUEHard37"},{"$f":"RAND()","v":0.45762347341271659},"Alg","Hard",309,"Algebra.  If x =",{"$f":"RANDBETWEEN(-5,5)","v":-3},"and y =",{"$f":"RANDBETWEEN(-5,5)","v":-4},", what is the value of",{"$f":"RANDBETWEEN(2,5)","v":5},"xy","?",null,null,null,null,null,null,{"$f":"CONCATENATE(F207,\" \",G207,\" \",H207,\" \",I207,\" \",J207,\" \",K207,\"\",L207,\" \",M207,\" \",N207,\" \",O207,\" \",P207,\" \",Q207,\" \",R207)","v":"Algebra.  If x = -3 and y = -4 , what is the value of 5xy ?     "},{"$f":"K207*I207*G207","v":60},null,null,null,null,null,null,null,{"$f":"IF(ISERROR(T207),NA(),\"\")","v":""},{"$f":"IF(OR(ISNA(U207),ISNA(V207),ISNA(W207),ISNA(X207),ISNA(Y207),ISNA(Z207),ISNA(AA207),ISNA(AB207),ISNA(AC207)),NA(),CONCATENATE(U207,V207,W207,X207,Y207,Z207,AA207,AB207))","v":"60"},{"$f":"IF(ISNA(AD207),FALSE,IF(C207=$B$1,Worksheet!$B$3,IF(C207=$C$1,Worksheet!$B$4,IF(C207=$D$1,Worksheet!$B$5,IF(C207=$C$2,Worksheet!$D$3,IF(C207=$D$2,Worksheet!$D$4,IF(C207=$E$2,Worksheet!$D$5,IF(C207=$C$3,Worksheet!$D$6,IF(C207=$B$3,Worksheet!$B$6,IF(C207=$D$3,Worksheet!$B$9,IF(C207=$E$3,Worksheet!$D$9,FALSE)))))))))))","v":true},{"$f":"IF(AE207,D207,\"\")","v":"Hard"},{"$f":"IF(AE207,COUNTIF($AF$5:AF207,AF207),\"X\")","v":37},{"$f":"CONCATENATE(AE207,AF207)","v":"TRUEHard"}]
[{"$f":"CONCATENATE(AE208,D208,AG208)","v":"TRUEHard38"},{"$f":"RAND()","v":0.51988460710311923},"Frac","Hard",116,"Take away the mixed numbers:      ",{"$f":"RANDBETWEEN(M208+1,5)","v":2},{"$f":"IF(J208=4,CHOOSE(RANDBETWEEN(1,2),1,3),RANDBETWEEN(1,J208-1))","v":4},"/",{"$f":"RANDBETWEEN(5,8)","v":6},null,"  –  ",{"$f":"RANDBETWEEN(1,3)","v":1},{"$f":"RANDBETWEEN(1,P208-1)","v":4},"/",{"$f":"SMALL(IF(J208={5,6,7,8},\"\",{5,6,7,8}),RANDBETWEEN(1,3))","v":5},null,null,null,{"$f":"CONCATENATE(F208,\" \",G208,\"   \",H208,\"\",I208,\"\",J208,\" \",K208,\" \",L208,\" \",M208,\"   \",N208,\"\",O208,\"\",P208,\" \",Q208,\" \",R208)","v":"Take away the mixed numbers:       2   4/6    –   1   4/5  "},{"$f":"IF(P208*H208-J208*N208<=0,G208-M208-1,G208-M208)","v":0},{"$f":"(H208*P208-J208*N208+IF(H208*P208-J208*N208<0,J208*P208,0))/AC208","v":13},"/",{"$f":"J208*P208/AC208","v":15},{"$f":"IF(V208=\"\",\"\",\"   or   \")","v":"   or   "},{"$f":"IF(V208=\"\",\"\",X208*U208+V208)","v":13},{"$f":"IF(V208=\"\",\"\",\"/\")","v":"/"},{"$f":"X208","v":15},{"$f":"GCD(ABS(H208*P208-J208*N208),P208*J208)","v":2},{"$f":"IF(OR(ISNA(U208),ISNA(V208),ISNA(W208),ISNA(X208),ISNA(Y208),ISNA(Z208),ISNA(AA208),ISNA(AB208),ISNA(AC208)),NA(),CONCATENATE(IF(U208=0,\"\",U208),IF(U208=0,\"\",\"  \"),IF(U208=0,\"\",V208),IF(U208=0,\"\",W208),IF(U208=0,\"\",X208),IF(U208=0,\"\",Y208),Z208,AA208,AB208))","v":"13/15"},{"$f":"IF(ISNA(AD208),FALSE,IF(C208=$B$1,Worksheet!$B$3,IF(C208=$C$1,Worksheet!$B$4,IF(C208=$D$1,Worksheet!$B$5,IF(C208=$C$2,Worksheet!$D$3,IF(C208=$D$2,Worksheet!$D$4,IF(C208=$E$2,Worksheet!$D$5,IF(C208=$C$3,Worksheet!$D$6,IF(C208=$B$3,Worksheet!$B$6,IF(C208=$D$3,Worksheet!$B$9,IF(C208=$E$3,Worksheet!$D$9,FALSE)))))))))))","v":true},{"$f":"IF(AE208,D208,\"\")","v":"Hard"},{"$f":"IF(AE208,COUNTIF($AF$5:AF208,AF208),\"X\")","v":38},{"$f":"CONCATENATE(AE208,AF208)","v":"TRUEHard"}]
[{"$f":"CONCATENATE(AE209,D209,AG209)","v":"TRUEEasy78"},{"$f":"RAND()","v":6.6367419327181598E-2},"Neg","Easy",210,"Multiply:   ","(–",{"$f":"RANDBETWEEN(2,10)*10^RANDBETWEEN(0,1)","v":4},")","× (–",{"$f":"RANDBETWEEN(2,10)*10^RANDBETWEEN(0,1)","v":8},")",null,null,null,null,null,null,null,{"$f":"CONCATENATE(F209,\" \",G209,\"\",H209,\"\",I209,\" \",J209,\"\",K209,\"\",L209,\" \",M209,\" \",N209,\" \",O209,\" \",P209,\" \",Q209,\" \",R209)","v":"Multiply:    (–4) × (–8)      "},{"$f":"H209*K209","v":32},null,null,null,null,null,null,null,{"$f":"IF(ISERROR(T209),NA(),\"\")","v":""},{"$f":"IF(OR(ISNA(U209),ISNA(V209),ISNA(W209),ISNA(X209),ISNA(Y209),ISNA(Z209),ISNA(AA209),ISNA(AB209),ISNA(AC209)),NA(),CONCATENATE(U209,V209,W209,X209,Y209,Z209,AA209,AB209))","v":"32"},{"$f":"IF(ISNA(AD209),FALSE,IF(C209=$B$1,Worksheet!$B$3,IF(C209=$C$1,Worksheet!$B$4,IF(C209=$D$1,Worksheet!$B$5,IF(C209=$C$2,Worksheet!$D$3,IF(C209=$D$2,Worksheet!$D$4,IF(C209=$E$2,Worksheet!$D$5,IF(C209=$C$3,Worksheet!$D$6,IF(C209=$B$3,Worksheet!$B$6,IF(C209=$D$3,Worksheet!$B$9,IF(C209=$E$3,Worksheet!$D$9,FALSE)))))))))))","v":true},{"$f":"IF(AE209,D209,\"\")","v":"Easy"},{"$f":"IF(AE209,COUNTIF($AF$5:AF209,AF209),\"X\")","v":78},{"$f":"CONCATENATE(AE209,AF209)","v":"TRUEEasy"}]
[{"$f":"CONCATENATE(AE210,D210,AG210)","v":"TRUEHard39"},{"$f":"RAND()","v":0.87186256233522574},"Round","Hard",184,"Round the number",{"$f":"RANDBETWEEN(100,999)*10+RANDBETWEEN(0,9)","v":9470},"to one significant figure",null,null,null,null,null,null,null,null,null,null,null,{"$f":"CONCATENATE(F210,\" \",G210,\" \",H210,\" \",I210,\" \",J210,\" \",K210,\" \",L210,\" \",M210,\" \",N210,\" \",O210,\" \",P210,\" \",Q210,\" \",R210)","v":"Round the number 9470 to one significant figure          "},{"$f":"MROUND(G210,1000)","v":9000},null,null,null,null,null,null,null,{"$f":"IF(ISERROR(T210),NA(),\"\")","v":""},{"$f":"IF(OR(ISNA(U210),ISNA(V210),ISNA(W210),ISNA(X210),ISNA(Y210),ISNA(Z210),ISNA(AA210),ISNA(AB210),ISNA(AC210)),NA(),CONCATENATE(U210,V210,W210,X210,Y210,Z210,AA210,AB210))","v":"9000"},{"$f":"IF(ISNA(AD210),FALSE,IF(C210=$B$1,Worksheet!$B$3,IF(C210=$C$1,Worksheet!$B$4,IF(C210=$D$1,Worksheet!$B$5,IF(C210=$C$2,Worksheet!$D$3,IF(C210=$D$2,Worksheet!$D$4,IF(C210=$E$2,Worksheet!$D$5,IF(C210=$C$3,Worksheet!$D$6,IF(C210=$B$3,Worksheet!$B$6,IF(C210=$D$3,Worksheet!$B$9,IF(C210=$E$3,Worksheet!$D$9,FALSE)))))))))))","v":true},{"$f":"IF(AE210,D210,\"\")","v":"Hard"},{"$f":"IF(AE210,COUNTIF($AF$5:AF210,AF210),\"X\")","v":39},{"$f":"CONCATENATE(AE210,AF210)","v":"TRUEHard"}]
[{"$f":"CONCATENATE(AE211,D211,AG211)","v":"TRUEMedium89"},{"$f":"RAND()","v":0.47523289290566406},"Eqn","Medium",330,"Solve the inequation",{"$f":"RANDBETWEEN(2,10)","v":9},{"$f":"CHOOSE(RANDBETWEEN(1,22),\"a\",\"b\",\"c\",\"d\",\"f\",\"g\",\"h\",\"j\",\"k\",\"m\",\"n\",\"p\",\"q\",\"r\",\"s\",\"t\",\"u\",\"v\",\"w\",\"x\",\"y\",\"z\")","v":"g"},"–",{"$f":"RANDBETWEEN(1,10)","v":6},{"$f":"CHOOSE(RANDBETWEEN(1,4),\"<\",\">\",\"≤\",\"≥\")","v":"<"},{"$f":"G211*W211-J211","v":111},".      Show your working in full.",null,null,null,null,null,null,{"$f":"CONCATENATE(F211,\" \",G211,\"\",H211,\" \",I211,\" \",J211,\" \",K211,\" \",L211,\" \",M211,\" \",N211,\" \",O211,\" \",P211,\" \",Q211,\" \",R211)","v":"Solve the inequation 9g – 6 < 111 .      Show your working in full.     "},{"$f":"H211","v":"g"},{"$f":"K211","v":"<"},{"$f":"RANDBETWEEN(10,30)","v":13},null,null,null,null,null,{"$f":"IF(L211<0,NA(),\"\")","v":""},{"$f":"IF(OR(ISNA(U211),ISNA(V211),ISNA(W211),ISNA(X211),ISNA(Y211),ISNA(Z211),ISNA(AA211),ISNA(AB211),ISNA(AC211)),NA(),CONCATENATE(U211,\" \",V211,\" \",W211,X211,Y211,Z211,AA211,AB211))","v":"g < 13"},{"$f":"IF(ISNA(AD211),FALSE,IF(C211=$B$1,Worksheet!$B$3,IF(C211=$C$1,Worksheet!$B$4,IF(C211=$D$1,Worksheet!$B$5,IF(C211=$C$2,Worksheet!$D$3,IF(C211=$D$2,Worksheet!$D$4,IF(C211=$E$2,Worksheet!$D$5,IF(C211=$C$3,Worksheet!$D$6,IF(C211=$B$3,Worksheet!$B$6,IF(C211=$D$3,Worksheet!$B$9,IF(C211=$E$3,Worksheet!$D$9,FALSE)))))))))))","v":true},{"$f":"IF(AE211,D211,\"\")","v":"Medium"},{"$f":"IF(AE211,COUNTIF($AF$5:AF211,AF211),\"X\")","v":89},{"$f":"CONCATENATE(AE211,AF211)","v":"TRUEMedium"}]
[{"$f":"CONCATENATE(AE212,D212,AG212)","v":"TRUEMedium90"},{"$f":"RAND()","v":0.51874541687527442},"Dec","Medium",168,"Rewrite the numbers in order from ",{"$f":"IF(RAND()<0.5,\"smallest to biggest:   \",\"biggest to smallest:   \")","v":"biggest to smallest:   "},{"$f":"$S212/1000000+M212","v":3.1745860000000001},{"$f":"MROUND(($S212/RANDBETWEEN(2,3))/1000000,10^RANDBETWEEN(-3,-2))+M212","v":3.0870000000000002},{"$f":"MROUND(($S212/RANDBETWEEN(4,5))/1000000,10^RANDBETWEEN(-5,-4))+M212","v":3.0436000000000001},{"$f":"MROUND(($S212/RANDBETWEEN(5,6))/1000000,10^RANDBETWEEN(-5,-1))+M212","v":3},{"$f":"MROUND(($S212*2/RANDBETWEEN(5,6))/1000000,10^RANDBETWEEN(-5,-1))+M212","v":3.06},{"$f":"RANDBETWEEN(2,8)","v":3},{"$f":"L212","v":3.06},{"$f":"H212","v":3.1745860000000001},{"$f":"I212","v":3.0870000000000002},{"$f":"J212","v":3.0436000000000001},{"$f":"K212","v":3},{"$f":"RANDBETWEEN(101,999999)","v":174586},{"$f":"CONCATENATE(F212,\" \",G212,\" \",H212,\",   \",I212,\",   \",J212,\",    \",K212,\",    \",L212)","v":"Rewrite the numbers in order from  biggest to smallest:    3.174586,   3.087,   3.0436,    3,    3.06"},{"$f":"IF(LARGE($N212:$R212,IF($G212=\"biggest to smallest:   \",1,5))=$O212,$H212,IF(LARGE($N212:$R212,IF($G212=\"biggest to smallest:   \",1,5))=$P212,$I212,IF(LARGE($N212:$R212,IF($G212=\"biggest to smallest:   \",1,5))=$Q212,$J212,IF(LARGE($N212:$R212,IF($G212=\"biggest to smallest:   \",1,5))=$R212,$K212,$L212))))","v":3.1745860000000001},{"$f":"IF(LARGE($N212:$R212,IF($G212=\"biggest to smallest:   \",2,4))=$O212,$H212,IF(LARGE($N212:$R212,IF($G212=\"biggest to smallest:   \",2,4))=$P212,$I212,IF(LARGE($N212:$R212,IF($G212=\"biggest to smallest:   \",2,4))=$Q212,$J212,IF(LARGE($N212:$R212,IF($G212=\"biggest to smallest:   \",2,4))=$R212,$K212,$L212))))","v":3.0870000000000002},{"$f":"IF(LARGE($N212:$R212,IF($G212=\"biggest to smallest:   \",3,3))=$O212,$H212,IF(LARGE($N212:$R212,IF($G212=\"biggest to smallest:   \",3,3))=$P212,$I212,IF(LARGE($N212:$R212,IF($G212=\"biggest to smallest:   \",3,3))=$Q212,$J212,IF(LARGE($N212:$R212,IF($G212=\"biggest to smallest:   \",3,3))=$R212,$K212,$L212))))","v":3.06},{"$f":"IF(LARGE($N212:$R212,IF($G212=\"biggest to smallest:   \",4,2))=$O212,$H212,IF(LARGE($N212:$R212,IF($G212=\"biggest to smallest:   \",4,2))=$P212,$I212,IF(LARGE($N212:$R212,IF($G212=\"biggest to smallest:   \",4,2))=$Q212,$J212,IF(LARGE($N212:$R212,IF($G212=\"biggest to smallest:   \",4,2))=$R212,$K212,$L212))))","v":3.0436000000000001},{"$f":"IF(LARGE($N212:$R212,IF($G212=\"biggest to smallest:   \",5,1))=$O212,$H212,IF(LARGE($N212:$R212,IF($G212=\"biggest to smallest:   \",5,1))=$P212,$I212,IF(LARGE($N212:$R212,IF($G212=\"biggest to smallest:   \",5,1))=$Q212,$J212,IF(LARGE($N212:$R212,IF($G212=\"biggest to smallest:   \",5,1))=$R212,$K212,$L212))))","v":3},null,null,{"$f":"IF(OR(H212=L212,I212=L212,J212=L212,K212=L212,I212=J212,I212=K212),NA(),\"\")","v":""},{"$f":"IF(ISERROR(T212),NA(),\"\")","v":""},{"$f":"IF(OR(ISNA(U212),ISNA(V212),ISNA(W212),ISNA(X212),ISNA(Y212)),NA(),CONCATENATE(U212,\",   \",V212,\",   \",W212,\",   \",X212,\",   \",Y212,Z212,AA212,AB212,AC212))","v":"3.174586,   3.087,   3.06,   3.0436,   3"},true,{"$f":"IF(AE212,D212,\"\")","v":"Medium"},{"$f":"IF(AE212,COUNTIF($AF$5:AF212,AF212),\"X\")","v":90},{"$f":"CONCATENATE(AE212,AF212)","v":"TRUEMedium"}]
[{"$f":"CONCATENATE(AE213,D213,AG213)","v":"TRUEMedium91"},{"$f":"RAND()","v":8.5189498398834052E-2},"Eqn","Medium",343,"Change the subject of the formula",{"$f":"CHOOSE(RANDBETWEEN(1,22),\"a\",\"b\",\"c\",\"d\",\"f\",\"g\",\"h\",\"j\",\"k\",\"m\",\"n\",\"p\",\"q\",\"r\",\"s\",\"t\",\"u\",\"v\",\"w\",\"x\",\"y\",\"z\")","v":"v"},"=",{"$f":"CHOOSE(RANDBETWEEN(1,22),\"a\",\"b\",\"c\",\"d\",\"f\",\"g\",\"h\",\"j\",\"k\",\"m\",\"n\",\"p\",\"q\",\"r\",\"s\",\"t\",\"u\",\"v\",\"w\",\"x\",\"y\",\"z\")","v":"k"},"+",{"$f":"RANDBETWEEN(2,10)","v":7},"to",{"$f":"I213","v":"k"},null,null,null,null,null,null,{"$f":"CONCATENATE(F213,\" \",G213,\" \",H213,\" \",I213,\"\",J213,\"\",K213,\" \",L213,\" \",M213,\" \",N213,\" \",O213,\" \",P213,\" \",Q213,\" \",R213)","v":"Change the subject of the formula v = k+7 to k     "},{"$f":"IF(G213=I213,NA(),\"\")","v":""},{"$f":"M213","v":"k"},"=",{"$f":"G213","v":"v"},"–",{"$f":"K213","v":7},null,null,{"$f":"IF(L213<0,NA(),\"\")","v":""},{"$f":"IF(OR(ISNA(U213),ISNA(V213),ISNA(W213),ISNA(X213),ISNA(Y213),ISNA(Z213),ISNA(AA213),ISNA(AB213),ISNA(AC213)),NA(),CONCATENATE(U213,V213,W213,X213,Y213,Z213,AA213,AB213))","v":"k=v–7"},{"$f":"IF(ISNA(AD213),FALSE,IF(C213=$B$1,Worksheet!$B$3,IF(C213=$C$1,Worksheet!$B$4,IF(C213=$D$1,Worksheet!$B$5,IF(C213=$C$2,Worksheet!$D$3,IF(C213=$D$2,Worksheet!$D$4,IF(C213=$E$2,Worksheet!$D$5,IF(C213=$C$3,Worksheet!$D$6,IF(C213=$B$3,Worksheet!$B$6,IF(C213=$D$3,Worksheet!$B$9,IF(C213=$E$3,Worksheet!$D$9,FALSE)))))))))))","v":true},{"$f":"IF(AE213,D213,\"\")","v":"Medium"},{"$f":"IF(AE213,COUNTIF($AF$5:AF213,AF213),\"X\")","v":91},{"$f":"CONCATENATE(AE213,AF213)","v":"TRUEMedium"}]
[{"$f":"CONCATENATE(AE214,D214,AG214)","v":"TRUEMedium92"},{"$f":"RAND()","v":0.22675093608799302},"Surds","Medium",39,"Write down an appropriate sum to work out",{"$f":"RANDBETWEEN(6,9)","v":9},"³","    (",{"$f":"G214","v":9},"cubed)",null,null,null,null,null,null,null,null,{"$f":"CONCATENATE(F214,\" \",G214,\"\",H214,\" \",I214,\"\",J214,\" \",K214,\" \",L214,\" \",M214,\" \",N214,\" \",O214,\" \",P214,\" \",Q214,\" \",R214)","v":"Write down an appropriate sum to work out 9³     (9 cubed)       "},{"$f":"G214^3","v":729},null,null,null,null,null,null,null,{"$f":"IF(ISERROR(T214),NA(),\"\")","v":""},{"$f":"IF(OR(ISNA(U214),ISNA(V214),ISNA(W214),ISNA(X214),ISNA(Y214),ISNA(Z214),ISNA(AA214),ISNA(AB214),ISNA(AC214)),NA(),CONCATENATE(U214,V214,W214,X214,Y214,Z214,AA214,AB214))","v":"729"},{"$f":"IF(ISNA(AD214),FALSE,IF(C214=$B$1,Worksheet!$B$3,IF(C214=$C$1,Worksheet!$B$4,IF(C214=$D$1,Worksheet!$B$5,IF(C214=$C$2,Worksheet!$D$3,IF(C214=$D$2,Worksheet!$D$4,IF(C214=$E$2,Worksheet!$D$5,IF(C214=$C$3,Worksheet!$D$6,IF(C214=$B$3,Worksheet!$B$6,IF(C214=$D$3,Worksheet!$B$9,IF(C214=$E$3,Worksheet!$D$9,FALSE)))))))))))","v":true},{"$f":"IF(AE214,D214,\"\")","v":"Medium"},{"$f":"IF(AE214,COUNTIF($AF$5:AF214,AF214),\"X\")","v":92},{"$f":"CONCATENATE(AE214,AF214)","v":"TRUEMedium"}]
[{"$f":"CONCATENATE(AE215,D215,AG215)","v":"TRUEEasy79"},{"$f":"RAND()","v":0.79006207019607966},"Dec","Easy",155,"Multiply:   ",{"$f":"RANDBETWEEN(0,9)*0.1+RANDBETWEEN(0,9)*0.01+RANDBETWEEN(1,9)*0.001","v":0.31400000000000006},"×",{"$f":"10^RANDBETWEEN(1,4)","v":10},null,null,null,null,null,null,null,null,null,null,{"$f":"CONCATENATE(F215,\" \",G215,\" \",H215,\" \",I215,\" \",J215,\" \",K215,\" \",L215,\" \",M215,\" \",N215,\" \",O215,\" \",P215,\" \",Q215,\" \",R215)","v":"Multiply:    0.314 × 10         "},{"$f":"G215*I215","v":3.1400000000000006},null,null,null,null,null,null,null,{"$f":"IF(ISERROR(T215),NA(),\"\")","v":""},{"$f":"IF(OR(ISNA(U215),ISNA(V215),ISNA(W215),ISNA(X215),ISNA(Y215),ISNA(Z215),ISNA(AA215),ISNA(AB215),ISNA(AC215)),NA(),CONCATENATE(U215,V215,W215,X215,Y215,Z215,AA215,AB215))","v":"3.14"},{"$f":"IF(ISNA(AD215),FALSE,IF(C215=$B$1,Worksheet!$B$3,IF(C215=$C$1,Worksheet!$B$4,IF(C215=$D$1,Worksheet!$B$5,IF(C215=$C$2,Worksheet!$D$3,IF(C215=$D$2,Worksheet!$D$4,IF(C215=$E$2,Worksheet!$D$5,IF(C215=$C$3,Worksheet!$D$6,IF(C215=$B$3,Worksheet!$B$6,IF(C215=$D$3,Worksheet!$B$9,IF(C215=$E$3,Worksheet!$D$9,FALSE)))))))))))","v":true},{"$f":"IF(AE215,D215,\"\")","v":"Easy"},{"$f":"IF(AE215,COUNTIF($AF$5:AF215,AF215),\"X\")","v":79},{"$f":"CONCATENATE(AE215,AF215)","v":"TRUEEasy"}]
[{"$f":"CONCATENATE(AE216,D216,AG216)","v":"TRUEHard40"},{"$f":"RAND()","v":0.71576871639696993},"Frac","Hard",109,"Multiply the fractions:  ",{"$f":"IF(I216=4,CHOOSE(RANDBETWEEN(1,2),1,3),RANDBETWEEN(1,I216-1))","v":6},"/",{"$f":"RANDBETWEEN(9,20)","v":18},"×",{"$f":"RANDBETWEEN(1,MIN(M216-1,(G216/I216)*M216))","v":2},"/",{"$f":"RANDBETWEEN(9,20)","v":10},{"$f":"IF(GCD(G216*K216,I216*M216)=1,\"\",\",    giving your answer in its simplest form\")","v":",    giving your answer in its simplest form"},null,null,null,null,null,{"$f":"CONCATENATE(F216,\" \",G216,\"\",H216,\"\",I216,\" \",J216,\" \",K216,\"\",L216,\"\",M216,\" \",N216,\"       \",O216,\" \",P216,\" \",Q216,\" \",R216)","v":"Multiply the fractions:   6/18 × 2/10 ,    giving your answer in its simplest form          "},{"$f":"(G216*K216)/GCD(G216*K216,I216*M216)","v":1},"/",{"$f":"I216*M216/GCD(G216*K216,I216*M216)","v":15},null,null,{"$f":"IF(U216=0,NA(),\"\")","v":""},null,null,{"$f":"IF(ISERROR(T216),NA(),\"\")","v":""},{"$f":"IF(OR(ISNA(U216),ISNA(V216),ISNA(W216),ISNA(X216),ISNA(Y216),ISNA(Z216),ISNA(AA216),ISNA(AB216),ISNA(AC216)),NA(),CONCATENATE(U216,V216,W216,X216,Y216,Z216,AA216,AB216))","v":"1/15"},{"$f":"IF(ISNA(AD216),FALSE,IF(C216=$B$1,Worksheet!$B$3,IF(C216=$C$1,Worksheet!$B$4,IF(C216=$D$1,Worksheet!$B$5,IF(C216=$C$2,Worksheet!$D$3,IF(C216=$D$2,Worksheet!$D$4,IF(C216=$E$2,Worksheet!$D$5,IF(C216=$C$3,Worksheet!$D$6,IF(C216=$B$3,Worksheet!$B$6,IF(C216=$D$3,Worksheet!$B$9,IF(C216=$E$3,Worksheet!$D$9,FALSE)))))))))))","v":true},{"$f":"IF(AE216,D216,\"\")","v":"Hard"},{"$f":"IF(AE216,COUNTIF($AF$5:AF216,AF216),\"X\")","v":40},{"$f":"CONCATENATE(AE216,AF216)","v":"TRUEHard"}]
[{"$f":"CONCATENATE(AE217,D217,AG217)","v":"TRUEMedium93"},{"$f":"RAND()","v":0.39356297483295355},"Frac","Medium",111,"Divide:     ",{"$f":"RANDBETWEEN(2,10)","v":5},null,null," ÷ ",{"$f":"IF(M217=4,CHOOSE(RANDBETWEEN(1,2),1,3),RANDBETWEEN(1,M217-1))","v":8},"/",{"$f":"RANDBETWEEN(2,10)","v":9},{"$f":"IF(GCD(K217,M217)=1,\"\",\",    giving your answer in its simplest form\")","v":""},null,null,null,null,null,{"$f":"CONCATENATE(F217,\" \",G217,\"\",H217,\"\",I217,\" \",J217,\" \",K217,\"\",L217,\"\",M217,\" \",N217,\"       \",O217,\" \",P217,\" \",Q217,\" \",R217)","v":"Divide:      5  ÷  8/9           "},{"$f":"M217/Z217*G217","v":45},{"$f":"IF(K217/Z217=1,\"\",\"/\")","v":"/"},{"$f":"IF(K217/Z217=1,\"\",K217/Z217)","v":8},null,null,{"$f":"GCD(M217*G217,K217)","v":1},null,null,{"$f":"IF(ISERROR(T217),NA(),\"\")","v":""},{"$f":"IF(OR(ISNA(U217),ISNA(V217),ISNA(W217),ISNA(X217),ISNA(Y217),ISNA(Z217),ISNA(AA217),ISNA(AB217),ISNA(AC217)),NA(),CONCATENATE(U217,V217,W217,X217,Y217,AA217,AB217))","v":"45/8"},{"$f":"IF(ISNA(AD217),FALSE,IF(C217=$B$1,Worksheet!$B$3,IF(C217=$C$1,Worksheet!$B$4,IF(C217=$D$1,Worksheet!$B$5,IF(C217=$C$2,Worksheet!$D$3,IF(C217=$D$2,Worksheet!$D$4,IF(C217=$E$2,Worksheet!$D$5,IF(C217=$C$3,Worksheet!$D$6,IF(C217=$B$3,Worksheet!$B$6,IF(C217=$D$3,Worksheet!$B$9,IF(C217=$E$3,Worksheet!$D$9,FALSE)))))))))))","v":true},{"$f":"IF(AE217,D217,\"\")","v":"Medium"},{"$f":"IF(AE217,COUNTIF($AF$5:AF217,AF217),\"X\")","v":93},{"$f":"CONCATENATE(AE217,AF217)","v":"TRUEMedium"}]
[{"$f":"CONCATENATE(AE218,D218,AG218)","v":"TRUEMedium94"},{"$f":"RAND()","v":0.36857793416060225},"Alg","Medium",341,"Factorise:    ",{"$f":"S218*RANDBETWEEN(1,10)","v":24},{"$f":"CHOOSE(RANDBETWEEN(1,22),\"a\",\"b\",\"c\",\"d\",\"f\",\"g\",\"h\",\"j\",\"k\",\"m\",\"n\",\"p\",\"q\",\"r\",\"s\",\"t\",\"u\",\"v\",\"w\",\"x\",\"y\",\"z\")","v":"a"},"–",{"$f":"S218*RANDBETWEEN(2,10)","v":32},null,null,null,null,null,null,null,null,{"$f":"RANDBETWEEN(2,5)","v":4},{"$f":"CONCATENATE(F218,\" \",G218,\"\",H218,\" \",I218,\" \",J218,\" \",K218,\" \",L218,\" \",M218,\" \",N218,\" \",O218,\" \",P218,\" \",Q218,\" \",R218)","v":"Factorise:     24a – 32        "},{"$f":"AC218","v":8},"(",{"$f":"IF(G218/AC218=1,\"\",G218/AC218)","v":3},{"$f":"H218","v":"a"},{"$f":"I218","v":"–"},{"$f":"J218/AC218","v":4},")",null,{"$f":"GCD(G218,J218)","v":8},{"$f":"IF(OR(ISNA(U218),ISNA(V218),ISNA(W218),ISNA(X218),ISNA(Y218),ISNA(Z218),ISNA(AA218),ISNA(AB218),ISNA(AC218)),NA(),CONCATENATE(U218,V218,W218,X218,Y218,Z218,AA218,AB218))","v":"8(3a–4)"},{"$f":"IF(ISNA(AD218),FALSE,IF(C218=$B$1,Worksheet!$B$3,IF(C218=$C$1,Worksheet!$B$4,IF(C218=$D$1,Worksheet!$B$5,IF(C218=$C$2,Worksheet!$D$3,IF(C218=$D$2,Worksheet!$D$4,IF(C218=$E$2,Worksheet!$D$5,IF(C218=$C$3,Worksheet!$D$6,IF(C218=$B$3,Worksheet!$B$6,IF(C218=$D$3,Worksheet!$B$9,IF(C218=$E$3,Worksheet!$D$9,FALSE)))))))))))","v":true},{"$f":"IF(AE218,D218,\"\")","v":"Medium"},{"$f":"IF(AE218,COUNTIF($AF$5:AF218,AF218),\"X\")","v":94},{"$f":"CONCATENATE(AE218,AF218)","v":"TRUEMedium"}]
[{"$f":"CONCATENATE(AE219,D219,AG219)","v":"TRUEMedium95"},{"$f":"RAND()","v":0.34958361818378758},"Eqn","Medium",347,"Solve the equation     ",{"$f":"CHOOSE(RANDBETWEEN(1,22),\"a\",\"b\",\"c\",\"d\",\"f\",\"g\",\"h\",\"j\",\"k\",\"m\",\"n\",\"p\",\"q\",\"r\",\"s\",\"t\",\"u\",\"v\",\"w\",\"x\",\"y\",\"z\")","v":"u"},"/",{"$f":"RANDBETWEEN(2,10)","v":4},"=",{"$f":"RANDBETWEEN(2,10)","v":2},null,null,null,null,null,null,null,null,{"$f":"CONCATENATE(F219,\" \",G219,\"\",H219,\"\",I219,\" \",J219,\" \",K219,\" \",L219,\" \",M219,\" \",N219,\" \",O219,\" \",P219,\" \",Q219,\" \",R219)","v":"Solve the equation      u/4 = 2       "},{"$f":"G219","v":"u"},"=",{"$f":"I219*K219","v":8},null,null,null,null,null,{"$f":"IF(L219<0,NA(),\"\")","v":""},{"$f":"IF(OR(ISNA(U219),ISNA(V219),ISNA(W219),ISNA(X219),ISNA(Y219),ISNA(Z219),ISNA(AA219),ISNA(AB219),ISNA(AC219)),NA(),CONCATENATE(U219,V219,W219,X219,Y219,Z219,AA219,AB219))","v":"u=8"},{"$f":"IF(ISNA(AD219),FALSE,IF(C219=$B$1,Worksheet!$B$3,IF(C219=$C$1,Worksheet!$B$4,IF(C219=$D$1,Worksheet!$B$5,IF(C219=$C$2,Worksheet!$D$3,IF(C219=$D$2,Worksheet!$D$4,IF(C219=$E$2,Worksheet!$D$5,IF(C219=$C$3,Worksheet!$D$6,IF(C219=$B$3,Worksheet!$B$6,IF(C219=$D$3,Worksheet!$B$9,IF(C219=$E$3,Worksheet!$D$9,FALSE)))))))))))","v":true},{"$f":"IF(AE219,D219,\"\")","v":"Medium"},{"$f":"IF(AE219,COUNTIF($AF$5:AF219,AF219),\"X\")","v":95},{"$f":"CONCATENATE(AE219,AF219)","v":"TRUEMedium"}]
[{"$f":"CONCATENATE(AE220,D220,AG220)","v":"TRUEEasy80"},{"$f":"RAND()","v":0.8025999346391387},"Frac","Easy",105,"Multiply the fractions:  ",{"$f":"IF(I220=4,CHOOSE(RANDBETWEEN(1,2),1,3),RANDBETWEEN(1,I220-1))","v":1},"/",{"$f":"RANDBETWEEN(3,5)","v":3},"×",{"$f":"IF(M220=4,CHOOSE(RANDBETWEEN(1,2),1,3),RANDBETWEEN(1,M220-1))","v":4},"/",{"$f":"SMALL(IF(I220={3,4,5},\"\",{3,4,5}),RANDBETWEEN(1,2))","v":5},{"$f":"IF(GCD(G220*K220,I220*M220)=1,\"\",\",    giving your answer in its simplest form\")","v":""},null,null,null,null,null,{"$f":"CONCATENATE(F220,\" \",G220,\"\",H220,\"\",I220,\" \",J220,\" \",K220,\"\",L220,\"\",M220,\" \",N220,\"       \",O220,\" \",P220,\" \",Q220,\" \",R220)","v":"Multiply the fractions:   1/3 × 4/5           "},{"$f":"(G220*K220)/GCD(G220*K220,I220*M220)","v":4},"/",{"$f":"I220*M220/GCD(G220*K220,I220*M220)","v":15},null,null,{"$f":"IF(U220=0,NA(),\"\")","v":""},null,null,{"$f":"IF(ISERROR(T220),NA(),\"\")","v":""},{"$f":"IF(OR(ISNA(U220),ISNA(V220),ISNA(W220),ISNA(X220),ISNA(Y220),ISNA(Z220),ISNA(AA220),ISNA(AB220),ISNA(AC220)),NA(),CONCATENATE(U220,V220,W220,X220,Y220,Z220,AA220,AB220))","v":"4/15"},{"$f":"IF(ISNA(AD220),FALSE,IF(C220=$B$1,Worksheet!$B$3,IF(C220=$C$1,Worksheet!$B$4,IF(C220=$D$1,Worksheet!$B$5,IF(C220=$C$2,Worksheet!$D$3,IF(C220=$D$2,Worksheet!$D$4,IF(C220=$E$2,Worksheet!$D$5,IF(C220=$C$3,Worksheet!$D$6,IF(C220=$B$3,Worksheet!$B$6,IF(C220=$D$3,Worksheet!$B$9,IF(C220=$E$3,Worksheet!$D$9,FALSE)))))))))))","v":true},{"$f":"IF(AE220,D220,\"\")","v":"Easy"},{"$f":"IF(AE220,COUNTIF($AF$5:AF220,AF220),\"X\")","v":80},{"$f":"CONCATENATE(AE220,AF220)","v":"TRUEEasy"}]
[{"$f":"CONCATENATE(AE221,D221,AG221)","v":"TRUEEasy81"},{"$f":"RAND()","v":0.84167568513217383},"Neg","Easy",216,"Add:   ","(–",{"$f":"RANDBETWEEN(10,15)","v":10},") + ",{"$f":"RANDBETWEEN(1,10)","v":3},null,null,null,null,null,null,null,null,null,{"$f":"CONCATENATE(F221,\" \",G221,\"\",H221,\"\",I221,\"\",J221,\"\",K221,\" \",L221,\" \",M221,\" \",N221,\" \",O221,\" \",P221,\" \",Q221,\" \",R221)","v":"Add:    (–10) + 3       "},{"$f":"J221-H221","v":-7},null,null,null,null,null,null,null,{"$f":"IF(ISERROR(T221),NA(),\"\")","v":""},{"$f":"IF(OR(ISNA(U221),ISNA(V221),ISNA(W221),ISNA(X221),ISNA(Y221),ISNA(Z221),ISNA(AA221),ISNA(AB221),ISNA(AC221)),NA(),CONCATENATE(U221,V221,W221,X221,Y221,Z221,AA221,AB221))","v":"-7"},{"$f":"IF(ISNA(AD221),FALSE,IF(C221=$B$1,Worksheet!$B$3,IF(C221=$C$1,Worksheet!$B$4,IF(C221=$D$1,Worksheet!$B$5,IF(C221=$C$2,Worksheet!$D$3,IF(C221=$D$2,Worksheet!$D$4,IF(C221=$E$2,Worksheet!$D$5,IF(C221=$C$3,Worksheet!$D$6,IF(C221=$B$3,Worksheet!$B$6,IF(C221=$D$3,Worksheet!$B$9,IF(C221=$E$3,Worksheet!$D$9,FALSE)))))))))))","v":true},{"$f":"IF(AE221,D221,\"\")","v":"Easy"},{"$f":"IF(AE221,COUNTIF($AF$5:AF221,AF221),\"X\")","v":81},{"$f":"CONCATENATE(AE221,AF221)","v":"TRUEEasy"}]
[{"$f":"CONCATENATE(AE222,D222,AG222)","v":"TRUEMedium96"},{"$f":"RAND()","v":0.50982031443630094},"Frac","Medium",107,"Multiply the fractions:  ",{"$f":"IF(I222=4,CHOOSE(RANDBETWEEN(1,2),1,3),RANDBETWEEN(1,I222-1))","v":3},"/",{"$f":"RANDBETWEEN(5,8)","v":7},"×",{"$f":"RANDBETWEEN(1,MIN(M222-1,(G222/I222)*M222))","v":2},"/",{"$f":"SMALL(IF(I222={5,6,7,8},\"\",{5,6,7,8}),RANDBETWEEN(1,3))","v":5},{"$f":"IF(GCD(G222*K222,I222*M222)=1,\"\",\",    giving your answer in its simplest form\")","v":""},null,null,null,null,null,{"$f":"CONCATENATE(F222,\" \",G222,\"\",H222,\"\",I222,\" \",J222,\" \",K222,\"\",L222,\"\",M222,\" \",N222,\"       \",O222,\" \",P222,\" \",Q222,\" \",R222)","v":"Multiply the fractions:   3/7 × 2/5           "},{"$f":"(G222*K222)/GCD(G222*K222,I222*M222)","v":6},"/",{"$f":"I222*M222/GCD(G222*K222,I222*M222)","v":35},null,null,{"$f":"IF(U222=0,NA(),\"\")","v":""},null,null,{"$f":"IF(ISERROR(T222),NA(),\"\")","v":""},{"$f":"IF(OR(ISNA(U222),ISNA(V222),ISNA(W222),ISNA(X222),ISNA(Y222),ISNA(Z222),ISNA(AA222),ISNA(AB222),ISNA(AC222)),NA(),CONCATENATE(U222,V222,W222,X222,Y222,Z222,AA222,AB222))","v":"6/35"},{"$f":"IF(ISNA(AD222),FALSE,IF(C222=$B$1,Worksheet!$B$3,IF(C222=$C$1,Worksheet!$B$4,IF(C222=$D$1,Worksheet!$B$5,IF(C222=$C$2,Worksheet!$D$3,IF(C222=$D$2,Worksheet!$D$4,IF(C222=$E$2,Worksheet!$D$5,IF(C222=$C$3,Worksheet!$D$6,IF(C222=$B$3,Worksheet!$B$6,IF(C222=$D$3,Worksheet!$B$9,IF(C222=$E$3,Worksheet!$D$9,FALSE)))))))))))","v":true},{"$f":"IF(AE222,D222,\"\")","v":"Medium"},{"$f":"IF(AE222,COUNTIF($AF$5:AF222,AF222),\"X\")","v":96},{"$f":"CONCATENATE(AE222,AF222)","v":"TRUEMedium"}]
[{"$f":"CONCATENATE(AE223,D223,AG223)","v":"TRUEEasy82"},{"$f":"RAND()","v":0.28613820236828025},"Dec","Easy",132,"Write down the next two numbers in this decreasing pattern:               ",{"$f":"RANDBETWEEN(10001,99999)/1000","v":82.233999999999995},"   ,   ",{"$f":"G223+$S223","v":82.033999999999992},"   ,   ",{"$f":"I223+$S223","v":81.833999999999989},"   ,   ",{"$f":"K223+$S223","v":81.633999999999986},"   ,   ","_______________","   ,   ","_______________",null,{"$f":"-1*10^RANDBETWEEN(-3,-1)*CHOOSE(RANDBETWEEN(1,2),2,5)","v":-0.2},{"$f":"CONCATENATE(F223,\" \",G223,\" \",H223,\" \",I223,\" \",J223,\" \",K223,\" \",L223,\" \",M223,\" \",N223,\" \",O223,\" \",P223,\" \",Q223,\" \",R223)","v":"Write down the next two numbers in this decreasing pattern:                82.234    ,    82.034    ,    81.834    ,    81.634    ,    _______________    ,    _______________ "},{"$f":"M223+S223","v":81.433999999999983},"    ,    ",{"$f":"U223+S223","v":81.23399999999998},null,null,null,null,null,{"$f":"IF(ISERROR(T223),NA(),\"\")","v":""},{"$f":"IF(OR(ISNA(U223),ISNA(V223),ISNA(W223),ISNA(X223),ISNA(Y223),ISNA(Z223),ISNA(AA223),ISNA(AB223),ISNA(AC223)),NA(),CONCATENATE(U223,V223,W223,X223,Y223,Z223,AA223,AB223))","v":"81.434    ,    81.234"},{"$f":"IF(ISNA(AD223),FALSE,IF(C223=$B$1,Worksheet!$B$3,IF(C223=$C$1,Worksheet!$B$4,IF(C223=$D$1,Worksheet!$B$5,IF(C223=$C$2,Worksheet!$D$3,IF(C223=$D$2,Worksheet!$D$4,IF(C223=$E$2,Worksheet!$D$5,IF(C223=$C$3,Worksheet!$D$6,IF(C223=$B$3,Worksheet!$B$6,IF(C223=$D$3,Worksheet!$B$9,IF(C223=$E$3,Worksheet!$D$9,FALSE)))))))))))","v":true},{"$f":"IF(AE223,D223,\"\")","v":"Easy"},{"$f":"IF(AE223,COUNTIF($AF$5:AF223,AF223),\"X\")","v":82},{"$f":"CONCATENATE(AE223,AF223)","v":"TRUEEasy"}]
[{"$f":"CONCATENATE(AE224,D224,AG224)","v":"TRUEMedium97"},{"$f":"RAND()","v":0.8128556642838084},"Neg","Medium",227,"Work out of the value of:   ",{"$f":"RANDBETWEEN(1,10)","v":7},"× (–",{"$f":"RANDBETWEEN(2,6)","v":4},") + ",{"$f":"RANDBETWEEN(1,3)","v":2},null,null,null,null,null,null,null,null,{"$f":"CONCATENATE(F224,\" \",G224,\" \",H224,\"\",I224,\"\",J224,\" \",K224,\" \",L224,\" \",M224,\" \",N224,\" \",O224,\" \",P224,\" \",Q224,\" \",R224)","v":"Work out of the value of:    7 × (–4) +  2       "},{"$f":"G224*I224*(-1)+K224","v":-26},null,null,null,null,null,null,null,{"$f":"IF(ISERROR(T224),NA(),\"\")","v":""},{"$f":"IF(OR(ISNA(U224),ISNA(V224),ISNA(W224),ISNA(X224),ISNA(Y224),ISNA(Z224),ISNA(AA224),ISNA(AB224),ISNA(AC224)),NA(),CONCATENATE(U224,V224,W224,X224,Y224,Z224,AA224,AB224))","v":"-26"},{"$f":"IF(ISNA(AD224),FALSE,IF(C224=$B$1,Worksheet!$B$3,IF(C224=$C$1,Worksheet!$B$4,IF(C224=$D$1,Worksheet!$B$5,IF(C224=$C$2,Worksheet!$D$3,IF(C224=$D$2,Worksheet!$D$4,IF(C224=$E$2,Worksheet!$D$5,IF(C224=$C$3,Worksheet!$D$6,IF(C224=$B$3,Worksheet!$B$6,IF(C224=$D$3,Worksheet!$B$9,IF(C224=$E$3,Worksheet!$D$9,FALSE)))))))))))","v":true},{"$f":"IF(AE224,D224,\"\")","v":"Medium"},{"$f":"IF(AE224,COUNTIF($AF$5:AF224,AF224),\"X\")","v":97},{"$f":"CONCATENATE(AE224,AF224)","v":"TRUEMedium"}]
[{"$f":"CONCATENATE(AE225,D225,AG225)","v":"TRUEMedium98"},{"$f":"RAND()","v":0.69546417515535519},"Dec","Medium",195,"Change the number ",{"$f":"RANDBETWEEN(1,9)+RANDBETWEEN(1,999)/1000","v":6.8739999999999997},"× 10^",{"$f":"RANDBETWEEN(-5,-1)","v":-3},"(10 to the power of",{"$f":"I225","v":-3},") from standard form to normal form",null,null,null,null,null,null,null,{"$f":"CONCATENATE(F225,\" \",G225,\" \",H225,\"(\",I225,\") \",J225,\" (\",K225,\")\",L225,\" \",M225,\" \",N225,\" \",O225,\" \",P225,\" \",Q225,\" \",R225)","v":"Change the number  6.874 × 10^(-3) (10 to the power of (-3)) from standard form to normal form      "},{"$f":"G225*10^I225","v":6.8739999999999999E-3},null,null,null,null,null,null,null,{"$f":"IF(ISERROR(T225),NA(),\"\")","v":""},{"$f":"IF(OR(ISNA(U225),ISNA(V225),ISNA(W225),ISNA(X225),ISNA(Y225),ISNA(Z225),ISNA(AA225),ISNA(AB225),ISNA(AC225)),NA(),CONCATENATE(U225,V225,W225,X225,Y225,Z225,AA225,AB225))","v":"0.006874"},{"$f":"IF(ISNA(AD225),FALSE,IF(C225=$B$1,Worksheet!$B$3,IF(C225=$C$1,Worksheet!$B$4,IF(C225=$D$1,Worksheet!$B$5,IF(C225=$C$2,Worksheet!$D$3,IF(C225=$D$2,Worksheet!$D$4,IF(C225=$E$2,Worksheet!$D$5,IF(C225=$C$3,Worksheet!$D$6,IF(C225=$B$3,Worksheet!$B$6,IF(C225=$D$3,Worksheet!$B$9,IF(C225=$E$3,Worksheet!$D$9,FALSE)))))))))))","v":true},{"$f":"IF(AE225,D225,\"\")","v":"Medium"},{"$f":"IF(AE225,COUNTIF($AF$5:AF225,AF225),\"X\")","v":98},{"$f":"CONCATENATE(AE225,AF225)","v":"TRUEMedium"}]
[{"$f":"CONCATENATE(AE226,D226,AG226)","v":"TRUEMedium99"},{"$f":"RAND()","v":0.63971867908813107},"Frac","Medium",93,"Change the fraction",{"$f":"CHOOSE(RANDBETWEEN(1,2),1,5)","v":1},"/6","into a decimal correct to 3 decimal places",null,null,null,null,null,null,null,null,null,null,{"$f":"CONCATENATE(F226,\" \",G226,\"\",H226,\" \",I226,\" \",J226,\" \",K226,\" \",L226,\" \",M226,\" \",N226,\" \",O226,\" \",P226,\" \",Q226,\" \",R226)","v":"Change the fraction 1/6 into a decimal correct to 3 decimal places         "},{"$f":"TEXT(G226/6,\"0.000\")","v":"0.167"},null,null,null,null,null,null,null,{"$f":"IF(ISERROR(T226),NA(),\"\")","v":""},{"$f":"IF(OR(ISNA(U226),ISNA(V226),ISNA(W226),ISNA(X226),ISNA(Y226),ISNA(Z226),ISNA(AA226),ISNA(AB226),ISNA(AC226)),NA(),CONCATENATE(U226,V226,W226,X226,Y226,Z226,AA226,AB226))","v":"0.167"},{"$f":"IF(ISNA(AD226),FALSE,IF(C226=$B$1,Worksheet!$B$3,IF(C226=$C$1,Worksheet!$B$4,IF(C226=$D$1,Worksheet!$B$5,IF(C226=$C$2,Worksheet!$D$3,IF(C226=$D$2,Worksheet!$D$4,IF(C226=$E$2,Worksheet!$D$5,IF(C226=$C$3,Worksheet!$D$6,IF(C226=$B$3,Worksheet!$B$6,IF(C226=$D$3,Worksheet!$B$9,IF(C226=$E$3,Worksheet!$D$9,FALSE)))))))))))","v":true},{"$f":"IF(AE226,D226,\"\")","v":"Medium"},{"$f":"IF(AE226,COUNTIF($AF$5:AF226,AF226),\"X\")","v":99},{"$f":"CONCATENATE(AE226,AF226)","v":"TRUEMedium"}]
[{"$f":"CONCATENATE(AE227,D227,AG227)","v":"TRUEMedium100"},{"$f":"RAND()","v":0.24264990052445035},"Neg","Medium",235,"Add:   ","(–",{"$f":"RANDBETWEEN(1,5)+RANDBETWEEN(1,9)/10","v":5.9},") + ",{"$f":"RANDBETWEEN(1,10)+RANDBETWEEN(1,9)/10","v":5.3},null,null,null,null,null,null,null,null,null,{"$f":"CONCATENATE(F227,\" \",G227,\"\",H227,\"\",I227,\"\",J227,\"\",K227,\" \",L227,\" \",M227,\" \",N227,\" \",O227,\" \",P227,\" \",Q227,\" \",R227)","v":"Add:    (–5.9) + 5.3       "},{"$f":"J227-H227","v":-0.60000000000000053},null,null,null,null,null,null,null,{"$f":"IF(ISERROR(T227),NA(),\"\")","v":""},{"$f":"IF(OR(ISNA(U227),ISNA(V227),ISNA(W227),ISNA(X227),ISNA(Y227),ISNA(Z227),ISNA(AA227),ISNA(AB227),ISNA(AC227)),NA(),CONCATENATE(U227,V227,W227,X227,Y227,Z227,AA227,AB227))","v":"-0.600000000000001"},{"$f":"IF(ISNA(AD227),FALSE,IF(C227=$B$1,Worksheet!$B$3,IF(C227=$C$1,Worksheet!$B$4,IF(C227=$D$1,Worksheet!$B$5,IF(C227=$C$2,Worksheet!$D$3,IF(C227=$D$2,Worksheet!$D$4,IF(C227=$E$2,Worksheet!$D$5,IF(C227=$C$3,Worksheet!$D$6,IF(C227=$B$3,Worksheet!$B$6,IF(C227=$D$3,Worksheet!$B$9,IF(C227=$E$3,Worksheet!$D$9,FALSE)))))))))))","v":true},{"$f":"IF(AE227,D227,\"\")","v":"Medium"},{"$f":"IF(AE227,COUNTIF($AF$5:AF227,AF227),\"X\")","v":100},{"$f":"CONCATENATE(AE227,AF227)","v":"TRUEMedium"}]
[{"$f":"CONCATENATE(AE228,D228,AG228)","v":"TRUEHard41"},{"$f":"RAND()","v":0.38439278869707938},"Dec","Hard",258,"Divide:   ",{"$f":"RANDBETWEEN(4,9)*10^RANDBETWEEN(0,2)*S228","v":16},"÷",{"$f":"10^RANDBETWEEN(-2,-1)*S228","v":0.2},null,null,null,null,null,null,null,null,null,{"$f":"RANDBETWEEN(2,5)","v":2},{"$f":"CONCATENATE(F228,\" \",G228,\" \",H228,\" \",I228,\" \",J228,\" \",K228,\" \",L228,\" \",M228,\" \",N228,\" \",O228,\" \",P228,\" \",Q228,\" \",R228)","v":"Divide:    16 ÷ 0.2         "},{"$f":"G228/I228","v":80},null,null,null,null,null,null,null,{"$f":"IF(ISERROR(T228),NA(),\"\")","v":""},{"$f":"IF(OR(ISNA(U228),ISNA(V228),ISNA(W228),ISNA(X228),ISNA(Y228),ISNA(Z228),ISNA(AA228),ISNA(AB228),ISNA(AC228)),NA(),CONCATENATE(U228,V228,W228,X228,Y228,Z228,AA228,AB228))","v":"80"},{"$f":"IF(ISNA(AD228),FALSE,IF(C228=$B$1,Worksheet!$B$3,IF(C228=$C$1,Worksheet!$B$4,IF(C228=$D$1,Worksheet!$B$5,IF(C228=$C$2,Worksheet!$D$3,IF(C228=$D$2,Worksheet!$D$4,IF(C228=$E$2,Worksheet!$D$5,IF(C228=$C$3,Worksheet!$D$6,IF(C228=$B$3,Worksheet!$B$6,IF(C228=$D$3,Worksheet!$B$9,IF(C228=$E$3,Worksheet!$D$9,FALSE)))))))))))","v":true},{"$f":"IF(AE228,D228,\"\")","v":"Hard"},{"$f":"IF(AE228,COUNTIF($AF$5:AF228,AF228),\"X\")","v":41},{"$f":"CONCATENATE(AE228,AF228)","v":"TRUEHard"}]
[{"$f":"CONCATENATE(AE229,D229,AG229)","v":"TRUEMedium101"},{"$f":"RAND()","v":2.7152860064619921E-2},"Round","Medium",180,"Round the number",{"$f":"RANDBETWEEN(1,9)+RANDBETWEEN(1,9)/10","v":8.3000000000000007},"to one significant figure",null,null,null,null,null,null,null,null,null,null,null,{"$f":"CONCATENATE(F229,\" \",G229,\" \",H229,\" \",I229,\" \",J229,\" \",K229,\" \",L229,\" \",M229,\" \",N229,\" \",O229,\" \",P229,\" \",Q229,\" \",R229)","v":"Round the number 8.3 to one significant figure          "},{"$f":"MROUND(G229,1)","v":8},null,null,null,null,null,null,null,{"$f":"IF(ISERROR(T229),NA(),\"\")","v":""},{"$f":"IF(OR(ISNA(U229),ISNA(V229),ISNA(W229),ISNA(X229),ISNA(Y229),ISNA(Z229),ISNA(AA229),ISNA(AB229),ISNA(AC229)),NA(),CONCATENATE(U229,V229,W229,X229,Y229,Z229,AA229,AB229))","v":"8"},{"$f":"IF(ISNA(AD229),FALSE,IF(C229=$B$1,Worksheet!$B$3,IF(C229=$C$1,Worksheet!$B$4,IF(C229=$D$1,Worksheet!$B$5,IF(C229=$C$2,Worksheet!$D$3,IF(C229=$D$2,Worksheet!$D$4,IF(C229=$E$2,Worksheet!$D$5,IF(C229=$C$3,Worksheet!$D$6,IF(C229=$B$3,Worksheet!$B$6,IF(C229=$D$3,Worksheet!$B$9,IF(C229=$E$3,Worksheet!$D$9,FALSE)))))))))))","v":true},{"$f":"IF(AE229,D229,\"\")","v":"Medium"},{"$f":"IF(AE229,COUNTIF($AF$5:AF229,AF229),\"X\")","v":101},{"$f":"CONCATENATE(AE229,AF229)","v":"TRUEMedium"}]
[{"$f":"CONCATENATE(AE230,D230,AG230)","v":"TRUEEasy83"},{"$f":"RAND()","v":4.6670722994059388E-2},"%","Easy",260,"Write",{"$f":"2*RANDBETWEEN(1,49)","v":56},"%","as a fraction in its simplest form",null,null,null,null,null,null,null,null,null,null,{"$f":"CONCATENATE(F230,\" \",G230,\"\",H230,\" \",I230,\" \",J230,\" \",K230,\" \",L230,\" \",M230,\" \",N230,\" \",O230,\" \",P230,\" \",Q230,\" \",R230)","v":"Write 56% as a fraction in its simplest form         "},{"$f":"TEXT(G230/100,\"##/###\")","v":"14/25"},null,null,null,null,null,null,null,{"$f":"IF(ISERROR(T230),NA(),\"\")","v":""},{"$f":"IF(OR(ISNA(U230),ISNA(V230),ISNA(W230),ISNA(X230),ISNA(Y230),ISNA(Z230),ISNA(AA230),ISNA(AB230),ISNA(AC230)),NA(),CONCATENATE(U230,V230,W230,X230,Y230,Z230,AA230,AB230))","v":"14/25"},{"$f":"IF(ISNA(AD230),FALSE,IF(C230=$B$1,Worksheet!$B$3,IF(C230=$C$1,Worksheet!$B$4,IF(C230=$D$1,Worksheet!$B$5,IF(C230=$C$2,Worksheet!$D$3,IF(C230=$D$2,Worksheet!$D$4,IF(C230=$E$2,Worksheet!$D$5,IF(C230=$C$3,Worksheet!$D$6,IF(C230=$B$3,Worksheet!$B$6,IF(C230=$D$3,Worksheet!$B$9,IF(C230=$E$3,Worksheet!$D$9,FALSE)))))))))))","v":true},{"$f":"IF(AE230,D230,\"\")","v":"Easy"},{"$f":"IF(AE230,COUNTIF($AF$5:AF230,AF230),\"X\")","v":83},{"$f":"CONCATENATE(AE230,AF230)","v":"TRUEEasy"}]
[{"$f":"CONCATENATE(AE231,D231,AG231)","v":"TRUEEasy84"},{"$f":"RAND()","v":0.28884045507122214},"+-×÷","Easy",69,"Divide","( ",{"$f":"RANDBETWEEN(30,70)","v":50},"+",{"$f":"RANDBETWEEN(1,5)*S231+(S231-MOD(H231,S231))","v":18},") / (",{"$f":"S231+N231","v":8},"–",{"$f":"RANDBETWEEN(1,10)","v":4},")",null,null,null,{"$f":"RANDBETWEEN(3,10)","v":4},{"$f":"CONCATENATE(F231,\" \",G231,\" \",H231,\" \",I231,\" \",J231,\" \",K231,\" \",L231,\" \",M231,\" \",N231,\" \",O231,\" \",P231,\" \",Q231,\" \",R231)","v":"Divide (  50 + 18 ) / ( 8 – 4 )   "},{"$f":"(H231+J231)/(L231-N231)","v":17},null,null,null,null,null,null,null,{"$f":"IF(ISERROR(T231),NA(),\"\")","v":""},{"$f":"IF(OR(ISNA(U231),ISNA(V231),ISNA(W231),ISNA(X231),ISNA(Y231),ISNA(Z231),ISNA(AA231),ISNA(AB231),ISNA(AC231)),NA(),CONCATENATE(U231,V231,W231,X231,Y231,Z231,AA231,AB231))","v":"17"},{"$f":"IF(ISNA(AD231),FALSE,IF(C231=$B$1,Worksheet!$B$3,IF(C231=$C$1,Worksheet!$B$4,IF(C231=$D$1,Worksheet!$B$5,IF(C231=$C$2,Worksheet!$D$3,IF(C231=$D$2,Worksheet!$D$4,IF(C231=$E$2,Worksheet!$D$5,IF(C231=$C$3,Worksheet!$D$6,IF(C231=$B$3,Worksheet!$B$6,IF(C231=$D$3,Worksheet!$B$9,IF(C231=$E$3,Worksheet!$D$9,FALSE)))))))))))","v":true},{"$f":"IF(AE231,D231,\"\")","v":"Easy"},{"$f":"IF(AE231,COUNTIF($AF$5:AF231,AF231),\"X\")","v":84},{"$f":"CONCATENATE(AE231,AF231)","v":"TRUEEasy"}]
[{"$f":"CONCATENATE(AE232,D232,AG232)","v":"TRUEHard42"},{"$f":"RAND()","v":0.72812708626953093},"Dec","Hard",254,"Multiply:   ",{"$f":"10^RANDBETWEEN(-3,-2)*RANDBETWEEN(2,9)","v":0.02},"×",{"$f":"RANDBETWEEN(10,99)*1000","v":23000},null,null,null,null,null,null,null,null,null,null,{"$f":"CONCATENATE(F232,\" \",G232,\" \",H232,\" \",I232,\" \",J232,\" \",K232,\" \",L232,\" \",M232,\" \",N232,\" \",O232,\" \",P232,\" \",Q232,\" \",R232)","v":"Multiply:    0.02 × 23000         "},{"$f":"G232*I232","v":460},null,null,null,null,null,null,null,{"$f":"IF(ISERROR(T232),NA(),\"\")","v":""},{"$f":"IF(OR(ISNA(U232),ISNA(V232),ISNA(W232),ISNA(X232),ISNA(Y232),ISNA(Z232),ISNA(AA232),ISNA(AB232),ISNA(AC232)),NA(),CONCATENATE(U232,V232,W232,X232,Y232,Z232,AA232,AB232))","v":"460"},{"$f":"IF(ISNA(AD232),FALSE,IF(C232=$B$1,Worksheet!$B$3,IF(C232=$C$1,Worksheet!$B$4,IF(C232=$D$1,Worksheet!$B$5,IF(C232=$C$2,Worksheet!$D$3,IF(C232=$D$2,Worksheet!$D$4,IF(C232=$E$2,Worksheet!$D$5,IF(C232=$C$3,Worksheet!$D$6,IF(C232=$B$3,Worksheet!$B$6,IF(C232=$D$3,Worksheet!$B$9,IF(C232=$E$3,Worksheet!$D$9,FALSE)))))))))))","v":true},{"$f":"IF(AE232,D232,\"\")","v":"Hard"},{"$f":"IF(AE232,COUNTIF($AF$5:AF232,AF232),\"X\")","v":42},{"$f":"CONCATENATE(AE232,AF232)","v":"TRUEHard"}]
[{"$f":"CONCATENATE(AE233,D233,AG233)","v":"TRUEEasy85"},{"$f":"RAND()","v":0.99396624074324502},"%","Easy",270,"Calculate",{"$f":"RANDBETWEEN(2,9)","v":5},"%","of","£",{"$f":"100*RANDBETWEEN(2,9)","v":600},null,null,null,null,null,null,null,null,{"$f":"CONCATENATE(F233,\" \",G233,\"\",H233,\" \",I233,\" \",J233,\"\",K233,\" \",L233,\" \",M233,\" \",N233,\" \",O233,\" \",P233,\" \",Q233,\" \",R233)","v":"Calculate 5% of £600       "},"£",{"$f":"K233/100*G233","v":30},null,null,null,null,null,null,{"$f":"IF(ISERROR(T233),NA(),\"\")","v":""},{"$f":"IF(OR(ISNA(U233),ISNA(V233),ISNA(W233),ISNA(X233),ISNA(Y233),ISNA(Z233),ISNA(AA233),ISNA(AB233),ISNA(AC233)),NA(),CONCATENATE(U233,V233,W233,X233,Y233,Z233,AA233,AB233))","v":"£30"},{"$f":"IF(ISNA(AD233),FALSE,IF(C233=$B$1,Worksheet!$B$3,IF(C233=$C$1,Worksheet!$B$4,IF(C233=$D$1,Worksheet!$B$5,IF(C233=$C$2,Worksheet!$D$3,IF(C233=$D$2,Worksheet!$D$4,IF(C233=$E$2,Worksheet!$D$5,IF(C233=$C$3,Worksheet!$D$6,IF(C233=$B$3,Worksheet!$B$6,IF(C233=$D$3,Worksheet!$B$9,IF(C233=$E$3,Worksheet!$D$9,FALSE)))))))))))","v":true},{"$f":"IF(AE233,D233,\"\")","v":"Easy"},{"$f":"IF(AE233,COUNTIF($AF$5:AF233,AF233),\"X\")","v":85},{"$f":"CONCATENATE(AE233,AF233)","v":"TRUEEasy"}]
[{"$f":"CONCATENATE(AE234,D234,AG234)","v":"TRUEMedium102"},{"$f":"RAND()","v":0.47195571342703446},"Frac","Medium",94,"Change the fraction",{"$f":"CHOOSE(RANDBETWEEN(1,4),1,3,5,7)","v":1},"/8","into a decimal",null,null,null,null,null,null,null,null,null,null,{"$f":"CONCATENATE(F234,\" \",G234,\"\",H234,\" \",I234,\" \",J234,\" \",K234,\" \",L234,\" \",M234,\" \",N234,\" \",O234,\" \",P234,\" \",Q234,\" \",R234)","v":"Change the fraction 1/8 into a decimal         "},{"$f":"G234/8","v":0.125},null,null,null,null,null,null,null,{"$f":"IF(ISERROR(T234),NA(),\"\")","v":""},{"$f":"IF(OR(ISNA(U234),ISNA(V234),ISNA(W234),ISNA(X234),ISNA(Y234),ISNA(Z234),ISNA(AA234),ISNA(AB234),ISNA(AC234)),NA(),CONCATENATE(U234,V234,W234,X234,Y234,Z234,AA234,AB234))","v":"0.125"},{"$f":"IF(ISNA(AD234),FALSE,IF(C234=$B$1,Worksheet!$B$3,IF(C234=$C$1,Worksheet!$B$4,IF(C234=$D$1,Worksheet!$B$5,IF(C234=$C$2,Worksheet!$D$3,IF(C234=$D$2,Worksheet!$D$4,IF(C234=$E$2,Worksheet!$D$5,IF(C234=$C$3,Worksheet!$D$6,IF(C234=$B$3,Worksheet!$B$6,IF(C234=$D$3,Worksheet!$B$9,IF(C234=$E$3,Worksheet!$D$9,FALSE)))))))))))","v":true},{"$f":"IF(AE234,D234,\"\")","v":"Medium"},{"$f":"IF(AE234,COUNTIF($AF$5:AF234,AF234),\"X\")","v":102},{"$f":"CONCATENATE(AE234,AF234)","v":"TRUEMedium"}]
[{"$f":"CONCATENATE(AE235,D235,AG235)","v":"TRUEEasy86"},{"$f":"RAND()","v":0.73825385166101043},"%","Easy",269,"What is","66⅔%","of",{"$f":"3*RANDBETWEEN(2,10)*10^RANDBETWEEN(0,3)","v":27},"?",null,null,null,null,null,null,null,null,null,{"$f":"CONCATENATE(F235,\" \",G235,\" \",H235,\" \",I235,\"\",J235,\" \",K235,\" \",L235,\" \",M235,\" \",N235,\" \",O235,\" \",P235,\" \",Q235,\" \",R235)","v":"What is 66⅔% of 27?        "},{"$f":"I235/3*2","v":18},null,null,null,null,null,null,null,{"$f":"IF(ISERROR(T235),NA(),\"\")","v":""},{"$f":"IF(OR(ISNA(U235),ISNA(V235),ISNA(W235),ISNA(X235),ISNA(Y235),ISNA(Z235),ISNA(AA235),ISNA(AB235),ISNA(AC235)),NA(),CONCATENATE(U235,V235,W235,X235,Y235,Z235,AA235,AB235))","v":"18"},{"$f":"IF(ISNA(AD235),FALSE,IF(C235=$B$1,Worksheet!$B$3,IF(C235=$C$1,Worksheet!$B$4,IF(C235=$D$1,Worksheet!$B$5,IF(C235=$C$2,Worksheet!$D$3,IF(C235=$D$2,Worksheet!$D$4,IF(C235=$E$2,Worksheet!$D$5,IF(C235=$C$3,Worksheet!$D$6,IF(C235=$B$3,Worksheet!$B$6,IF(C235=$D$3,Worksheet!$B$9,IF(C235=$E$3,Worksheet!$D$9,FALSE)))))))))))","v":true},{"$f":"IF(AE235,D235,\"\")","v":"Easy"},{"$f":"IF(AE235,COUNTIF($AF$5:AF235,AF235),\"X\")","v":86},{"$f":"CONCATENATE(AE235,AF235)","v":"TRUEEasy"}]
[{"$f":"CONCATENATE(AE236,D236,AG236)","v":"TRUEHard43"},{"$f":"RAND()","v":0.87176550592836966},"Neg","Hard",233,"Work out of the value of:   ",{"$f":"RANDBETWEEN(2,8)*10","v":70},"– (–",{"$f":"RANDBETWEEN(2,10)","v":8},")²",null,null,null,null,null,null,null,null,null,{"$f":"CONCATENATE(F236,\" \",G236,\" \",H236,\" \",I236,\" \",J236,\" \",K236,\" \",L236,\" \",M236,\" \",N236,\" \",O236,\" \",P236,\" \",Q236,\" \",R236)","v":"Work out of the value of:    70 – (– 8 )²        "},{"$f":"G236-I236^2","v":6},null,null,null,null,null,null,null,{"$f":"IF(ISERROR(T236),NA(),\"\")","v":""},{"$f":"IF(OR(ISNA(U236),ISNA(V236),ISNA(W236),ISNA(X236),ISNA(Y236),ISNA(Z236),ISNA(AA236),ISNA(AB236),ISNA(AC236)),NA(),CONCATENATE(U236,V236,W236,X236,Y236,Z236,AA236,AB236))","v":"6"},{"$f":"IF(ISNA(AD236),FALSE,IF(C236=$B$1,Worksheet!$B$3,IF(C236=$C$1,Worksheet!$B$4,IF(C236=$D$1,Worksheet!$B$5,IF(C236=$C$2,Worksheet!$D$3,IF(C236=$D$2,Worksheet!$D$4,IF(C236=$E$2,Worksheet!$D$5,IF(C236=$C$3,Worksheet!$D$6,IF(C236=$B$3,Worksheet!$B$6,IF(C236=$D$3,Worksheet!$B$9,IF(C236=$E$3,Worksheet!$D$9,FALSE)))))))))))","v":true},{"$f":"IF(AE236,D236,\"\")","v":"Hard"},{"$f":"IF(AE236,COUNTIF($AF$5:AF236,AF236),\"X\")","v":43},{"$f":"CONCATENATE(AE236,AF236)","v":"TRUEHard"}]
[{"$f":"CONCATENATE(AE237,D237,AG237)","v":"TRUEMedium103"},{"$f":"RAND()","v":0.49336751777984345},"Num","Medium",3,"Write the number",{"$f":"RANDBETWEEN(1,9)","v":5},"•",{"$f":"RANDBETWEEN(1,9)","v":5},{"$f":"IF(RAND()<0.5,\"\",RANDBETWEEN(1,9))","v":""},{"$f":"CHOOSE(RANDBETWEEN(1,2),\"million\",\"billion\")","v":"million"},"in figures in full",null,null,null,null,null,null,null,{"$f":"CONCATENATE(F237,\" \",G237,\"\",H237,\"\",I237,\"\",J237,\" \",K237,\" \",L237,\" \",M237,\" \",N237,\" \",O237,\" \",P237,\" \",Q237,\" \",R237)","v":"Write the number 5•5 million in figures in full      "},{"$f":"G237","v":5},",",{"$f":"10*I237+IF(J237=\"\",0,J237)","v":50},"0,000",{"$f":"IF(K237=\"billion\",\",000\",\"\")","v":""},null,null,null,{"$f":"IF(ISERROR(T237),NA(),\"\")","v":""},{"$f":"IF(OR(ISNA(U237),ISNA(V237),ISNA(W237),ISNA(X237),ISNA(Y237),ISNA(Z237),ISNA(AA237),ISNA(AB237),ISNA(AC237)),NA(),CONCATENATE(U237,V237,W237,X237,Y237,Z237,AA237,AB237))","v":"5,500,000"},{"$f":"IF(ISNA(AD237),FALSE,IF(C237=$B$1,Worksheet!$B$3,IF(C237=$C$1,Worksheet!$B$4,IF(C237=$D$1,Worksheet!$B$5,IF(C237=$C$2,Worksheet!$D$3,IF(C237=$D$2,Worksheet!$D$4,IF(C237=$E$2,Worksheet!$D$5,IF(C237=$C$3,Worksheet!$D$6,IF(C237=$B$3,Worksheet!$B$6,IF(C237=$D$3,Worksheet!$B$9,IF(C237=$E$3,Worksheet!$D$9,FALSE)))))))))))","v":true},{"$f":"IF(AE237,D237,\"\")","v":"Medium"},{"$f":"IF(AE237,COUNTIF($AF$5:AF237,AF237),\"X\")","v":103},{"$f":"CONCATENATE(AE237,AF237)","v":"TRUEMedium"}]
[{"$f":"CONCATENATE(AE238,D238,AG238)","v":"TRUEHard44"},{"$f":"RAND()","v":0.49943747658580673},"%","Hard",286,"Write",{"$f":"(RANDBETWEEN(1,99)*10+RANDBETWEEN(1,9))/1000","v":0.69199999999999995},"as a percentage",null,null,null,null,null,null,null,null,null,null,null,{"$f":"CONCATENATE(F238,\" \",G238,\" \",H238,\" \",I238,\" \",J238,\" \",K238,\" \",L238,\" \",M238,\" \",N238,\" \",O238,\" \",P238,\" \",Q238,\" \",R238)","v":"Write 0.692 as a percentage          "},{"$f":"G238*100","v":69.199999999999989},"%",null,null,null,null,null,null,{"$f":"IF(ISERROR(T238),NA(),\"\")","v":""},{"$f":"IF(OR(ISNA(U238),ISNA(V238),ISNA(W238),ISNA(X238),ISNA(Y238),ISNA(Z238),ISNA(AA238),ISNA(AB238),ISNA(AC238)),NA(),CONCATENATE(U238,V238,W238,X238,Y238,Z238,AA238,AB238))","v":"69.2%"},{"$f":"IF(ISNA(AD238),FALSE,IF(C238=$B$1,Worksheet!$B$3,IF(C238=$C$1,Worksheet!$B$4,IF(C238=$D$1,Worksheet!$B$5,IF(C238=$C$2,Worksheet!$D$3,IF(C238=$D$2,Worksheet!$D$4,IF(C238=$E$2,Worksheet!$D$5,IF(C238=$C$3,Worksheet!$D$6,IF(C238=$B$3,Worksheet!$B$6,IF(C238=$D$3,Worksheet!$B$9,IF(C238=$E$3,Worksheet!$D$9,FALSE)))))))))))","v":true},{"$f":"IF(AE238,D238,\"\")","v":"Hard"},{"$f":"IF(AE238,COUNTIF($AF$5:AF238,AF238),\"X\")","v":44},{"$f":"CONCATENATE(AE238,AF238)","v":"TRUEHard"}]
[{"$f":"CONCATENATE(AE239,D239,AG239)","v":"TRUEEasy87"},{"$f":"RAND()","v":0.58904415791452769},"+-×÷","Easy",152,"Divide by writing down a sum:   ",{"$f":"U239*I239","v":2.3239999999999998},"÷",{"$f":"CHOOSE(RANDBETWEEN(1,4),5,2,3,4)","v":2},null,null,null,null,null,null,null,null,null,null,{"$f":"CONCATENATE(F239,\" \",G239,\" \",H239,\" \",I239,\" \",J239,\" \",K239,\" \",L239,\" \",M239,\" \",N239,\" \",O239,\" \",P239,\" \",Q239,\" \",R239)","v":"Divide by writing down a sum:    2.324 ÷ 2         "},{"$f":"RANDBETWEEN(0,6)+0.01*RANDBETWEEN(0,99)+RANDBETWEEN(1,9)*0.001","v":1.1619999999999999},null,null,null,null,null,null,null,{"$f":"IF(ISERROR(T239),NA(),\"\")","v":""},{"$f":"IF(OR(ISNA(U239),ISNA(V239),ISNA(W239),ISNA(X239),ISNA(Y239),ISNA(Z239),ISNA(AA239),ISNA(AB239),ISNA(AC239)),NA(),CONCATENATE(U239,V239,W239,X239,Y239,Z239,AA239,AB239))","v":"1.162"},{"$f":"IF(ISNA(AD239),FALSE,IF(C239=$B$1,Worksheet!$B$3,IF(C239=$C$1,Worksheet!$B$4,IF(C239=$D$1,Worksheet!$B$5,IF(C239=$C$2,Worksheet!$D$3,IF(C239=$D$2,Worksheet!$D$4,IF(C239=$E$2,Worksheet!$D$5,IF(C239=$C$3,Worksheet!$D$6,IF(C239=$B$3,Worksheet!$B$6,IF(C239=$D$3,Worksheet!$B$9,IF(C239=$E$3,Worksheet!$D$9,FALSE)))))))))))","v":true},{"$f":"IF(AE239,D239,\"\")","v":"Easy"},{"$f":"IF(AE239,COUNTIF($AF$5:AF239,AF239),\"X\")","v":87},{"$f":"CONCATENATE(AE239,AF239)","v":"TRUEEasy"}]
[{"$f":"CONCATENATE(AE240,D240,AG240)","v":"TRUEMedium104"},{"$f":"RAND()","v":0.28417298553859249},"Surds","Medium",55,"Negative powers:     What is 10 to the power of negative",{"$f":"RANDBETWEEN(1,4)","v":3},"?   ( 10 ^ –",{"$f":"G240","v":3},")",null,null,null,null,null,null,null,null,null,{"$f":"CONCATENATE(F240,\" \",G240,\" \",H240,\" \",I240,\" \",J240,\" \",K240,\" \",L240,\" \",M240,\" \",N240,\" \",O240,\" \",P240,\" \",Q240,\" \",R240)","v":"Negative powers:     What is 10 to the power of negative 3 ?   ( 10 ^ – 3 )        "},{"$f":"10^-1*G240","v":0.30000000000000004},null,null,null,null,null,null,null,{"$f":"IF(ISERROR(T240),NA(),\"\")","v":""},{"$f":"IF(OR(ISNA(U240),ISNA(V240),ISNA(W240),ISNA(X240),ISNA(Y240),ISNA(Z240),ISNA(AA240),ISNA(AB240),ISNA(AC240)),NA(),CONCATENATE(U240,V240,W240,X240,Y240,Z240,AA240,AB240))","v":"0.3"},{"$f":"IF(ISNA(AD240),FALSE,IF(C240=$B$1,Worksheet!$B$3,IF(C240=$C$1,Worksheet!$B$4,IF(C240=$D$1,Worksheet!$B$5,IF(C240=$C$2,Worksheet!$D$3,IF(C240=$D$2,Worksheet!$D$4,IF(C240=$E$2,Worksheet!$D$5,IF(C240=$C$3,Worksheet!$D$6,IF(C240=$B$3,Worksheet!$B$6,IF(C240=$D$3,Worksheet!$B$9,IF(C240=$E$3,Worksheet!$D$9,FALSE)))))))))))","v":true},{"$f":"IF(AE240,D240,\"\")","v":"Medium"},{"$f":"IF(AE240,COUNTIF($AF$5:AF240,AF240),\"X\")","v":104},{"$f":"CONCATENATE(AE240,AF240)","v":"TRUEMedium"}]
[{"$f":"CONCATENATE(AE241,D241,AG241)","v":"TRUEEasy88"},{"$f":"RAND()","v":0.52797435037124407},"%","Easy",298,"Write",{"$f":"100+RANDBETWEEN(1,9)","v":104},"% as a decimal",null,null,null,null,null,null,null,null,null,null,null,{"$f":"CONCATENATE(F241,\" \",G241,\"\",H241,\" \",I241,\" \",J241,\" \",K241,\" \",L241,\" \",M241,\" \",N241,\" \",O241,\" \",P241,\" \",Q241,\" \",R241)","v":"Write 104% as a decimal          "},{"$f":"G241/100","v":1.04},null,null,null,null,null,null,null,{"$f":"IF(ISERROR(T241),NA(),\"\")","v":""},{"$f":"IF(OR(ISNA(U241),ISNA(V241),ISNA(W241),ISNA(X241),ISNA(Y241),ISNA(Z241),ISNA(AA241),ISNA(AB241),ISNA(AC241)),NA(),CONCATENATE(U241,V241,W241,X241,Y241,Z241,AA241,AB241))","v":"1.04"},{"$f":"IF(ISNA(AD241),FALSE,IF(C241=$B$1,Worksheet!$B$3,IF(C241=$C$1,Worksheet!$B$4,IF(C241=$D$1,Worksheet!$B$5,IF(C241=$C$2,Worksheet!$D$3,IF(C241=$D$2,Worksheet!$D$4,IF(C241=$E$2,Worksheet!$D$5,IF(C241=$C$3,Worksheet!$D$6,IF(C241=$B$3,Worksheet!$B$6,IF(C241=$D$3,Worksheet!$B$9,IF(C241=$E$3,Worksheet!$D$9,FALSE)))))))))))","v":true},{"$f":"IF(AE241,D241,\"\")","v":"Easy"},{"$f":"IF(AE241,COUNTIF($AF$5:AF241,AF241),\"X\")","v":88},{"$f":"CONCATENATE(AE241,AF241)","v":"TRUEEasy"}]
[{"$f":"CONCATENATE(AE242,D242,AG242)","v":"TRUEEasy89"},{"$f":"RAND()","v":0.50126960460184211},"Dec","Easy",250,"Multiply:   ",{"$f":"10^RANDBETWEEN(-2,-1)","v":0.01},"×",{"$f":"RANDBETWEEN(10,9999)","v":8778},null,null,null,null,null,null,null,null,null,null,{"$f":"CONCATENATE(F242,\" \",G242,\" \",H242,\" \",I242,\" \",J242,\" \",K242,\" \",L242,\" \",M242,\" \",N242,\" \",O242,\" \",P242,\" \",Q242,\" \",R242)","v":"Multiply:    0.01 × 8778         "},{"$f":"G242*I242","v":87.78},null,null,null,null,null,null,null,{"$f":"IF(ISERROR(T242),NA(),\"\")","v":""},{"$f":"IF(OR(ISNA(U242),ISNA(V242),ISNA(W242),ISNA(X242),ISNA(Y242),ISNA(Z242),ISNA(AA242),ISNA(AB242),ISNA(AC242)),NA(),CONCATENATE(U242,V242,W242,X242,Y242,Z242,AA242,AB242))","v":"87.78"},{"$f":"IF(ISNA(AD242),FALSE,IF(C242=$B$1,Worksheet!$B$3,IF(C242=$C$1,Worksheet!$B$4,IF(C242=$D$1,Worksheet!$B$5,IF(C242=$C$2,Worksheet!$D$3,IF(C242=$D$2,Worksheet!$D$4,IF(C242=$E$2,Worksheet!$D$5,IF(C242=$C$3,Worksheet!$D$6,IF(C242=$B$3,Worksheet!$B$6,IF(C242=$D$3,Worksheet!$B$9,IF(C242=$E$3,Worksheet!$D$9,FALSE)))))))))))","v":true},{"$f":"IF(AE242,D242,\"\")","v":"Easy"},{"$f":"IF(AE242,COUNTIF($AF$5:AF242,AF242),\"X\")","v":89},{"$f":"CONCATENATE(AE242,AF242)","v":"TRUEEasy"}]
[{"$f":"CONCATENATE(AE243,D243,AG243)","v":"TRUEMedium105"},{"$f":"RAND()","v":2.6751686285141352E-2},"%","Medium",266,"What sum could you type into a calculator to work out",{"$f":"RANDBETWEEN(1,9)+RANDBETWEEN(1,9)/10","v":8.3000000000000007},"%","of","£",{"$f":"RANDBETWEEN(1001,99999)","v":9655},"?     Circle the correct answer: ",{"$f":"CONCATENATE(K243,\" × 100 ÷ \",G243)","v":"9655 × 100 ÷ 8.3"},{"$f":"CONCATENATE(K243,\" ÷ \",G243)","v":"9655 ÷ 8.3"},{"$f":"CONCATENATE(K243,\" ÷ 100 × \",G243)","v":"9655 ÷ 100 × 8.3"},null,null,null,null,{"$f":"CONCATENATE(F243,\" \",G243,\"\",H243,\" \",I243,\" \",J243,\"\",K243,\"\",L243,\"      \",M243,\"       \",N243,\"       \",O243,\" \",P243,\" \",Q243,\" \",R243)","v":"What sum could you type into a calculator to work out 8.3% of £9655?     Circle the correct answer:       9655 × 100 ÷ 8.3       9655 ÷ 8.3       9655 ÷ 100 × 8.3   "},{"$f":"O243","v":"9655 ÷ 100 × 8.3"},null,null,null,null,null,null,null,{"$f":"IF(ISERROR(T243),NA(),\"\")","v":""},{"$f":"IF(OR(ISNA(U243),ISNA(V243),ISNA(W243),ISNA(X243),ISNA(Y243),ISNA(Z243),ISNA(AA243),ISNA(AB243),ISNA(AC243)),NA(),CONCATENATE(U243,V243,W243,X243,Y243,Z243,AA243,AB243))","v":"9655 ÷ 100 × 8.3"},{"$f":"IF(ISNA(AD243),FALSE,IF(C243=$B$1,Worksheet!$B$3,IF(C243=$C$1,Worksheet!$B$4,IF(C243=$D$1,Worksheet!$B$5,IF(C243=$C$2,Worksheet!$D$3,IF(C243=$D$2,Worksheet!$D$4,IF(C243=$E$2,Worksheet!$D$5,IF(C243=$C$3,Worksheet!$D$6,IF(C243=$B$3,Worksheet!$B$6,IF(C243=$D$3,Worksheet!$B$9,IF(C243=$E$3,Worksheet!$D$9,FALSE)))))))))))","v":true},{"$f":"IF(AE243,D243,\"\")","v":"Medium"},{"$f":"IF(AE243,COUNTIF($AF$5:AF243,AF243),\"X\")","v":105},{"$f":"CONCATENATE(AE243,AF243)","v":"TRUEMedium"}]
[{"$f":"CONCATENATE(AE244,D244,AG244)","v":"TRUEEasy90"},{"$f":"RAND()","v":0.57028681647120716},"Neg","Easy",219,"Take away:   ","(–",{"$f":"RANDBETWEEN(1,10)","v":4},") –",{"$f":"RANDBETWEEN(1,9)","v":7},null,null,null,null,null,null,null,null,null,{"$f":"CONCATENATE(F244,\" \",G244,\"\",H244,\"\",I244,\" \",J244,\" \",K244,\" \",L244,\" \",M244,\" \",N244,\" \",O244,\" \",P244,\" \",Q244,\" \",R244)","v":"Take away:    (–4) – 7        "},{"$f":"-1*(H244+J244)","v":-11},null,null,null,null,null,null,null,{"$f":"IF(ISERROR(T244),NA(),\"\")","v":""},{"$f":"IF(OR(ISNA(U244),ISNA(V244),ISNA(W244),ISNA(X244),ISNA(Y244),ISNA(Z244),ISNA(AA244),ISNA(AB244),ISNA(AC244)),NA(),CONCATENATE(U244,V244,W244,X244,Y244,Z244,AA244,AB244))","v":"-11"},{"$f":"IF(ISNA(AD244),FALSE,IF(C244=$B$1,Worksheet!$B$3,IF(C244=$C$1,Worksheet!$B$4,IF(C244=$D$1,Worksheet!$B$5,IF(C244=$C$2,Worksheet!$D$3,IF(C244=$D$2,Worksheet!$D$4,IF(C244=$E$2,Worksheet!$D$5,IF(C244=$C$3,Worksheet!$D$6,IF(C244=$B$3,Worksheet!$B$6,IF(C244=$D$3,Worksheet!$B$9,IF(C244=$E$3,Worksheet!$D$9,FALSE)))))))))))","v":true},{"$f":"IF(AE244,D244,\"\")","v":"Easy"},{"$f":"IF(AE244,COUNTIF($AF$5:AF244,AF244),\"X\")","v":90},{"$f":"CONCATENATE(AE244,AF244)","v":"TRUEEasy"}]
[{"$f":"CONCATENATE(AE245,D245,AG245)","v":"TRUEMedium106"},{"$f":"RAND()","v":0.51419358670510229},"Eqn","Medium",344,"Change the subject of the formula",{"$f":"CHOOSE(RANDBETWEEN(1,22),\"a\",\"b\",\"c\",\"d\",\"f\",\"g\",\"h\",\"j\",\"k\",\"m\",\"n\",\"p\",\"q\",\"r\",\"s\",\"t\",\"u\",\"v\",\"w\",\"x\",\"y\",\"z\")","v":"k"},"=",{"$f":"CHOOSE(RANDBETWEEN(1,22),\"a\",\"b\",\"c\",\"d\",\"f\",\"g\",\"h\",\"j\",\"k\",\"m\",\"n\",\"p\",\"q\",\"r\",\"s\",\"t\",\"u\",\"v\",\"w\",\"x\",\"y\",\"z\")","v":"w"},"–",{"$f":"RANDBETWEEN(2,10)","v":8},"to",{"$f":"I245","v":"w"},null,null,null,null,null,null,{"$f":"CONCATENATE(F245,\" \",G245,\" \",H245,\" \",I245,\"\",J245,\"\",K245,\" \",L245,\" \",M245,\" \",N245,\" \",O245,\" \",P245,\" \",Q245,\" \",R245)","v":"Change the subject of the formula k = w–8 to w     "},{"$f":"IF(G245=I245,NA(),\"\")","v":""},{"$f":"M245","v":"w"},"=",{"$f":"G245","v":"k"},"+",{"$f":"K245","v":8},null,null,{"$f":"IF(L245<0,NA(),\"\")","v":""},{"$f":"IF(OR(ISNA(U245),ISNA(V245),ISNA(W245),ISNA(X245),ISNA(Y245),ISNA(Z245),ISNA(AA245),ISNA(AB245),ISNA(AC245)),NA(),CONCATENATE(U245,V245,W245,X245,Y245,Z245,AA245,AB245))","v":"w=k+8"},{"$f":"IF(ISNA(AD245),FALSE,IF(C245=$B$1,Worksheet!$B$3,IF(C245=$C$1,Worksheet!$B$4,IF(C245=$D$1,Worksheet!$B$5,IF(C245=$C$2,Worksheet!$D$3,IF(C245=$D$2,Worksheet!$D$4,IF(C245=$E$2,Worksheet!$D$5,IF(C245=$C$3,Worksheet!$D$6,IF(C245=$B$3,Worksheet!$B$6,IF(C245=$D$3,Worksheet!$B$9,IF(C245=$E$3,Worksheet!$D$9,FALSE)))))))))))","v":true},{"$f":"IF(AE245,D245,\"\")","v":"Medium"},{"$f":"IF(AE245,COUNTIF($AF$5:AF245,AF245),\"X\")","v":106},{"$f":"CONCATENATE(AE245,AF245)","v":"TRUEMedium"}]
[{"$f":"CONCATENATE(AE246,D246,AG246)","v":"TRUEEasy91"},{"$f":"RAND()","v":0.96131380074894623},"Dec","Easy",124,"Take away:   ",{"$f":"RANDBETWEEN(4,10)","v":6},"–",{"$f":"RANDBETWEEN(2,5)+RANDBETWEEN(0,9)*0.1+RANDBETWEEN(1,9)*0.01","v":2.86},null,null,null,null,null,null,null,null,null,null,{"$f":"CONCATENATE(F246,\" \",G246,\" \",H246,\" \",I246,\" \",J246,\" \",K246,\" \",L246,\" \",M246,\" \",N246,\" \",O246,\" \",P246,\" \",Q246,\" \",R246)","v":"Take away:    6 – 2.86         "},{"$f":"G246-I246","v":3.14},null,null,null,null,null,null,null,{"$f":"IF(ISERROR(T246),NA(),\"\")","v":""},{"$f":"IF(OR(ISNA(U246),ISNA(V246),ISNA(W246),ISNA(X246),ISNA(Y246),ISNA(Z246),ISNA(AA246),ISNA(AB246),ISNA(AC246)),NA(),CONCATENATE(U246,V246,W246,X246,Y246,Z246,AA246,AB246))","v":"3.14"},{"$f":"IF(ISNA(AD246),FALSE,IF(C246=$B$1,Worksheet!$B$3,IF(C246=$C$1,Worksheet!$B$4,IF(C246=$D$1,Worksheet!$B$5,IF(C246=$C$2,Worksheet!$D$3,IF(C246=$D$2,Worksheet!$D$4,IF(C246=$E$2,Worksheet!$D$5,IF(C246=$C$3,Worksheet!$D$6,IF(C246=$B$3,Worksheet!$B$6,IF(C246=$D$3,Worksheet!$B$9,IF(C246=$E$3,Worksheet!$D$9,FALSE)))))))))))","v":true},{"$f":"IF(AE246,D246,\"\")","v":"Easy"},{"$f":"IF(AE246,COUNTIF($AF$5:AF246,AF246),\"X\")","v":91},{"$f":"CONCATENATE(AE246,AF246)","v":"TRUEEasy"}]
[{"$f":"CONCATENATE(AE247,D247,AG247)","v":"TRUEEasy92"},{"$f":"RAND()","v":0.10861950501815898},"%","Easy",269,"What is","66⅔%","of",{"$f":"3*RANDBETWEEN(11,99)*10^RANDBETWEEN(0,3)","v":294000},"?",null,null,null,null,null,null,null,null,null,{"$f":"CONCATENATE(F247,\" \",G247,\" \",H247,\" \",I247,\"\",J247,\" \",K247,\" \",L247,\" \",M247,\" \",N247,\" \",O247,\" \",P247,\" \",Q247,\" \",R247)","v":"What is 66⅔% of 294000?        "},{"$f":"I247/3*2","v":196000},null,null,null,null,null,null,null,{"$f":"IF(ISERROR(T247),NA(),\"\")","v":""},{"$f":"IF(OR(ISNA(U247),ISNA(V247),ISNA(W247),ISNA(X247),ISNA(Y247),ISNA(Z247),ISNA(AA247),ISNA(AB247),ISNA(AC247)),NA(),CONCATENATE(U247,V247,W247,X247,Y247,Z247,AA247,AB247))","v":"196000"},{"$f":"IF(ISNA(AD247),FALSE,IF(C247=$B$1,Worksheet!$B$3,IF(C247=$C$1,Worksheet!$B$4,IF(C247=$D$1,Worksheet!$B$5,IF(C247=$C$2,Worksheet!$D$3,IF(C247=$D$2,Worksheet!$D$4,IF(C247=$E$2,Worksheet!$D$5,IF(C247=$C$3,Worksheet!$D$6,IF(C247=$B$3,Worksheet!$B$6,IF(C247=$D$3,Worksheet!$B$9,IF(C247=$E$3,Worksheet!$D$9,FALSE)))))))))))","v":true},{"$f":"IF(AE247,D247,\"\")","v":"Easy"},{"$f":"IF(AE247,COUNTIF($AF$5:AF247,AF247),\"X\")","v":92},{"$f":"CONCATENATE(AE247,AF247)","v":"TRUEEasy"}]
[{"$f":"CONCATENATE(AE248,D248,AG248)","v":"TRUEEasy93"},{"$f":"RAND()","v":1.7346583963333662E-2},"Dec","Easy",251,"Multiply:   ",{"$f":"RANDBETWEEN(10,9999)","v":7551},"×",{"$f":"10^RANDBETWEEN(-2,-1)","v":0.1},null,null,null,null,null,null,null,null,null,null,{"$f":"CONCATENATE(F248,\" \",G248,\" \",H248,\" \",I248,\" \",J248,\" \",K248,\" \",L248,\" \",M248,\" \",N248,\" \",O248,\" \",P248,\" \",Q248,\" \",R248)","v":"Multiply:    7551 × 0.1         "},{"$f":"G248*I248","v":755.1},null,null,null,null,null,null,null,{"$f":"IF(ISERROR(T248),NA(),\"\")","v":""},{"$f":"IF(OR(ISNA(U248),ISNA(V248),ISNA(W248),ISNA(X248),ISNA(Y248),ISNA(Z248),ISNA(AA248),ISNA(AB248),ISNA(AC248)),NA(),CONCATENATE(U248,V248,W248,X248,Y248,Z248,AA248,AB248))","v":"755.1"},{"$f":"IF(ISNA(AD248),FALSE,IF(C248=$B$1,Worksheet!$B$3,IF(C248=$C$1,Worksheet!$B$4,IF(C248=$D$1,Worksheet!$B$5,IF(C248=$C$2,Worksheet!$D$3,IF(C248=$D$2,Worksheet!$D$4,IF(C248=$E$2,Worksheet!$D$5,IF(C248=$C$3,Worksheet!$D$6,IF(C248=$B$3,Worksheet!$B$6,IF(C248=$D$3,Worksheet!$B$9,IF(C248=$E$3,Worksheet!$D$9,FALSE)))))))))))","v":true},{"$f":"IF(AE248,D248,\"\")","v":"Easy"},{"$f":"IF(AE248,COUNTIF($AF$5:AF248,AF248),\"X\")","v":93},{"$f":"CONCATENATE(AE248,AF248)","v":"TRUEEasy"}]
[{"$f":"CONCATENATE(AE249,D249,AG249)","v":"TRUEMedium107"},{"$f":"RAND()","v":0.95503555522688355},"Alg","Medium",306,"Algebra.  If a =",{"$f":"RANDBETWEEN(-5,5)","v":-2},", b =",{"$f":"RANDBETWEEN(-5,5)","v":1},"and c =",{"$f":"RANDBETWEEN(-5,5)","v":1},", what is the value of",{"$f":"RANDBETWEEN(2,5)","v":4},"(a + b + c) ?",null,null,null,null,null,{"$f":"CONCATENATE(F249,\" \",G249,\" \",H249,\" \",I249,\" \",J249,\" \",K249,\" \",L249,\" \",M249,\"\",N249,\" \",O249,\" \",P249,\" \",Q249,\" \",R249)","v":"Algebra.  If a = -2 , b = 1 and c = 1 , what is the value of 4(a + b + c) ?    "},{"$f":"(G249+I249+K249)*M249","v":0},null,null,null,null,null,null,null,{"$f":"IF(ISERROR(T249),NA(),\"\")","v":""},{"$f":"IF(OR(ISNA(U249),ISNA(V249),ISNA(W249),ISNA(X249),ISNA(Y249),ISNA(Z249),ISNA(AA249),ISNA(AB249),ISNA(AC249)),NA(),CONCATENATE(U249,V249,W249,X249,Y249,Z249,AA249,AB249))","v":"0"},{"$f":"IF(ISNA(AD249),FALSE,IF(C249=$B$1,Worksheet!$B$3,IF(C249=$C$1,Worksheet!$B$4,IF(C249=$D$1,Worksheet!$B$5,IF(C249=$C$2,Worksheet!$D$3,IF(C249=$D$2,Worksheet!$D$4,IF(C249=$E$2,Worksheet!$D$5,IF(C249=$C$3,Worksheet!$D$6,IF(C249=$B$3,Worksheet!$B$6,IF(C249=$D$3,Worksheet!$B$9,IF(C249=$E$3,Worksheet!$D$9,FALSE)))))))))))","v":true},{"$f":"IF(AE249,D249,\"\")","v":"Medium"},{"$f":"IF(AE249,COUNTIF($AF$5:AF249,AF249),\"X\")","v":107},{"$f":"CONCATENATE(AE249,AF249)","v":"TRUEMedium"}]
[{"$f":"CONCATENATE(AE250,D250,AG250)","v":"TRUEEasy94"},{"$f":"RAND()","v":0.18971891345463598},"+-×÷","Easy",31,"Write down all the prime numbers between",{"$f":"RANDBETWEEN(1,5)*10","v":30},"and",{"$f":"G250+10","v":40},null,null,null,null,null,null,null,null,null,null,{"$f":"CONCATENATE(F250,\" \",G250,\" \",H250,\" \",I250,\" \",J250,\" \",K250,\" \",L250,\" \",M250,\" \",N250,\" \",O250,\" \",P250,\" \",Q250,\" \",R250)","v":"Write down all the prime numbers between 30 and 40         "},{"$f":"IF(G250=10,\"11, 13, 17 and 19\",IF(G250=20,\"23 and 29\",IF(G250=30,\"31 and 37\",IF(G250=40,\"41, 43 and 47\",\"53,59\"))))","v":"31 and 37"},null,null,null,null,null,null,null,{"$f":"IF(ISERROR(T250),NA(),\"\")","v":""},{"$f":"IF(OR(ISNA(U250),ISNA(V250),ISNA(W250),ISNA(X250),ISNA(Y250),ISNA(Z250),ISNA(AA250),ISNA(AB250),ISNA(AC250)),NA(),CONCATENATE(U250,V250,W250,X250,Y250,Z250,AA250,AB250))","v":"31 and 37"},{"$f":"IF(ISNA(AD250),FALSE,IF(C250=$B$1,Worksheet!$B$3,IF(C250=$C$1,Worksheet!$B$4,IF(C250=$D$1,Worksheet!$B$5,IF(C250=$C$2,Worksheet!$D$3,IF(C250=$D$2,Worksheet!$D$4,IF(C250=$E$2,Worksheet!$D$5,IF(C250=$C$3,Worksheet!$D$6,IF(C250=$B$3,Worksheet!$B$6,IF(C250=$D$3,Worksheet!$B$9,IF(C250=$E$3,Worksheet!$D$9,FALSE)))))))))))","v":true},{"$f":"IF(AE250,D250,\"\")","v":"Easy"},{"$f":"IF(AE250,COUNTIF($AF$5:AF250,AF250),\"X\")","v":94},{"$f":"CONCATENATE(AE250,AF250)","v":"TRUEEasy"}]
[{"$f":"CONCATENATE(AE251,D251,AG251)","v":"TRUEMedium108"},{"$f":"RAND()","v":0.12898360206248871},"Frac","Medium",87,"Write the topheavy fraction ",{"$f":"I251*RANDBETWEEN(1,10)+RANDBETWEEN(1,I251-1)","v":29},"/",{"$f":"RANDBETWEEN(4,10)","v":6},"as a mixed number.",{"$f":"IF(GCD(G251,I251)<>1,\"  Give your answer in its simplest form\",\"\")","v":""},null,null,null,null,null,null,null,null,{"$f":"CONCATENATE(F251,\" \",G251,\"\",H251,\"\",I251,\" \",J251,\" \",K251,\" \",L251,\" \",M251,\" \",N251,\" \",O251,\" \",P251,\" \",Q251,\" \",R251)","v":"Write the topheavy fraction  29/6 as a mixed number.        "},{"$f":"INT(G251/I251)","v":4}," ",{"$f":"TEXT(MOD(G251,I251)/I251,\"##/##\")","v":"5/6"},null,null,null,null,null,{"$f":"IF(ISERROR(T251),NA(),\"\")","v":""},{"$f":"IF(OR(ISNA(U251),ISNA(V251),ISNA(W251),ISNA(X251),ISNA(Y251),ISNA(Z251),ISNA(AA251),ISNA(AB251),ISNA(AC251)),NA(),CONCATENATE(U251,V251,W251,X251,Y251,Z251,AA251,AB251))","v":"4 5/6"},{"$f":"IF(ISNA(AD251),FALSE,IF(C251=$B$1,Worksheet!$B$3,IF(C251=$C$1,Worksheet!$B$4,IF(C251=$D$1,Worksheet!$B$5,IF(C251=$C$2,Worksheet!$D$3,IF(C251=$D$2,Worksheet!$D$4,IF(C251=$E$2,Worksheet!$D$5,IF(C251=$C$3,Worksheet!$D$6,IF(C251=$B$3,Worksheet!$B$6,IF(C251=$D$3,Worksheet!$B$9,IF(C251=$E$3,Worksheet!$D$9,FALSE)))))))))))","v":true},{"$f":"IF(AE251,D251,\"\")","v":"Medium"},{"$f":"IF(AE251,COUNTIF($AF$5:AF251,AF251),\"X\")","v":108},{"$f":"CONCATENATE(AE251,AF251)","v":"TRUEMedium"}]
[{"$f":"CONCATENATE(AE252,D252,AG252)","v":"TRUEEasy95"},{"$f":"RAND()","v":0.92959438247058657},"+-×÷","Easy",65,"Divide without a calculator: ",{"$f":"RANDBETWEEN(2,10)*5+RANDBETWEEN(1,4)","v":14},"÷",5,null,null,null,null,null,null,null,null,null,null,{"$f":"CONCATENATE(F252,\" \",G252,\" \",H252,\" \",I252,\" \",J252,\" \",K252,\" \",L252,\" \",M252,\" \",N252,\" \",O252,\" \",P252,\" \",Q252,\" \",R252)","v":"Divide without a calculator:  14 ÷ 5         "},{"$f":"G252/I252","v":2.8}," or ",{"$f":"TEXT(U252,\"# #/#\")","v":"2 4/5"},null,null,null,null,null,{"$f":"IF(ISERROR(T252),NA(),\"\")","v":""},{"$f":"IF(OR(ISNA(U252),ISNA(V252),ISNA(W252),ISNA(X252),ISNA(Y252),ISNA(Z252),ISNA(AA252),ISNA(AB252),ISNA(AC252)),NA(),CONCATENATE(U252,V252,W252,X252,Y252,Z252,AA252,AB252))","v":"2.8 or 2 4/5"},{"$f":"IF(ISNA(AD252),FALSE,IF(C252=$B$1,Worksheet!$B$3,IF(C252=$C$1,Worksheet!$B$4,IF(C252=$D$1,Worksheet!$B$5,IF(C252=$C$2,Worksheet!$D$3,IF(C252=$D$2,Worksheet!$D$4,IF(C252=$E$2,Worksheet!$D$5,IF(C252=$C$3,Worksheet!$D$6,IF(C252=$B$3,Worksheet!$B$6,IF(C252=$D$3,Worksheet!$B$9,IF(C252=$E$3,Worksheet!$D$9,FALSE)))))))))))","v":true},{"$f":"IF(AE252,D252,\"\")","v":"Easy"},{"$f":"IF(AE252,COUNTIF($AF$5:AF252,AF252),\"X\")","v":95},{"$f":"CONCATENATE(AE252,AF252)","v":"TRUEEasy"}]
[{"$f":"CONCATENATE(AE253,D253,AG253)","v":"TRUEEasy96"},{"$f":"RAND()","v":0.84266954198577826},"Round","Easy",171,"Round the number",{"$f":"ROUND(RAND()+RANDBETWEEN(1,9),4)","v":6.8132000000000001},"to",{"$f":"CHOOSE(RANDBETWEEN(1,2),\"two\",\"three\")","v":"two"},{"$f":"CONCATENATE(\"decimal place\",IF(I253=\"one\",\"\",\"s\"))","v":"decimal places"},null,null,null,null,null,null,null,null,null,{"$f":"CONCATENATE(F253,\" \",G253,\" \",H253,\" \",I253,\" \",J253,\" \",K253,\" \",L253,\" \",M253,\" \",N253,\" \",O253,\" \",P253,\" \",Q253,\" \",R253)","v":"Round the number 6.8132 to two decimal places        "},{"$f":"ROUND(G253,IF(I253=\"two\",2,3))","v":6.81},null,null,null,null,null,null,null,{"$f":"IF(ISERROR(T253),NA(),\"\")","v":""},{"$f":"IF(OR(ISNA(U253),ISNA(V253),ISNA(W253),ISNA(X253),ISNA(Y253),ISNA(Z253),ISNA(AA253),ISNA(AB253),ISNA(AC253)),NA(),CONCATENATE(U253,V253,W253,X253,Y253,Z253,AA253,AB253))","v":"6.81"},{"$f":"IF(ISNA(AD253),FALSE,IF(C253=$B$1,Worksheet!$B$3,IF(C253=$C$1,Worksheet!$B$4,IF(C253=$D$1,Worksheet!$B$5,IF(C253=$C$2,Worksheet!$D$3,IF(C253=$D$2,Worksheet!$D$4,IF(C253=$E$2,Worksheet!$D$5,IF(C253=$C$3,Worksheet!$D$6,IF(C253=$B$3,Worksheet!$B$6,IF(C253=$D$3,Worksheet!$B$9,IF(C253=$E$3,Worksheet!$D$9,FALSE)))))))))))","v":true},{"$f":"IF(AE253,D253,\"\")","v":"Easy"},{"$f":"IF(AE253,COUNTIF($AF$5:AF253,AF253),\"X\")","v":96},{"$f":"CONCATENATE(AE253,AF253)","v":"TRUEEasy"}]
[{"$f":"CONCATENATE(AE254,D254,AG254)","v":"TRUEMedium109"},{"$f":"RAND()","v":0.11105131768900012},"Dec","Medium",246,"Multiply:     ",{"$f":"RANDBETWEEN(1,9)+RANDBETWEEN(1,999)/1000","v":6.9139999999999997},"×",{"$f":"RANDBETWEEN(2,9)*10^RANDBETWEEN(1,2)","v":600},null,null,null,null,null,null,null,null,null,null,{"$f":"CONCATENATE(F254,\" \",G254,\" \",H254,\" \",I254,\" \",J254,\" \",K254,\" \",L254,\" \",M254,\" \",N254,\" \",O254,\" \",P254,\" \",Q254,\" \",R254)","v":"Multiply:      6.914 × 600         "},{"$f":"G254*I254","v":4148.3999999999996},null,null,null,null,null,null,null,{"$f":"IF(ISERROR(T254),NA(),\"\")","v":""},{"$f":"IF(OR(ISNA(U254),ISNA(V254),ISNA(W254),ISNA(X254),ISNA(Y254),ISNA(Z254),ISNA(AA254),ISNA(AB254),ISNA(AC254)),NA(),CONCATENATE(U254,V254,W254,X254,Y254,Z254,AA254,AB254))","v":"4148.4"},{"$f":"IF(ISNA(AD254),FALSE,IF(C254=$B$1,Worksheet!$B$3,IF(C254=$C$1,Worksheet!$B$4,IF(C254=$D$1,Worksheet!$B$5,IF(C254=$C$2,Worksheet!$D$3,IF(C254=$D$2,Worksheet!$D$4,IF(C254=$E$2,Worksheet!$D$5,IF(C254=$C$3,Worksheet!$D$6,IF(C254=$B$3,Worksheet!$B$6,IF(C254=$D$3,Worksheet!$B$9,IF(C254=$E$3,Worksheet!$D$9,FALSE)))))))))))","v":true},{"$f":"IF(AE254,D254,\"\")","v":"Medium"},{"$f":"IF(AE254,COUNTIF($AF$5:AF254,AF254),\"X\")","v":109},{"$f":"CONCATENATE(AE254,AF254)","v":"TRUEMedium"}]
[{"$f":"CONCATENATE(AE255,D255,AG255)","v":"TRUEMedium110"},{"$f":"RAND()","v":5.3852054775007874E-2},"Surds","Medium",45,"Simplify   √",{"$f":"CHOOSE(RANDBETWEEN(1,5),2,3,5,7,11)","v":5},"× ",{"$f":"G255","v":5},null,null,null,null,null,null,null,null,null,null,{"$f":"CONCATENATE(F255,\"\",G255,\" \",H255,\"\",I255,\" \",J255,\" \",K255,\" \",L255,\" \",M255,\" \",N255,\" \",O255,\" \",P255,\" \",Q255,\" \",R255)","v":"Simplify   √5 × 5         "},{"$f":"G255","v":5},"√",{"$f":"I255","v":5},null,null,null,null,null,{"$f":"IF(ISERROR(T255),NA(),\"\")","v":""},{"$f":"IF(OR(ISNA(U255),ISNA(V255),ISNA(W255),ISNA(X255),ISNA(Y255),ISNA(Z255),ISNA(AA255),ISNA(AB255),ISNA(AC255)),NA(),CONCATENATE(U255,V255,W255,X255,Y255,Z255,AA255,AB255))","v":"5√5"},{"$f":"IF(ISNA(AD255),FALSE,IF(C255=$B$1,Worksheet!$B$3,IF(C255=$C$1,Worksheet!$B$4,IF(C255=$D$1,Worksheet!$B$5,IF(C255=$C$2,Worksheet!$D$3,IF(C255=$D$2,Worksheet!$D$4,IF(C255=$E$2,Worksheet!$D$5,IF(C255=$C$3,Worksheet!$D$6,IF(C255=$B$3,Worksheet!$B$6,IF(C255=$D$3,Worksheet!$B$9,IF(C255=$E$3,Worksheet!$D$9,FALSE)))))))))))","v":true},{"$f":"IF(AE255,D255,\"\")","v":"Medium"},{"$f":"IF(AE255,COUNTIF($AF$5:AF255,AF255),\"X\")","v":110},{"$f":"CONCATENATE(AE255,AF255)","v":"TRUEMedium"}]
[{"$f":"CONCATENATE(AE256,D256,AG256)","v":"TRUEHard45"},{"$f":"RAND()","v":0.65825733625880911},"Dec","Hard",249,"Divide:   ",{"$f":"S256*(RANDBETWEEN(1,9)+RANDBETWEEN(1,99)*10)","v":2760},"÷",{"$f":"S256*10^RANDBETWEEN(2,3)","v":5000},null,null,null,null,null,null,null,null,null,{"$f":"RANDBETWEEN(2,9)","v":5},{"$f":"CONCATENATE(F256,\" \",G256,\" \",H256,\" \",I256,\" \",J256,\" \",K256,\" \",L256,\" \",M256,\" \",N256,\" \",O256,\" \",P256,\" \",Q256,\" \",R256)","v":"Divide:    2760 ÷ 5000         "},{"$f":"G256/I256","v":0.55200000000000005},null,null,null,null,null,null,null,{"$f":"IF(ISERROR(T256),NA(),\"\")","v":""},{"$f":"IF(OR(ISNA(U256),ISNA(V256),ISNA(W256),ISNA(X256),ISNA(Y256),ISNA(Z256),ISNA(AA256),ISNA(AB256),ISNA(AC256)),NA(),CONCATENATE(U256,V256,W256,X256,Y256,Z256,AA256,AB256))","v":"0.552"},{"$f":"IF(ISNA(AD256),FALSE,IF(C256=$B$1,Worksheet!$B$3,IF(C256=$C$1,Worksheet!$B$4,IF(C256=$D$1,Worksheet!$B$5,IF(C256=$C$2,Worksheet!$D$3,IF(C256=$D$2,Worksheet!$D$4,IF(C256=$E$2,Worksheet!$D$5,IF(C256=$C$3,Worksheet!$D$6,IF(C256=$B$3,Worksheet!$B$6,IF(C256=$D$3,Worksheet!$B$9,IF(C256=$E$3,Worksheet!$D$9,FALSE)))))))))))","v":true},{"$f":"IF(AE256,D256,\"\")","v":"Hard"},{"$f":"IF(AE256,COUNTIF($AF$5:AF256,AF256),\"X\")","v":45},{"$f":"CONCATENATE(AE256,AF256)","v":"TRUEHard"}]
[{"$f":"CONCATENATE(AE257,D257,AG257)","v":"TRUEMedium111"},{"$f":"RAND()","v":0.131936500884686},"Eqn","Medium",323,"Solve the equation",{"$f":"RANDBETWEEN(2,10)","v":8},{"$f":"CHOOSE(RANDBETWEEN(1,22),\"a\",\"b\",\"c\",\"d\",\"f\",\"g\",\"h\",\"j\",\"k\",\"m\",\"n\",\"p\",\"q\",\"r\",\"s\",\"t\",\"u\",\"v\",\"w\",\"x\",\"y\",\"z\")","v":"x"},"+",{"$f":"RANDBETWEEN(1,10)","v":1},"=",{"$f":"G257*(W257/Y257)+J257","v":47},".      Show your working in full and give your answer as a fraction.",null,null,null,null,null,null,{"$f":"CONCATENATE(F257,\" \",G257,\"\",H257,\" \",I257,\" \",J257,\" \",K257,\" \",L257,\" \",M257,\" \",N257,\" \",O257,\" \",P257,\" \",Q257,\" \",R257)","v":"Solve the equation 8x + 1 = 47 .      Show your working in full and give your answer as a fraction.     "},{"$f":"H257","v":"x"}," = ",{"$f":"AB257*G257+AA257","v":46},"/",{"$f":"G257","v":8},null,{"$f":"RANDBETWEEN(1,G257)","v":6},{"$f":"RANDBETWEEN(1,10)","v":5},{"$f":"IF(ISERROR(T257),NA(),\"\")","v":""},{"$f":"IF(OR(ISNA(U257),ISNA(V257),ISNA(W257),ISNA(X257),ISNA(Y257),ISNA(Z257),ISNA(AA257),ISNA(AB257),ISNA(AC257)),NA(),CONCATENATE(U257,V257,W257,X257,Y257,Z257))","v":"x = 46/8"},{"$f":"IF(ISNA(AD257),FALSE,IF(C257=$B$1,Worksheet!$B$3,IF(C257=$C$1,Worksheet!$B$4,IF(C257=$D$1,Worksheet!$B$5,IF(C257=$C$2,Worksheet!$D$3,IF(C257=$D$2,Worksheet!$D$4,IF(C257=$E$2,Worksheet!$D$5,IF(C257=$C$3,Worksheet!$D$6,IF(C257=$B$3,Worksheet!$B$6,IF(C257=$D$3,Worksheet!$B$9,IF(C257=$E$3,Worksheet!$D$9,FALSE)))))))))))","v":true},{"$f":"IF(AE257,D257,\"\")","v":"Medium"},{"$f":"IF(AE257,COUNTIF($AF$5:AF257,AF257),\"X\")","v":111},{"$f":"CONCATENATE(AE257,AF257)","v":"TRUEMedium"}]
[{"$f":"CONCATENATE(AE258,D258,AG258)","v":"TRUEEasy97"},{"$f":"RAND()","v":0.86510211317903785},"Dec","Easy",164,"What is two thirds (2/3) as a decimal?",null,null,null,null,null,null,null,null,null,null,null,null,null,{"$f":"CONCATENATE(F258,\" \",G258,\" \",H258,\" \",I258,\" \",J258,\" \",K258,\" \",L258,\" \",M258,\" \",N258,\" \",O258,\" \",P258,\" \",Q258,\" \",R258)","v":"What is two thirds (2/3) as a decimal?            "},"0.6666…  (0.66 recurring)",null,null,null,null,null,null,null,{"$f":"IF(ISERROR(T258),NA(),\"\")","v":""},{"$f":"IF(OR(ISNA(U258),ISNA(V258),ISNA(W258),ISNA(X258),ISNA(Y258),ISNA(Z258),ISNA(AA258),ISNA(AB258),ISNA(AC258)),NA(),CONCATENATE(U258,V258,W258,X258,Y258,Z258,AA258,AB258))","v":"0.6666…  (0.66 recurring)"},{"$f":"IF(ISNA(AD258),FALSE,IF(C258=$B$1,Worksheet!$B$3,IF(C258=$C$1,Worksheet!$B$4,IF(C258=$D$1,Worksheet!$B$5,IF(C258=$C$2,Worksheet!$D$3,IF(C258=$D$2,Worksheet!$D$4,IF(C258=$E$2,Worksheet!$D$5,IF(C258=$C$3,Worksheet!$D$6,IF(C258=$B$3,Worksheet!$B$6,IF(C258=$D$3,Worksheet!$B$9,IF(C258=$E$3,Worksheet!$D$9,FALSE)))))))))))","v":true},{"$f":"IF(AE258,D258,\"\")","v":"Easy"},{"$f":"IF(AE258,COUNTIF($AF$5:AF258,AF258),\"X\")","v":97},{"$f":"CONCATENATE(AE258,AF258)","v":"TRUEEasy"}]
[{"$f":"CONCATENATE(AE259,D259,AG259)","v":"TRUEEasy98"},{"$f":"RAND()","v":0.5058403018838975},"Neg","Easy",221,"Take away:   ",{"$f":"RANDBETWEEN(10,30)","v":11},"– (–",{"$f":"RANDBETWEEN(5,15)","v":14},")",null,null,null,null,null,null,null,null,null,{"$f":"CONCATENATE(F259,\" \",G259,\" \",H259,\"\",I259,\"\",J259,\"\",K259,\" \",L259,\" \",M259,\" \",N259,\" \",O259,\" \",P259,\" \",Q259,\" \",R259)","v":"Take away:    11 – (–14)       "},{"$f":"G259+I259","v":25},null,null,null,null,null,null,null,{"$f":"IF(ISERROR(T259),NA(),\"\")","v":""},{"$f":"IF(OR(ISNA(U259),ISNA(V259),ISNA(W259),ISNA(X259),ISNA(Y259),ISNA(Z259),ISNA(AA259),ISNA(AB259),ISNA(AC259)),NA(),CONCATENATE(U259,V259,W259,X259,Y259,Z259,AA259,AB259))","v":"25"},{"$f":"IF(ISNA(AD259),FALSE,IF(C259=$B$1,Worksheet!$B$3,IF(C259=$C$1,Worksheet!$B$4,IF(C259=$D$1,Worksheet!$B$5,IF(C259=$C$2,Worksheet!$D$3,IF(C259=$D$2,Worksheet!$D$4,IF(C259=$E$2,Worksheet!$D$5,IF(C259=$C$3,Worksheet!$D$6,IF(C259=$B$3,Worksheet!$B$6,IF(C259=$D$3,Worksheet!$B$9,IF(C259=$E$3,Worksheet!$D$9,FALSE)))))))))))","v":true},{"$f":"IF(AE259,D259,\"\")","v":"Easy"},{"$f":"IF(AE259,COUNTIF($AF$5:AF259,AF259),\"X\")","v":98},{"$f":"CONCATENATE(AE259,AF259)","v":"TRUEEasy"}]
[{"$f":"CONCATENATE(AE260,D260,AG260)","v":"TRUEHard46"},{"$f":"RAND()","v":0.2101357522968631},"Frac","Hard",104,"Add the fractions:  ",{"$f":"IF(I260=4,CHOOSE(RANDBETWEEN(1,2),1,3),RANDBETWEEN(1,I260-1))","v":4},"/",{"$f":"RANDBETWEEN(9,20)","v":20},"+",{"$f":"RANDBETWEEN(1,M260-1)","v":3},"/",{"$f":"RANDBETWEEN(9,20)","v":20},{"$f":"IF(GCD(G260*M260+I260*K260,I260*M260)=1,\"\",\",    giving your answer in its simplest form\")","v":",    giving your answer in its simplest form"},null,null,null,null,null,{"$f":"CONCATENATE(F260,\" \",G260,\"\",H260,\"\",I260,\" \",J260,\" \",K260,\"\",L260,\"\",M260,\" \",N260,\"       \",O260,\" \",P260,\" \",Q260,\" \",R260)","v":"Add the fractions:   4/20 + 3/20 ,    giving your answer in its simplest form          "},{"$f":"(G260*M260+I260*K260)/GCD(G260*M260+I260*K260,I260*M260)","v":7},"/",{"$f":"I260*M260/GCD(G260*M260+I260*K260,I260*M260)","v":20},{"$f":"IF(INT(G260*M260+I260*K260/GCD(G260*M260+I260*K260,I260*M260))=G260*M260+I260*K260/GCD(G260*M260+I260*K260,I260*M260),\"\",NA())","v":""},null,null,null,null,{"$f":"IF(ISERROR(T260),NA(),\"\")","v":""},{"$f":"IF(OR(ISNA(U260),ISNA(V260),ISNA(W260),ISNA(X260),ISNA(Y260),ISNA(Z260),ISNA(AA260),ISNA(AB260),ISNA(AC260)),NA(),CONCATENATE(U260,V260,W260,X260,Y260,Z260,AA260,AB260))","v":"7/20"},{"$f":"IF(ISNA(AD260),FALSE,IF(C260=$B$1,Worksheet!$B$3,IF(C260=$C$1,Worksheet!$B$4,IF(C260=$D$1,Worksheet!$B$5,IF(C260=$C$2,Worksheet!$D$3,IF(C260=$D$2,Worksheet!$D$4,IF(C260=$E$2,Worksheet!$D$5,IF(C260=$C$3,Worksheet!$D$6,IF(C260=$B$3,Worksheet!$B$6,IF(C260=$D$3,Worksheet!$B$9,IF(C260=$E$3,Worksheet!$D$9,FALSE)))))))))))","v":true},{"$f":"IF(AE260,D260,\"\")","v":"Hard"},{"$f":"IF(AE260,COUNTIF($AF$5:AF260,AF260),\"X\")","v":46},{"$f":"CONCATENATE(AE260,AF260)","v":"TRUEHard"}]
[{"$f":"CONCATENATE(AE261,D261,AG261)","v":"TRUEMedium112"},{"$f":"RAND()","v":0.44546791234194616},"Surds","Medium",50,"Simplify      ",{"$f":"RANDBETWEEN(2,10)","v":6},"√",{"$f":"CHOOSE(RANDBETWEEN(1,4),2,3,5,7)","v":5},"+",{"$f":"RANDBETWEEN(2,10)","v":4},"√",{"$f":"I261","v":5},null,null,null,null,null,null,{"$f":"CONCATENATE(F261,\"\",G261,\"\",H261,\"\",I261,\" \",J261,\" \",K261,\"\",L261,\"\",M261,\" \",N261,\" \",O261,\" \",P261,\" \",Q261,\" \",R261)","v":"Simplify      6√5 + 4√5     "},{"$f":"G261+K261","v":10},"√",{"$f":"I261","v":5},null,null,null,null,null,{"$f":"IF(ISERROR(T261),NA(),\"\")","v":""},{"$f":"IF(OR(ISNA(U261),ISNA(V261),ISNA(W261),ISNA(X261),ISNA(Y261),ISNA(Z261),ISNA(AA261),ISNA(AB261),ISNA(AC261)),NA(),CONCATENATE(U261,V261,W261,X261,Y261,Z261,AA261,AB261))","v":"10√5"},{"$f":"IF(ISNA(AD261),FALSE,IF(C261=$B$1,Worksheet!$B$3,IF(C261=$C$1,Worksheet!$B$4,IF(C261=$D$1,Worksheet!$B$5,IF(C261=$C$2,Worksheet!$D$3,IF(C261=$D$2,Worksheet!$D$4,IF(C261=$E$2,Worksheet!$D$5,IF(C261=$C$3,Worksheet!$D$6,IF(C261=$B$3,Worksheet!$B$6,IF(C261=$D$3,Worksheet!$B$9,IF(C261=$E$3,Worksheet!$D$9,FALSE)))))))))))","v":true},{"$f":"IF(AE261,D261,\"\")","v":"Medium"},{"$f":"IF(AE261,COUNTIF($AF$5:AF261,AF261),\"X\")","v":112},{"$f":"CONCATENATE(AE261,AF261)","v":"TRUEMedium"}]
[{"$f":"CONCATENATE(AE262,D262,AG262)","v":"TRUEEasy99"},{"$f":"RAND()","v":0.4613481590393792},"+-×÷","Easy",70,"Divide",{"$f":"S262*RANDBETWEEN(3,20)","v":48},"/","(",{"$f":"IF(K262=\"+\",S262-L262,S262+L262)","v":16},{"$f":"CHOOSE(RANDBETWEEN(1,2),\"+\",\"–\")","v":"–"},{"$f":"IF(K262=\"+\",RANDBETWEEN(1,S262-1),RANDBETWEEN(1,20))","v":8},")",null,null,null,null,null,{"$f":"RANDBETWEEN(3,9)","v":8},{"$f":"CONCATENATE(F262,\" \",G262,\" \",H262,\" \",I262,\" \",J262,\" \",K262,\" \",L262,\" \",M262,\" \",N262,\" \",O262,\" \",P262,\" \",Q262,\" \",R262)","v":"Divide 48 / ( 16 – 8 )     "},{"$f":"IF(K262=\"+\",G262/(J262+L262),G262/(J262-L262))","v":6},null,null,null,null,null,null,null,{"$f":"IF(ISERROR(T262),NA(),\"\")","v":""},{"$f":"IF(OR(ISNA(U262),ISNA(V262),ISNA(W262),ISNA(X262),ISNA(Y262),ISNA(Z262),ISNA(AA262),ISNA(AB262),ISNA(AC262)),NA(),CONCATENATE(U262,V262,W262,X262,Y262,Z262,AA262,AB262))","v":"6"},{"$f":"IF(ISNA(AD262),FALSE,IF(C262=$B$1,Worksheet!$B$3,IF(C262=$C$1,Worksheet!$B$4,IF(C262=$D$1,Worksheet!$B$5,IF(C262=$C$2,Worksheet!$D$3,IF(C262=$D$2,Worksheet!$D$4,IF(C262=$E$2,Worksheet!$D$5,IF(C262=$C$3,Worksheet!$D$6,IF(C262=$B$3,Worksheet!$B$6,IF(C262=$D$3,Worksheet!$B$9,IF(C262=$E$3,Worksheet!$D$9,FALSE)))))))))))","v":true},{"$f":"IF(AE262,D262,\"\")","v":"Easy"},{"$f":"IF(AE262,COUNTIF($AF$5:AF262,AF262),\"X\")","v":99},{"$f":"CONCATENATE(AE262,AF262)","v":"TRUEEasy"}]
[{"$f":"CONCATENATE(AE263,D263,AG263)","v":"TRUEMedium113"},{"$f":"RAND()","v":0.55071565921122201},"Surds","Medium",44,"Simplify   √",{"$f":"CHOOSE(RANDBETWEEN(1,7),2,3,5,7,11,13,17)","v":7},"× √",{"$f":"G263","v":7},null,null,null,null,null,null,null,null,null,null,{"$f":"CONCATENATE(F263,\"\",G263,\" \",H263,\"\",I263,\" \",J263,\" \",K263,\" \",L263,\" \",M263,\" \",N263,\" \",O263,\" \",P263,\" \",Q263,\" \",R263)","v":"Simplify   √7 × √7         "},{"$f":"G263","v":7},null,null,null,null,null,null,null,{"$f":"IF(ISERROR(T263),NA(),\"\")","v":""},{"$f":"IF(OR(ISNA(U263),ISNA(V263),ISNA(W263),ISNA(X263),ISNA(Y263),ISNA(Z263),ISNA(AA263),ISNA(AB263),ISNA(AC263)),NA(),CONCATENATE(U263,V263,W263,X263,Y263,Z263,AA263,AB263))","v":"7"},{"$f":"IF(ISNA(AD263),FALSE,IF(C263=$B$1,Worksheet!$B$3,IF(C263=$C$1,Worksheet!$B$4,IF(C263=$D$1,Worksheet!$B$5,IF(C263=$C$2,Worksheet!$D$3,IF(C263=$D$2,Worksheet!$D$4,IF(C263=$E$2,Worksheet!$D$5,IF(C263=$C$3,Worksheet!$D$6,IF(C263=$B$3,Worksheet!$B$6,IF(C263=$D$3,Worksheet!$B$9,IF(C263=$E$3,Worksheet!$D$9,FALSE)))))))))))","v":true},{"$f":"IF(AE263,D263,\"\")","v":"Medium"},{"$f":"IF(AE263,COUNTIF($AF$5:AF263,AF263),\"X\")","v":113},{"$f":"CONCATENATE(AE263,AF263)","v":"TRUEMedium"}]
[{"$f":"CONCATENATE(AE264,D264,AG264)","v":"FALSEEasyX"},{"$f":"RAND()","v":0.10152749195154387},"+-×÷","Easy",150,"Take away by writing down a sum:   ",{"$f":"RANDBETWEEN(1,9)","v":1},"–",{"$f":"RANDBETWEEN(1,FLOOR(G264,1))+RANDBETWEEN(0,9)*0.1+RANDBETWEEN(0,9)*0.01+RANDBETWEEN(1,9)*0.001","v":1.554},null,null,null,null,null,null,null,null,null,null,{"$f":"CONCATENATE(F264,\" \",G264,\" \",H264,\" \",I264,\" \",J264,\" \",K264,\" \",L264,\" \",M264,\" \",N264,\" \",O264,\" \",P264,\" \",Q264,\" \",R264)","v":"Take away by writing down a sum:    1 – 1.554         "},{"$f":"ROUND(G264-I264,3)","v":-0.55400000000000005},{"$f":"IF(U264<0,NA(),\"\")","v":{"$error":"#N/A"}},null,null,null,null,null,null,{"$f":"IF(ISERROR(T264),NA(),\"\")","v":""},{"$f":"IF(OR(ISNA(U264),ISNA(V264),ISNA(W264),ISNA(X264),ISNA(Y264),ISNA(Z264),ISNA(AA264),ISNA(AB264),ISNA(AC264)),NA(),CONCATENATE(U264,V264,W264,X264,Y264,Z264,AA264,AB264))","v":{"$error":"#N/A"}},{"$f":"IF(ISNA(AD264),FALSE,IF(C264=$B$1,Worksheet!$B$3,IF(C264=$C$1,Worksheet!$B$4,IF(C264=$D$1,Worksheet!$B$5,IF(C264=$C$2,Worksheet!$D$3,IF(C264=$D$2,Worksheet!$D$4,IF(C264=$E$2,Worksheet!$D$5,IF(C264=$C$3,Worksheet!$D$6,IF(C264=$B$3,Worksheet!$B$6,IF(C264=$D$3,Worksheet!$B$9,IF(C264=$E$3,Worksheet!$D$9,FALSE)))))))))))","v":false},{"$f":"IF(AE264,D264,\"\")","v":""},{"$f":"IF(AE264,COUNTIF($AF$5:AF264,AF264),\"X\")","v":"X"},{"$f":"CONCATENATE(AE264,AF264)","v":"FALSE"}]
[{"$f":"CONCATENATE(AE265,D265,AG265)","v":"TRUEEasy100"},{"$f":"RAND()","v":0.55816177477361961},"%","Easy",259,"Write",{"$f":"4*RANDBETWEEN(1,24)","v":40},"%","as a fraction in its simplest form",null,null,null,null,null,null,null,null,null,null,{"$f":"CONCATENATE(F265,\" \",G265,\"\",H265,\" \",I265,\" \",J265,\" \",K265,\" \",L265,\" \",M265,\" \",N265,\" \",O265,\" \",P265,\" \",Q265,\" \",R265)","v":"Write 40% as a fraction in its simplest form         "},{"$f":"TEXT(G265/100,\"##/###\")","v":"2/5"},null,null,null,null,null,null,null,{"$f":"IF(ISERROR(T265),NA(),\"\")","v":""},{"$f":"IF(OR(ISNA(U265),ISNA(V265),ISNA(W265),ISNA(X265),ISNA(Y265),ISNA(Z265),ISNA(AA265),ISNA(AB265),ISNA(AC265)),NA(),CONCATENATE(U265,V265,W265,X265,Y265,Z265,AA265,AB265))","v":"2/5"},{"$f":"IF(ISNA(AD265),FALSE,IF(C265=$B$1,Worksheet!$B$3,IF(C265=$C$1,Worksheet!$B$4,IF(C265=$D$1,Worksheet!$B$5,IF(C265=$C$2,Worksheet!$D$3,IF(C265=$D$2,Worksheet!$D$4,IF(C265=$E$2,Worksheet!$D$5,IF(C265=$C$3,Worksheet!$D$6,IF(C265=$B$3,Worksheet!$B$6,IF(C265=$D$3,Worksheet!$B$9,IF(C265=$E$3,Worksheet!$D$9,FALSE)))))))))))","v":true},{"$f":"IF(AE265,D265,\"\")","v":"Easy"},{"$f":"IF(AE265,COUNTIF($AF$5:AF265,AF265),\"X\")","v":100},{"$f":"CONCATENATE(AE265,AF265)","v":"TRUEEasy"}]
[{"$f":"CONCATENATE(AE266,D266,AG266)","v":"TRUEHard47"},{"$f":"RAND()","v":0.55141889731243365},"Dec","Hard",208,"Write the number",{"$f":"RANDBETWEEN(1,9)+RANDBETWEEN(1,99)/100","v":9.5399999999999991},"in standard form",null,null,null,null,null,null,null,null,null,null,null,{"$f":"CONCATENATE(F266,\" \",G266,\" \",H266,\" \",I266,\" \",J266,\" \",K266,\" \",L266,\" \",M266,\" \",N266,\" \",O266,\" \",P266,\" \",Q266,\" \",R266)","v":"Write the number 9.54 in standard form          "},{"$f":"G266","v":9.5399999999999991},"× 10^0  (10 to the power of 0)",null,null,null,null,null,null,{"$f":"IF(ISERROR(T266),NA(),\"\")","v":""},{"$f":"IF(OR(ISNA(U266),ISNA(V266),ISNA(W266),ISNA(X266),ISNA(Y266),ISNA(Z266),ISNA(AA266),ISNA(AB266),ISNA(AC266)),NA(),CONCATENATE(U266,V266,W266,X266,Y266,Z266,AA266,AB266))","v":"9.54× 10^0  (10 to the power of 0)"},{"$f":"IF(ISNA(AD266),FALSE,IF(C266=$B$1,Worksheet!$B$3,IF(C266=$C$1,Worksheet!$B$4,IF(C266=$D$1,Worksheet!$B$5,IF(C266=$C$2,Worksheet!$D$3,IF(C266=$D$2,Worksheet!$D$4,IF(C266=$E$2,Worksheet!$D$5,IF(C266=$C$3,Worksheet!$D$6,IF(C266=$B$3,Worksheet!$B$6,IF(C266=$D$3,Worksheet!$B$9,IF(C266=$E$3,Worksheet!$D$9,FALSE)))))))))))","v":true},{"$f":"IF(AE266,D266,\"\")","v":"Hard"},{"$f":"IF(AE266,COUNTIF($AF$5:AF266,AF266),\"X\")","v":47},{"$f":"CONCATENATE(AE266,AF266)","v":"TRUEHard"}]
[{"$f":"CONCATENATE(AE267,D267,AG267)","v":"TRUEMedium114"},{"$f":"RAND()","v":0.70594879445901693},"%","Medium",297,"What is seven eighths (7/8) as a percentage?",null,null,null,null,null,null,null,null,null,null,null,null,null,{"$f":"CONCATENATE(F267,\" \",G267,\" \",H267,\" \",I267,\" \",J267,\" \",K267,\" \",L267,\" \",M267,\" \",N267,\" \",O267,\" \",P267,\" \",Q267,\" \",R267)","v":"What is seven eighths (7/8) as a percentage?            "},"87.5%",null,null,null,null,null,null,null,{"$f":"IF(ISERROR(T267),NA(),\"\")","v":""},{"$f":"IF(OR(ISNA(U267),ISNA(V267),ISNA(W267),ISNA(X267),ISNA(Y267),ISNA(Z267),ISNA(AA267),ISNA(AB267),ISNA(AC267)),NA(),CONCATENATE(U267,V267,W267,X267,Y267,Z267,AA267,AB267))","v":"87.5%"},{"$f":"IF(ISNA(AD267),FALSE,IF(C267=$B$1,Worksheet!$B$3,IF(C267=$C$1,Worksheet!$B$4,IF(C267=$D$1,Worksheet!$B$5,IF(C267=$C$2,Worksheet!$D$3,IF(C267=$D$2,Worksheet!$D$4,IF(C267=$E$2,Worksheet!$D$5,IF(C267=$C$3,Worksheet!$D$6,IF(C267=$B$3,Worksheet!$B$6,IF(C267=$D$3,Worksheet!$B$9,IF(C267=$E$3,Worksheet!$D$9,FALSE)))))))))))","v":true},{"$f":"IF(AE267,D267,\"\")","v":"Medium"},{"$f":"IF(AE267,COUNTIF($AF$5:AF267,AF267),\"X\")","v":114},{"$f":"CONCATENATE(AE267,AF267)","v":"TRUEMedium"}]
[{"$f":"CONCATENATE(AE268,D268,AG268)","v":"TRUEMedium115"},{"$f":"RAND()","v":0.665670580981094},"Frac","Medium",97,"Add the fractions:  ",{"$f":"IF(I268=4,CHOOSE(RANDBETWEEN(1,2),1,3),RANDBETWEEN(1,I268-1))","v":1},"/",{"$f":"RANDBETWEEN(5,8)","v":5},"+",{"$f":"RANDBETWEEN(1,M268-1)","v":2},"/",{"$f":"SMALL(IF(I268={5,6,7,8},\"\",{5,6,7,8}),RANDBETWEEN(1,3))","v":7},{"$f":"IF(GCD(G268*M268+I268*K268,I268*M268)=1,\"\",\",    giving your answer in its simplest form\")","v":""},null,null,null,null,null,{"$f":"CONCATENATE(F268,\" \",G268,\"\",H268,\"\",I268,\" \",J268,\" \",K268,\"\",L268,\"\",M268,\" \",N268,\"       \",O268,\" \",P268,\" \",Q268,\" \",R268)","v":"Add the fractions:   1/5 + 2/7           "},{"$f":"(G268*M268+I268*K268)/GCD(G268*M268+I268*K268,I268*M268)","v":17},"/",{"$f":"I268*M268/GCD(G268*M268+I268*K268,I268*M268)","v":35},{"$f":"IF(INT(G268*M268+I268*K268/GCD(G268*M268+I268*K268,I268*M268))=G268*M268+I268*K268/GCD(G268*M268+I268*K268,I268*M268),\"\",NA())","v":""},null,null,null,null,{"$f":"IF(ISERROR(T268),NA(),\"\")","v":""},{"$f":"IF(OR(ISNA(U268),ISNA(V268),ISNA(W268),ISNA(X268),ISNA(Y268),ISNA(Z268),ISNA(AA268),ISNA(AB268),ISNA(AC268)),NA(),CONCATENATE(U268,V268,W268,X268,Y268,Z268,AA268,AB268))","v":"17/35"},{"$f":"IF(ISNA(AD268),FALSE,IF(C268=$B$1,Worksheet!$B$3,IF(C268=$C$1,Worksheet!$B$4,IF(C268=$D$1,Worksheet!$B$5,IF(C268=$C$2,Worksheet!$D$3,IF(C268=$D$2,Worksheet!$D$4,IF(C268=$E$2,Worksheet!$D$5,IF(C268=$C$3,Worksheet!$D$6,IF(C268=$B$3,Worksheet!$B$6,IF(C268=$D$3,Worksheet!$B$9,IF(C268=$E$3,Worksheet!$D$9,FALSE)))))))))))","v":true},{"$f":"IF(AE268,D268,\"\")","v":"Medium"},{"$f":"IF(AE268,COUNTIF($AF$5:AF268,AF268),\"X\")","v":115},{"$f":"CONCATENATE(AE268,AF268)","v":"TRUEMedium"}]
[{"$f":"CONCATENATE(AE269,D269,AG269)","v":"TRUEEasy101"},{"$f":"RAND()","v":0.73074498072644578},"Num","Easy",92,"Rewrite the fractions in order from ",{"$f":"IF(RAND()<0.5,\"smallest to biggest:   \",\"biggest to smallest:   \")","v":"smallest to biggest:   "},{"$f":"CONCATENATE(CHOOSE(RANDBETWEEN(1,3),3,7,9),\"/\",10)","v":"7/10"},{"$f":"CONCATENATE(CHOOSE(RANDBETWEEN(1,4),1,2,3,4),\"/\",5)","v":"2/5"},{"$f":"CONCATENATE(CHOOSE(RANDBETWEEN(1,2),1,3),\"/\",4)","v":"1/4"},"1/2",null,null,null,{"$f":"VALUE(LEFT(H269,1))/10","v":0.7},{"$f":"VALUE(LEFT(I269,1))/5","v":0.4},{"$f":"VALUE(LEFT(J269,1))/4","v":0.25},0.5,{"$f":"RANDBETWEEN(1,4)","v":2},{"$f":"CONCATENATE(F269,\" \",G269,\" \",H269,\",   \",I269,\",   \",J269,\",    \",K269,\" \",L269,\" \",M269)","v":"Rewrite the fractions in order from  smallest to biggest:    7/10,   2/5,   1/4,    1/2  "},{"$f":"IF(LARGE($O269:$R269,IF($G269=\"biggest to smallest:   \",1,4))=$O269,$H269,IF(LARGE($O269:$R269,IF($G269=\"biggest to smallest:   \",1,4))=$P269,$I269,IF(LARGE($O269:$R269,IF($G269=\"biggest to smallest:   \",1,4))=$Q269,$J269,$K269)))","v":"1/4"},{"$f":"IF(LARGE($O269:$R269,IF($G269=\"biggest to smallest:   \",2,3))=$O269,$H269,IF(LARGE($O269:$R269,IF($G269=\"biggest to smallest:   \",2,3))=$P269,$I269,IF(LARGE($O269:$R269,IF($G269=\"biggest to smallest:   \",2,3))=$Q269,$J269,$K269)))","v":"2/5"},{"$f":"IF(LARGE($O269:$R269,IF($G269=\"biggest to smallest:   \",3,2))=$O269,$H269,IF(LARGE($O269:$R269,IF($G269=\"biggest to smallest:   \",3,2))=$P269,$I269,IF(LARGE($O269:$R269,IF($G269=\"biggest to smallest:   \",3,2))=$Q269,$J269,$K269)))","v":"1/2"},{"$f":"IF(LARGE($O269:$R269,IF($G269=\"biggest to smallest:   \",4,1))=$O269,$H269,IF(LARGE($O269:$R269,IF($G269=\"biggest to smallest:   \",4,1))=$P269,$I269,IF(LARGE($O269:$R269,IF($G269=\"biggest to smallest:   \",4,1))=$Q269,$J269,$K269)))","v":"7/10"},null,null,null,null,{"$f":"IF(ISERROR(T269),NA(),\"\")","v":""},{"$f":"IF(OR(ISNA(U269),ISNA(V269),ISNA(W269),ISNA(X269),ISNA(Y269)),NA(),CONCATENATE(U269,\",   \",V269,\",   \",W269,\",   \",X269,Y269,Z269,AA269,AB269,AC269))","v":"1/4,   2/5,   1/2,   7/10"},{"$f":"IF(ISNA(AD269),FALSE,IF(C269=$B$1,Worksheet!$B$3,IF(C269=$C$1,Worksheet!$B$4,IF(C269=$D$1,Worksheet!$B$5,IF(C269=$C$2,Worksheet!$D$3,IF(C269=$D$2,Worksheet!$D$4,IF(C269=$E$2,Worksheet!$D$5,IF(C269=$C$3,Worksheet!$D$6,IF(C269=$B$3,Worksheet!$B$6,IF(C269=$D$3,Worksheet!$B$9,IF(C269=$E$3,Worksheet!$D$9,FALSE)))))))))))","v":true},{"$f":"IF(AE269,D269,\"\")","v":"Easy"},{"$f":"IF(AE269,COUNTIF($AF$5:AF269,AF269),\"X\")","v":101},{"$f":"CONCATENATE(AE269,AF269)","v":"TRUEEasy"}]
[{"$f":"CONCATENATE(AE270,D270,AG270)","v":"TRUEEasy102"},{"$f":"RAND()","v":0.22555303150075878},"Surds","Easy",40,"What is 2 to the power of ",{"$f":"RANDBETWEEN(6,10)","v":9},"?     ( 2 ^ ",{"$f":"G270","v":9},")",null,null,null,null,null,null,null,null,null,{"$f":"CONCATENATE(F270,\" \",G270,\" \",H270,\" \",I270,\" \",J270,\" \",K270,\" \",L270,\" \",M270,\" \",N270,\" \",O270,\" \",P270,\" \",Q270,\" \",R270)","v":"What is 2 to the power of  9 ?     ( 2 ^  9 )        "},{"$f":"2^G270","v":512},null,null,null,null,null,null,null,{"$f":"IF(ISERROR(T270),NA(),\"\")","v":""},{"$f":"IF(OR(ISNA(U270),ISNA(V270),ISNA(W270),ISNA(X270),ISNA(Y270),ISNA(Z270),ISNA(AA270),ISNA(AB270),ISNA(AC270)),NA(),CONCATENATE(U270,V270,W270,X270,Y270,Z270,AA270,AB270))","v":"512"},{"$f":"IF(ISNA(AD270),FALSE,IF(C270=$B$1,Worksheet!$B$3,IF(C270=$C$1,Worksheet!$B$4,IF(C270=$D$1,Worksheet!$B$5,IF(C270=$C$2,Worksheet!$D$3,IF(C270=$D$2,Worksheet!$D$4,IF(C270=$E$2,Worksheet!$D$5,IF(C270=$C$3,Worksheet!$D$6,IF(C270=$B$3,Worksheet!$B$6,IF(C270=$D$3,Worksheet!$B$9,IF(C270=$E$3,Worksheet!$D$9,FALSE)))))))))))","v":true},{"$f":"IF(AE270,D270,\"\")","v":"Easy"},{"$f":"IF(AE270,COUNTIF($AF$5:AF270,AF270),\"X\")","v":102},{"$f":"CONCATENATE(AE270,AF270)","v":"TRUEEasy"}]
[{"$f":"CONCATENATE(AE271,D271,AG271)","v":"TRUEMedium116"},{"$f":"RAND()","v":0.39065847429581069},"Alg","Medium",334,"Multiply out the bracket:",{"$f":"RANDBETWEEN(2,10)","v":5},"(",{"$f":"RANDBETWEEN(2,10)","v":3},{"$f":"CHOOSE(RANDBETWEEN(1,22),\"a\",\"b\",\"c\",\"d\",\"f\",\"g\",\"h\",\"j\",\"k\",\"m\",\"n\",\"p\",\"q\",\"r\",\"s\",\"t\",\"u\",\"v\",\"w\",\"x\",\"y\",\"z\")","v":"c"},"–",{"$f":"RANDBETWEEN(1,10)","v":2},")",null,null,null,null,null,null,{"$f":"CONCATENATE(F271,\" \",G271,\" \",H271,\" \",I271,\" \",J271,\" \",K271,\" \",L271,\" \",M271,\" \",N271,\" \",O271,\" \",P271,\" \",Q271,\" \",R271)","v":"Multiply out the bracket: 5 ( 3 c – 2 )     "},{"$f":"CONCATENATE(G271*I271,J271,\" \",K271,\" \",G271*L271)","v":"15c – 10"},null,null,null,null,null,null,null,{"$f":"IF(L271<0,NA(),\"\")","v":""},{"$f":"IF(OR(ISNA(U271),ISNA(V271),ISNA(W271),ISNA(X271),ISNA(Y271),ISNA(Z271),ISNA(AA271),ISNA(AB271),ISNA(AC271)),NA(),CONCATENATE(U271,V271,W271,X271,Y271,Z271,AA271,AB271))","v":"15c – 10"},{"$f":"IF(ISNA(AD271),FALSE,IF(C271=$B$1,Worksheet!$B$3,IF(C271=$C$1,Worksheet!$B$4,IF(C271=$D$1,Worksheet!$B$5,IF(C271=$C$2,Worksheet!$D$3,IF(C271=$D$2,Worksheet!$D$4,IF(C271=$E$2,Worksheet!$D$5,IF(C271=$C$3,Worksheet!$D$6,IF(C271=$B$3,Worksheet!$B$6,IF(C271=$D$3,Worksheet!$B$9,IF(C271=$E$3,Worksheet!$D$9,FALSE)))))))))))","v":true},{"$f":"IF(AE271,D271,\"\")","v":"Medium"},{"$f":"IF(AE271,COUNTIF($AF$5:AF271,AF271),\"X\")","v":116},{"$f":"CONCATENATE(AE271,AF271)","v":"TRUEMedium"}]
[{"$f":"CONCATENATE(AE272,D272,AG272)","v":"TRUEMedium117"},{"$f":"RAND()","v":0.72202240624005953},"Round","Medium",181,"Round the number",{"$f":"TEXT(S272,\"###,###\")","v":"5,260,711"},"to one significant figure",null,null,null,null,null,null,null,null,null,null,{"$f":"RANDBETWEEN(1000000,9999999)","v":5260711},{"$f":"CONCATENATE(F272,\" \",G272,\" \",H272,\" \",I272,\" \",J272,\" \",K272,\" \",L272,\" \",M272,\" \",N272,\" \",O272,\" \",P272,\" \",Q272,\" \",R272)","v":"Round the number 5,260,711 to one significant figure          "},{"$f":"TEXT(MROUND(S272,1000000),\"###,###\")","v":"5,000,000"},null,null,null,null,null,null,null,{"$f":"IF(ISERROR(T272),NA(),\"\")","v":""},{"$f":"IF(OR(ISNA(U272),ISNA(V272),ISNA(W272),ISNA(X272),ISNA(Y272),ISNA(Z272),ISNA(AA272),ISNA(AB272),ISNA(AC272)),NA(),CONCATENATE(U272,V272,W272,X272,Y272,Z272,AA272,AB272))","v":"5,000,000"},{"$f":"IF(ISNA(AD272),FALSE,IF(C272=$B$1,Worksheet!$B$3,IF(C272=$C$1,Worksheet!$B$4,IF(C272=$D$1,Worksheet!$B$5,IF(C272=$C$2,Worksheet!$D$3,IF(C272=$D$2,Worksheet!$D$4,IF(C272=$E$2,Worksheet!$D$5,IF(C272=$C$3,Worksheet!$D$6,IF(C272=$B$3,Worksheet!$B$6,IF(C272=$D$3,Worksheet!$B$9,IF(C272=$E$3,Worksheet!$D$9,FALSE)))))))))))","v":true},{"$f":"IF(AE272,D272,\"\")","v":"Medium"},{"$f":"IF(AE272,COUNTIF($AF$5:AF272,AF272),\"X\")","v":117},{"$f":"CONCATENATE(AE272,AF272)","v":"TRUEMedium"}]
[{"$f":"CONCATENATE(AE273,D273,AG273)","v":"TRUEMedium118"},{"$f":"RAND()","v":0.91620753540742317},"%","Medium",294,"What is one eighth (1/8) as a percentage?",null,null,null,null,null,null,null,null,null,null,null,null,null,{"$f":"CONCATENATE(F273,\" \",G273,\" \",H273,\" \",I273,\" \",J273,\" \",K273,\" \",L273,\" \",M273,\" \",N273,\" \",O273,\" \",P273,\" \",Q273,\" \",R273)","v":"What is one eighth (1/8) as a percentage?            "},"12.5%",null,null,null,null,null,null,null,{"$f":"IF(ISERROR(T273),NA(),\"\")","v":""},{"$f":"IF(OR(ISNA(U273),ISNA(V273),ISNA(W273),ISNA(X273),ISNA(Y273),ISNA(Z273),ISNA(AA273),ISNA(AB273),ISNA(AC273)),NA(),CONCATENATE(U273,V273,W273,X273,Y273,Z273,AA273,AB273))","v":"12.5%"},{"$f":"IF(ISNA(AD273),FALSE,IF(C273=$B$1,Worksheet!$B$3,IF(C273=$C$1,Worksheet!$B$4,IF(C273=$D$1,Worksheet!$B$5,IF(C273=$C$2,Worksheet!$D$3,IF(C273=$D$2,Worksheet!$D$4,IF(C273=$E$2,Worksheet!$D$5,IF(C273=$C$3,Worksheet!$D$6,IF(C273=$B$3,Worksheet!$B$6,IF(C273=$D$3,Worksheet!$B$9,IF(C273=$E$3,Worksheet!$D$9,FALSE)))))))))))","v":true},{"$f":"IF(AE273,D273,\"\")","v":"Medium"},{"$f":"IF(AE273,COUNTIF($AF$5:AF273,AF273),\"X\")","v":118},{"$f":"CONCATENATE(AE273,AF273)","v":"TRUEMedium"}]
[{"$f":"CONCATENATE(AE274,D274,AG274)","v":"TRUEEasy103"},{"$f":"RAND()","v":0.29347473377373923},"Dec","Easy",135,"Write the fraction ",{"$f":"RANDBETWEEN(1,9)","v":1},"/",{"$f":"CHOOSE(RANDBETWEEN(1,2),1000,1000)","v":1000},"as a decimal",null,null,null,null,null,null,null,null,null,{"$f":"CONCATENATE(F274,\" \",G274,\"\",H274,\"\",I274,\" \",J274,\" \",K274,\" \",L274,\" \",M274,\" \",N274,\" \",O274,\" \",P274,\" \",Q274,\" \",R274)","v":"Write the fraction  1/1000 as a decimal        "},{"$f":"G274/I274","v":1E-3},null,null,null,null,null,null,null,{"$f":"IF(ISERROR(T274),NA(),\"\")","v":""},{"$f":"IF(OR(ISNA(U274),ISNA(V274),ISNA(W274),ISNA(X274),ISNA(Y274),ISNA(Z274),ISNA(AA274),ISNA(AB274),ISNA(AC274)),NA(),CONCATENATE(U274,V274,W274,X274,Y274,Z274,AA274,AB274))","v":"0.001"},{"$f":"IF(ISNA(AD274),FALSE,IF(C274=$B$1,Worksheet!$B$3,IF(C274=$C$1,Worksheet!$B$4,IF(C274=$D$1,Worksheet!$B$5,IF(C274=$C$2,Worksheet!$D$3,IF(C274=$D$2,Worksheet!$D$4,IF(C274=$E$2,Worksheet!$D$5,IF(C274=$C$3,Worksheet!$D$6,IF(C274=$B$3,Worksheet!$B$6,IF(C274=$D$3,Worksheet!$B$9,IF(C274=$E$3,Worksheet!$D$9,FALSE)))))))))))","v":true},{"$f":"IF(AE274,D274,\"\")","v":"Easy"},{"$f":"IF(AE274,COUNTIF($AF$5:AF274,AF274),\"X\")","v":103},{"$f":"CONCATENATE(AE274,AF274)","v":"TRUEEasy"}]
[{"$f":"CONCATENATE(AE275,D275,AG275)","v":"TRUEHard48"},{"$f":"RAND()","v":0.1711682914332574},"%","Hard",301,"What is £",{"$f":"S275*I275","v":64000},"as a percentage of £",{"$f":"RANDBETWEEN(2,9)*10^RANDBETWEEN(2,4)","v":80000},"?",null,null,null,null,null,null,null,null,{"$f":"0.1*RANDBETWEEN(2,9)","v":0.8},{"$f":"CONCATENATE(F275,\"\",G275,\" \",H275,\"\",I275,\" \",J275,\" \",K275,\" \",L275,\" \",M275,\" \",N275,\" \",O275,\" \",P275,\" \",Q275,\" \",R275)","v":"What is £64000 as a percentage of £80000 ?        "},{"$f":"S275*100","v":80},"%",null,null,null,null,null,null,{"$f":"IF(ISERROR(T275),NA(),\"\")","v":""},{"$f":"IF(OR(ISNA(U275),ISNA(V275),ISNA(W275),ISNA(X275),ISNA(Y275),ISNA(Z275),ISNA(AA275),ISNA(AB275),ISNA(AC275)),NA(),CONCATENATE(U275,V275,W275,X275,Y275,Z275,AA275,AB275))","v":"80%"},{"$f":"IF(ISNA(AD275),FALSE,IF(C275=$B$1,Worksheet!$B$3,IF(C275=$C$1,Worksheet!$B$4,IF(C275=$D$1,Worksheet!$B$5,IF(C275=$C$2,Worksheet!$D$3,IF(C275=$D$2,Worksheet!$D$4,IF(C275=$E$2,Worksheet!$D$5,IF(C275=$C$3,Worksheet!$D$6,IF(C275=$B$3,Worksheet!$B$6,IF(C275=$D$3,Worksheet!$B$9,IF(C275=$E$3,Worksheet!$D$9,FALSE)))))))))))","v":true},{"$f":"IF(AE275,D275,\"\")","v":"Hard"},{"$f":"IF(AE275,COUNTIF($AF$5:AF275,AF275),\"X\")","v":48},{"$f":"CONCATENATE(AE275,AF275)","v":"TRUEHard"}]
[{"$f":"CONCATENATE(AE276,D276,AG276)","v":"TRUEEasy104"},{"$f":"RAND()","v":0.36370704916252816},"Alg","Easy",304,"Algebra.  If ",{"$f":"CHOOSE(RANDBETWEEN(1,22),\"a\",\"b\",\"c\",\"d\",\"f\",\"g\",\"h\",\"j\",\"k\",\"m\",\"n\",\"p\",\"q\",\"r\",\"s\",\"t\",\"u\",\"v\",\"w\",\"x\",\"y\",\"z\")","v":"n"},"=",{"$f":"RANDBETWEEN(-10,-1)","v":-3},", what is the value of:    ",{"$f":"RANDBETWEEN(1,10)","v":8},"+",{"$f":"RANDBETWEEN(2,10)","v":3},{"$f":"G276","v":"n"},"?",null,null,null,null,{"$f":"CONCATENATE(F276,\" \",G276,\" \",H276,\" \",I276,\" \",J276,\" \",K276,\" \",L276,\" \",M276,\"\",N276,\" \",O276,\" \",P276,\" \",Q276,\" \",R276)","v":"Algebra.  If  n = -3 , what is the value of:     8 + 3n ?   "},{"$f":"K276+M276*I276","v":-1},null,null,null,null,null,null,null,{"$f":"IF(ISERROR(T276),NA(),\"\")","v":""},{"$f":"IF(OR(ISNA(U276),ISNA(V276),ISNA(W276),ISNA(X276),ISNA(Y276),ISNA(Z276),ISNA(AA276),ISNA(AB276),ISNA(AC276)),NA(),CONCATENATE(U276,V276,W276,X276,Y276,Z276,AA276,AB276))","v":"-1"},{"$f":"IF(ISNA(AD276),FALSE,IF(C276=$B$1,Worksheet!$B$3,IF(C276=$C$1,Worksheet!$B$4,IF(C276=$D$1,Worksheet!$B$5,IF(C276=$C$2,Worksheet!$D$3,IF(C276=$D$2,Worksheet!$D$4,IF(C276=$E$2,Worksheet!$D$5,IF(C276=$C$3,Worksheet!$D$6,IF(C276=$B$3,Worksheet!$B$6,IF(C276=$D$3,Worksheet!$B$9,IF(C276=$E$3,Worksheet!$D$9,FALSE)))))))))))","v":true},{"$f":"IF(AE276,D276,\"\")","v":"Easy"},{"$f":"IF(AE276,COUNTIF($AF$5:AF276,AF276),\"X\")","v":104},{"$f":"CONCATENATE(AE276,AF276)","v":"TRUEEasy"}]
[{"$f":"CONCATENATE(AE277,D277,AG277)","v":"TRUEMedium119"},{"$f":"RAND()","v":0.6149838792351312},"Round","Medium",183,"Round the number",{"$f":"RANDBETWEEN(1,9)*10+RANDBETWEEN(1,9)","v":18},"to one significant figure",null,null,null,null,null,null,null,null,null,null,{"$f":"RANDBETWEEN(10000,99999)","v":46005},{"$f":"CONCATENATE(F277,\" \",G277,\" \",H277,\" \",I277,\" \",J277,\" \",K277,\" \",L277,\" \",M277,\" \",N277,\" \",O277,\" \",P277,\" \",Q277,\" \",R277)","v":"Round the number 18 to one significant figure          "},{"$f":"MROUND(G277,10)","v":20},null,null,null,null,null,null,null,{"$f":"IF(ISERROR(T277),NA(),\"\")","v":""},{"$f":"IF(OR(ISNA(U277),ISNA(V277),ISNA(W277),ISNA(X277),ISNA(Y277),ISNA(Z277),ISNA(AA277),ISNA(AB277),ISNA(AC277)),NA(),CONCATENATE(U277,V277,W277,X277,Y277,Z277,AA277,AB277))","v":"20"},{"$f":"IF(ISNA(AD277),FALSE,IF(C277=$B$1,Worksheet!$B$3,IF(C277=$C$1,Worksheet!$B$4,IF(C277=$D$1,Worksheet!$B$5,IF(C277=$C$2,Worksheet!$D$3,IF(C277=$D$2,Worksheet!$D$4,IF(C277=$E$2,Worksheet!$D$5,IF(C277=$C$3,Worksheet!$D$6,IF(C277=$B$3,Worksheet!$B$6,IF(C277=$D$3,Worksheet!$B$9,IF(C277=$E$3,Worksheet!$D$9,FALSE)))))))))))","v":true},{"$f":"IF(AE277,D277,\"\")","v":"Medium"},{"$f":"IF(AE277,COUNTIF($AF$5:AF277,AF277),\"X\")","v":119},{"$f":"CONCATENATE(AE277,AF277)","v":"TRUEMedium"}]
[{"$f":"CONCATENATE(AE278,D278,AG278)","v":"TRUEMedium120"},{"$f":"RAND()","v":6.7102918675893797E-2},"Alg","Medium",316,"Algebra.  If ",{"$f":"CHOOSE(RANDBETWEEN(1,22),\"a\",\"b\",\"c\",\"d\",\"f\",\"g\",\"h\",\"j\",\"k\",\"m\",\"n\",\"p\",\"q\",\"r\",\"s\",\"t\",\"u\",\"v\",\"w\",\"x\",\"y\",\"z\")","v":"h"},"=",{"$f":"RANDBETWEEN(5,10)","v":6},", what is the value of:    ",{"$f":"RANDBETWEEN(2,10)","v":3},{"$f":"G278","v":"h"},"²","?",null,null,null,null,null,{"$f":"CONCATENATE(F278,\" \",G278,\" \",H278,\" \",I278,\" \",J278,\" \",K278,\"\",L278,\"\",M278,\"\",N278,\" \",O278,\" \",P278,\" \",Q278,\" \",R278)","v":"Algebra.  If  h = 6 , what is the value of:     3h²?    "},{"$f":"K278*I278^2","v":108},null,null,null,null,null,null,null,{"$f":"IF(ISERROR(T278),NA(),\"\")","v":""},{"$f":"IF(OR(ISNA(U278),ISNA(V278),ISNA(W278),ISNA(X278),ISNA(Y278),ISNA(Z278),ISNA(AA278),ISNA(AB278),ISNA(AC278)),NA(),CONCATENATE(U278,V278,W278,X278,Y278,Z278,AA278,AB278))","v":"108"},{"$f":"IF(ISNA(AD278),FALSE,IF(C278=$B$1,Worksheet!$B$3,IF(C278=$C$1,Worksheet!$B$4,IF(C278=$D$1,Worksheet!$B$5,IF(C278=$C$2,Worksheet!$D$3,IF(C278=$D$2,Worksheet!$D$4,IF(C278=$E$2,Worksheet!$D$5,IF(C278=$C$3,Worksheet!$D$6,IF(C278=$B$3,Worksheet!$B$6,IF(C278=$D$3,Worksheet!$B$9,IF(C278=$E$3,Worksheet!$D$9,FALSE)))))))))))","v":true},{"$f":"IF(AE278,D278,\"\")","v":"Medium"},{"$f":"IF(AE278,COUNTIF($AF$5:AF278,AF278),\"X\")","v":120},{"$f":"CONCATENATE(AE278,AF278)","v":"TRUEMedium"}]
[{"$f":"CONCATENATE(AE279,D279,AG279)","v":"TRUEEasy105"},{"$f":"RAND()","v":0.22103537800138395},"Frac","Easy",117,"Multiply:     ",{"$f":"RANDBETWEEN(1,5)","v":2},{"$f":"IF(J279=4,CHOOSE(RANDBETWEEN(1,2),1,3),RANDBETWEEN(1,J279-1))","v":1},"/",{"$f":"RANDBETWEEN(3,5)","v":4},null,"  ×  ",{"$f":"RANDBETWEEN(1,3)*J279","v":12},null,null,null,null,null,null,{"$f":"CONCATENATE(F279,\" \",G279,\"   \",H279,\"\",I279,\"\",J279,\" \",K279,\" \",L279,\" \",M279,\"   \",N279,\"\",O279,\"\",P279,\" \",Q279,\" \",R279)","v":"Multiply:      2   1/4    ×   12     "},{"$f":"M279*G279+M279*H279/J279","v":27},null,null,null,null,null,null,null,{"$f":"IF(ISERROR(T279),NA(),\"\")","v":""},{"$f":"IF(OR(ISNA(U279),ISNA(V279),ISNA(W279),ISNA(X279),ISNA(Y279),ISNA(Z279),ISNA(AA279),ISNA(AB279),ISNA(AC279)),NA(),CONCATENATE(U279,V279,W279,X279,Y279,Z279,AA279,AB279))","v":"27"},{"$f":"IF(ISNA(AD279),FALSE,IF(C279=$B$1,Worksheet!$B$3,IF(C279=$C$1,Worksheet!$B$4,IF(C279=$D$1,Worksheet!$B$5,IF(C279=$C$2,Worksheet!$D$3,IF(C279=$D$2,Worksheet!$D$4,IF(C279=$E$2,Worksheet!$D$5,IF(C279=$C$3,Worksheet!$D$6,IF(C279=$B$3,Worksheet!$B$6,IF(C279=$D$3,Worksheet!$B$9,IF(C279=$E$3,Worksheet!$D$9,FALSE)))))))))))","v":true},{"$f":"IF(AE279,D279,\"\")","v":"Easy"},{"$f":"IF(AE279,COUNTIF($AF$5:AF279,AF279),\"X\")","v":105},{"$f":"CONCATENATE(AE279,AF279)","v":"TRUEEasy"}]
[{"$f":"CONCATENATE(AE280,D280,AG280)","v":"TRUEMedium121"},{"$f":"RAND()","v":0.71454614190240273},"Round","Medium",177,"Round the number",{"$f":"ROUND(RAND()+RANDBETWEEN(11,9999),8)","v":6117.6266910699997},"to",{"$f":"CHOOSE(RANDBETWEEN(1,3),\"four\",\"five\",\"six\")","v":"six"},{"$f":"CONCATENATE(\"decimal place\",IF(I280=\"one\",\"\",\"s\"))","v":"decimal places"},null,null,null,null,null,null,null,null,null,{"$f":"CONCATENATE(F280,\" \",G280,\" \",H280,\" \",I280,\" \",J280,\" \",K280,\" \",L280,\" \",M280,\" \",N280,\" \",O280,\" \",P280,\" \",Q280,\" \",R280)","v":"Round the number 6117.62669107 to six decimal places        "},{"$f":"ROUND(G280,IF(I280=\"six\",6,IF(I280=\"four\",4,5)))","v":6117.6266910000004},null,null,null,null,null,null,null,{"$f":"IF(ISERROR(T280),NA(),\"\")","v":""},{"$f":"IF(OR(ISNA(U280),ISNA(V280),ISNA(W280),ISNA(X280),ISNA(Y280),ISNA(Z280),ISNA(AA280),ISNA(AB280),ISNA(AC280)),NA(),CONCATENATE(U280,V280,W280,X280,Y280,Z280,AA280,AB280))","v":"6117.626691"},{"$f":"IF(ISNA(AD280),FALSE,IF(C280=$B$1,Worksheet!$B$3,IF(C280=$C$1,Worksheet!$B$4,IF(C280=$D$1,Worksheet!$B$5,IF(C280=$C$2,Worksheet!$D$3,IF(C280=$D$2,Worksheet!$D$4,IF(C280=$E$2,Worksheet!$D$5,IF(C280=$C$3,Worksheet!$D$6,IF(C280=$B$3,Worksheet!$B$6,IF(C280=$D$3,Worksheet!$B$9,IF(C280=$E$3,Worksheet!$D$9,FALSE)))))))))))","v":true},{"$f":"IF(AE280,D280,\"\")","v":"Medium"},{"$f":"IF(AE280,COUNTIF($AF$5:AF280,AF280),\"X\")","v":121},{"$f":"CONCATENATE(AE280,AF280)","v":"TRUEMedium"}]
[{"$f":"CONCATENATE(AE281,D281,AG281)","v":"TRUEEasy106"},{"$f":"RAND()","v":0.44213414917677407},"Surds","Easy",28,"Work out the value of:",{"$f":"RANDBETWEEN(2,5)","v":5},"×",{"$f":"RANDBETWEEN(2,10)","v":9},"²",null,null,null,null,null,null,null,null,null,{"$f":"CONCATENATE(F281,\" \",G281,\" \",H281,\" \",I281,\"\",J281,\" \",K281,\" \",L281,\" \",M281,\" \",N281,\" \",O281,\" \",P281,\" \",Q281,\" \",R281)","v":"Work out the value of: 5 × 9²        "},{"$f":"G281*I281^2","v":405},null,null,null,null,null,null,null,{"$f":"IF(ISERROR(T281),NA(),\"\")","v":""},{"$f":"IF(OR(ISNA(U281),ISNA(V281),ISNA(W281),ISNA(X281),ISNA(Y281),ISNA(Z281),ISNA(AA281),ISNA(AB281),ISNA(AC281)),NA(),CONCATENATE(U281,V281,W281,X281,Y281,Z281,AA281,AB281))","v":"405"},{"$f":"IF(ISNA(AD281),FALSE,IF(C281=$B$1,Worksheet!$B$3,IF(C281=$C$1,Worksheet!$B$4,IF(C281=$D$1,Worksheet!$B$5,IF(C281=$C$2,Worksheet!$D$3,IF(C281=$D$2,Worksheet!$D$4,IF(C281=$E$2,Worksheet!$D$5,IF(C281=$C$3,Worksheet!$D$6,IF(C281=$B$3,Worksheet!$B$6,IF(C281=$D$3,Worksheet!$B$9,IF(C281=$E$3,Worksheet!$D$9,FALSE)))))))))))","v":true},{"$f":"IF(AE281,D281,\"\")","v":"Easy"},{"$f":"IF(AE281,COUNTIF($AF$5:AF281,AF281),\"X\")","v":106},{"$f":"CONCATENATE(AE281,AF281)","v":"TRUEEasy"}]
[{"$f":"CONCATENATE(AE282,D282,AG282)","v":"TRUEEasy107"},{"$f":"RAND()","v":0.17003142663438953},"Num","Easy",1,"Write the number",{"$f":"RANDBETWEEN(1,9)","v":5},{"$f":"CHOOSE(RANDBETWEEN(1,2),\"¼\",\"¾\")","v":"¾"},"million in figures in full",null,null,null,null,null,null,null,null,null,null,{"$f":"CONCATENATE(F282,\" \",G282,\"\",H282,\" \",I282,\" \",J282,\" \",K282,\" \",L282,\" \",M282,\" \",N282,\" \",O282,\" \",P282,\" \",Q282,\" \",R282)","v":"Write the number 5¾ million in figures in full         "},{"$f":"G282","v":5},",",{"$f":"IF(H282=\"¼\",2,IF(H282=\"¾\",7,NA()))","v":7},"50,000",null,null,null,null,{"$f":"IF(ISERROR(T282),NA(),\"\")","v":""},{"$f":"IF(OR(ISNA(U282),ISNA(V282),ISNA(W282),ISNA(X282),ISNA(Y282),ISNA(Z282),ISNA(AA282),ISNA(AB282),ISNA(AC282)),NA(),CONCATENATE(U282,V282,W282,X282,Y282,Z282,AA282,AB282))","v":"5,750,000"},{"$f":"IF(ISNA(AD282),FALSE,IF(C282=$B$1,Worksheet!$B$3,IF(C282=$C$1,Worksheet!$B$4,IF(C282=$D$1,Worksheet!$B$5,IF(C282=$C$2,Worksheet!$D$3,IF(C282=$D$2,Worksheet!$D$4,IF(C282=$E$2,Worksheet!$D$5,IF(C282=$C$3,Worksheet!$D$6,IF(C282=$B$3,Worksheet!$B$6,IF(C282=$D$3,Worksheet!$B$9,IF(C282=$E$3,Worksheet!$D$9,FALSE)))))))))))","v":true},{"$f":"IF(AE282,D282,\"\")","v":"Easy"},{"$f":"IF(AE282,COUNTIF($AF$5:AF282,AF282),\"X\")","v":107},{"$f":"CONCATENATE(AE282,AF282)","v":"TRUEEasy"}]
[{"$f":"CONCATENATE(AE283,D283,AG283)","v":"TRUEHard49"},{"$f":"RAND()","v":0.56246277581374005},"Alg","Hard",337,"Multiply out the bracket and simplify:",{"$f":"RANDBETWEEN(2,10)","v":8},"(",{"$f":"CHOOSE(RANDBETWEEN(1,22),\"a\",\"b\",\"c\",\"d\",\"f\",\"g\",\"h\",\"j\",\"k\",\"m\",\"n\",\"p\",\"q\",\"r\",\"s\",\"t\",\"u\",\"v\",\"w\",\"x\",\"y\",\"z\")","v":"g"},"+",{"$f":"RANDBETWEEN(1,10)","v":1},")","+",{"$f":"RANDBETWEEN(1,10)","v":10},"(",{"$f":"I283","v":"g"},"+",{"$f":"RANDBETWEEN(1,10)","v":6},null,{"$f":"CONCATENATE(F283,\" \",G283,\" \",H283,\" \",I283,\" \",J283,\" \",K283,\" \",L283,\" \",M283,\" \",N283,\" \",O283,\" \",P283,\" \",Q283,\" \",R283,\" )\")","v":"Multiply out the bracket and simplify: 8 ( g + 1 ) + 10 ( g + 6 )"},{"$f":"CONCATENATE(G283+N283,I283,\" \",J283,\" \",G283*K283+N283*R283)","v":"18g + 68"},null,null,null,null,null,null,null,{"$f":"IF(L283<0,NA(),\"\")","v":""},{"$f":"IF(OR(ISNA(U283),ISNA(V283),ISNA(W283),ISNA(X283),ISNA(Y283),ISNA(Z283),ISNA(AA283),ISNA(AB283),ISNA(AC283)),NA(),CONCATENATE(U283,V283,W283,X283,Y283,Z283,AA283,AB283))","v":"18g + 68"},{"$f":"IF(ISNA(AD283),FALSE,IF(C283=$B$1,Worksheet!$B$3,IF(C283=$C$1,Worksheet!$B$4,IF(C283=$D$1,Worksheet!$B$5,IF(C283=$C$2,Worksheet!$D$3,IF(C283=$D$2,Worksheet!$D$4,IF(C283=$E$2,Worksheet!$D$5,IF(C283=$C$3,Worksheet!$D$6,IF(C283=$B$3,Worksheet!$B$6,IF(C283=$D$3,Worksheet!$B$9,IF(C283=$E$3,Worksheet!$D$9,FALSE)))))))))))","v":true},{"$f":"IF(AE283,D283,\"\")","v":"Hard"},{"$f":"IF(AE283,COUNTIF($AF$5:AF283,AF283),\"X\")","v":49},{"$f":"CONCATENATE(AE283,AF283)","v":"TRUEHard"}]
[{"$f":"CONCATENATE(AE284,D284,AG284)","v":"TRUEMedium122"},{"$f":"RAND()","v":0.23024651354764791},"+-×÷","Medium",20,"Use a method of your choice to multiply ",{"$f":"RANDBETWEEN(2,9)*10+RANDBETWEEN(1,9)","v":57}," ×",{"$f":"RANDBETWEEN(2,9)*10+RANDBETWEEN(1,9)","v":25},"without a calculator",null,null,null,null,null,null,null,null,null,{"$f":"CONCATENATE(F284,\" \",G284,\" \",H284,\" \",I284,\" \",J284,\" \",K284,\" \",L284,\" \",M284,\" \",N284,\" \",O284,\" \",P284,\" \",Q284,\" \",R284)","v":"Use a method of your choice to multiply  57  × 25 without a calculator        "},{"$f":"G284*I284","v":1425},null,null,null,null,null,null,null,{"$f":"IF(ISERROR(T284),NA(),\"\")","v":""},{"$f":"IF(OR(ISNA(U284),ISNA(V284),ISNA(W284),ISNA(X284),ISNA(Y284),ISNA(Z284),ISNA(AA284),ISNA(AB284),ISNA(AC284)),NA(),CONCATENATE(U284,V284,W284,X284,Y284,Z284,AA284,AB284))","v":"1425"},{"$f":"IF(ISNA(AD284),FALSE,IF(C284=$B$1,Worksheet!$B$3,IF(C284=$C$1,Worksheet!$B$4,IF(C284=$D$1,Worksheet!$B$5,IF(C284=$C$2,Worksheet!$D$3,IF(C284=$D$2,Worksheet!$D$4,IF(C284=$E$2,Worksheet!$D$5,IF(C284=$C$3,Worksheet!$D$6,IF(C284=$B$3,Worksheet!$B$6,IF(C284=$D$3,Worksheet!$B$9,IF(C284=$E$3,Worksheet!$D$9,FALSE)))))))))))","v":true},{"$f":"IF(AE284,D284,\"\")","v":"Medium"},{"$f":"IF(AE284,COUNTIF($AF$5:AF284,AF284),\"X\")","v":122},{"$f":"CONCATENATE(AE284,AF284)","v":"TRUEMedium"}]
[{"$f":"CONCATENATE(AE285,D285,AG285)","v":"TRUEMedium123"},{"$f":"RAND()","v":0.42505615491321458},"Surds","Medium",17,"Square numbers.    Calculate: ",{"$f":"CHOOSE(RANDBETWEEN(1,3),11,12,13)","v":11},"²",null,null,null,null,null,null,null,null,null,null,null,{"$f":"CONCATENATE(F285,\" \",G285,\"\",H285,\" \",I285,\" \",J285,\" \",K285,\" \",L285,\" \",M285,\" \",N285,\" \",O285,\" \",P285,\" \",Q285,\" \",R285)","v":"Square numbers.    Calculate:  11²          "},{"$f":"G285^2","v":121},null,null,null,null,null,null,null,{"$f":"IF(ISERROR(T285),NA(),\"\")","v":""},{"$f":"IF(OR(ISNA(U285),ISNA(V285),ISNA(W285),ISNA(X285),ISNA(Y285),ISNA(Z285),ISNA(AA285),ISNA(AB285),ISNA(AC285)),NA(),CONCATENATE(U285,V285,W285,X285,Y285,Z285,AA285,AB285))","v":"121"},{"$f":"IF(ISNA(AD285),FALSE,IF(C285=$B$1,Worksheet!$B$3,IF(C285=$C$1,Worksheet!$B$4,IF(C285=$D$1,Worksheet!$B$5,IF(C285=$C$2,Worksheet!$D$3,IF(C285=$D$2,Worksheet!$D$4,IF(C285=$E$2,Worksheet!$D$5,IF(C285=$C$3,Worksheet!$D$6,IF(C285=$B$3,Worksheet!$B$6,IF(C285=$D$3,Worksheet!$B$9,IF(C285=$E$3,Worksheet!$D$9,FALSE)))))))))))","v":true},{"$f":"IF(AE285,D285,\"\")","v":"Medium"},{"$f":"IF(AE285,COUNTIF($AF$5:AF285,AF285),\"X\")","v":123},{"$f":"CONCATENATE(AE285,AF285)","v":"TRUEMedium"}]
[{"$f":"CONCATENATE(AE286,D286,AG286)","v":"TRUEMedium124"},{"$f":"RAND()","v":6.9868833664527452E-2},"Round","Medium",179,"Round the number",{"$f":"RANDBETWEEN(100,999)","v":226},"to one significant figure",null,null,null,null,null,null,null,null,null,null,null,{"$f":"CONCATENATE(F286,\" \",G286,\" \",H286,\" \",I286,\" \",J286,\" \",K286,\" \",L286,\" \",M286,\" \",N286,\" \",O286,\" \",P286,\" \",Q286,\" \",R286)","v":"Round the number 226 to one significant figure          "},{"$f":"MROUND(G286,100)","v":200},null,null,null,null,null,null,null,{"$f":"IF(ISERROR(T286),NA(),\"\")","v":""},{"$f":"IF(OR(ISNA(U286),ISNA(V286),ISNA(W286),ISNA(X286),ISNA(Y286),ISNA(Z286),ISNA(AA286),ISNA(AB286),ISNA(AC286)),NA(),CONCATENATE(U286,V286,W286,X286,Y286,Z286,AA286,AB286))","v":"200"},{"$f":"IF(ISNA(AD286),FALSE,IF(C286=$B$1,Worksheet!$B$3,IF(C286=$C$1,Worksheet!$B$4,IF(C286=$D$1,Worksheet!$B$5,IF(C286=$C$2,Worksheet!$D$3,IF(C286=$D$2,Worksheet!$D$4,IF(C286=$E$2,Worksheet!$D$5,IF(C286=$C$3,Worksheet!$D$6,IF(C286=$B$3,Worksheet!$B$6,IF(C286=$D$3,Worksheet!$B$9,IF(C286=$E$3,Worksheet!$D$9,FALSE)))))))))))","v":true},{"$f":"IF(AE286,D286,\"\")","v":"Medium"},{"$f":"IF(AE286,COUNTIF($AF$5:AF286,AF286),\"X\")","v":124},{"$f":"CONCATENATE(AE286,AF286)","v":"TRUEMedium"}]
[{"$f":"CONCATENATE(AE287,D287,AG287)","v":"TRUEHard50"},{"$f":"RAND()","v":0.40028723119894372},"Alg","Hard",338,"Multiply out the bracket and simplify:",{"$f":"RANDBETWEEN(2,10)","v":2},"(",{"$f":"CHOOSE(RANDBETWEEN(1,22),\"a\",\"b\",\"c\",\"d\",\"f\",\"g\",\"h\",\"j\",\"k\",\"m\",\"n\",\"p\",\"q\",\"r\",\"s\",\"t\",\"u\",\"v\",\"w\",\"x\",\"y\",\"z\")","v":"z"},"+",{"$f":"RANDBETWEEN(1,10)","v":6},")","+",{"$f":"RANDBETWEEN(1,10)","v":8},"(",{"$f":"I287","v":"z"},"+",{"$f":"RANDBETWEEN(1,10)","v":6},null,{"$f":"CONCATENATE(F287,\" \",G287,\" \",H287,\" \",I287,\" \",J287,\" \",K287,\" \",L287,\" \",M287,\" \",N287,\" \",O287,\" \",P287,\" \",Q287,\" \",R287,\" )\")","v":"Multiply out the bracket and simplify: 2 ( z + 6 ) + 8 ( z + 6 )"},{"$f":"CONCATENATE(G287+N287,I287,\" \",J287,\" \",G287*K287+N287*R287)","v":"10z + 60"},null,null,null,null,null,null,null,{"$f":"IF(L287<0,NA(),\"\")","v":""},{"$f":"IF(OR(ISNA(U287),ISNA(V287),ISNA(W287),ISNA(X287),ISNA(Y287),ISNA(Z287),ISNA(AA287),ISNA(AB287),ISNA(AC287)),NA(),CONCATENATE(U287,V287,W287,X287,Y287,Z287,AA287,AB287))","v":"10z + 60"},{"$f":"IF(ISNA(AD287),FALSE,IF(C287=$B$1,Worksheet!$B$3,IF(C287=$C$1,Worksheet!$B$4,IF(C287=$D$1,Worksheet!$B$5,IF(C287=$C$2,Worksheet!$D$3,IF(C287=$D$2,Worksheet!$D$4,IF(C287=$E$2,Worksheet!$D$5,IF(C287=$C$3,Worksheet!$D$6,IF(C287=$B$3,Worksheet!$B$6,IF(C287=$D$3,Worksheet!$B$9,IF(C287=$E$3,Worksheet!$D$9,FALSE)))))))))))","v":true},{"$f":"IF(AE287,D287,\"\")","v":"Hard"},{"$f":"IF(AE287,COUNTIF($AF$5:AF287,AF287),\"X\")","v":50},{"$f":"CONCATENATE(AE287,AF287)","v":"TRUEHard"}]
[{"$f":"CONCATENATE(AE288,D288,AG288)","v":"TRUEMedium125"},{"$f":"RAND()","v":0.2579426394509462},"Frac","Medium",108,"Divide the fractions:  ",{"$f":"IF(I288=4,CHOOSE(RANDBETWEEN(1,2),1,3),RANDBETWEEN(1,I288-1))","v":3},"/",{"$f":"RANDBETWEEN(5,8)","v":6},"×",{"$f":"RANDBETWEEN(1,MIN(M288-1,(G288/I288)*M288))","v":1},"/",{"$f":"SMALL(IF(I288={5,6,7,8},\"\",{5,6,7,8}),RANDBETWEEN(1,3))","v":8},{"$f":"IF(GCD(G288*M288,I288*K288)=1,\"\",\",    giving your answer in its simplest form\")","v":",    giving your answer in its simplest form"},null,null,null,null,null,{"$f":"CONCATENATE(F288,\" \",G288,\"\",H288,\"\",I288,\" \",J288,\" \",K288,\"\",L288,\"\",M288,\" \",N288,\"       \",O288,\" \",P288,\" \",Q288,\" \",R288)","v":"Divide the fractions:   3/6 × 1/8 ,    giving your answer in its simplest form          "},{"$f":"(G288*M288)/GCD(G288*M288,I288*K288)","v":4},"/",{"$f":"I288*K288/GCD(G288*M288,I288*K288)","v":1},null,null,{"$f":"IF(U288=0,NA(),\"\")","v":""},null,null,{"$f":"IF(ISERROR(T288),NA(),\"\")","v":""},{"$f":"IF(OR(ISNA(U288),ISNA(V288),ISNA(W288),ISNA(X288),ISNA(Y288),ISNA(Z288),ISNA(AA288),ISNA(AB288),ISNA(AC288)),NA(),CONCATENATE(U288,V288,W288,X288,Y288,Z288,AA288,AB288))","v":"4/1"},{"$f":"IF(ISNA(AD288),FALSE,IF(C288=$B$1,Worksheet!$B$3,IF(C288=$C$1,Worksheet!$B$4,IF(C288=$D$1,Worksheet!$B$5,IF(C288=$C$2,Worksheet!$D$3,IF(C288=$D$2,Worksheet!$D$4,IF(C288=$E$2,Worksheet!$D$5,IF(C288=$C$3,Worksheet!$D$6,IF(C288=$B$3,Worksheet!$B$6,IF(C288=$D$3,Worksheet!$B$9,IF(C288=$E$3,Worksheet!$D$9,FALSE)))))))))))","v":true},{"$f":"IF(AE288,D288,\"\")","v":"Medium"},{"$f":"IF(AE288,COUNTIF($AF$5:AF288,AF288),\"X\")","v":125},{"$f":"CONCATENATE(AE288,AF288)","v":"TRUEMedium"}]
[{"$f":"CONCATENATE(AE289,D289,AG289)","v":"TRUEMedium126"},{"$f":"RAND()","v":0.66100819717195192},"Surds","Medium",57,"What is ",{"$f":"RANDBETWEEN(2,100)","v":32},"to the power of 1?   (",{"$f":"G289","v":32},"^1 )",null,null,null,null,null,null,null,null,null,{"$f":"CONCATENATE(F289,\" \",G289,\" \",H289,\" \",I289,\"\",J289,\" \",K289,\" \",L289,\" \",M289,\" \",N289,\" \",O289,\" \",P289,\" \",Q289,\" \",R289)","v":"What is  32 to the power of 1?   ( 32^1 )        "},{"$f":"G289","v":32},null,null,null,null,null,null,null,{"$f":"IF(ISERROR(T289),NA(),\"\")","v":""},{"$f":"IF(OR(ISNA(U289),ISNA(V289),ISNA(W289),ISNA(X289),ISNA(Y289),ISNA(Z289),ISNA(AA289),ISNA(AB289),ISNA(AC289)),NA(),CONCATENATE(U289,V289,W289,X289,Y289,Z289,AA289,AB289))","v":"32"},{"$f":"IF(ISNA(AD289),FALSE,IF(C289=$B$1,Worksheet!$B$3,IF(C289=$C$1,Worksheet!$B$4,IF(C289=$D$1,Worksheet!$B$5,IF(C289=$C$2,Worksheet!$D$3,IF(C289=$D$2,Worksheet!$D$4,IF(C289=$E$2,Worksheet!$D$5,IF(C289=$C$3,Worksheet!$D$6,IF(C289=$B$3,Worksheet!$B$6,IF(C289=$D$3,Worksheet!$B$9,IF(C289=$E$3,Worksheet!$D$9,FALSE)))))))))))","v":true},{"$f":"IF(AE289,D289,\"\")","v":"Medium"},{"$f":"IF(AE289,COUNTIF($AF$5:AF289,AF289),\"X\")","v":126},{"$f":"CONCATENATE(AE289,AF289)","v":"TRUEMedium"}]
[{"$f":"CONCATENATE(AE290,D290,AG290)","v":"TRUEMedium127"},{"$f":"RAND()","v":0.94525119472196584},"Dec","Medium",121,"Write down the next two numbers in this decreasing pattern:               ",{"$f":"RANDBETWEEN(1001,9999)/100","v":64.92},"   ,   ",{"$f":"G290+$S290","v":64.72},"   ,   ",{"$f":"I290+$S290","v":64.52},"   ,   ",{"$f":"K290+$S290","v":64.319999999999993},"   ,   ","_______________","   ,   ","_______________",null,{"$f":"-1*10^RANDBETWEEN(-2,-1)*CHOOSE(RANDBETWEEN(1,2),2,5)","v":-0.2},{"$f":"CONCATENATE(F290,\" \",G290,\" \",H290,\" \",I290,\" \",J290,\" \",K290,\" \",L290,\" \",M290,\" \",N290,\" \",O290,\" \",P290,\" \",Q290,\" \",R290)","v":"Write down the next two numbers in this decreasing pattern:                64.92    ,    64.72    ,    64.52    ,    64.32    ,    _______________    ,    _______________ "},{"$f":"M290+S290","v":64.11999999999999},"    ,    ",{"$f":"U290+S290","v":63.919999999999987},null,null,null,null,null,{"$f":"IF(ISERROR(T290),NA(),\"\")","v":""},{"$f":"IF(OR(ISNA(U290),ISNA(V290),ISNA(W290),ISNA(X290),ISNA(Y290),ISNA(Z290),ISNA(AA290),ISNA(AB290),ISNA(AC290)),NA(),CONCATENATE(U290,V290,W290,X290,Y290,Z290,AA290,AB290))","v":"64.12    ,    63.92"},{"$f":"IF(ISNA(AD290),FALSE,IF(C290=$B$1,Worksheet!$B$3,IF(C290=$C$1,Worksheet!$B$4,IF(C290=$D$1,Worksheet!$B$5,IF(C290=$C$2,Worksheet!$D$3,IF(C290=$D$2,Worksheet!$D$4,IF(C290=$E$2,Worksheet!$D$5,IF(C290=$C$3,Worksheet!$D$6,IF(C290=$B$3,Worksheet!$B$6,IF(C290=$D$3,Worksheet!$B$9,IF(C290=$E$3,Worksheet!$D$9,FALSE)))))))))))","v":true},{"$f":"IF(AE290,D290,\"\")","v":"Medium"},{"$f":"IF(AE290,COUNTIF($AF$5:AF290,AF290),\"X\")","v":127},{"$f":"CONCATENATE(AE290,AF290)","v":"TRUEMedium"}]
[{"$f":"CONCATENATE(AE291,D291,AG291)","v":"TRUEMedium128"},{"$f":"RAND()","v":0.65479530773825445},"Eqn","Medium",346,"Solve the equation     ",{"$f":"CHOOSE(RANDBETWEEN(1,22),\"a\",\"b\",\"c\",\"d\",\"f\",\"g\",\"h\",\"j\",\"k\",\"m\",\"n\",\"p\",\"q\",\"r\",\"s\",\"t\",\"u\",\"v\",\"w\",\"x\",\"y\",\"z\")","v":"a"},"/",{"$f":"RANDBETWEEN(2,10)","v":3},"=",{"$f":"RANDBETWEEN(2,10)","v":8},null,null,null,null,null,null,null,null,{"$f":"CONCATENATE(F291,\" \",G291,\"\",H291,\"\",I291,\" \",J291,\" \",K291,\" \",L291,\" \",M291,\" \",N291,\" \",O291,\" \",P291,\" \",Q291,\" \",R291)","v":"Solve the equation      a/3 = 8       "},{"$f":"G291","v":"a"},"=",{"$f":"I291*K291","v":24},null,null,null,null,null,{"$f":"IF(L291<0,NA(),\"\")","v":""},{"$f":"IF(OR(ISNA(U291),ISNA(V291),ISNA(W291),ISNA(X291),ISNA(Y291),ISNA(Z291),ISNA(AA291),ISNA(AB291),ISNA(AC291)),NA(),CONCATENATE(U291,V291,W291,X291,Y291,Z291,AA291,AB291))","v":"a=24"},{"$f":"IF(ISNA(AD291),FALSE,IF(C291=$B$1,Worksheet!$B$3,IF(C291=$C$1,Worksheet!$B$4,IF(C291=$D$1,Worksheet!$B$5,IF(C291=$C$2,Worksheet!$D$3,IF(C291=$D$2,Worksheet!$D$4,IF(C291=$E$2,Worksheet!$D$5,IF(C291=$C$3,Worksheet!$D$6,IF(C291=$B$3,Worksheet!$B$6,IF(C291=$D$3,Worksheet!$B$9,IF(C291=$E$3,Worksheet!$D$9,FALSE)))))))))))","v":true},{"$f":"IF(AE291,D291,\"\")","v":"Medium"},{"$f":"IF(AE291,COUNTIF($AF$5:AF291,AF291),\"X\")","v":128},{"$f":"CONCATENATE(AE291,AF291)","v":"TRUEMedium"}]
[{"$f":"CONCATENATE(AE292,D292,AG292)","v":"TRUEEasy108"},{"$f":"RAND()","v":7.801102983307584E-2},"Dec","Easy",190,"Change the number ",{"$f":"RANDBETWEEN(1,9)+RANDBETWEEN(1,9)/10","v":9.6},"× 10^",{"$f":"RANDBETWEEN(-5,-1)","v":-4},"(10 to the power of",{"$f":"I292","v":-4},") from standard form to normal form",null,null,null,null,null,null,null,{"$f":"CONCATENATE(F292,\" \",G292,\" \",H292,\"(\",I292,\") \",J292,\" (\",K292,\")\",L292,\" \",M292,\" \",N292,\" \",O292,\" \",P292,\" \",Q292,\" \",R292)","v":"Change the number  9.6 × 10^(-4) (10 to the power of (-4)) from standard form to normal form      "},{"$f":"G292*10^I292","v":9.6000000000000002E-4},null,null,null,null,null,null,null,{"$f":"IF(ISERROR(T292),NA(),\"\")","v":""},{"$f":"IF(OR(ISNA(U292),ISNA(V292),ISNA(W292),ISNA(X292),ISNA(Y292),ISNA(Z292),ISNA(AA292),ISNA(AB292),ISNA(AC292)),NA(),CONCATENATE(U292,V292,W292,X292,Y292,Z292,AA292,AB292))","v":"0.00096"},{"$f":"IF(ISNA(AD292),FALSE,IF(C292=$B$1,Worksheet!$B$3,IF(C292=$C$1,Worksheet!$B$4,IF(C292=$D$1,Worksheet!$B$5,IF(C292=$C$2,Worksheet!$D$3,IF(C292=$D$2,Worksheet!$D$4,IF(C292=$E$2,Worksheet!$D$5,IF(C292=$C$3,Worksheet!$D$6,IF(C292=$B$3,Worksheet!$B$6,IF(C292=$D$3,Worksheet!$B$9,IF(C292=$E$3,Worksheet!$D$9,FALSE)))))))))))","v":true},{"$f":"IF(AE292,D292,\"\")","v":"Easy"},{"$f":"IF(AE292,COUNTIF($AF$5:AF292,AF292),\"X\")","v":108},{"$f":"CONCATENATE(AE292,AF292)","v":"TRUEEasy"}]
[{"$f":"CONCATENATE(AE293,D293,AG293)","v":"TRUEHard51"},{"$f":"RAND()","v":0.79180434721864146},"Dec","Hard",141,"What number is exactly half way between",{"$f":"RANDBETWEEN(1,9)+RANDBETWEEN(0,9)*0.1+RANDBETWEEN(1,9)*0.01+RANDBETWEEN(1,9)*0.001","v":6.4660000000000002},"and",{"$f":"G293+0.003","v":6.4690000000000003},"?",null,null,null,null,null,null,null,null,null,{"$f":"CONCATENATE(F293,\" \",G293,\" \",H293,\" \",I293,\"\",J293,\"\",K293,\" \",L293,\" \",M293,\" \",N293,\" \",O293,\" \",P293,\" \",Q293,\" \",R293)","v":"What number is exactly half way between 6.466 and 6.469?       "},{"$f":"G293+0.0015","v":6.4675000000000002},null,null,null,null,null,null,null,{"$f":"IF(ISERROR(T293),NA(),\"\")","v":""},{"$f":"IF(OR(ISNA(U293),ISNA(V293),ISNA(W293),ISNA(X293),ISNA(Y293),ISNA(Z293),ISNA(AA293),ISNA(AB293),ISNA(AC293)),NA(),CONCATENATE(U293,V293,W293,X293,Y293,Z293,AA293,AB293))","v":"6.4675"},{"$f":"IF(ISNA(AD293),FALSE,IF(C293=$B$1,Worksheet!$B$3,IF(C293=$C$1,Worksheet!$B$4,IF(C293=$D$1,Worksheet!$B$5,IF(C293=$C$2,Worksheet!$D$3,IF(C293=$D$2,Worksheet!$D$4,IF(C293=$E$2,Worksheet!$D$5,IF(C293=$C$3,Worksheet!$D$6,IF(C293=$B$3,Worksheet!$B$6,IF(C293=$D$3,Worksheet!$B$9,IF(C293=$E$3,Worksheet!$D$9,FALSE)))))))))))","v":true},{"$f":"IF(AE293,D293,\"\")","v":"Hard"},{"$f":"IF(AE293,COUNTIF($AF$5:AF293,AF293),\"X\")","v":51},{"$f":"CONCATENATE(AE293,AF293)","v":"TRUEHard"}]
[{"$f":"CONCATENATE(AE294,D294,AG294)","v":"TRUEMedium129"},{"$f":"RAND()","v":0.2038961843538708},"Num","Medium",7,"Write down the next two numbers in this decreasing pattern:               ",{"$f":"TEXT(RANDBETWEEN(1,99)*10^RANDBETWEEN(6,7)+RANDBETWEEN(0,9)*10^RANDBETWEEN(3,5),\"###,###\")","v":"220,900,000"},"   ,   ",{"$f":"TEXT(G294-$S294,\"###,###,###\")","v":"220,800,000"},"   ,   ",{"$f":"TEXT(I294-$S294,\"###,###,###\")","v":"220,700,000"},"   ,   ",{"$f":"TEXT(K294-$S294,\"###,###,###\")","v":"220,600,000"},"   ,   ","_______________","   ,   ","_______________",null,{"$f":"10^RANDBETWEEN(4,6)","v":100000},{"$f":"CONCATENATE(F294,\" \",G294,\" \",H294,\" \",I294,\" \",J294,\" \",K294,\" \",L294,\" \",M294,\" \",N294,\" \",O294,\" \",P294,\" \",Q294,\" \",R294)","v":"Write down the next two numbers in this decreasing pattern:                220,900,000    ,    220,800,000    ,    220,700,000    ,    220,600,000    ,    _______________    ,    _______________ "},{"$f":"TEXT(M294-S294,\"###,###,###\")","v":"220,500,000"},"    ,    ",{"$f":"TEXT(U294-S294,\"###,###,###\")","v":"220,400,000"},null,null,null,null,null,{"$f":"IF(ISERROR(T294),NA(),\"\")","v":""},{"$f":"IF(OR(ISNA(U294),ISNA(V294),ISNA(W294),ISNA(X294),ISNA(Y294),ISNA(Z294),ISNA(AA294),ISNA(AB294),ISNA(AC294)),NA(),CONCATENATE(U294,V294,W294,X294,Y294,Z294,AA294,AB294))","v":"220,500,000    ,    220,400,000"},{"$f":"IF(ISNA(AD294),FALSE,IF(C294=$B$1,Worksheet!$B$3,IF(C294=$C$1,Worksheet!$B$4,IF(C294=$D$1,Worksheet!$B$5,IF(C294=$C$2,Worksheet!$D$3,IF(C294=$D$2,Worksheet!$D$4,IF(C294=$E$2,Worksheet!$D$5,IF(C294=$C$3,Worksheet!$D$6,IF(C294=$B$3,Worksheet!$B$6,IF(C294=$D$3,Worksheet!$B$9,IF(C294=$E$3,Worksheet!$D$9,FALSE)))))))))))","v":true},{"$f":"IF(AE294,D294,\"\")","v":"Medium"},{"$f":"IF(AE294,COUNTIF($AF$5:AF294,AF294),\"X\")","v":129},{"$f":"CONCATENATE(AE294,AF294)","v":"TRUEMedium"}]
[{"$f":"CONCATENATE(AE295,D295,AG295)","v":"TRUEMedium130"},{"$f":"RAND()","v":0.46060594988851056},"Dec","Medium",201,"Write the number",{"$f":"RANDBETWEEN(2,9)/1000","v":5.0000000000000001E-3},"in standard form",null,null,null,null,null,null,null,null,null,null,null,{"$f":"CONCATENATE(F295,\" \",G295,\" \",H295,\" \",I295,\" \",J295,\" \",K295,\" \",L295,\" \",M295,\" \",N295,\" \",O295,\" \",P295,\" \",Q295,\" \",R295)","v":"Write the number 0.005 in standard form          "},{"$f":"G295*1000","v":5},"× 10^(-3)  (10 to the power of -3)",null,null,null,null,null,null,{"$f":"IF(ISERROR(T295),NA(),\"\")","v":""},{"$f":"IF(OR(ISNA(U295),ISNA(V295),ISNA(W295),ISNA(X295),ISNA(Y295),ISNA(Z295),ISNA(AA295),ISNA(AB295),ISNA(AC295)),NA(),CONCATENATE(U295,V295,W295,X295,Y295,Z295,AA295,AB295))","v":"5× 10^(-3)  (10 to the power of -3)"},{"$f":"IF(ISNA(AD295),FALSE,IF(C295=$B$1,Worksheet!$B$3,IF(C295=$C$1,Worksheet!$B$4,IF(C295=$D$1,Worksheet!$B$5,IF(C295=$C$2,Worksheet!$D$3,IF(C295=$D$2,Worksheet!$D$4,IF(C295=$E$2,Worksheet!$D$5,IF(C295=$C$3,Worksheet!$D$6,IF(C295=$B$3,Worksheet!$B$6,IF(C295=$D$3,Worksheet!$B$9,IF(C295=$E$3,Worksheet!$D$9,FALSE)))))))))))","v":true},{"$f":"IF(AE295,D295,\"\")","v":"Medium"},{"$f":"IF(AE295,COUNTIF($AF$5:AF295,AF295),\"X\")","v":130},{"$f":"CONCATENATE(AE295,AF295)","v":"TRUEMedium"}]
[{"$f":"CONCATENATE(AE296,D296,AG296)","v":"TRUEHard52"},{"$f":"RAND()","v":0.59423992213183907},"Dec","Hard",170,"Rewrite the numbers in order from ",{"$f":"IF(RAND()<0.5,\"smallest to biggest:   \",\"biggest to smallest:   \")","v":"smallest to biggest:   "},{"$f":"$S296/1000000+M296","v":2.6321149999999998},{"$f":"MROUND(($S296/RANDBETWEEN(2,3))/1000000,10^RANDBETWEEN(-3,-2))+M296","v":2.21},{"$f":"MROUND(($S296/RANDBETWEEN(4,5))/1000000,10^RANDBETWEEN(-5,-4))+M296","v":2.1580300000000001},{"$f":"MROUND(($S296/RANDBETWEEN(5,6))/1000000,10^RANDBETWEEN(-5,-1))+M296","v":2.105},{"$f":"MROUND(($S296*2/RANDBETWEEN(5,6))/1000000,10^RANDBETWEEN(-5,-1))+M296","v":2.21},{"$f":"RANDBETWEEN(2,8)","v":2},{"$f":"L296","v":2.21},{"$f":"H296","v":2.6321149999999998},{"$f":"I296","v":2.21},{"$f":"J296","v":2.1580300000000001},{"$f":"K296","v":2.105},{"$f":"RANDBETWEEN(101,999999)","v":632115},{"$f":"CONCATENATE(F296,\" \",G296,\" \",H296,\",   \",I296,\",   \",J296,\",    \",K296,\",    \",L296)","v":"Rewrite the numbers in order from  smallest to biggest:    2.632115,   2.21,   2.15803,    2.105,    2.21"},{"$f":"IF(LARGE($N296:$R296,IF($G296=\"biggest to smallest:   \",1,5))=$O296,$H296,IF(LARGE($N296:$R296,IF($G296=\"biggest to smallest:   \",1,5))=$P296,$I296,IF(LARGE($N296:$R296,IF($G296=\"biggest to smallest:   \",1,5))=$Q296,$J296,IF(LARGE($N296:$R296,IF($G296=\"biggest to smallest:   \",1,5))=$R296,$K296,$L296))))","v":2.105},{"$f":"IF(LARGE($N296:$R296,IF($G296=\"biggest to smallest:   \",2,4))=$O296,$H296,IF(LARGE($N296:$R296,IF($G296=\"biggest to smallest:   \",2,4))=$P296,$I296,IF(LARGE($N296:$R296,IF($G296=\"biggest to smallest:   \",2,4))=$Q296,$J296,IF(LARGE($N296:$R296,IF($G296=\"biggest to smallest:   \",2,4))=$R296,$K296,$L296))))","v":2.1580300000000001},{"$f":"IF(LARGE($N296:$R296,IF($G296=\"biggest to smallest:   \",3,3))=$O296,$H296,IF(LARGE($N296:$R296,IF($G296=\"biggest to smallest:   \",3,3))=$P296,$I296,IF(LARGE($N296:$R296,IF($G296=\"biggest to smallest:   \",3,3))=$Q296,$J296,IF(LARGE($N296:$R296,IF($G296=\"biggest to smallest:   \",3,3))=$R296,$K296,$L296))))","v":2.21},{"$f":"IF(LARGE($N296:$R296,IF($G296=\"biggest to smallest:   \",4,2))=$O296,$H296,IF(LARGE($N296:$R296,IF($G296=\"biggest to smallest:   \",4,2))=$P296,$I296,IF(LARGE($N296:$R296,IF($G296=\"biggest to smallest:   \",4,2))=$Q296,$J296,IF(LARGE($N296:$R296,IF($G296=\"biggest to smallest:   \",4,2))=$R296,$K296,$L296))))","v":2.21},{"$f":"IF(LARGE($N296:$R296,IF($G296=\"biggest to smallest:   \",5,1))=$O296,$H296,IF(LARGE($N296:$R296,IF($G296=\"biggest to smallest:   \",5,1))=$P296,$I296,IF(LARGE($N296:$R296,IF($G296=\"biggest to smallest:   \",5,1))=$Q296,$J296,IF(LARGE($N296:$R296,IF($G296=\"biggest to smallest:   \",5,1))=$R296,$K296,$L296))))","v":2.6321149999999998},null,null,{"$f":"IF(OR(H296=L296,I296=L296,J296=L296,K296=L296,I296=J296,I296=K296),NA(),\"\")","v":{"$error":"#N/A"}},{"$f":"IF(ISERROR(T296),NA(),\"\")","v":""},{"$f":"IF(OR(ISNA(U296),ISNA(V296),ISNA(W296),ISNA(X296),ISNA(Y296)),NA(),CONCATENATE(U296,\",   \",V296,\",   \",W296,\",   \",X296,\",   \",Y296,Z296,AA296,AB296,AC296))","v":{"$error":"#N/A"}},true,{"$f":"IF(AE296,D296,\"\")","v":"Hard"},{"$f":"IF(AE296,COUNTIF($AF$5:AF296,AF296),\"X\")","v":52},{"$f":"CONCATENATE(AE296,AF296)","v":"TRUEHard"}]
[{"$f":"CONCATENATE(AE297,D297,AG297)","v":"TRUEEasy109"},{"$f":"RAND()","v":5.9686651507903088E-3},"+-×÷","Easy",68,"Work out the value of:","(",{"$f":"IF(I297=\"–\",RANDBETWEEN(J297,9),RANDBETWEEN(1,9))","v":2},{"$f":"CHOOSE(RANDBETWEEN(1,2),\"+\",\"–\")","v":"+"},{"$f":"RANDBETWEEN(1,5)","v":4},")(",{"$f":"IF(M297=\"–\",RANDBETWEEN(N297,9),RANDBETWEEN(1,9))","v":6},{"$f":"CHOOSE(RANDBETWEEN(1,2),\"+\",\"–\")","v":"–"},{"$f":"RANDBETWEEN(1,5)","v":2},")",null,null,null,null,{"$f":"CONCATENATE(F297,\" \",G297,\" \",H297,\" \",I297,\" \",J297,\" \",K297,\" \",L297,\" \",M297,\" \",N297,\" \",O297,\" \",P297,\" \",Q297,\" \",R297)","v":"Work out the value of: ( 2 + 4 )( 6 – 2 )   "},{"$f":"(IF(I297=\"+\",H297+J297,H297-J297)*IF(M297=\"+\",L297+N297,L297-N297))","v":24},null,null,null,null,null,null,null,{"$f":"IF(ISERROR(T297),NA(),\"\")","v":""},{"$f":"IF(OR(ISNA(U297),ISNA(V297),ISNA(W297),ISNA(X297),ISNA(Y297),ISNA(Z297),ISNA(AA297),ISNA(AB297),ISNA(AC297)),NA(),CONCATENATE(U297,V297,W297,X297,Y297,Z297,AA297,AB297))","v":"24"},{"$f":"IF(ISNA(AD297),FALSE,IF(C297=$B$1,Worksheet!$B$3,IF(C297=$C$1,Worksheet!$B$4,IF(C297=$D$1,Worksheet!$B$5,IF(C297=$C$2,Worksheet!$D$3,IF(C297=$D$2,Worksheet!$D$4,IF(C297=$E$2,Worksheet!$D$5,IF(C297=$C$3,Worksheet!$D$6,IF(C297=$B$3,Worksheet!$B$6,IF(C297=$D$3,Worksheet!$B$9,IF(C297=$E$3,Worksheet!$D$9,FALSE)))))))))))","v":true},{"$f":"IF(AE297,D297,\"\")","v":"Easy"},{"$f":"IF(AE297,COUNTIF($AF$5:AF297,AF297),\"X\")","v":109},{"$f":"CONCATENATE(AE297,AF297)","v":"TRUEEasy"}]
[{"$f":"CONCATENATE(AE298,D298,AG298)","v":"TRUEMedium131"},{"$f":"RAND()","v":0.95386585818642589},"Eqn","Medium",324,"Solve the equation",{"$f":"RANDBETWEEN(2,10)","v":9},{"$f":"CHOOSE(RANDBETWEEN(1,22),\"a\",\"b\",\"c\",\"d\",\"f\",\"g\",\"h\",\"j\",\"k\",\"m\",\"n\",\"p\",\"q\",\"r\",\"s\",\"t\",\"u\",\"v\",\"w\",\"x\",\"y\",\"z\")","v":"q"},"–",{"$f":"RANDBETWEEN(1,10)","v":3},"=",{"$f":"G298*(W298/Y298)-J298","v":64},".      Show your working in full and give your answer as a fraction.",null,null,null,null,null,null,{"$f":"CONCATENATE(F298,\" \",G298,\"\",H298,\" \",I298,\" \",J298,\" \",K298,\" \",L298,\" \",M298,\" \",N298,\" \",O298,\" \",P298,\" \",Q298,\" \",R298)","v":"Solve the equation 9q – 3 = 64 .      Show your working in full and give your answer as a fraction.     "},{"$f":"H298","v":"q"}," = ",{"$f":"AB298*G298+AA298","v":67},"/",{"$f":"G298","v":9},null,{"$f":"RANDBETWEEN(1,G298)","v":4},{"$f":"RANDBETWEEN(1,10)","v":7},{"$f":"IF(L298<0,NA(),\"\")","v":""},{"$f":"IF(OR(ISNA(U298),ISNA(V298),ISNA(W298),ISNA(X298),ISNA(Y298),ISNA(Z298),ISNA(AA298),ISNA(AB298),ISNA(AC298)),NA(),CONCATENATE(U298,V298,W298,X298,Y298,Z298))","v":"q = 67/9"},{"$f":"IF(ISNA(AD298),FALSE,IF(C298=$B$1,Worksheet!$B$3,IF(C298=$C$1,Worksheet!$B$4,IF(C298=$D$1,Worksheet!$B$5,IF(C298=$C$2,Worksheet!$D$3,IF(C298=$D$2,Worksheet!$D$4,IF(C298=$E$2,Worksheet!$D$5,IF(C298=$C$3,Worksheet!$D$6,IF(C298=$B$3,Worksheet!$B$6,IF(C298=$D$3,Worksheet!$B$9,IF(C298=$E$3,Worksheet!$D$9,FALSE)))))))))))","v":true},{"$f":"IF(AE298,D298,\"\")","v":"Medium"},{"$f":"IF(AE298,COUNTIF($AF$5:AF298,AF298),\"X\")","v":131},{"$f":"CONCATENATE(AE298,AF298)","v":"TRUEMedium"}]
[{"$f":"CONCATENATE(AE299,D299,AG299)","v":"TRUEMedium132"},{"$f":"RAND()","v":0.56549946367003623},"%","Medium",279,"A",{"$f":"CHOOSE(RANDBETWEEN(1,4),\"holiday\",\"laptop\",\"scooter\",\"television\")","v":"laptop"},"costs £",{"$f":"100*RANDBETWEEN(4,9)","v":400},".  In a sale, its price is reduced by ",{"$f":"RANDBETWEEN(2,9)","v":9},"%",".  What is its price in the sale?",null,null,null,null,null,null,{"$f":"CONCATENATE(F299,\" \",G299,\" \",H299,\"\",I299,\" \",J299,\" \",K299,\"\",L299,\" \",M299,\" \",N299,\" \",O299,\" \",P299,\" \",Q299,\" \",R299)","v":"A laptop costs £400 .  In a sale, its price is reduced by  9% .  What is its price in the sale?     "},"£",{"$f":"(100-K299)/100*I299","v":364},null,null,null,null,null,null,{"$f":"IF(ISERROR(T299),NA(),\"\")","v":""},{"$f":"IF(OR(ISNA(U299),ISNA(V299),ISNA(W299),ISNA(X299),ISNA(Y299),ISNA(Z299),ISNA(AA299),ISNA(AB299),ISNA(AC299)),NA(),CONCATENATE(U299,V299,W299,X299,Y299,Z299,AA299,AB299))","v":"£364"},{"$f":"IF(ISNA(AD299),FALSE,IF(C299=$B$1,Worksheet!$B$3,IF(C299=$C$1,Worksheet!$B$4,IF(C299=$D$1,Worksheet!$B$5,IF(C299=$C$2,Worksheet!$D$3,IF(C299=$D$2,Worksheet!$D$4,IF(C299=$E$2,Worksheet!$D$5,IF(C299=$C$3,Worksheet!$D$6,IF(C299=$B$3,Worksheet!$B$6,IF(C299=$D$3,Worksheet!$B$9,IF(C299=$E$3,Worksheet!$D$9,FALSE)))))))))))","v":true},{"$f":"IF(AE299,D299,\"\")","v":"Medium"},{"$f":"IF(AE299,COUNTIF($AF$5:AF299,AF299),\"X\")","v":132},{"$f":"CONCATENATE(AE299,AF299)","v":"TRUEMedium"}]
[{"$f":"CONCATENATE(AE300,D300,AG300)","v":"TRUEEasy110"},{"$f":"RAND()","v":0.81627829074362745},"Dec","Easy",165,"Rewrite the numbers in order from ",{"$f":"IF(RAND()<0.5,\"smallest to biggest:   \",\"biggest to smallest:   \")","v":"biggest to smallest:   "},{"$f":"S300/100+RANDBETWEEN(0,1)","v":1.49},{"$f":"IF(RAND()<0.5,S300/100+S300/1000,(S300+RANDBETWEEN(-1*S300+1,10-S300-1))/100)+RANDBETWEEN(0,1)","v":1.0900000000000001},{"$f":"0.1+S300/1000+RANDBETWEEN(0,1)","v":1.149},{"$f":"S300/1000+RANDBETWEEN(0,1)","v":1.0489999999999999},{"$f":"H300-0.001*(-1)^RANDBETWEEN(1,2)","v":1.4909999999999999},null,{"$f":"L300","v":1.4909999999999999},{"$f":"H300","v":1.49},{"$f":"I300","v":1.0900000000000001},{"$f":"J300","v":1.149},{"$f":"K300","v":1.0489999999999999},{"$f":"RANDBETWEEN(2,88)","v":49},{"$f":"CONCATENATE(F300,\" \",G300,\" \",H300,\",   \",I300,\",   \",J300,\",    \",K300,\",    \",L300,\" \",M300)","v":"Rewrite the numbers in order from  biggest to smallest:    1.49,   1.09,   1.149,    1.049,    1.491 "},{"$f":"IF(LARGE($N300:$R300,IF($G300=\"biggest to smallest:   \",1,5))=$O300,$H300,IF(LARGE($N300:$R300,IF($G300=\"biggest to smallest:   \",1,5))=$P300,$I300,IF(LARGE($N300:$R300,IF($G300=\"biggest to smallest:   \",1,5))=$Q300,$J300,IF(LARGE($N300:$R300,IF($G300=\"biggest to smallest:   \",1,5))=$R300,$K300,$L300))))","v":1.4909999999999999},{"$f":"IF(LARGE($N300:$R300,IF($G300=\"biggest to smallest:   \",2,4))=$O300,$H300,IF(LARGE($N300:$R300,IF($G300=\"biggest to smallest:   \",2,4))=$P300,$I300,IF(LARGE($N300:$R300,IF($G300=\"biggest to smallest:   \",2,4))=$Q300,$J300,IF(LARGE($N300:$R300,IF($G300=\"biggest to smallest:   \",2,4))=$R300,$K300,$L300))))","v":1.49},{"$f":"IF(LARGE($N300:$R300,IF($G300=\"biggest to smallest:   \",3,3))=$O300,$H300,IF(LARGE($N300:$R300,IF($G300=\"biggest to smallest:   \",3,3))=$P300,$I300,IF(LARGE($N300:$R300,IF($G300=\"biggest to smallest:   \",3,3))=$Q300,$J300,IF(LARGE($N300:$R300,IF($G300=\"biggest to smallest:   \",3,3))=$R300,$K300,$L300))))","v":1.149},{"$f":"IF(LARGE($N300:$R300,IF($G300=\"biggest to smallest:   \",4,2))=$O300,$H300,IF(LARGE($N300:$R300,IF($G300=\"biggest to smallest:   \",4,2))=$P300,$I300,IF(LARGE($N300:$R300,IF($G300=\"biggest to smallest:   \",4,2))=$Q300,$J300,IF(LARGE($N300:$R300,IF($G300=\"biggest to smallest:   \",4,2))=$R300,$K300,$L300))))","v":1.0900000000000001},{"$f":"IF(LARGE($N300:$R300,IF($G300=\"biggest to smallest:   \",5,1))=$O300,$H300,IF(LARGE($N300:$R300,IF($G300=\"biggest to smallest:   \",5,1))=$P300,$I300,IF(LARGE($N300:$R300,IF($G300=\"biggest to smallest:   \",5,1))=$Q300,$J300,IF(LARGE($N300:$R300,IF($G300=\"biggest to smallest:   \",5,1))=$R300,$K300,$L300))))","v":1.0489999999999999},null,null,{"$f":"IF(OR(H300=L300,I300=L300,J300=L300,K300=L300,I300=J300,I300=K300),NA(),\"\")","v":""},{"$f":"IF(ISERROR(T300),NA(),\"\")","v":""},{"$f":"IF(OR(ISNA(U300),ISNA(V300),ISNA(W300),ISNA(X300),ISNA(Y300)),NA(),CONCATENATE(U300,\",   \",V300,\",   \",W300,\",   \",X300,\",   \",Y300,Z300,AA300,AB300,AC300))","v":"1.491,   1.49,   1.149,   1.09,   1.049"},true,{"$f":"IF(AE300,D300,\"\")","v":"Easy"},{"$f":"IF(AE300,COUNTIF($AF$5:AF300,AF300),\"X\")","v":110},{"$f":"CONCATENATE(AE300,AF300)","v":"TRUEEasy"}]
[{"$f":"CONCATENATE(AE301,D301,AG301)","v":"TRUEHard53"},{"$f":"RAND()","v":0.83296305499092349},"Dec","Hard",240,"Divide: ",{"$f":"9*RANDBETWEEN(11,99)+RANDBETWEEN(1,8)","v":460}," ÷ ",9,", giving your answer as a decimal rounded to 3 decimal places",null,null,null,null,null,null,null,null,null,{"$f":"CONCATENATE(F301,\" \",G301,\" \",H301,\" \",I301,\" \",J301,\" \",K301,\" \",L301,\" \",M301,\" \",N301,\" \",O301,\" \",P301,\" \",Q301,\" \",R301)","v":"Divide:  460  ÷  9 , giving your answer as a decimal rounded to 3 decimal places        "},{"$f":"MROUND(G301/I301,0.001)","v":51.111000000000004},null,null,null,null,null,null,null,{"$f":"IF(ISERROR(T301),NA(),\"\")","v":""},{"$f":"IF(OR(ISNA(U301),ISNA(V301),ISNA(W301),ISNA(X301),ISNA(Y301),ISNA(Z301),ISNA(AA301),ISNA(AB301),ISNA(AC301)),NA(),CONCATENATE(U301,V301,W301,X301,Y301,Z301,AA301,AB301))","v":"51.111"},{"$f":"IF(ISNA(AD301),FALSE,IF(C301=$B$1,Worksheet!$B$3,IF(C301=$C$1,Worksheet!$B$4,IF(C301=$D$1,Worksheet!$B$5,IF(C301=$C$2,Worksheet!$D$3,IF(C301=$D$2,Worksheet!$D$4,IF(C301=$E$2,Worksheet!$D$5,IF(C301=$C$3,Worksheet!$D$6,IF(C301=$B$3,Worksheet!$B$6,IF(C301=$D$3,Worksheet!$B$9,IF(C301=$E$3,Worksheet!$D$9,FALSE)))))))))))","v":true},{"$f":"IF(AE301,D301,\"\")","v":"Hard"},{"$f":"IF(AE301,COUNTIF($AF$5:AF301,AF301),\"X\")","v":53},{"$f":"CONCATENATE(AE301,AF301)","v":"TRUEHard"}]
[{"$f":"CONCATENATE(AE302,D302,AG302)","v":"TRUEMedium133"},{"$f":"RAND()","v":5.8886616490353427E-3},"+-×÷","Medium",63,"Divide without a calculator, writing down a sum if you need to:",{"$f":"TEXT(I302*RANDBETWEEN(12,35)*10^RANDBETWEEN(0,3),\"###,###\")","v":"78,000,000"}," ÷ ",{"$f":"RANDBETWEEN(2,9)*10^RANDBETWEEN(1,3)","v":6000},null,null,null,null,null,null,null,null,null,null,{"$f":"CONCATENATE(F302,\" \",G302,\" \",H302,\" \",I302,\" \",J302,\" \",K302,\" \",L302,\" \",M302,\" \",N302,\" \",O302,\" \",P302,\" \",Q302,\" \",R302)","v":"Divide without a calculator, writing down a sum if you need to: 78,000,000  ÷  6000         "},{"$f":"G302/I302","v":13000},null,null,null,null,null,null,null,{"$f":"IF(ISERROR(T302),NA(),\"\")","v":""},{"$f":"IF(OR(ISNA(U302),ISNA(V302),ISNA(W302),ISNA(X302),ISNA(Y302),ISNA(Z302),ISNA(AA302),ISNA(AB302),ISNA(AC302)),NA(),CONCATENATE(U302,V302,W302,X302,Y302,Z302,AA302,AB302))","v":"13000"},{"$f":"IF(ISNA(AD302),FALSE,IF(C302=$B$1,Worksheet!$B$3,IF(C302=$C$1,Worksheet!$B$4,IF(C302=$D$1,Worksheet!$B$5,IF(C302=$C$2,Worksheet!$D$3,IF(C302=$D$2,Worksheet!$D$4,IF(C302=$E$2,Worksheet!$D$5,IF(C302=$C$3,Worksheet!$D$6,IF(C302=$B$3,Worksheet!$B$6,IF(C302=$D$3,Worksheet!$B$9,IF(C302=$E$3,Worksheet!$D$9,FALSE)))))))))))","v":true},{"$f":"IF(AE302,D302,\"\")","v":"Medium"},{"$f":"IF(AE302,COUNTIF($AF$5:AF302,AF302),\"X\")","v":133},{"$f":"CONCATENATE(AE302,AF302)","v":"TRUEMedium"}]
[{"$f":"CONCATENATE(AE303,D303,AG303)","v":"TRUEMedium134"},{"$f":"RAND()","v":0.3393763076216515},"Dec","Medium",194,"Change the number ",{"$f":"RANDBETWEEN(1,9)+RANDBETWEEN(1,999)/1000","v":7.9359999999999999},"× 10^",{"$f":"RANDBETWEEN(-5,-1)","v":-4},"(10 to the power of",{"$f":"I303","v":-4},") from standard form to normal form",null,null,null,null,null,null,null,{"$f":"CONCATENATE(F303,\" \",G303,\" \",H303,\"(\",I303,\") \",J303,\" (\",K303,\")\",L303,\" \",M303,\" \",N303,\" \",O303,\" \",P303,\" \",Q303,\" \",R303)","v":"Change the number  7.936 × 10^(-4) (10 to the power of (-4)) from standard form to normal form      "},{"$f":"G303*10^I303","v":7.9359999999999999E-4},null,null,null,null,null,null,null,{"$f":"IF(ISERROR(T303),NA(),\"\")","v":""},{"$f":"IF(OR(ISNA(U303),ISNA(V303),ISNA(W303),ISNA(X303),ISNA(Y303),ISNA(Z303),ISNA(AA303),ISNA(AB303),ISNA(AC303)),NA(),CONCATENATE(U303,V303,W303,X303,Y303,Z303,AA303,AB303))","v":"0.0007936"},{"$f":"IF(ISNA(AD303),FALSE,IF(C303=$B$1,Worksheet!$B$3,IF(C303=$C$1,Worksheet!$B$4,IF(C303=$D$1,Worksheet!$B$5,IF(C303=$C$2,Worksheet!$D$3,IF(C303=$D$2,Worksheet!$D$4,IF(C303=$E$2,Worksheet!$D$5,IF(C303=$C$3,Worksheet!$D$6,IF(C303=$B$3,Worksheet!$B$6,IF(C303=$D$3,Worksheet!$B$9,IF(C303=$E$3,Worksheet!$D$9,FALSE)))))))))))","v":true},{"$f":"IF(AE303,D303,\"\")","v":"Medium"},{"$f":"IF(AE303,COUNTIF($AF$5:AF303,AF303),\"X\")","v":134},{"$f":"CONCATENATE(AE303,AF303)","v":"TRUEMedium"}]
[{"$f":"CONCATENATE(AE304,D304,AG304)","v":"TRUEEasy111"},{"$f":"RAND()","v":0.81996676644320077},"Alg","Easy",303,"Algebra.  If a =",{"$f":"RANDBETWEEN(-10,-2)","v":-7},"and b =",{"$f":"RANDBETWEEN(2,10)","v":8},", what is the value of:    ",{"$f":"RANDBETWEEN(3,9)","v":8},"a –",{"$f":"RANDBETWEEN(2,10)","v":7},"b ?",null,null,null,null,null,{"$f":"CONCATENATE(F304,\" \",G304,\" \",H304,\" \",I304,\" \",J304,\" \",K304,\"\",L304,\" \",M304,\"\",N304,\" \",O304,\" \",P304,\" \",Q304,\" \",R304)","v":"Algebra.  If a = -7 and b = 8 , what is the value of:     8a – 7b ?    "},{"$f":"K304*G304-I304*M304","v":-112},null,null,null,null,null,null,null,{"$f":"IF(ISERROR(T304),NA(),\"\")","v":""},{"$f":"IF(OR(ISNA(U304),ISNA(V304),ISNA(W304),ISNA(X304),ISNA(Y304),ISNA(Z304),ISNA(AA304),ISNA(AB304),ISNA(AC304)),NA(),CONCATENATE(U304,V304,W304,X304,Y304,Z304,AA304,AB304))","v":"-112"},{"$f":"IF(ISNA(AD304),FALSE,IF(C304=$B$1,Worksheet!$B$3,IF(C304=$C$1,Worksheet!$B$4,IF(C304=$D$1,Worksheet!$B$5,IF(C304=$C$2,Worksheet!$D$3,IF(C304=$D$2,Worksheet!$D$4,IF(C304=$E$2,Worksheet!$D$5,IF(C304=$C$3,Worksheet!$D$6,IF(C304=$B$3,Worksheet!$B$6,IF(C304=$D$3,Worksheet!$B$9,IF(C304=$E$3,Worksheet!$D$9,FALSE)))))))))))","v":true},{"$f":"IF(AE304,D304,\"\")","v":"Easy"},{"$f":"IF(AE304,COUNTIF($AF$5:AF304,AF304),\"X\")","v":111},{"$f":"CONCATENATE(AE304,AF304)","v":"TRUEEasy"}]
[{"$f":"CONCATENATE(AE305,D305,AG305)","v":"TRUEMedium135"},{"$f":"RAND()","v":0.27793981470605822},"Surds","Medium",46,"Simplify   √",{"$f":"CHOOSE(RANDBETWEEN(1,5),2,3,5,7,11)","v":11},"× ",{"$f":"RANDBETWEEN(2,10)","v":9},null,null,null,null,null,null,null,null,null,null,{"$f":"CONCATENATE(F305,\"\",G305,\" \",H305,\"\",I305,\" \",J305,\" \",K305,\" \",L305,\" \",M305,\" \",N305,\" \",O305,\" \",P305,\" \",Q305,\" \",R305)","v":"Simplify   √11 × 9         "},{"$f":"I305","v":9},"√",{"$f":"G305","v":11},null,null,null,null,null,{"$f":"IF(ISERROR(T305),NA(),\"\")","v":""},{"$f":"IF(OR(ISNA(U305),ISNA(V305),ISNA(W305),ISNA(X305),ISNA(Y305),ISNA(Z305),ISNA(AA305),ISNA(AB305),ISNA(AC305)),NA(),CONCATENATE(U305,V305,W305,X305,Y305,Z305,AA305,AB305))","v":"9√11"},{"$f":"IF(ISNA(AD305),FALSE,IF(C305=$B$1,Worksheet!$B$3,IF(C305=$C$1,Worksheet!$B$4,IF(C305=$D$1,Worksheet!$B$5,IF(C305=$C$2,Worksheet!$D$3,IF(C305=$D$2,Worksheet!$D$4,IF(C305=$E$2,Worksheet!$D$5,IF(C305=$C$3,Worksheet!$D$6,IF(C305=$B$3,Worksheet!$B$6,IF(C305=$D$3,Worksheet!$B$9,IF(C305=$E$3,Worksheet!$D$9,FALSE)))))))))))","v":true},{"$f":"IF(AE305,D305,\"\")","v":"Medium"},{"$f":"IF(AE305,COUNTIF($AF$5:AF305,AF305),\"X\")","v":135},{"$f":"CONCATENATE(AE305,AF305)","v":"TRUEMedium"}]
[{"$f":"CONCATENATE(AE306,D306,AG306)","v":"TRUEEasy112"},{"$f":"RAND()","v":0.46092900806731751},"Dec","Easy",146,"Fill in the blank:",{"$f":"RANDBETWEEN(1001,9999)/1000","v":5.2069999999999999},"+","________","=",{"$f":" ROUNDUP(G306,0)","v":6},null,null,null,null,null,null,null,null,{"$f":"CONCATENATE(F306,\" \",G306,\" \",H306,\" \",I306,\" \",J306,\" \",K306,\" \",L306,\" \",M306,\" \",N306,\" \",O306,\" \",P306,\" \",Q306,\" \",R306)","v":"Fill in the blank: 5.207 + ________ = 6       "},{"$f":"ROUND(K306-G306,3)","v":0.79300000000000004},null,null,null,null,null,null,null,{"$f":"IF(ISERROR(T306),NA(),\"\")","v":""},{"$f":"IF(OR(ISNA(U306),ISNA(V306),ISNA(W306),ISNA(X306),ISNA(Y306),ISNA(Z306),ISNA(AA306),ISNA(AB306),ISNA(AC306)),NA(),CONCATENATE(U306,V306,W306,X306,Y306,Z306,AA306,AB306))","v":"0.793"},{"$f":"IF(ISNA(AD306),FALSE,IF(C306=$B$1,Worksheet!$B$3,IF(C306=$C$1,Worksheet!$B$4,IF(C306=$D$1,Worksheet!$B$5,IF(C306=$C$2,Worksheet!$D$3,IF(C306=$D$2,Worksheet!$D$4,IF(C306=$E$2,Worksheet!$D$5,IF(C306=$C$3,Worksheet!$D$6,IF(C306=$B$3,Worksheet!$B$6,IF(C306=$D$3,Worksheet!$B$9,IF(C306=$E$3,Worksheet!$D$9,FALSE)))))))))))","v":true},{"$f":"IF(AE306,D306,\"\")","v":"Easy"},{"$f":"IF(AE306,COUNTIF($AF$5:AF306,AF306),\"X\")","v":112},{"$f":"CONCATENATE(AE306,AF306)","v":"TRUEEasy"}]
[{"$f":"CONCATENATE(AE307,D307,AG307)","v":"TRUEEasy113"},{"$f":"RAND()","v":0.82817281172080592},"+-×÷","Easy",151,"Multiply by writing down a sum:   ",{"$f":"RANDBETWEEN(101,999)/100+RANDBETWEEN(1,9)*0.001","v":2.5430000000000001},"×",{"$f":"RANDBETWEEN(3,9)","v":5},null,null,null,null,null,null,null,null,null,null,{"$f":"CONCATENATE(F307,\" \",G307,\" \",H307,\" \",I307,\" \",J307,\" \",K307,\" \",L307,\" \",M307,\" \",N307,\" \",O307,\" \",P307,\" \",Q307,\" \",R307)","v":"Multiply by writing down a sum:    2.543 × 5         "},{"$f":"G307*I307","v":12.715},null,null,null,null,null,null,null,{"$f":"IF(ISERROR(T307),NA(),\"\")","v":""},{"$f":"IF(OR(ISNA(U307),ISNA(V307),ISNA(W307),ISNA(X307),ISNA(Y307),ISNA(Z307),ISNA(AA307),ISNA(AB307),ISNA(AC307)),NA(),CONCATENATE(U307,V307,W307,X307,Y307,Z307,AA307,AB307))","v":"12.715"},{"$f":"IF(ISNA(AD307),FALSE,IF(C307=$B$1,Worksheet!$B$3,IF(C307=$C$1,Worksheet!$B$4,IF(C307=$D$1,Worksheet!$B$5,IF(C307=$C$2,Worksheet!$D$3,IF(C307=$D$2,Worksheet!$D$4,IF(C307=$E$2,Worksheet!$D$5,IF(C307=$C$3,Worksheet!$D$6,IF(C307=$B$3,Worksheet!$B$6,IF(C307=$D$3,Worksheet!$B$9,IF(C307=$E$3,Worksheet!$D$9,FALSE)))))))))))","v":true},{"$f":"IF(AE307,D307,\"\")","v":"Easy"},{"$f":"IF(AE307,COUNTIF($AF$5:AF307,AF307),\"X\")","v":113},{"$f":"CONCATENATE(AE307,AF307)","v":"TRUEEasy"}]
[{"$f":"CONCATENATE(AE308,D308,AG308)","v":"TRUEEasy114"},{"$f":"RAND()","v":0.60418152719388252},"Round","Easy",175,"Round the number",{"$f":"TEXT(RANDBETWEEN(1000,99999)*10+RANDBETWEEN(1,9),\"###,###\")","v":"413,708"},"to the nearest ",{"$f":"CHOOSE(RANDBETWEEN(1,2),\"thousand\",\"hundred\")","v":"hundred"},null,null,null,null,null,null,null,null,null,null,{"$f":"CONCATENATE(F308,\" \",G308,\" \",H308,\" \",I308,\" \",J308,\" \",K308,\" \",L308,\" \",M308,\" \",N308,\" \",O308,\" \",P308,\" \",Q308,\" \",R308)","v":"Round the number 413,708 to the nearest  hundred         "},{"$f":"MROUND(G308,IF(I308=\"thousand\",1000,100))","v":413700},null,null,null,null,null,null,null,{"$f":"IF(ISERROR(T308),NA(),\"\")","v":""},{"$f":"IF(OR(ISNA(U308),ISNA(V308),ISNA(W308),ISNA(X308),ISNA(Y308),ISNA(Z308),ISNA(AA308),ISNA(AB308),ISNA(AC308)),NA(),CONCATENATE(U308,V308,W308,X308,Y308,Z308,AA308,AB308))","v":"413700"},{"$f":"IF(ISNA(AD308),FALSE,IF(C308=$B$1,Worksheet!$B$3,IF(C308=$C$1,Worksheet!$B$4,IF(C308=$D$1,Worksheet!$B$5,IF(C308=$C$2,Worksheet!$D$3,IF(C308=$D$2,Worksheet!$D$4,IF(C308=$E$2,Worksheet!$D$5,IF(C308=$C$3,Worksheet!$D$6,IF(C308=$B$3,Worksheet!$B$6,IF(C308=$D$3,Worksheet!$B$9,IF(C308=$E$3,Worksheet!$D$9,FALSE)))))))))))","v":true},{"$f":"IF(AE308,D308,\"\")","v":"Easy"},{"$f":"IF(AE308,COUNTIF($AF$5:AF308,AF308),\"X\")","v":114},{"$f":"CONCATENATE(AE308,AF308)","v":"TRUEEasy"}]
[{"$f":"CONCATENATE(AE309,D309,AG309)","v":"TRUEEasy115"},{"$f":"RAND()","v":5.2362700058197653E-2},"Surds","Easy",16,"Square numbers.    Calculate: ",{"$f":"RANDBETWEEN(2,9)*10","v":30},"²",null,null,null,null,null,null,null,null,null,null,null,{"$f":"CONCATENATE(F309,\" \",G309,\"\",H309,\" \",I309,\" \",J309,\" \",K309,\" \",L309,\" \",M309,\" \",N309,\" \",O309,\" \",P309,\" \",Q309,\" \",R309)","v":"Square numbers.    Calculate:  30²          "},{"$f":"G309^2","v":900},null,null,null,null,null,null,null,{"$f":"IF(ISERROR(T309),NA(),\"\")","v":""},{"$f":"IF(OR(ISNA(U309),ISNA(V309),ISNA(W309),ISNA(X309),ISNA(Y309),ISNA(Z309),ISNA(AA309),ISNA(AB309),ISNA(AC309)),NA(),CONCATENATE(U309,V309,W309,X309,Y309,Z309,AA309,AB309))","v":"900"},{"$f":"IF(ISNA(AD309),FALSE,IF(C309=$B$1,Worksheet!$B$3,IF(C309=$C$1,Worksheet!$B$4,IF(C309=$D$1,Worksheet!$B$5,IF(C309=$C$2,Worksheet!$D$3,IF(C309=$D$2,Worksheet!$D$4,IF(C309=$E$2,Worksheet!$D$5,IF(C309=$C$3,Worksheet!$D$6,IF(C309=$B$3,Worksheet!$B$6,IF(C309=$D$3,Worksheet!$B$9,IF(C309=$E$3,Worksheet!$D$9,FALSE)))))))))))","v":true},{"$f":"IF(AE309,D309,\"\")","v":"Easy"},{"$f":"IF(AE309,COUNTIF($AF$5:AF309,AF309),\"X\")","v":115},{"$f":"CONCATENATE(AE309,AF309)","v":"TRUEEasy"}]
[{"$f":"CONCATENATE(AE310,D310,AG310)","v":"TRUEEasy116"},{"$f":"RAND()","v":0.27957549721198727},"Frac","Easy",88,"Write the mixed number",{"$f":"RANDBETWEEN(1,5)","v":4},{"$f":"IF(J310=3,2,IF(J310=4,CHOOSE(RANDBETWEEN(1,2),1,3),IF(J310=5,RANDBETWEEN(1,4),IF(J310=6,CHOOSE(RANDBETWEEN(1,2),1,5),IF(J310=7,RANDBETWEEN(1,6),IF(J310=8,CHOOSE(RANDBETWEEN(1,4),1,3,5,7),IF(J310=9,CHOOSE(RANDBETWEEN(1,5),1,2,4,5,7),CHOOSE(RANDBETWEEN(1,4),1,3,7,9))))))))","v":5},"/",{"$f":"RANDBETWEEN(3,10)","v":6},"as a topheavy fraction",null,null,null,null,null,null,null,null,{"$f":"CONCATENATE(F310,\"   \",G310,\"   \",H310,\"\",I310,\"\",J310,\"   \",K310,\" \",L310,\" \",M310,\" \",N310,\" \",O310,\" \",P310,\" \",Q310,\" \",R310)","v":"Write the mixed number   4   5/6   as a topheavy fraction       "},{"$f":"J310*G310+H310","v":29},"/",{"$f":"J310","v":6},null,null,null,null,null,{"$f":"IF(ISERROR(T310),NA(),\"\")","v":""},{"$f":"IF(OR(ISNA(U310),ISNA(V310),ISNA(W310),ISNA(X310),ISNA(Y310),ISNA(Z310),ISNA(AA310),ISNA(AB310),ISNA(AC310)),NA(),CONCATENATE(U310,V310,W310,X310,Y310,Z310,AA310,AB310))","v":"29/6"},{"$f":"IF(ISNA(AD310),FALSE,IF(C310=$B$1,Worksheet!$B$3,IF(C310=$C$1,Worksheet!$B$4,IF(C310=$D$1,Worksheet!$B$5,IF(C310=$C$2,Worksheet!$D$3,IF(C310=$D$2,Worksheet!$D$4,IF(C310=$E$2,Worksheet!$D$5,IF(C310=$C$3,Worksheet!$D$6,IF(C310=$B$3,Worksheet!$B$6,IF(C310=$D$3,Worksheet!$B$9,IF(C310=$E$3,Worksheet!$D$9,FALSE)))))))))))","v":true},{"$f":"IF(AE310,D310,\"\")","v":"Easy"},{"$f":"IF(AE310,COUNTIF($AF$5:AF310,AF310),\"X\")","v":116},{"$f":"CONCATENATE(AE310,AF310)","v":"TRUEEasy"}]
[{"$f":"CONCATENATE(AE311,D311,AG311)","v":"TRUEHard54"},{"$f":"RAND()","v":0.96029351388409478},"Dec","Hard",239,"Divide: ",{"$f":"7*RANDBETWEEN(11,99)+RANDBETWEEN(1,6)","v":176}," ÷ ",7,", giving your answer as a decimal rounded to 3 decimal places",null,null,null,null,null,null,null,null,null,{"$f":"CONCATENATE(F311,\" \",G311,\" \",H311,\" \",I311,\" \",J311,\" \",K311,\" \",L311,\" \",M311,\" \",N311,\" \",O311,\" \",P311,\" \",Q311,\" \",R311)","v":"Divide:  176  ÷  7 , giving your answer as a decimal rounded to 3 decimal places        "},{"$f":"MROUND(G311/I311,0.001)","v":25.143000000000001},null,null,null,null,null,null,null,{"$f":"IF(ISERROR(T311),NA(),\"\")","v":""},{"$f":"IF(OR(ISNA(U311),ISNA(V311),ISNA(W311),ISNA(X311),ISNA(Y311),ISNA(Z311),ISNA(AA311),ISNA(AB311),ISNA(AC311)),NA(),CONCATENATE(U311,V311,W311,X311,Y311,Z311,AA311,AB311))","v":"25.143"},{"$f":"IF(ISNA(AD311),FALSE,IF(C311=$B$1,Worksheet!$B$3,IF(C311=$C$1,Worksheet!$B$4,IF(C311=$D$1,Worksheet!$B$5,IF(C311=$C$2,Worksheet!$D$3,IF(C311=$D$2,Worksheet!$D$4,IF(C311=$E$2,Worksheet!$D$5,IF(C311=$C$3,Worksheet!$D$6,IF(C311=$B$3,Worksheet!$B$6,IF(C311=$D$3,Worksheet!$B$9,IF(C311=$E$3,Worksheet!$D$9,FALSE)))))))))))","v":true},{"$f":"IF(AE311,D311,\"\")","v":"Hard"},{"$f":"IF(AE311,COUNTIF($AF$5:AF311,AF311),\"X\")","v":54},{"$f":"CONCATENATE(AE311,AF311)","v":"TRUEHard"}]
[{"$f":"CONCATENATE(AE312,D312,AG312)","v":"TRUEHard55"},{"$f":"RAND()","v":0.57355640669792307},"Surds","Hard",59,"What is ",{"$f":"RANDBETWEEN(2,100)","v":31},"to the power of 0?   (",{"$f":"G312","v":31},"^0 )",null,null,null,null,null,null,null,null,null,{"$f":"CONCATENATE(F312,\" \",G312,\" \",H312,\" \",I312,\"\",J312,\" \",K312,\" \",L312,\" \",M312,\" \",N312,\" \",O312,\" \",P312,\" \",Q312,\" \",R312)","v":"What is  31 to the power of 0?   ( 31^0 )        "},1,null,null,null,null,null,null,null,{"$f":"IF(ISERROR(T312),NA(),\"\")","v":""},{"$f":"IF(OR(ISNA(U312),ISNA(V312),ISNA(W312),ISNA(X312),ISNA(Y312),ISNA(Z312),ISNA(AA312),ISNA(AB312),ISNA(AC312)),NA(),CONCATENATE(U312,V312,W312,X312,Y312,Z312,AA312,AB312))","v":"1"},{"$f":"IF(ISNA(AD312),FALSE,IF(C312=$B$1,Worksheet!$B$3,IF(C312=$C$1,Worksheet!$B$4,IF(C312=$D$1,Worksheet!$B$5,IF(C312=$C$2,Worksheet!$D$3,IF(C312=$D$2,Worksheet!$D$4,IF(C312=$E$2,Worksheet!$D$5,IF(C312=$C$3,Worksheet!$D$6,IF(C312=$B$3,Worksheet!$B$6,IF(C312=$D$3,Worksheet!$B$9,IF(C312=$E$3,Worksheet!$D$9,FALSE)))))))))))","v":true},{"$f":"IF(AE312,D312,\"\")","v":"Hard"},{"$f":"IF(AE312,COUNTIF($AF$5:AF312,AF312),\"X\")","v":55},{"$f":"CONCATENATE(AE312,AF312)","v":"TRUEHard"}]
[{"$f":"CONCATENATE(AE313,D313,AG313)","v":"TRUEEasy117"},{"$f":"RAND()","v":0.86923066995749132},"Frac","Easy",84,"Write the topheavy fraction ",{"$f":"3*RANDBETWEEN(1,5)+RANDBETWEEN(1,2)","v":8},"/3","as a mixed number",null,null,null,null,null,null,null,null,null,null,{"$f":"CONCATENATE(F313,\" \",G313,\"\",H313,\" \",I313,\" \",J313,\" \",K313,\" \",L313,\" \",M313,\" \",N313,\" \",O313,\" \",P313,\" \",Q313,\" \",R313)","v":"Write the topheavy fraction  8/3 as a mixed number         "},{"$f":"INT(G313/3)","v":2}," ",{"$f":"MOD(G313,3)","v":2},"/",3,null,null,null,{"$f":"IF(ISERROR(T313),NA(),\"\")","v":""},{"$f":"IF(OR(ISNA(U313),ISNA(V313),ISNA(W313),ISNA(X313),ISNA(Y313),ISNA(Z313),ISNA(AA313),ISNA(AB313),ISNA(AC313)),NA(),CONCATENATE(U313,V313,W313,X313,Y313,Z313,AA313,AB313))","v":"2 2/3"},{"$f":"IF(ISNA(AD313),FALSE,IF(C313=$B$1,Worksheet!$B$3,IF(C313=$C$1,Worksheet!$B$4,IF(C313=$D$1,Worksheet!$B$5,IF(C313=$C$2,Worksheet!$D$3,IF(C313=$D$2,Worksheet!$D$4,IF(C313=$E$2,Worksheet!$D$5,IF(C313=$C$3,Worksheet!$D$6,IF(C313=$B$3,Worksheet!$B$6,IF(C313=$D$3,Worksheet!$B$9,IF(C313=$E$3,Worksheet!$D$9,FALSE)))))))))))","v":true},{"$f":"IF(AE313,D313,\"\")","v":"Easy"},{"$f":"IF(AE313,COUNTIF($AF$5:AF313,AF313),\"X\")","v":117},{"$f":"CONCATENATE(AE313,AF313)","v":"TRUEEasy"}]
[{"$f":"CONCATENATE(AE314,D314,AG314)","v":"TRUEEasy118"},{"$f":"RAND()","v":0.98705002303302747},"Eqn","Easy",329,"Solve the inequation",{"$f":"RANDBETWEEN(2,10)","v":8},{"$f":"CHOOSE(RANDBETWEEN(1,22),\"a\",\"b\",\"c\",\"d\",\"f\",\"g\",\"h\",\"j\",\"k\",\"m\",\"n\",\"p\",\"q\",\"r\",\"s\",\"t\",\"u\",\"v\",\"w\",\"x\",\"y\",\"z\")","v":"q"},"–",{"$f":"RANDBETWEEN(1,10)","v":1},{"$f":"CHOOSE(RANDBETWEEN(1,4),\"<\",\">\",\"≤\",\"≥\")","v":"<"},{"$f":"G314*W314-J314","v":23},".      Show your working in full.",null,null,null,null,null,null,{"$f":"CONCATENATE(F314,\" \",G314,\"\",H314,\" \",I314,\" \",J314,\" \",K314,\" \",L314,\" \",M314,\" \",N314,\" \",O314,\" \",P314,\" \",Q314,\" \",R314)","v":"Solve the inequation 8q – 1 < 23 .      Show your working in full.     "},{"$f":"H314","v":"q"},{"$f":"K314","v":"<"},{"$f":"RANDBETWEEN(2,10)","v":3},null,null,null,null,null,{"$f":"IF(L314<0,NA(),\"\")","v":""},{"$f":"IF(OR(ISNA(U314),ISNA(V314),ISNA(W314),ISNA(X314),ISNA(Y314),ISNA(Z314),ISNA(AA314),ISNA(AB314),ISNA(AC314)),NA(),CONCATENATE(U314,\" \",V314,\" \",W314,X314,Y314,Z314,AA314,AB314))","v":"q < 3"},{"$f":"IF(ISNA(AD314),FALSE,IF(C314=$B$1,Worksheet!$B$3,IF(C314=$C$1,Worksheet!$B$4,IF(C314=$D$1,Worksheet!$B$5,IF(C314=$C$2,Worksheet!$D$3,IF(C314=$D$2,Worksheet!$D$4,IF(C314=$E$2,Worksheet!$D$5,IF(C314=$C$3,Worksheet!$D$6,IF(C314=$B$3,Worksheet!$B$6,IF(C314=$D$3,Worksheet!$B$9,IF(C314=$E$3,Worksheet!$D$9,FALSE)))))))))))","v":true},{"$f":"IF(AE314,D314,\"\")","v":"Easy"},{"$f":"IF(AE314,COUNTIF($AF$5:AF314,AF314),\"X\")","v":118},{"$f":"CONCATENATE(AE314,AF314)","v":"TRUEEasy"}]
[{"$f":"CONCATENATE(AE315,D315,AG315)","v":"TRUEMedium136"},{"$f":"RAND()","v":0.18536612763339944},"Alg","Medium",336,"Multiply out the bracket:",{"$f":"RANDBETWEEN(2,10)","v":9},"(",{"$f":"CHOOSE(RANDBETWEEN(1,22),\"a\",\"b\",\"c\",\"d\",\"f\",\"g\",\"h\",\"j\",\"k\",\"m\",\"n\",\"p\",\"q\",\"r\",\"s\",\"t\",\"u\",\"v\",\"w\",\"x\",\"y\",\"z\")","v":"h"},"–",{"$f":"RANDBETWEEN(1,10)","v":1},")","+",{"$f":"RANDBETWEEN(1,10)","v":8},{"$f":"I315","v":"h"},null,null,null,null,{"$f":"CONCATENATE(F315,\" \",G315,\" \",H315,\" \",I315,\" \",J315,\" \",K315,\" \",L315,\" \",M315,\" \",N315,\"\",O315,\" \",P315,\" \",Q315,\" \",R315)","v":"Multiply out the bracket: 9 ( h – 1 ) + 8h   "},{"$f":"CONCATENATE(G315+N315,I315,\" \",J315,\" \",G315*K315)","v":"17h – 9"},null,null,null,null,null,null,null,{"$f":"IF(L315<0,NA(),\"\")","v":""},{"$f":"IF(OR(ISNA(U315),ISNA(V315),ISNA(W315),ISNA(X315),ISNA(Y315),ISNA(Z315),ISNA(AA315),ISNA(AB315),ISNA(AC315)),NA(),CONCATENATE(U315,V315,W315,X315,Y315,Z315,AA315,AB315))","v":"17h – 9"},{"$f":"IF(ISNA(AD315),FALSE,IF(C315=$B$1,Worksheet!$B$3,IF(C315=$C$1,Worksheet!$B$4,IF(C315=$D$1,Worksheet!$B$5,IF(C315=$C$2,Worksheet!$D$3,IF(C315=$D$2,Worksheet!$D$4,IF(C315=$E$2,Worksheet!$D$5,IF(C315=$C$3,Worksheet!$D$6,IF(C315=$B$3,Worksheet!$B$6,IF(C315=$D$3,Worksheet!$B$9,IF(C315=$E$3,Worksheet!$D$9,FALSE)))))))))))","v":true},{"$f":"IF(AE315,D315,\"\")","v":"Medium"},{"$f":"IF(AE315,COUNTIF($AF$5:AF315,AF315),\"X\")","v":136},{"$f":"CONCATENATE(AE315,AF315)","v":"TRUEMedium"}]
[{"$f":"CONCATENATE(AE316,D316,AG316)","v":"TRUEEasy119"},{"$f":"RAND()","v":0.94653060834684899},"Surds","Easy",43,"What is (√",{"$f":"CHOOSE(RANDBETWEEN(1,7),2,3,5,7,11,13,17)","v":5},")² ?",null,null,null,null,null,null,null,null,null,null,null,{"$f":"CONCATENATE(F316,\"\",G316,\"\",H316,\" \",I316,\" \",J316,\" \",K316,\" \",L316,\" \",M316,\" \",N316,\" \",O316,\" \",P316,\" \",Q316,\" \",R316)","v":"What is (√5)² ?          "},{"$f":"G316","v":5},null,null,null,null,null,null,null,{"$f":"IF(ISERROR(T316),NA(),\"\")","v":""},{"$f":"IF(OR(ISNA(U316),ISNA(V316),ISNA(W316),ISNA(X316),ISNA(Y316),ISNA(Z316),ISNA(AA316),ISNA(AB316),ISNA(AC316)),NA(),CONCATENATE(U316,V316,W316,X316,Y316,Z316,AA316,AB316))","v":"5"},{"$f":"IF(ISNA(AD316),FALSE,IF(C316=$B$1,Worksheet!$B$3,IF(C316=$C$1,Worksheet!$B$4,IF(C316=$D$1,Worksheet!$B$5,IF(C316=$C$2,Worksheet!$D$3,IF(C316=$D$2,Worksheet!$D$4,IF(C316=$E$2,Worksheet!$D$5,IF(C316=$C$3,Worksheet!$D$6,IF(C316=$B$3,Worksheet!$B$6,IF(C316=$D$3,Worksheet!$B$9,IF(C316=$E$3,Worksheet!$D$9,FALSE)))))))))))","v":true},{"$f":"IF(AE316,D316,\"\")","v":"Easy"},{"$f":"IF(AE316,COUNTIF($AF$5:AF316,AF316),\"X\")","v":119},{"$f":"CONCATENATE(AE316,AF316)","v":"TRUEEasy"}]
[{"$f":"CONCATENATE(AE317,D317,AG317)","v":"TRUEEasy120"},{"$f":"RAND()","v":0.35802250421766768},"Eqn","Easy",326,"Solve the equation",{"$f":"RANDBETWEEN(2,10)","v":6},{"$f":"CHOOSE(RANDBETWEEN(1,22),\"a\",\"b\",\"c\",\"d\",\"f\",\"g\",\"h\",\"j\",\"k\",\"m\",\"n\",\"p\",\"q\",\"r\",\"s\",\"t\",\"u\",\"v\",\"w\",\"x\",\"y\",\"z\")","v":"p"},"=",{"$f":"RANDBETWEEN(2,10)*G317+RANDBETWEEN(1,G317-1)","v":29},".      Give your answer as a fraction in its simplest form.",null,null,null,null,null,null,null,null,{"$f":"CONCATENATE(F317,\" \",G317,\"\",H317,\" \",I317,\" \",J317,\" \",K317,\" \",L317,\" \",M317,\" \",N317,\" \",O317,\" \",P317,\" \",Q317,\" \",R317)","v":"Solve the equation 6p = 29 .      Give your answer as a fraction in its simplest form.       "},{"$f":"H317","v":"p"}," = ",{"$f":"J317/GCD(G317,J317)","v":29},"/",{"$f":"G317/GCD(G317,J317)","v":6},null,null,null,{"$f":"IF(L317<0,NA(),\"\")","v":""},{"$f":"IF(OR(ISNA(U317),ISNA(V317),ISNA(W317),ISNA(X317),ISNA(Y317),ISNA(Z317),ISNA(AA317),ISNA(AB317),ISNA(AC317)),NA(),CONCATENATE(U317,V317,W317,X317,Y317,Z317))","v":"p = 29/6"},{"$f":"IF(ISNA(AD317),FALSE,IF(C317=$B$1,Worksheet!$B$3,IF(C317=$C$1,Worksheet!$B$4,IF(C317=$D$1,Worksheet!$B$5,IF(C317=$C$2,Worksheet!$D$3,IF(C317=$D$2,Worksheet!$D$4,IF(C317=$E$2,Worksheet!$D$5,IF(C317=$C$3,Worksheet!$D$6,IF(C317=$B$3,Worksheet!$B$6,IF(C317=$D$3,Worksheet!$B$9,IF(C317=$E$3,Worksheet!$D$9,FALSE)))))))))))","v":true},{"$f":"IF(AE317,D317,\"\")","v":"Easy"},{"$f":"IF(AE317,COUNTIF($AF$5:AF317,AF317),\"X\")","v":120},{"$f":"CONCATENATE(AE317,AF317)","v":"TRUEEasy"}]
[{"$f":"CONCATENATE(AE318,D318,AG318)","v":"TRUEHard56"},{"$f":"RAND()","v":0.24058209052441171},"Frac","Hard",83,"Write the fraction ",{"$f":"S318*U318","v":126},"/",{"$f":"S318*W318","v":189},"in its simplest form",null,null,null,null,null,null,null,null,{"$f":"2^RANDBETWEEN(0,4)*3^RANDBETWEEN(1,2)*5^RANDBETWEEN(0,2)*7^RANDBETWEEN(0,1)","v":63},{"$f":"CONCATENATE(F318,\" \",G318,\"\",H318,\"\",I318,\" \",J318,\" \",K318,\" \",L318,\" \",M318,\" \",N318,\" \",O318,\" \",P318,\" \",Q318,\" \",R318)","v":"Write the fraction  126/189 in its simplest form        "},{"$f":"IF(W318=3,2,IF(W318=4,CHOOSE(RANDBETWEEN(1,2),1,3),IF(W318=5,RANDBETWEEN(1,4),IF(W318=6,CHOOSE(RANDBETWEEN(1,2),1,5),IF(W318=7,RANDBETWEEN(1,6),IF(W318=8,CHOOSE(RANDBETWEEN(1,4),1,3,5,7),IF(W318=9,CHOOSE(RANDBETWEEN(1,5),1,2,4,5,7),CHOOSE(RANDBETWEEN(1,4),1,3,7,9))))))))","v":2},"/",{"$f":"RANDBETWEEN(3,10)","v":3},null,null,null,null,null,{"$f":"IF(ISERROR(T318),NA(),\"\")","v":""},{"$f":"IF(OR(ISNA(U318),ISNA(V318),ISNA(W318),ISNA(X318),ISNA(Y318),ISNA(Z318),ISNA(AA318),ISNA(AB318),ISNA(AC318)),NA(),CONCATENATE(U318,V318,W318,X318,Y318,Z318,AA318,AB318))","v":"2/3"},{"$f":"IF(ISNA(AD318),FALSE,IF(C318=$B$1,Worksheet!$B$3,IF(C318=$C$1,Worksheet!$B$4,IF(C318=$D$1,Worksheet!$B$5,IF(C318=$C$2,Worksheet!$D$3,IF(C318=$D$2,Worksheet!$D$4,IF(C318=$E$2,Worksheet!$D$5,IF(C318=$C$3,Worksheet!$D$6,IF(C318=$B$3,Worksheet!$B$6,IF(C318=$D$3,Worksheet!$B$9,IF(C318=$E$3,Worksheet!$D$9,FALSE)))))))))))","v":true},{"$f":"IF(AE318,D318,\"\")","v":"Hard"},{"$f":"IF(AE318,COUNTIF($AF$5:AF318,AF318),\"X\")","v":56},{"$f":"CONCATENATE(AE318,AF318)","v":"TRUEHard"}]
[{"$f":"CONCATENATE(AE319,D319,AG319)","v":"TRUEHard57"},{"$f":"RAND()","v":2.6682124493370485E-2},"Neg","Hard",229,"Work out of the value of:   ",{"$f":"RANDBETWEEN(1,20)","v":12},"– (–",{"$f":"RANDBETWEEN(2,5)","v":3},") × (–",{"$f":"RANDBETWEEN(2,5)","v":2},")","   (remember BODMAS)",null,null,null,null,null,null,{"$f":"CONCATENATE(F319,\" \",G319,\" \",H319,\"\",I319,\"\",J319,\"\",K319,\"\",L319,\" \",M319,\" \",N319,\" \",O319,\" \",P319,\" \",Q319,\" \",R319)","v":"Work out of the value of:    12 – (–3) × (–2)    (remember BODMAS)     "},{"$f":"G319-I319*K319","v":6},null,null,null,null,null,null,null,{"$f":"IF(ISERROR(T319),NA(),\"\")","v":""},{"$f":"IF(OR(ISNA(U319),ISNA(V319),ISNA(W319),ISNA(X319),ISNA(Y319),ISNA(Z319),ISNA(AA319),ISNA(AB319),ISNA(AC319)),NA(),CONCATENATE(U319,V319,W319,X319,Y319,Z319,AA319,AB319))","v":"6"},{"$f":"IF(ISNA(AD319),FALSE,IF(C319=$B$1,Worksheet!$B$3,IF(C319=$C$1,Worksheet!$B$4,IF(C319=$D$1,Worksheet!$B$5,IF(C319=$C$2,Worksheet!$D$3,IF(C319=$D$2,Worksheet!$D$4,IF(C319=$E$2,Worksheet!$D$5,IF(C319=$C$3,Worksheet!$D$6,IF(C319=$B$3,Worksheet!$B$6,IF(C319=$D$3,Worksheet!$B$9,IF(C319=$E$3,Worksheet!$D$9,FALSE)))))))))))","v":true},{"$f":"IF(AE319,D319,\"\")","v":"Hard"},{"$f":"IF(AE319,COUNTIF($AF$5:AF319,AF319),\"X\")","v":57},{"$f":"CONCATENATE(AE319,AF319)","v":"TRUEHard"}]
[{"$f":"CONCATENATE(AE320,D320,AG320)","v":"TRUEEasy121"},{"$f":"RAND()","v":0.78992627666312742},"Num","Easy",5,"Write down the next two numbers in this increasing pattern:               ",{"$f":"TEXT(RANDBETWEEN(1,99)*1000000+RANDBETWEEN(0,99)*10000+RANDBETWEEN(1,999),\"###,###\")","v":"51,560,763"},"   ,   ",{"$f":"TEXT(G320+$S320,\"###,###,###\")","v":"51,570,763"},"   ,   ",{"$f":"TEXT(I320+$S320,\"###,###,###\")","v":"51,580,763"},"   ,   ",{"$f":"TEXT(K320+$S320,\"###,###,###\")","v":"51,590,763"},"   ,   ","_______________","   ,   ","_______________",null,{"$f":"CHOOSE(RANDBETWEEN(1,3),10000,100000,1000000)","v":10000},{"$f":"CONCATENATE(F320,\" \",G320,\" \",H320,\" \",I320,\" \",J320,\" \",K320,\" \",L320,\" \",M320,\" \",N320,\" \",O320,\" \",P320,\" \",Q320,\" \",R320)","v":"Write down the next two numbers in this increasing pattern:                51,560,763    ,    51,570,763    ,    51,580,763    ,    51,590,763    ,    _______________    ,    _______________ "},{"$f":"TEXT(M320+S320,\"###,###,###\")","v":"51,600,763"},"    ,    ",{"$f":"TEXT(U320+S320,\"###,###,###\")","v":"51,610,763"},null,null,null,null,null,{"$f":"IF(ISERROR(T320),NA(),\"\")","v":""},{"$f":"IF(OR(ISNA(U320),ISNA(V320),ISNA(W320),ISNA(X320),ISNA(Y320),ISNA(Z320),ISNA(AA320),ISNA(AB320),ISNA(AC320)),NA(),CONCATENATE(U320,V320,W320,X320,Y320,Z320,AA320,AB320))","v":"51,600,763    ,    51,610,763"},{"$f":"IF(ISNA(AD320),FALSE,IF(C320=$B$1,Worksheet!$B$3,IF(C320=$C$1,Worksheet!$B$4,IF(C320=$D$1,Worksheet!$B$5,IF(C320=$C$2,Worksheet!$D$3,IF(C320=$D$2,Worksheet!$D$4,IF(C320=$E$2,Worksheet!$D$5,IF(C320=$C$3,Worksheet!$D$6,IF(C320=$B$3,Worksheet!$B$6,IF(C320=$D$3,Worksheet!$B$9,IF(C320=$E$3,Worksheet!$D$9,FALSE)))))))))))","v":true},{"$f":"IF(AE320,D320,\"\")","v":"Easy"},{"$f":"IF(AE320,COUNTIF($AF$5:AF320,AF320),\"X\")","v":121},{"$f":"CONCATENATE(AE320,AF320)","v":"TRUEEasy"}]
[{"$f":"CONCATENATE(AE321,D321,AG321)","v":"TRUEHard58"},{"$f":"RAND()","v":0.81051850561675953},"Surds","Hard",60,"What is",{"$f":"RANDBETWEEN(2,10)^2","v":36},"to the power of ½ ?   (",{"$f":"G321","v":36},"^ ½ )",null,null,null,null,null,null,null,null,null,{"$f":"CONCATENATE(F321,\" \",G321,\" \",H321,\" \",I321,\" \",J321,\" \",K321,\" \",L321,\" \",M321,\" \",N321,\" \",O321,\" \",P321,\" \",Q321,\" \",R321)","v":"What is 36 to the power of ½ ?   ( 36 ^ ½ )        "},{"$f":"SQRT(G321)","v":6},null,null,null,null,null,null,null,{"$f":"IF(ISERROR(T321),NA(),\"\")","v":""},{"$f":"IF(OR(ISNA(U321),ISNA(V321),ISNA(W321),ISNA(X321),ISNA(Y321),ISNA(Z321),ISNA(AA321),ISNA(AB321),ISNA(AC321)),NA(),CONCATENATE(U321,V321,W321,X321,Y321,Z321,AA321,AB321))","v":"6"},{"$f":"IF(ISNA(AD321),FALSE,IF(C321=$B$1,Worksheet!$B$3,IF(C321=$C$1,Worksheet!$B$4,IF(C321=$D$1,Worksheet!$B$5,IF(C321=$C$2,Worksheet!$D$3,IF(C321=$D$2,Worksheet!$D$4,IF(C321=$E$2,Worksheet!$D$5,IF(C321=$C$3,Worksheet!$D$6,IF(C321=$B$3,Worksheet!$B$6,IF(C321=$D$3,Worksheet!$B$9,IF(C321=$E$3,Worksheet!$D$9,FALSE)))))))))))","v":true},{"$f":"IF(AE321,D321,\"\")","v":"Hard"},{"$f":"IF(AE321,COUNTIF($AF$5:AF321,AF321),\"X\")","v":58},{"$f":"CONCATENATE(AE321,AF321)","v":"TRUEHard"}]
[{"$f":"CONCATENATE(AE322,D322,AG322)","v":"TRUEHard59"},{"$f":"RAND()","v":0.58299687465579109},"Frac","Hard",103,"Take away the fractions:  ",{"$f":"IF(I322=4,CHOOSE(RANDBETWEEN(1,2),1,3),RANDBETWEEN(1,I322-1))","v":2},"/",{"$f":"RANDBETWEEN(9,20)","v":9},"–",{"$f":"RANDBETWEEN(1,MIN(M322-1,(G322/I322)*M322))","v":3},"/",{"$f":"RANDBETWEEN(9,20)","v":19},{"$f":"IF(GCD(G322*M322+I322*K322,I322*M322)=1,\"\",\",    giving your answer in its simplest form\")","v":""},null,null,null,null,null,{"$f":"CONCATENATE(F322,\" \",G322,\"\",H322,\"\",I322,\" \",J322,\" \",K322,\"\",L322,\"\",M322,\" \",N322,\"       \",O322,\" \",P322,\" \",Q322,\" \",R322)","v":"Take away the fractions:   2/9 – 3/19           "},{"$f":"(G322*M322-I322*K322)/GCD(G322*M322+I322*K322,I322*M322)","v":11},"/",{"$f":"I322*M322/GCD(G322*M322-I322*K322,I322*M322)","v":171},null,null,{"$f":"IF(U322=0,NA(),\"\")","v":""},null,null,{"$f":"IF(ISERROR(T322),NA(),\"\")","v":""},{"$f":"IF(OR(ISNA(U322),ISNA(V322),ISNA(W322),ISNA(X322),ISNA(Y322),ISNA(Z322),ISNA(AA322),ISNA(AB322),ISNA(AC322)),NA(),CONCATENATE(U322,V322,W322,X322,Y322,Z322,AA322,AB322))","v":"11/171"},{"$f":"IF(ISNA(AD322),FALSE,IF(C322=$B$1,Worksheet!$B$3,IF(C322=$C$1,Worksheet!$B$4,IF(C322=$D$1,Worksheet!$B$5,IF(C322=$C$2,Worksheet!$D$3,IF(C322=$D$2,Worksheet!$D$4,IF(C322=$E$2,Worksheet!$D$5,IF(C322=$C$3,Worksheet!$D$6,IF(C322=$B$3,Worksheet!$B$6,IF(C322=$D$3,Worksheet!$B$9,IF(C322=$E$3,Worksheet!$D$9,FALSE)))))))))))","v":true},{"$f":"IF(AE322,D322,\"\")","v":"Hard"},{"$f":"IF(AE322,COUNTIF($AF$5:AF322,AF322),\"X\")","v":59},{"$f":"CONCATENATE(AE322,AF322)","v":"TRUEHard"}]
[{"$f":"CONCATENATE(AE323,D323,AG323)","v":"TRUEEasy122"},{"$f":"RAND()","v":0.13401980677616865},"Neg","Easy",212,"Divide:   ","(–",{"$f":"U323*K323","v":56},")","÷ (–",{"$f":"RANDBETWEEN(2,10)","v":8},")",null,null,null,null,null,null,null,{"$f":"CONCATENATE(F323,\" \",G323,\"\",H323,\"\",I323,\" \",J323,\"\",K323,\"\",L323,\" \",M323,\" \",N323,\" \",O323,\" \",P323,\" \",Q323,\" \",R323)","v":"Divide:    (–56) ÷ (–8)      "},{"$f":"RANDBETWEEN(2,10)","v":7},null,null,null,null,null,null,null,{"$f":"IF(ISERROR(T323),NA(),\"\")","v":""},{"$f":"IF(OR(ISNA(U323),ISNA(V323),ISNA(W323),ISNA(X323),ISNA(Y323),ISNA(Z323),ISNA(AA323),ISNA(AB323),ISNA(AC323)),NA(),CONCATENATE(U323,V323,W323,X323,Y323,Z323,AA323,AB323))","v":"7"},{"$f":"IF(ISNA(AD323),FALSE,IF(C323=$B$1,Worksheet!$B$3,IF(C323=$C$1,Worksheet!$B$4,IF(C323=$D$1,Worksheet!$B$5,IF(C323=$C$2,Worksheet!$D$3,IF(C323=$D$2,Worksheet!$D$4,IF(C323=$E$2,Worksheet!$D$5,IF(C323=$C$3,Worksheet!$D$6,IF(C323=$B$3,Worksheet!$B$6,IF(C323=$D$3,Worksheet!$B$9,IF(C323=$E$3,Worksheet!$D$9,FALSE)))))))))))","v":true},{"$f":"IF(AE323,D323,\"\")","v":"Easy"},{"$f":"IF(AE323,COUNTIF($AF$5:AF323,AF323),\"X\")","v":122},{"$f":"CONCATENATE(AE323,AF323)","v":"TRUEEasy"}]
[{"$f":"CONCATENATE(AE324,D324,AG324)","v":"TRUEHard60"},{"$f":"RAND()","v":0.54343076567051829},"Dec","Hard",242,"Divide: ",{"$f":"(7*RANDBETWEEN(11,99)+RANDBETWEEN(1,6))/10","v":58}," ÷ ",7,", giving your answer as a decimal rounded to 3 decimal places",null,null,null,null,null,null,null,null,null,{"$f":"CONCATENATE(F324,\" \",G324,\" \",H324,\" \",I324,\" \",J324,\" \",K324,\" \",L324,\" \",M324,\" \",N324,\" \",O324,\" \",P324,\" \",Q324,\" \",R324)","v":"Divide:  58  ÷  7 , giving your answer as a decimal rounded to 3 decimal places        "},{"$f":"MROUND(G324/I324,0.001)","v":8.2859999999999996},null,null,null,null,null,null,null,{"$f":"IF(ISERROR(T324),NA(),\"\")","v":""},{"$f":"IF(OR(ISNA(U324),ISNA(V324),ISNA(W324),ISNA(X324),ISNA(Y324),ISNA(Z324),ISNA(AA324),ISNA(AB324),ISNA(AC324)),NA(),CONCATENATE(U324,V324,W324,X324,Y324,Z324,AA324,AB324))","v":"8.286"},{"$f":"IF(ISNA(AD324),FALSE,IF(C324=$B$1,Worksheet!$B$3,IF(C324=$C$1,Worksheet!$B$4,IF(C324=$D$1,Worksheet!$B$5,IF(C324=$C$2,Worksheet!$D$3,IF(C324=$D$2,Worksheet!$D$4,IF(C324=$E$2,Worksheet!$D$5,IF(C324=$C$3,Worksheet!$D$6,IF(C324=$B$3,Worksheet!$B$6,IF(C324=$D$3,Worksheet!$B$9,IF(C324=$E$3,Worksheet!$D$9,FALSE)))))))))))","v":true},{"$f":"IF(AE324,D324,\"\")","v":"Hard"},{"$f":"IF(AE324,COUNTIF($AF$5:AF324,AF324),\"X\")","v":60},{"$f":"CONCATENATE(AE324,AF324)","v":"TRUEHard"}]
[{"$f":"CONCATENATE(AE325,D325,AG325)","v":"TRUEEasy123"},{"$f":"RAND()","v":0.32792243858567938},"Frac","Easy",76,"Fractions.     Without a calculator, work out:   ",{"$f":"TEXT(R325/S325,\"##/##\")","v":"33/70"},"of",{"$f":"S325*RANDBETWEEN(3,6)","v":210},null,null,null,null,null,null,null,null,{"$f":"RANDBETWEEN(2,S325-1)","v":33},{"$f":"RANDBETWEEN(2,10)*10","v":70},{"$f":"CONCATENATE(F325,\" \",G325,\" \",H325,\" \",I325,\" \",J325,\" \",K325,\" \",L325,\" \",M325,\" \",N325,\" \",O325,\" \",P325,\" \",Q325)","v":"Fractions.     Without a calculator, work out:    33/70 of 210        "},{"$f":"I325/S325*VALUE(LEFT(G325,1))","v":9},null,null,null,null,null,null,null,{"$f":"IF(ISERROR(T325),NA(),\"\")","v":""},{"$f":"IF(OR(ISNA(U325),ISNA(V325),ISNA(W325),ISNA(X325),ISNA(Y325),ISNA(Z325),ISNA(AA325),ISNA(AB325),ISNA(AC325)),NA(),CONCATENATE(U325,V325,W325,X325,Y325,Z325,AA325,AB325))","v":"9"},{"$f":"IF(ISNA(AD325),FALSE,IF(C325=$B$1,Worksheet!$B$3,IF(C325=$C$1,Worksheet!$B$4,IF(C325=$D$1,Worksheet!$B$5,IF(C325=$C$2,Worksheet!$D$3,IF(C325=$D$2,Worksheet!$D$4,IF(C325=$E$2,Worksheet!$D$5,IF(C325=$C$3,Worksheet!$D$6,IF(C325=$B$3,Worksheet!$B$6,IF(C325=$D$3,Worksheet!$B$9,IF(C325=$E$3,Worksheet!$D$9,FALSE)))))))))))","v":true},{"$f":"IF(AE325,D325,\"\")","v":"Easy"},{"$f":"IF(AE325,COUNTIF($AF$5:AF325,AF325),\"X\")","v":123},{"$f":"CONCATENATE(AE325,AF325)","v":"TRUEEasy"}]
[{"$f":"CONCATENATE(AE326,D326,AG326)","v":"TRUEEasy124"},{"$f":"RAND()","v":0.7490941364627185},"%","Easy",299,"Write",{"$f":"100+RANDBETWEEN(11,99)","v":149},"% as a decimal",null,null,null,null,null,null,null,null,null,null,null,{"$f":"CONCATENATE(F326,\" \",G326,\"\",H326,\" \",I326,\" \",J326,\" \",K326,\" \",L326,\" \",M326,\" \",N326,\" \",O326,\" \",P326,\" \",Q326,\" \",R326)","v":"Write 149% as a decimal          "},{"$f":"G326/100","v":1.49},null,null,null,null,null,null,null,{"$f":"IF(ISERROR(T326),NA(),\"\")","v":""},{"$f":"IF(OR(ISNA(U326),ISNA(V326),ISNA(W326),ISNA(X326),ISNA(Y326),ISNA(Z326),ISNA(AA326),ISNA(AB326),ISNA(AC326)),NA(),CONCATENATE(U326,V326,W326,X326,Y326,Z326,AA326,AB326))","v":"1.49"},{"$f":"IF(ISNA(AD326),FALSE,IF(C326=$B$1,Worksheet!$B$3,IF(C326=$C$1,Worksheet!$B$4,IF(C326=$D$1,Worksheet!$B$5,IF(C326=$C$2,Worksheet!$D$3,IF(C326=$D$2,Worksheet!$D$4,IF(C326=$E$2,Worksheet!$D$5,IF(C326=$C$3,Worksheet!$D$6,IF(C326=$B$3,Worksheet!$B$6,IF(C326=$D$3,Worksheet!$B$9,IF(C326=$E$3,Worksheet!$D$9,FALSE)))))))))))","v":true},{"$f":"IF(AE326,D326,\"\")","v":"Easy"},{"$f":"IF(AE326,COUNTIF($AF$5:AF326,AF326),\"X\")","v":124},{"$f":"CONCATENATE(AE326,AF326)","v":"TRUEEasy"}]
[{"$f":"CONCATENATE(AE327,D327,AG327)","v":"TRUEHard61"},{"$f":"RAND()","v":0.75514729282257065},"Dec","Hard",207,"Write the number",{"$f":"RANDBETWEEN(2,9)/1000+RANDBETWEEN(1,9)/10000","v":8.0999999999999996E-3},"in standard form",null,null,null,null,null,null,null,null,null,null,null,{"$f":"CONCATENATE(F327,\" \",G327,\" \",H327,\" \",I327,\" \",J327,\" \",K327,\" \",L327,\" \",M327,\" \",N327,\" \",O327,\" \",P327,\" \",Q327,\" \",R327)","v":"Write the number 0.0081 in standard form          "},{"$f":"G327*1000","v":8.1},"× 10^(-3)  (10 to the power of -3)",null,null,null,null,null,null,{"$f":"IF(ISERROR(T327),NA(),\"\")","v":""},{"$f":"IF(OR(ISNA(U327),ISNA(V327),ISNA(W327),ISNA(X327),ISNA(Y327),ISNA(Z327),ISNA(AA327),ISNA(AB327),ISNA(AC327)),NA(),CONCATENATE(U327,V327,W327,X327,Y327,Z327,AA327,AB327))","v":"8.1× 10^(-3)  (10 to the power of -3)"},{"$f":"IF(ISNA(AD327),FALSE,IF(C327=$B$1,Worksheet!$B$3,IF(C327=$C$1,Worksheet!$B$4,IF(C327=$D$1,Worksheet!$B$5,IF(C327=$C$2,Worksheet!$D$3,IF(C327=$D$2,Worksheet!$D$4,IF(C327=$E$2,Worksheet!$D$5,IF(C327=$C$3,Worksheet!$D$6,IF(C327=$B$3,Worksheet!$B$6,IF(C327=$D$3,Worksheet!$B$9,IF(C327=$E$3,Worksheet!$D$9,FALSE)))))))))))","v":true},{"$f":"IF(AE327,D327,\"\")","v":"Hard"},{"$f":"IF(AE327,COUNTIF($AF$5:AF327,AF327),\"X\")","v":61},{"$f":"CONCATENATE(AE327,AF327)","v":"TRUEHard"}]
[{"$f":"CONCATENATE(AE328,D328,AG328)","v":"TRUEEasy125"},{"$f":"RAND()","v":0.41563795423908756},"Round","Easy",172,"Round the number",{"$f":"ROUND(RAND(),5)","v":0.19347},"to",{"$f":"CHOOSE(RANDBETWEEN(1,2),\"two\",\"three\")","v":"two"},{"$f":"CONCATENATE(\"decimal place\",IF(I328=\"one\",\"\",\"s\"))","v":"decimal places"},null,null,null,null,null,null,null,null,null,{"$f":"CONCATENATE(F328,\" \",G328,\" \",H328,\" \",I328,\" \",J328,\" \",K328,\" \",L328,\" \",M328,\" \",N328,\" \",O328,\" \",P328,\" \",Q328,\" \",R328)","v":"Round the number 0.19347 to two decimal places        "},{"$f":"ROUND(G328,IF(I328=\"two\",2,3))","v":0.19},null,null,null,null,null,null,null,{"$f":"IF(ISERROR(T328),NA(),\"\")","v":""},{"$f":"IF(OR(ISNA(U328),ISNA(V328),ISNA(W328),ISNA(X328),ISNA(Y328),ISNA(Z328),ISNA(AA328),ISNA(AB328),ISNA(AC328)),NA(),CONCATENATE(U328,V328,W328,X328,Y328,Z328,AA328,AB328))","v":"0.19"},{"$f":"IF(ISNA(AD328),FALSE,IF(C328=$B$1,Worksheet!$B$3,IF(C328=$C$1,Worksheet!$B$4,IF(C328=$D$1,Worksheet!$B$5,IF(C328=$C$2,Worksheet!$D$3,IF(C328=$D$2,Worksheet!$D$4,IF(C328=$E$2,Worksheet!$D$5,IF(C328=$C$3,Worksheet!$D$6,IF(C328=$B$3,Worksheet!$B$6,IF(C328=$D$3,Worksheet!$B$9,IF(C328=$E$3,Worksheet!$D$9,FALSE)))))))))))","v":true},{"$f":"IF(AE328,D328,\"\")","v":"Easy"},{"$f":"IF(AE328,COUNTIF($AF$5:AF328,AF328),\"X\")","v":125},{"$f":"CONCATENATE(AE328,AF328)","v":"TRUEEasy"}]
[{"$f":"CONCATENATE(AE329,D329,AG329)","v":"TRUEEasy126"},{"$f":"RAND()","v":0.27694217596319981},"+-×÷","Easy",15,"Multiply",{"$f":"RANDBETWEEN(2,9)*10^RANDBETWEEN(1,3)","v":700}," × ",{"$f":"RANDBETWEEN(2,9)*10^RANDBETWEEN(0,2)","v":9},null,null,null,null,null,null,null,null,null,null,{"$f":"CONCATENATE(F329,\" \",G329,\" \",H329,\" \",I329,\" \",J329,\" \",K329,\" \",L329,\" \",M329,\" \",N329,\" \",O329,\" \",P329,\" \",Q329,\" \",R329)","v":"Multiply 700  ×  9         "},{"$f":"TEXT(G329*I329,\"###,###\")","v":"6,300"},null,null,null,null,null,null,null,{"$f":"IF(ISERROR(T329),NA(),\"\")","v":""},{"$f":"IF(OR(ISNA(U329),ISNA(V329),ISNA(W329),ISNA(X329),ISNA(Y329),ISNA(Z329),ISNA(AA329),ISNA(AB329),ISNA(AC329)),NA(),CONCATENATE(U329,V329,W329,X329,Y329,Z329,AA329,AB329))","v":"6,300"},{"$f":"IF(ISNA(AD329),FALSE,IF(C329=$B$1,Worksheet!$B$3,IF(C329=$C$1,Worksheet!$B$4,IF(C329=$D$1,Worksheet!$B$5,IF(C329=$C$2,Worksheet!$D$3,IF(C329=$D$2,Worksheet!$D$4,IF(C329=$E$2,Worksheet!$D$5,IF(C329=$C$3,Worksheet!$D$6,IF(C329=$B$3,Worksheet!$B$6,IF(C329=$D$3,Worksheet!$B$9,IF(C329=$E$3,Worksheet!$D$9,FALSE)))))))))))","v":true},{"$f":"IF(AE329,D329,\"\")","v":"Easy"},{"$f":"IF(AE329,COUNTIF($AF$5:AF329,AF329),\"X\")","v":126},{"$f":"CONCATENATE(AE329,AF329)","v":"TRUEEasy"}]
[{"$f":"CONCATENATE(AE330,D330,AG330)","v":"TRUEEasy127"},{"$f":"RAND()","v":0.5050419331559951},"%","Easy",273,"Calculate",{"$f":"RANDBETWEEN(2,9)","v":9},"%","of","£",{"$f":"100*RANDBETWEEN(2,9)","v":200},null,null,null,null,null,null,null,null,{"$f":"CONCATENATE(F330,\" \",G330,\"\",H330,\" \",I330,\" \",J330,\"\",K330,\" \",L330,\" \",M330,\" \",N330,\" \",O330,\" \",P330,\" \",Q330,\" \",R330)","v":"Calculate 9% of £200       "},"£",{"$f":"K330/100*G330","v":18},null,null,null,null,null,null,{"$f":"IF(ISERROR(T330),NA(),\"\")","v":""},{"$f":"IF(OR(ISNA(U330),ISNA(V330),ISNA(W330),ISNA(X330),ISNA(Y330),ISNA(Z330),ISNA(AA330),ISNA(AB330),ISNA(AC330)),NA(),CONCATENATE(U330,V330,W330,X330,Y330,Z330,AA330,AB330))","v":"£18"},{"$f":"IF(ISNA(AD330),FALSE,IF(C330=$B$1,Worksheet!$B$3,IF(C330=$C$1,Worksheet!$B$4,IF(C330=$D$1,Worksheet!$B$5,IF(C330=$C$2,Worksheet!$D$3,IF(C330=$D$2,Worksheet!$D$4,IF(C330=$E$2,Worksheet!$D$5,IF(C330=$C$3,Worksheet!$D$6,IF(C330=$B$3,Worksheet!$B$6,IF(C330=$D$3,Worksheet!$B$9,IF(C330=$E$3,Worksheet!$D$9,FALSE)))))))))))","v":true},{"$f":"IF(AE330,D330,\"\")","v":"Easy"},{"$f":"IF(AE330,COUNTIF($AF$5:AF330,AF330),\"X\")","v":127},{"$f":"CONCATENATE(AE330,AF330)","v":"TRUEEasy"}]
[{"$f":"CONCATENATE(AE331,D331,AG331)","v":"TRUEMedium137"},{"$f":"RAND()","v":0.48777174619695207},"Frac","Medium",86,"Write the topheavy fraction ",{"$f":"I331*RANDBETWEEN(1,10)+RANDBETWEEN(1,I331-1)","v":39},"/",{"$f":"RANDBETWEEN(4,10)","v":5},"as a mixed number.",{"$f":"IF(GCD(G331,I331)<>1,\"  Give your answer in its simplest form\",\"\")","v":""},null,null,null,null,null,null,null,null,{"$f":"CONCATENATE(F331,\" \",G331,\"\",H331,\" \",I331,\" \",J331,\" \",K331,\" \",L331,\" \",M331,\" \",N331,\" \",O331,\" \",P331,\" \",Q331,\" \",R331)","v":"Write the topheavy fraction  39/ 5 as a mixed number.        "},{"$f":"INT(G331/I331)","v":7}," ",{"$f":"TEXT(MOD(G331,I331)/I331,\"##/##\")","v":"4/5"},null,null,null,null,null,{"$f":"IF(ISERROR(T331),NA(),\"\")","v":""},{"$f":"IF(OR(ISNA(U331),ISNA(V331),ISNA(W331),ISNA(X331),ISNA(Y331),ISNA(Z331),ISNA(AA331),ISNA(AB331),ISNA(AC331)),NA(),CONCATENATE(U331,V331,W331,X331,Y331,Z331,AA331,AB331))","v":"7 4/5"},{"$f":"IF(ISNA(AD331),FALSE,IF(C331=$B$1,Worksheet!$B$3,IF(C331=$C$1,Worksheet!$B$4,IF(C331=$D$1,Worksheet!$B$5,IF(C331=$C$2,Worksheet!$D$3,IF(C331=$D$2,Worksheet!$D$4,IF(C331=$E$2,Worksheet!$D$5,IF(C331=$C$3,Worksheet!$D$6,IF(C331=$B$3,Worksheet!$B$6,IF(C331=$D$3,Worksheet!$B$9,IF(C331=$E$3,Worksheet!$D$9,FALSE)))))))))))","v":true},{"$f":"IF(AE331,D331,\"\")","v":"Medium"},{"$f":"IF(AE331,COUNTIF($AF$5:AF331,AF331),\"X\")","v":137},{"$f":"CONCATENATE(AE331,AF331)","v":"TRUEMedium"}]
[{"$f":"CONCATENATE(AE332,D332,AG332)","v":"TRUEHard62"},{"$f":"RAND()","v":0.12359325338837246},"Frac","Hard",91,"Change the fraction",{"$f":"RANDBETWEEN(1,6)","v":6},"/7","into a decimal correct to 3 decimal places",null,null,null,null,null,null,null,null,null,null,{"$f":"CONCATENATE(F332,\" \",G332,\"\",H332,\" \",I332,\" \",J332,\" \",K332,\" \",L332,\" \",M332,\" \",N332,\" \",O332,\" \",P332,\" \",Q332,\" \",R332)","v":"Change the fraction 6/7 into a decimal correct to 3 decimal places         "},{"$f":"TEXT(G332/7,\"0.000\")","v":"0.857"},null,null,null,null,null,null,null,{"$f":"IF(ISERROR(T332),NA(),\"\")","v":""},{"$f":"IF(OR(ISNA(U332),ISNA(V332),ISNA(W332),ISNA(X332),ISNA(Y332),ISNA(Z332),ISNA(AA332),ISNA(AB332),ISNA(AC332)),NA(),CONCATENATE(U332,V332,W332,X332,Y332,Z332,AA332,AB332))","v":"0.857"},{"$f":"IF(ISNA(AD332),FALSE,IF(C332=$B$1,Worksheet!$B$3,IF(C332=$C$1,Worksheet!$B$4,IF(C332=$D$1,Worksheet!$B$5,IF(C332=$C$2,Worksheet!$D$3,IF(C332=$D$2,Worksheet!$D$4,IF(C332=$E$2,Worksheet!$D$5,IF(C332=$C$3,Worksheet!$D$6,IF(C332=$B$3,Worksheet!$B$6,IF(C332=$D$3,Worksheet!$B$9,IF(C332=$E$3,Worksheet!$D$9,FALSE)))))))))))","v":true},{"$f":"IF(AE332,D332,\"\")","v":"Hard"},{"$f":"IF(AE332,COUNTIF($AF$5:AF332,AF332),\"X\")","v":62},{"$f":"CONCATENATE(AE332,AF332)","v":"TRUEHard"}]
[{"$f":"CONCATENATE(AE333,D333,AG333)","v":"TRUEHard63"},{"$f":"RAND()","v":0.28044513381201541},"%","Hard",284,"Write",{"$f":"0+RANDBETWEEN(1,9)/10","v":0.2},"%","as a fraction in its simplest form",null,null,null,null,null,null,null,null,null,null,{"$f":"CONCATENATE(F333,\" \",G333,\"\",H333,\" \",I333,\" \",J333,\" \",K333,\" \",L333,\" \",M333,\" \",N333,\" \",O333,\" \",P333,\" \",Q333,\" \",R333)","v":"Write 0.2% as a fraction in its simplest form         "},{"$f":"TEXT(G333/100,\"##/###\")","v":"1/500"},null,null,null,null,null,null,null,{"$f":"IF(ISERROR(T333),NA(),\"\")","v":""},{"$f":"IF(OR(ISNA(U333),ISNA(V333),ISNA(W333),ISNA(X333),ISNA(Y333),ISNA(Z333),ISNA(AA333),ISNA(AB333),ISNA(AC333)),NA(),CONCATENATE(U333,V333,W333,X333,Y333,Z333,AA333,AB333))","v":"1/500"},{"$f":"IF(ISNA(AD333),FALSE,IF(C333=$B$1,Worksheet!$B$3,IF(C333=$C$1,Worksheet!$B$4,IF(C333=$D$1,Worksheet!$B$5,IF(C333=$C$2,Worksheet!$D$3,IF(C333=$D$2,Worksheet!$D$4,IF(C333=$E$2,Worksheet!$D$5,IF(C333=$C$3,Worksheet!$D$6,IF(C333=$B$3,Worksheet!$B$6,IF(C333=$D$3,Worksheet!$B$9,IF(C333=$E$3,Worksheet!$D$9,FALSE)))))))))))","v":true},{"$f":"IF(AE333,D333,\"\")","v":"Hard"},{"$f":"IF(AE333,COUNTIF($AF$5:AF333,AF333),\"X\")","v":63},{"$f":"CONCATENATE(AE333,AF333)","v":"TRUEHard"}]
[{"$f":"CONCATENATE(AE334,D334,AG334)","v":"TRUEEasy128"},{"$f":"RAND()","v":0.10616418602232192},"Dec","Easy",125,"Take away:   ",{"$f":"RANDBETWEEN(4,10)+RANDBETWEEN(1,4)*0.1","v":5.2},"–",{"$f":"RANDBETWEEN(2,5)+RANDBETWEEN(0,9)*0.1+RANDBETWEEN(1,9)*0.01","v":2.04},null,null,null,null,null,null,null,null,null,null,{"$f":"CONCATENATE(F334,\" \",G334,\" \",H334,\" \",I334,\" \",J334,\" \",K334,\" \",L334,\" \",M334,\" \",N334,\" \",O334,\" \",P334,\" \",Q334,\" \",R334)","v":"Take away:    5.2 – 2.04         "},{"$f":"G334-I334","v":3.16},null,null,null,null,null,null,null,{"$f":"IF(ISERROR(T334),NA(),\"\")","v":""},{"$f":"IF(OR(ISNA(U334),ISNA(V334),ISNA(W334),ISNA(X334),ISNA(Y334),ISNA(Z334),ISNA(AA334),ISNA(AB334),ISNA(AC334)),NA(),CONCATENATE(U334,V334,W334,X334,Y334,Z334,AA334,AB334))","v":"3.16"},{"$f":"IF(ISNA(AD334),FALSE,IF(C334=$B$1,Worksheet!$B$3,IF(C334=$C$1,Worksheet!$B$4,IF(C334=$D$1,Worksheet!$B$5,IF(C334=$C$2,Worksheet!$D$3,IF(C334=$D$2,Worksheet!$D$4,IF(C334=$E$2,Worksheet!$D$5,IF(C334=$C$3,Worksheet!$D$6,IF(C334=$B$3,Worksheet!$B$6,IF(C334=$D$3,Worksheet!$B$9,IF(C334=$E$3,Worksheet!$D$9,FALSE)))))))))))","v":true},{"$f":"IF(AE334,D334,\"\")","v":"Easy"},{"$f":"IF(AE334,COUNTIF($AF$5:AF334,AF334),\"X\")","v":128},{"$f":"CONCATENATE(AE334,AF334)","v":"TRUEEasy"}]
[{"$f":"CONCATENATE(AE335,D335,AG335)","v":"TRUEEasy129"},{"$f":"RAND()","v":0.11550159486374389},"+-×÷","Easy",8,"Fill in the blank:",{"$f":"RANDBETWEEN(101,999)*10","v":5640},"+  _______ = ",{"$f":"TEXT(10000,\"##,###\")","v":"10,000"},null,null,null,null,null,null,null,null,null,null,{"$f":"CONCATENATE(F335,\" \",G335,\" \",H335,\" \",I335,\" \",J335,\" \",K335,\" \",L335,\" \",M335,\" \",N335,\" \",O335,\" \",P335,\" \",Q335,\" \",R335)","v":"Fill in the blank: 5640 +  _______ =  10,000         "},{"$f":"10000-G335","v":4360},null,null,null,null,null,null,null,{"$f":"IF(ISERROR(T335),NA(),\"\")","v":""},{"$f":"IF(OR(ISNA(U335),ISNA(V335),ISNA(W335),ISNA(X335),ISNA(Y335),ISNA(Z335),ISNA(AA335),ISNA(AB335),ISNA(AC335)),NA(),CONCATENATE(U335,V335,W335,X335,Y335,Z335,AA335,AB335))","v":"4360"},{"$f":"IF(ISNA(AD335),FALSE,IF(C335=$B$1,Worksheet!$B$3,IF(C335=$C$1,Worksheet!$B$4,IF(C335=$D$1,Worksheet!$B$5,IF(C335=$C$2,Worksheet!$D$3,IF(C335=$D$2,Worksheet!$D$4,IF(C335=$E$2,Worksheet!$D$5,IF(C335=$C$3,Worksheet!$D$6,IF(C335=$B$3,Worksheet!$B$6,IF(C335=$D$3,Worksheet!$B$9,IF(C335=$E$3,Worksheet!$D$9,FALSE)))))))))))","v":true},{"$f":"IF(AE335,D335,\"\")","v":"Easy"},{"$f":"IF(AE335,COUNTIF($AF$5:AF335,AF335),\"X\")","v":129},{"$f":"CONCATENATE(AE335,AF335)","v":"TRUEEasy"}]
[{"$f":"CONCATENATE(AE336,D336,AG336)","v":"TRUEMedium138"},{"$f":"RAND()","v":0.57705411487133074},"Eqn","Medium",328,"Solve the inequation",{"$f":"RANDBETWEEN(2,10)","v":4},{"$f":"CHOOSE(RANDBETWEEN(1,22),\"a\",\"b\",\"c\",\"d\",\"f\",\"g\",\"h\",\"j\",\"k\",\"m\",\"n\",\"p\",\"q\",\"r\",\"s\",\"t\",\"u\",\"v\",\"w\",\"x\",\"y\",\"z\")","v":"t"},"+",{"$f":"RANDBETWEEN(1,10)","v":6},{"$f":"CHOOSE(RANDBETWEEN(1,4),\"<\",\">\",\"≤\",\"≥\")","v":">"},{"$f":"G336*W336+J336","v":62},".      Show your working in full.",null,null,null,null,null,null,{"$f":"CONCATENATE(F336,\" \",G336,\"\",H336,\" \",I336,\" \",J336,\" \",K336,\" \",L336,\" \",M336,\" \",N336,\" \",O336,\" \",P336,\" \",Q336,\" \",R336)","v":"Solve the inequation 4t + 6 > 62 .      Show your working in full.     "},{"$f":"H336","v":"t"},{"$f":"K336","v":">"},{"$f":"RANDBETWEEN(10,30)","v":14},null,null,null,null,null,{"$f":"IF(ISERROR(T336),NA(),\"\")","v":""},{"$f":"IF(OR(ISNA(U336),ISNA(V336),ISNA(W336),ISNA(X336),ISNA(Y336),ISNA(Z336),ISNA(AA336),ISNA(AB336),ISNA(AC336)),NA(),CONCATENATE(U336,\" \",V336,\" \",W336,X336,Y336,Z336,AA336,AB336))","v":"t > 14"},{"$f":"IF(ISNA(AD336),FALSE,IF(C336=$B$1,Worksheet!$B$3,IF(C336=$C$1,Worksheet!$B$4,IF(C336=$D$1,Worksheet!$B$5,IF(C336=$C$2,Worksheet!$D$3,IF(C336=$D$2,Worksheet!$D$4,IF(C336=$E$2,Worksheet!$D$5,IF(C336=$C$3,Worksheet!$D$6,IF(C336=$B$3,Worksheet!$B$6,IF(C336=$D$3,Worksheet!$B$9,IF(C336=$E$3,Worksheet!$D$9,FALSE)))))))))))","v":true},{"$f":"IF(AE336,D336,\"\")","v":"Medium"},{"$f":"IF(AE336,COUNTIF($AF$5:AF336,AF336),\"X\")","v":138},{"$f":"CONCATENATE(AE336,AF336)","v":"TRUEMedium"}]
[{"$f":"CONCATENATE(AE337,D337,AG337)","v":"TRUEMedium139"},{"$f":"RAND()","v":0.34981255431239566},"Neg","Medium",222,"Take away:   ",{"$f":"RANDBETWEEN(40,100)","v":85},"– (–",{"$f":"RANDBETWEEN(20,50)","v":40},")",null,null,null,null,null,null,null,null,null,{"$f":"CONCATENATE(F337,\" \",G337,\" \",H337,\"\",I337,\"\",J337,\"\",K337,\" \",L337,\" \",M337,\" \",N337,\" \",O337,\" \",P337,\" \",Q337,\" \",R337)","v":"Take away:    85 – (–40)       "},{"$f":"G337+I337","v":125},null,null,null,null,null,null,null,{"$f":"IF(ISERROR(T337),NA(),\"\")","v":""},{"$f":"IF(OR(ISNA(U337),ISNA(V337),ISNA(W337),ISNA(X337),ISNA(Y337),ISNA(Z337),ISNA(AA337),ISNA(AB337),ISNA(AC337)),NA(),CONCATENATE(U337,V337,W337,X337,Y337,Z337,AA337,AB337))","v":"125"},{"$f":"IF(ISNA(AD337),FALSE,IF(C337=$B$1,Worksheet!$B$3,IF(C337=$C$1,Worksheet!$B$4,IF(C337=$D$1,Worksheet!$B$5,IF(C337=$C$2,Worksheet!$D$3,IF(C337=$D$2,Worksheet!$D$4,IF(C337=$E$2,Worksheet!$D$5,IF(C337=$C$3,Worksheet!$D$6,IF(C337=$B$3,Worksheet!$B$6,IF(C337=$D$3,Worksheet!$B$9,IF(C337=$E$3,Worksheet!$D$9,FALSE)))))))))))","v":true},{"$f":"IF(AE337,D337,\"\")","v":"Medium"},{"$f":"IF(AE337,COUNTIF($AF$5:AF337,AF337),\"X\")","v":139},{"$f":"CONCATENATE(AE337,AF337)","v":"TRUEMedium"}]
[{"$f":"CONCATENATE(AE338,D338,AG338)","v":"TRUEMedium140"},{"$f":"RAND()","v":0.98149480996706095},"Dec","Medium",134,"Write the fraction ",{"$f":"RANDBETWEEN(1,9)+RANDBETWEEN(1,9)*10+IF(I338=10000,RANDBETWEEN(1,9)*100,0)","v":385},"/",{"$f":"CHOOSE(RANDBETWEEN(1,2),1000,10000)","v":10000},"as a decimal",null,null,null,null,null,null,null,null,null,{"$f":"CONCATENATE(F338,\" \",G338,\"\",H338,\"\",I338,\" \",J338,\" \",K338,\" \",L338,\" \",M338,\" \",N338,\" \",O338,\" \",P338,\" \",Q338,\" \",R338)","v":"Write the fraction  385/10000 as a decimal        "},{"$f":"G338/I338","v":3.85E-2},null,null,null,null,null,null,null,{"$f":"IF(ISERROR(T338),NA(),\"\")","v":""},{"$f":"IF(OR(ISNA(U338),ISNA(V338),ISNA(W338),ISNA(X338),ISNA(Y338),ISNA(Z338),ISNA(AA338),ISNA(AB338),ISNA(AC338)),NA(),CONCATENATE(U338,V338,W338,X338,Y338,Z338,AA338,AB338))","v":"0.0385"},{"$f":"IF(ISNA(AD338),FALSE,IF(C338=$B$1,Worksheet!$B$3,IF(C338=$C$1,Worksheet!$B$4,IF(C338=$D$1,Worksheet!$B$5,IF(C338=$C$2,Worksheet!$D$3,IF(C338=$D$2,Worksheet!$D$4,IF(C338=$E$2,Worksheet!$D$5,IF(C338=$C$3,Worksheet!$D$6,IF(C338=$B$3,Worksheet!$B$6,IF(C338=$D$3,Worksheet!$B$9,IF(C338=$E$3,Worksheet!$D$9,FALSE)))))))))))","v":true},{"$f":"IF(AE338,D338,\"\")","v":"Medium"},{"$f":"IF(AE338,COUNTIF($AF$5:AF338,AF338),\"X\")","v":140},{"$f":"CONCATENATE(AE338,AF338)","v":"TRUEMedium"}]
[{"$f":"CONCATENATE(AE339,D339,AG339)","v":"TRUEEasy130"},{"$f":"RAND()","v":0.34568047798832524},"Dec","Easy",156,"Divide:   ",{"$f":"RANDBETWEEN(0,9)*0.1+RANDBETWEEN(1,9)","v":4.5999999999999996},"÷",{"$f":"10^RANDBETWEEN(1,4)","v":100},null,null,null,null,null,null,null,null,null,null,{"$f":"CONCATENATE(F339,\" \",G339,\" \",H339,\" \",I339,\" \",J339,\" \",K339,\" \",L339,\" \",M339,\" \",N339,\" \",O339,\" \",P339,\" \",Q339,\" \",R339)","v":"Divide:    4.6 ÷ 100         "},{"$f":"G339/I339","v":4.5999999999999999E-2},null,null,null,null,null,null,null,{"$f":"IF(ISERROR(T339),NA(),\"\")","v":""},{"$f":"IF(OR(ISNA(U339),ISNA(V339),ISNA(W339),ISNA(X339),ISNA(Y339),ISNA(Z339),ISNA(AA339),ISNA(AB339),ISNA(AC339)),NA(),CONCATENATE(U339,V339,W339,X339,Y339,Z339,AA339,AB339))","v":"0.046"},{"$f":"IF(ISNA(AD339),FALSE,IF(C339=$B$1,Worksheet!$B$3,IF(C339=$C$1,Worksheet!$B$4,IF(C339=$D$1,Worksheet!$B$5,IF(C339=$C$2,Worksheet!$D$3,IF(C339=$D$2,Worksheet!$D$4,IF(C339=$E$2,Worksheet!$D$5,IF(C339=$C$3,Worksheet!$D$6,IF(C339=$B$3,Worksheet!$B$6,IF(C339=$D$3,Worksheet!$B$9,IF(C339=$E$3,Worksheet!$D$9,FALSE)))))))))))","v":true},{"$f":"IF(AE339,D339,\"\")","v":"Easy"},{"$f":"IF(AE339,COUNTIF($AF$5:AF339,AF339),\"X\")","v":130},{"$f":"CONCATENATE(AE339,AF339)","v":"TRUEEasy"}]
[{"$f":"CONCATENATE(AE340,D340,AG340)","v":"TRUEEasy131"},{"$f":"RAND()","v":0.79706036368498301},"Dec","Easy",128,"Write down the next two numbers in this increasing pattern:               ",{"$f":"RANDBETWEEN(1,20)+CHOOSE(RANDBETWEEN(1,2),0.006,0.007)+RANDBETWEEN(0,9)*0.1+RANDBETWEEN(0,9)*0.01","v":4.8460000000000001},"   ,   ",{"$f":"G340+$S340","v":4.8470000000000004},"   ,   ",{"$f":"I340+$S340","v":4.8480000000000008},"   ,   ",{"$f":"K340+$S340","v":4.8490000000000011},"   ,   ","_______________","   ,   ","_______________",null,1E-3,{"$f":"CONCATENATE(F340,\" \",G340,\" \",H340,\" \",I340,\" \",J340,\" \",K340,\" \",L340,\" \",M340,\" \",N340,\" \",O340,\" \",P340,\" \",Q340,\" \",R340)","v":"Write down the next two numbers in this increasing pattern:                4.846    ,    4.847    ,    4.848    ,    4.849    ,    _______________    ,    _______________ "},{"$f":"M340+S340","v":4.8500000000000014},"    ,    ",{"$f":"U340+S340","v":4.8510000000000018},null,null,null,null,null,{"$f":"IF(ISERROR(T340),NA(),\"\")","v":""},{"$f":"IF(OR(ISNA(U340),ISNA(V340),ISNA(W340),ISNA(X340),ISNA(Y340),ISNA(Z340),ISNA(AA340),ISNA(AB340),ISNA(AC340)),NA(),CONCATENATE(U340,V340,W340,X340,Y340,Z340,AA340,AB340))","v":"4.85    ,    4.851"},{"$f":"IF(ISNA(AD340),FALSE,IF(C340=$B$1,Worksheet!$B$3,IF(C340=$C$1,Worksheet!$B$4,IF(C340=$D$1,Worksheet!$B$5,IF(C340=$C$2,Worksheet!$D$3,IF(C340=$D$2,Worksheet!$D$4,IF(C340=$E$2,Worksheet!$D$5,IF(C340=$C$3,Worksheet!$D$6,IF(C340=$B$3,Worksheet!$B$6,IF(C340=$D$3,Worksheet!$B$9,IF(C340=$E$3,Worksheet!$D$9,FALSE)))))))))))","v":true},{"$f":"IF(AE340,D340,\"\")","v":"Easy"},{"$f":"IF(AE340,COUNTIF($AF$5:AF340,AF340),\"X\")","v":131},{"$f":"CONCATENATE(AE340,AF340)","v":"TRUEEasy"}]
[{"$f":"CONCATENATE(AE341,D341,AG341)","v":"TRUEEasy132"},{"$f":"RAND()","v":5.3177597952256295E-2},"Neg","Easy",217,"Add:   ",{"$f":"RANDBETWEEN(20,50)","v":41},"+ (–",{"$f":"RANDBETWEEN(G341,50)","v":45},")",null,null,null,null,null,null,null,null,null,{"$f":"CONCATENATE(F341,\" \",G341,\" \",H341,\"\",I341,\"\",J341,\"\",K341,\" \",L341,\" \",M341,\" \",N341,\" \",O341,\" \",P341,\" \",Q341,\" \",R341)","v":"Add:    41 + (–45)       "},{"$f":"G341-I341","v":-4},null,null,null,null,null,null,null,{"$f":"IF(ISERROR(T341),NA(),\"\")","v":""},{"$f":"IF(OR(ISNA(U341),ISNA(V341),ISNA(W341),ISNA(X341),ISNA(Y341),ISNA(Z341),ISNA(AA341),ISNA(AB341),ISNA(AC341)),NA(),CONCATENATE(U341,V341,W341,X341,Y341,Z341,AA341,AB341))","v":"-4"},{"$f":"IF(ISNA(AD341),FALSE,IF(C341=$B$1,Worksheet!$B$3,IF(C341=$C$1,Worksheet!$B$4,IF(C341=$D$1,Worksheet!$B$5,IF(C341=$C$2,Worksheet!$D$3,IF(C341=$D$2,Worksheet!$D$4,IF(C341=$E$2,Worksheet!$D$5,IF(C341=$C$3,Worksheet!$D$6,IF(C341=$B$3,Worksheet!$B$6,IF(C341=$D$3,Worksheet!$B$9,IF(C341=$E$3,Worksheet!$D$9,FALSE)))))))))))","v":true},{"$f":"IF(AE341,D341,\"\")","v":"Easy"},{"$f":"IF(AE341,COUNTIF($AF$5:AF341,AF341),\"X\")","v":132},{"$f":"CONCATENATE(AE341,AF341)","v":"TRUEEasy"}]
[{"$f":"CONCATENATE(AE342,D342,AG342)","v":"TRUEMedium141"},{"$f":"RAND()","v":0.90608329418923306},"Frac","Medium",101,"Take away the fractions:  ",{"$f":"IF(I342=4,CHOOSE(RANDBETWEEN(1,2),1,3),RANDBETWEEN(1,I342-1))","v":2},"/",{"$f":"RANDBETWEEN(5,8)","v":7},"–",{"$f":"RANDBETWEEN(1,MIN(M342-1,(G342/I342)*M342))","v":2},"/",{"$f":"SMALL(IF(I342={5,6,7,8},\"\",{5,6,7,8}),RANDBETWEEN(1,3))","v":8},{"$f":"IF(GCD(G342*M342+I342*K342,I342*M342)=1,\"\",\",    giving your answer in its simplest form\")","v":",    giving your answer in its simplest form"},null,null,null,null,null,{"$f":"CONCATENATE(F342,\" \",G342,\"\",H342,\"\",I342,\" \",J342,\" \",K342,\"\",L342,\"\",M342,\" \",N342,\"       \",O342,\" \",P342,\" \",Q342,\" \",R342)","v":"Take away the fractions:   2/7 – 2/8 ,    giving your answer in its simplest form          "},{"$f":"(G342*M342-I342*K342)/GCD(G342*M342+I342*K342,I342*M342)","v":1},"/",{"$f":"I342*M342/GCD(G342*M342-I342*K342,I342*M342)","v":28},null,null,{"$f":"IF(U342=0,NA(),\"\")","v":""},null,null,{"$f":"IF(ISERROR(T342),NA(),\"\")","v":""},{"$f":"IF(OR(ISNA(U342),ISNA(V342),ISNA(W342),ISNA(X342),ISNA(Y342),ISNA(Z342),ISNA(AA342),ISNA(AB342),ISNA(AC342)),NA(),CONCATENATE(U342,V342,W342,X342,Y342,Z342,AA342,AB342))","v":"1/28"},{"$f":"IF(ISNA(AD342),FALSE,IF(C342=$B$1,Worksheet!$B$3,IF(C342=$C$1,Worksheet!$B$4,IF(C342=$D$1,Worksheet!$B$5,IF(C342=$C$2,Worksheet!$D$3,IF(C342=$D$2,Worksheet!$D$4,IF(C342=$E$2,Worksheet!$D$5,IF(C342=$C$3,Worksheet!$D$6,IF(C342=$B$3,Worksheet!$B$6,IF(C342=$D$3,Worksheet!$B$9,IF(C342=$E$3,Worksheet!$D$9,FALSE)))))))))))","v":true},{"$f":"IF(AE342,D342,\"\")","v":"Medium"},{"$f":"IF(AE342,COUNTIF($AF$5:AF342,AF342),\"X\")","v":141},{"$f":"CONCATENATE(AE342,AF342)","v":"TRUEMedium"}]
[{"$f":"CONCATENATE(AE343,D343,AG343)","v":"TRUEHard64"},{"$f":"RAND()","v":0.90941808761812037},"%","Hard",291,"What fraction is the same as","37½%","?",null,null,null,null,null,null,null,null,null,null,null,{"$f":"CONCATENATE(F343,\" \",G343,\"\",H343,\" \",I343,\" \",J343,\" \",K343,\" \",L343,\" \",M343,\" \",N343,\" \",O343,\" \",P343,\" \",Q343,\" \",R343)","v":"What fraction is the same as 37½%?          "},"3/8 (three eighths)",null,null,null,null,null,null,null,{"$f":"IF(ISERROR(T343),NA(),\"\")","v":""},{"$f":"IF(OR(ISNA(U343),ISNA(V343),ISNA(W343),ISNA(X343),ISNA(Y343),ISNA(Z343),ISNA(AA343),ISNA(AB343),ISNA(AC343)),NA(),CONCATENATE(U343,V343,W343,X343,Y343,Z343,AA343,AB343))","v":"3/8 (three eighths)"},{"$f":"IF(ISNA(AD343),FALSE,IF(C343=$B$1,Worksheet!$B$3,IF(C343=$C$1,Worksheet!$B$4,IF(C343=$D$1,Worksheet!$B$5,IF(C343=$C$2,Worksheet!$D$3,IF(C343=$D$2,Worksheet!$D$4,IF(C343=$E$2,Worksheet!$D$5,IF(C343=$C$3,Worksheet!$D$6,IF(C343=$B$3,Worksheet!$B$6,IF(C343=$D$3,Worksheet!$B$9,IF(C343=$E$3,Worksheet!$D$9,FALSE)))))))))))","v":true},{"$f":"IF(AE343,D343,\"\")","v":"Hard"},{"$f":"IF(AE343,COUNTIF($AF$5:AF343,AF343),\"X\")","v":64},{"$f":"CONCATENATE(AE343,AF343)","v":"TRUEHard"}]
[{"$f":"CONCATENATE(AE344,D344,AG344)","v":"TRUEEasy133"},{"$f":"RAND()","v":0.87392394451124711},"Neg","Easy",211,"Divide:   ",{"$f":"U344*I344","v":12},"÷ (–",{"$f":"RANDBETWEEN(2,10)","v":4},")",null,null,null,null,null,null,null,null,null,{"$f":"CONCATENATE(F344,\" \",G344,\" \",H344,\"\",I344,\"\",J344,\" \",K344,\" \",L344,\" \",M344,\" \",N344,\" \",O344,\" \",P344,\" \",Q344,\" \",R344)","v":"Divide:    12 ÷ (–4)        "},{"$f":"RANDBETWEEN(2,10)","v":3},null,null,null,null,null,null,null,{"$f":"IF(ISERROR(T344),NA(),\"\")","v":""},{"$f":"IF(OR(ISNA(U344),ISNA(V344),ISNA(W344),ISNA(X344),ISNA(Y344),ISNA(Z344),ISNA(AA344),ISNA(AB344),ISNA(AC344)),NA(),CONCATENATE(U344,V344,W344,X344,Y344,Z344,AA344,AB344))","v":"3"},{"$f":"IF(ISNA(AD344),FALSE,IF(C344=$B$1,Worksheet!$B$3,IF(C344=$C$1,Worksheet!$B$4,IF(C344=$D$1,Worksheet!$B$5,IF(C344=$C$2,Worksheet!$D$3,IF(C344=$D$2,Worksheet!$D$4,IF(C344=$E$2,Worksheet!$D$5,IF(C344=$C$3,Worksheet!$D$6,IF(C344=$B$3,Worksheet!$B$6,IF(C344=$D$3,Worksheet!$B$9,IF(C344=$E$3,Worksheet!$D$9,FALSE)))))))))))","v":true},{"$f":"IF(AE344,D344,\"\")","v":"Easy"},{"$f":"IF(AE344,COUNTIF($AF$5:AF344,AF344),\"X\")","v":133},{"$f":"CONCATENATE(AE344,AF344)","v":"TRUEEasy"}]
[{"$f":"CONCATENATE(AE345,D345,AG345)","v":"TRUEEasy134"},{"$f":"RAND()","v":0.26304528137359806},"Surds","Easy",38,"What is ",{"$f":"CHOOSE(RANDBETWEEN(1,5),2,3,4,5,10)","v":2},"³","?    (",{"$f":"G345","v":2},"cubed)",null,null,null,null,null,null,null,null,{"$f":"CONCATENATE(F345,\" \",G345,\"\",H345,\" \",I345,\"\",J345,\" \",K345,\" \",L345,\" \",M345,\" \",N345,\" \",O345,\" \",P345,\" \",Q345,\" \",R345)","v":"What is  2³ ?    (2 cubed)       "},{"$f":"G345^3","v":8},null,null,null,null,null,null,null,{"$f":"IF(ISERROR(T345),NA(),\"\")","v":""},{"$f":"IF(OR(ISNA(U345),ISNA(V345),ISNA(W345),ISNA(X345),ISNA(Y345),ISNA(Z345),ISNA(AA345),ISNA(AB345),ISNA(AC345)),NA(),CONCATENATE(U345,V345,W345,X345,Y345,Z345,AA345,AB345))","v":"8"},{"$f":"IF(ISNA(AD345),FALSE,IF(C345=$B$1,Worksheet!$B$3,IF(C345=$C$1,Worksheet!$B$4,IF(C345=$D$1,Worksheet!$B$5,IF(C345=$C$2,Worksheet!$D$3,IF(C345=$D$2,Worksheet!$D$4,IF(C345=$E$2,Worksheet!$D$5,IF(C345=$C$3,Worksheet!$D$6,IF(C345=$B$3,Worksheet!$B$6,IF(C345=$D$3,Worksheet!$B$9,IF(C345=$E$3,Worksheet!$D$9,FALSE)))))))))))","v":true},{"$f":"IF(AE345,D345,\"\")","v":"Easy"},{"$f":"IF(AE345,COUNTIF($AF$5:AF345,AF345),\"X\")","v":134},{"$f":"CONCATENATE(AE345,AF345)","v":"TRUEEasy"}]
[{"$f":"CONCATENATE(AE346,D346,AG346)","v":"TRUEEasy135"},{"$f":"RAND()","v":0.58078601828334808},"Dec","Easy",166,"Rewrite the numbers in order from ",{"$f":"IF(RAND()<0.5,\"smallest to biggest:   \",\"biggest to smallest:   \")","v":"smallest to biggest:   "},{"$f":"S346/100+RANDBETWEEN(0,1)","v":1.48},{"$f":"1.4","v":1.4},{"$f":"0.1+S346/1000+RANDBETWEEN(0,1)","v":1.1480000000000001},{"$f":"1+S346/1000","v":1.048},{"$f":"H346-0.001*(-1)^RANDBETWEEN(1,2)","v":1.4809999999999999},null,{"$f":"L346","v":1.4809999999999999},{"$f":"H346","v":1.48},{"$f":"I346","v":1.4},{"$f":"J346","v":1.1480000000000001},{"$f":"K346","v":1.048},{"$f":"RANDBETWEEN(2,88)","v":48},{"$f":"CONCATENATE(F346,\" \",G346,\" \",H346,\",   \",I346,\",   \",J346,\",    \",K346,\",    \",L346,\" \",M346)","v":"Rewrite the numbers in order from  smallest to biggest:    1.48,   1.4,   1.148,    1.048,    1.481 "},{"$f":"IF(LARGE($N346:$R346,IF($G346=\"biggest to smallest:   \",1,5))=$O346,$H346,IF(LARGE($N346:$R346,IF($G346=\"biggest to smallest:   \",1,5))=$P346,$I346,IF(LARGE($N346:$R346,IF($G346=\"biggest to smallest:   \",1,5))=$Q346,$J346,IF(LARGE($N346:$R346,IF($G346=\"biggest to smallest:   \",1,5))=$R346,$K346,$L346))))","v":1.048},{"$f":"IF(LARGE($N346:$R346,IF($G346=\"biggest to smallest:   \",2,4))=$O346,$H346,IF(LARGE($N346:$R346,IF($G346=\"biggest to smallest:   \",2,4))=$P346,$I346,IF(LARGE($N346:$R346,IF($G346=\"biggest to smallest:   \",2,4))=$Q346,$J346,IF(LARGE($N346:$R346,IF($G346=\"biggest to smallest:   \",2,4))=$R346,$K346,$L346))))","v":1.1480000000000001},{"$f":"IF(LARGE($N346:$R346,IF($G346=\"biggest to smallest:   \",3,3))=$O346,$H346,IF(LARGE($N346:$R346,IF($G346=\"biggest to smallest:   \",3,3))=$P346,$I346,IF(LARGE($N346:$R346,IF($G346=\"biggest to smallest:   \",3,3))=$Q346,$J346,IF(LARGE($N346:$R346,IF($G346=\"biggest to smallest:   \",3,3))=$R346,$K346,$L346))))","v":1.4},{"$f":"IF(LARGE($N346:$R346,IF($G346=\"biggest to smallest:   \",4,2))=$O346,$H346,IF(LARGE($N346:$R346,IF($G346=\"biggest to smallest:   \",4,2))=$P346,$I346,IF(LARGE($N346:$R346,IF($G346=\"biggest to smallest:   \",4,2))=$Q346,$J346,IF(LARGE($N346:$R346,IF($G346=\"biggest to smallest:   \",4,2))=$R346,$K346,$L346))))","v":1.48},{"$f":"IF(LARGE($N346:$R346,IF($G346=\"biggest to smallest:   \",5,1))=$O346,$H346,IF(LARGE($N346:$R346,IF($G346=\"biggest to smallest:   \",5,1))=$P346,$I346,IF(LARGE($N346:$R346,IF($G346=\"biggest to smallest:   \",5,1))=$Q346,$J346,IF(LARGE($N346:$R346,IF($G346=\"biggest to smallest:   \",5,1))=$R346,$K346,$L346))))","v":1.4809999999999999},null,null,{"$f":"IF(OR(H346=L346,I346=L346,J346=L346,K346=L346,I346=J346,I346=K346),NA(),\"\")","v":""},{"$f":"IF(ISERROR(T346),NA(),\"\")","v":""},{"$f":"IF(OR(ISNA(U346),ISNA(V346),ISNA(W346),ISNA(X346),ISNA(Y346)),NA(),CONCATENATE(U346,\",   \",V346,\",   \",W346,\",   \",X346,\",   \",Y346,Z346,AA346,AB346,AC346))","v":"1.048,   1.148,   1.4,   1.48,   1.481"},true,{"$f":"IF(AE346,D346,\"\")","v":"Easy"},{"$f":"IF(AE346,COUNTIF($AF$5:AF346,AF346),\"X\")","v":135},{"$f":"CONCATENATE(AE346,AF346)","v":"TRUEEasy"}]
[{"$f":"CONCATENATE(AE347,D347,AG347)","v":"TRUEMedium142"},{"$f":"RAND()","v":0.85962840250623151},"Neg","Medium",228,"Work out of the value of:   ",{"$f":"RANDBETWEEN(1,10)","v":7},"× (–",{"$f":"RANDBETWEEN(2,6)","v":4},") + ",{"$f":"RANDBETWEEN(1,3)","v":3},null,null,null,null,null,null,null,null,{"$f":"CONCATENATE(F347,\" \",G347,\" \",H347,\"\",I347,\"\",J347,\" \",K347,\" \",L347,\" \",M347,\" \",N347,\" \",O347,\" \",P347,\" \",Q347,\" \",R347)","v":"Work out of the value of:    7 × (–4) +  3       "},{"$f":"G347*I347*(-1)+K347","v":-25},null,null,null,null,null,null,null,{"$f":"IF(ISERROR(T347),NA(),\"\")","v":""},{"$f":"IF(OR(ISNA(U347),ISNA(V347),ISNA(W347),ISNA(X347),ISNA(Y347),ISNA(Z347),ISNA(AA347),ISNA(AB347),ISNA(AC347)),NA(),CONCATENATE(U347,V347,W347,X347,Y347,Z347,AA347,AB347))","v":"-25"},{"$f":"IF(ISNA(AD347),FALSE,IF(C347=$B$1,Worksheet!$B$3,IF(C347=$C$1,Worksheet!$B$4,IF(C347=$D$1,Worksheet!$B$5,IF(C347=$C$2,Worksheet!$D$3,IF(C347=$D$2,Worksheet!$D$4,IF(C347=$E$2,Worksheet!$D$5,IF(C347=$C$3,Worksheet!$D$6,IF(C347=$B$3,Worksheet!$B$6,IF(C347=$D$3,Worksheet!$B$9,IF(C347=$E$3,Worksheet!$D$9,FALSE)))))))))))","v":true},{"$f":"IF(AE347,D347,\"\")","v":"Medium"},{"$f":"IF(AE347,COUNTIF($AF$5:AF347,AF347),\"X\")","v":142},{"$f":"CONCATENATE(AE347,AF347)","v":"TRUEMedium"}]
[{"$f":"CONCATENATE(AE348,D348,AG348)","v":"TRUEMedium143"},{"$f":"RAND()","v":0.93163686719274497},"Dec","Medium",169,"Rewrite the numbers in order from ",{"$f":"IF(RAND()<0.5,\"smallest to biggest:   \",\"biggest to smallest:   \")","v":"smallest to biggest:   "},{"$f":"$S348/1000000+M348","v":2.8868279999999999},{"$f":"MROUND(($S348/RANDBETWEEN(2,3))/1000000,10^RANDBETWEEN(-3,-2))+M348","v":2.44},{"$f":"MROUND(($S348/RANDBETWEEN(4,5))/1000000,10^RANDBETWEEN(-5,-4))+M348","v":2.1773699999999998},{"$f":"MROUND(($S348/RANDBETWEEN(5,6))/1000000,10^RANDBETWEEN(-5,-1))+M348","v":2.1800000000000002},{"$f":"MROUND(($S348*2/RANDBETWEEN(5,6))/1000000,10^RANDBETWEEN(-5,-1))+M348","v":2.2999999999999998},{"$f":"RANDBETWEEN(2,8)","v":2},{"$f":"L348","v":2.2999999999999998},{"$f":"H348","v":2.8868279999999999},{"$f":"I348","v":2.44},{"$f":"J348","v":2.1773699999999998},{"$f":"K348","v":2.1800000000000002},{"$f":"RANDBETWEEN(101,999999)","v":886828},{"$f":"CONCATENATE(F348,\" \",G348,\" \",H348,\",   \",I348,\",   \",J348,\",    \",K348,\",    \",L348)","v":"Rewrite the numbers in order from  smallest to biggest:    2.886828,   2.44,   2.17737,    2.18,    2.3"},{"$f":"IF(LARGE($N348:$R348,IF($G348=\"biggest to smallest:   \",1,5))=$O348,$H348,IF(LARGE($N348:$R348,IF($G348=\"biggest to smallest:   \",1,5))=$P348,$I348,IF(LARGE($N348:$R348,IF($G348=\"biggest to smallest:   \",1,5))=$Q348,$J348,IF(LARGE($N348:$R348,IF($G348=\"biggest to smallest:   \",1,5))=$R348,$K348,$L348))))","v":2.1773699999999998},{"$f":"IF(LARGE($N348:$R348,IF($G348=\"biggest to smallest:   \",2,4))=$O348,$H348,IF(LARGE($N348:$R348,IF($G348=\"biggest to smallest:   \",2,4))=$P348,$I348,IF(LARGE($N348:$R348,IF($G348=\"biggest to smallest:   \",2,4))=$Q348,$J348,IF(LARGE($N348:$R348,IF($G348=\"biggest to smallest:   \",2,4))=$R348,$K348,$L348))))","v":2.1800000000000002},{"$f":"IF(LARGE($N348:$R348,IF($G348=\"biggest to smallest:   \",3,3))=$O348,$H348,IF(LARGE($N348:$R348,IF($G348=\"biggest to smallest:   \",3,3))=$P348,$I348,IF(LARGE($N348:$R348,IF($G348=\"biggest to smallest:   \",3,3))=$Q348,$J348,IF(LARGE($N348:$R348,IF($G348=\"biggest to smallest:   \",3,3))=$R348,$K348,$L348))))","v":2.2999999999999998},{"$f":"IF(LARGE($N348:$R348,IF($G348=\"biggest to smallest:   \",4,2))=$O348,$H348,IF(LARGE($N348:$R348,IF($G348=\"biggest to smallest:   \",4,2))=$P348,$I348,IF(LARGE($N348:$R348,IF($G348=\"biggest to smallest:   \",4,2))=$Q348,$J348,IF(LARGE($N348:$R348,IF($G348=\"biggest to smallest:   \",4,2))=$R348,$K348,$L348))))","v":2.44},{"$f":"IF(LARGE($N348:$R348,IF($G348=\"biggest to smallest:   \",5,1))=$O348,$H348,IF(LARGE($N348:$R348,IF($G348=\"biggest to smallest:   \",5,1))=$P348,$I348,IF(LARGE($N348:$R348,IF($G348=\"biggest to smallest:   \",5,1))=$Q348,$J348,IF(LARGE($N348:$R348,IF($G348=\"biggest to smallest:   \",5,1))=$R348,$K348,$L348))))","v":2.8868279999999999},null,null,{"$f":"IF(OR(H348=L348,I348=L348,J348=L348,K348=L348,I348=J348,I348=K348),NA(),\"\")","v":""},{"$f":"IF(ISERROR(T348),NA(),\"\")","v":""},{"$f":"IF(OR(ISNA(U348),ISNA(V348),ISNA(W348),ISNA(X348),ISNA(Y348)),NA(),CONCATENATE(U348,\",   \",V348,\",   \",W348,\",   \",X348,\",   \",Y348,Z348,AA348,AB348,AC348))","v":"2.17737,   2.18,   2.3,   2.44,   2.886828"},true,{"$f":"IF(AE348,D348,\"\")","v":"Medium"},{"$f":"IF(AE348,COUNTIF($AF$5:AF348,AF348),\"X\")","v":143},{"$f":"CONCATENATE(AE348,AF348)","v":"TRUEMedium"}]
[{"$f":"CONCATENATE(AE349,D349,AG349)","v":"TRUEMedium144"},{"$f":"RAND()","v":0.54177122332759653},"Eqn","Medium",348,"Solve the equation     ","½",{"$f":"CHOOSE(RANDBETWEEN(1,22),\"a\",\"b\",\"c\",\"d\",\"f\",\"g\",\"h\",\"j\",\"k\",\"m\",\"n\",\"p\",\"q\",\"r\",\"s\",\"t\",\"u\",\"v\",\"w\",\"x\",\"y\",\"z\")","v":"u"},null,"=",{"$f":"RANDBETWEEN(2,10)","v":5},null,null,null,null,null,null,null,null,{"$f":"CONCATENATE(F349,\" \",G349,\"\",H349,\"\",I349,\" \",J349,\" \",K349,\" \",L349,\" \",M349,\" \",N349,\" \",O349,\" \",P349,\" \",Q349,\" \",R349)","v":"Solve the equation      ½u = 5       "},{"$f":"H349","v":"u"},"=",{"$f":"K349*2","v":10},null,null,null,null,null,{"$f":"IF(L349<0,NA(),\"\")","v":""},{"$f":"IF(OR(ISNA(U349),ISNA(V349),ISNA(W349),ISNA(X349),ISNA(Y349),ISNA(Z349),ISNA(AA349),ISNA(AB349),ISNA(AC349)),NA(),CONCATENATE(U349,V349,W349,X349,Y349,Z349,AA349,AB349))","v":"u=10"},{"$f":"IF(ISNA(AD349),FALSE,IF(C349=$B$1,Worksheet!$B$3,IF(C349=$C$1,Worksheet!$B$4,IF(C349=$D$1,Worksheet!$B$5,IF(C349=$C$2,Worksheet!$D$3,IF(C349=$D$2,Worksheet!$D$4,IF(C349=$E$2,Worksheet!$D$5,IF(C349=$C$3,Worksheet!$D$6,IF(C349=$B$3,Worksheet!$B$6,IF(C349=$D$3,Worksheet!$B$9,IF(C349=$E$3,Worksheet!$D$9,FALSE)))))))))))","v":true},{"$f":"IF(AE349,D349,\"\")","v":"Medium"},{"$f":"IF(AE349,COUNTIF($AF$5:AF349,AF349),\"X\")","v":144},{"$f":"CONCATENATE(AE349,AF349)","v":"TRUEMedium"}]
[{"$f":"CONCATENATE(AE350,D350,AG350)","v":"TRUEEasy136"},{"$f":"RAND()","v":0.24485972653294485},"+-×÷","Easy",153,"Divide by writing down a sum:   ",{"$f":"RANDBETWEEN(0,9)+RANDBETWEEN(1,99)*0.01","v":1.1100000000000001},"÷",{"$f":"CHOOSE(RANDBETWEEN(1,2),5,2)","v":2},null,null,null,null,null,null,null,null,null,null,{"$f":"CONCATENATE(F350,\" \",G350,\" \",H350,\" \",I350,\" \",J350,\" \",K350,\" \",L350,\" \",M350,\" \",N350,\" \",O350,\" \",P350,\" \",Q350,\" \",R350)","v":"Divide by writing down a sum:    1.11 ÷ 2         "},{"$f":"G350/I350","v":0.55500000000000005},null,null,null,null,null,null,null,{"$f":"IF(ISERROR(T350),NA(),\"\")","v":""},{"$f":"IF(OR(ISNA(U350),ISNA(V350),ISNA(W350),ISNA(X350),ISNA(Y350),ISNA(Z350),ISNA(AA350),ISNA(AB350),ISNA(AC350)),NA(),CONCATENATE(U350,V350,W350,X350,Y350,Z350,AA350,AB350))","v":"0.555"},{"$f":"IF(ISNA(AD350),FALSE,IF(C350=$B$1,Worksheet!$B$3,IF(C350=$C$1,Worksheet!$B$4,IF(C350=$D$1,Worksheet!$B$5,IF(C350=$C$2,Worksheet!$D$3,IF(C350=$D$2,Worksheet!$D$4,IF(C350=$E$2,Worksheet!$D$5,IF(C350=$C$3,Worksheet!$D$6,IF(C350=$B$3,Worksheet!$B$6,IF(C350=$D$3,Worksheet!$B$9,IF(C350=$E$3,Worksheet!$D$9,FALSE)))))))))))","v":true},{"$f":"IF(AE350,D350,\"\")","v":"Easy"},{"$f":"IF(AE350,COUNTIF($AF$5:AF350,AF350),\"X\")","v":136},{"$f":"CONCATENATE(AE350,AF350)","v":"TRUEEasy"}]
[{"$f":"CONCATENATE(AE351,D351,AG351)","v":"TRUEEasy137"},{"$f":"RAND()","v":0.55246965335950748},"+-×÷","Easy",62,"Divide without a calculator:",{"$f":"TEXT(I351*RANDBETWEEN(2,9)*10^RANDBETWEEN(0,3),\"###,###\")","v":"3,200"}," ÷ ",{"$f":"RANDBETWEEN(2,9)*10^RANDBETWEEN(1,3)","v":40},null,null,null,null,null,null,null,null,null,null,{"$f":"CONCATENATE(F351,\" \",G351,\" \",H351,\" \",I351,\" \",J351,\" \",K351,\" \",L351,\" \",M351,\" \",N351,\" \",O351,\" \",P351,\" \",Q351,\" \",R351)","v":"Divide without a calculator: 3,200  ÷  40         "},{"$f":"G351/I351","v":80},null,null,null,null,null,null,null,{"$f":"IF(ISERROR(T351),NA(),\"\")","v":""},{"$f":"IF(OR(ISNA(U351),ISNA(V351),ISNA(W351),ISNA(X351),ISNA(Y351),ISNA(Z351),ISNA(AA351),ISNA(AB351),ISNA(AC351)),NA(),CONCATENATE(U351,V351,W351,X351,Y351,Z351,AA351,AB351))","v":"80"},{"$f":"IF(ISNA(AD351),FALSE,IF(C351=$B$1,Worksheet!$B$3,IF(C351=$C$1,Worksheet!$B$4,IF(C351=$D$1,Worksheet!$B$5,IF(C351=$C$2,Worksheet!$D$3,IF(C351=$D$2,Worksheet!$D$4,IF(C351=$E$2,Worksheet!$D$5,IF(C351=$C$3,Worksheet!$D$6,IF(C351=$B$3,Worksheet!$B$6,IF(C351=$D$3,Worksheet!$B$9,IF(C351=$E$3,Worksheet!$D$9,FALSE)))))))))))","v":true},{"$f":"IF(AE351,D351,\"\")","v":"Easy"},{"$f":"IF(AE351,COUNTIF($AF$5:AF351,AF351),\"X\")","v":137},{"$f":"CONCATENATE(AE351,AF351)","v":"TRUEEasy"}]
[{"$f":"CONCATENATE(AE352,D352,AG352)","v":"TRUEEasy138"},{"$f":"RAND()","v":0.73548241159273964},"Dec","Easy",145,"Fill in the blank:",{"$f":"RANDBETWEEN(1001,9999)/1000","v":9.2409999999999997},"+","________","=",{"$f":" ROUNDUP(G352,1)","v":9.2999999999999989},null,null,null,null,null,null,null,null,{"$f":"CONCATENATE(F352,\" \",G352,\" \",H352,\" \",I352,\" \",J352,\" \",K352,\" \",L352,\" \",M352,\" \",N352,\" \",O352,\" \",P352,\" \",Q352,\" \",R352)","v":"Fill in the blank: 9.241 + ________ = 9.3       "},{"$f":"ROUND(K352-G352,3)","v":5.8999999999999997E-2},null,null,null,null,null,null,null,{"$f":"IF(ISERROR(T352),NA(),\"\")","v":""},{"$f":"IF(OR(ISNA(U352),ISNA(V352),ISNA(W352),ISNA(X352),ISNA(Y352),ISNA(Z352),ISNA(AA352),ISNA(AB352),ISNA(AC352)),NA(),CONCATENATE(U352,V352,W352,X352,Y352,Z352,AA352,AB352))","v":"0.059"},{"$f":"IF(ISNA(AD352),FALSE,IF(C352=$B$1,Worksheet!$B$3,IF(C352=$C$1,Worksheet!$B$4,IF(C352=$D$1,Worksheet!$B$5,IF(C352=$C$2,Worksheet!$D$3,IF(C352=$D$2,Worksheet!$D$4,IF(C352=$E$2,Worksheet!$D$5,IF(C352=$C$3,Worksheet!$D$6,IF(C352=$B$3,Worksheet!$B$6,IF(C352=$D$3,Worksheet!$B$9,IF(C352=$E$3,Worksheet!$D$9,FALSE)))))))))))","v":true},{"$f":"IF(AE352,D352,\"\")","v":"Easy"},{"$f":"IF(AE352,COUNTIF($AF$5:AF352,AF352),\"X\")","v":138},{"$f":"CONCATENATE(AE352,AF352)","v":"TRUEEasy"}]
[{"$f":"CONCATENATE(AE353,D353,AG353)","v":"TRUEEasy139"},{"$f":"RAND()","v":5.5654846469808894E-2},"%","Easy",275,"Calculate",{"$f":"10*CHOOSE(RANDBETWEEN(1,7),2,3,4,6,7,8,9)","v":90},"%","of","£",{"$f":"10^RANDBETWEEN(2,4)*RANDBETWEEN(2,9)","v":8000},null,null,null,null,null,null,null,null,{"$f":"CONCATENATE(F353,\" \",G353,\"\",H353,\" \",I353,\" \",J353,\"\",K353,\" \",L353,\" \",M353,\" \",N353,\" \",O353,\" \",P353,\" \",Q353,\" \",R353)","v":"Calculate 90% of £8000       "},"£",{"$f":"K353/100*G353","v":7200},null,null,null,null,null,null,{"$f":"IF(ISERROR(T353),NA(),\"\")","v":""},{"$f":"IF(OR(ISNA(U353),ISNA(V353),ISNA(W353),ISNA(X353),ISNA(Y353),ISNA(Z353),ISNA(AA353),ISNA(AB353),ISNA(AC353)),NA(),CONCATENATE(U353,V353,W353,X353,Y353,Z353,AA353,AB353))","v":"£7200"},{"$f":"IF(ISNA(AD353),FALSE,IF(C353=$B$1,Worksheet!$B$3,IF(C353=$C$1,Worksheet!$B$4,IF(C353=$D$1,Worksheet!$B$5,IF(C353=$C$2,Worksheet!$D$3,IF(C353=$D$2,Worksheet!$D$4,IF(C353=$E$2,Worksheet!$D$5,IF(C353=$C$3,Worksheet!$D$6,IF(C353=$B$3,Worksheet!$B$6,IF(C353=$D$3,Worksheet!$B$9,IF(C353=$E$3,Worksheet!$D$9,FALSE)))))))))))","v":true},{"$f":"IF(AE353,D353,\"\")","v":"Easy"},{"$f":"IF(AE353,COUNTIF($AF$5:AF353,AF353),\"X\")","v":139},{"$f":"CONCATENATE(AE353,AF353)","v":"TRUEEasy"}]
[{"$f":"CONCATENATE(AE354,D354,AG354)","v":"TRUEMedium145"},{"$f":"RAND()","v":0.48222041867974685},"+-×÷","Medium",30,"What is the Highest Common Factor of ",{"$f":"RANDBETWEEN(2,12)*S354","v":20},"and",{"$f":"RANDBETWEEN(6,12)*S354","v":70},"?",null,null,null,null,null,null,null,null,{"$f":"RANDBETWEEN(2,10)","v":10},{"$f":"CONCATENATE(F354,\" \",G354,\" \",H354,\" \",I354,\" \",J354,\" \",K354,\" \",L354,\" \",M354,\" \",N354,\" \",O354,\" \",P354,\" \",Q354,\" \",R354)","v":"What is the Highest Common Factor of  20 and 70 ?        "},{"$f":"GCD(G354,I354)","v":10},null,null,null,null,null,null,null,{"$f":"IF(ISERROR(T354),NA(),\"\")","v":""},{"$f":"IF(OR(ISNA(U354),ISNA(V354),ISNA(W354),ISNA(X354),ISNA(Y354),ISNA(Z354),ISNA(AA354),ISNA(AB354),ISNA(AC354)),NA(),CONCATENATE(U354,V354,W354,X354,Y354,Z354,AA354,AB354))","v":"10"},{"$f":"IF(ISNA(AD354),FALSE,IF(C354=$B$1,Worksheet!$B$3,IF(C354=$C$1,Worksheet!$B$4,IF(C354=$D$1,Worksheet!$B$5,IF(C354=$C$2,Worksheet!$D$3,IF(C354=$D$2,Worksheet!$D$4,IF(C354=$E$2,Worksheet!$D$5,IF(C354=$C$3,Worksheet!$D$6,IF(C354=$B$3,Worksheet!$B$6,IF(C354=$D$3,Worksheet!$B$9,IF(C354=$E$3,Worksheet!$D$9,FALSE)))))))))))","v":true},{"$f":"IF(AE354,D354,\"\")","v":"Medium"},{"$f":"IF(AE354,COUNTIF($AF$5:AF354,AF354),\"X\")","v":145},{"$f":"CONCATENATE(AE354,AF354)","v":"TRUEMedium"}]
[{"$f":"CONCATENATE(AE355,D355,AG355)","v":"TRUEMedium146"},{"$f":"RAND()","v":0.39812872670543797},"%","Medium",282,"Write",{"$f":"RANDBETWEEN(1,9)+0.5","v":1.5},"%","as a fraction in its simplest form",null,null,null,null,null,null,null,null,null,null,{"$f":"CONCATENATE(F355,\" \",G355,\"\",H355,\" \",I355,\" \",J355,\" \",K355,\" \",L355,\" \",M355,\" \",N355,\" \",O355,\" \",P355,\" \",Q355,\" \",R355)","v":"Write 1.5% as a fraction in its simplest form         "},{"$f":"TEXT(G355/100,\"##/###\")","v":"3/200"},null,null,null,null,null,null,null,{"$f":"IF(ISERROR(T355),NA(),\"\")","v":""},{"$f":"IF(OR(ISNA(U355),ISNA(V355),ISNA(W355),ISNA(X355),ISNA(Y355),ISNA(Z355),ISNA(AA355),ISNA(AB355),ISNA(AC355)),NA(),CONCATENATE(U355,V355,W355,X355,Y355,Z355,AA355,AB355))","v":"3/200"},{"$f":"IF(ISNA(AD355),FALSE,IF(C355=$B$1,Worksheet!$B$3,IF(C355=$C$1,Worksheet!$B$4,IF(C355=$D$1,Worksheet!$B$5,IF(C355=$C$2,Worksheet!$D$3,IF(C355=$D$2,Worksheet!$D$4,IF(C355=$E$2,Worksheet!$D$5,IF(C355=$C$3,Worksheet!$D$6,IF(C355=$B$3,Worksheet!$B$6,IF(C355=$D$3,Worksheet!$B$9,IF(C355=$E$3,Worksheet!$D$9,FALSE)))))))))))","v":true},{"$f":"IF(AE355,D355,\"\")","v":"Medium"},{"$f":"IF(AE355,COUNTIF($AF$5:AF355,AF355),\"X\")","v":146},{"$f":"CONCATENATE(AE355,AF355)","v":"TRUEMedium"}]