{"text_format":"1","workbook":"xlsx","n_sheets":2,"sheets":["Worksheet","SYSTEM FORMULAE"],"not_rendered":{"charts":0,"images":0,"macros":1,"external_links":0,"defined_names":4,"comments":0,"pivot_tables":0},"unopened":[],"bounds":{"document_bytes":16777216,"sheet_cells":100000,"rows_first":2000,"rows_last":500,"rows_between":2000,"halvings":0,"cell_chars":16384,"cell_head_chars":4096},"cells_cut":0,"cells_raw":0,"read":"whole","date_system":"1900"}

{"sheet":"Worksheet","index":0,"n_rows":22,"n_cols":17,"rows_kept":22,"cut":false,"hidden":false,"merged":[[8,0,8,3],[1,0,1,3],[0,6,0,7],[1,6,1,7],[0,8,1,8],[0,5,1,5],[7,0,7,3]]}
[null,null,null,null,null,"adjust difficulty here.  Aim for a spread.","Number Topics: Revision Questions",null,"Answers (by default this column will not print)"]
["Include questions on these NUMBER topics      (if you only choose a limited number of topics, some questions may appear blank)",null,null,null,null,null,"No calculators: write working whenever you need to.  Use another sheet if you need more space"]
["Whole Numbers, Numerals, Count, Order",true,"Fractions",true,null,{"$f":"IF(O3=1,\"Easy\",IF(O3=2,\"Medium\",\"Hard\"))","v":"Easy"},1,"What is half of 42 ?          ","21",null,null,null,null,{"$f":"CONCATENATE(TRUE,F3,COUNTIF($F$3:F3,F3))","v":"TRUEEasy1"},1,{"$f":"VLOOKUP(N3,Questions,20,FALSE)","v":"What is half of 48 ?          "},{"$f":"VLOOKUP(N3,Questions,30,FALSE)","v":"24"}]
["Add and Subtract",true,"Decimals",true,null,{"$f":"IF(O4=1,\"Easy\",IF(O4=2,\"Medium\",\"Hard\"))","v":"Easy"},2,"Write the number   \"four thousand, and eighty seven\"   in figures       ","4087",null,null,null,null,{"$f":"CONCATENATE(TRUE,F4,COUNTIF($F$3:F4,F4))","v":"TRUEEasy2"},1,"Write the number   \"eight thousand, and thirty one\"   in figures       ","8031"]
["Multiply",true,"Percentages",true,null,"Easy",3,"Continue the pattern for three more numbers:    24.5,   24.6,   24.7,   24.8,   ____,   ____,   ____     ","24.9,   25,   25.1",null,null,null,null,{"$f":"CONCATENATE(TRUE,F5,COUNTIF($F$3:F5,F5))","v":"TRUEEasy3"},1,"Continue the pattern for three more numbers:    2.5,   2.6,   2.7,   2.8,   ____,   ____,   ____     ","2.9,   3,   3.1"]
["Divide",true,"Rounding",true,null,"Easy",4,"Multiply by writing down a sum:    476 × 3         ","1,428",null,null,null,null,{"$f":"CONCATENATE(TRUE,F6,COUNTIF($F$3:F6,F6))","v":"TRUEEasy4"},1,"Multiply by writing down a sum:    249 × 4         ","996"]
["Choose the Operation",true,"Negative Numbers",true,null,"Easy",5,"Write these numbers in order from smallest to biggest:   5,  4.9,  4,  9.4   ","4,  4.9,  5,  9.4",null,null,null,null,{"$f":"CONCATENATE(TRUE,F7,COUNTIF($F$3:F7,F7))","v":"TRUEEasy5"},1,"Write these numbers in order from smallest to biggest:   8,  7.1,  7,  1.7   ","1.7,  7,  7.1,  8"]
[{"$f":"IF(OR('SYSTEM FORMULAE'!A3<20,'SYSTEM FORMULAE'!U1<'SYSTEM FORMULAE'!T1,'SYSTEM FORMULAE'!U2<'SYSTEM FORMULAE'!T2,'SYSTEM FORMULAE'!U3<'SYSTEM FORMULAE'!T3),\"there are not enough potential questions.  Please choose more topics\",\"\")","v":""},null,null,null,null,"Medium",6,"Continue the pattern for three more numbers:    30.2,   30.4,   30.6,   30.8,   ____,   ____,   ____     ","31,   31.2,   31.4",null,null,null,null,{"$f":"CONCATENATE(TRUE,F8,COUNTIF($F$3:F8,F8))","v":"TRUEMedium1"},2,"Continue the pattern for three more numbers:    33.2,   33.4,   33.6,   33.8,   ____,   ____,   ____     ","34,   34.2,   34.4"]
["Optionally include additional questions on these (selected) ALGEBRA topics",null,null,null,null,"Medium",7,"Write the fraction 5/35 in its simplest form        ","1/7",null,null,null,null,{"$f":"CONCATENATE(TRUE,F9,COUNTIF($F$3:F9,F9))","v":"TRUEMedium2"},2,"Write the fraction 15/25 in its simplest form        ","3/5"]
["Substitution",false,"Equations and Inequations",false,null,"Medium",8,"What is 0.6 as a percentage?          ","60%",null,null,null,null,{"$f":"CONCATENATE(TRUE,F10,COUNTIF($F$3:F10,F10))","v":"TRUEMedium3"},2,"What is 0.8 as a percentage?          ","80%"]
[null,null,null,null,null,"Medium",9,"Fractions.   What is  7/10  of 40 ?        ","28",null,null,null,null,{"$f":"CONCATENATE(TRUE,F11,COUNTIF($F$3:F11,F11))","v":"TRUEMedium4"},2,"Fractions.   What is  3/10  of 50 ?        ","15"]
[null,null,null,null,null,"Medium",10,"Round 776.95 to the nearest whole number          ","777",null,null,null,null,{"$f":"CONCATENATE(TRUE,F12,COUNTIF($F$3:F12,F12))","v":"TRUEMedium5"},2,"Round 852.22 to the nearest whole number          ","852"]
[null,null,null,null,null,"Medium",11,"What is half of 9000 ?          ","4500",null,null,null,null,{"$f":"CONCATENATE(TRUE,F13,COUNTIF($F$3:F13,F13))","v":"TRUEMedium6"},2,"What is half of 5000 ?          ","2500"]
[null,null,null,null,null,"Medium",12,"Take away by writing down a sum:    82.76 – 42.59         ","40.17",null,null,null,null,{"$f":"CONCATENATE(TRUE,F14,COUNTIF($F$3:F14,F14))","v":"TRUEMedium7"},2,"Take away by writing down a sum:    29.99 – 19.26         ","10.73"]
[null,null,null,null,null,"Medium",13,"Barry is saving money to buy a new car.  The car costs £2000 .  So far, Barry has saved £1400.  How much more money does he need?     ","£600",null,null,null,null,{"$f":"CONCATENATE(TRUE,F15,COUNTIF($F$3:F15,F15))","v":"TRUEMedium8"},2,"Murray is saving money to buy a new car.  The car costs £2000 .  So far, Murray has saved £1100.  How much more money does he need?     ","£900"]
[null,null,null,null,null,"Medium",14,"Circle the number that is a multiple of 10:         23     30     22     20        ","30",null,null,null,null,{"$f":"CONCATENATE(TRUE,F16,COUNTIF($F$3:F16,F16))","v":"TRUEMedium9"},2,"Circle the number that is a multiple of 10:         7     14     13     18        ","18"]
[null,null,null,null,null,"Medium",15,"What number is half way between 9.6 and 9.7 ?        ","9.65",null,null,null,null,{"$f":"CONCATENATE(TRUE,F17,COUNTIF($F$3:F17,F17))","v":"TRUEMedium10"},2,"What number is half way between 7.3 and 7.4 ?        ","7.35"]
[null,null,null,null,null,"Medium",16,"What is  1/10 as a percentage?          ","10%",null,null,null,null,{"$f":"CONCATENATE(TRUE,F18,COUNTIF($F$3:F18,F18))","v":"TRUEMedium11"},2,"What is  1/10 as a percentage?          ","10%"]
[null,null,null,null,null,"Hard",17,"Take away the fraction:        1   –   3/5        ","2/5",null,null,null,null,{"$f":"CONCATENATE(TRUE,F19,COUNTIF($F$3:F19,F19))","v":"TRUEHard1"},3,"Take away the fraction:        1   –   3/5        ","2/5"]
[null,null,null,null,null,"Hard",18,"In the number 518,724 , what does the 7 stand for?   ","700",null,null,null,null,{"$f":"CONCATENATE(TRUE,F20,COUNTIF($F$3:F20,F20))","v":"TRUEHard2"},3,"In the number 472,569 , what does the 4 stand for?   ","400,000"]
[null,null,null,null,null,"Hard",19,"Continue the pattern for three more numbers:    24.25,   24.2,   24.15,   24.1,   ____,   ____,   ____     ","24.05,   24,   23.95",null,null,null,null,{"$f":"CONCATENATE(TRUE,F21,COUNTIF($F$3:F21,F21))","v":"TRUEHard3"},3,"Continue the pattern for three more numbers:    38.25,   38.2,   38.15,   38.1,   ____,   ____,   ____     ","38.05,   38,   37.95"]
[null,null,null,null,null,"Hard",20,"Fill in the missing number:    373 + ____ =  1000         ","627",null,null,null,null,{"$f":"CONCATENATE(TRUE,F22,COUNTIF($F$3:F22,F22))","v":"TRUEHard4"},3,"Fill in the missing number:    723 + ____ =  1000         ","277"]

{"sheet":"SYSTEM FORMULAE","index":1,"n_rows":381,"n_cols":34,"rows_kept":381,"cut":false,"hidden":false,"merged":[]}
["Possible topics","Num","+-","Mult","Divide",null,"shade a fraction",null,null,null,null,null,null,null,null,null,null,null,"hard",{"$f":"COUNTIF(Worksheet!$F$3:$F$22,S1)","v":4},{"$f":"COUNTIF(AH$5:AH$726,\"TRUEHard\")","v":118}]
[null,"Choose","Frac","Dec","%",null,"identify a shaded fraction",null,null,null,null,null,null,null,null,null,null,null,"medium",{"$f":"COUNTIF(Worksheet!$F$3:$F$22,S2)","v":11},{"$f":"COUNTIF(AH$5:AH$726,\"TRUEMedium\")","v":156}]
[{"$f":"COUNTIF(AE5:AE726,TRUE)","v":353},"Neg","Round","Alg","Eqn",null,"decimal on number line",null,null,null,null,null,null,null,null,null,null,null,"easy",{"$f":"COUNTIF(Worksheet!$F$3:$F$22,S3)","v":5},{"$f":"COUNTIF(AH$5:AH$726,\"TRUEEasy\")","v":79}]
["allow inclusion?","rand()","topic","difficulty",null,null,null,null,null,null,null,null,null,null,null,null,null,null,null,null,"Answers"]
[{"$f":"CONCATENATE(AE5,D5,AG5)","v":"TRUEEasy1"},{"$f":"RAND()","v":0.28861821635122398},"Divide","Easy",110,"What is half of",{"$f":"RANDBETWEEN(2,4)*20+RANDBETWEEN(1,4)*2","v":48},"?",null,null,null,null,null,null,null,null,null,null,null,{"$f":"CONCATENATE(F5,\" \",G5,\" \",H5,\" \",I5,\" \",J5,\" \",K5,\" \",L5,\" \",M5,\" \",N5,\" \",O5,\" \",P5,\" \",Q5,\" \",R5)","v":"What is half of 48 ?          "},{"$f":"G5/2","v":24},null,null,null,null,null,null,null,null,{"$f":"IF(OR(ISNA(U5),ISNA(V5),ISNA(W5),ISNA(X5),ISNA(Y5),ISNA(Z5),ISNA(AA5),ISNA(AB5),ISNA(AC5)),NA(),CONCATENATE(U5,V5,W5,X5,Y5,Z5,AA5,AB5))","v":"24"},{"$f":"IF(ISNA(AD5),FALSE,IF(C5=$B$1,Worksheet!$B$3,IF(C5=$C$1,Worksheet!$B$4,IF(C5=$D$1,Worksheet!$B$5,IF(C5=$E$1,Worksheet!$B$6,IF(C5=$B$2,Worksheet!$B$7,IF(C5=$C$2,Worksheet!$D$3,IF(C5=$D$2,Worksheet!$D$4,IF(C5=$E$2,Worksheet!$D$5,IF(C5=$C$3,Worksheet!$D$6,IF(C5=$B$3,Worksheet!$D$7,IF(C5=$D$3,Worksheet!$B$10,IF(C5=$E$3,Worksheet!$D$10,FALSE)))))))))))))","v":true},{"$f":"IF(AE5,D5,\"\")","v":"Easy"},{"$f":"IF(AE5,COUNTIF($AF$5:AF5,AF5),\"X\")","v":1},{"$f":"CONCATENATE(AE5,AF5)","v":"TRUEEasy"}]
[{"$f":"CONCATENATE(AE6,D6,AG6)","v":"TRUEEasy2"},{"$f":"RAND()","v":4.7712543066374402E-2},"Num","Easy",1,"Write the number   \"",{"$f":"CHOOSE(RANDBETWEEN(1,9),\"one\",\"two\",\"three\",\"four\",\"five\",\"six\",\"seven\",\"eight\",\"nine\")","v":"eight"},"thousand, and",{"$f":"CHOOSE(S6,CHOOSE(RANDBETWEEN(1,10),\"ten\",\"eleven\",\"twelve\",\"thirteen\",\"fourteen\",\"fifteen\",\"sixteen\",\"seventeen\",\"eighteen\",\"nineteen\"),\"twenty\",\"thirty\",\"forty\",\"fifty\",\"sixty\",\"seventy\",\"eighty\",\"ninety\")","v":"thirty"},{"$f":"IF(S6=1,\"\",CHOOSE(RANDBETWEEN(1,9),\"one\",\"two\",\"three\",\"four\",\"five\",\"six\",\"seven\",\"eight\",\"nine\"))","v":"one"},"\"   in figures",null,null,null,null,null,null,null,{"$f":"RANDBETWEEN(1,9)","v":3},{"$f":"CONCATENATE(F6,\"\",G6,\" \",H6,\" \",I6,\" \",J6,\"\",K6,\" \",L6,\" \",M6,\" \",N6,\" \",O6,\" \",P6,\" \",Q6,\" \",R6)","v":"Write the number   \"eight thousand, and thirty one\"   in figures       "},{"$f":"IF(G6=\"one\",1,IF(G6=\"two\",2,IF(G6=\"three\",3,IF(G6=\"four\",4,IF(G6=\"five\",5,IF(G6=\"six\",6,IF(G6=\"seven\",7,IF(G6=\"eight\",8,9))))))))","v":8},0,{"$f":"S6","v":3},{"$f":"IF(S6=1,IF(I6=\"ten\",0,IF(I6=\"eleven\",1,IF(I6=\"twelve\",2,IF(I6=\"thirteen\",3,IF(I6=\"fourteen\",4,IF(I6=\"fifteen\",5,IF(I6=\"sixteen\",6,IF(I6=\"seventeen\",7,IF(I6=\"eighteen\",8,9))))))))),\"\")","v":""},{"$f":"IF(S6<>1,IF(J6=\"one\",1,IF(J6=\"two\",2,IF(J6=\"three\",3,IF(J6=\"four\",4,IF(J6=\"five\",5,IF(J6=\"six\",6,IF(J6=\"seven\",7,IF(J6=\"eight\",8,9)))))))),\"\")","v":1},null,null,null,null,{"$f":"IF(OR(ISNA(U6),ISNA(V6),ISNA(W6),ISNA(X6),ISNA(Y6),ISNA(Z6),ISNA(AA6),ISNA(AB6),ISNA(AC6)),NA(),CONCATENATE(U6,V6,W6,X6,Y6,Z6,AA6,AB6))","v":"8031"},{"$f":"IF(ISNA(AD6),FALSE,IF(C6=$B$1,Worksheet!$B$3,IF(C6=$C$1,Worksheet!$B$4,IF(C6=$D$1,Worksheet!$B$5,IF(C6=$E$1,Worksheet!$B$6,IF(C6=$B$2,Worksheet!$B$7,IF(C6=$C$2,Worksheet!$D$3,IF(C6=$D$2,Worksheet!$D$4,IF(C6=$E$2,Worksheet!$D$5,IF(C6=$C$3,Worksheet!$D$6,IF(C6=$B$3,Worksheet!$D$7,IF(C6=$D$3,Worksheet!$B$10,IF(C6=$E$3,Worksheet!$D$10,FALSE)))))))))))))","v":true},{"$f":"IF(AE6,D6,\"\")","v":"Easy"},{"$f":"IF(AE6,COUNTIF($AF$5:AF6,AF6),\"X\")","v":2},{"$f":"CONCATENATE(AE6,AF6)","v":"TRUEEasy"}]
[{"$f":"CONCATENATE(AE7,D7,AG7)","v":"TRUEMedium1"},{"$f":"RAND()","v":0.24674335958227922},"Dec","Medium",206,"Continue the pattern for three more numbers:   ",{"$f":"2*RANDBETWEEN(50,200)/10","v":33.200000000000003},{"$f":"G7+S7","v":33.400000000000006},{"$f":"H7+S7","v":33.600000000000009},{"$f":"I7+S7","v":33.800000000000011},"____","____","____",null,null,null,null,null,0.2,{"$f":"CONCATENATE(F7,\" \",G7,\",   \",H7,\",   \",I7,\",   \",J7,\",   \",K7,\",   \",L7,\",   \",M7,\" \",N7,\" \",O7,\" \",P7,\" \",Q7,\" \",R7)","v":"Continue the pattern for three more numbers:    33.2,   33.4,   33.6,   33.8,   ____,   ____,   ____     "},{"$f":"J7+S7","v":34.000000000000014},{"$f":"U7+S7","v":34.200000000000017},{"$f":"V7+S7","v":34.40000000000002},null,null,null,null,null,null,{"$f":"IF(OR(ISNA(U7),ISNA(V7),ISNA(W7),ISNA(X7),ISNA(Y7),ISNA(Z7),ISNA(AA7),ISNA(AB7),ISNA(AC7)),NA(),CONCATENATE(U7,\",   \",V7,\",   \",W7,X7,Y7,Z7,AA7,AB7))","v":"34,   34.2,   34.4"},{"$f":"IF(ISNA(AD7),FALSE,IF(C7=$B$1,Worksheet!$B$3,IF(C7=$C$1,Worksheet!$B$4,IF(C7=$D$1,Worksheet!$B$5,IF(C7=$E$1,Worksheet!$B$6,IF(C7=$B$2,Worksheet!$B$7,IF(C7=$C$2,Worksheet!$D$3,IF(C7=$D$2,Worksheet!$D$4,IF(C7=$E$2,Worksheet!$D$5,IF(C7=$C$3,Worksheet!$D$6,IF(C7=$B$3,Worksheet!$D$7,IF(C7=$D$3,Worksheet!$B$10,IF(C7=$E$3,Worksheet!$D$10,FALSE)))))))))))))","v":true},{"$f":"IF(AE7,D7,\"\")","v":"Medium"},{"$f":"IF(AE7,COUNTIF($AF$5:AF7,AF7),\"X\")","v":1},{"$f":"CONCATENATE(AE7,AF7)","v":"TRUEMedium"}]
[{"$f":"CONCATENATE(AE8,D8,AG8)","v":"TRUEMedium2"},{"$f":"RAND()","v":0.65720965109917673},"Frac","Medium",179,"Write the fraction",{"$f":"5*RANDBETWEEN(1,I8/5-1)","v":15},"/",{"$f":"5*RANDBETWEEN(3,8)","v":25},"in its simplest form",null,null,null,null,null,null,null,null,null,{"$f":"CONCATENATE(F8,\" \",G8,\"\",H8,\"\",I8,\" \",J8,\" \",K8,\" \",L8,\" \",M8,\" \",N8,\" \",O8,\" \",P8,\" \",Q8,\" \",R8)","v":"Write the fraction 15/25 in its simplest form        "},{"$f":"G8/GCD(G8,I8)","v":3},"/",{"$f":"I8/GCD(G8,I8)","v":5},null,null,null,null,null,null,{"$f":"IF(OR(ISNA(U8),ISNA(V8),ISNA(W8),ISNA(X8),ISNA(Y8),ISNA(Z8),ISNA(AA8),ISNA(AB8),ISNA(AC8)),NA(),CONCATENATE(U8,V8,W8,X8,Y8,Z8,AA8,AB8))","v":"3/5"},{"$f":"IF(ISNA(AD8),FALSE,IF(C8=$B$1,Worksheet!$B$3,IF(C8=$C$1,Worksheet!$B$4,IF(C8=$D$1,Worksheet!$B$5,IF(C8=$E$1,Worksheet!$B$6,IF(C8=$B$2,Worksheet!$B$7,IF(C8=$C$2,Worksheet!$D$3,IF(C8=$D$2,Worksheet!$D$4,IF(C8=$E$2,Worksheet!$D$5,IF(C8=$C$3,Worksheet!$D$6,IF(C8=$B$3,Worksheet!$D$7,IF(C8=$D$3,Worksheet!$B$10,IF(C8=$E$3,Worksheet!$D$10,FALSE)))))))))))))","v":true},{"$f":"IF(AE8,D8,\"\")","v":"Medium"},{"$f":"IF(AE8,COUNTIF($AF$5:AF8,AF8),\"X\")","v":2},{"$f":"CONCATENATE(AE8,AF8)","v":"TRUEMedium"}]
[{"$f":"CONCATENATE(AE9,D9,AG9)","v":"TRUEMedium3"},{"$f":"RAND()","v":0.31051476172047943},"%","Medium",305,"What is",{"$f":"RANDBETWEEN(1,9)/10","v":0.8},"as a percentage?",null,null,null,null,null,null,null,null,null,null,null,{"$f":"CONCATENATE(F9,\" \",G9,\" \",H9,\" \",I9,\" \",J9,\" \",K9,\" \",L9,\" \",M9,\" \",N9,\" \",O9,\" \",P9,\" \",Q9,\" \",R9)","v":"What is 0.8 as a percentage?          "},{"$f":"G9*100","v":80},"%",null,null,null,null,null,null,null,{"$f":"IF(OR(ISNA(U9),ISNA(V9),ISNA(W9),ISNA(X9),ISNA(Y9),ISNA(Z9),ISNA(AA9),ISNA(AB9),ISNA(AC9)),NA(),CONCATENATE(U9,V9,W9,X9,Y9,Z9,AA9,AB9))","v":"80%"},{"$f":"IF(ISNA(AD9),FALSE,IF(C9=$B$1,Worksheet!$B$3,IF(C9=$C$1,Worksheet!$B$4,IF(C9=$D$1,Worksheet!$B$5,IF(C9=$E$1,Worksheet!$B$6,IF(C9=$B$2,Worksheet!$B$7,IF(C9=$C$2,Worksheet!$D$3,IF(C9=$D$2,Worksheet!$D$4,IF(C9=$E$2,Worksheet!$D$5,IF(C9=$C$3,Worksheet!$D$6,IF(C9=$B$3,Worksheet!$D$7,IF(C9=$D$3,Worksheet!$B$10,IF(C9=$E$3,Worksheet!$D$10,FALSE)))))))))))))","v":true},{"$f":"IF(AE9,D9,\"\")","v":"Medium"},{"$f":"IF(AE9,COUNTIF($AF$5:AF9,AF9),\"X\")","v":3},{"$f":"CONCATENATE(AE9,AF9)","v":"TRUEMedium"}]
[{"$f":"CONCATENATE(AE10,D10,AG10)","v":"TRUEEasy3"},{"$f":"RAND()","v":0.60987332664189808},"Dec","Easy",202,"Continue the pattern for three more numbers:   ",{"$f":"RANDBETWEEN(1,40)+RANDBETWEEN(4,6)*0.1","v":2.5},{"$f":"G10+S10","v":2.6},{"$f":"H10+S10","v":2.7},{"$f":"I10+S10","v":2.8000000000000003},"____","____","____",null,null,null,null,null,0.1,{"$f":"CONCATENATE(F10,\" \",G10,\",   \",H10,\",   \",I10,\",   \",J10,\",   \",K10,\",   \",L10,\",   \",M10,\" \",N10,\" \",O10,\" \",P10,\" \",Q10,\" \",R10)","v":"Continue the pattern for three more numbers:    2.5,   2.6,   2.7,   2.8,   ____,   ____,   ____     "},{"$f":"J10+S10","v":2.9000000000000004},{"$f":"U10+S10","v":3.0000000000000004},{"$f":"V10+S10","v":3.1000000000000005},null,null,null,null,null,null,{"$f":"IF(OR(ISNA(U10),ISNA(V10),ISNA(W10),ISNA(X10),ISNA(Y10),ISNA(Z10),ISNA(AA10),ISNA(AB10),ISNA(AC10)),NA(),CONCATENATE(U10,\",   \",V10,\",   \",W10,X10,Y10,Z10,AA10,AB10))","v":"2.9,   3,   3.1"},{"$f":"IF(ISNA(AD10),FALSE,IF(C10=$B$1,Worksheet!$B$3,IF(C10=$C$1,Worksheet!$B$4,IF(C10=$D$1,Worksheet!$B$5,IF(C10=$E$1,Worksheet!$B$6,IF(C10=$B$2,Worksheet!$B$7,IF(C10=$C$2,Worksheet!$D$3,IF(C10=$D$2,Worksheet!$D$4,IF(C10=$E$2,Worksheet!$D$5,IF(C10=$C$3,Worksheet!$D$6,IF(C10=$B$3,Worksheet!$D$7,IF(C10=$D$3,Worksheet!$B$10,IF(C10=$E$3,Worksheet!$D$10,FALSE)))))))))))))","v":true},{"$f":"IF(AE10,D10,\"\")","v":"Easy"},{"$f":"IF(AE10,COUNTIF($AF$5:AF10,AF10),\"X\")","v":3},{"$f":"CONCATENATE(AE10,AF10)","v":"TRUEEasy"}]
[{"$f":"CONCATENATE(AE11,D11,AG11)","v":"TRUEHard1"},{"$f":"RAND()","v":0.82365571888891431},"Frac","Hard",199,"Take away the fraction:       ",1,"  –  ",{"$f":"RANDBETWEEN(1,4)","v":3},"/5",null,null,null,null,null,null,null,null,null,{"$f":"CONCATENATE(F11,\" \",G11,\" \",H11,\" \",I11,\"\",J11,\" \",K11,\" \",L11,\" \",M11,\" \",N11,\" \",O11,\" \",P11,\" \",Q11,\" \",R11)","v":"Take away the fraction:        1   –   3/5        "},{"$f":"5-I11","v":2},"/5",null,null,null,null,null,null,null,{"$f":"IF(OR(ISNA(U11),ISNA(V11),ISNA(W11),ISNA(X11),ISNA(Y11),ISNA(Z11),ISNA(AA11),ISNA(AB11),ISNA(AC11)),NA(),CONCATENATE(U11,V11,W11,X11,Y11,Z11,AA11,AB11))","v":"2/5"},{"$f":"IF(ISNA(AD11),FALSE,IF(C11=$B$1,Worksheet!$B$3,IF(C11=$C$1,Worksheet!$B$4,IF(C11=$D$1,Worksheet!$B$5,IF(C11=$E$1,Worksheet!$B$6,IF(C11=$B$2,Worksheet!$B$7,IF(C11=$C$2,Worksheet!$D$3,IF(C11=$D$2,Worksheet!$D$4,IF(C11=$E$2,Worksheet!$D$5,IF(C11=$C$3,Worksheet!$D$6,IF(C11=$B$3,Worksheet!$D$7,IF(C11=$D$3,Worksheet!$B$10,IF(C11=$E$3,Worksheet!$D$10,FALSE)))))))))))))","v":true},{"$f":"IF(AE11,D11,\"\")","v":"Hard"},{"$f":"IF(AE11,COUNTIF($AF$5:AF11,AF11),\"X\")","v":1},{"$f":"CONCATENATE(AE11,AF11)","v":"TRUEHard"}]
[{"$f":"CONCATENATE(AE12,D12,AG12)","v":"TRUEHard2"},{"$f":"RAND()","v":0.30273308903543206},"Num","Hard",10,"In the number",{"$f":"RANDBETWEEN(1,9)","v":4},{"$f":"SMALL(IF(G12={1,2,3,4,5,6,7,8,9},\"\",{1,2,3,4,5,6,7,8,9}),RANDBETWEEN(1,8))","v":7},{"$f":"SMALL(IF(G12={1,2,3,4,5,6,7,8,9},\"\",IF(H12={1,2,3,4,5,6,7,8,9},\"\",{1,2,3,4,5,6,7,8,9})),RANDBETWEEN(1,7))","v":2},{"$f":"SMALL(IF(G12={1,2,3,4,5,6,7,8,9},\"\",IF(H12={1,2,3,4,5,6,7,8,9},\"\",IF(I12={1,2,3,4,5,6,7,8,9},\"\",{1,2,3,4,5,6,7,8,9}))),RANDBETWEEN(1,6))","v":5},{"$f":"SMALL(IF(G12={1,2,3,4,5,6,7,8,9},\"\",IF(H12={1,2,3,4,5,6,7,8,9},\"\",IF(I12={1,2,3,4,5,6,7,8,9},\"\",IF(J12={1,2,3,4,5,6,7,8,9},\"\",{1,2,3,4,5,6,7,8,9})))),RANDBETWEEN(1,5))","v":6},{"$f":"SMALL(IF(G12={1,2,3,4,5,6,7,8,9},\"\",IF(H12={1,2,3,4,5,6,7,8,9},\"\",IF(I12={1,2,3,4,5,6,7,8,9},\"\",IF(J12={1,2,3,4,5,6,7,8,9},\"\",IF(K12={1,2,3,4,5,6,7,8,9},\"\",{1,2,3,4,5,6,7,8,9}))))),RANDBETWEEN(1,4))","v":9},", what does the",{"$f":"CHOOSE(S12,J12,I12,H12,G12)","v":4},"stand for?",null,null,null,{"$f":"RANDBETWEEN(1,4)","v":4},{"$f":"CONCATENATE(F12,\" \",G12,\"\",H12,\"\",I12,\",\",J12,\"\",K12,\"\",L12,\" \",M12,\" \",N12,\" \",O12,\" \",P12,\" \",Q12,\" \",R12)","v":"In the number 472,569 , what does the 4 stand for?   "},{"$f":"TEXT(N12*10^(1+S12),\"#,###\")","v":"400,000"},null,null,null,null,null,null,null,null,{"$f":"IF(OR(ISNA(U12),ISNA(V12),ISNA(W12),ISNA(X12),ISNA(Y12),ISNA(Z12),ISNA(AA12),ISNA(AB12),ISNA(AC12)),NA(),CONCATENATE(U12,V12,W12,X12,Y12,Z12,AA12,AB12))","v":"400,000"},{"$f":"IF(ISNA(AD12),FALSE,IF(C12=$B$1,Worksheet!$B$3,IF(C12=$C$1,Worksheet!$B$4,IF(C12=$D$1,Worksheet!$B$5,IF(C12=$E$1,Worksheet!$B$6,IF(C12=$B$2,Worksheet!$B$7,IF(C12=$C$2,Worksheet!$D$3,IF(C12=$D$2,Worksheet!$D$4,IF(C12=$E$2,Worksheet!$D$5,IF(C12=$C$3,Worksheet!$D$6,IF(C12=$B$3,Worksheet!$D$7,IF(C12=$D$3,Worksheet!$B$10,IF(C12=$E$3,Worksheet!$D$10,FALSE)))))))))))))","v":true},{"$f":"IF(AE12,D12,\"\")","v":"Hard"},{"$f":"IF(AE12,COUNTIF($AF$5:AF12,AF12),\"X\")","v":2},{"$f":"CONCATENATE(AE12,AF12)","v":"TRUEHard"}]
[{"$f":"CONCATENATE(AE13,D13,AG13)","v":"TRUEMedium4"},{"$f":"RAND()","v":0.22080873487503427},"Frac","Medium",154,"Fractions.   What is ",{"$f":"CHOOSE(RANDBETWEEN(1,3),\"3/10\",\"7/10\",\"9/10\")","v":"3/10"}," of",{"$f":"10*RANDBETWEEN(2,5)","v":50},"?",null,null,null,null,null,null,null,null,null,{"$f":"CONCATENATE(F13,\" \",G13,\" \",H13,\" \",I13,\" \",J13,\" \",K13,\" \",L13,\" \",M13,\" \",N13,\" \",O13,\" \",P13,\" \",Q13,\" \",R13)","v":"Fractions.   What is  3/10  of 50 ?        "},{"$f":"I13/10*IF(G13=\"3/10\",3,IF(G13=\"7/10\",7,9))","v":15},null,null,null,{"$f":"IF(INT(U13)<>U13,NA(),\"\")","v":""},null,null,null,null,{"$f":"IF(OR(ISNA(U13),ISNA(V13),ISNA(W13),ISNA(X13),ISNA(Y13),ISNA(Z13),ISNA(AA13),ISNA(AB13),ISNA(AC13)),NA(),CONCATENATE(U13,V13,W13,X13,Y13,Z13,AA13,AB13))","v":"15"},{"$f":"IF(ISNA(AD13),FALSE,IF(C13=$B$1,Worksheet!$B$3,IF(C13=$C$1,Worksheet!$B$4,IF(C13=$D$1,Worksheet!$B$5,IF(C13=$E$1,Worksheet!$B$6,IF(C13=$B$2,Worksheet!$B$7,IF(C13=$C$2,Worksheet!$D$3,IF(C13=$D$2,Worksheet!$D$4,IF(C13=$E$2,Worksheet!$D$5,IF(C13=$C$3,Worksheet!$D$6,IF(C13=$B$3,Worksheet!$D$7,IF(C13=$D$3,Worksheet!$B$10,IF(C13=$E$3,Worksheet!$D$10,FALSE)))))))))))))","v":true},{"$f":"IF(AE13,D13,\"\")","v":"Medium"},{"$f":"IF(AE13,COUNTIF($AF$5:AF13,AF13),\"X\")","v":4},{"$f":"CONCATENATE(AE13,AF13)","v":"TRUEMedium"}]
[{"$f":"CONCATENATE(AE14,D14,AG14)","v":"TRUEEasy4"},{"$f":"RAND()","v":0.25432806942650732},"Mult","Easy",104,"Multiply by writing down a sum:   ",{"$f":"RANDBETWEEN(101,500)","v":249},"×",{"$f":"RANDBETWEEN(2,5)","v":4},null,null,null,null,null,null,null,null,null,null,{"$f":"CONCATENATE(F14,\" \",G14,\" \",H14,\" \",I14,\" \",J14,\" \",K14,\" \",L14,\" \",M14,\" \",N14,\" \",O14,\" \",P14,\" \",Q14,\" \",R14)","v":"Multiply by writing down a sum:    249 × 4         "},{"$f":"TEXT(G14*I14,\"#,###\")","v":"996"},null,null,null,null,null,null,null,null,{"$f":"IF(OR(ISNA(U14),ISNA(V14),ISNA(W14),ISNA(X14),ISNA(Y14),ISNA(Z14),ISNA(AA14),ISNA(AB14),ISNA(AC14)),NA(),CONCATENATE(U14,V14,W14,X14,Y14,Z14,AA14,AB14))","v":"996"},{"$f":"IF(ISNA(AD14),FALSE,IF(C14=$B$1,Worksheet!$B$3,IF(C14=$C$1,Worksheet!$B$4,IF(C14=$D$1,Worksheet!$B$5,IF(C14=$E$1,Worksheet!$B$6,IF(C14=$B$2,Worksheet!$B$7,IF(C14=$C$2,Worksheet!$D$3,IF(C14=$D$2,Worksheet!$D$4,IF(C14=$E$2,Worksheet!$D$5,IF(C14=$C$3,Worksheet!$D$6,IF(C14=$B$3,Worksheet!$D$7,IF(C14=$D$3,Worksheet!$B$10,IF(C14=$E$3,Worksheet!$D$10,FALSE)))))))))))))","v":true},{"$f":"IF(AE14,D14,\"\")","v":"Easy"},{"$f":"IF(AE14,COUNTIF($AF$5:AF14,AF14),\"X\")","v":4},{"$f":"CONCATENATE(AE14,AF14)","v":"TRUEEasy"}]
[{"$f":"CONCATENATE(AE15,D15,AG15)","v":"TRUEMedium5"},{"$f":"RAND()","v":0.34183998691237838},"Round","Medium",339,"Round",{"$f":"RANDBETWEEN(11,999)+RANDBETWEEN(1,99)/100","v":852.22},"to the nearest whole number",null,null,null,null,null,null,null,null,null,null,null,{"$f":"CONCATENATE(F15,\" \",G15,\" \",H15,\" \",I15,\" \",J15,\" \",K15,\" \",L15,\" \",M15,\" \",N15,\" \",O15,\" \",P15,\" \",Q15,\" \",R15)","v":"Round 852.22 to the nearest whole number          "},{"$f":"MROUND(G15,1)","v":852},null,null,null,null,null,null,null,null,{"$f":"IF(OR(ISNA(U15),ISNA(V15),ISNA(W15),ISNA(X15),ISNA(Y15),ISNA(Z15),ISNA(AA15),ISNA(AB15),ISNA(AC15)),NA(),CONCATENATE(U15,V15,W15,X15,Y15,Z15,AA15,AB15))","v":"852"},{"$f":"IF(ISNA(AD15),FALSE,IF(C15=$B$1,Worksheet!$B$3,IF(C15=$C$1,Worksheet!$B$4,IF(C15=$D$1,Worksheet!$B$5,IF(C15=$E$1,Worksheet!$B$6,IF(C15=$B$2,Worksheet!$B$7,IF(C15=$C$2,Worksheet!$D$3,IF(C15=$D$2,Worksheet!$D$4,IF(C15=$E$2,Worksheet!$D$5,IF(C15=$C$3,Worksheet!$D$6,IF(C15=$B$3,Worksheet!$D$7,IF(C15=$D$3,Worksheet!$B$10,IF(C15=$E$3,Worksheet!$D$10,FALSE)))))))))))))","v":true},{"$f":"IF(AE15,D15,\"\")","v":"Medium"},{"$f":"IF(AE15,COUNTIF($AF$5:AF15,AF15),\"X\")","v":5},{"$f":"CONCATENATE(AE15,AF15)","v":"TRUEMedium"}]
[{"$f":"CONCATENATE(AE16,D16,AG16)","v":"TRUEMedium6"},{"$f":"RAND()","v":0.23231846221578512},"Divide","Medium",116,"What is half of",{"$f":"RANDBETWEEN(1,4)*2000+1000","v":5000},"?",null,null,null,null,null,null,null,null,null,null,null,{"$f":"CONCATENATE(F16,\" \",G16,\" \",H16,\" \",I16,\" \",J16,\" \",K16,\" \",L16,\" \",M16,\" \",N16,\" \",O16,\" \",P16,\" \",Q16,\" \",R16)","v":"What is half of 5000 ?          "},{"$f":"G16/2","v":2500},null,null,null,null,null,null,null,null,{"$f":"IF(OR(ISNA(U16),ISNA(V16),ISNA(W16),ISNA(X16),ISNA(Y16),ISNA(Z16),ISNA(AA16),ISNA(AB16),ISNA(AC16)),NA(),CONCATENATE(U16,V16,W16,X16,Y16,Z16,AA16,AB16))","v":"2500"},{"$f":"IF(ISNA(AD16),FALSE,IF(C16=$B$1,Worksheet!$B$3,IF(C16=$C$1,Worksheet!$B$4,IF(C16=$D$1,Worksheet!$B$5,IF(C16=$E$1,Worksheet!$B$6,IF(C16=$B$2,Worksheet!$B$7,IF(C16=$C$2,Worksheet!$D$3,IF(C16=$D$2,Worksheet!$D$4,IF(C16=$E$2,Worksheet!$D$5,IF(C16=$C$3,Worksheet!$D$6,IF(C16=$B$3,Worksheet!$D$7,IF(C16=$D$3,Worksheet!$B$10,IF(C16=$E$3,Worksheet!$D$10,FALSE)))))))))))))","v":true},{"$f":"IF(AE16,D16,\"\")","v":"Medium"},{"$f":"IF(AE16,COUNTIF($AF$5:AF16,AF16),\"X\")","v":6},{"$f":"CONCATENATE(AE16,AF16)","v":"TRUEMedium"}]
[{"$f":"CONCATENATE(AE17,D17,AG17)","v":"TRUEEasy5"},{"$f":"RAND()","v":0.40909801223639164},"Dec","Easy",232,"Write these numbers in order from",{"$f":"CHOOSE(RANDBETWEEN(1,2),\"smallest to biggest:\",\"biggest to smallest:\")","v":"smallest to biggest:"},{"$f":"S17+1","v":8},{"$f":"S17+R17/10","v":7.1},{"$f":"S17","v":7},{"$f":"R17+S17/10","v":1.7},null,null,null,null,null,null,{"$f":"SMALL(IF(S17={1,2,3,4,5,6,7,8,9},\"\",{1,2,3,4,5,6,7,8,9}),RANDBETWEEN(1,8))","v":1},{"$f":"RANDBETWEEN(1,9)","v":7},{"$f":"CONCATENATE(F17,\" \",G17,\"   \",H17,\",  \",I17,\",  \",J17,\",  \",K17,\" \",L17,\" \",M17,\" \",N17)","v":"Write these numbers in order from smallest to biggest:   8,  7.1,  7,  1.7   "},{"$f":"IF($G17=\"smallest to biggest:\",LARGE($H17:$K17,4),LARGE($H17:$K17,1))","v":1.7},{"$f":"IF($G17=\"smallest to biggest:\",LARGE($H17:$K17,3),LARGE($H17:$K17,2))","v":7},{"$f":"IF($G17=\"smallest to biggest:\",LARGE($H17:$K17,2),LARGE($H17:$K17,3))","v":7.1},{"$f":"IF($G17=\"smallest to biggest:\",LARGE($H17:$K17,1),LARGE($H17:$K17,4))","v":8},null,{"$f":"IF(OR(H17=I17,H17=J17,H17=K17,I17=J17,I17=K17,J17=K17),NA(),\"\")","v":""},null,null,null,{"$f":"IF(OR(ISNA(U17),ISNA(V17),ISNA(W17),ISNA(X17),ISNA(Y17),ISNA(Z17),ISNA(AA17),ISNA(AB17),ISNA(AC17)),NA(),CONCATENATE(U17,\",  \",V17,\",  \",W17,\",  \",X17,Y17,Z17,AA17,AB17))","v":"1.7,  7,  7.1,  8"},{"$f":"IF(ISNA(AD17),FALSE,IF(C17=$B$1,Worksheet!$B$3,IF(C17=$C$1,Worksheet!$B$4,IF(C17=$D$1,Worksheet!$B$5,IF(C17=$E$1,Worksheet!$B$6,IF(C17=$B$2,Worksheet!$B$7,IF(C17=$C$2,Worksheet!$D$3,IF(C17=$D$2,Worksheet!$D$4,IF(C17=$E$2,Worksheet!$D$5,IF(C17=$C$3,Worksheet!$D$6,IF(C17=$B$3,Worksheet!$D$7,IF(C17=$D$3,Worksheet!$B$10,IF(C17=$E$3,Worksheet!$D$10,FALSE)))))))))))))","v":true},{"$f":"IF(AE17,D17,\"\")","v":"Easy"},{"$f":"IF(AE17,COUNTIF($AF$5:AF17,AF17),\"X\")","v":5},{"$f":"CONCATENATE(AE17,AF17)","v":"TRUEEasy"}]
[{"$f":"CONCATENATE(AE18,D18,AG18)","v":"TRUEMedium7"},{"$f":"RAND()","v":0.76807831875135668},"Dec","Medium",285,"Take away by writing down a sum:   ",{"$f":"RANDBETWEEN(20,99)+RANDBETWEEN(1,9)/100+RANDBETWEEN(1,9)/10","v":29.99},"–",{"$f":"RANDBETWEEN(10,INT(G18)-1)+RANDBETWEEN(0,9)/10+RANDBETWEEN(1,9)/100","v":19.259999999999998},null,null,null,null,null,null,null,null,null,null,{"$f":"CONCATENATE(F18,\" \",G18,\" \",H18,\" \",I18,\" \",J18,\" \",K18,\" \",L18,\" \",M18,\" \",N18,\" \",O18,\" \",P18,\" \",Q18,\" \",R18)","v":"Take away by writing down a sum:    29.99 – 19.26         "},{"$f":"G18-I18","v":10.73},null,null,null,null,null,null,null,null,{"$f":"IF(OR(ISNA(U18),ISNA(V18),ISNA(W18),ISNA(X18),ISNA(Y18),ISNA(Z18),ISNA(AA18),ISNA(AB18),ISNA(AC18)),NA(),CONCATENATE(U18,V18,W18,X18,Y18,Z18,AA18,AB18))","v":"10.73"},{"$f":"IF(ISNA(AD18),FALSE,IF(C18=$B$1,Worksheet!$B$3,IF(C18=$C$1,Worksheet!$B$4,IF(C18=$D$1,Worksheet!$B$5,IF(C18=$E$1,Worksheet!$B$6,IF(C18=$B$2,Worksheet!$B$7,IF(C18=$C$2,Worksheet!$D$3,IF(C18=$D$2,Worksheet!$D$4,IF(C18=$E$2,Worksheet!$D$5,IF(C18=$C$3,Worksheet!$D$6,IF(C18=$B$3,Worksheet!$D$7,IF(C18=$D$3,Worksheet!$B$10,IF(C18=$E$3,Worksheet!$D$10,FALSE)))))))))))))","v":true},{"$f":"IF(AE18,D18,\"\")","v":"Medium"},{"$f":"IF(AE18,COUNTIF($AF$5:AF18,AF18),\"X\")","v":7},{"$f":"CONCATENATE(AE18,AF18)","v":"TRUEMedium"}]
[{"$f":"CONCATENATE(AE19,D19,AG19)","v":"TRUEMedium8"},{"$f":"RAND()","v":0.38851297536195806},"Choose","Medium",146,{"$f":"CHOOSE(RANDBETWEEN(1,5),\"Ben\",\"Daniel\",\"Murray\",\"Barry\",\"Ryan\")","v":"Murray"},"is saving money to buy a new car.  The car costs £",{"$f":"RANDBETWEEN(2,5)*1000","v":2000},".  So far,",{"$f":"F19","v":"Murray"},"has saved £",{"$f":"RANDBETWEEN(11,H19/100-1)*100","v":1100},".  How much more money does he need?",null,null,null,null,null,null,{"$f":"CONCATENATE(F19,\" \",G19,\"\",H19,\" \",I19,\" \",J19,\" \",K19,\"\",L19,\"\",M19,\" \",N19,\" \",O19,\" \",P19,\" \",Q19,\" \",R19)","v":"Murray is saving money to buy a new car.  The car costs £2000 .  So far, Murray has saved £1100.  How much more money does he need?     "},"£",{"$f":"H19-L19","v":900},null,null,null,null,null,null,null,{"$f":"IF(OR(ISNA(U19),ISNA(V19),ISNA(W19),ISNA(X19),ISNA(Y19),ISNA(Z19),ISNA(AA19),ISNA(AB19),ISNA(AC19)),NA(),CONCATENATE(U19,V19,W19,X19,Y19,Z19,AA19,AB19))","v":"£900"},{"$f":"IF(ISNA(AD19),FALSE,IF(C19=$B$1,Worksheet!$B$3,IF(C19=$C$1,Worksheet!$B$4,IF(C19=$D$1,Worksheet!$B$5,IF(C19=$E$1,Worksheet!$B$6,IF(C19=$B$2,Worksheet!$B$7,IF(C19=$C$2,Worksheet!$D$3,IF(C19=$D$2,Worksheet!$D$4,IF(C19=$E$2,Worksheet!$D$5,IF(C19=$C$3,Worksheet!$D$6,IF(C19=$B$3,Worksheet!$D$7,IF(C19=$D$3,Worksheet!$B$10,IF(C19=$E$3,Worksheet!$D$10,FALSE)))))))))))))","v":true},{"$f":"IF(AE19,D19,\"\")","v":"Medium"},{"$f":"IF(AE19,COUNTIF($AF$5:AF19,AF19),\"X\")","v":8},{"$f":"CONCATENATE(AE19,AF19)","v":"TRUEMedium"}]
[{"$f":"CONCATENATE(AE20,D20,AG20)","v":"TRUEEasy6"},{"$f":"RAND()","v":0.25112812145764618},"Neg","Easy",351,"Circle the number that is SMALLEST:      ",0,{"$f":"I20+1","v":-1},{"$f":"RANDBETWEEN(-8,-2)","v":-2},null,null,null,null,null,null,null,null,null,null,{"$f":"CONCATENATE(F20,\" \",G20,\",     \",H20,\",     \",I20,\",     \",J20,\" \",K20,\" \",L20,\" \",M20,\" \",N20,\" \",O20,\" \",P20,\" \",Q20,\" \",R20)","v":"Circle the number that is SMALLEST:       0,     -1,     -2,             "},{"$f":"MIN(G20:I20)","v":-2},null,null,null,null,null,null,null,{"$f":"IF(ISERROR(T20),NA(),\"\")","v":""},{"$f":"IF(OR(ISNA(U20),ISNA(V20),ISNA(W20),ISNA(X20),ISNA(Y20),ISNA(Z20),ISNA(AA20),ISNA(AB20),ISNA(AC20)),NA(),CONCATENATE(U20,V20,W20,X20,Y20,Z20,AA20,AB20))","v":"-2"},{"$f":"IF(ISNA(AD20),FALSE,IF(C20=$B$1,Worksheet!$B$3,IF(C20=$C$1,Worksheet!$B$4,IF(C20=$D$1,Worksheet!$B$5,IF(C20=$E$1,Worksheet!$B$6,IF(C20=$B$2,Worksheet!$B$7,IF(C20=$C$2,Worksheet!$D$3,IF(C20=$D$2,Worksheet!$D$4,IF(C20=$E$2,Worksheet!$D$5,IF(C20=$C$3,Worksheet!$D$6,IF(C20=$B$3,Worksheet!$D$7,IF(C20=$D$3,Worksheet!$B$10,IF(C20=$E$3,Worksheet!$D$10,FALSE)))))))))))))","v":true},{"$f":"IF(AE20,D20,\"\")","v":"Easy"},{"$f":"IF(AE20,COUNTIF($AF$5:AF20,AF20),\"X\")","v":6},{"$f":"CONCATENATE(AE20,AF20)","v":"TRUEEasy"}]
[{"$f":"CONCATENATE(AE21,D21,AG21)","v":"TRUEMedium9"},{"$f":"RAND()","v":3.7322711944798526E-2},"Mult","Medium",81,"Circle the number that is a multiple of 10:   ",{"$f":"IF($S21=1,RANDBETWEEN(2,10)*3,RANDBETWEEN(1,9)*3+RANDBETWEEN(1,2))","v":7},{"$f":"IF($S21=2,RANDBETWEEN(2,10)*3,RANDBETWEEN(1,9)*3+RANDBETWEEN(1,2))","v":14},{"$f":"IF($S21=3,RANDBETWEEN(2,10)*3,RANDBETWEEN(1,9)*3+RANDBETWEEN(1,2))","v":13},{"$f":"IF($S21=4,RANDBETWEEN(2,10)*3,RANDBETWEEN(1,9)*3+RANDBETWEEN(1,2))","v":18},null,null,null,null,null,null,null,null,{"$f":"RANDBETWEEN(1,4)","v":4},{"$f":"CONCATENATE(F21,\"      \",G21,\"     \",H21,\"     \",I21,\"     \",J21,\" \",K21,\" \",L21,\" \",M21,\" \",N21,\" \",O21,\" \",P21,\" \",Q21,\" \",R21)","v":"Circle the number that is a multiple of 10:         7     14     13     18        "},{"$f":"IF(S21=1,G21,IF(S21=2,H21,IF(S21=3,I21,J21)))","v":18},{"$f":"IF(OR(G21=H21,G21=I21,G21=J21,H21=I21,H21=J21,I21=J21),NA(),\"\")","v":""},null,null,null,null,null,null,null,{"$f":"IF(OR(ISNA(U21),ISNA(V21),ISNA(W21),ISNA(X21),ISNA(Y21),ISNA(Z21),ISNA(AA21),ISNA(AB21),ISNA(AC21)),NA(),CONCATENATE(U21,V21,W21,X21,Y21,Z21,AA21,AB21))","v":"18"},{"$f":"IF(ISNA(AD21),FALSE,IF(C21=$B$1,Worksheet!$B$3,IF(C21=$C$1,Worksheet!$B$4,IF(C21=$D$1,Worksheet!$B$5,IF(C21=$E$1,Worksheet!$B$6,IF(C21=$B$2,Worksheet!$B$7,IF(C21=$C$2,Worksheet!$D$3,IF(C21=$D$2,Worksheet!$D$4,IF(C21=$E$2,Worksheet!$D$5,IF(C21=$C$3,Worksheet!$D$6,IF(C21=$B$3,Worksheet!$D$7,IF(C21=$D$3,Worksheet!$B$10,IF(C21=$E$3,Worksheet!$D$10,FALSE)))))))))))))","v":true},{"$f":"IF(AE21,D21,\"\")","v":"Medium"},{"$f":"IF(AE21,COUNTIF($AF$5:AF21,AF21),\"X\")","v":9},{"$f":"CONCATENATE(AE21,AF21)","v":"TRUEMedium"}]
[{"$f":"CONCATENATE(AE22,D22,AG22)","v":"TRUEEasy7"},{"$f":"RAND()","v":0.27416300487721501},"Neg","Easy",354,"Continue the pattern for three more numbers:   ",{"$f":"RANDBETWEEN(2,4)","v":3},{"$f":"G22+S22","v":2},{"$f":"H22+S22","v":1},{"$f":"I22+S22","v":0},"____","____","____",null,null,null,null,null,-1,{"$f":"CONCATENATE(F22,\" \",G22,\",   \",H22,\",   \",I22,\",   \",J22,\",   \",K22,\",   \",L22,\",   \",M22,\" \",N22,\" \",O22,\" \",P22,\" \",Q22,\" \",R22)","v":"Continue the pattern for three more numbers:    3,   2,   1,   0,   ____,   ____,   ____     "},{"$f":"J22+S22","v":-1},{"$f":"U22+S22","v":-2},{"$f":"V22+S22","v":-3},null,null,null,null,null,null,{"$f":"IF(OR(ISNA(U22),ISNA(V22),ISNA(W22),ISNA(X22),ISNA(Y22),ISNA(Z22),ISNA(AA22),ISNA(AB22),ISNA(AC22)),NA(),CONCATENATE(U22,\",   \",V22,\",   \",W22,X22,Y22,Z22,AA22,AB22))","v":"-1,   -2,   -3"},{"$f":"IF(ISNA(AD22),FALSE,IF(C22=$B$1,Worksheet!$B$3,IF(C22=$C$1,Worksheet!$B$4,IF(C22=$D$1,Worksheet!$B$5,IF(C22=$E$1,Worksheet!$B$6,IF(C22=$B$2,Worksheet!$B$7,IF(C22=$C$2,Worksheet!$D$3,IF(C22=$D$2,Worksheet!$D$4,IF(C22=$E$2,Worksheet!$D$5,IF(C22=$C$3,Worksheet!$D$6,IF(C22=$B$3,Worksheet!$D$7,IF(C22=$D$3,Worksheet!$B$10,IF(C22=$E$3,Worksheet!$D$10,FALSE)))))))))))))","v":true},{"$f":"IF(AE22,D22,\"\")","v":"Easy"},{"$f":"IF(AE22,COUNTIF($AF$5:AF22,AF22),\"X\")","v":7},{"$f":"CONCATENATE(AE22,AF22)","v":"TRUEEasy"}]
[{"$f":"CONCATENATE(AE23,D23,AG23)","v":"TRUEMedium10"},{"$f":"RAND()","v":0.75430845187778028},"Dec","Medium",250,"What number is half way between",{"$f":"RANDBETWEEN(1,9)+RANDBETWEEN(0,9)/10","v":7.3},"and",{"$f":"G23+0.1","v":7.3999999999999995},"?",null,null,null,null,null,null,null,null,null,{"$f":"CONCATENATE(F23,\" \",G23,\" \",H23,\" \",I23,\" \",J23,\" \",K23,\" \",L23,\" \",M23,\" \",N23,\" \",O23,\" \",P23,\" \",Q23,\" \",R23)","v":"What number is half way between 7.3 and 7.4 ?        "},{"$f":"G23+0.05","v":7.35},null,null,null,null,null,null,null,null,{"$f":"IF(OR(ISNA(U23),ISNA(V23),ISNA(W23),ISNA(X23),ISNA(Y23),ISNA(Z23),ISNA(AA23),ISNA(AB23),ISNA(AC23)),NA(),CONCATENATE(U23,V23,W23,X23,Y23,Z23,AA23,AB23))","v":"7.35"},{"$f":"IF(ISNA(AD23),FALSE,IF(C23=$B$1,Worksheet!$B$3,IF(C23=$C$1,Worksheet!$B$4,IF(C23=$D$1,Worksheet!$B$5,IF(C23=$E$1,Worksheet!$B$6,IF(C23=$B$2,Worksheet!$B$7,IF(C23=$C$2,Worksheet!$D$3,IF(C23=$D$2,Worksheet!$D$4,IF(C23=$E$2,Worksheet!$D$5,IF(C23=$C$3,Worksheet!$D$6,IF(C23=$B$3,Worksheet!$D$7,IF(C23=$D$3,Worksheet!$B$10,IF(C23=$E$3,Worksheet!$D$10,FALSE)))))))))))))","v":true},{"$f":"IF(AE23,D23,\"\")","v":"Medium"},{"$f":"IF(AE23,COUNTIF($AF$5:AF23,AF23),\"X\")","v":10},{"$f":"CONCATENATE(AE23,AF23)","v":"TRUEMedium"}]
[{"$f":"CONCATENATE(AE24,D24,AG24)","v":"TRUEEasy8"},{"$f":"RAND()","v":0.30196033113889131},"Dec","Easy",236,"Add:   ",{"$f":"RANDBETWEEN(11,90)+RANDBETWEEN(1,8)/10","v":25.6}," + ",0.1,null,null,null,null,null,null,null,null,null,null,{"$f":"CONCATENATE(F24,\" \",G24,\" \",H24,\" \",I24,\" \",J24,\" \",K24,\" \",L24,\" \",M24,\" \",N24,\" \",O24,\" \",P24,\" \",Q24,\" \",R24)","v":"Add:    25.6  +  0.1         "},{"$f":"G24+0.1","v":25.700000000000003},null,null,null,null,null,null,null,null,{"$f":"IF(OR(ISNA(U24),ISNA(V24),ISNA(W24),ISNA(X24),ISNA(Y24),ISNA(Z24),ISNA(AA24),ISNA(AB24),ISNA(AC24)),NA(),CONCATENATE(U24,V24,W24,X24,Y24,Z24,AA24,AB24))","v":"25.7"},{"$f":"IF(ISNA(AD24),FALSE,IF(C24=$B$1,Worksheet!$B$3,IF(C24=$C$1,Worksheet!$B$4,IF(C24=$D$1,Worksheet!$B$5,IF(C24=$E$1,Worksheet!$B$6,IF(C24=$B$2,Worksheet!$B$7,IF(C24=$C$2,Worksheet!$D$3,IF(C24=$D$2,Worksheet!$D$4,IF(C24=$E$2,Worksheet!$D$5,IF(C24=$C$3,Worksheet!$D$6,IF(C24=$B$3,Worksheet!$D$7,IF(C24=$D$3,Worksheet!$B$10,IF(C24=$E$3,Worksheet!$D$10,FALSE)))))))))))))","v":true},{"$f":"IF(AE24,D24,\"\")","v":"Easy"},{"$f":"IF(AE24,COUNTIF($AF$5:AF24,AF24),\"X\")","v":8},{"$f":"CONCATENATE(AE24,AF24)","v":"TRUEEasy"}]
[{"$f":"CONCATENATE(AE25,D25,AG25)","v":"TRUEHard3"},{"$f":"RAND()","v":0.83156002366650805},"Dec","Hard",257,"Continue the pattern for three more numbers:   ",{"$f":"RANDBETWEEN(6,40)+0.25","v":38.25},{"$f":"G25+S25","v":38.200000000000003},{"$f":"H25+S25","v":38.150000000000006},{"$f":"I25+S25","v":38.100000000000009},"____","____","____",null,null,null,null,null,-0.05,{"$f":"CONCATENATE(F25,\" \",G25,\",   \",H25,\",   \",I25,\",   \",J25,\",   \",K25,\",   \",L25,\",   \",M25,\" \",N25,\" \",O25,\" \",P25,\" \",Q25,\" \",R25)","v":"Continue the pattern for three more numbers:    38.25,   38.2,   38.15,   38.1,   ____,   ____,   ____     "},{"$f":"J25+S25","v":38.050000000000011},{"$f":"U25+S25","v":38.000000000000014},{"$f":"V25+S25","v":37.950000000000017},null,null,null,null,null,null,{"$f":"IF(OR(ISNA(U25),ISNA(V25),ISNA(W25),ISNA(X25),ISNA(Y25),ISNA(Z25),ISNA(AA25),ISNA(AB25),ISNA(AC25)),NA(),CONCATENATE(U25,\",   \",V25,\",   \",W25,X25,Y25,Z25,AA25,AB25))","v":"38.05,   38,   37.95"},{"$f":"IF(ISNA(AD25),FALSE,IF(C25=$B$1,Worksheet!$B$3,IF(C25=$C$1,Worksheet!$B$4,IF(C25=$D$1,Worksheet!$B$5,IF(C25=$E$1,Worksheet!$B$6,IF(C25=$B$2,Worksheet!$B$7,IF(C25=$C$2,Worksheet!$D$3,IF(C25=$D$2,Worksheet!$D$4,IF(C25=$E$2,Worksheet!$D$5,IF(C25=$C$3,Worksheet!$D$6,IF(C25=$B$3,Worksheet!$D$7,IF(C25=$D$3,Worksheet!$B$10,IF(C25=$E$3,Worksheet!$D$10,FALSE)))))))))))))","v":true},{"$f":"IF(AE25,D25,\"\")","v":"Hard"},{"$f":"IF(AE25,COUNTIF($AF$5:AF25,AF25),\"X\")","v":3},{"$f":"CONCATENATE(AE25,AF25)","v":"TRUEHard"}]
[{"$f":"CONCATENATE(AE26,D26,AG26)","v":"TRUEEasy9"},{"$f":"RAND()","v":0.20011990396209378},"Divide","Easy",118,"Divide:   ",{"$f":"U26*I26","v":40},"÷",{"$f":"RANDBETWEEN(3,5)","v":5},null,null,null,null,null,null,null,null,null,null,{"$f":"CONCATENATE(F26,\" \",G26,\" \",H26,\" \",I26,\" \",J26,\" \",K26,\" \",L26,\" \",M26,\" \",N26,\" \",O26,\" \",P26,\" \",Q26,\" \",R26)","v":"Divide:    40 ÷ 5         "},{"$f":"RANDBETWEEN(6,9)","v":8},null,null,null,null,null,null,null,null,{"$f":"IF(OR(ISNA(U26),ISNA(V26),ISNA(W26),ISNA(X26),ISNA(Y26),ISNA(Z26),ISNA(AA26),ISNA(AB26),ISNA(AC26)),NA(),CONCATENATE(U26,V26,W26,X26,Y26,Z26,AA26,AB26))","v":"8"},{"$f":"IF(ISNA(AD26),FALSE,IF(C26=$B$1,Worksheet!$B$3,IF(C26=$C$1,Worksheet!$B$4,IF(C26=$D$1,Worksheet!$B$5,IF(C26=$E$1,Worksheet!$B$6,IF(C26=$B$2,Worksheet!$B$7,IF(C26=$C$2,Worksheet!$D$3,IF(C26=$D$2,Worksheet!$D$4,IF(C26=$E$2,Worksheet!$D$5,IF(C26=$C$3,Worksheet!$D$6,IF(C26=$B$3,Worksheet!$D$7,IF(C26=$D$3,Worksheet!$B$10,IF(C26=$E$3,Worksheet!$D$10,FALSE)))))))))))))","v":true},{"$f":"IF(AE26,D26,\"\")","v":"Easy"},{"$f":"IF(AE26,COUNTIF($AF$5:AF26,AF26),\"X\")","v":9},{"$f":"CONCATENATE(AE26,AF26)","v":"TRUEEasy"}]
[{"$f":"CONCATENATE(AE27,D27,AG27)","v":"TRUEMedium11"},{"$f":"RAND()","v":0.6171086784571076},"%","Medium",316,"What is ","1/10","as a percentage?",null,null,null,null,null,null,null,null,null,null,null,{"$f":"CONCATENATE(F27,\" \",G27,\" \",H27,\" \",I27,\" \",J27,\" \",K27,\" \",L27,\" \",M27,\" \",N27,\" \",O27,\" \",P27,\" \",Q27,\" \",R27)","v":"What is  1/10 as a percentage?          "},10,"%",null,null,null,null,null,null,null,{"$f":"IF(OR(ISNA(U27),ISNA(V27),ISNA(W27),ISNA(X27),ISNA(Y27),ISNA(Z27),ISNA(AA27),ISNA(AB27),ISNA(AC27)),NA(),CONCATENATE(U27,V27,W27,X27,Y27,Z27,AA27,AB27))","v":"10%"},{"$f":"IF(ISNA(AD27),FALSE,IF(C27=$B$1,Worksheet!$B$3,IF(C27=$C$1,Worksheet!$B$4,IF(C27=$D$1,Worksheet!$B$5,IF(C27=$E$1,Worksheet!$B$6,IF(C27=$B$2,Worksheet!$B$7,IF(C27=$C$2,Worksheet!$D$3,IF(C27=$D$2,Worksheet!$D$4,IF(C27=$E$2,Worksheet!$D$5,IF(C27=$C$3,Worksheet!$D$6,IF(C27=$B$3,Worksheet!$D$7,IF(C27=$D$3,Worksheet!$B$10,IF(C27=$E$3,Worksheet!$D$10,FALSE)))))))))))))","v":true},{"$f":"IF(AE27,D27,\"\")","v":"Medium"},{"$f":"IF(AE27,COUNTIF($AF$5:AF27,AF27),\"X\")","v":11},{"$f":"CONCATENATE(AE27,AF27)","v":"TRUEMedium"}]
[{"$f":"CONCATENATE(AE28,D28,AG28)","v":"TRUEHard4"},{"$f":"RAND()","v":0.72527659131085531},"+-","Hard",30,"Fill in the missing number:   ",{"$f":"RANDBETWEEN(1,8)*100+RANDBETWEEN(1,8)*10+RANDBETWEEN(1,9)","v":723},"+ ____ = ",1000,null,null,null,null,null,null,null,null,null,null,{"$f":"CONCATENATE(F28,\" \",G28,\" \",H28,\" \",I28,\" \",J28,\" \",K28,\" \",L28,\" \",M28,\" \",N28,\" \",O28,\" \",P28,\" \",Q28,\" \",R28)","v":"Fill in the missing number:    723 + ____ =  1000         "},{"$f":"I28-G28","v":277},null,null,null,null,null,null,null,null,{"$f":"IF(OR(ISNA(U28),ISNA(V28),ISNA(W28),ISNA(X28),ISNA(Y28),ISNA(Z28),ISNA(AA28),ISNA(AB28),ISNA(AC28)),NA(),CONCATENATE(U28,V28,W28,X28,Y28,Z28,AA28,AB28))","v":"277"},{"$f":"IF(ISNA(AD28),FALSE,IF(C28=$B$1,Worksheet!$B$3,IF(C28=$C$1,Worksheet!$B$4,IF(C28=$D$1,Worksheet!$B$5,IF(C28=$E$1,Worksheet!$B$6,IF(C28=$B$2,Worksheet!$B$7,IF(C28=$C$2,Worksheet!$D$3,IF(C28=$D$2,Worksheet!$D$4,IF(C28=$E$2,Worksheet!$D$5,IF(C28=$C$3,Worksheet!$D$6,IF(C28=$B$3,Worksheet!$D$7,IF(C28=$D$3,Worksheet!$B$10,IF(C28=$E$3,Worksheet!$D$10,FALSE)))))))))))))","v":true},{"$f":"IF(AE28,D28,\"\")","v":"Hard"},{"$f":"IF(AE28,COUNTIF($AF$5:AF28,AF28),\"X\")","v":4},{"$f":"CONCATENATE(AE28,AF28)","v":"TRUEHard"}]
[{"$f":"CONCATENATE(AE29,D29,AG29)","v":"TRUEHard5"},{"$f":"RAND()","v":0.82109608421832891},"%","Hard",330,"A boy is ",{"$f":"RANDBETWEEN(12,18)*10","v":140},"cm tall.  He grows 10% taller.  What height is he now?",null,null,null,null,null,null,null,null,null,null,null,{"$f":"CONCATENATE(F29,\" \",G29,\" \",H29,\" \",I29,\" \",J29,\" \",K29,\" \",L29,\" \",M29,\" \",N29,\" \",O29,\" \",P29,\" \",Q29,\" \",R29)","v":"A boy is  140 cm tall.  He grows 10% taller.  What height is he now?          "},{"$f":"G29*1.1","v":154},"cm",null,null,null,null,null,null,null,{"$f":"IF(OR(ISNA(U29),ISNA(V29),ISNA(W29),ISNA(X29),ISNA(Y29),ISNA(Z29),ISNA(AA29),ISNA(AB29),ISNA(AC29)),NA(),CONCATENATE(U29,V29,W29,X29,Y29,Z29,AA29,AB29))","v":"154cm"},{"$f":"IF(ISNA(AD29),FALSE,IF(C29=$B$1,Worksheet!$B$3,IF(C29=$C$1,Worksheet!$B$4,IF(C29=$D$1,Worksheet!$B$5,IF(C29=$E$1,Worksheet!$B$6,IF(C29=$B$2,Worksheet!$B$7,IF(C29=$C$2,Worksheet!$D$3,IF(C29=$D$2,Worksheet!$D$4,IF(C29=$E$2,Worksheet!$D$5,IF(C29=$C$3,Worksheet!$D$6,IF(C29=$B$3,Worksheet!$D$7,IF(C29=$D$3,Worksheet!$B$10,IF(C29=$E$3,Worksheet!$D$10,FALSE)))))))))))))","v":true},{"$f":"IF(AE29,D29,\"\")","v":"Hard"},{"$f":"IF(AE29,COUNTIF($AF$5:AF29,AF29),\"X\")","v":5},{"$f":"CONCATENATE(AE29,AF29)","v":"TRUEHard"}]
[{"$f":"CONCATENATE(AE30,D30,AG30)","v":"FALSEMediumX"},{"$f":"RAND()","v":0.46889329943468827},"Alg","Medium",366,"Algebra.   If",{"$f":"CHOOSE(RANDBETWEEN(1,3),\"a\",\"x\",\"p\")","v":"a"},"=",{"$f":"RANDBETWEEN(2,10)","v":8}," and",{"$f":"IF(G30=\"x\",\"y\",IF(G30=\"a\",\"b\",\"q\"))","v":"b"},"=",{"$f":"RANDBETWEEN(2,5)","v":3},",    what is",{"$f":"RANDBETWEEN(2,5)","v":2},{"$f":"CONCATENATE(G30,\" + \")","v":"a + "},{"$f":"RANDBETWEEN(2,5)","v":5},{"$f":"CONCATENATE(K30,\" ?\")","v":"b ?"},null,{"$f":"CONCATENATE(F30,\" \",G30,\" \",H30,\" \",I30,\" \",J30,\" \",K30,\" \",L30,\" \",M30,\" \",N30,\" \",O30,\"\",P30,\" \",Q30,\"\",R30)","v":"Algebra.   If a = 8  and b = 3 ,    what is 2a +  5b ?"},{"$f":"O30*I30+Q30*M30","v":31},null,{"$f":"IF(U30<0,NA(),\"\")","v":""},null,null,null,null,null,null,{"$f":"IF(OR(ISNA(U30),ISNA(V30),ISNA(W30),ISNA(X30),ISNA(Y30),ISNA(Z30),ISNA(AA30),ISNA(AB30),ISNA(AC30)),NA(),CONCATENATE(U30,V30,W30,X30,Y30,Z30,AA30,AB30))","v":"31"},{"$f":"IF(ISNA(AD30),FALSE,IF(C30=$B$1,Worksheet!$B$3,IF(C30=$C$1,Worksheet!$B$4,IF(C30=$D$1,Worksheet!$B$5,IF(C30=$E$1,Worksheet!$B$6,IF(C30=$B$2,Worksheet!$B$7,IF(C30=$C$2,Worksheet!$D$3,IF(C30=$D$2,Worksheet!$D$4,IF(C30=$E$2,Worksheet!$D$5,IF(C30=$C$3,Worksheet!$D$6,IF(C30=$B$3,Worksheet!$D$7,IF(C30=$D$3,Worksheet!$B$10,IF(C30=$E$3,Worksheet!$D$10,FALSE)))))))))))))","v":false},{"$f":"IF(AE30,D30,\"\")","v":""},{"$f":"IF(AE30,COUNTIF($AF$5:AF30,AF30),\"X\")","v":"X"},{"$f":"CONCATENATE(AE30,AF30)","v":"FALSE"}]
[{"$f":"CONCATENATE(AE31,D31,AG31)","v":"TRUEMedium12"},{"$f":"RAND()","v":4.8576006453230236E-2},"%","Medium",294,"Write",{"$f":"RANDBETWEEN(1,9)","v":3},"% as a decimal",null,null,null,null,null,null,null,null,null,null,null,{"$f":"CONCATENATE(F31,\" \",G31,\"\",H31,\" \",I31,\" \",J31,\" \",K31,\" \",L31,\" \",M31,\" \",N31,\" \",O31,\" \",P31,\" \",Q31,\" \",R31)","v":"Write 3% as a decimal          "},{"$f":"G31/100","v":0.03},null,{"$f":"IF(G33=G31,NA(),\"\")","v":""},null,null,null,null,null,null,{"$f":"IF(OR(ISNA(U31),ISNA(V31),ISNA(W31),ISNA(X31),ISNA(Y31),ISNA(Z31),ISNA(AA31),ISNA(AB31),ISNA(AC31)),NA(),CONCATENATE(U31,V31,W31,X31,Y31,Z31,AA31,AB31))","v":"0.03"},{"$f":"IF(ISNA(AD31),FALSE,IF(C31=$B$1,Worksheet!$B$3,IF(C31=$C$1,Worksheet!$B$4,IF(C31=$D$1,Worksheet!$B$5,IF(C31=$E$1,Worksheet!$B$6,IF(C31=$B$2,Worksheet!$B$7,IF(C31=$C$2,Worksheet!$D$3,IF(C31=$D$2,Worksheet!$D$4,IF(C31=$E$2,Worksheet!$D$5,IF(C31=$C$3,Worksheet!$D$6,IF(C31=$B$3,Worksheet!$D$7,IF(C31=$D$3,Worksheet!$B$10,IF(C31=$E$3,Worksheet!$D$10,FALSE)))))))))))))","v":true},{"$f":"IF(AE31,D31,\"\")","v":"Medium"},{"$f":"IF(AE31,COUNTIF($AF$5:AF31,AF31),\"X\")","v":12},{"$f":"CONCATENATE(AE31,AF31)","v":"TRUEMedium"}]
[{"$f":"CONCATENATE(AE32,D32,AG32)","v":"TRUEHard6"},{"$f":"RAND()","v":0.37294816535494091},"Frac","Hard",159,"Fractions.   What is ",{"$f":"CHOOSE(RANDBETWEEN(1,5),\"2/9\",\"4/9\",\"5/9\",\"7/9\",\"8/9\")","v":"8/9"}," of",{"$f":"9*RANDBETWEEN(4,11)","v":63},"?",null,null,null,null,null,null,null,null,null,{"$f":"CONCATENATE(F32,\" \",G32,\" \",H32,\" \",I32,\" \",J32,\" \",K32,\" \",L32,\" \",M32,\" \",N32,\" \",O32,\" \",P32,\" \",Q32,\" \",R32)","v":"Fractions.   What is  8/9  of 63 ?        "},{"$f":"I32/9*IF(G32=\"2/9\",2,IF(G32=\"4/9\",4,IF(G32=\"5/9\",5,IF(G32=\"7/9\",7,8))))","v":56},null,null,null,{"$f":"IF(INT(U32)<>U32,NA(),\"\")","v":""},null,null,null,null,{"$f":"IF(OR(ISNA(U32),ISNA(V32),ISNA(W32),ISNA(X32),ISNA(Y32),ISNA(Z32),ISNA(AA32),ISNA(AB32),ISNA(AC32)),NA(),CONCATENATE(U32,V32,W32,X32,Y32,Z32,AA32,AB32))","v":"56"},{"$f":"IF(ISNA(AD32),FALSE,IF(C32=$B$1,Worksheet!$B$3,IF(C32=$C$1,Worksheet!$B$4,IF(C32=$D$1,Worksheet!$B$5,IF(C32=$E$1,Worksheet!$B$6,IF(C32=$B$2,Worksheet!$B$7,IF(C32=$C$2,Worksheet!$D$3,IF(C32=$D$2,Worksheet!$D$4,IF(C32=$E$2,Worksheet!$D$5,IF(C32=$C$3,Worksheet!$D$6,IF(C32=$B$3,Worksheet!$D$7,IF(C32=$D$3,Worksheet!$B$10,IF(C32=$E$3,Worksheet!$D$10,FALSE)))))))))))))","v":true},{"$f":"IF(AE32,D32,\"\")","v":"Hard"},{"$f":"IF(AE32,COUNTIF($AF$5:AF32,AF32),\"X\")","v":6},{"$f":"CONCATENATE(AE32,AF32)","v":"TRUEHard"}]
[{"$f":"CONCATENATE(AE33,D33,AG33)","v":"FALSEHardX"},{"$f":"RAND()","v":0.34721733184083647},"Alg","Hard",371,"Algebra.   If",{"$f":"CHOOSE(RANDBETWEEN(1,3),\"a\",\"x\",\"p\")","v":"p"},"=",{"$f":"RANDBETWEEN(2,10)","v":2}," and",{"$f":"IF(G33=\"x\",\"y\",IF(G33=\"a\",\"b\",\"q\"))","v":"q"},"=",{"$f":"RANDBETWEEN(2,10)","v":10},",    what is",{"$f":"RANDBETWEEN(2,10)","v":4},{"$f":"CONCATENATE(G33,\" – \")","v":"p – "},{"$f":"RANDBETWEEN(2,10)","v":5},{"$f":"CONCATENATE(K33,\" ?\")","v":"q ?"},null,{"$f":"CONCATENATE(F33,\" \",G33,\" \",H33,\" \",I33,\" \",J33,\" \",K33,\" \",L33,\" \",M33,\" \",N33,\" \",O33,\"\",P33,\" \",Q33,\"\",R33)","v":"Algebra.   If p = 2  and q = 10 ,    what is 4p –  5q ?"},{"$f":"O33*I33-Q33*M33","v":-42},null,{"$f":"IF(U33<0,NA(),\"\")","v":{"$error":"#N/A"}},null,null,null,null,null,null,{"$f":"IF(OR(ISNA(U33),ISNA(V33),ISNA(W33),ISNA(X33),ISNA(Y33),ISNA(Z33),ISNA(AA33),ISNA(AB33),ISNA(AC33)),NA(),CONCATENATE(U33,V33,W33,X33,Y33,Z33,AA33,AB33))","v":{"$error":"#N/A"}},{"$f":"IF(ISNA(AD33),FALSE,IF(C33=$B$1,Worksheet!$B$3,IF(C33=$C$1,Worksheet!$B$4,IF(C33=$D$1,Worksheet!$B$5,IF(C33=$E$1,Worksheet!$B$6,IF(C33=$B$2,Worksheet!$B$7,IF(C33=$C$2,Worksheet!$D$3,IF(C33=$D$2,Worksheet!$D$4,IF(C33=$E$2,Worksheet!$D$5,IF(C33=$C$3,Worksheet!$D$6,IF(C33=$B$3,Worksheet!$D$7,IF(C33=$D$3,Worksheet!$B$10,IF(C33=$E$3,Worksheet!$D$10,FALSE)))))))))))))","v":false},{"$f":"IF(AE33,D33,\"\")","v":""},{"$f":"IF(AE33,COUNTIF($AF$5:AF33,AF33),\"X\")","v":"X"},{"$f":"CONCATENATE(AE33,AF33)","v":"FALSE"}]
[{"$f":"CONCATENATE(AE34,D34,AG34)","v":"TRUEMedium13"},{"$f":"RAND()","v":0.68045351571909896},"%","Medium",312,"What is ","1/2","as a percentage?",null,null,null,null,null,null,null,null,null,null,null,{"$f":"CONCATENATE(F34,\" \",G34,\" \",H34,\" \",I34,\" \",J34,\" \",K34,\" \",L34,\" \",M34,\" \",N34,\" \",O34,\" \",P34,\" \",Q34,\" \",R34)","v":"What is  1/2 as a percentage?          "},50,"%",null,null,null,null,null,null,null,{"$f":"IF(OR(ISNA(U34),ISNA(V34),ISNA(W34),ISNA(X34),ISNA(Y34),ISNA(Z34),ISNA(AA34),ISNA(AB34),ISNA(AC34)),NA(),CONCATENATE(U34,V34,W34,X34,Y34,Z34,AA34,AB34))","v":"50%"},{"$f":"IF(ISNA(AD34),FALSE,IF(C34=$B$1,Worksheet!$B$3,IF(C34=$C$1,Worksheet!$B$4,IF(C34=$D$1,Worksheet!$B$5,IF(C34=$E$1,Worksheet!$B$6,IF(C34=$B$2,Worksheet!$B$7,IF(C34=$C$2,Worksheet!$D$3,IF(C34=$D$2,Worksheet!$D$4,IF(C34=$E$2,Worksheet!$D$5,IF(C34=$C$3,Worksheet!$D$6,IF(C34=$B$3,Worksheet!$D$7,IF(C34=$D$3,Worksheet!$B$10,IF(C34=$E$3,Worksheet!$D$10,FALSE)))))))))))))","v":true},{"$f":"IF(AE34,D34,\"\")","v":"Medium"},{"$f":"IF(AE34,COUNTIF($AF$5:AF34,AF34),\"X\")","v":13},{"$f":"CONCATENATE(AE34,AF34)","v":"TRUEMedium"}]
[{"$f":"CONCATENATE(AE35,D35,AG35)","v":"TRUEEasy10"},{"$f":"RAND()","v":0.36652608735954828},"Num","Easy",20,"Fill in the missing numbers:   ",{"$f":"RANDBETWEEN(2,8)*1000+700+RANDBETWEEN(1,99)","v":3768},{"$f":"G35+S35","v":3868},"_____","_____",{"$f":"H35+3*S35","v":4168},{"$f":"K35+S35","v":4268},null,null,null,null,null,null,100,{"$f":"CONCATENATE(F35,\" \",G35,\",  \",H35,\",  \",I35,\",  \",J35,\",  \",K35,\",  \",L35,\",  \",M35,\" \",N35,\" \",O35,\" \",P35,\" \",Q35,\" \",R35)","v":"Fill in the missing numbers:    3768,  3868,  _____,  _____,  4168,  4268,       "},{"$f":"H35+S35","v":3968},",  ",{"$f":"U35+S35","v":4068},null,null,null,null,null,null,{"$f":"IF(OR(ISNA(U35),ISNA(V35),ISNA(W35),ISNA(X35),ISNA(Y35),ISNA(Z35),ISNA(AA35),ISNA(AB35),ISNA(AC35)),NA(),CONCATENATE(U35,V35,W35,X35,Y35,Z35,AA35,AB35))","v":"3968,  4068"},{"$f":"IF(ISNA(AD35),FALSE,IF(C35=$B$1,Worksheet!$B$3,IF(C35=$C$1,Worksheet!$B$4,IF(C35=$D$1,Worksheet!$B$5,IF(C35=$E$1,Worksheet!$B$6,IF(C35=$B$2,Worksheet!$B$7,IF(C35=$C$2,Worksheet!$D$3,IF(C35=$D$2,Worksheet!$D$4,IF(C35=$E$2,Worksheet!$D$5,IF(C35=$C$3,Worksheet!$D$6,IF(C35=$B$3,Worksheet!$D$7,IF(C35=$D$3,Worksheet!$B$10,IF(C35=$E$3,Worksheet!$D$10,FALSE)))))))))))))","v":true},{"$f":"IF(AE35,D35,\"\")","v":"Easy"},{"$f":"IF(AE35,COUNTIF($AF$5:AF35,AF35),\"X\")","v":10},{"$f":"CONCATENATE(AE35,AF35)","v":"TRUEEasy"}]
[{"$f":"CONCATENATE(AE36,D36,AG36)","v":"TRUEHard7"},{"$f":"RAND()","v":0.35187541953265833},"%","Hard",331,"A chocolate bar",{"$f":"RANDBETWEEN(5,10)*5","v":35},"grams.  It is made 20g bigger.  What weight is it now?",null,null,null,null,null,null,null,null,null,null,null,{"$f":"CONCATENATE(F36,\" \",G36,\" \",H36,\" \",I36,\" \",J36,\" \",K36,\" \",L36,\" \",M36,\" \",N36,\" \",O36,\" \",P36,\" \",Q36,\" \",R36)","v":"A chocolate bar 35 grams.  It is made 20g bigger.  What weight is it now?          "},{"$f":"G36*1.2","v":42},"cm",null,null,null,null,null,null,null,{"$f":"IF(OR(ISNA(U36),ISNA(V36),ISNA(W36),ISNA(X36),ISNA(Y36),ISNA(Z36),ISNA(AA36),ISNA(AB36),ISNA(AC36)),NA(),CONCATENATE(U36,V36,W36,X36,Y36,Z36,AA36,AB36))","v":"42cm"},{"$f":"IF(ISNA(AD36),FALSE,IF(C36=$B$1,Worksheet!$B$3,IF(C36=$C$1,Worksheet!$B$4,IF(C36=$D$1,Worksheet!$B$5,IF(C36=$E$1,Worksheet!$B$6,IF(C36=$B$2,Worksheet!$B$7,IF(C36=$C$2,Worksheet!$D$3,IF(C36=$D$2,Worksheet!$D$4,IF(C36=$E$2,Worksheet!$D$5,IF(C36=$C$3,Worksheet!$D$6,IF(C36=$B$3,Worksheet!$D$7,IF(C36=$D$3,Worksheet!$B$10,IF(C36=$E$3,Worksheet!$D$10,FALSE)))))))))))))","v":true},{"$f":"IF(AE36,D36,\"\")","v":"Hard"},{"$f":"IF(AE36,COUNTIF($AF$5:AF36,AF36),\"X\")","v":7},{"$f":"CONCATENATE(AE36,AF36)","v":"TRUEHard"}]
[{"$f":"CONCATENATE(AE37,D37,AG37)","v":"TRUEEasy11"},{"$f":"RAND()","v":0.54557932659846553},"Dec","Easy",216,"Write the fraction",{"$f":"RANDBETWEEN(1,9)*10+RANDBETWEEN(1,9)","v":23},"/100","as a decimal",null,null,null,null,null,null,null,null,null,null,{"$f":"CONCATENATE(F37,\" \",G37,\"\",H37,\" \",I37,\" \",J37,\" \",K37,\" \",L37,\" \",M37,\" \",N37,\" \",O37,\" \",P37,\" \",Q37,\" \",R37)","v":"Write the fraction 23/100 as a decimal         "},{"$f":"G37/100","v":0.23},null,null,null,null,null,null,null,null,{"$f":"IF(OR(ISNA(U37),ISNA(V37),ISNA(W37),ISNA(X37),ISNA(Y37),ISNA(Z37),ISNA(AA37),ISNA(AB37),ISNA(AC37)),NA(),CONCATENATE(U37,V37,W37,X37,Y37,Z37,AA37,AB37))","v":"0.23"},{"$f":"IF(ISNA(AD37),FALSE,IF(C37=$B$1,Worksheet!$B$3,IF(C37=$C$1,Worksheet!$B$4,IF(C37=$D$1,Worksheet!$B$5,IF(C37=$E$1,Worksheet!$B$6,IF(C37=$B$2,Worksheet!$B$7,IF(C37=$C$2,Worksheet!$D$3,IF(C37=$D$2,Worksheet!$D$4,IF(C37=$E$2,Worksheet!$D$5,IF(C37=$C$3,Worksheet!$D$6,IF(C37=$B$3,Worksheet!$D$7,IF(C37=$D$3,Worksheet!$B$10,IF(C37=$E$3,Worksheet!$D$10,FALSE)))))))))))))","v":true},{"$f":"IF(AE37,D37,\"\")","v":"Easy"},{"$f":"IF(AE37,COUNTIF($AF$5:AF37,AF37),\"X\")","v":11},{"$f":"CONCATENATE(AE37,AF37)","v":"TRUEEasy"}]
[{"$f":"CONCATENATE(AE38,D38,AG38)","v":"TRUEHard8"},{"$f":"RAND()","v":0.56605761422463285},"+-","Hard",52,"Take away by writing down a sum:   ",{"$f":"RANDBETWEEN(2,9)*10000","v":90000},"–",{"$f":"RANDBETWEEN(10001,G38)","v":77954},null,null,null,null,null,null,null,null,null,null,{"$f":"CONCATENATE(F38,\" \",G38,\" \",H38,\" \",I38,\" \",J38,\" \",K38,\" \",L38,\" \",M38,\" \",N38,\" \",O38,\" \",P38,\" \",Q38,\" \",R38)","v":"Take away by writing down a sum:    90000 – 77954         "},{"$f":"G38-I38","v":12046},null,null,null,null,null,null,null,null,{"$f":"IF(OR(ISNA(U38),ISNA(V38),ISNA(W38),ISNA(X38),ISNA(Y38),ISNA(Z38),ISNA(AA38),ISNA(AB38),ISNA(AC38)),NA(),CONCATENATE(U38,V38,W38,X38,Y38,Z38,AA38,AB38))","v":"12046"},{"$f":"IF(ISNA(AD38),FALSE,IF(C38=$B$1,Worksheet!$B$3,IF(C38=$C$1,Worksheet!$B$4,IF(C38=$D$1,Worksheet!$B$5,IF(C38=$E$1,Worksheet!$B$6,IF(C38=$B$2,Worksheet!$B$7,IF(C38=$C$2,Worksheet!$D$3,IF(C38=$D$2,Worksheet!$D$4,IF(C38=$E$2,Worksheet!$D$5,IF(C38=$C$3,Worksheet!$D$6,IF(C38=$B$3,Worksheet!$D$7,IF(C38=$D$3,Worksheet!$B$10,IF(C38=$E$3,Worksheet!$D$10,FALSE)))))))))))))","v":true},{"$f":"IF(AE38,D38,\"\")","v":"Hard"},{"$f":"IF(AE38,COUNTIF($AF$5:AF38,AF38),\"X\")","v":8},{"$f":"CONCATENATE(AE38,AF38)","v":"TRUEHard"}]
[{"$f":"CONCATENATE(AE39,D39,AG39)","v":"TRUEMedium14"},{"$f":"RAND()","v":0.46587486177385484},"Neg","Medium",346,"Add:   ","(–",{"$f":"RANDBETWEEN(1,10)","v":3},") + ",{"$f":"RANDBETWEEN(1,10)","v":3},null,null,null,null,null,null,null,null,null,{"$f":"CONCATENATE(F39,\" \",G39,\"\",H39,\"\",I39,\"\",J39,\"\",K39,\" \",L39,\" \",M39,\" \",N39,\" \",O39,\" \",P39,\" \",Q39,\" \",R39)","v":"Add:    (–3) + 3       "},{"$f":"J39-H39","v":0},null,null,null,null,null,null,null,{"$f":"IF(ISERROR(T39),NA(),\"\")","v":""},{"$f":"IF(OR(ISNA(U39),ISNA(V39),ISNA(W39),ISNA(X39),ISNA(Y39),ISNA(Z39),ISNA(AA39),ISNA(AB39),ISNA(AC39)),NA(),CONCATENATE(U39,V39,W39,X39,Y39,Z39,AA39,AB39))","v":"0"},{"$f":"IF(ISNA(AD39),FALSE,IF(C39=$B$1,Worksheet!$B$3,IF(C39=$C$1,Worksheet!$B$4,IF(C39=$D$1,Worksheet!$B$5,IF(C39=$E$1,Worksheet!$B$6,IF(C39=$B$2,Worksheet!$B$7,IF(C39=$C$2,Worksheet!$D$3,IF(C39=$D$2,Worksheet!$D$4,IF(C39=$E$2,Worksheet!$D$5,IF(C39=$C$3,Worksheet!$D$6,IF(C39=$B$3,Worksheet!$D$7,IF(C39=$D$3,Worksheet!$B$10,IF(C39=$E$3,Worksheet!$D$10,FALSE)))))))))))))","v":true},{"$f":"IF(AE39,D39,\"\")","v":"Medium"},{"$f":"IF(AE39,COUNTIF($AF$5:AF39,AF39),\"X\")","v":14},{"$f":"CONCATENATE(AE39,AF39)","v":"TRUEMedium"}]
[{"$f":"CONCATENATE(AE40,D40,AG40)","v":"TRUEMedium15"},{"$f":"RAND()","v":0.52456129964626075},"Dec","Medium",235,"Take away:   ",{"$f":"RANDBETWEEN(11,90)","v":38}," –",0.1,null,null,null,null,null,null,null,null,null,null,{"$f":"CONCATENATE(F40,\" \",G40,\" \",H40,\" \",I40,\" \",J40,\" \",K40,\" \",L40,\" \",M40,\" \",N40,\" \",O40,\" \",P40,\" \",Q40,\" \",R40)","v":"Take away:    38  – 0.1         "},{"$f":"G40-0.1","v":37.9},null,null,null,null,null,null,null,null,{"$f":"IF(OR(ISNA(U40),ISNA(V40),ISNA(W40),ISNA(X40),ISNA(Y40),ISNA(Z40),ISNA(AA40),ISNA(AB40),ISNA(AC40)),NA(),CONCATENATE(U40,V40,W40,X40,Y40,Z40,AA40,AB40))","v":"37.9"},{"$f":"IF(ISNA(AD40),FALSE,IF(C40=$B$1,Worksheet!$B$3,IF(C40=$C$1,Worksheet!$B$4,IF(C40=$D$1,Worksheet!$B$5,IF(C40=$E$1,Worksheet!$B$6,IF(C40=$B$2,Worksheet!$B$7,IF(C40=$C$2,Worksheet!$D$3,IF(C40=$D$2,Worksheet!$D$4,IF(C40=$E$2,Worksheet!$D$5,IF(C40=$C$3,Worksheet!$D$6,IF(C40=$B$3,Worksheet!$D$7,IF(C40=$D$3,Worksheet!$B$10,IF(C40=$E$3,Worksheet!$D$10,FALSE)))))))))))))","v":true},{"$f":"IF(AE40,D40,\"\")","v":"Medium"},{"$f":"IF(AE40,COUNTIF($AF$5:AF40,AF40),\"X\")","v":15},{"$f":"CONCATENATE(AE40,AF40)","v":"TRUEMedium"}]
[{"$f":"CONCATENATE(AE41,D41,AG41)","v":"TRUEMedium16"},{"$f":"RAND()","v":0.81158733259013249},"%","Medium",295,"Write",{"$f":"RANDBETWEEN(1,9)*10","v":80},"% as a decimal",null,null,null,null,null,null,null,null,null,null,null,{"$f":"CONCATENATE(F41,\" \",G41,\"\",H41,\" \",I41,\" \",J41,\" \",K41,\" \",L41,\" \",M41,\" \",N41,\" \",O41,\" \",P41,\" \",Q41,\" \",R41)","v":"Write 80% as a decimal          "},{"$f":"G41/100","v":0.8}," or ",{"$f":"TEXT(U41,\"0.00\")","v":"0.80"},null,null,null,null,null,null,{"$f":"IF(OR(ISNA(U41),ISNA(V41),ISNA(W41),ISNA(X41),ISNA(Y41),ISNA(Z41),ISNA(AA41),ISNA(AB41),ISNA(AC41)),NA(),CONCATENATE(U41,V41,W41,X41,Y41,Z41,AA41,AB41))","v":"0.8 or 0.80"},{"$f":"IF(ISNA(AD41),FALSE,IF(C41=$B$1,Worksheet!$B$3,IF(C41=$C$1,Worksheet!$B$4,IF(C41=$D$1,Worksheet!$B$5,IF(C41=$E$1,Worksheet!$B$6,IF(C41=$B$2,Worksheet!$B$7,IF(C41=$C$2,Worksheet!$D$3,IF(C41=$D$2,Worksheet!$D$4,IF(C41=$E$2,Worksheet!$D$5,IF(C41=$C$3,Worksheet!$D$6,IF(C41=$B$3,Worksheet!$D$7,IF(C41=$D$3,Worksheet!$B$10,IF(C41=$E$3,Worksheet!$D$10,FALSE)))))))))))))","v":true},{"$f":"IF(AE41,D41,\"\")","v":"Medium"},{"$f":"IF(AE41,COUNTIF($AF$5:AF41,AF41),\"X\")","v":16},{"$f":"CONCATENATE(AE41,AF41)","v":"TRUEMedium"}]
[{"$f":"CONCATENATE(AE42,D42,AG42)","v":"TRUEHard9"},{"$f":"RAND()","v":1.3585542466009848E-2},"Frac","Hard",201,"Take away the fraction:       ",1,"  –  ",{"$f":"CHOOSE(RANDBETWEEN(1,4),1,3,5,7)","v":5},"/8",null,null,null,null,null,null,null,null,null,{"$f":"CONCATENATE(F42,\" \",G42,\" \",H42,\" \",I42,\"\",J42,\" \",K42,\" \",L42,\" \",M42,\" \",N42,\" \",O42,\" \",P42,\" \",Q42,\" \",R42)","v":"Take away the fraction:        1   –   5/8        "},{"$f":"8-I42","v":3},"/8",null,null,null,null,null,null,null,{"$f":"IF(OR(ISNA(U42),ISNA(V42),ISNA(W42),ISNA(X42),ISNA(Y42),ISNA(Z42),ISNA(AA42),ISNA(AB42),ISNA(AC42)),NA(),CONCATENATE(U42,V42,W42,X42,Y42,Z42,AA42,AB42))","v":"3/8"},{"$f":"IF(ISNA(AD42),FALSE,IF(C42=$B$1,Worksheet!$B$3,IF(C42=$C$1,Worksheet!$B$4,IF(C42=$D$1,Worksheet!$B$5,IF(C42=$E$1,Worksheet!$B$6,IF(C42=$B$2,Worksheet!$B$7,IF(C42=$C$2,Worksheet!$D$3,IF(C42=$D$2,Worksheet!$D$4,IF(C42=$E$2,Worksheet!$D$5,IF(C42=$C$3,Worksheet!$D$6,IF(C42=$B$3,Worksheet!$D$7,IF(C42=$D$3,Worksheet!$B$10,IF(C42=$E$3,Worksheet!$D$10,FALSE)))))))))))))","v":true},{"$f":"IF(AE42,D42,\"\")","v":"Hard"},{"$f":"IF(AE42,COUNTIF($AF$5:AF42,AF42),\"X\")","v":9},{"$f":"CONCATENATE(AE42,AF42)","v":"TRUEHard"}]
[{"$f":"CONCATENATE(AE43,D43,AG43)","v":"TRUEEasy12"},{"$f":"RAND()","v":6.2820830378440107E-2},"Dec","Easy",233,"Write these numbers in order from",{"$f":"CHOOSE(RANDBETWEEN(1,2),\"smallest to biggest:\",\"biggest to smallest:\")","v":"smallest to biggest:"},{"$f":"S43","v":6},{"$f":"R43+S43/10","v":4.5999999999999996},{"$f":"S43+R43/10","v":6.4},{"$f":"S43+1","v":7},null,null,null,null,null,null,{"$f":"SMALL(IF(S43={1,2,3,4,5,6,7,8,9},\"\",{1,2,3,4,5,6,7,8,9}),RANDBETWEEN(1,8))","v":4},{"$f":"RANDBETWEEN(1,9)","v":6},{"$f":"CONCATENATE(F43,\" \",G43,\"   \",H43,\",  \",I43,\",  \",J43,\",  \",K43,\" \",L43,\" \",M43,\" \",N43)","v":"Write these numbers in order from smallest to biggest:   6,  4.6,  6.4,  7   "},{"$f":"IF($G43=\"smallest to biggest:\",LARGE($H43:$K43,4),LARGE($H43:$K43,1))","v":4.5999999999999996},{"$f":"IF($G43=\"smallest to biggest:\",LARGE($H43:$K43,3),LARGE($H43:$K43,2))","v":6},{"$f":"IF($G43=\"smallest to biggest:\",LARGE($H43:$K43,2),LARGE($H43:$K43,3))","v":6.4},{"$f":"IF($G43=\"smallest to biggest:\",LARGE($H43:$K43,1),LARGE($H43:$K43,4))","v":7},null,{"$f":"IF(OR(H43=I43,H43=J43,H43=K43,I43=J43,I43=K43,J43=K43),NA(),\"\")","v":""},null,null,null,{"$f":"IF(OR(ISNA(U43),ISNA(V43),ISNA(W43),ISNA(X43),ISNA(Y43),ISNA(Z43),ISNA(AA43),ISNA(AB43),ISNA(AC43)),NA(),CONCATENATE(U43,\",  \",V43,\",  \",W43,\",  \",X43,Y43,Z43,AA43,AB43))","v":"4.6,  6,  6.4,  7"},{"$f":"IF(ISNA(AD43),FALSE,IF(C43=$B$1,Worksheet!$B$3,IF(C43=$C$1,Worksheet!$B$4,IF(C43=$D$1,Worksheet!$B$5,IF(C43=$E$1,Worksheet!$B$6,IF(C43=$B$2,Worksheet!$B$7,IF(C43=$C$2,Worksheet!$D$3,IF(C43=$D$2,Worksheet!$D$4,IF(C43=$E$2,Worksheet!$D$5,IF(C43=$C$3,Worksheet!$D$6,IF(C43=$B$3,Worksheet!$D$7,IF(C43=$D$3,Worksheet!$B$10,IF(C43=$E$3,Worksheet!$D$10,FALSE)))))))))))))","v":true},{"$f":"IF(AE43,D43,\"\")","v":"Easy"},{"$f":"IF(AE43,COUNTIF($AF$5:AF43,AF43),\"X\")","v":12},{"$f":"CONCATENATE(AE43,AF43)","v":"TRUEEasy"}]
[{"$f":"CONCATENATE(AE44,D44,AG44)","v":"TRUEMedium17"},{"$f":"RAND()","v":0.95851629925025361},"+-","Medium",51,"Take away by writing down a sum:   ",{"$f":"RANDBETWEEN(2,9)*1000+RANDBETWEEN(1,999)","v":4313},"–",{"$f":"RANDBETWEEN(1001,G44)","v":1808},null,null,null,null,null,null,null,null,null,null,{"$f":"CONCATENATE(F44,\" \",G44,\" \",H44,\" \",I44,\" \",J44,\" \",K44,\" \",L44,\" \",M44,\" \",N44,\" \",O44,\" \",P44,\" \",Q44,\" \",R44)","v":"Take away by writing down a sum:    4313 – 1808         "},{"$f":"G44-I44","v":2505},null,null,null,null,null,null,null,null,{"$f":"IF(OR(ISNA(U44),ISNA(V44),ISNA(W44),ISNA(X44),ISNA(Y44),ISNA(Z44),ISNA(AA44),ISNA(AB44),ISNA(AC44)),NA(),CONCATENATE(U44,V44,W44,X44,Y44,Z44,AA44,AB44))","v":"2505"},{"$f":"IF(ISNA(AD44),FALSE,IF(C44=$B$1,Worksheet!$B$3,IF(C44=$C$1,Worksheet!$B$4,IF(C44=$D$1,Worksheet!$B$5,IF(C44=$E$1,Worksheet!$B$6,IF(C44=$B$2,Worksheet!$B$7,IF(C44=$C$2,Worksheet!$D$3,IF(C44=$D$2,Worksheet!$D$4,IF(C44=$E$2,Worksheet!$D$5,IF(C44=$C$3,Worksheet!$D$6,IF(C44=$B$3,Worksheet!$D$7,IF(C44=$D$3,Worksheet!$B$10,IF(C44=$E$3,Worksheet!$D$10,FALSE)))))))))))))","v":true},{"$f":"IF(AE44,D44,\"\")","v":"Medium"},{"$f":"IF(AE44,COUNTIF($AF$5:AF44,AF44),\"X\")","v":17},{"$f":"CONCATENATE(AE44,AF44)","v":"TRUEMedium"}]
[{"$f":"CONCATENATE(AE45,D45,AG45)","v":"TRUEMedium18"},{"$f":"RAND()","v":0.55479796701055961},"+-","Medium",29,"Fill in the missing number:   ","____ +",{"$f":"RANDBETWEEN(1,9)*100+RANDBETWEEN(1,8)*10+RANDBETWEEN(1,9)","v":321},"=",{"$f":"INT((H45+100)/100)*100","v":400},null,null,null,null,null,null,null,null,null,{"$f":"CONCATENATE(F45,\" \",G45,\" \",H45,\" \",I45,\" \",J45,\" \",K45,\" \",L45,\" \",M45,\" \",N45,\" \",O45,\" \",P45,\" \",Q45,\" \",R45)","v":"Fill in the missing number:    ____ + 321 = 400        "},{"$f":"J45-H45","v":79},null,null,null,null,null,null,null,null,{"$f":"IF(OR(ISNA(U45),ISNA(V45),ISNA(W45),ISNA(X45),ISNA(Y45),ISNA(Z45),ISNA(AA45),ISNA(AB45),ISNA(AC45)),NA(),CONCATENATE(U45,V45,W45,X45,Y45,Z45,AA45,AB45))","v":"79"},{"$f":"IF(ISNA(AD45),FALSE,IF(C45=$B$1,Worksheet!$B$3,IF(C45=$C$1,Worksheet!$B$4,IF(C45=$D$1,Worksheet!$B$5,IF(C45=$E$1,Worksheet!$B$6,IF(C45=$B$2,Worksheet!$B$7,IF(C45=$C$2,Worksheet!$D$3,IF(C45=$D$2,Worksheet!$D$4,IF(C45=$E$2,Worksheet!$D$5,IF(C45=$C$3,Worksheet!$D$6,IF(C45=$B$3,Worksheet!$D$7,IF(C45=$D$3,Worksheet!$B$10,IF(C45=$E$3,Worksheet!$D$10,FALSE)))))))))))))","v":true},{"$f":"IF(AE45,D45,\"\")","v":"Medium"},{"$f":"IF(AE45,COUNTIF($AF$5:AF45,AF45),\"X\")","v":18},{"$f":"CONCATENATE(AE45,AF45)","v":"TRUEMedium"}]
[{"$f":"CONCATENATE(AE46,D46,AG46)","v":"TRUEMedium19"},{"$f":"RAND()","v":0.53927505074368121},"Num","Medium",210,"Continue the pattern for three more numbers:   ",{"$f":"RANDBETWEEN(11,95)*1000+400+RANDBETWEEN(1,99)","v":22457},{"$f":"G46+S46","v":22357},{"$f":"H46+S46","v":22257},{"$f":"I46+S46","v":22157},"____","____","____",null,null,null,null,null,-100,{"$f":"CONCATENATE(F46,\" \",G46,\",   \",H46,\",   \",I46,\",   \",J46,\",   \",K46,\",   \",L46,\",   \",M46,\" \",N46,\" \",O46,\" \",P46,\" \",Q46,\" \",R46)","v":"Continue the pattern for three more numbers:    22457,   22357,   22257,   22157,   ____,   ____,   ____     "},{"$f":"J46+S46","v":22057},{"$f":"U46+S46","v":21957},{"$f":"V46+S46","v":21857},null,null,null,null,null,null,{"$f":"IF(OR(ISNA(U46),ISNA(V46),ISNA(W46),ISNA(X46),ISNA(Y46),ISNA(Z46),ISNA(AA46),ISNA(AB46),ISNA(AC46)),NA(),CONCATENATE(U46,\",   \",V46,\",   \",W46,X46,Y46,Z46,AA46,AB46))","v":"22057,   21957,   21857"},{"$f":"IF(ISNA(AD46),FALSE,IF(C46=$B$1,Worksheet!$B$3,IF(C46=$C$1,Worksheet!$B$4,IF(C46=$D$1,Worksheet!$B$5,IF(C46=$E$1,Worksheet!$B$6,IF(C46=$B$2,Worksheet!$B$7,IF(C46=$C$2,Worksheet!$D$3,IF(C46=$D$2,Worksheet!$D$4,IF(C46=$E$2,Worksheet!$D$5,IF(C46=$C$3,Worksheet!$D$6,IF(C46=$B$3,Worksheet!$D$7,IF(C46=$D$3,Worksheet!$B$10,IF(C46=$E$3,Worksheet!$D$10,FALSE)))))))))))))","v":true},{"$f":"IF(AE46,D46,\"\")","v":"Medium"},{"$f":"IF(AE46,COUNTIF($AF$5:AF46,AF46),\"X\")","v":19},{"$f":"CONCATENATE(AE46,AF46)","v":"TRUEMedium"}]
[{"$f":"CONCATENATE(AE47,D47,AG47)","v":"TRUEHard10"},{"$f":"RAND()","v":0.79368837315392349},"Mult","Hard",106,"Multiply by writing down a sum:   ",{"$f":"RANDBETWEEN(300,999)","v":364},"×",{"$f":"RANDBETWEEN(6,9)","v":9},null,null,null,null,null,null,null,null,null,null,{"$f":"CONCATENATE(F47,\" \",G47,\" \",H47,\" \",I47,\" \",J47,\" \",K47,\" \",L47,\" \",M47,\" \",N47,\" \",O47,\" \",P47,\" \",Q47,\" \",R47)","v":"Multiply by writing down a sum:    364 × 9         "},{"$f":"TEXT(G47*I47,\"#,###\")","v":"3,276"},null,null,null,null,null,null,null,null,{"$f":"IF(OR(ISNA(U47),ISNA(V47),ISNA(W47),ISNA(X47),ISNA(Y47),ISNA(Z47),ISNA(AA47),ISNA(AB47),ISNA(AC47)),NA(),CONCATENATE(U47,V47,W47,X47,Y47,Z47,AA47,AB47))","v":"3,276"},{"$f":"IF(ISNA(AD47),FALSE,IF(C47=$B$1,Worksheet!$B$3,IF(C47=$C$1,Worksheet!$B$4,IF(C47=$D$1,Worksheet!$B$5,IF(C47=$E$1,Worksheet!$B$6,IF(C47=$B$2,Worksheet!$B$7,IF(C47=$C$2,Worksheet!$D$3,IF(C47=$D$2,Worksheet!$D$4,IF(C47=$E$2,Worksheet!$D$5,IF(C47=$C$3,Worksheet!$D$6,IF(C47=$B$3,Worksheet!$D$7,IF(C47=$D$3,Worksheet!$B$10,IF(C47=$E$3,Worksheet!$D$10,FALSE)))))))))))))","v":true},{"$f":"IF(AE47,D47,\"\")","v":"Hard"},{"$f":"IF(AE47,COUNTIF($AF$5:AF47,AF47),\"X\")","v":10},{"$f":"CONCATENATE(AE47,AF47)","v":"TRUEHard"}]
[{"$f":"CONCATENATE(AE48,D48,AG48)","v":"TRUEEasy13"},{"$f":"RAND()","v":0.73940086933124782},"Neg","Easy",355,"Continue the pattern for three more numbers:   ",{"$f":"RANDBETWEEN(-5,-3)","v":-5},{"$f":"G48+S48","v":-4},{"$f":"H48+S48","v":-3},{"$f":"I48+S48","v":-2},"____","____","____",null,null,null,null,null,1,{"$f":"CONCATENATE(F48,\" \",G48,\",   \",H48,\",   \",I48,\",   \",J48,\",   \",K48,\",   \",L48,\",   \",M48,\" \",N48,\" \",O48,\" \",P48,\" \",Q48,\" \",R48)","v":"Continue the pattern for three more numbers:    -5,   -4,   -3,   -2,   ____,   ____,   ____     "},{"$f":"J48+S48","v":-1},{"$f":"U48+S48","v":0},{"$f":"V48+S48","v":1},null,null,null,null,null,null,{"$f":"IF(OR(ISNA(U48),ISNA(V48),ISNA(W48),ISNA(X48),ISNA(Y48),ISNA(Z48),ISNA(AA48),ISNA(AB48),ISNA(AC48)),NA(),CONCATENATE(U48,\",   \",V48,\",   \",W48,X48,Y48,Z48,AA48,AB48))","v":"-1,   0,   1"},{"$f":"IF(ISNA(AD48),FALSE,IF(C48=$B$1,Worksheet!$B$3,IF(C48=$C$1,Worksheet!$B$4,IF(C48=$D$1,Worksheet!$B$5,IF(C48=$E$1,Worksheet!$B$6,IF(C48=$B$2,Worksheet!$B$7,IF(C48=$C$2,Worksheet!$D$3,IF(C48=$D$2,Worksheet!$D$4,IF(C48=$E$2,Worksheet!$D$5,IF(C48=$C$3,Worksheet!$D$6,IF(C48=$B$3,Worksheet!$D$7,IF(C48=$D$3,Worksheet!$B$10,IF(C48=$E$3,Worksheet!$D$10,FALSE)))))))))))))","v":true},{"$f":"IF(AE48,D48,\"\")","v":"Easy"},{"$f":"IF(AE48,COUNTIF($AF$5:AF48,AF48),\"X\")","v":13},{"$f":"CONCATENATE(AE48,AF48)","v":"TRUEEasy"}]
[{"$f":"CONCATENATE(AE49,D49,AG49)","v":"TRUEMedium20"},{"$f":"RAND()","v":0.79196088591672564},"Divide","Medium",112,"What is half of",{"$f":"RANDBETWEEN(5,6)*20+RANDBETWEEN(1,4)*2","v":108},"?",null,null,null,null,null,null,null,null,null,null,null,{"$f":"CONCATENATE(F49,\" \",G49,\" \",H49,\" \",I49,\" \",J49,\" \",K49,\" \",L49,\" \",M49,\" \",N49,\" \",O49,\" \",P49,\" \",Q49,\" \",R49)","v":"What is half of 108 ?          "},{"$f":"G49/2","v":54},null,null,null,null,null,null,null,null,{"$f":"IF(OR(ISNA(U49),ISNA(V49),ISNA(W49),ISNA(X49),ISNA(Y49),ISNA(Z49),ISNA(AA49),ISNA(AB49),ISNA(AC49)),NA(),CONCATENATE(U49,V49,W49,X49,Y49,Z49,AA49,AB49))","v":"54"},{"$f":"IF(ISNA(AD49),FALSE,IF(C49=$B$1,Worksheet!$B$3,IF(C49=$C$1,Worksheet!$B$4,IF(C49=$D$1,Worksheet!$B$5,IF(C49=$E$1,Worksheet!$B$6,IF(C49=$B$2,Worksheet!$B$7,IF(C49=$C$2,Worksheet!$D$3,IF(C49=$D$2,Worksheet!$D$4,IF(C49=$E$2,Worksheet!$D$5,IF(C49=$C$3,Worksheet!$D$6,IF(C49=$B$3,Worksheet!$D$7,IF(C49=$D$3,Worksheet!$B$10,IF(C49=$E$3,Worksheet!$D$10,FALSE)))))))))))))","v":true},{"$f":"IF(AE49,D49,\"\")","v":"Medium"},{"$f":"IF(AE49,COUNTIF($AF$5:AF49,AF49),\"X\")","v":20},{"$f":"CONCATENATE(AE49,AF49)","v":"TRUEMedium"}]
[{"$f":"CONCATENATE(AE50,D50,AG50)","v":"TRUEEasy14"},{"$f":"RAND()","v":1.2454423312596941E-2},"+-","Easy",40,"Take away:    ",{"$f":"RANDBETWEEN(3,9)*100","v":900},"–",{"$f":"RANDBETWEEN(6,9)*10","v":70},null,null,null,null,null,null,null,null,null,null,{"$f":"CONCATENATE(F50,\" \",G50,\" \",H50,\" \",I50,\" \",J50,\" \",K50,\" \",L50,\" \",M50,\" \",N50,\" \",O50,\" \",P50,\" \",Q50,\" \",R50)","v":"Take away:     900 – 70         "},{"$f":"G50-I50","v":830},null,null,null,null,null,null,null,null,{"$f":"IF(OR(ISNA(U50),ISNA(V50),ISNA(W50),ISNA(X50),ISNA(Y50),ISNA(Z50),ISNA(AA50),ISNA(AB50),ISNA(AC50)),NA(),CONCATENATE(U50,V50,W50,X50,Y50,Z50,AA50,AB50))","v":"830"},{"$f":"IF(ISNA(AD50),FALSE,IF(C50=$B$1,Worksheet!$B$3,IF(C50=$C$1,Worksheet!$B$4,IF(C50=$D$1,Worksheet!$B$5,IF(C50=$E$1,Worksheet!$B$6,IF(C50=$B$2,Worksheet!$B$7,IF(C50=$C$2,Worksheet!$D$3,IF(C50=$D$2,Worksheet!$D$4,IF(C50=$E$2,Worksheet!$D$5,IF(C50=$C$3,Worksheet!$D$6,IF(C50=$B$3,Worksheet!$D$7,IF(C50=$D$3,Worksheet!$B$10,IF(C50=$E$3,Worksheet!$D$10,FALSE)))))))))))))","v":true},{"$f":"IF(AE50,D50,\"\")","v":"Easy"},{"$f":"IF(AE50,COUNTIF($AF$5:AF50,AF50),\"X\")","v":14},{"$f":"CONCATENATE(AE50,AF50)","v":"TRUEEasy"}]
[{"$f":"CONCATENATE(AE51,D51,AG51)","v":"TRUEEasy15"},{"$f":"RAND()","v":0.48043156847209545},"Frac","Easy",149,"Fractions.   What is"," 1/",{"$f":"CHOOSE(RANDBETWEEN(1,4),3,4,5,10)","v":3}," of",{"$f":"H51*RANDBETWEEN(2,10)","v":15},"?",null,null,null,null,null,null,null,null,{"$f":"CONCATENATE(F51,\" \",G51,\"\",H51,\" \",I51,\" \",J51,\"\",K51,\" \",L51,\" \",M51,\" \",N51,\" \",O51,\" \",P51,\" \",Q51,\" \",R51)","v":"Fractions.   What is  1/3  of 15?       "},{"$f":"J51/H51","v":5},null,{"$f":"IF(AND(H51=H50,J51=J50),NA(),\"\")","v":""},null,{"$f":"IF(INT(U51)<>U51,NA(),\"\")","v":""},null,null,null,null,{"$f":"IF(OR(ISNA(U51),ISNA(V51),ISNA(W51),ISNA(X51),ISNA(Y51),ISNA(Z51),ISNA(AA51),ISNA(AB51),ISNA(AC51)),NA(),CONCATENATE(U51,V51,W51,X51,Y51,Z51,AA51,AB51))","v":"5"},{"$f":"IF(ISNA(AD51),FALSE,IF(C51=$B$1,Worksheet!$B$3,IF(C51=$C$1,Worksheet!$B$4,IF(C51=$D$1,Worksheet!$B$5,IF(C51=$E$1,Worksheet!$B$6,IF(C51=$B$2,Worksheet!$B$7,IF(C51=$C$2,Worksheet!$D$3,IF(C51=$D$2,Worksheet!$D$4,IF(C51=$E$2,Worksheet!$D$5,IF(C51=$C$3,Worksheet!$D$6,IF(C51=$B$3,Worksheet!$D$7,IF(C51=$D$3,Worksheet!$B$10,IF(C51=$E$3,Worksheet!$D$10,FALSE)))))))))))))","v":true},{"$f":"IF(AE51,D51,\"\")","v":"Easy"},{"$f":"IF(AE51,COUNTIF($AF$5:AF51,AF51),\"X\")","v":15},{"$f":"CONCATENATE(AE51,AF51)","v":"TRUEEasy"}]
[{"$f":"CONCATENATE(AE52,D52,AG52)","v":"TRUEHard11"},{"$f":"RAND()","v":0.97030703754027547},"Mult","Hard",84,"Circle the number that is a multiple of 7:   ",{"$f":"IF($S52=1,RANDBETWEEN(2,10)*7,RANDBETWEEN(1,9)*7+RANDBETWEEN(1,6))","v":40},{"$f":"IF($S52=2,RANDBETWEEN(2,10)*7,RANDBETWEEN(1,9)*7+RANDBETWEEN(1,6))","v":27},{"$f":"IF($S52=3,RANDBETWEEN(2,10)*7,RANDBETWEEN(1,9)*7+RANDBETWEEN(1,6))","v":60},{"$f":"IF($S52=4,RANDBETWEEN(2,10)*7,RANDBETWEEN(1,9)*7+RANDBETWEEN(1,6))","v":28},null,null,null,null,null,null,null,null,{"$f":"RANDBETWEEN(1,4)","v":4},{"$f":"CONCATENATE(F52,\"      \",G52,\"     \",H52,\"     \",I52,\"     \",J52,\" \",K52,\" \",L52,\" \",M52,\" \",N52,\" \",O52,\" \",P52,\" \",Q52,\" \",R52)","v":"Circle the number that is a multiple of 7:         40     27     60     28        "},{"$f":"IF(S52=1,G52,IF(S52=2,H52,IF(S52=3,I52,J52)))","v":28},{"$f":"IF(OR(G52=H52,G52=I52,G52=J52,H52=I52,H52=J52,I52=J52),NA(),\"\")","v":""},null,null,null,null,null,null,null,{"$f":"IF(OR(ISNA(U52),ISNA(V52),ISNA(W52),ISNA(X52),ISNA(Y52),ISNA(Z52),ISNA(AA52),ISNA(AB52),ISNA(AC52)),NA(),CONCATENATE(U52,V52,W52,X52,Y52,Z52,AA52,AB52))","v":"28"},{"$f":"IF(ISNA(AD52),FALSE,IF(C52=$B$1,Worksheet!$B$3,IF(C52=$C$1,Worksheet!$B$4,IF(C52=$D$1,Worksheet!$B$5,IF(C52=$E$1,Worksheet!$B$6,IF(C52=$B$2,Worksheet!$B$7,IF(C52=$C$2,Worksheet!$D$3,IF(C52=$D$2,Worksheet!$D$4,IF(C52=$E$2,Worksheet!$D$5,IF(C52=$C$3,Worksheet!$D$6,IF(C52=$B$3,Worksheet!$D$7,IF(C52=$D$3,Worksheet!$B$10,IF(C52=$E$3,Worksheet!$D$10,FALSE)))))))))))))","v":true},{"$f":"IF(AE52,D52,\"\")","v":"Hard"},{"$f":"IF(AE52,COUNTIF($AF$5:AF52,AF52),\"X\")","v":11},{"$f":"CONCATENATE(AE52,AF52)","v":"TRUEHard"}]
[{"$f":"CONCATENATE(AE53,D53,AG53)","v":"TRUEEasy16"},{"$f":"RAND()","v":0.8904284466310709},"%","Easy",317,"What is ",50,"% of £",{"$f":"2*RANDBETWEEN(3,15)","v":26},"?",null,null,null,null,null,null,null,null,null,{"$f":"CONCATENATE(F53,\" \",G53,\"\",H53,\"\",I53,\" \",J53,\" \",K53,\" \",L53,\" \",M53,\" \",N53,\" \",O53,\" \",P53,\" \",Q53,\" \",R53)","v":"What is  50% of £26 ?        "},"£",{"$f":"I53/2","v":13},null,null,null,null,null,null,null,{"$f":"IF(OR(ISNA(U53),ISNA(V53),ISNA(W53),ISNA(X53),ISNA(Y53),ISNA(Z53),ISNA(AA53),ISNA(AB53),ISNA(AC53)),NA(),CONCATENATE(U53,V53,W53,X53,Y53,Z53,AA53,AB53))","v":"£13"},{"$f":"IF(ISNA(AD53),FALSE,IF(C53=$B$1,Worksheet!$B$3,IF(C53=$C$1,Worksheet!$B$4,IF(C53=$D$1,Worksheet!$B$5,IF(C53=$E$1,Worksheet!$B$6,IF(C53=$B$2,Worksheet!$B$7,IF(C53=$C$2,Worksheet!$D$3,IF(C53=$D$2,Worksheet!$D$4,IF(C53=$E$2,Worksheet!$D$5,IF(C53=$C$3,Worksheet!$D$6,IF(C53=$B$3,Worksheet!$D$7,IF(C53=$D$3,Worksheet!$B$10,IF(C53=$E$3,Worksheet!$D$10,FALSE)))))))))))))","v":true},{"$f":"IF(AE53,D53,\"\")","v":"Easy"},{"$f":"IF(AE53,COUNTIF($AF$5:AF53,AF53),\"X\")","v":16},{"$f":"CONCATENATE(AE53,AF53)","v":"TRUEEasy"}]
[{"$f":"CONCATENATE(AE54,D54,AG54)","v":"TRUEHard12"},{"$f":"RAND()","v":0.69752369571718564},"Mult","Hard",100,"Multiply:   ",{"$f":"RANDBETWEEN(11,15)","v":14},"×",{"$f":"RANDBETWEEN(2,5)*10","v":50},null,null,null,null,null,null,null,null,null,null,{"$f":"CONCATENATE(F54,\" \",G54,\" \",H54,\" \",I54,\" \",J54,\" \",K54,\" \",L54,\" \",M54,\" \",N54,\" \",O54,\" \",P54,\" \",Q54,\" \",R54)","v":"Multiply:    14 × 50         "},{"$f":"TEXT(G54*I54,\"#,###\")","v":"700"},null,null,null,null,null,null,null,null,{"$f":"IF(OR(ISNA(U54),ISNA(V54),ISNA(W54),ISNA(X54),ISNA(Y54),ISNA(Z54),ISNA(AA54),ISNA(AB54),ISNA(AC54)),NA(),CONCATENATE(U54,V54,W54,X54,Y54,Z54,AA54,AB54))","v":"700"},{"$f":"IF(ISNA(AD54),FALSE,IF(C54=$B$1,Worksheet!$B$3,IF(C54=$C$1,Worksheet!$B$4,IF(C54=$D$1,Worksheet!$B$5,IF(C54=$E$1,Worksheet!$B$6,IF(C54=$B$2,Worksheet!$B$7,IF(C54=$C$2,Worksheet!$D$3,IF(C54=$D$2,Worksheet!$D$4,IF(C54=$E$2,Worksheet!$D$5,IF(C54=$C$3,Worksheet!$D$6,IF(C54=$B$3,Worksheet!$D$7,IF(C54=$D$3,Worksheet!$B$10,IF(C54=$E$3,Worksheet!$D$10,FALSE)))))))))))))","v":true},{"$f":"IF(AE54,D54,\"\")","v":"Hard"},{"$f":"IF(AE54,COUNTIF($AF$5:AF54,AF54),\"X\")","v":12},{"$f":"CONCATENATE(AE54,AF54)","v":"TRUEHard"}]
[{"$f":"CONCATENATE(AE55,D55,AG55)","v":"TRUEMedium21"},{"$f":"RAND()","v":0.43178664218691476},"Num","Medium",21,"Fill in the missing numbers:   ",{"$f":"RANDBETWEEN(2,9)*1000+200+RANDBETWEEN(1,99)","v":7255},{"$f":"G55+S55","v":7155},"_____","_____",{"$f":"H55+3*S55","v":6855},{"$f":"K55+S55","v":6755},null,null,null,null,null,null,-100,{"$f":"CONCATENATE(F55,\" \",G55,\",  \",H55,\",  \",I55,\",  \",J55,\",  \",K55,\",  \",L55,\",  \",M55,\" \",N55,\" \",O55,\" \",P55,\" \",Q55,\" \",R55)","v":"Fill in the missing numbers:    7255,  7155,  _____,  _____,  6855,  6755,       "},{"$f":"H55+S55","v":7055},",  ",{"$f":"U55+S55","v":6955},null,null,null,null,null,null,{"$f":"IF(OR(ISNA(U55),ISNA(V55),ISNA(W55),ISNA(X55),ISNA(Y55),ISNA(Z55),ISNA(AA55),ISNA(AB55),ISNA(AC55)),NA(),CONCATENATE(U55,V55,W55,X55,Y55,Z55,AA55,AB55))","v":"7055,  6955"},{"$f":"IF(ISNA(AD55),FALSE,IF(C55=$B$1,Worksheet!$B$3,IF(C55=$C$1,Worksheet!$B$4,IF(C55=$D$1,Worksheet!$B$5,IF(C55=$E$1,Worksheet!$B$6,IF(C55=$B$2,Worksheet!$B$7,IF(C55=$C$2,Worksheet!$D$3,IF(C55=$D$2,Worksheet!$D$4,IF(C55=$E$2,Worksheet!$D$5,IF(C55=$C$3,Worksheet!$D$6,IF(C55=$B$3,Worksheet!$D$7,IF(C55=$D$3,Worksheet!$B$10,IF(C55=$E$3,Worksheet!$D$10,FALSE)))))))))))))","v":true},{"$f":"IF(AE55,D55,\"\")","v":"Medium"},{"$f":"IF(AE55,COUNTIF($AF$5:AF55,AF55),\"X\")","v":21},{"$f":"CONCATENATE(AE55,AF55)","v":"TRUEMedium"}]
[{"$f":"CONCATENATE(AE56,D56,AG56)","v":"TRUEHard13"},{"$f":"RAND()","v":0.23778324100950798},"Neg","Hard",358,"Continue the pattern for three more numbers:   ",{"$f":"RANDBETWEEN(-5,-3)*2-1","v":-9},{"$f":"G56+S56","v":-7},{"$f":"H56+S56","v":-5},{"$f":"I56+S56","v":-3},"____","____","____",null,null,null,null,null,2,{"$f":"CONCATENATE(F56,\" \",G56,\",   \",H56,\",   \",I56,\",   \",J56,\",   \",K56,\",   \",L56,\",   \",M56,\" \",N56,\" \",O56,\" \",P56,\" \",Q56,\" \",R56)","v":"Continue the pattern for three more numbers:    -9,   -7,   -5,   -3,   ____,   ____,   ____     "},{"$f":"J56+S56","v":-1},{"$f":"U56+S56","v":1},{"$f":"V56+S56","v":3},null,null,null,null,null,null,{"$f":"IF(OR(ISNA(U56),ISNA(V56),ISNA(W56),ISNA(X56),ISNA(Y56),ISNA(Z56),ISNA(AA56),ISNA(AB56),ISNA(AC56)),NA(),CONCATENATE(U56,\",   \",V56,\",   \",W56,X56,Y56,Z56,AA56,AB56))","v":"-1,   1,   3"},{"$f":"IF(ISNA(AD56),FALSE,IF(C56=$B$1,Worksheet!$B$3,IF(C56=$C$1,Worksheet!$B$4,IF(C56=$D$1,Worksheet!$B$5,IF(C56=$E$1,Worksheet!$B$6,IF(C56=$B$2,Worksheet!$B$7,IF(C56=$C$2,Worksheet!$D$3,IF(C56=$D$2,Worksheet!$D$4,IF(C56=$E$2,Worksheet!$D$5,IF(C56=$C$3,Worksheet!$D$6,IF(C56=$B$3,Worksheet!$D$7,IF(C56=$D$3,Worksheet!$B$10,IF(C56=$E$3,Worksheet!$D$10,FALSE)))))))))))))","v":true},{"$f":"IF(AE56,D56,\"\")","v":"Hard"},{"$f":"IF(AE56,COUNTIF($AF$5:AF56,AF56),\"X\")","v":13},{"$f":"CONCATENATE(AE56,AF56)","v":"TRUEHard"}]
[{"$f":"CONCATENATE(AE57,D57,AG57)","v":"TRUEHard14"},{"$f":"RAND()","v":0.96833517645536749},"Frac","Hard",162,"Fractions.   What is ",{"$f":"CHOOSE(RANDBETWEEN(1,3),\"2/5\",\"3/5\",\"4/5\")","v":"3/5"}," of",{"$f":"5*RANDBETWEEN(2,10)*10","v":150},"?",null,null,null,null,null,null,null,null,null,{"$f":"CONCATENATE(F57,\" \",G57,\" \",H57,\" \",I57,\" \",J57,\" \",K57,\" \",L57,\" \",M57,\" \",N57,\" \",O57,\" \",P57,\" \",Q57,\" \",R57)","v":"Fractions.   What is  3/5  of 150 ?        "},{"$f":"I57/5*IF(G57=\"2/5\",2,IF(G57=\"3/5\",3,4))","v":90},null,null,null,{"$f":"IF(INT(U57)<>U57,NA(),\"\")","v":""},null,null,null,null,{"$f":"IF(OR(ISNA(U57),ISNA(V57),ISNA(W57),ISNA(X57),ISNA(Y57),ISNA(Z57),ISNA(AA57),ISNA(AB57),ISNA(AC57)),NA(),CONCATENATE(U57,V57,W57,X57,Y57,Z57,AA57,AB57))","v":"90"},{"$f":"IF(ISNA(AD57),FALSE,IF(C57=$B$1,Worksheet!$B$3,IF(C57=$C$1,Worksheet!$B$4,IF(C57=$D$1,Worksheet!$B$5,IF(C57=$E$1,Worksheet!$B$6,IF(C57=$B$2,Worksheet!$B$7,IF(C57=$C$2,Worksheet!$D$3,IF(C57=$D$2,Worksheet!$D$4,IF(C57=$E$2,Worksheet!$D$5,IF(C57=$C$3,Worksheet!$D$6,IF(C57=$B$3,Worksheet!$D$7,IF(C57=$D$3,Worksheet!$B$10,IF(C57=$E$3,Worksheet!$D$10,FALSE)))))))))))))","v":true},{"$f":"IF(AE57,D57,\"\")","v":"Hard"},{"$f":"IF(AE57,COUNTIF($AF$5:AF57,AF57),\"X\")","v":14},{"$f":"CONCATENATE(AE57,AF57)","v":"TRUEHard"}]
[{"$f":"CONCATENATE(AE58,D58,AG58)","v":"FALSEHardX"},{"$f":"RAND()","v":0.70753456785201041},"Alg","Hard",377,"Fill in the box with one of the symbols  <   >   or   =    :",null,{"$f":"RANDBETWEEN(1,1000)","v":954},"_____",{"$f":"H58+RANDBETWEEN(-2,2)","v":956},null,null,null,null,null,null,null,null,null,{"$f":"CONCATENATE(F58,\" \",G58,\" \",H58,\"   \",I58,\"   \",J58,\" \",K58,\" \",L58,\" \",M58,\" \",N58,\" \",O58,\" \",P58,\" \",Q58,\" \",R58)","v":"Fill in the box with one of the symbols  <   >   or   =    :  954   _____   956        "},{"$f":"IF(J58>H58,\"<\",IF(H58>J58,\">\",\"=\"))","v":"<"},null,null,null,null,null,null,null,null,{"$f":"IF(OR(ISNA(U58),ISNA(V58),ISNA(W58),ISNA(X58),ISNA(Y58),ISNA(Z58),ISNA(AA58),ISNA(AB58),ISNA(AC58)),NA(),CONCATENATE(U58,V58,W58,X58,Y58,Z58,AA58,AB58))","v":"<"},{"$f":"IF(ISNA(AD58),FALSE,IF(C58=$B$1,Worksheet!$B$3,IF(C58=$C$1,Worksheet!$B$4,IF(C58=$D$1,Worksheet!$B$5,IF(C58=$E$1,Worksheet!$B$6,IF(C58=$B$2,Worksheet!$B$7,IF(C58=$C$2,Worksheet!$D$3,IF(C58=$D$2,Worksheet!$D$4,IF(C58=$E$2,Worksheet!$D$5,IF(C58=$C$3,Worksheet!$D$6,IF(C58=$B$3,Worksheet!$D$7,IF(C58=$D$3,Worksheet!$B$10,IF(C58=$E$3,Worksheet!$D$10,FALSE)))))))))))))","v":false},{"$f":"IF(AE58,D58,\"\")","v":""},{"$f":"IF(AE58,COUNTIF($AF$5:AF58,AF58),\"X\")","v":"X"},{"$f":"CONCATENATE(AE58,AF58)","v":"FALSE"}]
[{"$f":"CONCATENATE(AE59,D59,AG59)","v":"TRUEHard15"},{"$f":"RAND()","v":0.4567218914552319},"%","Hard",323,"What is ",25,"% of £",{"$f":"4*RANDBETWEEN(1,10)*10^RANDBETWEEN(1,2)","v":280},"?",null,null,null,null,null,null,null,null,null,{"$f":"CONCATENATE(F59,\" \",G59,\"\",H59,\"\",I59,\" \",J59,\" \",K59,\" \",L59,\" \",M59,\" \",N59,\" \",O59,\" \",P59,\" \",Q59,\" \",R59)","v":"What is  25% of £280 ?        "},"£",{"$f":"I59/4","v":70},null,null,null,null,null,null,null,{"$f":"IF(OR(ISNA(U59),ISNA(V59),ISNA(W59),ISNA(X59),ISNA(Y59),ISNA(Z59),ISNA(AA59),ISNA(AB59),ISNA(AC59)),NA(),CONCATENATE(U59,V59,W59,X59,Y59,Z59,AA59,AB59))","v":"£70"},{"$f":"IF(ISNA(AD59),FALSE,IF(C59=$B$1,Worksheet!$B$3,IF(C59=$C$1,Worksheet!$B$4,IF(C59=$D$1,Worksheet!$B$5,IF(C59=$E$1,Worksheet!$B$6,IF(C59=$B$2,Worksheet!$B$7,IF(C59=$C$2,Worksheet!$D$3,IF(C59=$D$2,Worksheet!$D$4,IF(C59=$E$2,Worksheet!$D$5,IF(C59=$C$3,Worksheet!$D$6,IF(C59=$B$3,Worksheet!$D$7,IF(C59=$D$3,Worksheet!$B$10,IF(C59=$E$3,Worksheet!$D$10,FALSE)))))))))))))","v":true},{"$f":"IF(AE59,D59,\"\")","v":"Hard"},{"$f":"IF(AE59,COUNTIF($AF$5:AF59,AF59),\"X\")","v":15},{"$f":"CONCATENATE(AE59,AF59)","v":"TRUEHard"}]
[{"$f":"CONCATENATE(AE60,D60,AG60)","v":"TRUEMedium22"},{"$f":"RAND()","v":0.15938318474950552},"Neg","Medium",352,"Take away:   ",{"$f":"RANDBETWEEN(1,10)","v":10},"–",{"$f":"RANDBETWEEN(G60+1,20)","v":20},null,null,null,null,null,null,null,null,null,null,{"$f":"CONCATENATE(F60,\" \",G60,\" \",H60,\" \",I60,\"\",J60,\"\",K60,\" \",L60,\" \",M60,\" \",N60,\" \",O60,\" \",P60,\" \",Q60,\" \",R60)","v":"Take away:    10 – 20       "},{"$f":"G60-I60","v":-10},null,null,null,null,null,null,null,{"$f":"IF(ISERROR(T60),NA(),\"\")","v":""},{"$f":"IF(OR(ISNA(U60),ISNA(V60),ISNA(W60),ISNA(X60),ISNA(Y60),ISNA(Z60),ISNA(AA60),ISNA(AB60),ISNA(AC60)),NA(),CONCATENATE(U60,V60,W60,X60,Y60,Z60,AA60,AB60))","v":"-10"},{"$f":"IF(ISNA(AD60),FALSE,IF(C60=$B$1,Worksheet!$B$3,IF(C60=$C$1,Worksheet!$B$4,IF(C60=$D$1,Worksheet!$B$5,IF(C60=$E$1,Worksheet!$B$6,IF(C60=$B$2,Worksheet!$B$7,IF(C60=$C$2,Worksheet!$D$3,IF(C60=$D$2,Worksheet!$D$4,IF(C60=$E$2,Worksheet!$D$5,IF(C60=$C$3,Worksheet!$D$6,IF(C60=$B$3,Worksheet!$D$7,IF(C60=$D$3,Worksheet!$B$10,IF(C60=$E$3,Worksheet!$D$10,FALSE)))))))))))))","v":true},{"$f":"IF(AE60,D60,\"\")","v":"Medium"},{"$f":"IF(AE60,COUNTIF($AF$5:AF60,AF60),\"X\")","v":22},{"$f":"CONCATENATE(AE60,AF60)","v":"TRUEMedium"}]
[{"$f":"CONCATENATE(AE61,D61,AG61)","v":"TRUEHard16"},{"$f":"RAND()","v":0.80637910007920321},"Mult","Hard",108,"Multiply by writing down a sum:   ",{"$f":"RANDBETWEEN(300,999)","v":479},"×",{"$f":"RANDBETWEEN(6,9)","v":6},null,null,null,null,null,null,null,null,null,null,{"$f":"CONCATENATE(F61,\" \",G61,\" \",H61,\" \",I61,\" \",J61,\" \",K61,\" \",L61,\" \",M61,\" \",N61,\" \",O61,\" \",P61,\" \",Q61,\" \",R61)","v":"Multiply by writing down a sum:    479 × 6         "},{"$f":"TEXT(G61*I61,\"#,###\")","v":"2,874"},null,null,null,null,null,null,null,null,{"$f":"IF(OR(ISNA(U61),ISNA(V61),ISNA(W61),ISNA(X61),ISNA(Y61),ISNA(Z61),ISNA(AA61),ISNA(AB61),ISNA(AC61)),NA(),CONCATENATE(U61,V61,W61,X61,Y61,Z61,AA61,AB61))","v":"2,874"},{"$f":"IF(ISNA(AD61),FALSE,IF(C61=$B$1,Worksheet!$B$3,IF(C61=$C$1,Worksheet!$B$4,IF(C61=$D$1,Worksheet!$B$5,IF(C61=$E$1,Worksheet!$B$6,IF(C61=$B$2,Worksheet!$B$7,IF(C61=$C$2,Worksheet!$D$3,IF(C61=$D$2,Worksheet!$D$4,IF(C61=$E$2,Worksheet!$D$5,IF(C61=$C$3,Worksheet!$D$6,IF(C61=$B$3,Worksheet!$D$7,IF(C61=$D$3,Worksheet!$B$10,IF(C61=$E$3,Worksheet!$D$10,FALSE)))))))))))))","v":true},{"$f":"IF(AE61,D61,\"\")","v":"Hard"},{"$f":"IF(AE61,COUNTIF($AF$5:AF61,AF61),\"X\")","v":16},{"$f":"CONCATENATE(AE61,AF61)","v":"TRUEHard"}]
[{"$f":"CONCATENATE(AE62,D62,AG62)","v":"TRUEMedium23"},{"$f":"RAND()","v":0.94216889375343771},"Frac","Medium",152,"Fractions.   What is ",{"$f":"CHOOSE(RANDBETWEEN(1,3),\"2/5\",\"3/5\",\"4/5\")","v":"3/5"}," of",{"$f":"5*RANDBETWEEN(2,10)","v":40},"?",null,null,null,null,null,null,null,null,null,{"$f":"CONCATENATE(F62,\" \",G62,\" \",H62,\" \",I62,\" \",J62,\" \",K62,\" \",L62,\" \",M62,\" \",N62,\" \",O62,\" \",P62,\" \",Q62,\" \",R62)","v":"Fractions.   What is  3/5  of 40 ?        "},{"$f":"I62/5*IF(G62=\"2/5\",2,IF(G62=\"3/5\",3,4))","v":24},null,null,null,{"$f":"IF(INT(U62)<>U62,NA(),\"\")","v":""},null,null,null,null,{"$f":"IF(OR(ISNA(U62),ISNA(V62),ISNA(W62),ISNA(X62),ISNA(Y62),ISNA(Z62),ISNA(AA62),ISNA(AB62),ISNA(AC62)),NA(),CONCATENATE(U62,V62,W62,X62,Y62,Z62,AA62,AB62))","v":"24"},{"$f":"IF(ISNA(AD62),FALSE,IF(C62=$B$1,Worksheet!$B$3,IF(C62=$C$1,Worksheet!$B$4,IF(C62=$D$1,Worksheet!$B$5,IF(C62=$E$1,Worksheet!$B$6,IF(C62=$B$2,Worksheet!$B$7,IF(C62=$C$2,Worksheet!$D$3,IF(C62=$D$2,Worksheet!$D$4,IF(C62=$E$2,Worksheet!$D$5,IF(C62=$C$3,Worksheet!$D$6,IF(C62=$B$3,Worksheet!$D$7,IF(C62=$D$3,Worksheet!$B$10,IF(C62=$E$3,Worksheet!$D$10,FALSE)))))))))))))","v":true},{"$f":"IF(AE62,D62,\"\")","v":"Medium"},{"$f":"IF(AE62,COUNTIF($AF$5:AF62,AF62),\"X\")","v":23},{"$f":"CONCATENATE(AE62,AF62)","v":"TRUEMedium"}]
[{"$f":"CONCATENATE(AE63,D63,AG63)","v":"TRUEHard17"},{"$f":"RAND()","v":0.21203112286822101},"Mult","Hard",86,"Circle the number that is a multiple of 9:   ",{"$f":"IF($S63=1,RANDBETWEEN(2,10)*9,RANDBETWEEN(1,9)*9+RANDBETWEEN(1,8))","v":72},{"$f":"IF($S63=2,RANDBETWEEN(2,10)*9,RANDBETWEEN(1,9)*9+RANDBETWEEN(1,8))","v":31},{"$f":"IF($S63=3,RANDBETWEEN(2,10)*9,RANDBETWEEN(1,9)*9+RANDBETWEEN(1,8))","v":43},{"$f":"IF($S63=4,RANDBETWEEN(2,10)*9,RANDBETWEEN(1,9)*9+RANDBETWEEN(1,8))","v":25},null,null,null,null,null,null,null,null,{"$f":"RANDBETWEEN(1,4)","v":1},{"$f":"CONCATENATE(F63,\"      \",G63,\"     \",H63,\"     \",I63,\"     \",J63,\" \",K63,\" \",L63,\" \",M63,\" \",N63,\" \",O63,\" \",P63,\" \",Q63,\" \",R63)","v":"Circle the number that is a multiple of 9:         72     31     43     25        "},{"$f":"IF(S63=1,G63,IF(S63=2,H63,IF(S63=3,I63,J63)))","v":72},{"$f":"IF(OR(G63=H63,G63=I63,G63=J63,H63=I63,H63=J63,I63=J63),NA(),\"\")","v":""},null,null,null,null,null,null,null,{"$f":"IF(OR(ISNA(U63),ISNA(V63),ISNA(W63),ISNA(X63),ISNA(Y63),ISNA(Z63),ISNA(AA63),ISNA(AB63),ISNA(AC63)),NA(),CONCATENATE(U63,V63,W63,X63,Y63,Z63,AA63,AB63))","v":"72"},{"$f":"IF(ISNA(AD63),FALSE,IF(C63=$B$1,Worksheet!$B$3,IF(C63=$C$1,Worksheet!$B$4,IF(C63=$D$1,Worksheet!$B$5,IF(C63=$E$1,Worksheet!$B$6,IF(C63=$B$2,Worksheet!$B$7,IF(C63=$C$2,Worksheet!$D$3,IF(C63=$D$2,Worksheet!$D$4,IF(C63=$E$2,Worksheet!$D$5,IF(C63=$C$3,Worksheet!$D$6,IF(C63=$B$3,Worksheet!$D$7,IF(C63=$D$3,Worksheet!$B$10,IF(C63=$E$3,Worksheet!$D$10,FALSE)))))))))))))","v":true},{"$f":"IF(AE63,D63,\"\")","v":"Hard"},{"$f":"IF(AE63,COUNTIF($AF$5:AF63,AF63),\"X\")","v":17},{"$f":"CONCATENATE(AE63,AF63)","v":"TRUEHard"}]
[{"$f":"CONCATENATE(AE64,D64,AG64)","v":"FALSEMediumX"},{"$f":"RAND()","v":5.2410888470250994E-2},"Alg","Medium",367,"Algebra.   If",{"$f":"CHOOSE(RANDBETWEEN(1,3),\"a\",\"x\",\"p\")","v":"x"},"=",{"$f":"RANDBETWEEN(2,10)","v":7}," and",{"$f":"IF(G64=\"x\",\"y\",IF(G64=\"a\",\"b\",\"q\"))","v":"y"},"=",{"$f":"RANDBETWEEN(2,5)","v":5},",    what is",{"$f":"RANDBETWEEN(2,5)","v":3},{"$f":"CONCATENATE(G64,\" + \")","v":"x + "},{"$f":"RANDBETWEEN(2,5)","v":4},{"$f":"CONCATENATE(K64,\" ?\")","v":"y ?"},null,{"$f":"CONCATENATE(F64,\" \",G64,\" \",H64,\" \",I64,\" \",J64,\" \",K64,\" \",L64,\" \",M64,\" \",N64,\" \",O64,\"\",P64,\" \",Q64,\"\",R64)","v":"Algebra.   If x = 7  and y = 5 ,    what is 3x +  4y ?"},{"$f":"O64*I64+Q64*M64","v":41},null,{"$f":"IF(U64<0,NA(),\"\")","v":""},null,null,null,null,null,null,{"$f":"IF(OR(ISNA(U64),ISNA(V64),ISNA(W64),ISNA(X64),ISNA(Y64),ISNA(Z64),ISNA(AA64),ISNA(AB64),ISNA(AC64)),NA(),CONCATENATE(U64,V64,W64,X64,Y64,Z64,AA64,AB64))","v":"41"},{"$f":"IF(ISNA(AD64),FALSE,IF(C64=$B$1,Worksheet!$B$3,IF(C64=$C$1,Worksheet!$B$4,IF(C64=$D$1,Worksheet!$B$5,IF(C64=$E$1,Worksheet!$B$6,IF(C64=$B$2,Worksheet!$B$7,IF(C64=$C$2,Worksheet!$D$3,IF(C64=$D$2,Worksheet!$D$4,IF(C64=$E$2,Worksheet!$D$5,IF(C64=$C$3,Worksheet!$D$6,IF(C64=$B$3,Worksheet!$D$7,IF(C64=$D$3,Worksheet!$B$10,IF(C64=$E$3,Worksheet!$D$10,FALSE)))))))))))))","v":false},{"$f":"IF(AE64,D64,\"\")","v":""},{"$f":"IF(AE64,COUNTIF($AF$5:AF64,AF64),\"X\")","v":"X"},{"$f":"CONCATENATE(AE64,AF64)","v":"FALSE"}]
[{"$f":"CONCATENATE(AE65,D65,AG65)","v":"TRUEHard18"},{"$f":"RAND()","v":0.81040374655243186},"Frac","Hard",160,"Fractions.   What is ","2/3"," of",{"$f":"3*RANDBETWEEN(2,10)*10","v":90},"?",null,null,null,null,null,null,null,null,null,{"$f":"CONCATENATE(F65,\" \",G65,\" \",H65,\" \",I65,\" \",J65,\" \",K65,\" \",L65,\" \",M65,\" \",N65,\" \",O65,\" \",P65,\" \",Q65,\" \",R65)","v":"Fractions.   What is  2/3  of 90 ?        "},{"$f":"I65/3*2","v":60},null,null,null,{"$f":"IF(INT(U65)<>U65,NA(),\"\")","v":""},null,null,null,null,{"$f":"IF(OR(ISNA(U65),ISNA(V65),ISNA(W65),ISNA(X65),ISNA(Y65),ISNA(Z65),ISNA(AA65),ISNA(AB65),ISNA(AC65)),NA(),CONCATENATE(U65,V65,W65,X65,Y65,Z65,AA65,AB65))","v":"60"},{"$f":"IF(ISNA(AD65),FALSE,IF(C65=$B$1,Worksheet!$B$3,IF(C65=$C$1,Worksheet!$B$4,IF(C65=$D$1,Worksheet!$B$5,IF(C65=$E$1,Worksheet!$B$6,IF(C65=$B$2,Worksheet!$B$7,IF(C65=$C$2,Worksheet!$D$3,IF(C65=$D$2,Worksheet!$D$4,IF(C65=$E$2,Worksheet!$D$5,IF(C65=$C$3,Worksheet!$D$6,IF(C65=$B$3,Worksheet!$D$7,IF(C65=$D$3,Worksheet!$B$10,IF(C65=$E$3,Worksheet!$D$10,FALSE)))))))))))))","v":true},{"$f":"IF(AE65,D65,\"\")","v":"Hard"},{"$f":"IF(AE65,COUNTIF($AF$5:AF65,AF65),\"X\")","v":18},{"$f":"CONCATENATE(AE65,AF65)","v":"TRUEHard"}]
[{"$f":"CONCATENATE(AE66,D66,AG66)","v":"TRUEMedium24"},{"$f":"RAND()","v":0.12601049390882091},"Choose","Medium",144,"Last year,",{"$f":"CHOOSE(RANDBETWEEN(1,5),\"Sarah\",\"Caitlin\",\"Emma\",\"Georgia\",\"Andrea\")","v":"Caitlin"},"sent",{"$f":"RANDBETWEEN(500,2000)","v":1338},"texts.  This year she sent",{"$f":"RANDBETWEEN(I66+100,2500)","v":1572},"texts.  How many did she send in total?   Write down a sum.",null,null,null,null,null,null,null,{"$f":"CONCATENATE(F66,\" \",G66,\" \",H66,\" \",I66,\" \",J66,\" \",K66,\" \",L66,\" \",M66,\" \",N66,\" \",O66,\" \",P66,\" \",Q66,\" \",R66)","v":"Last year, Caitlin sent 1338 texts.  This year she sent 1572 texts.  How many did she send in total?   Write down a sum.      "},{"$f":"I66+K66","v":2910},null,null,null,null,null,null,null,null,{"$f":"IF(OR(ISNA(U66),ISNA(V66),ISNA(W66),ISNA(X66),ISNA(Y66),ISNA(Z66),ISNA(AA66),ISNA(AB66),ISNA(AC66)),NA(),CONCATENATE(U66,V66,W66,X66,Y66,Z66,AA66,AB66))","v":"2910"},{"$f":"IF(ISNA(AD66),FALSE,IF(C66=$B$1,Worksheet!$B$3,IF(C66=$C$1,Worksheet!$B$4,IF(C66=$D$1,Worksheet!$B$5,IF(C66=$E$1,Worksheet!$B$6,IF(C66=$B$2,Worksheet!$B$7,IF(C66=$C$2,Worksheet!$D$3,IF(C66=$D$2,Worksheet!$D$4,IF(C66=$E$2,Worksheet!$D$5,IF(C66=$C$3,Worksheet!$D$6,IF(C66=$B$3,Worksheet!$D$7,IF(C66=$D$3,Worksheet!$B$10,IF(C66=$E$3,Worksheet!$D$10,FALSE)))))))))))))","v":true},{"$f":"IF(AE66,D66,\"\")","v":"Medium"},{"$f":"IF(AE66,COUNTIF($AF$5:AF66,AF66),\"X\")","v":24},{"$f":"CONCATENATE(AE66,AF66)","v":"TRUEMedium"}]
[{"$f":"CONCATENATE(AE67,D67,AG67)","v":"TRUEEasy17"},{"$f":"RAND()","v":0.45408816076224046},"Mult","Easy",55,"Write out all the numbers in the",{"$f":"RANDBETWEEN(6,9)","v":8},"times table:   ",{"$f":"CONCATENATE(G67,\",  \",G67*2,\",   \",G67*3)","v":"8,  16,   24"},", ___, ___, ___, ___, ___, ___, ___",null,null,null,null,null,null,null,null,null,{"$f":"CONCATENATE(F67,\" \",G67,\" \",H67,\" \",I67,\" \",J67,\" \",K67,\" \",L67,\" \",M67,\" \",N67,\" \",O67,\" \",P67,\" \",Q67,\" \",R67)","v":"Write out all the numbers in the 8 times table:    8,  16,   24 , ___, ___, ___, ___, ___, ___, ___        "},{"$f":"CONCATENATE(G67*4,\",  \",G67*5,\",  \",G67*6,\",  \",G67*7,\",  \",G67*8,\",  \",G67*9,\",  \",G67*10)","v":"32,  40,  48,  56,  64,  72,  80"},null,null,null,null,null,null,null,null,{"$f":"IF(OR(ISNA(U67),ISNA(V67),ISNA(W67),ISNA(X67),ISNA(Y67),ISNA(Z67),ISNA(AA67),ISNA(AB67),ISNA(AC67)),NA(),CONCATENATE(U67,V67,W67,X67,Y67,Z67,AA67,AB67))","v":"32,  40,  48,  56,  64,  72,  80"},{"$f":"IF(ISNA(AD67),FALSE,IF(C67=$B$1,Worksheet!$B$3,IF(C67=$C$1,Worksheet!$B$4,IF(C67=$D$1,Worksheet!$B$5,IF(C67=$E$1,Worksheet!$B$6,IF(C67=$B$2,Worksheet!$B$7,IF(C67=$C$2,Worksheet!$D$3,IF(C67=$D$2,Worksheet!$D$4,IF(C67=$E$2,Worksheet!$D$5,IF(C67=$C$3,Worksheet!$D$6,IF(C67=$B$3,Worksheet!$D$7,IF(C67=$D$3,Worksheet!$B$10,IF(C67=$E$3,Worksheet!$D$10,FALSE)))))))))))))","v":true},{"$f":"IF(AE67,D67,\"\")","v":"Easy"},{"$f":"IF(AE67,COUNTIF($AF$5:AF67,AF67),\"X\")","v":17},{"$f":"CONCATENATE(AE67,AF67)","v":"TRUEEasy"}]
[{"$f":"CONCATENATE(AE68,D68,AG68)","v":"TRUEMedium25"},{"$f":"RAND()","v":0.24227343278443281},"Dec","Medium",247,"Take away:   ",{"$f":"RANDBETWEEN(3,9)","v":8}," – ",{"$f":"RANDBETWEEN(1,ROUNDDOWN(G68,0)-1)+RANDBETWEEN(6,9)/10","v":4.9000000000000004},null,null,null,null,null,null,null,null,null,null,{"$f":"CONCATENATE(F68,\" \",G68,\" \",H68,\" \",I68,\" \",J68,\" \",K68,\" \",L68,\" \",M68,\" \",N68,\" \",O68,\" \",P68,\" \",Q68,\" \",R68)","v":"Take away:    8  –  4.9         "},{"$f":"G68-I68","v":3.0999999999999996},null,null,null,null,null,null,null,null,{"$f":"IF(OR(ISNA(U68),ISNA(V68),ISNA(W68),ISNA(X68),ISNA(Y68),ISNA(Z68),ISNA(AA68),ISNA(AB68),ISNA(AC68)),NA(),CONCATENATE(U68,V68,W68,X68,Y68,Z68,AA68,AB68))","v":"3.1"},{"$f":"IF(ISNA(AD68),FALSE,IF(C68=$B$1,Worksheet!$B$3,IF(C68=$C$1,Worksheet!$B$4,IF(C68=$D$1,Worksheet!$B$5,IF(C68=$E$1,Worksheet!$B$6,IF(C68=$B$2,Worksheet!$B$7,IF(C68=$C$2,Worksheet!$D$3,IF(C68=$D$2,Worksheet!$D$4,IF(C68=$E$2,Worksheet!$D$5,IF(C68=$C$3,Worksheet!$D$6,IF(C68=$B$3,Worksheet!$D$7,IF(C68=$D$3,Worksheet!$B$10,IF(C68=$E$3,Worksheet!$D$10,FALSE)))))))))))))","v":true},{"$f":"IF(AE68,D68,\"\")","v":"Medium"},{"$f":"IF(AE68,COUNTIF($AF$5:AF68,AF68),\"X\")","v":25},{"$f":"CONCATENATE(AE68,AF68)","v":"TRUEMedium"}]
[{"$f":"CONCATENATE(AE69,D69,AG69)","v":"TRUEMedium26"},{"$f":"RAND()","v":0.55634935544664521},"Frac","Medium",150,"Fractions.   What is ","2/3"," of",{"$f":"3*RANDBETWEEN(2,10)","v":24},"?",null,null,null,null,null,null,null,null,null,{"$f":"CONCATENATE(F69,\" \",G69,\" \",H69,\" \",I69,\" \",J69,\" \",K69,\" \",L69,\" \",M69,\" \",N69,\" \",O69,\" \",P69,\" \",Q69,\" \",R69)","v":"Fractions.   What is  2/3  of 24 ?        "},{"$f":"I69/3*2","v":16},null,null,null,{"$f":"IF(INT(U69)<>U69,NA(),\"\")","v":""},null,null,null,null,{"$f":"IF(OR(ISNA(U69),ISNA(V69),ISNA(W69),ISNA(X69),ISNA(Y69),ISNA(Z69),ISNA(AA69),ISNA(AB69),ISNA(AC69)),NA(),CONCATENATE(U69,V69,W69,X69,Y69,Z69,AA69,AB69))","v":"16"},{"$f":"IF(ISNA(AD69),FALSE,IF(C69=$B$1,Worksheet!$B$3,IF(C69=$C$1,Worksheet!$B$4,IF(C69=$D$1,Worksheet!$B$5,IF(C69=$E$1,Worksheet!$B$6,IF(C69=$B$2,Worksheet!$B$7,IF(C69=$C$2,Worksheet!$D$3,IF(C69=$D$2,Worksheet!$D$4,IF(C69=$E$2,Worksheet!$D$5,IF(C69=$C$3,Worksheet!$D$6,IF(C69=$B$3,Worksheet!$D$7,IF(C69=$D$3,Worksheet!$B$10,IF(C69=$E$3,Worksheet!$D$10,FALSE)))))))))))))","v":true},{"$f":"IF(AE69,D69,\"\")","v":"Medium"},{"$f":"IF(AE69,COUNTIF($AF$5:AF69,AF69),\"X\")","v":26},{"$f":"CONCATENATE(AE69,AF69)","v":"TRUEMedium"}]
[{"$f":"CONCATENATE(AE70,D70,AG70)","v":"TRUEHard19"},{"$f":"RAND()","v":2.9033593571172744E-2},"Divide","Hard",125,"Divide by writing down a sum:  ",{"$f":"I70*RANDBETWEEN(1001/I70,9999/I70)","v":7413},"÷",{"$f":"RANDBETWEEN(6,9)","v":7},null,null,null,null,null,null,null,null,null,{"$f":"RANDBETWEEN(4,9)","v":4},{"$f":"CONCATENATE(F70,\" \",G70,\" \",H70,\" \",I70,\" \",J70,\" \",K70,\" \",L70,\" \",M70,\" \",N70,\" \",O70,\" \",P70,\" \",Q70,\" \",R70)","v":"Divide by writing down a sum:   7413 ÷ 7         "},{"$f":"G70/I70","v":1059},null,{"$f":"IF(INT(U70)<>U70,NA(),\"\")","v":""},null,null,null,null,null,null,{"$f":"IF(OR(ISNA(U70),ISNA(V70),ISNA(W70),ISNA(X70),ISNA(Y70),ISNA(Z70),ISNA(AA70),ISNA(AB70),ISNA(AC70)),NA(),CONCATENATE(U70,V70,W70,X70,Y70,Z70,AA70,AB70))","v":"1059"},{"$f":"IF(ISNA(AD70),FALSE,IF(C70=$B$1,Worksheet!$B$3,IF(C70=$C$1,Worksheet!$B$4,IF(C70=$D$1,Worksheet!$B$5,IF(C70=$E$1,Worksheet!$B$6,IF(C70=$B$2,Worksheet!$B$7,IF(C70=$C$2,Worksheet!$D$3,IF(C70=$D$2,Worksheet!$D$4,IF(C70=$E$2,Worksheet!$D$5,IF(C70=$C$3,Worksheet!$D$6,IF(C70=$B$3,Worksheet!$D$7,IF(C70=$D$3,Worksheet!$B$10,IF(C70=$E$3,Worksheet!$D$10,FALSE)))))))))))))","v":true},{"$f":"IF(AE70,D70,\"\")","v":"Hard"},{"$f":"IF(AE70,COUNTIF($AF$5:AF70,AF70),\"X\")","v":19},{"$f":"CONCATENATE(AE70,AF70)","v":"TRUEHard"}]
[{"$f":"CONCATENATE(AE71,D71,AG71)","v":"TRUEHard20"},{"$f":"RAND()","v":9.8185845259460169E-2},"Divide","Hard",117,"What is half of",{"$f":"RANDBETWEEN(1,4)*2000+RANDBETWEEN(5,9)*200","v":3200},"?",null,null,null,null,null,null,null,null,null,null,null,{"$f":"CONCATENATE(F71,\" \",G71,\" \",H71,\" \",I71,\" \",J71,\" \",K71,\" \",L71,\" \",M71,\" \",N71,\" \",O71,\" \",P71,\" \",Q71,\" \",R71)","v":"What is half of 3200 ?          "},{"$f":"G71/2","v":1600},null,null,null,null,null,null,null,null,{"$f":"IF(OR(ISNA(U71),ISNA(V71),ISNA(W71),ISNA(X71),ISNA(Y71),ISNA(Z71),ISNA(AA71),ISNA(AB71),ISNA(AC71)),NA(),CONCATENATE(U71,V71,W71,X71,Y71,Z71,AA71,AB71))","v":"1600"},{"$f":"IF(ISNA(AD71),FALSE,IF(C71=$B$1,Worksheet!$B$3,IF(C71=$C$1,Worksheet!$B$4,IF(C71=$D$1,Worksheet!$B$5,IF(C71=$E$1,Worksheet!$B$6,IF(C71=$B$2,Worksheet!$B$7,IF(C71=$C$2,Worksheet!$D$3,IF(C71=$D$2,Worksheet!$D$4,IF(C71=$E$2,Worksheet!$D$5,IF(C71=$C$3,Worksheet!$D$6,IF(C71=$B$3,Worksheet!$D$7,IF(C71=$D$3,Worksheet!$B$10,IF(C71=$E$3,Worksheet!$D$10,FALSE)))))))))))))","v":true},{"$f":"IF(AE71,D71,\"\")","v":"Hard"},{"$f":"IF(AE71,COUNTIF($AF$5:AF71,AF71),\"X\")","v":20},{"$f":"CONCATENATE(AE71,AF71)","v":"TRUEHard"}]
[{"$f":"CONCATENATE(AE72,D72,AG72)","v":"TRUEEasy18"},{"$f":"RAND()","v":0.52464184022275107},"Dec","Easy",234,"Add:   ",{"$f":"RANDBETWEEN(11,90)","v":15}," + ",0.1,null,null,null,null,null,null,null,null,null,null,{"$f":"CONCATENATE(F72,\" \",G72,\" \",H72,\" \",I72,\" \",J72,\" \",K72,\" \",L72,\" \",M72,\" \",N72,\" \",O72,\" \",P72,\" \",Q72,\" \",R72)","v":"Add:    15  +  0.1         "},{"$f":"G72+0.1","v":15.1},null,null,null,null,null,null,null,null,{"$f":"IF(OR(ISNA(U72),ISNA(V72),ISNA(W72),ISNA(X72),ISNA(Y72),ISNA(Z72),ISNA(AA72),ISNA(AB72),ISNA(AC72)),NA(),CONCATENATE(U72,V72,W72,X72,Y72,Z72,AA72,AB72))","v":"15.1"},{"$f":"IF(ISNA(AD72),FALSE,IF(C72=$B$1,Worksheet!$B$3,IF(C72=$C$1,Worksheet!$B$4,IF(C72=$D$1,Worksheet!$B$5,IF(C72=$E$1,Worksheet!$B$6,IF(C72=$B$2,Worksheet!$B$7,IF(C72=$C$2,Worksheet!$D$3,IF(C72=$D$2,Worksheet!$D$4,IF(C72=$E$2,Worksheet!$D$5,IF(C72=$C$3,Worksheet!$D$6,IF(C72=$B$3,Worksheet!$D$7,IF(C72=$D$3,Worksheet!$B$10,IF(C72=$E$3,Worksheet!$D$10,FALSE)))))))))))))","v":true},{"$f":"IF(AE72,D72,\"\")","v":"Easy"},{"$f":"IF(AE72,COUNTIF($AF$5:AF72,AF72),\"X\")","v":18},{"$f":"CONCATENATE(AE72,AF72)","v":"TRUEEasy"}]
[{"$f":"CONCATENATE(AE73,D73,AG73)","v":"TRUEMedium27"},{"$f":"RAND()","v":0.76845236897199032},"Dec","Medium",224,"Write the decimal number",{"$f":"(RANDBETWEEN(1,9))/100","v":0.06},"as a fraction",null,null,null,null,null,null,null,null,null,null,null,{"$f":"CONCATENATE(F73,\" \",G73,\" \",H73,\" \",I73,\" \",J73,\" \",K73,\" \",L73,\" \",M73,\" \",N73,\" \",O73,\" \",P73,\" \",Q73,\" \",R73)","v":"Write the decimal number 0.06 as a fraction          "},{"$f":"G73*100","v":6},"/100",null,null,null,null,null,null,null,{"$f":"IF(OR(ISNA(U73),ISNA(V73),ISNA(W73),ISNA(X73),ISNA(Y73),ISNA(Z73),ISNA(AA73),ISNA(AB73),ISNA(AC73)),NA(),CONCATENATE(U73,V73,W73,X73,Y73,Z73,AA73,AB73))","v":"6/100"},{"$f":"IF(ISNA(AD73),FALSE,IF(C73=$B$1,Worksheet!$B$3,IF(C73=$C$1,Worksheet!$B$4,IF(C73=$D$1,Worksheet!$B$5,IF(C73=$E$1,Worksheet!$B$6,IF(C73=$B$2,Worksheet!$B$7,IF(C73=$C$2,Worksheet!$D$3,IF(C73=$D$2,Worksheet!$D$4,IF(C73=$E$2,Worksheet!$D$5,IF(C73=$C$3,Worksheet!$D$6,IF(C73=$B$3,Worksheet!$D$7,IF(C73=$D$3,Worksheet!$B$10,IF(C73=$E$3,Worksheet!$D$10,FALSE)))))))))))))","v":true},{"$f":"IF(AE73,D73,\"\")","v":"Medium"},{"$f":"IF(AE73,COUNTIF($AF$5:AF73,AF73),\"X\")","v":27},{"$f":"CONCATENATE(AE73,AF73)","v":"TRUEMedium"}]
[{"$f":"CONCATENATE(AE74,D74,AG74)","v":"TRUEHard21"},{"$f":"RAND()","v":0.19198650149599983},"Dec","Hard",265,"Write the number ",{"$f":"RANDBETWEEN(1,10)","v":8},{"$f":"CHOOSE(RANDBETWEEN(1,2),\"¼\",\"¾\")","v":"¼"},"as a number with a decimal point",null,null,null,null,null,null,null,null,null,null,{"$f":"CONCATENATE(F74,\" \",G74,\"\",H74,\" \",I74,\" \",J74,\" \",K74,\" \",L74,\" \",M74,\" \",N74,\" \",O74,\" \",P74,\" \",Q74,\" \",R74)","v":"Write the number  8¼ as a number with a decimal point         "},{"$f":"G74+IF(H74=\"¼\",0.25,0.75)","v":8.25},null,{"$f":"IF(AND(G74=G73,H74=H73),NA(),\"\")","v":""},null,null,null,null,null,null,{"$f":"IF(OR(ISNA(U74),ISNA(V74),ISNA(W74),ISNA(X74),ISNA(Y74),ISNA(Z74),ISNA(AA74),ISNA(AB74),ISNA(AC74)),NA(),CONCATENATE(U74,V74,W74,X74,Y74,Z74,AA74,AB74))","v":"8.25"},{"$f":"IF(ISNA(AD74),FALSE,IF(C74=$B$1,Worksheet!$B$3,IF(C74=$C$1,Worksheet!$B$4,IF(C74=$D$1,Worksheet!$B$5,IF(C74=$E$1,Worksheet!$B$6,IF(C74=$B$2,Worksheet!$B$7,IF(C74=$C$2,Worksheet!$D$3,IF(C74=$D$2,Worksheet!$D$4,IF(C74=$E$2,Worksheet!$D$5,IF(C74=$C$3,Worksheet!$D$6,IF(C74=$B$3,Worksheet!$D$7,IF(C74=$D$3,Worksheet!$B$10,IF(C74=$E$3,Worksheet!$D$10,FALSE)))))))))))))","v":true},{"$f":"IF(AE74,D74,\"\")","v":"Hard"},{"$f":"IF(AE74,COUNTIF($AF$5:AF74,AF74),\"X\")","v":21},{"$f":"CONCATENATE(AE74,AF74)","v":"TRUEHard"}]
[{"$f":"CONCATENATE(AE75,D75,AG75)","v":"TRUEMedium28"},{"$f":"RAND()","v":0.55651018524201146},"Dec","Medium",249,"What number is half way between",{"$f":"RANDBETWEEN(1,9)+RANDBETWEEN(0,9)/10","v":2.1},"and",{"$f":"G75+0.1","v":2.2000000000000002},"?",null,null,null,null,null,null,null,null,null,{"$f":"CONCATENATE(F75,\" \",G75,\" \",H75,\" \",I75,\" \",J75,\" \",K75,\" \",L75,\" \",M75,\" \",N75,\" \",O75,\" \",P75,\" \",Q75,\" \",R75)","v":"What number is half way between 2.1 and 2.2 ?        "},{"$f":"G75+0.05","v":2.15},null,null,null,null,null,null,null,null,{"$f":"IF(OR(ISNA(U75),ISNA(V75),ISNA(W75),ISNA(X75),ISNA(Y75),ISNA(Z75),ISNA(AA75),ISNA(AB75),ISNA(AC75)),NA(),CONCATENATE(U75,V75,W75,X75,Y75,Z75,AA75,AB75))","v":"2.15"},{"$f":"IF(ISNA(AD75),FALSE,IF(C75=$B$1,Worksheet!$B$3,IF(C75=$C$1,Worksheet!$B$4,IF(C75=$D$1,Worksheet!$B$5,IF(C75=$E$1,Worksheet!$B$6,IF(C75=$B$2,Worksheet!$B$7,IF(C75=$C$2,Worksheet!$D$3,IF(C75=$D$2,Worksheet!$D$4,IF(C75=$E$2,Worksheet!$D$5,IF(C75=$C$3,Worksheet!$D$6,IF(C75=$B$3,Worksheet!$D$7,IF(C75=$D$3,Worksheet!$B$10,IF(C75=$E$3,Worksheet!$D$10,FALSE)))))))))))))","v":true},{"$f":"IF(AE75,D75,\"\")","v":"Medium"},{"$f":"IF(AE75,COUNTIF($AF$5:AF75,AF75),\"X\")","v":28},{"$f":"CONCATENATE(AE75,AF75)","v":"TRUEMedium"}]
[{"$f":"CONCATENATE(AE76,D76,AG76)","v":"TRUEHard22"},{"$f":"RAND()","v":0.7809226984144525},"Frac","Hard",169,"Fractions.   Write down a sum to work out ",{"$f":"CHOOSE(RANDBETWEEN(1,3),\"2/5\",\"3/5\",\"4/5\")","v":"4/5"}," of",{"$f":"5*RANDBETWEEN(20,50)","v":245},"?",null,null,null,null,null,null,null,null,null,{"$f":"CONCATENATE(F76,\" \",G76,\" \",H76,\" \",I76,\" \",J76,\" \",K76,\" \",L76,\" \",M76,\" \",N76,\" \",O76,\" \",P76,\" \",Q76,\" \",R76)","v":"Fractions.   Write down a sum to work out  4/5  of 245 ?        "},{"$f":"I76/5*IF(G76=\"2/5\",2,IF(G76=\"3/5\",3,4))","v":196},null,null,null,{"$f":"IF(INT(U76)<>U76,NA(),\"\")","v":""},null,null,null,null,{"$f":"IF(OR(ISNA(U76),ISNA(V76),ISNA(W76),ISNA(X76),ISNA(Y76),ISNA(Z76),ISNA(AA76),ISNA(AB76),ISNA(AC76)),NA(),CONCATENATE(U76,V76,W76,X76,Y76,Z76,AA76,AB76))","v":"196"},{"$f":"IF(ISNA(AD76),FALSE,IF(C76=$B$1,Worksheet!$B$3,IF(C76=$C$1,Worksheet!$B$4,IF(C76=$D$1,Worksheet!$B$5,IF(C76=$E$1,Worksheet!$B$6,IF(C76=$B$2,Worksheet!$B$7,IF(C76=$C$2,Worksheet!$D$3,IF(C76=$D$2,Worksheet!$D$4,IF(C76=$E$2,Worksheet!$D$5,IF(C76=$C$3,Worksheet!$D$6,IF(C76=$B$3,Worksheet!$D$7,IF(C76=$D$3,Worksheet!$B$10,IF(C76=$E$3,Worksheet!$D$10,FALSE)))))))))))))","v":true},{"$f":"IF(AE76,D76,\"\")","v":"Hard"},{"$f":"IF(AE76,COUNTIF($AF$5:AF76,AF76),\"X\")","v":22},{"$f":"CONCATENATE(AE76,AF76)","v":"TRUEHard"}]
[{"$f":"CONCATENATE(AE77,D77,AG77)","v":"FALSEMediumX"},{"$f":"RAND()","v":0.97580389760865993},"Alg","Medium",376,"Fill in the box with one of the symbols  <   >   or   =    :",null,{"$f":"RANDBETWEEN(1,100)","v":20},"_____",{"$f":"H77+RANDBETWEEN(-2,2)","v":19},null,null,null,null,null,null,null,null,null,{"$f":"CONCATENATE(F77,\" \",G77,\" \",H77,\"   \",I77,\"   \",J77,\" \",K77,\" \",L77,\" \",M77,\" \",N77,\" \",O77,\" \",P77,\" \",Q77,\" \",R77)","v":"Fill in the box with one of the symbols  <   >   or   =    :  20   _____   19        "},{"$f":"IF(J77>H77,\"<\",IF(H77>J77,\">\",\"=\"))","v":">"},null,null,null,null,null,null,null,null,{"$f":"IF(OR(ISNA(U77),ISNA(V77),ISNA(W77),ISNA(X77),ISNA(Y77),ISNA(Z77),ISNA(AA77),ISNA(AB77),ISNA(AC77)),NA(),CONCATENATE(U77,V77,W77,X77,Y77,Z77,AA77,AB77))","v":">"},{"$f":"IF(ISNA(AD77),FALSE,IF(C77=$B$1,Worksheet!$B$3,IF(C77=$C$1,Worksheet!$B$4,IF(C77=$D$1,Worksheet!$B$5,IF(C77=$E$1,Worksheet!$B$6,IF(C77=$B$2,Worksheet!$B$7,IF(C77=$C$2,Worksheet!$D$3,IF(C77=$D$2,Worksheet!$D$4,IF(C77=$E$2,Worksheet!$D$5,IF(C77=$C$3,Worksheet!$D$6,IF(C77=$B$3,Worksheet!$D$7,IF(C77=$D$3,Worksheet!$B$10,IF(C77=$E$3,Worksheet!$D$10,FALSE)))))))))))))","v":false},{"$f":"IF(AE77,D77,\"\")","v":""},{"$f":"IF(AE77,COUNTIF($AF$5:AF77,AF77),\"X\")","v":"X"},{"$f":"CONCATENATE(AE77,AF77)","v":"FALSE"}]
[{"$f":"CONCATENATE(AE78,D78,AG78)","v":"TRUEHard23"},{"$f":"RAND()","v":0.53236078142683851},"+-","Hard",49,"Add by writing down a sum:   ",{"$f":"RANDBETWEEN(1,9)*10000+RANDBETWEEN(1,9999)","v":95890},"+",{"$f":"RANDBETWEEN(1,9)*10000+RANDBETWEEN(1,9999)","v":35122},null,null,null,null,null,null,null,null,null,null,{"$f":"CONCATENATE(F78,\" \",G78,\" \",H78,\" \",I78,\" \",J78,\" \",K78,\" \",L78,\" \",M78,\" \",N78,\" \",O78,\" \",P78,\" \",Q78,\" \",R78)","v":"Add by writing down a sum:    95890 + 35122         "},{"$f":"G78+I78","v":131012},null,null,null,null,null,null,null,null,{"$f":"IF(OR(ISNA(U78),ISNA(V78),ISNA(W78),ISNA(X78),ISNA(Y78),ISNA(Z78),ISNA(AA78),ISNA(AB78),ISNA(AC78)),NA(),CONCATENATE(U78,V78,W78,X78,Y78,Z78,AA78,AB78))","v":"131012"},{"$f":"IF(ISNA(AD78),FALSE,IF(C78=$B$1,Worksheet!$B$3,IF(C78=$C$1,Worksheet!$B$4,IF(C78=$D$1,Worksheet!$B$5,IF(C78=$E$1,Worksheet!$B$6,IF(C78=$B$2,Worksheet!$B$7,IF(C78=$C$2,Worksheet!$D$3,IF(C78=$D$2,Worksheet!$D$4,IF(C78=$E$2,Worksheet!$D$5,IF(C78=$C$3,Worksheet!$D$6,IF(C78=$B$3,Worksheet!$D$7,IF(C78=$D$3,Worksheet!$B$10,IF(C78=$E$3,Worksheet!$D$10,FALSE)))))))))))))","v":true},{"$f":"IF(AE78,D78,\"\")","v":"Hard"},{"$f":"IF(AE78,COUNTIF($AF$5:AF78,AF78),\"X\")","v":23},{"$f":"CONCATENATE(AE78,AF78)","v":"TRUEHard"}]
[{"$f":"CONCATENATE(AE79,D79,AG79)","v":"TRUEMedium29"},{"$f":"RAND()","v":0.81224902704454804},"+-","Medium",41,"Take away:    ",{"$f":"RANDBETWEEN(3,9)*100","v":500},"–",{"$f":"RANDBETWEEN(6,9)*10+RANDBETWEEN(1,(INT(G79/100)-1))*100","v":470},null,null,null,null,null,null,null,null,null,null,{"$f":"CONCATENATE(F79,\" \",G79,\" \",H79,\" \",I79,\" \",J79,\" \",K79,\" \",L79,\" \",M79,\" \",N79,\" \",O79,\" \",P79,\" \",Q79,\" \",R79)","v":"Take away:     500 – 470         "},{"$f":"G79-I79","v":30},null,null,null,null,null,null,null,null,{"$f":"IF(OR(ISNA(U79),ISNA(V79),ISNA(W79),ISNA(X79),ISNA(Y79),ISNA(Z79),ISNA(AA79),ISNA(AB79),ISNA(AC79)),NA(),CONCATENATE(U79,V79,W79,X79,Y79,Z79,AA79,AB79))","v":"30"},{"$f":"IF(ISNA(AD79),FALSE,IF(C79=$B$1,Worksheet!$B$3,IF(C79=$C$1,Worksheet!$B$4,IF(C79=$D$1,Worksheet!$B$5,IF(C79=$E$1,Worksheet!$B$6,IF(C79=$B$2,Worksheet!$B$7,IF(C79=$C$2,Worksheet!$D$3,IF(C79=$D$2,Worksheet!$D$4,IF(C79=$E$2,Worksheet!$D$5,IF(C79=$C$3,Worksheet!$D$6,IF(C79=$B$3,Worksheet!$D$7,IF(C79=$D$3,Worksheet!$B$10,IF(C79=$E$3,Worksheet!$D$10,FALSE)))))))))))))","v":true},{"$f":"IF(AE79,D79,\"\")","v":"Medium"},{"$f":"IF(AE79,COUNTIF($AF$5:AF79,AF79),\"X\")","v":29},{"$f":"CONCATENATE(AE79,AF79)","v":"TRUEMedium"}]
[{"$f":"CONCATENATE(AE80,D80,AG80)","v":"TRUEEasy19"},{"$f":"RAND()","v":0.14551311464842154},"Mult","Easy",91,"Multiply:   ",{"$f":"RANDBETWEEN(1,9)*10+RANDBETWEEN(1,9)","v":58},"×",10,null,null,null,null,null,null,null,null,null,null,{"$f":"CONCATENATE(F80,\" \",G80,\" \",H80,\" \",I80,\" \",J80,\" \",K80,\" \",L80,\" \",M80,\" \",N80,\" \",O80,\" \",P80,\" \",Q80,\" \",R80)","v":"Multiply:    58 × 10         "},{"$f":"G80*10","v":580},null,null,null,null,null,null,null,null,{"$f":"IF(OR(ISNA(U80),ISNA(V80),ISNA(W80),ISNA(X80),ISNA(Y80),ISNA(Z80),ISNA(AA80),ISNA(AB80),ISNA(AC80)),NA(),CONCATENATE(U80,V80,W80,X80,Y80,Z80,AA80,AB80))","v":"580"},{"$f":"IF(ISNA(AD80),FALSE,IF(C80=$B$1,Worksheet!$B$3,IF(C80=$C$1,Worksheet!$B$4,IF(C80=$D$1,Worksheet!$B$5,IF(C80=$E$1,Worksheet!$B$6,IF(C80=$B$2,Worksheet!$B$7,IF(C80=$C$2,Worksheet!$D$3,IF(C80=$D$2,Worksheet!$D$4,IF(C80=$E$2,Worksheet!$D$5,IF(C80=$C$3,Worksheet!$D$6,IF(C80=$B$3,Worksheet!$D$7,IF(C80=$D$3,Worksheet!$B$10,IF(C80=$E$3,Worksheet!$D$10,FALSE)))))))))))))","v":true},{"$f":"IF(AE80,D80,\"\")","v":"Easy"},{"$f":"IF(AE80,COUNTIF($AF$5:AF80,AF80),\"X\")","v":19},{"$f":"CONCATENATE(AE80,AF80)","v":"TRUEEasy"}]
[{"$f":"CONCATENATE(AE81,D81,AG81)","v":"TRUEMedium30"},{"$f":"RAND()","v":0.58885793285339538},"Mult","Medium",88,"Write down all three factors of",{"$f":"CHOOSE(RANDBETWEEN(1,3),25,49,9)","v":49},null,null,null,null,null,null,null,null,null,null,null,null,{"$f":"CONCATENATE(F81,\" \",G81,\" \",H81,\" \",I81,\" \",J81,\" \",K81,\" \",L81,\" \",M81,\" \",N81,\" \",O81,\" \",P81,\" \",Q81,\" \",R81)","v":"Write down all three factors of 49           "},{"$f":"IF(G81=9,\"1, 3 and 9\",IF(G81=25,\"1, 5 and 25\",\"1, 7 and 49\"))","v":"1, 7 and 49"},null,null,null,null,null,null,null,null,{"$f":"IF(OR(ISNA(U81),ISNA(V81),ISNA(W81),ISNA(X81),ISNA(Y81),ISNA(Z81),ISNA(AA81),ISNA(AB81),ISNA(AC81)),NA(),CONCATENATE(U81,V81,W81,X81,Y81,Z81,AA81,AB81))","v":"1, 7 and 49"},{"$f":"IF(ISNA(AD81),FALSE,IF(C81=$B$1,Worksheet!$B$3,IF(C81=$C$1,Worksheet!$B$4,IF(C81=$D$1,Worksheet!$B$5,IF(C81=$E$1,Worksheet!$B$6,IF(C81=$B$2,Worksheet!$B$7,IF(C81=$C$2,Worksheet!$D$3,IF(C81=$D$2,Worksheet!$D$4,IF(C81=$E$2,Worksheet!$D$5,IF(C81=$C$3,Worksheet!$D$6,IF(C81=$B$3,Worksheet!$D$7,IF(C81=$D$3,Worksheet!$B$10,IF(C81=$E$3,Worksheet!$D$10,FALSE)))))))))))))","v":true},{"$f":"IF(AE81,D81,\"\")","v":"Medium"},{"$f":"IF(AE81,COUNTIF($AF$5:AF81,AF81),\"X\")","v":30},{"$f":"CONCATENATE(AE81,AF81)","v":"TRUEMedium"}]
[{"$f":"CONCATENATE(AE82,D82,AG82)","v":"TRUEHard24"},{"$f":"RAND()","v":0.16872713817697294},"%","Hard",302,"What is",{"$f":"RANDBETWEEN(1,9)/10","v":0.1},"as a percentage?",null,null,null,null,null,null,null,null,null,null,null,{"$f":"CONCATENATE(F82,\" \",G82,\" \",H82,\" \",I82,\" \",J82,\" \",K82,\" \",L82,\" \",M82,\" \",N82,\" \",O82,\" \",P82,\" \",Q82,\" \",R82)","v":"What is 0.1 as a percentage?          "},{"$f":"G82*100","v":10},"%",null,null,null,null,null,null,null,{"$f":"IF(OR(ISNA(U82),ISNA(V82),ISNA(W82),ISNA(X82),ISNA(Y82),ISNA(Z82),ISNA(AA82),ISNA(AB82),ISNA(AC82)),NA(),CONCATENATE(U82,V82,W82,X82,Y82,Z82,AA82,AB82))","v":"10%"},{"$f":"IF(ISNA(AD82),FALSE,IF(C82=$B$1,Worksheet!$B$3,IF(C82=$C$1,Worksheet!$B$4,IF(C82=$D$1,Worksheet!$B$5,IF(C82=$E$1,Worksheet!$B$6,IF(C82=$B$2,Worksheet!$B$7,IF(C82=$C$2,Worksheet!$D$3,IF(C82=$D$2,Worksheet!$D$4,IF(C82=$E$2,Worksheet!$D$5,IF(C82=$C$3,Worksheet!$D$6,IF(C82=$B$3,Worksheet!$D$7,IF(C82=$D$3,Worksheet!$B$10,IF(C82=$E$3,Worksheet!$D$10,FALSE)))))))))))))","v":true},{"$f":"IF(AE82,D82,\"\")","v":"Hard"},{"$f":"IF(AE82,COUNTIF($AF$5:AF82,AF82),\"X\")","v":24},{"$f":"CONCATENATE(AE82,AF82)","v":"TRUEHard"}]
[{"$f":"CONCATENATE(AE83,D83,AG83)","v":"TRUEEasy20"},{"$f":"RAND()","v":0.18912338780859106},"+-","Easy",26,"What do you add on to",{"$f":"RANDBETWEEN(1,9)+RANDBETWEEN(1,9)*10","v":11},"to make 100?",null,null,null,null,null,null,null,null,null,null,null,{"$f":"CONCATENATE(F83,\" \",G83,\" \",H83,\" \",I83,\" \",J83,\" \",K83,\" \",L83,\" \",M83,\" \",N83,\" \",O83,\" \",P83,\" \",Q83,\" \",R83)","v":"What do you add on to 11 to make 100?          "},{"$f":"100-G83","v":89},null,null,null,null,null,null,null,null,{"$f":"IF(OR(ISNA(U83),ISNA(V83),ISNA(W83),ISNA(X83),ISNA(Y83),ISNA(Z83),ISNA(AA83),ISNA(AB83),ISNA(AC83)),NA(),CONCATENATE(U83,V83,W83,X83,Y83,Z83,AA83,AB83))","v":"89"},{"$f":"IF(ISNA(AD83),FALSE,IF(C83=$B$1,Worksheet!$B$3,IF(C83=$C$1,Worksheet!$B$4,IF(C83=$D$1,Worksheet!$B$5,IF(C83=$E$1,Worksheet!$B$6,IF(C83=$B$2,Worksheet!$B$7,IF(C83=$C$2,Worksheet!$D$3,IF(C83=$D$2,Worksheet!$D$4,IF(C83=$E$2,Worksheet!$D$5,IF(C83=$C$3,Worksheet!$D$6,IF(C83=$B$3,Worksheet!$D$7,IF(C83=$D$3,Worksheet!$B$10,IF(C83=$E$3,Worksheet!$D$10,FALSE)))))))))))))","v":true},{"$f":"IF(AE83,D83,\"\")","v":"Easy"},{"$f":"IF(AE83,COUNTIF($AF$5:AF83,AF83),\"X\")","v":20},{"$f":"CONCATENATE(AE83,AF83)","v":"TRUEEasy"}]
[{"$f":"CONCATENATE(AE84,D84,AG84)","v":"TRUEHard25"},{"$f":"RAND()","v":0.12295705386401112},"Dec","Hard",227,"In the number",{"$f":"RANDBETWEEN(1,9)","v":5},{"$f":"SMALL(IF(G84={1,2,3,4,5,6,7,8,9},\"\",{1,2,3,4,5,6,7,8,9}),RANDBETWEEN(1,8))","v":6},{"$f":"SMALL(IF(G84={1,2,3,4,5,6,7,8,9},\"\",IF(H84={1,2,3,4,5,6,7,8,9},\"\",{1,2,3,4,5,6,7,8,9})),RANDBETWEEN(1,7))","v":4},{"$f":"SMALL(IF(G84={1,2,3,4,5,6,7,8,9},\"\",IF(H84={1,2,3,4,5,6,7,8,9},\"\",IF(I84={1,2,3,4,5,6,7,8,9},\"\",{1,2,3,4,5,6,7,8,9}))),RANDBETWEEN(1,6))","v":9},{"$f":"SMALL(IF(G84={1,2,3,4,5,6,7,8,9},\"\",IF(H84={1,2,3,4,5,6,7,8,9},\"\",IF(I84={1,2,3,4,5,6,7,8,9},\"\",IF(J84={1,2,3,4,5,6,7,8,9},\"\",{1,2,3,4,5,6,7,8,9})))),RANDBETWEEN(1,5))","v":8},null,", what does the",{"$f":"CHOOSE(S84,J84,I84,H84)","v":6},"stand for?",null,null,null,{"$f":"RANDBETWEEN(1,3)","v":3},{"$f":"CONCATENATE(F84,\" \",G84,\"\",H84,\"•\",I84,\"\",J84,\"\",K84,\"\",L84,\" \",M84,\" \",N84,\" \",O84,\" \",P84,\" \",Q84,\" \",R84)","v":"In the number 56•498 , what does the 6 stand for?   "},{"$f":"IF(S84=1,J84/100,IF(S84=2,J84/10,J2148))","v":0},null,null,null,null,null,null,null,null,{"$f":"IF(OR(ISNA(U84),ISNA(V84),ISNA(W84),ISNA(X84),ISNA(Y84),ISNA(Z84),ISNA(AA84),ISNA(AB84),ISNA(AC84)),NA(),CONCATENATE(U84,V84,W84,X84,Y84,Z84,AA84,AB84))","v":"0"},{"$f":"IF(ISNA(AD84),FALSE,IF(C84=$B$1,Worksheet!$B$3,IF(C84=$C$1,Worksheet!$B$4,IF(C84=$D$1,Worksheet!$B$5,IF(C84=$E$1,Worksheet!$B$6,IF(C84=$B$2,Worksheet!$B$7,IF(C84=$C$2,Worksheet!$D$3,IF(C84=$D$2,Worksheet!$D$4,IF(C84=$E$2,Worksheet!$D$5,IF(C84=$C$3,Worksheet!$D$6,IF(C84=$B$3,Worksheet!$D$7,IF(C84=$D$3,Worksheet!$B$10,IF(C84=$E$3,Worksheet!$D$10,FALSE)))))))))))))","v":true},{"$f":"IF(AE84,D84,\"\")","v":"Hard"},{"$f":"IF(AE84,COUNTIF($AF$5:AF84,AF84),\"X\")","v":25},{"$f":"CONCATENATE(AE84,AF84)","v":"TRUEHard"}]
[{"$f":"CONCATENATE(AE85,D85,AG85)","v":"TRUEMedium31"},{"$f":"RAND()","v":0.83369569413014089},"%","Medium",320,"What is ",75,"% of £",{"$f":"4*RANDBETWEEN(1,10)","v":16},"?",null,null,null,null,null,null,null,null,null,{"$f":"CONCATENATE(F85,\" \",G85,\"\",H85,\"\",I85,\" \",J85,\" \",K85,\" \",L85,\" \",M85,\" \",N85,\" \",O85,\" \",P85,\" \",Q85,\" \",R85)","v":"What is  75% of £16 ?        "},"£",{"$f":"I85/4*3","v":12},null,null,null,null,null,null,null,{"$f":"IF(OR(ISNA(U85),ISNA(V85),ISNA(W85),ISNA(X85),ISNA(Y85),ISNA(Z85),ISNA(AA85),ISNA(AB85),ISNA(AC85)),NA(),CONCATENATE(U85,V85,W85,X85,Y85,Z85,AA85,AB85))","v":"£12"},{"$f":"IF(ISNA(AD85),FALSE,IF(C85=$B$1,Worksheet!$B$3,IF(C85=$C$1,Worksheet!$B$4,IF(C85=$D$1,Worksheet!$B$5,IF(C85=$E$1,Worksheet!$B$6,IF(C85=$B$2,Worksheet!$B$7,IF(C85=$C$2,Worksheet!$D$3,IF(C85=$D$2,Worksheet!$D$4,IF(C85=$E$2,Worksheet!$D$5,IF(C85=$C$3,Worksheet!$D$6,IF(C85=$B$3,Worksheet!$D$7,IF(C85=$D$3,Worksheet!$B$10,IF(C85=$E$3,Worksheet!$D$10,FALSE)))))))))))))","v":true},{"$f":"IF(AE85,D85,\"\")","v":"Medium"},{"$f":"IF(AE85,COUNTIF($AF$5:AF85,AF85),\"X\")","v":31},{"$f":"CONCATENATE(AE85,AF85)","v":"TRUEMedium"}]
[{"$f":"CONCATENATE(AE86,D86,AG86)","v":"TRUEEasy21"},{"$f":"RAND()","v":0.6402862994752575},"Num","Easy",14,"Write these numbers in order from",{"$f":"CHOOSE(RANDBETWEEN(1,2),\"smallest to biggest:\",\"biggest to smallest:\")","v":"biggest to smallest:"},{"$f":"IF($O86=1,$P86*1000,IF($O86=2,$Q86*1000,IF($O86=3,$R86*1000,$S86*1000)))+IF(RAND()<0.5,$R86,$S86)*100+IF(RAND()<0.5,$P86,$Q86)*10+CHOOSE(RANDBETWEEN(1,4),$P86,$Q86,$R86,$S86)","v":4455},{"$f":"IF($O86=1,$P86*1000,IF($O86=2,$Q86*1000,IF($O86=3,$R86*1000,$S86*1000)))+IF(RAND()<0.5,$R86,$S86)*100+IF(RAND()<0.5,$P86,$Q86)*10+CHOOSE(RANDBETWEEN(1,4),$P86,$Q86,$R86,$S86)","v":4551},{"$f":"IF($O86=1,$P86*1000,IF($O86=2,$Q86*1000,IF($O86=3,$R86*1000,$S86*1000)))+IF(RAND()<0.5,$R86,$S86)*100+IF(RAND()<0.5,$P86,$Q86)*10+CHOOSE(RANDBETWEEN(1,4),$P86,$Q86,$R86,$S86)","v":4515},{"$f":"IF($O86=1,$P86*1000,IF($O86=2,$Q86*1000,IF($O86=3,$R86*1000,$S86*1000)))+IF(RAND()<0.5,$R86,$S86)*100+IF(RAND()<0.5,$P86,$Q86)*10+CHOOSE(RANDBETWEEN(1,4),$P86,$Q86,$R86,$S86)","v":4511},null,null,null,{"$f":"RANDBETWEEN(1,9)","v":8},{"$f":"RANDBETWEEN(0,9)","v":5},{"$f":"RANDBETWEEN(0,9)","v":1},{"$f":"RANDBETWEEN(0,9)","v":5},{"$f":"RANDBETWEEN(1,9)","v":4},{"$f":"CONCATENATE(F86,\" \",G86,\"   \",H86,\",  \",I86,\",  \",J86,\",  \",K86,\" \",L86,\" \",M86,\" \",N86)","v":"Write these numbers in order from biggest to smallest:   4455,  4551,  4515,  4511   "},{"$f":"IF($G86=\"smallest to biggest:\",LARGE($H86:$K86,4),LARGE($H86:$K86,1))","v":4551},{"$f":"IF($G86=\"smallest to biggest:\",LARGE($H86:$K86,3),LARGE($H86:$K86,2))","v":4515},{"$f":"IF($G86=\"smallest to biggest:\",LARGE($H86:$K86,2),LARGE($H86:$K86,3))","v":4511},{"$f":"IF($G86=\"smallest to biggest:\",LARGE($H86:$K86,1),LARGE($H86:$K86,4))","v":4455},null,{"$f":"IF(OR(H86=I86,H86=J86,H86=K86,I86=J86,I86=K86,J86=K86),NA(),\"\")","v":""},null,null,null,{"$f":"IF(OR(ISNA(U86),ISNA(V86),ISNA(W86),ISNA(X86),ISNA(Y86),ISNA(Z86),ISNA(AA86),ISNA(AB86),ISNA(AC86)),NA(),CONCATENATE(U86,\",  \",V86,\",  \",W86,\",  \",X86,Y86,Z86,AA86,AB86))","v":"4551,  4515,  4511,  4455"},{"$f":"IF(ISNA(AD86),FALSE,IF(C86=$B$1,Worksheet!$B$3,IF(C86=$C$1,Worksheet!$B$4,IF(C86=$D$1,Worksheet!$B$5,IF(C86=$E$1,Worksheet!$B$6,IF(C86=$B$2,Worksheet!$B$7,IF(C86=$C$2,Worksheet!$D$3,IF(C86=$D$2,Worksheet!$D$4,IF(C86=$E$2,Worksheet!$D$5,IF(C86=$C$3,Worksheet!$D$6,IF(C86=$B$3,Worksheet!$D$7,IF(C86=$D$3,Worksheet!$B$10,IF(C86=$E$3,Worksheet!$D$10,FALSE)))))))))))))","v":true},{"$f":"IF(AE86,D86,\"\")","v":"Easy"},{"$f":"IF(AE86,COUNTIF($AF$5:AF86,AF86),\"X\")","v":21},{"$f":"CONCATENATE(AE86,AF86)","v":"TRUEEasy"}]
[{"$f":"CONCATENATE(AE87,D87,AG87)","v":"TRUEHard26"},{"$f":"RAND()","v":0.62660405344073544},"Frac","Hard",167,"Fractions.   Write down a sum to work out ","2/3"," of",{"$f":"3*RANDBETWEEN(20,50)","v":132},"?",null,null,null,null,null,null,null,null,null,{"$f":"CONCATENATE(F87,\" \",G87,\" \",H87,\" \",I87,\" \",J87,\" \",K87,\" \",L87,\" \",M87,\" \",N87,\" \",O87,\" \",P87,\" \",Q87,\" \",R87)","v":"Fractions.   Write down a sum to work out  2/3  of 132 ?        "},{"$f":"I87/3*2","v":88},null,null,null,{"$f":"IF(INT(U87)<>U87,NA(),\"\")","v":""},null,null,null,null,{"$f":"IF(OR(ISNA(U87),ISNA(V87),ISNA(W87),ISNA(X87),ISNA(Y87),ISNA(Z87),ISNA(AA87),ISNA(AB87),ISNA(AC87)),NA(),CONCATENATE(U87,V87,W87,X87,Y87,Z87,AA87,AB87))","v":"88"},{"$f":"IF(ISNA(AD87),FALSE,IF(C87=$B$1,Worksheet!$B$3,IF(C87=$C$1,Worksheet!$B$4,IF(C87=$D$1,Worksheet!$B$5,IF(C87=$E$1,Worksheet!$B$6,IF(C87=$B$2,Worksheet!$B$7,IF(C87=$C$2,Worksheet!$D$3,IF(C87=$D$2,Worksheet!$D$4,IF(C87=$E$2,Worksheet!$D$5,IF(C87=$C$3,Worksheet!$D$6,IF(C87=$B$3,Worksheet!$D$7,IF(C87=$D$3,Worksheet!$B$10,IF(C87=$E$3,Worksheet!$D$10,FALSE)))))))))))))","v":true},{"$f":"IF(AE87,D87,\"\")","v":"Hard"},{"$f":"IF(AE87,COUNTIF($AF$5:AF87,AF87),\"X\")","v":26},{"$f":"CONCATENATE(AE87,AF87)","v":"TRUEHard"}]
[{"$f":"CONCATENATE(AE88,D88,AG88)","v":"TRUEHard27"},{"$f":"RAND()","v":0.11037707335367164},"Num","Hard",7,"Write the number   \"",{"$f":"CHOOSE(RANDBETWEEN(1,9),\"one\",\"two\",\"three\",\"four\",\"five\",\"six\",\"seven\",\"eight\",\"nine\")","v":"four"},"hundred thousand, and",{"$f":"CHOOSE(RANDBETWEEN(1,9),\"ten\",\"twenty\",\"thirty\",\"forty\",\"fifty\",\"sixty\",\"seventy\",\"eighty\",\"ninety\")","v":"thirty"},"\"   in figures",null,null,null,null,null,null,null,null,null,{"$f":"CONCATENATE(F88,\" \",G88,\" \",H88,\" \",I88,\" \",J88,\" \",K88,\" \",L88,\" \",M88,\" \",N88,\" \",O88,\" \",P88,\" \",Q88,\" \",R88)","v":"Write the number   \" four hundred thousand, and thirty \"   in figures        "},{"$f":"IF(G88=\"one\",1,IF(G88=\"two\",2,IF(G88=\"three\",3,IF(G88=\"four\",4,IF(G88=\"five\",5,IF(G88=\"six\",6,IF(G88=\"seven\",7,IF(G88=\"eight\",8,9))))))))","v":4},"00,0",{"$f":"IF(I88=\"ten\",1,IF(I88=\"twenty\",2,IF(I88=\"thirty\",3,IF(I88=\"forty\",4,IF(I88=\"fifty\",5,IF(I88=\"sixty\",6,IF(I88=\"seventy\",7,IF(I88=\"eighty\",8,9))))))))","v":3},0,null,null,null,null,null,{"$f":"IF(OR(ISNA(U88),ISNA(V88),ISNA(W88),ISNA(X88),ISNA(Y88),ISNA(Z88),ISNA(AA88),ISNA(AB88),ISNA(AC88)),NA(),CONCATENATE(U88,V88,W88,X88,Y88,Z88,AA88,AB88))","v":"400,030"},{"$f":"IF(ISNA(AD88),FALSE,IF(C88=$B$1,Worksheet!$B$3,IF(C88=$C$1,Worksheet!$B$4,IF(C88=$D$1,Worksheet!$B$5,IF(C88=$E$1,Worksheet!$B$6,IF(C88=$B$2,Worksheet!$B$7,IF(C88=$C$2,Worksheet!$D$3,IF(C88=$D$2,Worksheet!$D$4,IF(C88=$E$2,Worksheet!$D$5,IF(C88=$C$3,Worksheet!$D$6,IF(C88=$B$3,Worksheet!$D$7,IF(C88=$D$3,Worksheet!$B$10,IF(C88=$E$3,Worksheet!$D$10,FALSE)))))))))))))","v":true},{"$f":"IF(AE88,D88,\"\")","v":"Hard"},{"$f":"IF(AE88,COUNTIF($AF$5:AF88,AF88),\"X\")","v":27},{"$f":"CONCATENATE(AE88,AF88)","v":"TRUEHard"}]
[{"$f":"CONCATENATE(AE89,D89,AG89)","v":"TRUEMedium32"},{"$f":"RAND()","v":0.99534519641559405},"Frac","Medium",184,"True or False?   The fraction",{"$f":"RANDBETWEEN(2,I89-1)","v":10},"/",{"$f":"2*RANDBETWEEN(5,15)-1","v":25},"is",{"$f":"IF(RAND()<0.5,\"smaller\",\"bigger\")","v":"bigger"},"than ½",null,null,null,null,null,null,null,{"$f":"CONCATENATE(F89,\" \",G89,\"\",H89,\"\",I89,\" \",J89,\" \",K89,\" \",L89,\" \",M89,\" \",N89,\" \",O89,\" \",P89,\" \",Q89,\" \",R89)","v":"True or False?   The fraction 10/25 is bigger than ½      "},{"$f":"IF(K89=\"bigger\",IF(G89>I89/2,TRUE,FALSE),IF(G89>I89/2,FALSE,TRUE))","v":false},null,null,null,null,null,null,null,null,{"$f":"IF(OR(ISNA(U89),ISNA(V89),ISNA(W89),ISNA(X89),ISNA(Y89),ISNA(Z89),ISNA(AA89),ISNA(AB89),ISNA(AC89)),NA(),CONCATENATE(U89,V89,W89,X89,Y89,Z89,AA89,AB89))","v":"FALSE"},{"$f":"IF(ISNA(AD89),FALSE,IF(C89=$B$1,Worksheet!$B$3,IF(C89=$C$1,Worksheet!$B$4,IF(C89=$D$1,Worksheet!$B$5,IF(C89=$E$1,Worksheet!$B$6,IF(C89=$B$2,Worksheet!$B$7,IF(C89=$C$2,Worksheet!$D$3,IF(C89=$D$2,Worksheet!$D$4,IF(C89=$E$2,Worksheet!$D$5,IF(C89=$C$3,Worksheet!$D$6,IF(C89=$B$3,Worksheet!$D$7,IF(C89=$D$3,Worksheet!$B$10,IF(C89=$E$3,Worksheet!$D$10,FALSE)))))))))))))","v":true},{"$f":"IF(AE89,D89,\"\")","v":"Medium"},{"$f":"IF(AE89,COUNTIF($AF$5:AF89,AF89),\"X\")","v":32},{"$f":"CONCATENATE(AE89,AF89)","v":"TRUEMedium"}]
[{"$f":"CONCATENATE(AE90,D90,AG90)","v":"TRUEMedium33"},{"$f":"RAND()","v":0.33153062306355074},"Frac","Medium",178,"Write the fraction",{"$f":"2*RANDBETWEEN(1,I90/2-1)","v":14},"/",{"$f":"2*RANDBETWEEN(3,15)","v":24},"in its simplest form",null,null,null,null,null,null,null,null,null,{"$f":"CONCATENATE(F90,\" \",G90,\"\",H90,\"\",I90,\" \",J90,\" \",K90,\" \",L90,\" \",M90,\" \",N90,\" \",O90,\" \",P90,\" \",Q90,\" \",R90)","v":"Write the fraction 14/24 in its simplest form        "},{"$f":"G90/GCD(G90,I90)","v":7},"/",{"$f":"I90/GCD(G90,I90)","v":12},null,null,null,null,null,null,{"$f":"IF(OR(ISNA(U90),ISNA(V90),ISNA(W90),ISNA(X90),ISNA(Y90),ISNA(Z90),ISNA(AA90),ISNA(AB90),ISNA(AC90)),NA(),CONCATENATE(U90,V90,W90,X90,Y90,Z90,AA90,AB90))","v":"7/12"},{"$f":"IF(ISNA(AD90),FALSE,IF(C90=$B$1,Worksheet!$B$3,IF(C90=$C$1,Worksheet!$B$4,IF(C90=$D$1,Worksheet!$B$5,IF(C90=$E$1,Worksheet!$B$6,IF(C90=$B$2,Worksheet!$B$7,IF(C90=$C$2,Worksheet!$D$3,IF(C90=$D$2,Worksheet!$D$4,IF(C90=$E$2,Worksheet!$D$5,IF(C90=$C$3,Worksheet!$D$6,IF(C90=$B$3,Worksheet!$D$7,IF(C90=$D$3,Worksheet!$B$10,IF(C90=$E$3,Worksheet!$D$10,FALSE)))))))))))))","v":true},{"$f":"IF(AE90,D90,\"\")","v":"Medium"},{"$f":"IF(AE90,COUNTIF($AF$5:AF90,AF90),\"X\")","v":33},{"$f":"CONCATENATE(AE90,AF90)","v":"TRUEMedium"}]
[{"$f":"CONCATENATE(AE91,D91,AG91)","v":"TRUEMedium34"},{"$f":"RAND()","v":0.38371429297097415},"Neg","Medium",356,"Continue the pattern for three more numbers:   ",{"$f":"RANDBETWEEN(-5,-3)*2","v":-10},{"$f":"G91+S91","v":-8},{"$f":"H91+S91","v":-6},{"$f":"I91+S91","v":-4},"____","____","____",null,null,null,null,null,2,{"$f":"CONCATENATE(F91,\" \",G91,\",   \",H91,\",   \",I91,\",   \",J91,\",   \",K91,\",   \",L91,\",   \",M91,\" \",N91,\" \",O91,\" \",P91,\" \",Q91,\" \",R91)","v":"Continue the pattern for three more numbers:    -10,   -8,   -6,   -4,   ____,   ____,   ____     "},{"$f":"J91+S91","v":-2},{"$f":"U91+S91","v":0},{"$f":"V91+S91","v":2},null,null,null,null,null,null,{"$f":"IF(OR(ISNA(U91),ISNA(V91),ISNA(W91),ISNA(X91),ISNA(Y91),ISNA(Z91),ISNA(AA91),ISNA(AB91),ISNA(AC91)),NA(),CONCATENATE(U91,\",   \",V91,\",   \",W91,X91,Y91,Z91,AA91,AB91))","v":"-2,   0,   2"},{"$f":"IF(ISNA(AD91),FALSE,IF(C91=$B$1,Worksheet!$B$3,IF(C91=$C$1,Worksheet!$B$4,IF(C91=$D$1,Worksheet!$B$5,IF(C91=$E$1,Worksheet!$B$6,IF(C91=$B$2,Worksheet!$B$7,IF(C91=$C$2,Worksheet!$D$3,IF(C91=$D$2,Worksheet!$D$4,IF(C91=$E$2,Worksheet!$D$5,IF(C91=$C$3,Worksheet!$D$6,IF(C91=$B$3,Worksheet!$D$7,IF(C91=$D$3,Worksheet!$B$10,IF(C91=$E$3,Worksheet!$D$10,FALSE)))))))))))))","v":true},{"$f":"IF(AE91,D91,\"\")","v":"Medium"},{"$f":"IF(AE91,COUNTIF($AF$5:AF91,AF91),\"X\")","v":34},{"$f":"CONCATENATE(AE91,AF91)","v":"TRUEMedium"}]
[{"$f":"CONCATENATE(AE92,D92,AG92)","v":"FALSEMediumX"},{"$f":"RAND()","v":0.77178226108202308},"Alg","Medium",374,"Fill in the box with one of the symbols  <   >   or   =    :",null,{"$f":"RANDBETWEEN(1,100)","v":95},"_____",{"$f":"H92+RANDBETWEEN(-2,2)","v":94},null,null,null,null,null,null,null,null,null,{"$f":"CONCATENATE(F92,\" \",G92,\" \",H92,\"   \",I92,\"   \",J92,\" \",K92,\" \",L92,\" \",M92,\" \",N92,\" \",O92,\" \",P92,\" \",Q92,\" \",R92)","v":"Fill in the box with one of the symbols  <   >   or   =    :  95   _____   94        "},{"$f":"IF(J92>H92,\"<\",IF(H92>J92,\">\",\"=\"))","v":">"},null,null,null,null,null,null,null,null,{"$f":"IF(OR(ISNA(U92),ISNA(V92),ISNA(W92),ISNA(X92),ISNA(Y92),ISNA(Z92),ISNA(AA92),ISNA(AB92),ISNA(AC92)),NA(),CONCATENATE(U92,V92,W92,X92,Y92,Z92,AA92,AB92))","v":">"},{"$f":"IF(ISNA(AD92),FALSE,IF(C92=$B$1,Worksheet!$B$3,IF(C92=$C$1,Worksheet!$B$4,IF(C92=$D$1,Worksheet!$B$5,IF(C92=$E$1,Worksheet!$B$6,IF(C92=$B$2,Worksheet!$B$7,IF(C92=$C$2,Worksheet!$D$3,IF(C92=$D$2,Worksheet!$D$4,IF(C92=$E$2,Worksheet!$D$5,IF(C92=$C$3,Worksheet!$D$6,IF(C92=$B$3,Worksheet!$D$7,IF(C92=$D$3,Worksheet!$B$10,IF(C92=$E$3,Worksheet!$D$10,FALSE)))))))))))))","v":false},{"$f":"IF(AE92,D92,\"\")","v":""},{"$f":"IF(AE92,COUNTIF($AF$5:AF92,AF92),\"X\")","v":"X"},{"$f":"CONCATENATE(AE92,AF92)","v":"FALSE"}]
[{"$f":"CONCATENATE(AE93,D93,AG93)","v":"TRUEMedium35"},{"$f":"RAND()","v":0.83721505788402995},"Dec","Medium",213,"Write the fraction",{"$f":"RANDBETWEEN(1,9)","v":8},"/10","as a decimal",null,null,null,null,null,null,null,null,null,null,{"$f":"CONCATENATE(F93,\" \",G93,\"\",H93,\" \",I93,\" \",J93,\" \",K93,\" \",L93,\" \",M93,\" \",N93,\" \",O93,\" \",P93,\" \",Q93,\" \",R93)","v":"Write the fraction 8/10 as a decimal         "},{"$f":"G93/10","v":0.8},null,null,null,null,null,null,null,null,{"$f":"IF(OR(ISNA(U93),ISNA(V93),ISNA(W93),ISNA(X93),ISNA(Y93),ISNA(Z93),ISNA(AA93),ISNA(AB93),ISNA(AC93)),NA(),CONCATENATE(U93,V93,W93,X93,Y93,Z93,AA93,AB93))","v":"0.8"},{"$f":"IF(ISNA(AD93),FALSE,IF(C93=$B$1,Worksheet!$B$3,IF(C93=$C$1,Worksheet!$B$4,IF(C93=$D$1,Worksheet!$B$5,IF(C93=$E$1,Worksheet!$B$6,IF(C93=$B$2,Worksheet!$B$7,IF(C93=$C$2,Worksheet!$D$3,IF(C93=$D$2,Worksheet!$D$4,IF(C93=$E$2,Worksheet!$D$5,IF(C93=$C$3,Worksheet!$D$6,IF(C93=$B$3,Worksheet!$D$7,IF(C93=$D$3,Worksheet!$B$10,IF(C93=$E$3,Worksheet!$D$10,FALSE)))))))))))))","v":true},{"$f":"IF(AE93,D93,\"\")","v":"Medium"},{"$f":"IF(AE93,COUNTIF($AF$5:AF93,AF93),\"X\")","v":35},{"$f":"CONCATENATE(AE93,AF93)","v":"TRUEMedium"}]
[{"$f":"CONCATENATE(AE94,D94,AG94)","v":"TRUEHard28"},{"$f":"RAND()","v":0.91171029310721807},"Dec","Hard",279,"Multiply:   10 ×",{"$f":"RANDBETWEEN(1,9)*10+RANDBETWEEN(0,9)+RANDBETWEEN(1,9)/10","v":67.3},null,null,null,null,null,null,null,null,null,null,null,null,{"$f":"CONCATENATE(F94,\" \",G94,\" \",H94,\" \",I94,\" \",J94,\" \",K94,\" \",L94,\" \",M94,\" \",N94,\" \",O94,\" \",P94,\" \",Q94,\" \",R94)","v":"Multiply:   10 × 67.3           "},{"$f":"G94*10","v":673},null,null,null,null,null,null,null,null,{"$f":"IF(OR(ISNA(U94),ISNA(V94),ISNA(W94),ISNA(X94),ISNA(Y94),ISNA(Z94),ISNA(AA94),ISNA(AB94),ISNA(AC94)),NA(),CONCATENATE(U94,V94,W94,X94,Y94,Z94,AA94,AB94))","v":"673"},{"$f":"IF(ISNA(AD94),FALSE,IF(C94=$B$1,Worksheet!$B$3,IF(C94=$C$1,Worksheet!$B$4,IF(C94=$D$1,Worksheet!$B$5,IF(C94=$E$1,Worksheet!$B$6,IF(C94=$B$2,Worksheet!$B$7,IF(C94=$C$2,Worksheet!$D$3,IF(C94=$D$2,Worksheet!$D$4,IF(C94=$E$2,Worksheet!$D$5,IF(C94=$C$3,Worksheet!$D$6,IF(C94=$B$3,Worksheet!$D$7,IF(C94=$D$3,Worksheet!$B$10,IF(C94=$E$3,Worksheet!$D$10,FALSE)))))))))))))","v":true},{"$f":"IF(AE94,D94,\"\")","v":"Hard"},{"$f":"IF(AE94,COUNTIF($AF$5:AF94,AF94),\"X\")","v":28},{"$f":"CONCATENATE(AE94,AF94)","v":"TRUEHard"}]
[{"$f":"CONCATENATE(AE95,D95,AG95)","v":"TRUEMedium36"},{"$f":"RAND()","v":0.39637318729858795},"Frac","Medium",177,"Fractions.    Choose the number that makes the fractions equivalent:   ",{"$f":"IF(I95=3,2,IF(I95=4,3,RANDBETWEEN(2,4)))","v":3},"/",{"$f":"RANDBETWEEN(3,5)","v":4},"=",{"$f":"G95*S95","v":30},"/","___",null,null,null,null,null,{"$f":"RANDBETWEEN(2,10)","v":10},{"$f":"CONCATENATE(F95,\" \",G95,\"\",H95,\"\",I95,\" \",J95,\" \",K95,\"\",L95,\"\",M95,\" \",N95,\" \",O95,\" \",P95,\" \",Q95,\" \",R95)","v":"Fractions.    Choose the number that makes the fractions equivalent:    3/4 = 30/___     "},{"$f":"CONCATENATE(G95,H95,I95,\" = \",G95*S95,L95,I95*S95)","v":"3/4 = 30/40"},null,null,null,null,null,null,null,null,{"$f":"IF(OR(ISNA(U95),ISNA(V95),ISNA(W95),ISNA(X95),ISNA(Y95),ISNA(Z95),ISNA(AA95),ISNA(AB95),ISNA(AC95)),NA(),CONCATENATE(U95,V95,W95,X95,Y95,Z95,AA95,AB95))","v":"3/4 = 30/40"},{"$f":"IF(ISNA(AD95),FALSE,IF(C95=$B$1,Worksheet!$B$3,IF(C95=$C$1,Worksheet!$B$4,IF(C95=$D$1,Worksheet!$B$5,IF(C95=$E$1,Worksheet!$B$6,IF(C95=$B$2,Worksheet!$B$7,IF(C95=$C$2,Worksheet!$D$3,IF(C95=$D$2,Worksheet!$D$4,IF(C95=$E$2,Worksheet!$D$5,IF(C95=$C$3,Worksheet!$D$6,IF(C95=$B$3,Worksheet!$D$7,IF(C95=$D$3,Worksheet!$B$10,IF(C95=$E$3,Worksheet!$D$10,FALSE)))))))))))))","v":true},{"$f":"IF(AE95,D95,\"\")","v":"Medium"},{"$f":"IF(AE95,COUNTIF($AF$5:AF95,AF95),\"X\")","v":36},{"$f":"CONCATENATE(AE95,AF95)","v":"TRUEMedium"}]
[{"$f":"CONCATENATE(AE96,D96,AG96)","v":"FALSEHardX"},{"$f":"RAND()","v":0.83546512466271261},"Alg","Hard",373,"Algebra.   If",{"$f":"CHOOSE(RANDBETWEEN(1,10),\"a\",\"x\",\"y\",\"b\",\"m\",\"p\",\"x\",\"y\",\"k\",\"f\")","v":"a"},"=",{"$f":"RANDBETWEEN(2,10)","v":5},", what is",null,{"$f":"RANDBETWEEN(4,10)*10","v":50},"–",{"$f":"RANDBETWEEN(2,10)","v":8},{"$f":"G96","v":"a"},"?",null,null,null,{"$f":"CONCATENATE(F96,\" \",G96,\" \",H96,\" \",I96,\"\",J96,\"\",K96,\"    \",L96,\" \",M96,\" \",N96,\"\",O96,\" \",P96,\" \",Q96,\" \",R96)","v":"Algebra.   If a = 5, what is    50 – 8a ?  "},{"$f":"L96-N96*I96","v":10},null,null,null,null,null,null,null,null,{"$f":"IF(OR(ISNA(U96),ISNA(V96),ISNA(W96),ISNA(X96),ISNA(Y96),ISNA(Z96),ISNA(AA96),ISNA(AB96),ISNA(AC96)),NA(),CONCATENATE(U96,V96,W96,X96,Y96,Z96,AA96,AB96))","v":"10"},{"$f":"IF(ISNA(AD96),FALSE,IF(C96=$B$1,Worksheet!$B$3,IF(C96=$C$1,Worksheet!$B$4,IF(C96=$D$1,Worksheet!$B$5,IF(C96=$E$1,Worksheet!$B$6,IF(C96=$B$2,Worksheet!$B$7,IF(C96=$C$2,Worksheet!$D$3,IF(C96=$D$2,Worksheet!$D$4,IF(C96=$E$2,Worksheet!$D$5,IF(C96=$C$3,Worksheet!$D$6,IF(C96=$B$3,Worksheet!$D$7,IF(C96=$D$3,Worksheet!$B$10,IF(C96=$E$3,Worksheet!$D$10,FALSE)))))))))))))","v":false},{"$f":"IF(AE96,D96,\"\")","v":""},{"$f":"IF(AE96,COUNTIF($AF$5:AF96,AF96),\"X\")","v":"X"},{"$f":"CONCATENATE(AE96,AF96)","v":"FALSE"}]
[{"$f":"CONCATENATE(AE97,D97,AG97)","v":"TRUEHard29"},{"$f":"RAND()","v":0.16956953065669378},"Mult","Hard",63,"Multiply:   ",{"$f":"CHOOSE(RANDBETWEEN(1,5),2,3,4,5,10)","v":3},"×",{"$f":"CHOOSE(RANDBETWEEN(1,5),2,3,4,5,10)","v":10},"×",{"$f":"CHOOSE(RANDBETWEEN(1,5),2,3,4,5,10)","v":5},null,null,null,null,null,null,null,null,{"$f":"CONCATENATE(F97,\" \",G97,\" \",H97,\" \",I97,\" \",J97,\" \",K97,\" \",L97,\" \",M97,\" \",N97,\" \",O97,\" \",P97,\" \",Q97,\" \",R97)","v":"Multiply:    3 × 10 × 5       "},{"$f":"G97*I97*K97","v":150},null,null,null,null,null,null,null,null,{"$f":"IF(OR(ISNA(U97),ISNA(V97),ISNA(W97),ISNA(X97),ISNA(Y97),ISNA(Z97),ISNA(AA97),ISNA(AB97),ISNA(AC97)),NA(),CONCATENATE(U97,V97,W97,X97,Y97,Z97,AA97,AB97))","v":"150"},{"$f":"IF(ISNA(AD97),FALSE,IF(C97=$B$1,Worksheet!$B$3,IF(C97=$C$1,Worksheet!$B$4,IF(C97=$D$1,Worksheet!$B$5,IF(C97=$E$1,Worksheet!$B$6,IF(C97=$B$2,Worksheet!$B$7,IF(C97=$C$2,Worksheet!$D$3,IF(C97=$D$2,Worksheet!$D$4,IF(C97=$E$2,Worksheet!$D$5,IF(C97=$C$3,Worksheet!$D$6,IF(C97=$B$3,Worksheet!$D$7,IF(C97=$D$3,Worksheet!$B$10,IF(C97=$E$3,Worksheet!$D$10,FALSE)))))))))))))","v":true},{"$f":"IF(AE97,D97,\"\")","v":"Hard"},{"$f":"IF(AE97,COUNTIF($AF$5:AF97,AF97),\"X\")","v":29},{"$f":"CONCATENATE(AE97,AF97)","v":"TRUEHard"}]
[{"$f":"CONCATENATE(AE98,D98,AG98)","v":"TRUEEasy22"},{"$f":"RAND()","v":0.56786637964604258},"Dec","Easy",243,"Add:   ",{"$f":"RANDBETWEEN(1,6)+RANDBETWEEN(1,4)/10","v":1.1000000000000001}," + ",{"$f":"RANDBETWEEN(0,6)+RANDBETWEEN(1,4)/10","v":1.3},null,null,null,null,null,null,null,null,null,null,{"$f":"CONCATENATE(F98,\" \",G98,\" \",H98,\" \",I98,\" \",J98,\" \",K98,\" \",L98,\" \",M98,\" \",N98,\" \",O98,\" \",P98,\" \",Q98,\" \",R98)","v":"Add:    1.1  +  1.3         "},{"$f":"G98+I98","v":2.4000000000000004},null,null,null,null,null,null,null,null,{"$f":"IF(OR(ISNA(U98),ISNA(V98),ISNA(W98),ISNA(X98),ISNA(Y98),ISNA(Z98),ISNA(AA98),ISNA(AB98),ISNA(AC98)),NA(),CONCATENATE(U98,V98,W98,X98,Y98,Z98,AA98,AB98))","v":"2.4"},{"$f":"IF(ISNA(AD98),FALSE,IF(C98=$B$1,Worksheet!$B$3,IF(C98=$C$1,Worksheet!$B$4,IF(C98=$D$1,Worksheet!$B$5,IF(C98=$E$1,Worksheet!$B$6,IF(C98=$B$2,Worksheet!$B$7,IF(C98=$C$2,Worksheet!$D$3,IF(C98=$D$2,Worksheet!$D$4,IF(C98=$E$2,Worksheet!$D$5,IF(C98=$C$3,Worksheet!$D$6,IF(C98=$B$3,Worksheet!$D$7,IF(C98=$D$3,Worksheet!$B$10,IF(C98=$E$3,Worksheet!$D$10,FALSE)))))))))))))","v":true},{"$f":"IF(AE98,D98,\"\")","v":"Easy"},{"$f":"IF(AE98,COUNTIF($AF$5:AF98,AF98),\"X\")","v":22},{"$f":"CONCATENATE(AE98,AF98)","v":"TRUEEasy"}]
[{"$f":"CONCATENATE(AE99,D99,AG99)","v":"TRUEEasy23"},{"$f":"RAND()","v":0.94323670322034014},"Mult","Easy",74,"What is double",{"$f":"RANDBETWEEN(1,4)*100+RANDBETWEEN(1,5)*10","v":120},"?",null,null,null,null,null,null,null,null,null,null,null,{"$f":"CONCATENATE(F99,\" \",G99,\" \",H99,\" \",I99,\" \",J99,\" \",K99,\" \",L99,\" \",M99,\" \",N99,\" \",O99,\" \",P99,\" \",Q99,\" \",R99)","v":"What is double 120 ?          "},{"$f":"2*G99","v":240},null,null,null,null,null,null,null,null,{"$f":"IF(OR(ISNA(U99),ISNA(V99),ISNA(W99),ISNA(X99),ISNA(Y99),ISNA(Z99),ISNA(AA99),ISNA(AB99),ISNA(AC99)),NA(),CONCATENATE(U99,V99,W99,X99,Y99,Z99,AA99,AB99))","v":"240"},{"$f":"IF(ISNA(AD99),FALSE,IF(C99=$B$1,Worksheet!$B$3,IF(C99=$C$1,Worksheet!$B$4,IF(C99=$D$1,Worksheet!$B$5,IF(C99=$E$1,Worksheet!$B$6,IF(C99=$B$2,Worksheet!$B$7,IF(C99=$C$2,Worksheet!$D$3,IF(C99=$D$2,Worksheet!$D$4,IF(C99=$E$2,Worksheet!$D$5,IF(C99=$C$3,Worksheet!$D$6,IF(C99=$B$3,Worksheet!$D$7,IF(C99=$D$3,Worksheet!$B$10,IF(C99=$E$3,Worksheet!$D$10,FALSE)))))))))))))","v":true},{"$f":"IF(AE99,D99,\"\")","v":"Easy"},{"$f":"IF(AE99,COUNTIF($AF$5:AF99,AF99),\"X\")","v":23},{"$f":"CONCATENATE(AE99,AF99)","v":"TRUEEasy"}]
[{"$f":"CONCATENATE(AE100,D100,AG100)","v":"TRUEHard30"},{"$f":"RAND()","v":0.38949399620523706},"Mult","Hard",69,"What is:   ",{"$f":"RANDBETWEEN(2,10)","v":3},"×",{"$f":"RANDBETWEEN(2,10)","v":2},"+",{"$f":"RANDBETWEEN(2,10)","v":8},"×",{"$f":"RANDBETWEEN(2,10)","v":8},"     ?",null,null,null,null,null,{"$f":"CONCATENATE(F100,\" \",G100,\" \",H100,\" \",I100,\" \",J100,\" \",K100,\" \",L100,\" \",M100,\" \",N100,\" \",O100,\" \",P100,\" \",Q100,\" \",R100)","v":"What is:    3 × 2 + 8 × 8      ?    "},{"$f":"G100*I100+K100*M100","v":70},null,null,null,null,null,null,null,null,{"$f":"IF(OR(ISNA(U100),ISNA(V100),ISNA(W100),ISNA(X100),ISNA(Y100),ISNA(Z100),ISNA(AA100),ISNA(AB100),ISNA(AC100)),NA(),CONCATENATE(U100,V100,W100,X100,Y100,Z100,AA100,AB100))","v":"70"},{"$f":"IF(ISNA(AD100),FALSE,IF(C100=$B$1,Worksheet!$B$3,IF(C100=$C$1,Worksheet!$B$4,IF(C100=$D$1,Worksheet!$B$5,IF(C100=$E$1,Worksheet!$B$6,IF(C100=$B$2,Worksheet!$B$7,IF(C100=$C$2,Worksheet!$D$3,IF(C100=$D$2,Worksheet!$D$4,IF(C100=$E$2,Worksheet!$D$5,IF(C100=$C$3,Worksheet!$D$6,IF(C100=$B$3,Worksheet!$D$7,IF(C100=$D$3,Worksheet!$B$10,IF(C100=$E$3,Worksheet!$D$10,FALSE)))))))))))))","v":true},{"$f":"IF(AE100,D100,\"\")","v":"Hard"},{"$f":"IF(AE100,COUNTIF($AF$5:AF100,AF100),\"X\")","v":30},{"$f":"CONCATENATE(AE100,AF100)","v":"TRUEHard"}]
[{"$f":"CONCATENATE(AE101,D101,AG101)","v":"TRUEEasy24"},{"$f":"RAND()","v":0.76439955608178167},"Dec","Easy",248,"What number is half way between",{"$f":"RANDBETWEEN(10,90)","v":73},"and",{"$f":"G101+1","v":74},"?",null,null,null,null,null,null,null,null,null,{"$f":"CONCATENATE(F101,\" \",G101,\" \",H101,\" \",I101,\" \",J101,\" \",K101,\" \",L101,\" \",M101,\" \",N101,\" \",O101,\" \",P101,\" \",Q101,\" \",R101)","v":"What number is half way between 73 and 74 ?        "},{"$f":"G101+0.5","v":73.5}," or ",{"$f":"CONCATENATE(G101,\"½\")","v":"73½"},null,null,null,null,null,null,{"$f":"IF(OR(ISNA(U101),ISNA(V101),ISNA(W101),ISNA(X101),ISNA(Y101),ISNA(Z101),ISNA(AA101),ISNA(AB101),ISNA(AC101)),NA(),CONCATENATE(U101,V101,W101,X101,Y101,Z101,AA101,AB101))","v":"73.5 or 73½"},{"$f":"IF(ISNA(AD101),FALSE,IF(C101=$B$1,Worksheet!$B$3,IF(C101=$C$1,Worksheet!$B$4,IF(C101=$D$1,Worksheet!$B$5,IF(C101=$E$1,Worksheet!$B$6,IF(C101=$B$2,Worksheet!$B$7,IF(C101=$C$2,Worksheet!$D$3,IF(C101=$D$2,Worksheet!$D$4,IF(C101=$E$2,Worksheet!$D$5,IF(C101=$C$3,Worksheet!$D$6,IF(C101=$B$3,Worksheet!$D$7,IF(C101=$D$3,Worksheet!$B$10,IF(C101=$E$3,Worksheet!$D$10,FALSE)))))))))))))","v":true},{"$f":"IF(AE101,D101,\"\")","v":"Easy"},{"$f":"IF(AE101,COUNTIF($AF$5:AF101,AF101),\"X\")","v":24},{"$f":"CONCATENATE(AE101,AF101)","v":"TRUEEasy"}]
[{"$f":"CONCATENATE(AE102,D102,AG102)","v":"TRUEEasy25"},{"$f":"RAND()","v":0.28706346335240152},"%","Easy",307,"What is",50,"% as a fraction in its simplest form?",null,null,null,null,null,null,null,null,null,null,null,{"$f":"CONCATENATE(F102,\" \",G102,\"\",H102,\" \",I102,\" \",J102,\" \",K102,\" \",L102,\" \",M102,\" \",N102,\" \",O102,\" \",P102,\" \",Q102,\" \",R102)","v":"What is 50% as a fraction in its simplest form?          "},"1/2",null,null,null,null,null,null,null,null,{"$f":"IF(OR(ISNA(U102),ISNA(V102),ISNA(W102),ISNA(X102),ISNA(Y102),ISNA(Z102),ISNA(AA102),ISNA(AB102),ISNA(AC102)),NA(),CONCATENATE(U102,V102,W102,X102,Y102,Z102,AA102,AB102))","v":"1/2"},{"$f":"IF(ISNA(AD102),FALSE,IF(C102=$B$1,Worksheet!$B$3,IF(C102=$C$1,Worksheet!$B$4,IF(C102=$D$1,Worksheet!$B$5,IF(C102=$E$1,Worksheet!$B$6,IF(C102=$B$2,Worksheet!$B$7,IF(C102=$C$2,Worksheet!$D$3,IF(C102=$D$2,Worksheet!$D$4,IF(C102=$E$2,Worksheet!$D$5,IF(C102=$C$3,Worksheet!$D$6,IF(C102=$B$3,Worksheet!$D$7,IF(C102=$D$3,Worksheet!$B$10,IF(C102=$E$3,Worksheet!$D$10,FALSE)))))))))))))","v":true},{"$f":"IF(AE102,D102,\"\")","v":"Easy"},{"$f":"IF(AE102,COUNTIF($AF$5:AF102,AF102),\"X\")","v":25},{"$f":"CONCATENATE(AE102,AF102)","v":"TRUEEasy"}]
[{"$f":"CONCATENATE(AE103,D103,AG103)","v":"TRUEMedium37"},{"$f":"RAND()","v":0.60620827160750146},"Frac","Medium",188,"Add the fractions:       ","1/3","  +  ","1/3",null,null,null,null,null,null,null,null,null,null,{"$f":"CONCATENATE(F103,\" \",G103,\" \",H103,\" \",I103,\" \",J103,\" \",K103,\" \",L103,\" \",M103,\" \",N103,\" \",O103,\" \",P103,\" \",Q103,\" \",R103)","v":"Add the fractions:        1/3   +   1/3         "},"2/3",null,null,null,null,null,null,null,null,{"$f":"IF(OR(ISNA(U103),ISNA(V103),ISNA(W103),ISNA(X103),ISNA(Y103),ISNA(Z103),ISNA(AA103),ISNA(AB103),ISNA(AC103)),NA(),CONCATENATE(U103,V103,W103,X103,Y103,Z103,AA103,AB103))","v":"2/3"},{"$f":"IF(ISNA(AD103),FALSE,IF(C103=$B$1,Worksheet!$B$3,IF(C103=$C$1,Worksheet!$B$4,IF(C103=$D$1,Worksheet!$B$5,IF(C103=$E$1,Worksheet!$B$6,IF(C103=$B$2,Worksheet!$B$7,IF(C103=$C$2,Worksheet!$D$3,IF(C103=$D$2,Worksheet!$D$4,IF(C103=$E$2,Worksheet!$D$5,IF(C103=$C$3,Worksheet!$D$6,IF(C103=$B$3,Worksheet!$D$7,IF(C103=$D$3,Worksheet!$B$10,IF(C103=$E$3,Worksheet!$D$10,FALSE)))))))))))))","v":true},{"$f":"IF(AE103,D103,\"\")","v":"Medium"},{"$f":"IF(AE103,COUNTIF($AF$5:AF103,AF103),\"X\")","v":37},{"$f":"CONCATENATE(AE103,AF103)","v":"TRUEMedium"}]
[{"$f":"CONCATENATE(AE104,D104,AG104)","v":"TRUEMedium38"},{"$f":"RAND()","v":0.39623223966673138},"Num","Medium",9,"In the number",{"$f":"RANDBETWEEN(1,9)","v":7},{"$f":"SMALL(IF(G104={1,2,3,4,5,6,7,8,9},\"\",{1,2,3,4,5,6,7,8,9}),RANDBETWEEN(1,8))","v":5},{"$f":"SMALL(IF(G104={1,2,3,4,5,6,7,8,9},\"\",IF(H104={1,2,3,4,5,6,7,8,9},\"\",{1,2,3,4,5,6,7,8,9})),RANDBETWEEN(1,7))","v":1},{"$f":"SMALL(IF(G104={1,2,3,4,5,6,7,8,9},\"\",IF(H104={1,2,3,4,5,6,7,8,9},\"\",IF(I104={1,2,3,4,5,6,7,8,9},\"\",{1,2,3,4,5,6,7,8,9}))),RANDBETWEEN(1,6))","v":9},{"$f":"SMALL(IF(G104={1,2,3,4,5,6,7,8,9},\"\",IF(H104={1,2,3,4,5,6,7,8,9},\"\",IF(I104={1,2,3,4,5,6,7,8,9},\"\",IF(J104={1,2,3,4,5,6,7,8,9},\"\",{1,2,3,4,5,6,7,8,9})))),RANDBETWEEN(1,5))","v":2},", what does the",{"$f":"CHOOSE(S104,J104,I104,H104,G104)","v":9},"stand for?",null,null,null,null,{"$f":"RANDBETWEEN(1,4)","v":1},{"$f":"CONCATENATE(F104,\" \",G104,\"\",H104,\",\",I104,\"\",J104,\"\",K104,\" \",L104,\" \",M104,\" \",N104,\" \",O104,\" \",P104,\" \",Q104,\" \",R104)","v":"In the number 75,192 , what does the 9 stand for?    "},{"$f":"TEXT(M104*10^S104,\"#,###\")","v":"90"},null,null,null,null,null,null,null,null,{"$f":"IF(OR(ISNA(U104),ISNA(V104),ISNA(W104),ISNA(X104),ISNA(Y104),ISNA(Z104),ISNA(AA104),ISNA(AB104),ISNA(AC104)),NA(),CONCATENATE(U104,V104,W104,X104,Y104,Z104,AA104,AB104))","v":"90"},{"$f":"IF(ISNA(AD104),FALSE,IF(C104=$B$1,Worksheet!$B$3,IF(C104=$C$1,Worksheet!$B$4,IF(C104=$D$1,Worksheet!$B$5,IF(C104=$E$1,Worksheet!$B$6,IF(C104=$B$2,Worksheet!$B$7,IF(C104=$C$2,Worksheet!$D$3,IF(C104=$D$2,Worksheet!$D$4,IF(C104=$E$2,Worksheet!$D$5,IF(C104=$C$3,Worksheet!$D$6,IF(C104=$B$3,Worksheet!$D$7,IF(C104=$D$3,Worksheet!$B$10,IF(C104=$E$3,Worksheet!$D$10,FALSE)))))))))))))","v":true},{"$f":"IF(AE104,D104,\"\")","v":"Medium"},{"$f":"IF(AE104,COUNTIF($AF$5:AF104,AF104),\"X\")","v":38},{"$f":"CONCATENATE(AE104,AF104)","v":"TRUEMedium"}]
[{"$f":"CONCATENATE(AE105,D105,AG105)","v":"TRUEHard31"},{"$f":"RAND()","v":0.68355600166744557},"+-","Hard",34,"Fill in the missing number:   ",{"$f":"RANDBETWEEN(1,8)*1000+RANDBETWEEN(1,8)*100+RANDBETWEEN(1,8)*10+RANDBETWEEN(1,9)","v":1359},"+ ____ = ",{"$f":"INT((G105+1000)/1000)*1000","v":2000},null,null,null,null,null,null,null,null,null,null,{"$f":"CONCATENATE(F105,\" \",G105,\" \",H105,\" \",I105,\" \",J105,\" \",K105,\" \",L105,\" \",M105,\" \",N105,\" \",O105,\" \",P105,\" \",Q105,\" \",R105)","v":"Fill in the missing number:    1359 + ____ =  2000         "},{"$f":"I105-G105","v":641},null,null,null,null,null,null,null,null,{"$f":"IF(OR(ISNA(U105),ISNA(V105),ISNA(W105),ISNA(X105),ISNA(Y105),ISNA(Z105),ISNA(AA105),ISNA(AB105),ISNA(AC105)),NA(),CONCATENATE(U105,V105,W105,X105,Y105,Z105,AA105,AB105))","v":"641"},{"$f":"IF(ISNA(AD105),FALSE,IF(C105=$B$1,Worksheet!$B$3,IF(C105=$C$1,Worksheet!$B$4,IF(C105=$D$1,Worksheet!$B$5,IF(C105=$E$1,Worksheet!$B$6,IF(C105=$B$2,Worksheet!$B$7,IF(C105=$C$2,Worksheet!$D$3,IF(C105=$D$2,Worksheet!$D$4,IF(C105=$E$2,Worksheet!$D$5,IF(C105=$C$3,Worksheet!$D$6,IF(C105=$B$3,Worksheet!$D$7,IF(C105=$D$3,Worksheet!$B$10,IF(C105=$E$3,Worksheet!$D$10,FALSE)))))))))))))","v":true},{"$f":"IF(AE105,D105,\"\")","v":"Hard"},{"$f":"IF(AE105,COUNTIF($AF$5:AF105,AF105),\"X\")","v":31},{"$f":"CONCATENATE(AE105,AF105)","v":"TRUEHard"}]
[{"$f":"CONCATENATE(AE106,D106,AG106)","v":"TRUEHard32"},{"$f":"RAND()","v":0.60169257098689666},"Frac","Hard",198,"Take away the fraction:       ",1,"  –  ","2/3",null,null,null,null,null,null,null,null,null,null,{"$f":"CONCATENATE(F106,\" \",G106,\" \",H106,\" \",I106,\" \",J106,\" \",K106,\" \",L106,\" \",M106,\" \",N106,\" \",O106,\" \",P106,\" \",Q106,\" \",R106)","v":"Take away the fraction:        1   –   2/3         "},"1/3",null,null,null,null,null,null,null,null,{"$f":"IF(OR(ISNA(U106),ISNA(V106),ISNA(W106),ISNA(X106),ISNA(Y106),ISNA(Z106),ISNA(AA106),ISNA(AB106),ISNA(AC106)),NA(),CONCATENATE(U106,V106,W106,X106,Y106,Z106,AA106,AB106))","v":"1/3"},{"$f":"IF(ISNA(AD106),FALSE,IF(C106=$B$1,Worksheet!$B$3,IF(C106=$C$1,Worksheet!$B$4,IF(C106=$D$1,Worksheet!$B$5,IF(C106=$E$1,Worksheet!$B$6,IF(C106=$B$2,Worksheet!$B$7,IF(C106=$C$2,Worksheet!$D$3,IF(C106=$D$2,Worksheet!$D$4,IF(C106=$E$2,Worksheet!$D$5,IF(C106=$C$3,Worksheet!$D$6,IF(C106=$B$3,Worksheet!$D$7,IF(C106=$D$3,Worksheet!$B$10,IF(C106=$E$3,Worksheet!$D$10,FALSE)))))))))))))","v":true},{"$f":"IF(AE106,D106,\"\")","v":"Hard"},{"$f":"IF(AE106,COUNTIF($AF$5:AF106,AF106),\"X\")","v":32},{"$f":"CONCATENATE(AE106,AF106)","v":"TRUEHard"}]
[{"$f":"CONCATENATE(AE107,D107,AG107)","v":"TRUEMedium39"},{"$f":"RAND()","v":0.15107087254895446},"%","Medium",298,"Write",{"$f":"RANDBETWEEN(1,99)","v":43},"% as a fraction",null,null,null,null,null,null,null,null,null,null,null,{"$f":"CONCATENATE(F107,\" \",G107,\"\",H107,\" \",I107,\" \",J107,\" \",K107,\" \",L107,\" \",M107,\" \",N107,\" \",O107,\" \",P107,\" \",Q107,\" \",R107)","v":"Write 43% as a fraction          "},{"$f":"G107","v":43},"/100",null,null,null,null,null,null,null,{"$f":"IF(OR(ISNA(U107),ISNA(V107),ISNA(W107),ISNA(X107),ISNA(Y107),ISNA(Z107),ISNA(AA107),ISNA(AB107),ISNA(AC107)),NA(),CONCATENATE(U107,V107,W107,X107,Y107,Z107,AA107,AB107))","v":"43/100"},{"$f":"IF(ISNA(AD107),FALSE,IF(C107=$B$1,Worksheet!$B$3,IF(C107=$C$1,Worksheet!$B$4,IF(C107=$D$1,Worksheet!$B$5,IF(C107=$E$1,Worksheet!$B$6,IF(C107=$B$2,Worksheet!$B$7,IF(C107=$C$2,Worksheet!$D$3,IF(C107=$D$2,Worksheet!$D$4,IF(C107=$E$2,Worksheet!$D$5,IF(C107=$C$3,Worksheet!$D$6,IF(C107=$B$3,Worksheet!$D$7,IF(C107=$D$3,Worksheet!$B$10,IF(C107=$E$3,Worksheet!$D$10,FALSE)))))))))))))","v":true},{"$f":"IF(AE107,D107,\"\")","v":"Medium"},{"$f":"IF(AE107,COUNTIF($AF$5:AF107,AF107),\"X\")","v":39},{"$f":"CONCATENATE(AE107,AF107)","v":"TRUEMedium"}]
[{"$f":"CONCATENATE(AE108,D108,AG108)","v":"TRUEEasy26"},{"$f":"RAND()","v":0.99237934883971324},"Dec","Easy",211,"Three of these numbers are the same.  Cirle the number that is NOT the same:    ",{"$f":"IF(S108=1,R108/10,TEXT(R108,\"0.0\"))","v":"3.0"},{"$f":"IF(S108=2,R108/10,R108)","v":0.3},{"$f":"IF(S108=3,R108/10,TEXT(R108,\"0.00\"))","v":"3.00"},{"$f":"IF(S108=4,R108/10,IF(S108=2,R108,IF(S108=1,TEXT(R108,\"0.0\"),TEXT(R108,\"0.00\"))))","v":3},null,null,null,null,null,null,null,{"$f":"RANDBETWEEN(1,9)","v":3},{"$f":"RANDBETWEEN(1,4)","v":2},{"$f":"CONCATENATE(F108,\" \",G108,\",     \",H108,\",     \",I108,\",     \",J108,\" \",K108,\" \",L108,\" \",M108,\" \",N108,\" \",O108,\" \",P108,\" \",Q108)","v":"Three of these numbers are the same.  Cirle the number that is NOT the same:     3.0,     0.3,     3.00,     3       "},{"$f":"R108/10","v":0.3},null,null,null,null,null,null,null,null,{"$f":"IF(OR(ISNA(U108),ISNA(V108),ISNA(W108),ISNA(X108),ISNA(Y108),ISNA(Z108),ISNA(AA108),ISNA(AB108),ISNA(AC108)),NA(),CONCATENATE(U108,V108,W108,X108,Y108,Z108,AA108,AB108))","v":"0.3"},{"$f":"IF(ISNA(AD108),FALSE,IF(C108=$B$1,Worksheet!$B$3,IF(C108=$C$1,Worksheet!$B$4,IF(C108=$D$1,Worksheet!$B$5,IF(C108=$E$1,Worksheet!$B$6,IF(C108=$B$2,Worksheet!$B$7,IF(C108=$C$2,Worksheet!$D$3,IF(C108=$D$2,Worksheet!$D$4,IF(C108=$E$2,Worksheet!$D$5,IF(C108=$C$3,Worksheet!$D$6,IF(C108=$B$3,Worksheet!$D$7,IF(C108=$D$3,Worksheet!$B$10,IF(C108=$E$3,Worksheet!$D$10,FALSE)))))))))))))","v":true},{"$f":"IF(AE108,D108,\"\")","v":"Easy"},{"$f":"IF(AE108,COUNTIF($AF$5:AF108,AF108),\"X\")","v":26},{"$f":"CONCATENATE(AE108,AF108)","v":"TRUEEasy"}]
[{"$f":"CONCATENATE(AE109,D109,AG109)","v":"TRUEHard33"},{"$f":"RAND()","v":0.18253604155507053},"Frac","Hard",175,"Fractions.    Choose the number that makes the fractions equivalent:   ",{"$f":"IF(I109=5,RANDBETWEEN(2,4),IF(I109=6,5,IF(I109=7,RANDBETWEEN(2,5),IF(I109=8,CHOOSE(RANDBETWEEN(1,3),3,5,7),IF(I109=9,CHOOSE(RANDBETWEEN(1,4),2,4,5,7),CHOOSE(RANDBETWEEN(1,3),3,7,9))))))","v":5},"/",{"$f":"RANDBETWEEN(5,10)","v":8},"=","___","/",{"$f":"I109*S109","v":40},null,null,null,null,null,{"$f":"RANDBETWEEN(2,10)","v":5},{"$f":"CONCATENATE(F109,\" \",G109,\"\",H109,\"\",I109,\" \",J109,\" \",K109,\"\",L109,\"\",M109,\" \",N109,\" \",O109,\" \",P109,\" \",Q109,\" \",R109)","v":"Fractions.    Choose the number that makes the fractions equivalent:    5/8 = ___/40     "},{"$f":"CONCATENATE(G109,H109,I109,\" = \",G109*S109,L109,I109*S109)","v":"5/8 = 25/40"},null,null,null,null,null,null,null,null,{"$f":"IF(OR(ISNA(U109),ISNA(V109),ISNA(W109),ISNA(X109),ISNA(Y109),ISNA(Z109),ISNA(AA109),ISNA(AB109),ISNA(AC109)),NA(),CONCATENATE(U109,V109,W109,X109,Y109,Z109,AA109,AB109))","v":"5/8 = 25/40"},{"$f":"IF(ISNA(AD109),FALSE,IF(C109=$B$1,Worksheet!$B$3,IF(C109=$C$1,Worksheet!$B$4,IF(C109=$D$1,Worksheet!$B$5,IF(C109=$E$1,Worksheet!$B$6,IF(C109=$B$2,Worksheet!$B$7,IF(C109=$C$2,Worksheet!$D$3,IF(C109=$D$2,Worksheet!$D$4,IF(C109=$E$2,Worksheet!$D$5,IF(C109=$C$3,Worksheet!$D$6,IF(C109=$B$3,Worksheet!$D$7,IF(C109=$D$3,Worksheet!$B$10,IF(C109=$E$3,Worksheet!$D$10,FALSE)))))))))))))","v":true},{"$f":"IF(AE109,D109,\"\")","v":"Hard"},{"$f":"IF(AE109,COUNTIF($AF$5:AF109,AF109),\"X\")","v":33},{"$f":"CONCATENATE(AE109,AF109)","v":"TRUEHard"}]
[{"$f":"CONCATENATE(AE110,D110,AG110)","v":"TRUEEasy27"},{"$f":"RAND()","v":0.90350636677102136},"Dec","Easy",203,"Continue the pattern for three more numbers:   ",{"$f":"RANDBETWEEN(1,40)+RANDBETWEEN(4,5)*0.1","v":22.5},{"$f":"G110+S110","v":22.4},{"$f":"H110+S110","v":22.299999999999997},{"$f":"I110+S110","v":22.199999999999996},"____","____","____",null,null,null,null,null,-0.1,{"$f":"CONCATENATE(F110,\" \",G110,\",   \",H110,\",   \",I110,\",   \",J110,\",   \",K110,\",   \",L110,\",   \",M110,\" \",N110,\" \",O110,\" \",P110,\" \",Q110,\" \",R110)","v":"Continue the pattern for three more numbers:    22.5,   22.4,   22.3,   22.2,   ____,   ____,   ____     "},{"$f":"J110+S110","v":22.099999999999994},{"$f":"U110+S110","v":21.999999999999993},{"$f":"V110+S110","v":21.899999999999991},null,null,null,null,null,null,{"$f":"IF(OR(ISNA(U110),ISNA(V110),ISNA(W110),ISNA(X110),ISNA(Y110),ISNA(Z110),ISNA(AA110),ISNA(AB110),ISNA(AC110)),NA(),CONCATENATE(U110,\",   \",V110,\",   \",W110,X110,Y110,Z110,AA110,AB110))","v":"22.1,   22,   21.9"},{"$f":"IF(ISNA(AD110),FALSE,IF(C110=$B$1,Worksheet!$B$3,IF(C110=$C$1,Worksheet!$B$4,IF(C110=$D$1,Worksheet!$B$5,IF(C110=$E$1,Worksheet!$B$6,IF(C110=$B$2,Worksheet!$B$7,IF(C110=$C$2,Worksheet!$D$3,IF(C110=$D$2,Worksheet!$D$4,IF(C110=$E$2,Worksheet!$D$5,IF(C110=$C$3,Worksheet!$D$6,IF(C110=$B$3,Worksheet!$D$7,IF(C110=$D$3,Worksheet!$B$10,IF(C110=$E$3,Worksheet!$D$10,FALSE)))))))))))))","v":true},{"$f":"IF(AE110,D110,\"\")","v":"Easy"},{"$f":"IF(AE110,COUNTIF($AF$5:AF110,AF110),\"X\")","v":27},{"$f":"CONCATENATE(AE110,AF110)","v":"TRUEEasy"}]
[{"$f":"CONCATENATE(AE111,D111,AG111)","v":"TRUEEasy28"},{"$f":"RAND()","v":0.64190764109755305},"+-","Easy",39,"Add:   ",{"$f":"RANDBETWEEN(3,8)*100+RANDBETWEEN(5,9)*10","v":870},"+",{"$f":"RANDBETWEEN(6,9)*10","v":80},null,null,null,null,null,null,null,null,null,null,{"$f":"CONCATENATE(F111,\" \",G111,\" \",H111,\" \",I111,\" \",J111,\" \",K111,\" \",L111,\" \",M111,\" \",N111,\" \",O111,\" \",P111,\" \",Q111,\" \",R111)","v":"Add:    870 + 80         "},{"$f":"G111+I111","v":950},null,null,null,null,null,null,null,null,{"$f":"IF(OR(ISNA(U111),ISNA(V111),ISNA(W111),ISNA(X111),ISNA(Y111),ISNA(Z111),ISNA(AA111),ISNA(AB111),ISNA(AC111)),NA(),CONCATENATE(U111,V111,W111,X111,Y111,Z111,AA111,AB111))","v":"950"},{"$f":"IF(ISNA(AD111),FALSE,IF(C111=$B$1,Worksheet!$B$3,IF(C111=$C$1,Worksheet!$B$4,IF(C111=$D$1,Worksheet!$B$5,IF(C111=$E$1,Worksheet!$B$6,IF(C111=$B$2,Worksheet!$B$7,IF(C111=$C$2,Worksheet!$D$3,IF(C111=$D$2,Worksheet!$D$4,IF(C111=$E$2,Worksheet!$D$5,IF(C111=$C$3,Worksheet!$D$6,IF(C111=$B$3,Worksheet!$D$7,IF(C111=$D$3,Worksheet!$B$10,IF(C111=$E$3,Worksheet!$D$10,FALSE)))))))))))))","v":true},{"$f":"IF(AE111,D111,\"\")","v":"Easy"},{"$f":"IF(AE111,COUNTIF($AF$5:AF111,AF111),\"X\")","v":28},{"$f":"CONCATENATE(AE111,AF111)","v":"TRUEEasy"}]
[{"$f":"CONCATENATE(AE112,D112,AG112)","v":"TRUEHard34"},{"$f":"RAND()","v":0.10163626240036261},"Divide","Hard",127,"Divide by writing down a sum:  ",{"$f":"I112*RANDBETWEEN(1001/I112,9999/I112)","v":5292},"÷",{"$f":"RANDBETWEEN(6,9)","v":6},null,null,null,null,null,null,null,null,null,{"$f":"RANDBETWEEN(4,9)","v":5},{"$f":"CONCATENATE(F112,\" \",G112,\" \",H112,\" \",I112,\" \",J112,\" \",K112,\" \",L112,\" \",M112,\" \",N112,\" \",O112,\" \",P112,\" \",Q112,\" \",R112)","v":"Divide by writing down a sum:   5292 ÷ 6         "},{"$f":"G112/I112","v":882},null,{"$f":"IF(INT(U112)<>U112,NA(),\"\")","v":""},null,null,null,null,null,null,{"$f":"IF(OR(ISNA(U112),ISNA(V112),ISNA(W112),ISNA(X112),ISNA(Y112),ISNA(Z112),ISNA(AA112),ISNA(AB112),ISNA(AC112)),NA(),CONCATENATE(U112,V112,W112,X112,Y112,Z112,AA112,AB112))","v":"882"},{"$f":"IF(ISNA(AD112),FALSE,IF(C112=$B$1,Worksheet!$B$3,IF(C112=$C$1,Worksheet!$B$4,IF(C112=$D$1,Worksheet!$B$5,IF(C112=$E$1,Worksheet!$B$6,IF(C112=$B$2,Worksheet!$B$7,IF(C112=$C$2,Worksheet!$D$3,IF(C112=$D$2,Worksheet!$D$4,IF(C112=$E$2,Worksheet!$D$5,IF(C112=$C$3,Worksheet!$D$6,IF(C112=$B$3,Worksheet!$D$7,IF(C112=$D$3,Worksheet!$B$10,IF(C112=$E$3,Worksheet!$D$10,FALSE)))))))))))))","v":true},{"$f":"IF(AE112,D112,\"\")","v":"Hard"},{"$f":"IF(AE112,COUNTIF($AF$5:AF112,AF112),\"X\")","v":34},{"$f":"CONCATENATE(AE112,AF112)","v":"TRUEHard"}]
[{"$f":"CONCATENATE(AE113,D113,AG113)","v":"TRUEMedium40"},{"$f":"RAND()","v":0.931374233192927},"Frac","Medium",194,"Take away the fractions:       ",{"$f":"RANDBETWEEN(3,4)","v":4},"/5","  –  ",{"$f":"RANDBETWEEN(1,G113-1)","v":1},"/5",null,null,null,null,null,null,null,null,{"$f":"CONCATENATE(F113,\" \",G113,\"\",H113,\" \",I113,\" \",J113,\"\",K113,\" \",L113,\" \",M113,\" \",N113,\" \",O113,\" \",P113,\" \",Q113,\" \",R113)","v":"Take away the fractions:        4/5   –   1/5       "},{"$f":"IF(G113-J113=0,0,CONCATENATE(G113-J113,\"/5\"))","v":"3/5"},null,null,null,null,null,null,null,null,{"$f":"IF(OR(ISNA(U113),ISNA(V113),ISNA(W113),ISNA(X113),ISNA(Y113),ISNA(Z113),ISNA(AA113),ISNA(AB113),ISNA(AC113)),NA(),CONCATENATE(U113,V113,W113,X113,Y113,Z113,AA113,AB113))","v":"3/5"},{"$f":"IF(ISNA(AD113),FALSE,IF(C113=$B$1,Worksheet!$B$3,IF(C113=$C$1,Worksheet!$B$4,IF(C113=$D$1,Worksheet!$B$5,IF(C113=$E$1,Worksheet!$B$6,IF(C113=$B$2,Worksheet!$B$7,IF(C113=$C$2,Worksheet!$D$3,IF(C113=$D$2,Worksheet!$D$4,IF(C113=$E$2,Worksheet!$D$5,IF(C113=$C$3,Worksheet!$D$6,IF(C113=$B$3,Worksheet!$D$7,IF(C113=$D$3,Worksheet!$B$10,IF(C113=$E$3,Worksheet!$D$10,FALSE)))))))))))))","v":true},{"$f":"IF(AE113,D113,\"\")","v":"Medium"},{"$f":"IF(AE113,COUNTIF($AF$5:AF113,AF113),\"X\")","v":40},{"$f":"CONCATENATE(AE113,AF113)","v":"TRUEMedium"}]
[{"$f":"CONCATENATE(AE114,D114,AG114)","v":"TRUEEasy29"},{"$f":"RAND()","v":0.26201376352612993},"Dec","Easy",205,"Continue the pattern for three more numbers:   ",{"$f":"RANDBETWEEN(6,40)","v":28},{"$f":"G114+S114","v":27.5},{"$f":"H114+S114","v":27},{"$f":"I114+S114","v":26.5},"____","____","____",null,null,null,null,null,-0.5,{"$f":"CONCATENATE(F114,\" \",G114,\",   \",H114,\",   \",I114,\",   \",J114,\",   \",K114,\",   \",L114,\",   \",M114,\" \",N114,\" \",O114,\" \",P114,\" \",Q114,\" \",R114)","v":"Continue the pattern for three more numbers:    28,   27.5,   27,   26.5,   ____,   ____,   ____     "},{"$f":"J114+S114","v":26},{"$f":"U114+S114","v":25.5},{"$f":"V114+S114","v":25},null,null,null,null,null,null,{"$f":"IF(OR(ISNA(U114),ISNA(V114),ISNA(W114),ISNA(X114),ISNA(Y114),ISNA(Z114),ISNA(AA114),ISNA(AB114),ISNA(AC114)),NA(),CONCATENATE(U114,\",   \",V114,\",   \",W114,X114,Y114,Z114,AA114,AB114))","v":"26,   25.5,   25"},{"$f":"IF(ISNA(AD114),FALSE,IF(C114=$B$1,Worksheet!$B$3,IF(C114=$C$1,Worksheet!$B$4,IF(C114=$D$1,Worksheet!$B$5,IF(C114=$E$1,Worksheet!$B$6,IF(C114=$B$2,Worksheet!$B$7,IF(C114=$C$2,Worksheet!$D$3,IF(C114=$D$2,Worksheet!$D$4,IF(C114=$E$2,Worksheet!$D$5,IF(C114=$C$3,Worksheet!$D$6,IF(C114=$B$3,Worksheet!$D$7,IF(C114=$D$3,Worksheet!$B$10,IF(C114=$E$3,Worksheet!$D$10,FALSE)))))))))))))","v":true},{"$f":"IF(AE114,D114,\"\")","v":"Easy"},{"$f":"IF(AE114,COUNTIF($AF$5:AF114,AF114),\"X\")","v":29},{"$f":"CONCATENATE(AE114,AF114)","v":"TRUEEasy"}]
[{"$f":"CONCATENATE(AE115,D115,AG115)","v":"TRUEEasy30"},{"$f":"RAND()","v":0.12708116854420037},"Divide","Easy",130,"Divide:   ",{"$f":"TEXT(RANDBETWEEN(1,9)*1000+RANDBETWEEN(1,9)*100,\"#,###\")","v":"2,700"},"÷",100,null,null,null,null,null,null,null,null,null,null,{"$f":"CONCATENATE(F115,\" \",G115,\" \",H115,\" \",I115,\" \",J115,\" \",K115,\" \",L115,\" \",M115,\" \",N115,\" \",O115,\" \",P115,\" \",Q115,\" \",R115)","v":"Divide:    2,700 ÷ 100         "},{"$f":"G115/I115","v":27},null,{"$f":"IF(INT(U115)<>U115,NA(),\"\")","v":""},null,null,null,null,null,null,{"$f":"IF(OR(ISNA(U115),ISNA(V115),ISNA(W115),ISNA(X115),ISNA(Y115),ISNA(Z115),ISNA(AA115),ISNA(AB115),ISNA(AC115)),NA(),CONCATENATE(U115,V115,W115,X115,Y115,Z115,AA115,AB115))","v":"27"},{"$f":"IF(ISNA(AD115),FALSE,IF(C115=$B$1,Worksheet!$B$3,IF(C115=$C$1,Worksheet!$B$4,IF(C115=$D$1,Worksheet!$B$5,IF(C115=$E$1,Worksheet!$B$6,IF(C115=$B$2,Worksheet!$B$7,IF(C115=$C$2,Worksheet!$D$3,IF(C115=$D$2,Worksheet!$D$4,IF(C115=$E$2,Worksheet!$D$5,IF(C115=$C$3,Worksheet!$D$6,IF(C115=$B$3,Worksheet!$D$7,IF(C115=$D$3,Worksheet!$B$10,IF(C115=$E$3,Worksheet!$D$10,FALSE)))))))))))))","v":true},{"$f":"IF(AE115,D115,\"\")","v":"Easy"},{"$f":"IF(AE115,COUNTIF($AF$5:AF115,AF115),\"X\")","v":30},{"$f":"CONCATENATE(AE115,AF115)","v":"TRUEEasy"}]
[{"$f":"CONCATENATE(AE116,D116,AG116)","v":"TRUEMedium41"},{"$f":"RAND()","v":8.1014332886325535E-2},"%","Medium",304,"What is",{"$f":"RANDBETWEEN(1,9)/100","v":0.06},"as a percentage?",null,null,null,null,null,null,null,null,null,null,null,{"$f":"CONCATENATE(F116,\" \",G116,\" \",H116,\" \",I116,\" \",J116,\" \",K116,\" \",L116,\" \",M116,\" \",N116,\" \",O116,\" \",P116,\" \",Q116,\" \",R116)","v":"What is 0.06 as a percentage?          "},{"$f":"G116*100","v":6},"%",null,null,null,null,null,null,null,{"$f":"IF(OR(ISNA(U116),ISNA(V116),ISNA(W116),ISNA(X116),ISNA(Y116),ISNA(Z116),ISNA(AA116),ISNA(AB116),ISNA(AC116)),NA(),CONCATENATE(U116,V116,W116,X116,Y116,Z116,AA116,AB116))","v":"6%"},{"$f":"IF(ISNA(AD116),FALSE,IF(C116=$B$1,Worksheet!$B$3,IF(C116=$C$1,Worksheet!$B$4,IF(C116=$D$1,Worksheet!$B$5,IF(C116=$E$1,Worksheet!$B$6,IF(C116=$B$2,Worksheet!$B$7,IF(C116=$C$2,Worksheet!$D$3,IF(C116=$D$2,Worksheet!$D$4,IF(C116=$E$2,Worksheet!$D$5,IF(C116=$C$3,Worksheet!$D$6,IF(C116=$B$3,Worksheet!$D$7,IF(C116=$D$3,Worksheet!$B$10,IF(C116=$E$3,Worksheet!$D$10,FALSE)))))))))))))","v":true},{"$f":"IF(AE116,D116,\"\")","v":"Medium"},{"$f":"IF(AE116,COUNTIF($AF$5:AF116,AF116),\"X\")","v":41},{"$f":"CONCATENATE(AE116,AF116)","v":"TRUEMedium"}]
[{"$f":"CONCATENATE(AE117,D117,AG117)","v":"TRUEMedium42"},{"$f":"RAND()","v":0.97117137776095042},"Frac","Medium",153,"Fractions.   What is ",{"$f":"CHOOSE(RANDBETWEEN(1,3),\"2/5\",\"3/5\",\"4/5\")","v":"4/5"}," of",{"$f":"5*RANDBETWEEN(2,10)","v":50},"?",null,null,null,null,null,null,null,null,null,{"$f":"CONCATENATE(F117,\" \",G117,\" \",H117,\" \",I117,\" \",J117,\" \",K117,\" \",L117,\" \",M117,\" \",N117,\" \",O117,\" \",P117,\" \",Q117,\" \",R117)","v":"Fractions.   What is  4/5  of 50 ?        "},{"$f":"I117/5*IF(G117=\"2/5\",2,IF(G117=\"3/5\",3,4))","v":40},null,{"$f":"IF(AND(G117=G116,I117=I116),NA(),\"\")","v":""},null,{"$f":"IF(INT(U117)<>U117,NA(),\"\")","v":""},null,null,null,null,{"$f":"IF(OR(ISNA(U117),ISNA(V117),ISNA(W117),ISNA(X117),ISNA(Y117),ISNA(Z117),ISNA(AA117),ISNA(AB117),ISNA(AC117)),NA(),CONCATENATE(U117,V117,W117,X117,Y117,Z117,AA117,AB117))","v":"40"},{"$f":"IF(ISNA(AD117),FALSE,IF(C117=$B$1,Worksheet!$B$3,IF(C117=$C$1,Worksheet!$B$4,IF(C117=$D$1,Worksheet!$B$5,IF(C117=$E$1,Worksheet!$B$6,IF(C117=$B$2,Worksheet!$B$7,IF(C117=$C$2,Worksheet!$D$3,IF(C117=$D$2,Worksheet!$D$4,IF(C117=$E$2,Worksheet!$D$5,IF(C117=$C$3,Worksheet!$D$6,IF(C117=$B$3,Worksheet!$D$7,IF(C117=$D$3,Worksheet!$B$10,IF(C117=$E$3,Worksheet!$D$10,FALSE)))))))))))))","v":true},{"$f":"IF(AE117,D117,\"\")","v":"Medium"},{"$f":"IF(AE117,COUNTIF($AF$5:AF117,AF117),\"X\")","v":42},{"$f":"CONCATENATE(AE117,AF117)","v":"TRUEMedium"}]
[{"$f":"CONCATENATE(AE118,D118,AG118)","v":"TRUEMedium43"},{"$f":"RAND()","v":0.95186824509883983},"Divide","Medium",124,"Divide by writing down a sum:  ",{"$f":"I118*RANDBETWEEN(1001/I118,9999/I118)","v":5848},"÷",{"$f":"RANDBETWEEN(3,5)","v":4},null,null,null,null,null,null,null,null,null,{"$f":"RANDBETWEEN(4,9)","v":5},{"$f":"CONCATENATE(F118,\" \",G118,\" \",H118,\" \",I118,\" \",J118,\" \",K118,\" \",L118,\" \",M118,\" \",N118,\" \",O118,\" \",P118,\" \",Q118,\" \",R118)","v":"Divide by writing down a sum:   5848 ÷ 4         "},{"$f":"G118/I118","v":1462},null,{"$f":"IF(INT(U118)<>U118,NA(),\"\")","v":""},null,null,null,null,null,null,{"$f":"IF(OR(ISNA(U118),ISNA(V118),ISNA(W118),ISNA(X118),ISNA(Y118),ISNA(Z118),ISNA(AA118),ISNA(AB118),ISNA(AC118)),NA(),CONCATENATE(U118,V118,W118,X118,Y118,Z118,AA118,AB118))","v":"1462"},{"$f":"IF(ISNA(AD118),FALSE,IF(C118=$B$1,Worksheet!$B$3,IF(C118=$C$1,Worksheet!$B$4,IF(C118=$D$1,Worksheet!$B$5,IF(C118=$E$1,Worksheet!$B$6,IF(C118=$B$2,Worksheet!$B$7,IF(C118=$C$2,Worksheet!$D$3,IF(C118=$D$2,Worksheet!$D$4,IF(C118=$E$2,Worksheet!$D$5,IF(C118=$C$3,Worksheet!$D$6,IF(C118=$B$3,Worksheet!$D$7,IF(C118=$D$3,Worksheet!$B$10,IF(C118=$E$3,Worksheet!$D$10,FALSE)))))))))))))","v":true},{"$f":"IF(AE118,D118,\"\")","v":"Medium"},{"$f":"IF(AE118,COUNTIF($AF$5:AF118,AF118),\"X\")","v":43},{"$f":"CONCATENATE(AE118,AF118)","v":"TRUEMedium"}]
[{"$f":"CONCATENATE(AE119,D119,AG119)","v":"TRUEMedium44"},{"$f":"RAND()","v":0.14151496611778169},"Neg","Medium",357,"Continue the pattern for three more numbers:   ",{"$f":"RANDBETWEEN(2,4)*2","v":4},{"$f":"G119+S119","v":2},{"$f":"H119+S119","v":0},{"$f":"I119+S119","v":-2},"____","____","____",null,null,null,null,null,-2,{"$f":"CONCATENATE(F119,\" \",G119,\",   \",H119,\",   \",I119,\",   \",J119,\",   \",K119,\",   \",L119,\",   \",M119,\" \",N119,\" \",O119,\" \",P119,\" \",Q119,\" \",R119)","v":"Continue the pattern for three more numbers:    4,   2,   0,   -2,   ____,   ____,   ____     "},{"$f":"J119+S119","v":-4},{"$f":"U119+S119","v":-6},{"$f":"V119+S119","v":-8},null,null,null,null,null,null,{"$f":"IF(OR(ISNA(U119),ISNA(V119),ISNA(W119),ISNA(X119),ISNA(Y119),ISNA(Z119),ISNA(AA119),ISNA(AB119),ISNA(AC119)),NA(),CONCATENATE(U119,\",   \",V119,\",   \",W119,X119,Y119,Z119,AA119,AB119))","v":"-4,   -6,   -8"},{"$f":"IF(ISNA(AD119),FALSE,IF(C119=$B$1,Worksheet!$B$3,IF(C119=$C$1,Worksheet!$B$4,IF(C119=$D$1,Worksheet!$B$5,IF(C119=$E$1,Worksheet!$B$6,IF(C119=$B$2,Worksheet!$B$7,IF(C119=$C$2,Worksheet!$D$3,IF(C119=$D$2,Worksheet!$D$4,IF(C119=$E$2,Worksheet!$D$5,IF(C119=$C$3,Worksheet!$D$6,IF(C119=$B$3,Worksheet!$D$7,IF(C119=$D$3,Worksheet!$B$10,IF(C119=$E$3,Worksheet!$D$10,FALSE)))))))))))))","v":true},{"$f":"IF(AE119,D119,\"\")","v":"Medium"},{"$f":"IF(AE119,COUNTIF($AF$5:AF119,AF119),\"X\")","v":44},{"$f":"CONCATENATE(AE119,AF119)","v":"TRUEMedium"}]
[{"$f":"CONCATENATE(AE120,D120,AG120)","v":"FALSEEasyX"},{"$f":"RAND()","v":9.3527592731182385E-2},"Neg","Easy",343,"Rewrite the numbers in order from ",{"$f":"IF(RAND()<0.5,\"smallest to biggest:   \",\"biggest to smallest:   \")","v":"smallest to biggest:   "},{"$f":"RANDBETWEEN(-10,-1)","v":-8},{"$f":"RANDBETWEEN(-100,100)","v":-72},{"$f":"RANDBETWEEN(-100,100)","v":-8},{"$f":"RANDBETWEEN(0,10)","v":2},{"$f":"RANDBETWEEN(-100,100)","v":-7},null,{"$f":"L120","v":-7},{"$f":"H120","v":-8},{"$f":"I120","v":-72},{"$f":"J120","v":-8},{"$f":"K120","v":2},{"$f":"RANDBETWEEN(2,8)","v":2},{"$f":"CONCATENATE(F120,\" \",G120,\" \",H120,\",   \",I120,\",   \",J120,\",    \",K120,\",    \",L120,\" \",M120)","v":"Rewrite the numbers in order from  smallest to biggest:    -8,   -72,   -8,    2,    -7 "},{"$f":"IF(LARGE($N120:$R120,IF($G120=\"biggest to smallest:   \",1,5))=$O120,$H120,IF(LARGE($N120:$R120,IF($G120=\"biggest to smallest:   \",1,5))=$P120,$I120,IF(LARGE($N120:$R120,IF($G120=\"biggest to smallest:   \",1,5))=$Q120,$J120,IF(LARGE($N120:$R120,IF($G120=\"biggest to smallest:   \",1,5))=$R120,$K120,$L120))))","v":-72},{"$f":"IF(LARGE($N120:$R120,IF($G120=\"biggest to smallest:   \",2,4))=$O120,$H120,IF(LARGE($N120:$R120,IF($G120=\"biggest to smallest:   \",2,4))=$P120,$I120,IF(LARGE($N120:$R120,IF($G120=\"biggest to smallest:   \",2,4))=$Q120,$J120,IF(LARGE($N120:$R120,IF($G120=\"biggest to smallest:   \",2,4))=$R120,$K120,$L120))))","v":-8},{"$f":"IF(LARGE($N120:$R120,IF($G120=\"biggest to smallest:   \",3,3))=$O120,$H120,IF(LARGE($N120:$R120,IF($G120=\"biggest to smallest:   \",3,3))=$P120,$I120,IF(LARGE($N120:$R120,IF($G120=\"biggest to smallest:   \",3,3))=$Q120,$J120,IF(LARGE($N120:$R120,IF($G120=\"biggest to smallest:   \",3,3))=$R120,$K120,$L120))))","v":-8},{"$f":"IF(LARGE($N120:$R120,IF($G120=\"biggest to smallest:   \",4,2))=$O120,$H120,IF(LARGE($N120:$R120,IF($G120=\"biggest to smallest:   \",4,2))=$P120,$I120,IF(LARGE($N120:$R120,IF($G120=\"biggest to smallest:   \",4,2))=$Q120,$J120,IF(LARGE($N120:$R120,IF($G120=\"biggest to smallest:   \",4,2))=$R120,$K120,$L120))))","v":-7},{"$f":"IF(LARGE($N120:$R120,IF($G120=\"biggest to smallest:   \",5,1))=$O120,$H120,IF(LARGE($N120:$R120,IF($G120=\"biggest to smallest:   \",5,1))=$P120,$I120,IF(LARGE($N120:$R120,IF($G120=\"biggest to smallest:   \",5,1))=$Q120,$J120,IF(LARGE($N120:$R120,IF($G120=\"biggest to smallest:   \",5,1))=$R120,$K120,$L120))))","v":2},{"$f":"IF(OR(H120=I120,H120=J120,H120=K120,H120=L120,I120=J120,I120=K120,I120=L120,J120=K120,J120=L120,K120=L120),NA(),\"\")","v":{"$error":"#N/A"}},{"$f":"IF(IF(L120>0,1,0)+IF(K120>0,1,0)+IF(J120>0,1,0)+IF(I120>0,1,0)+IF(H120>0,1,0)>3,NA(),\"\")","v":""},{"$f":"IF(OR(H120=L120,I120=L120,J120=L120,K120=L120,I120=J120,I120=K120),NA(),\"\")","v":""},{"$f":"IF(ISERROR(T120),NA(),\"\")","v":""},{"$f":"IF(OR(ISNA(U120),ISNA(V120),ISNA(W120),ISNA(X120),ISNA(Y120)),NA(),CONCATENATE(U120,\",   \",V120,\",   \",W120,\",   \",X120,\",   \",Y120,Z120,AA120,AB120,AC120))","v":{"$error":"#N/A"}},{"$f":"IF(ISNA(AD120),FALSE,IF(C120=$B$1,Worksheet!$B$3,IF(C120=$C$1,Worksheet!$B$4,IF(C120=$D$1,Worksheet!$B$5,IF(C120=$E$1,Worksheet!$B$6,IF(C120=$B$2,Worksheet!$B$7,IF(C120=$C$2,Worksheet!$D$3,IF(C120=$D$2,Worksheet!$D$4,IF(C120=$E$2,Worksheet!$D$5,IF(C120=$C$3,Worksheet!$D$6,IF(C120=$B$3,Worksheet!$D$7,IF(C120=$D$3,Worksheet!$B$10,IF(C120=$E$3,Worksheet!$D$10,FALSE)))))))))))))","v":false},{"$f":"IF(AE120,D120,\"\")","v":""},{"$f":"IF(AE120,COUNTIF($AF$5:AF120,AF120),\"X\")","v":"X"},{"$f":"CONCATENATE(AE120,AF120)","v":"FALSE"}]
[{"$f":"CONCATENATE(AE121,D121,AG121)","v":"TRUEEasy31"},{"$f":"RAND()","v":0.54162494294468422},"Round","Easy",338,"Round",{"$f":"RANDBETWEEN(0,9)+RANDBETWEEN(1,9)/10","v":8.9},"to the nearest whole number",null,null,null,null,null,null,null,null,null,null,null,{"$f":"CONCATENATE(F121,\" \",G121,\" \",H121,\" \",I121,\" \",J121,\" \",K121,\" \",L121,\" \",M121,\" \",N121,\" \",O121,\" \",P121,\" \",Q121,\" \",R121)","v":"Round 8.9 to the nearest whole number          "},{"$f":"MROUND(G121,1)","v":9},null,null,null,null,null,null,null,null,{"$f":"IF(OR(ISNA(U121),ISNA(V121),ISNA(W121),ISNA(X121),ISNA(Y121),ISNA(Z121),ISNA(AA121),ISNA(AB121),ISNA(AC121)),NA(),CONCATENATE(U121,V121,W121,X121,Y121,Z121,AA121,AB121))","v":"9"},{"$f":"IF(ISNA(AD121),FALSE,IF(C121=$B$1,Worksheet!$B$3,IF(C121=$C$1,Worksheet!$B$4,IF(C121=$D$1,Worksheet!$B$5,IF(C121=$E$1,Worksheet!$B$6,IF(C121=$B$2,Worksheet!$B$7,IF(C121=$C$2,Worksheet!$D$3,IF(C121=$D$2,Worksheet!$D$4,IF(C121=$E$2,Worksheet!$D$5,IF(C121=$C$3,Worksheet!$D$6,IF(C121=$B$3,Worksheet!$D$7,IF(C121=$D$3,Worksheet!$B$10,IF(C121=$E$3,Worksheet!$D$10,FALSE)))))))))))))","v":true},{"$f":"IF(AE121,D121,\"\")","v":"Easy"},{"$f":"IF(AE121,COUNTIF($AF$5:AF121,AF121),\"X\")","v":31},{"$f":"CONCATENATE(AE121,AF121)","v":"TRUEEasy"}]
[{"$f":"CONCATENATE(AE122,D122,AG122)","v":"TRUEEasy32"},{"$f":"RAND()","v":0.24074935832965627},"Mult","Easy",56,"Write out all the numbers in the",{"$f":"RANDBETWEEN(6,9)","v":8},"times table going backwards:   ",{"$f":"CONCATENATE(10*G122,\",  \",G122*9,\",   \",G122*8)","v":"80,  72,   64"},", ___, ___, ___, ___, ___, ___, ___",null,null,null,null,null,null,null,null,null,{"$f":"CONCATENATE(F122,\" \",G122,\" \",H122,\" \",I122,\" \",J122,\" \",K122,\" \",L122,\" \",M122,\" \",N122,\" \",O122,\" \",P122,\" \",Q122,\" \",R122)","v":"Write out all the numbers in the 8 times table going backwards:    80,  72,   64 , ___, ___, ___, ___, ___, ___, ___        "},{"$f":"CONCATENATE(G122*4,\",  \",G122*5,\",  \",G122*6,\",  \",G122*7,\",  \",G122*8,\",  \",G122*9,\",  \",G122*10)","v":"32,  40,  48,  56,  64,  72,  80"},null,null,null,null,null,null,null,null,{"$f":"IF(OR(ISNA(U122),ISNA(V122),ISNA(W122),ISNA(X122),ISNA(Y122),ISNA(Z122),ISNA(AA122),ISNA(AB122),ISNA(AC122)),NA(),CONCATENATE(U122,V122,W122,X122,Y122,Z122,AA122,AB122))","v":"32,  40,  48,  56,  64,  72,  80"},{"$f":"IF(ISNA(AD122),FALSE,IF(C122=$B$1,Worksheet!$B$3,IF(C122=$C$1,Worksheet!$B$4,IF(C122=$D$1,Worksheet!$B$5,IF(C122=$E$1,Worksheet!$B$6,IF(C122=$B$2,Worksheet!$B$7,IF(C122=$C$2,Worksheet!$D$3,IF(C122=$D$2,Worksheet!$D$4,IF(C122=$E$2,Worksheet!$D$5,IF(C122=$C$3,Worksheet!$D$6,IF(C122=$B$3,Worksheet!$D$7,IF(C122=$D$3,Worksheet!$B$10,IF(C122=$E$3,Worksheet!$D$10,FALSE)))))))))))))","v":true},{"$f":"IF(AE122,D122,\"\")","v":"Easy"},{"$f":"IF(AE122,COUNTIF($AF$5:AF122,AF122),\"X\")","v":32},{"$f":"CONCATENATE(AE122,AF122)","v":"TRUEEasy"}]
[{"$f":"CONCATENATE(AE123,D123,AG123)","v":"TRUEHard35"},{"$f":"RAND()","v":0.43062781855512122},"+-","Hard",35,"Fill in the missing number:   ","____ +",{"$f":"RANDBETWEEN(1,8)*1000+RANDBETWEEN(1,8)*100+RANDBETWEEN(1,8)*10+RANDBETWEEN(1,9)","v":7672},"=",{"$f":"INT((H123+1000)/1000)*1000","v":8000},null,null,null,null,null,null,null,null,null,{"$f":"CONCATENATE(F123,\" \",G123,\" \",H123,\" \",I123,\" \",J123,\" \",K123,\" \",L123,\" \",M123,\" \",N123,\" \",O123,\" \",P123,\" \",Q123,\" \",R123)","v":"Fill in the missing number:    ____ + 7672 = 8000        "},{"$f":"J123-H123","v":328},null,null,null,null,null,null,null,null,{"$f":"IF(OR(ISNA(U123),ISNA(V123),ISNA(W123),ISNA(X123),ISNA(Y123),ISNA(Z123),ISNA(AA123),ISNA(AB123),ISNA(AC123)),NA(),CONCATENATE(U123,V123,W123,X123,Y123,Z123,AA123,AB123))","v":"328"},{"$f":"IF(ISNA(AD123),FALSE,IF(C123=$B$1,Worksheet!$B$3,IF(C123=$C$1,Worksheet!$B$4,IF(C123=$D$1,Worksheet!$B$5,IF(C123=$E$1,Worksheet!$B$6,IF(C123=$B$2,Worksheet!$B$7,IF(C123=$C$2,Worksheet!$D$3,IF(C123=$D$2,Worksheet!$D$4,IF(C123=$E$2,Worksheet!$D$5,IF(C123=$C$3,Worksheet!$D$6,IF(C123=$B$3,Worksheet!$D$7,IF(C123=$D$3,Worksheet!$B$10,IF(C123=$E$3,Worksheet!$D$10,FALSE)))))))))))))","v":true},{"$f":"IF(AE123,D123,\"\")","v":"Hard"},{"$f":"IF(AE123,COUNTIF($AF$5:AF123,AF123),\"X\")","v":35},{"$f":"CONCATENATE(AE123,AF123)","v":"TRUEHard"}]
[{"$f":"CONCATENATE(AE124,D124,AG124)","v":"TRUEMedium45"},{"$f":"RAND()","v":0.52428967069569588},"Divide","Medium",132,"Divide:   ",{"$f":"TEXT((RANDBETWEEN(1,9)*10+RANDBETWEEN(1,9))*10^RANDBETWEEN(4,5),\"#,###\")","v":"6,200,000"},"÷",{"$f":"10^RANDBETWEEN(2,3)","v":100},null,null,null,null,null,null,null,null,null,null,{"$f":"CONCATENATE(F124,\" \",G124,\" \",H124,\" \",I124,\" \",J124,\" \",K124,\" \",L124,\" \",M124,\" \",N124,\" \",O124,\" \",P124,\" \",Q124,\" \",R124)","v":"Divide:    6,200,000 ÷ 100         "},{"$f":"TEXT(G124/I124,\"#,###\")","v":"62,000"},null,null,null,null,null,null,null,null,{"$f":"IF(OR(ISNA(U124),ISNA(V124),ISNA(W124),ISNA(X124),ISNA(Y124),ISNA(Z124),ISNA(AA124),ISNA(AB124),ISNA(AC124)),NA(),CONCATENATE(U124,V124,W124,X124,Y124,Z124,AA124,AB124))","v":"62,000"},{"$f":"IF(ISNA(AD124),FALSE,IF(C124=$B$1,Worksheet!$B$3,IF(C124=$C$1,Worksheet!$B$4,IF(C124=$D$1,Worksheet!$B$5,IF(C124=$E$1,Worksheet!$B$6,IF(C124=$B$2,Worksheet!$B$7,IF(C124=$C$2,Worksheet!$D$3,IF(C124=$D$2,Worksheet!$D$4,IF(C124=$E$2,Worksheet!$D$5,IF(C124=$C$3,Worksheet!$D$6,IF(C124=$B$3,Worksheet!$D$7,IF(C124=$D$3,Worksheet!$B$10,IF(C124=$E$3,Worksheet!$D$10,FALSE)))))))))))))","v":true},{"$f":"IF(AE124,D124,\"\")","v":"Medium"},{"$f":"IF(AE124,COUNTIF($AF$5:AF124,AF124),\"X\")","v":45},{"$f":"CONCATENATE(AE124,AF124)","v":"TRUEMedium"}]
[{"$f":"CONCATENATE(AE125,D125,AG125)","v":"TRUEHard36"},{"$f":"RAND()","v":0.85971979799645015},"Mult","Hard",89,"Write down all six factors of",{"$f":"CHOOSE(RANDBETWEEN(1,3),12,18,50)","v":18},null,null,null,null,null,null,null,null,null,null,null,null,{"$f":"CONCATENATE(F125,\" \",G125,\" \",H125,\" \",I125,\" \",J125,\" \",K125,\" \",L125,\" \",M125,\" \",N125,\" \",O125,\" \",P125,\" \",Q125,\" \",R125)","v":"Write down all six factors of 18           "},{"$f":"IF(G125=12,\"1, 2, 3, 4, 6 and 12\",IF(G125=18,\"1, 2, 3, 6, 8 and 18\",\"1, 2, 5, 10, 25 and 50\"))","v":"1, 2, 3, 6, 8 and 18"},null,null,null,null,null,null,null,null,{"$f":"IF(OR(ISNA(U125),ISNA(V125),ISNA(W125),ISNA(X125),ISNA(Y125),ISNA(Z125),ISNA(AA125),ISNA(AB125),ISNA(AC125)),NA(),CONCATENATE(U125,V125,W125,X125,Y125,Z125,AA125,AB125))","v":"1, 2, 3, 6, 8 and 18"},{"$f":"IF(ISNA(AD125),FALSE,IF(C125=$B$1,Worksheet!$B$3,IF(C125=$C$1,Worksheet!$B$4,IF(C125=$D$1,Worksheet!$B$5,IF(C125=$E$1,Worksheet!$B$6,IF(C125=$B$2,Worksheet!$B$7,IF(C125=$C$2,Worksheet!$D$3,IF(C125=$D$2,Worksheet!$D$4,IF(C125=$E$2,Worksheet!$D$5,IF(C125=$C$3,Worksheet!$D$6,IF(C125=$B$3,Worksheet!$D$7,IF(C125=$D$3,Worksheet!$B$10,IF(C125=$E$3,Worksheet!$D$10,FALSE)))))))))))))","v":true},{"$f":"IF(AE125,D125,\"\")","v":"Hard"},{"$f":"IF(AE125,COUNTIF($AF$5:AF125,AF125),\"X\")","v":36},{"$f":"CONCATENATE(AE125,AF125)","v":"TRUEHard"}]
[{"$f":"CONCATENATE(AE126,D126,AG126)","v":"TRUEMedium46"},{"$f":"RAND()","v":0.39279404344517022},"Dec","Medium",252,"Continue the pattern for three more numbers:   ",{"$f":"RANDBETWEEN(1,40)+RANDBETWEEN(0,8)*0.1+0.06","v":14.26},{"$f":"G126+S126","v":14.27},{"$f":"H126+S126","v":14.28},{"$f":"I126+S126","v":14.29},"____","____","____",null,null,null,null,null,0.01,{"$f":"CONCATENATE(F126,\" \",G126,\",   \",H126,\",   \",I126,\",   \",J126,\",   \",K126,\",   \",L126,\",   \",M126,\" \",N126,\" \",O126,\" \",P126,\" \",Q126,\" \",R126)","v":"Continue the pattern for three more numbers:    14.26,   14.27,   14.28,   14.29,   ____,   ____,   ____     "},{"$f":"J126+S126","v":14.299999999999999},{"$f":"U126+S126","v":14.309999999999999},{"$f":"V126+S126","v":14.319999999999999},null,null,null,null,null,null,{"$f":"IF(OR(ISNA(U126),ISNA(V126),ISNA(W126),ISNA(X126),ISNA(Y126),ISNA(Z126),ISNA(AA126),ISNA(AB126),ISNA(AC126)),NA(),CONCATENATE(U126,\",   \",V126,\",   \",W126,X126,Y126,Z126,AA126,AB126))","v":"14.3,   14.31,   14.32"},{"$f":"IF(ISNA(AD126),FALSE,IF(C126=$B$1,Worksheet!$B$3,IF(C126=$C$1,Worksheet!$B$4,IF(C126=$D$1,Worksheet!$B$5,IF(C126=$E$1,Worksheet!$B$6,IF(C126=$B$2,Worksheet!$B$7,IF(C126=$C$2,Worksheet!$D$3,IF(C126=$D$2,Worksheet!$D$4,IF(C126=$E$2,Worksheet!$D$5,IF(C126=$C$3,Worksheet!$D$6,IF(C126=$B$3,Worksheet!$D$7,IF(C126=$D$3,Worksheet!$B$10,IF(C126=$E$3,Worksheet!$D$10,FALSE)))))))))))))","v":true},{"$f":"IF(AE126,D126,\"\")","v":"Medium"},{"$f":"IF(AE126,COUNTIF($AF$5:AF126,AF126),\"X\")","v":46},{"$f":"CONCATENATE(AE126,AF126)","v":"TRUEMedium"}]
[{"$f":"CONCATENATE(AE127,D127,AG127)","v":"TRUEHard37"},{"$f":"RAND()","v":0.35020041032105886},"Frac","Hard",181,"If it can be simplified, write the fraction",{"$f":"RANDBETWEEN(2,0.75*I127)","v":4},"/",{"$f":"RANDBETWEEN(5,10)*RANDBETWEEN(2,5)","v":30},"in its simplest form",null,null,null,null,null,null,null,null,null,{"$f":"CONCATENATE(F127,\" \",G127,\"\",H127,\"\",I127,\" \",J127,\" \",K127,\" \",L127,\" \",M127,\" \",N127,\" \",O127,\" \",P127,\" \",Q127,\" \",R127)","v":"If it can be simplified, write the fraction 4/30 in its simplest form        "},{"$f":"G127/GCD(G127,I127)","v":2},"/",{"$f":"I127/GCD(G127,I127)","v":15},null,null,null,null,null,null,{"$f":"IF(OR(ISNA(U127),ISNA(V127),ISNA(W127),ISNA(X127),ISNA(Y127),ISNA(Z127),ISNA(AA127),ISNA(AB127),ISNA(AC127)),NA(),CONCATENATE(U127,V127,W127,X127,Y127,Z127,AA127,AB127))","v":"2/15"},{"$f":"IF(ISNA(AD127),FALSE,IF(C127=$B$1,Worksheet!$B$3,IF(C127=$C$1,Worksheet!$B$4,IF(C127=$D$1,Worksheet!$B$5,IF(C127=$E$1,Worksheet!$B$6,IF(C127=$B$2,Worksheet!$B$7,IF(C127=$C$2,Worksheet!$D$3,IF(C127=$D$2,Worksheet!$D$4,IF(C127=$E$2,Worksheet!$D$5,IF(C127=$C$3,Worksheet!$D$6,IF(C127=$B$3,Worksheet!$D$7,IF(C127=$D$3,Worksheet!$B$10,IF(C127=$E$3,Worksheet!$D$10,FALSE)))))))))))))","v":true},{"$f":"IF(AE127,D127,\"\")","v":"Hard"},{"$f":"IF(AE127,COUNTIF($AF$5:AF127,AF127),\"X\")","v":37},{"$f":"CONCATENATE(AE127,AF127)","v":"TRUEHard"}]
[{"$f":"CONCATENATE(AE128,D128,AG128)","v":"TRUEMedium47"},{"$f":"RAND()","v":0.24862349999505384},"Divide","Medium",119,"Divide:   ",{"$f":"U128*I128","v":63},"÷",{"$f":"RANDBETWEEN(6,9)","v":9},null,null,null,null,null,null,null,null,null,null,{"$f":"CONCATENATE(F128,\" \",G128,\" \",H128,\" \",I128,\" \",J128,\" \",K128,\" \",L128,\" \",M128,\" \",N128,\" \",O128,\" \",P128,\" \",Q128,\" \",R128)","v":"Divide:    63 ÷ 9         "},{"$f":"RANDBETWEEN(6,9)","v":7},null,null,null,null,null,null,null,null,{"$f":"IF(OR(ISNA(U128),ISNA(V128),ISNA(W128),ISNA(X128),ISNA(Y128),ISNA(Z128),ISNA(AA128),ISNA(AB128),ISNA(AC128)),NA(),CONCATENATE(U128,V128,W128,X128,Y128,Z128,AA128,AB128))","v":"7"},{"$f":"IF(ISNA(AD128),FALSE,IF(C128=$B$1,Worksheet!$B$3,IF(C128=$C$1,Worksheet!$B$4,IF(C128=$D$1,Worksheet!$B$5,IF(C128=$E$1,Worksheet!$B$6,IF(C128=$B$2,Worksheet!$B$7,IF(C128=$C$2,Worksheet!$D$3,IF(C128=$D$2,Worksheet!$D$4,IF(C128=$E$2,Worksheet!$D$5,IF(C128=$C$3,Worksheet!$D$6,IF(C128=$B$3,Worksheet!$D$7,IF(C128=$D$3,Worksheet!$B$10,IF(C128=$E$3,Worksheet!$D$10,FALSE)))))))))))))","v":true},{"$f":"IF(AE128,D128,\"\")","v":"Medium"},{"$f":"IF(AE128,COUNTIF($AF$5:AF128,AF128),\"X\")","v":47},{"$f":"CONCATENATE(AE128,AF128)","v":"TRUEMedium"}]
[{"$f":"CONCATENATE(AE129,D129,AG129)","v":"TRUEHard38"},{"$f":"RAND()","v":0.74630505277160863},"Dec","Hard",271,"Write these numbers in order from",{"$f":"CHOOSE(RANDBETWEEN(1,2),\"smallest to biggest:\",\"biggest to smallest:\")","v":"biggest to smallest:"},{"$f":"S129+0.1+R129/100","v":7.18},{"$f":"S129*1.1","v":7.7000000000000011},{"$f":"S129+R129/10","v":7.8},{"$f":"S129+R129/100","v":7.08},null,null,null,null,null,null,{"$f":"SMALL(IF(S129={1,2,3,4,5,6,7,8,9},\"\",{1,2,3,4,5,6,7,8,9}),RANDBETWEEN(1,8))","v":8},{"$f":"RANDBETWEEN(1,9)","v":7},{"$f":"CONCATENATE(F129,\" \",G129,\"   \",H129,\",  \",I129,\",  \",J129,\",  \",K129,\" \",L129,\" \",M129,\" \",N129)","v":"Write these numbers in order from biggest to smallest:   7.18,  7.7,  7.8,  7.08   "},{"$f":"IF($G129=\"smallest to biggest:\",LARGE($H129:$K129,4),LARGE($H129:$K129,1))","v":7.8},{"$f":"IF($G129=\"smallest to biggest:\",LARGE($H129:$K129,3),LARGE($H129:$K129,2))","v":7.7000000000000011},{"$f":"IF($G129=\"smallest to biggest:\",LARGE($H129:$K129,2),LARGE($H129:$K129,3))","v":7.18},{"$f":"IF($G129=\"smallest to biggest:\",LARGE($H129:$K129,1),LARGE($H129:$K129,4))","v":7.08},null,{"$f":"IF(OR(H129=I129,H129=J129,H129=K129,I129=J129,I129=K129,J129=K129),NA(),\"\")","v":""},null,null,null,{"$f":"IF(OR(ISNA(U129),ISNA(V129),ISNA(W129),ISNA(X129),ISNA(Y129),ISNA(Z129),ISNA(AA129),ISNA(AB129),ISNA(AC129)),NA(),CONCATENATE(U129,\",  \",V129,\",  \",W129,\",  \",X129,Y129,Z129,AA129,AB129))","v":"7.8,  7.7,  7.18,  7.08"},{"$f":"IF(ISNA(AD129),FALSE,IF(C129=$B$1,Worksheet!$B$3,IF(C129=$C$1,Worksheet!$B$4,IF(C129=$D$1,Worksheet!$B$5,IF(C129=$E$1,Worksheet!$B$6,IF(C129=$B$2,Worksheet!$B$7,IF(C129=$C$2,Worksheet!$D$3,IF(C129=$D$2,Worksheet!$D$4,IF(C129=$E$2,Worksheet!$D$5,IF(C129=$C$3,Worksheet!$D$6,IF(C129=$B$3,Worksheet!$D$7,IF(C129=$D$3,Worksheet!$B$10,IF(C129=$E$3,Worksheet!$D$10,FALSE)))))))))))))","v":true},{"$f":"IF(AE129,D129,\"\")","v":"Hard"},{"$f":"IF(AE129,COUNTIF($AF$5:AF129,AF129),\"X\")","v":38},{"$f":"CONCATENATE(AE129,AF129)","v":"TRUEHard"}]
[{"$f":"CONCATENATE(AE130,D130,AG130)","v":"TRUEHard39"},{"$f":"RAND()","v":0.4110327722977517},"Dec","Hard",287,"Take away by writing down a sum:   ",{"$f":"RANDBETWEEN(20,99)+RANDBETWEEN(1,9)/100+RANDBETWEEN(1,9)/10","v":55.67},"–",{"$f":"RANDBETWEEN(10,INT(G130)-1)+RANDBETWEEN(0,9)/10+RANDBETWEEN(1,9)/100","v":50.620000000000005},null,null,null,null,null,null,null,null,null,null,{"$f":"CONCATENATE(F130,\" \",G130,\" \",H130,\" \",I130,\" \",J130,\" \",K130,\" \",L130,\" \",M130,\" \",N130,\" \",O130,\" \",P130,\" \",Q130,\" \",R130)","v":"Take away by writing down a sum:    55.67 – 50.62         "},{"$f":"G130-I130","v":5.0499999999999972},null,null,null,null,null,null,null,null,{"$f":"IF(OR(ISNA(U130),ISNA(V130),ISNA(W130),ISNA(X130),ISNA(Y130),ISNA(Z130),ISNA(AA130),ISNA(AB130),ISNA(AC130)),NA(),CONCATENATE(U130,V130,W130,X130,Y130,Z130,AA130,AB130))","v":"5.05"},{"$f":"IF(ISNA(AD130),FALSE,IF(C130=$B$1,Worksheet!$B$3,IF(C130=$C$1,Worksheet!$B$4,IF(C130=$D$1,Worksheet!$B$5,IF(C130=$E$1,Worksheet!$B$6,IF(C130=$B$2,Worksheet!$B$7,IF(C130=$C$2,Worksheet!$D$3,IF(C130=$D$2,Worksheet!$D$4,IF(C130=$E$2,Worksheet!$D$5,IF(C130=$C$3,Worksheet!$D$6,IF(C130=$B$3,Worksheet!$D$7,IF(C130=$D$3,Worksheet!$B$10,IF(C130=$E$3,Worksheet!$D$10,FALSE)))))))))))))","v":true},{"$f":"IF(AE130,D130,\"\")","v":"Hard"},{"$f":"IF(AE130,COUNTIF($AF$5:AF130,AF130),\"X\")","v":39},{"$f":"CONCATENATE(AE130,AF130)","v":"TRUEHard"}]
[{"$f":"CONCATENATE(AE131,D131,AG131)","v":"TRUEMedium48"},{"$f":"RAND()","v":0.32918049654426829},"Mult","Medium",94,"Multiply:   ",{"$f":"10^RANDBETWEEN(2,3)","v":100},"×",{"$f":"RANDBETWEEN(1,9)*10+RANDBETWEEN(1,9)","v":38},null,null,null,null,null,null,null,null,null,null,{"$f":"CONCATENATE(F131,\" \",G131,\" \",H131,\" \",I131,\" \",J131,\" \",K131,\" \",L131,\" \",M131,\" \",N131,\" \",O131,\" \",P131,\" \",Q131,\" \",R131)","v":"Multiply:    100 × 38         "},{"$f":"G131*I131","v":3800},null,null,null,null,null,null,null,null,{"$f":"IF(OR(ISNA(U131),ISNA(V131),ISNA(W131),ISNA(X131),ISNA(Y131),ISNA(Z131),ISNA(AA131),ISNA(AB131),ISNA(AC131)),NA(),CONCATENATE(U131,V131,W131,X131,Y131,Z131,AA131,AB131))","v":"3800"},{"$f":"IF(ISNA(AD131),FALSE,IF(C131=$B$1,Worksheet!$B$3,IF(C131=$C$1,Worksheet!$B$4,IF(C131=$D$1,Worksheet!$B$5,IF(C131=$E$1,Worksheet!$B$6,IF(C131=$B$2,Worksheet!$B$7,IF(C131=$C$2,Worksheet!$D$3,IF(C131=$D$2,Worksheet!$D$4,IF(C131=$E$2,Worksheet!$D$5,IF(C131=$C$3,Worksheet!$D$6,IF(C131=$B$3,Worksheet!$D$7,IF(C131=$D$3,Worksheet!$B$10,IF(C131=$E$3,Worksheet!$D$10,FALSE)))))))))))))","v":true},{"$f":"IF(AE131,D131,\"\")","v":"Medium"},{"$f":"IF(AE131,COUNTIF($AF$5:AF131,AF131),\"X\")","v":48},{"$f":"CONCATENATE(AE131,AF131)","v":"TRUEMedium"}]
[{"$f":"CONCATENATE(AE132,D132,AG132)","v":"TRUEMedium49"},{"$f":"RAND()","v":0.44420770424941702},"Dec","Medium",276,"Multiply:   ",{"$f":"RANDBETWEEN(1,9)+RANDBETWEEN(1,9)/10","v":1.4},"× 10",null,null,null,null,null,null,null,null,null,null,null,{"$f":"CONCATENATE(F132,\" \",G132,\" \",H132,\" \",I132,\" \",J132,\" \",K132,\" \",L132,\" \",M132,\" \",N132,\" \",O132,\" \",P132,\" \",Q132,\" \",R132)","v":"Multiply:    1.4 × 10          "},{"$f":"G132*10","v":14},null,null,null,null,null,null,null,null,{"$f":"IF(OR(ISNA(U132),ISNA(V132),ISNA(W132),ISNA(X132),ISNA(Y132),ISNA(Z132),ISNA(AA132),ISNA(AB132),ISNA(AC132)),NA(),CONCATENATE(U132,V132,W132,X132,Y132,Z132,AA132,AB132))","v":"14"},{"$f":"IF(ISNA(AD132),FALSE,IF(C132=$B$1,Worksheet!$B$3,IF(C132=$C$1,Worksheet!$B$4,IF(C132=$D$1,Worksheet!$B$5,IF(C132=$E$1,Worksheet!$B$6,IF(C132=$B$2,Worksheet!$B$7,IF(C132=$C$2,Worksheet!$D$3,IF(C132=$D$2,Worksheet!$D$4,IF(C132=$E$2,Worksheet!$D$5,IF(C132=$C$3,Worksheet!$D$6,IF(C132=$B$3,Worksheet!$D$7,IF(C132=$D$3,Worksheet!$B$10,IF(C132=$E$3,Worksheet!$D$10,FALSE)))))))))))))","v":true},{"$f":"IF(AE132,D132,\"\")","v":"Medium"},{"$f":"IF(AE132,COUNTIF($AF$5:AF132,AF132),\"X\")","v":49},{"$f":"CONCATENATE(AE132,AF132)","v":"TRUEMedium"}]
[{"$f":"CONCATENATE(AE133,D133,AG133)","v":"TRUEHard40"},{"$f":"RAND()","v":0.44431953115184697},"Mult","Hard",72,"What is:   ",{"$f":"RANDBETWEEN(2,10)","v":9},"×",{"$f":"RANDBETWEEN(2,10)","v":10},"–",{"$f":"RANDBETWEEN(2,10)","v":6},"×",{"$f":"RANDBETWEEN(2,10)","v":4},"     ?",null,null,null,null,null,{"$f":"CONCATENATE(F133,\" \",G133,\" \",H133,\" \",I133,\" \",J133,\" \",K133,\" \",L133,\" \",M133,\" \",N133,\" \",O133,\" \",P133,\" \",Q133,\" \",R133)","v":"What is:    9 × 10 – 6 × 4      ?    "},{"$f":"G133*I133-K133*M133","v":66},{"$f":"IF(U133<0,NA(),\"\")","v":""},null,null,null,null,null,null,null,{"$f":"IF(OR(ISNA(U133),ISNA(V133),ISNA(W133),ISNA(X133),ISNA(Y133),ISNA(Z133),ISNA(AA133),ISNA(AB133),ISNA(AC133)),NA(),CONCATENATE(U133,V133,W133,X133,Y133,Z133,AA133,AB133))","v":"66"},{"$f":"IF(ISNA(AD133),FALSE,IF(C133=$B$1,Worksheet!$B$3,IF(C133=$C$1,Worksheet!$B$4,IF(C133=$D$1,Worksheet!$B$5,IF(C133=$E$1,Worksheet!$B$6,IF(C133=$B$2,Worksheet!$B$7,IF(C133=$C$2,Worksheet!$D$3,IF(C133=$D$2,Worksheet!$D$4,IF(C133=$E$2,Worksheet!$D$5,IF(C133=$C$3,Worksheet!$D$6,IF(C133=$B$3,Worksheet!$D$7,IF(C133=$D$3,Worksheet!$B$10,IF(C133=$E$3,Worksheet!$D$10,FALSE)))))))))))))","v":true},{"$f":"IF(AE133,D133,\"\")","v":"Hard"},{"$f":"IF(AE133,COUNTIF($AF$5:AF133,AF133),\"X\")","v":40},{"$f":"CONCATENATE(AE133,AF133)","v":"TRUEHard"}]
[{"$f":"CONCATENATE(AE134,D134,AG134)","v":"TRUEEasy33"},{"$f":"RAND()","v":0.68642787920393833},"Dec","Easy",219,"Write the decimal number",{"$f":"CHOOSE(RANDBETWEEN(1,4),1,3,7,9)/10","v":0.3},"as a fraction",null,null,null,null,null,null,null,null,null,null,null,{"$f":"CONCATENATE(F134,\" \",G134,\" \",H134,\" \",I134,\" \",J134,\" \",K134,\" \",L134,\" \",M134,\" \",N134,\" \",O134,\" \",P134,\" \",Q134,\" \",R134)","v":"Write the decimal number 0.3 as a fraction          "},{"$f":"G134*10","v":3},"/10",null,null,null,null,null,null,null,{"$f":"IF(OR(ISNA(U134),ISNA(V134),ISNA(W134),ISNA(X134),ISNA(Y134),ISNA(Z134),ISNA(AA134),ISNA(AB134),ISNA(AC134)),NA(),CONCATENATE(U134,V134,W134,X134,Y134,Z134,AA134,AB134))","v":"3/10"},{"$f":"IF(ISNA(AD134),FALSE,IF(C134=$B$1,Worksheet!$B$3,IF(C134=$C$1,Worksheet!$B$4,IF(C134=$D$1,Worksheet!$B$5,IF(C134=$E$1,Worksheet!$B$6,IF(C134=$B$2,Worksheet!$B$7,IF(C134=$C$2,Worksheet!$D$3,IF(C134=$D$2,Worksheet!$D$4,IF(C134=$E$2,Worksheet!$D$5,IF(C134=$C$3,Worksheet!$D$6,IF(C134=$B$3,Worksheet!$D$7,IF(C134=$D$3,Worksheet!$B$10,IF(C134=$E$3,Worksheet!$D$10,FALSE)))))))))))))","v":true},{"$f":"IF(AE134,D134,\"\")","v":"Easy"},{"$f":"IF(AE134,COUNTIF($AF$5:AF134,AF134),\"X\")","v":33},{"$f":"CONCATENATE(AE134,AF134)","v":"TRUEEasy"}]
[{"$f":"CONCATENATE(AE135,D135,AG135)","v":"TRUEMedium50"},{"$f":"RAND()","v":0.30630458868910659},"%","Medium",311,"What is",10,"% as a fraction in its simplest form?",null,null,null,null,null,null,null,null,null,null,null,{"$f":"CONCATENATE(F135,\" \",G135,\"\",H135,\" \",I135,\" \",J135,\" \",K135,\" \",L135,\" \",M135,\" \",N135,\" \",O135,\" \",P135,\" \",Q135,\" \",R135)","v":"What is 10% as a fraction in its simplest form?          "},"1/10",null,null,null,null,null,null,null,null,{"$f":"IF(OR(ISNA(U135),ISNA(V135),ISNA(W135),ISNA(X135),ISNA(Y135),ISNA(Z135),ISNA(AA135),ISNA(AB135),ISNA(AC135)),NA(),CONCATENATE(U135,V135,W135,X135,Y135,Z135,AA135,AB135))","v":"1/10"},{"$f":"IF(ISNA(AD135),FALSE,IF(C135=$B$1,Worksheet!$B$3,IF(C135=$C$1,Worksheet!$B$4,IF(C135=$D$1,Worksheet!$B$5,IF(C135=$E$1,Worksheet!$B$6,IF(C135=$B$2,Worksheet!$B$7,IF(C135=$C$2,Worksheet!$D$3,IF(C135=$D$2,Worksheet!$D$4,IF(C135=$E$2,Worksheet!$D$5,IF(C135=$C$3,Worksheet!$D$6,IF(C135=$B$3,Worksheet!$D$7,IF(C135=$D$3,Worksheet!$B$10,IF(C135=$E$3,Worksheet!$D$10,FALSE)))))))))))))","v":true},{"$f":"IF(AE135,D135,\"\")","v":"Medium"},{"$f":"IF(AE135,COUNTIF($AF$5:AF135,AF135),\"X\")","v":50},{"$f":"CONCATENATE(AE135,AF135)","v":"TRUEMedium"}]
[{"$f":"CONCATENATE(AE136,D136,AG136)","v":"TRUEMedium51"},{"$f":"RAND()","v":0.12432433870617821},"Mult","Medium",101,"Multiply:   ",{"$f":"RANDBETWEEN(2,5)*10","v":30},"×",{"$f":"RANDBETWEEN(2,5)*10","v":20},null,null,null,null,null,null,null,null,null,null,{"$f":"CONCATENATE(F136,\" \",G136,\" \",H136,\" \",I136,\" \",J136,\" \",K136,\" \",L136,\" \",M136,\" \",N136,\" \",O136,\" \",P136,\" \",Q136,\" \",R136)","v":"Multiply:    30 × 20         "},{"$f":"TEXT(G136*I136,\"#,###\")","v":"600"},null,null,null,null,null,null,null,null,{"$f":"IF(OR(ISNA(U136),ISNA(V136),ISNA(W136),ISNA(X136),ISNA(Y136),ISNA(Z136),ISNA(AA136),ISNA(AB136),ISNA(AC136)),NA(),CONCATENATE(U136,V136,W136,X136,Y136,Z136,AA136,AB136))","v":"600"},{"$f":"IF(ISNA(AD136),FALSE,IF(C136=$B$1,Worksheet!$B$3,IF(C136=$C$1,Worksheet!$B$4,IF(C136=$D$1,Worksheet!$B$5,IF(C136=$E$1,Worksheet!$B$6,IF(C136=$B$2,Worksheet!$B$7,IF(C136=$C$2,Worksheet!$D$3,IF(C136=$D$2,Worksheet!$D$4,IF(C136=$E$2,Worksheet!$D$5,IF(C136=$C$3,Worksheet!$D$6,IF(C136=$B$3,Worksheet!$D$7,IF(C136=$D$3,Worksheet!$B$10,IF(C136=$E$3,Worksheet!$D$10,FALSE)))))))))))))","v":true},{"$f":"IF(AE136,D136,\"\")","v":"Medium"},{"$f":"IF(AE136,COUNTIF($AF$5:AF136,AF136),\"X\")","v":51},{"$f":"CONCATENATE(AE136,AF136)","v":"TRUEMedium"}]
[{"$f":"CONCATENATE(AE137,D137,AG137)","v":"TRUEMedium52"},{"$f":"RAND()","v":0.94801929890561121},"%","Medium",300,"What is",{"$f":"RANDBETWEEN(1,99)","v":2},"/100","as a percentage?",null,null,null,null,null,null,null,null,null,null,{"$f":"CONCATENATE(F137,\" \",G137,\"\",H137,\" \",I137,\" \",J137,\" \",K137,\" \",L137,\" \",M137,\" \",N137,\" \",O137,\" \",P137,\" \",Q137,\" \",R137)","v":"What is 2/100 as a percentage?         "},{"$f":"G137*1","v":2},"%",null,null,null,null,null,null,null,{"$f":"IF(OR(ISNA(U137),ISNA(V137),ISNA(W137),ISNA(X137),ISNA(Y137),ISNA(Z137),ISNA(AA137),ISNA(AB137),ISNA(AC137)),NA(),CONCATENATE(U137,V137,W137,X137,Y137,Z137,AA137,AB137))","v":"2%"},{"$f":"IF(ISNA(AD137),FALSE,IF(C137=$B$1,Worksheet!$B$3,IF(C137=$C$1,Worksheet!$B$4,IF(C137=$D$1,Worksheet!$B$5,IF(C137=$E$1,Worksheet!$B$6,IF(C137=$B$2,Worksheet!$B$7,IF(C137=$C$2,Worksheet!$D$3,IF(C137=$D$2,Worksheet!$D$4,IF(C137=$E$2,Worksheet!$D$5,IF(C137=$C$3,Worksheet!$D$6,IF(C137=$B$3,Worksheet!$D$7,IF(C137=$D$3,Worksheet!$B$10,IF(C137=$E$3,Worksheet!$D$10,FALSE)))))))))))))","v":true},{"$f":"IF(AE137,D137,\"\")","v":"Medium"},{"$f":"IF(AE137,COUNTIF($AF$5:AF137,AF137),\"X\")","v":52},{"$f":"CONCATENATE(AE137,AF137)","v":"TRUEMedium"}]
[{"$f":"CONCATENATE(AE138,D138,AG138)","v":"TRUEHard41"},{"$f":"RAND()","v":0.84168650991969152},"Frac","Hard",197,"Take away the fraction:       ",1,"  –  ","1/3",null,null,null,null,null,null,null,null,null,null,{"$f":"CONCATENATE(F138,\" \",G138,\" \",H138,\" \",I138,\" \",J138,\" \",K138,\" \",L138,\" \",M138,\" \",N138,\" \",O138,\" \",P138,\" \",Q138,\" \",R138)","v":"Take away the fraction:        1   –   1/3         "},"2/3",null,null,null,null,null,null,null,null,{"$f":"IF(OR(ISNA(U138),ISNA(V138),ISNA(W138),ISNA(X138),ISNA(Y138),ISNA(Z138),ISNA(AA138),ISNA(AB138),ISNA(AC138)),NA(),CONCATENATE(U138,V138,W138,X138,Y138,Z138,AA138,AB138))","v":"2/3"},{"$f":"IF(ISNA(AD138),FALSE,IF(C138=$B$1,Worksheet!$B$3,IF(C138=$C$1,Worksheet!$B$4,IF(C138=$D$1,Worksheet!$B$5,IF(C138=$E$1,Worksheet!$B$6,IF(C138=$B$2,Worksheet!$B$7,IF(C138=$C$2,Worksheet!$D$3,IF(C138=$D$2,Worksheet!$D$4,IF(C138=$E$2,Worksheet!$D$5,IF(C138=$C$3,Worksheet!$D$6,IF(C138=$B$3,Worksheet!$D$7,IF(C138=$D$3,Worksheet!$B$10,IF(C138=$E$3,Worksheet!$D$10,FALSE)))))))))))))","v":true},{"$f":"IF(AE138,D138,\"\")","v":"Hard"},{"$f":"IF(AE138,COUNTIF($AF$5:AF138,AF138),\"X\")","v":41},{"$f":"CONCATENATE(AE138,AF138)","v":"TRUEHard"}]
[{"$f":"CONCATENATE(AE139,D139,AG139)","v":"TRUEHard42"},{"$f":"RAND()","v":0.77388332356497469},"Neg","Hard",349,"Add:   ",{"$f":"RANDBETWEEN(10,28)","v":20},"+ (–",{"$f":"RANDBETWEEN(G139,30)","v":27},")",null,null,null,null,null,null,null,null,null,{"$f":"CONCATENATE(F139,\" \",G139,\" \",H139,\"\",I139,\"\",J139,\"\",K139,\" \",L139,\" \",M139,\" \",N139,\" \",O139,\" \",P139,\" \",Q139,\" \",R139)","v":"Add:    20 + (–27)       "},{"$f":"G139-I139","v":-7},null,null,null,null,null,null,null,{"$f":"IF(ISERROR(T139),NA(),\"\")","v":""},{"$f":"IF(OR(ISNA(U139),ISNA(V139),ISNA(W139),ISNA(X139),ISNA(Y139),ISNA(Z139),ISNA(AA139),ISNA(AB139),ISNA(AC139)),NA(),CONCATENATE(U139,V139,W139,X139,Y139,Z139,AA139,AB139))","v":"-7"},{"$f":"IF(ISNA(AD139),FALSE,IF(C139=$B$1,Worksheet!$B$3,IF(C139=$C$1,Worksheet!$B$4,IF(C139=$D$1,Worksheet!$B$5,IF(C139=$E$1,Worksheet!$B$6,IF(C139=$B$2,Worksheet!$B$7,IF(C139=$C$2,Worksheet!$D$3,IF(C139=$D$2,Worksheet!$D$4,IF(C139=$E$2,Worksheet!$D$5,IF(C139=$C$3,Worksheet!$D$6,IF(C139=$B$3,Worksheet!$D$7,IF(C139=$D$3,Worksheet!$B$10,IF(C139=$E$3,Worksheet!$D$10,FALSE)))))))))))))","v":true},{"$f":"IF(AE139,D139,\"\")","v":"Hard"},{"$f":"IF(AE139,COUNTIF($AF$5:AF139,AF139),\"X\")","v":42},{"$f":"CONCATENATE(AE139,AF139)","v":"TRUEHard"}]
[{"$f":"CONCATENATE(AE140,D140,AG140)","v":"TRUEMedium53"},{"$f":"RAND()","v":0.88061958289981013},"Frac","Medium",180,"Write the fraction",{"$f":"3*RANDBETWEEN(1,I140/3-1)","v":6},"/",{"$f":"3*RANDBETWEEN(3,8)","v":9},"in its simplest form",null,null,null,null,null,null,null,null,null,{"$f":"CONCATENATE(F140,\" \",G140,\"\",H140,\"\",I140,\" \",J140,\" \",K140,\" \",L140,\" \",M140,\" \",N140,\" \",O140,\" \",P140,\" \",Q140,\" \",R140)","v":"Write the fraction 6/9 in its simplest form        "},{"$f":"G140/GCD(G140,I140)","v":2},"/",{"$f":"I140/GCD(G140,I140)","v":3},null,null,null,null,null,null,{"$f":"IF(OR(ISNA(U140),ISNA(V140),ISNA(W140),ISNA(X140),ISNA(Y140),ISNA(Z140),ISNA(AA140),ISNA(AB140),ISNA(AC140)),NA(),CONCATENATE(U140,V140,W140,X140,Y140,Z140,AA140,AB140))","v":"2/3"},{"$f":"IF(ISNA(AD140),FALSE,IF(C140=$B$1,Worksheet!$B$3,IF(C140=$C$1,Worksheet!$B$4,IF(C140=$D$1,Worksheet!$B$5,IF(C140=$E$1,Worksheet!$B$6,IF(C140=$B$2,Worksheet!$B$7,IF(C140=$C$2,Worksheet!$D$3,IF(C140=$D$2,Worksheet!$D$4,IF(C140=$E$2,Worksheet!$D$5,IF(C140=$C$3,Worksheet!$D$6,IF(C140=$B$3,Worksheet!$D$7,IF(C140=$D$3,Worksheet!$B$10,IF(C140=$E$3,Worksheet!$D$10,FALSE)))))))))))))","v":true},{"$f":"IF(AE140,D140,\"\")","v":"Medium"},{"$f":"IF(AE140,COUNTIF($AF$5:AF140,AF140),\"X\")","v":53},{"$f":"CONCATENATE(AE140,AF140)","v":"TRUEMedium"}]
[{"$f":"CONCATENATE(AE141,D141,AG141)","v":"TRUEHard43"},{"$f":"RAND()","v":0.7842883782890081},"Dec","Hard",277,"Multiply:   ",{"$f":"RANDBETWEEN(1,9)*10+RANDBETWEEN(0,9)+RANDBETWEEN(1,9)/10","v":92.5},"× 10",null,null,null,null,null,null,null,null,null,null,null,{"$f":"CONCATENATE(F141,\" \",G141,\" \",H141,\" \",I141,\" \",J141,\" \",K141,\" \",L141,\" \",M141,\" \",N141,\" \",O141,\" \",P141,\" \",Q141,\" \",R141)","v":"Multiply:    92.5 × 10          "},{"$f":"G141*10","v":925},null,null,null,null,null,null,null,null,{"$f":"IF(OR(ISNA(U141),ISNA(V141),ISNA(W141),ISNA(X141),ISNA(Y141),ISNA(Z141),ISNA(AA141),ISNA(AB141),ISNA(AC141)),NA(),CONCATENATE(U141,V141,W141,X141,Y141,Z141,AA141,AB141))","v":"925"},{"$f":"IF(ISNA(AD141),FALSE,IF(C141=$B$1,Worksheet!$B$3,IF(C141=$C$1,Worksheet!$B$4,IF(C141=$D$1,Worksheet!$B$5,IF(C141=$E$1,Worksheet!$B$6,IF(C141=$B$2,Worksheet!$B$7,IF(C141=$C$2,Worksheet!$D$3,IF(C141=$D$2,Worksheet!$D$4,IF(C141=$E$2,Worksheet!$D$5,IF(C141=$C$3,Worksheet!$D$6,IF(C141=$B$3,Worksheet!$D$7,IF(C141=$D$3,Worksheet!$B$10,IF(C141=$E$3,Worksheet!$D$10,FALSE)))))))))))))","v":true},{"$f":"IF(AE141,D141,\"\")","v":"Hard"},{"$f":"IF(AE141,COUNTIF($AF$5:AF141,AF141),\"X\")","v":43},{"$f":"CONCATENATE(AE141,AF141)","v":"TRUEHard"}]
[{"$f":"CONCATENATE(AE142,D142,AG142)","v":"TRUEHard44"},{"$f":"RAND()","v":0.34035454458582348},"Frac","Hard",158,"Fractions.   What is ",{"$f":"CHOOSE(RANDBETWEEN(1,3),\"3/8\",\"5/8\",\"7/8\")","v":"3/8"}," of",{"$f":"8*RANDBETWEEN(4,11)","v":88},"?",null,null,null,null,null,null,null,null,null,{"$f":"CONCATENATE(F142,\" \",G142,\" \",H142,\" \",I142,\" \",J142,\" \",K142,\" \",L142,\" \",M142,\" \",N142,\" \",O142,\" \",P142,\" \",Q142,\" \",R142)","v":"Fractions.   What is  3/8  of 88 ?        "},{"$f":"I142/8*IF(G142=\"3/8\",3,IF(G142=\"5/8\",5,7))","v":33},null,null,null,{"$f":"IF(INT(U142)<>U142,NA(),\"\")","v":""},null,null,null,null,{"$f":"IF(OR(ISNA(U142),ISNA(V142),ISNA(W142),ISNA(X142),ISNA(Y142),ISNA(Z142),ISNA(AA142),ISNA(AB142),ISNA(AC142)),NA(),CONCATENATE(U142,V142,W142,X142,Y142,Z142,AA142,AB142))","v":"33"},{"$f":"IF(ISNA(AD142),FALSE,IF(C142=$B$1,Worksheet!$B$3,IF(C142=$C$1,Worksheet!$B$4,IF(C142=$D$1,Worksheet!$B$5,IF(C142=$E$1,Worksheet!$B$6,IF(C142=$B$2,Worksheet!$B$7,IF(C142=$C$2,Worksheet!$D$3,IF(C142=$D$2,Worksheet!$D$4,IF(C142=$E$2,Worksheet!$D$5,IF(C142=$C$3,Worksheet!$D$6,IF(C142=$B$3,Worksheet!$D$7,IF(C142=$D$3,Worksheet!$B$10,IF(C142=$E$3,Worksheet!$D$10,FALSE)))))))))))))","v":true},{"$f":"IF(AE142,D142,\"\")","v":"Hard"},{"$f":"IF(AE142,COUNTIF($AF$5:AF142,AF142),\"X\")","v":44},{"$f":"CONCATENATE(AE142,AF142)","v":"TRUEHard"}]
[{"$f":"CONCATENATE(AE143,D143,AG143)","v":"TRUEEasy34"},{"$f":"RAND()","v":0.57725202061419512},"Num","Easy",8,"In the number",{"$f":"RANDBETWEEN(1,9)","v":1},{"$f":"SMALL(IF(G143={1,2,3,4,5,6,7,8,9},\"\",{1,2,3,4,5,6,7,8,9}),RANDBETWEEN(1,8))","v":6},{"$f":"SMALL(IF(G143={1,2,3,4,5,6,7,8,9},\"\",IF(H143={1,2,3,4,5,6,7,8,9},\"\",{1,2,3,4,5,6,7,8,9})),RANDBETWEEN(1,7))","v":3},{"$f":"SMALL(IF(G143={1,2,3,4,5,6,7,8,9},\"\",IF(H143={1,2,3,4,5,6,7,8,9},\"\",IF(I143={1,2,3,4,5,6,7,8,9},\"\",{1,2,3,4,5,6,7,8,9}))),RANDBETWEEN(1,6))","v":7},", what does the",{"$f":"CHOOSE(S143,J143,I143,H143,G143)","v":1},"stand for?",null,null,null,null,null,{"$f":"RANDBETWEEN(1,4)","v":4},{"$f":"CONCATENATE(F143,\" \",G143,\",\",H143,\"\",I143,\"\",J143,\"\",K143,\" \",L143,\" \",M143,\" \",N143,\" \",O143,\" \",P143,\" \",Q143,\" \",R143)","v":"In the number 1,637, what does the 1 stand for?     "},{"$f":"TEXT(L143*10^(S143-1),\"#,###\")","v":"1,000"},null,null,null,null,null,null,null,null,{"$f":"IF(OR(ISNA(U143),ISNA(V143),ISNA(W143),ISNA(X143),ISNA(Y143),ISNA(Z143),ISNA(AA143),ISNA(AB143),ISNA(AC143)),NA(),CONCATENATE(U143,V143,W143,X143,Y143,Z143,AA143,AB143))","v":"1,000"},{"$f":"IF(ISNA(AD143),FALSE,IF(C143=$B$1,Worksheet!$B$3,IF(C143=$C$1,Worksheet!$B$4,IF(C143=$D$1,Worksheet!$B$5,IF(C143=$E$1,Worksheet!$B$6,IF(C143=$B$2,Worksheet!$B$7,IF(C143=$C$2,Worksheet!$D$3,IF(C143=$D$2,Worksheet!$D$4,IF(C143=$E$2,Worksheet!$D$5,IF(C143=$C$3,Worksheet!$D$6,IF(C143=$B$3,Worksheet!$D$7,IF(C143=$D$3,Worksheet!$B$10,IF(C143=$E$3,Worksheet!$D$10,FALSE)))))))))))))","v":true},{"$f":"IF(AE143,D143,\"\")","v":"Easy"},{"$f":"IF(AE143,COUNTIF($AF$5:AF143,AF143),\"X\")","v":34},{"$f":"CONCATENATE(AE143,AF143)","v":"TRUEEasy"}]
[{"$f":"CONCATENATE(AE144,D144,AG144)","v":"TRUEMedium54"},{"$f":"RAND()","v":0.48223080351044212},"Dec","Medium",229,"In the number",{"$f":"RANDBETWEEN(1,9)","v":8},{"$f":"SMALL(IF(G144={1,2,3,4,5,6,7,8,9},\"\",{1,2,3,4,5,6,7,8,9}),RANDBETWEEN(1,8))","v":3},{"$f":"SMALL(IF(G144={1,2,3,4,5,6,7,8,9},\"\",IF(H144={1,2,3,4,5,6,7,8,9},\"\",{1,2,3,4,5,6,7,8,9})),RANDBETWEEN(1,7))","v":7},{"$f":"SMALL(IF(G144={1,2,3,4,5,6,7,8,9},\"\",IF(H144={1,2,3,4,5,6,7,8,9},\"\",IF(I144={1,2,3,4,5,6,7,8,9},\"\",{1,2,3,4,5,6,7,8,9}))),RANDBETWEEN(1,6))","v":9},{"$f":"SMALL(IF(G144={1,2,3,4,5,6,7,8,9},\"\",IF(H144={1,2,3,4,5,6,7,8,9},\"\",IF(I144={1,2,3,4,5,6,7,8,9},\"\",IF(J144={1,2,3,4,5,6,7,8,9},\"\",{1,2,3,4,5,6,7,8,9})))),RANDBETWEEN(1,5))","v":4},null,", which digit represents the TENTHS?",null,null,null,null,null,{"$f":"RANDBETWEEN(1,3)","v":2},{"$f":"CONCATENATE(F144,\" \",G144,\"\",H144,\"•\",I144,\"\",J144,\"\",K144,\"\",L144,\" \",M144,\" \",N144,\" \",O144,\" \",P144,\" \",Q144,\" \",R144)","v":"In the number 83•794 , which digit represents the TENTHS?     "},{"$f":"I144","v":7},null,null,null,null,null,null,null,null,{"$f":"IF(OR(ISNA(U144),ISNA(V144),ISNA(W144),ISNA(X144),ISNA(Y144),ISNA(Z144),ISNA(AA144),ISNA(AB144),ISNA(AC144)),NA(),CONCATENATE(U144,V144,W144,X144,Y144,Z144,AA144,AB144))","v":"7"},{"$f":"IF(ISNA(AD144),FALSE,IF(C144=$B$1,Worksheet!$B$3,IF(C144=$C$1,Worksheet!$B$4,IF(C144=$D$1,Worksheet!$B$5,IF(C144=$E$1,Worksheet!$B$6,IF(C144=$B$2,Worksheet!$B$7,IF(C144=$C$2,Worksheet!$D$3,IF(C144=$D$2,Worksheet!$D$4,IF(C144=$E$2,Worksheet!$D$5,IF(C144=$C$3,Worksheet!$D$6,IF(C144=$B$3,Worksheet!$D$7,IF(C144=$D$3,Worksheet!$B$10,IF(C144=$E$3,Worksheet!$D$10,FALSE)))))))))))))","v":true},{"$f":"IF(AE144,D144,\"\")","v":"Medium"},{"$f":"IF(AE144,COUNTIF($AF$5:AF144,AF144),\"X\")","v":54},{"$f":"CONCATENATE(AE144,AF144)","v":"TRUEMedium"}]
[{"$f":"CONCATENATE(AE145,D145,AG145)","v":"TRUEHard45"},{"$f":"RAND()","v":0.69118995506083702},"Mult","Hard",96,"Multiply:   ",{"$f":"10^RANDBETWEEN(2,3)","v":100},"×",{"$f":"RANDBETWEEN(2,9)*100","v":300},null,null,null,null,null,null,null,null,null,null,{"$f":"CONCATENATE(F145,\" \",G145,\" \",H145,\" \",I145,\" \",J145,\" \",K145,\" \",L145,\" \",M145,\" \",N145,\" \",O145,\" \",P145,\" \",Q145,\" \",R145)","v":"Multiply:    100 × 300         "},{"$f":"TEXT(G145*I145,\"#,###\")","v":"30,000"},null,null,null,null,null,null,null,null,{"$f":"IF(OR(ISNA(U145),ISNA(V145),ISNA(W145),ISNA(X145),ISNA(Y145),ISNA(Z145),ISNA(AA145),ISNA(AB145),ISNA(AC145)),NA(),CONCATENATE(U145,V145,W145,X145,Y145,Z145,AA145,AB145))","v":"30,000"},{"$f":"IF(ISNA(AD145),FALSE,IF(C145=$B$1,Worksheet!$B$3,IF(C145=$C$1,Worksheet!$B$4,IF(C145=$D$1,Worksheet!$B$5,IF(C145=$E$1,Worksheet!$B$6,IF(C145=$B$2,Worksheet!$B$7,IF(C145=$C$2,Worksheet!$D$3,IF(C145=$D$2,Worksheet!$D$4,IF(C145=$E$2,Worksheet!$D$5,IF(C145=$C$3,Worksheet!$D$6,IF(C145=$B$3,Worksheet!$D$7,IF(C145=$D$3,Worksheet!$B$10,IF(C145=$E$3,Worksheet!$D$10,FALSE)))))))))))))","v":true},{"$f":"IF(AE145,D145,\"\")","v":"Hard"},{"$f":"IF(AE145,COUNTIF($AF$5:AF145,AF145),\"X\")","v":45},{"$f":"CONCATENATE(AE145,AF145)","v":"TRUEHard"}]
[{"$f":"CONCATENATE(AE146,D146,AG146)","v":"FALSEMediumX"},{"$f":"RAND()","v":0.5540011191314953},"Alg","Medium",369,"Algebra.   If",{"$f":"CHOOSE(RANDBETWEEN(1,3),\"a\",\"x\",\"p\")","v":"p"},"=",{"$f":"RANDBETWEEN(2,10)","v":2}," and",{"$f":"IF(G146=\"x\",\"y\",IF(G146=\"a\",\"b\",\"q\"))","v":"q"},"=",{"$f":"RANDBETWEEN(2,5)","v":5},",    what is",{"$f":"RANDBETWEEN(2,5)","v":2},{"$f":"CONCATENATE(G146,\" – \")","v":"p – "},{"$f":"RANDBETWEEN(2,5)","v":3},{"$f":"CONCATENATE(K146,\" ?\")","v":"q ?"},null,{"$f":"CONCATENATE(F146,\" \",G146,\" \",H146,\" \",I146,\" \",J146,\" \",K146,\" \",L146,\" \",M146,\" \",N146,\" \",O146,\"\",P146,\" \",Q146,\"\",R146)","v":"Algebra.   If p = 2  and q = 5 ,    what is 2p –  3q ?"},{"$f":"O146*I146-Q146*M146","v":-11},null,{"$f":"IF(U146<0,NA(),\"\")","v":{"$error":"#N/A"}},null,null,null,null,null,null,{"$f":"IF(OR(ISNA(U146),ISNA(V146),ISNA(W146),ISNA(X146),ISNA(Y146),ISNA(Z146),ISNA(AA146),ISNA(AB146),ISNA(AC146)),NA(),CONCATENATE(U146,V146,W146,X146,Y146,Z146,AA146,AB146))","v":{"$error":"#N/A"}},{"$f":"IF(ISNA(AD146),FALSE,IF(C146=$B$1,Worksheet!$B$3,IF(C146=$C$1,Worksheet!$B$4,IF(C146=$D$1,Worksheet!$B$5,IF(C146=$E$1,Worksheet!$B$6,IF(C146=$B$2,Worksheet!$B$7,IF(C146=$C$2,Worksheet!$D$3,IF(C146=$D$2,Worksheet!$D$4,IF(C146=$E$2,Worksheet!$D$5,IF(C146=$C$3,Worksheet!$D$6,IF(C146=$B$3,Worksheet!$D$7,IF(C146=$D$3,Worksheet!$B$10,IF(C146=$E$3,Worksheet!$D$10,FALSE)))))))))))))","v":false},{"$f":"IF(AE146,D146,\"\")","v":""},{"$f":"IF(AE146,COUNTIF($AF$5:AF146,AF146),\"X\")","v":"X"},{"$f":"CONCATENATE(AE146,AF146)","v":"FALSE"}]
[{"$f":"CONCATENATE(AE147,D147,AG147)","v":"TRUEMedium55"},{"$f":"RAND()","v":0.12780864145536319},"Choose","Medium",147,{"$f":"CHOOSE(RANDBETWEEN(1,5),\"Gary\",\"Josh\",\"James\",\"Robbie\",\"Jack\")","v":"Josh"},"is saving money to buy a new car.  The car costs £",{"$f":"RANDBETWEEN(4,8)*1000","v":4000},".  So far,",{"$f":"F147","v":"Josh"},"has saved £",{"$f":"RANDBETWEEN(11,H147/100-1)*100+RANDBETWEEN(1,9)*10","v":3130},".  How much more money does he need?",null,null,null,null,null,null,{"$f":"CONCATENATE(F147,\" \",G147,\"\",H147,\" \",I147,\" \",J147,\" \",K147,\"\",L147,\"\",M147,\" \",N147,\" \",O147,\" \",P147,\" \",Q147,\" \",R147)","v":"Josh is saving money to buy a new car.  The car costs £4000 .  So far, Josh has saved £3130.  How much more money does he need?     "},"£",{"$f":"H147-L147","v":870},null,null,null,null,null,null,null,{"$f":"IF(OR(ISNA(U147),ISNA(V147),ISNA(W147),ISNA(X147),ISNA(Y147),ISNA(Z147),ISNA(AA147),ISNA(AB147),ISNA(AC147)),NA(),CONCATENATE(U147,V147,W147,X147,Y147,Z147,AA147,AB147))","v":"£870"},{"$f":"IF(ISNA(AD147),FALSE,IF(C147=$B$1,Worksheet!$B$3,IF(C147=$C$1,Worksheet!$B$4,IF(C147=$D$1,Worksheet!$B$5,IF(C147=$E$1,Worksheet!$B$6,IF(C147=$B$2,Worksheet!$B$7,IF(C147=$C$2,Worksheet!$D$3,IF(C147=$D$2,Worksheet!$D$4,IF(C147=$E$2,Worksheet!$D$5,IF(C147=$C$3,Worksheet!$D$6,IF(C147=$B$3,Worksheet!$D$7,IF(C147=$D$3,Worksheet!$B$10,IF(C147=$E$3,Worksheet!$D$10,FALSE)))))))))))))","v":true},{"$f":"IF(AE147,D147,\"\")","v":"Medium"},{"$f":"IF(AE147,COUNTIF($AF$5:AF147,AF147),\"X\")","v":55},{"$f":"CONCATENATE(AE147,AF147)","v":"TRUEMedium"}]
[{"$f":"CONCATENATE(AE148,D148,AG148)","v":"TRUEMedium56"},{"$f":"RAND()","v":0.56498011569697071},"Round","Medium",337,"Round",{"$f":"RANDBETWEEN(1,9)*10000+RANDBETWEEN(1,9999)","v":38167},"to the nearest thousand",null,null,null,null,null,null,null,null,null,null,null,{"$f":"CONCATENATE(F148,\" \",TEXT(G148,\"#,###\"),\" \",H148,\" \",I148,\" \",J148,\" \",K148,\" \",L148,\" \",M148,\" \",N148,\" \",O148,\" \",P148,\" \",Q148,\" \",R148)","v":"Round 38,167 to the nearest thousand          "},{"$f":"TEXT(MROUND(G148,1000),\"#,###\")","v":"38,000"},null,null,null,null,null,null,null,null,{"$f":"IF(OR(ISNA(U148),ISNA(V148),ISNA(W148),ISNA(X148),ISNA(Y148),ISNA(Z148),ISNA(AA148),ISNA(AB148),ISNA(AC148)),NA(),CONCATENATE(U148,V148,W148,X148,Y148,Z148,AA148,AB148))","v":"38,000"},{"$f":"IF(ISNA(AD148),FALSE,IF(C148=$B$1,Worksheet!$B$3,IF(C148=$C$1,Worksheet!$B$4,IF(C148=$D$1,Worksheet!$B$5,IF(C148=$E$1,Worksheet!$B$6,IF(C148=$B$2,Worksheet!$B$7,IF(C148=$C$2,Worksheet!$D$3,IF(C148=$D$2,Worksheet!$D$4,IF(C148=$E$2,Worksheet!$D$5,IF(C148=$C$3,Worksheet!$D$6,IF(C148=$B$3,Worksheet!$D$7,IF(C148=$D$3,Worksheet!$B$10,IF(C148=$E$3,Worksheet!$D$10,FALSE)))))))))))))","v":true},{"$f":"IF(AE148,D148,\"\")","v":"Medium"},{"$f":"IF(AE148,COUNTIF($AF$5:AF148,AF148),\"X\")","v":56},{"$f":"CONCATENATE(AE148,AF148)","v":"TRUEMedium"}]
[{"$f":"CONCATENATE(AE149,D149,AG149)","v":"FALSEEasyX"},{"$f":"RAND()","v":2.7325256738276904E-2},"Neg","Easy",344,"Rewrite the numbers in order from ",{"$f":"IF(RAND()<0.5,\"smallest to biggest:   \",\"biggest to smallest:   \")","v":"smallest to biggest:   "},0,{"$f":"RANDBETWEEN(-20,10)","v":-8},{"$f":"RANDBETWEEN(-20,10)","v":0},{"$f":"RANDBETWEEN(0,10)","v":7},{"$f":"RANDBETWEEN(-20,0)","v":-14},null,{"$f":"L149","v":-14},{"$f":"H149","v":0},{"$f":"I149","v":-8},{"$f":"J149","v":0},{"$f":"K149","v":7},{"$f":"RANDBETWEEN(2,8)","v":6},{"$f":"CONCATENATE(F149,\" \",G149,\" \",H149,\",   \",I149,\",   \",J149,\",    \",K149,\",    \",L149,\" \",M149)","v":"Rewrite the numbers in order from  smallest to biggest:    0,   -8,   0,    7,    -14 "},{"$f":"IF(LARGE($N149:$R149,IF($G149=\"biggest to smallest:   \",1,5))=$O149,$H149,IF(LARGE($N149:$R149,IF($G149=\"biggest to smallest:   \",1,5))=$P149,$I149,IF(LARGE($N149:$R149,IF($G149=\"biggest to smallest:   \",1,5))=$Q149,$J149,IF(LARGE($N149:$R149,IF($G149=\"biggest to smallest:   \",1,5))=$R149,$K149,$L149))))","v":-14},{"$f":"IF(LARGE($N149:$R149,IF($G149=\"biggest to smallest:   \",2,4))=$O149,$H149,IF(LARGE($N149:$R149,IF($G149=\"biggest to smallest:   \",2,4))=$P149,$I149,IF(LARGE($N149:$R149,IF($G149=\"biggest to smallest:   \",2,4))=$Q149,$J149,IF(LARGE($N149:$R149,IF($G149=\"biggest to smallest:   \",2,4))=$R149,$K149,$L149))))","v":-8},{"$f":"IF(LARGE($N149:$R149,IF($G149=\"biggest to smallest:   \",3,3))=$O149,$H149,IF(LARGE($N149:$R149,IF($G149=\"biggest to smallest:   \",3,3))=$P149,$I149,IF(LARGE($N149:$R149,IF($G149=\"biggest to smallest:   \",3,3))=$Q149,$J149,IF(LARGE($N149:$R149,IF($G149=\"biggest to smallest:   \",3,3))=$R149,$K149,$L149))))","v":0},{"$f":"IF(LARGE($N149:$R149,IF($G149=\"biggest to smallest:   \",4,2))=$O149,$H149,IF(LARGE($N149:$R149,IF($G149=\"biggest to smallest:   \",4,2))=$P149,$I149,IF(LARGE($N149:$R149,IF($G149=\"biggest to smallest:   \",4,2))=$Q149,$J149,IF(LARGE($N149:$R149,IF($G149=\"biggest to smallest:   \",4,2))=$R149,$K149,$L149))))","v":0},{"$f":"IF(LARGE($N149:$R149,IF($G149=\"biggest to smallest:   \",5,1))=$O149,$H149,IF(LARGE($N149:$R149,IF($G149=\"biggest to smallest:   \",5,1))=$P149,$I149,IF(LARGE($N149:$R149,IF($G149=\"biggest to smallest:   \",5,1))=$Q149,$J149,IF(LARGE($N149:$R149,IF($G149=\"biggest to smallest:   \",5,1))=$R149,$K149,$L149))))","v":7},{"$f":"IF(OR(H149=I149,H149=J149,H149=K149,H149=L149,I149=J149,I149=K149,I149=L149,J149=K149,J149=L149,K149=L149),NA(),\"\")","v":{"$error":"#N/A"}},null,{"$f":"IF(OR(H149=L149,I149=L149,J149=L149,K149=L149,I149=J149,I149=K149),NA(),\"\")","v":""},{"$f":"IF(ISERROR(T149),NA(),\"\")","v":""},{"$f":"IF(OR(ISNA(U149),ISNA(V149),ISNA(W149),ISNA(X149),ISNA(Y149)),NA(),CONCATENATE(U149,\",   \",V149,\",   \",W149,\",   \",X149,\",   \",Y149,Z149,AA149,AB149,AC149))","v":{"$error":"#N/A"}},{"$f":"IF(ISNA(AD149),FALSE,IF(C149=$B$1,Worksheet!$B$3,IF(C149=$C$1,Worksheet!$B$4,IF(C149=$D$1,Worksheet!$B$5,IF(C149=$E$1,Worksheet!$B$6,IF(C149=$B$2,Worksheet!$B$7,IF(C149=$C$2,Worksheet!$D$3,IF(C149=$D$2,Worksheet!$D$4,IF(C149=$E$2,Worksheet!$D$5,IF(C149=$C$3,Worksheet!$D$6,IF(C149=$B$3,Worksheet!$D$7,IF(C149=$D$3,Worksheet!$B$10,IF(C149=$E$3,Worksheet!$D$10,FALSE)))))))))))))","v":false},{"$f":"IF(AE149,D149,\"\")","v":""},{"$f":"IF(AE149,COUNTIF($AF$5:AF149,AF149),\"X\")","v":"X"},{"$f":"CONCATENATE(AE149,AF149)","v":"FALSE"}]
[{"$f":"CONCATENATE(AE150,D150,AG150)","v":"TRUEEasy35"},{"$f":"RAND()","v":0.26532423322894849},"Choose","Easy",137,{"$f":"CHOOSE(RANDBETWEEN(1,5),\"Jenny\",\"Arran\",\"Cassie\",\"Emily\",\"Gordon\")","v":"Emily"},"went out shopping with £",{"$f":"RANDBETWEEN(1,2)*100+RANDBETWEEN(1,9)*10","v":120},".  She spent £",{"$f":"RANDBETWEEN(50,H150-10)","v":82},".  How much money did she have left?",null,null,null,null,null,null,null,null,{"$f":"CONCATENATE(F150,\" \",G150,\"\",H150,\"\",I150,\" \",J150,\"\",K150,\" \",L150,\" \",M150,\" \",N150,\" \",O150,\" \",P150,\" \",Q150,\" \",R150)","v":"Emily went out shopping with £120.  She spent £ 82.  How much money did she have left?       "},"£",{"$f":"H150-J150","v":38},null,null,null,null,null,null,null,{"$f":"IF(OR(ISNA(U150),ISNA(V150),ISNA(W150),ISNA(X150),ISNA(Y150),ISNA(Z150),ISNA(AA150),ISNA(AB150),ISNA(AC150)),NA(),CONCATENATE(U150,V150,W150,X150,Y150,Z150,AA150,AB150))","v":"£38"},{"$f":"IF(ISNA(AD150),FALSE,IF(C150=$B$1,Worksheet!$B$3,IF(C150=$C$1,Worksheet!$B$4,IF(C150=$D$1,Worksheet!$B$5,IF(C150=$E$1,Worksheet!$B$6,IF(C150=$B$2,Worksheet!$B$7,IF(C150=$C$2,Worksheet!$D$3,IF(C150=$D$2,Worksheet!$D$4,IF(C150=$E$2,Worksheet!$D$5,IF(C150=$C$3,Worksheet!$D$6,IF(C150=$B$3,Worksheet!$D$7,IF(C150=$D$3,Worksheet!$B$10,IF(C150=$E$3,Worksheet!$D$10,FALSE)))))))))))))","v":true},{"$f":"IF(AE150,D150,\"\")","v":"Easy"},{"$f":"IF(AE150,COUNTIF($AF$5:AF150,AF150),\"X\")","v":35},{"$f":"CONCATENATE(AE150,AF150)","v":"TRUEEasy"}]
[{"$f":"CONCATENATE(AE151,D151,AG151)","v":"TRUEHard46"},{"$f":"RAND()","v":0.78613304585874222},"%","Hard",327,"What is ",10,"% of £",{"$f":"10*RANDBETWEEN(11,99)*10^RANDBETWEEN(0,1)","v":120},"?",null,null,null,null,null,null,null,null,null,{"$f":"CONCATENATE(F151,\" \",G151,\"\",H151,\"\",I151,\" \",J151,\" \",K151,\" \",L151,\" \",M151,\" \",N151,\" \",O151,\" \",P151,\" \",Q151,\" \",R151)","v":"What is  10% of £120 ?        "},"£",{"$f":"I151/10","v":12},null,null,null,null,null,null,null,{"$f":"IF(OR(ISNA(U151),ISNA(V151),ISNA(W151),ISNA(X151),ISNA(Y151),ISNA(Z151),ISNA(AA151),ISNA(AB151),ISNA(AC151)),NA(),CONCATENATE(U151,V151,W151,X151,Y151,Z151,AA151,AB151))","v":"£12"},{"$f":"IF(ISNA(AD151),FALSE,IF(C151=$B$1,Worksheet!$B$3,IF(C151=$C$1,Worksheet!$B$4,IF(C151=$D$1,Worksheet!$B$5,IF(C151=$E$1,Worksheet!$B$6,IF(C151=$B$2,Worksheet!$B$7,IF(C151=$C$2,Worksheet!$D$3,IF(C151=$D$2,Worksheet!$D$4,IF(C151=$E$2,Worksheet!$D$5,IF(C151=$C$3,Worksheet!$D$6,IF(C151=$B$3,Worksheet!$D$7,IF(C151=$D$3,Worksheet!$B$10,IF(C151=$E$3,Worksheet!$D$10,FALSE)))))))))))))","v":true},{"$f":"IF(AE151,D151,\"\")","v":"Hard"},{"$f":"IF(AE151,COUNTIF($AF$5:AF151,AF151),\"X\")","v":46},{"$f":"CONCATENATE(AE151,AF151)","v":"TRUEHard"}]
[{"$f":"CONCATENATE(AE152,D152,AG152)","v":"TRUEEasy36"},{"$f":"RAND()","v":0.58055010318914724},"Mult","Easy",80,"Circle the number that is a multiple of 10:   ",{"$f":"IF($S152=1,RANDBETWEEN(2,10)*10,RANDBETWEEN(1,9)*10+RANDBETWEEN(1,9))","v":60},{"$f":"IF($S152=2,RANDBETWEEN(2,10)*10,RANDBETWEEN(1,9)*10+RANDBETWEEN(1,9))","v":47},{"$f":"IF($S152=3,RANDBETWEEN(2,10)*10,RANDBETWEEN(1,9)*10+RANDBETWEEN(1,9))","v":62},{"$f":"IF($S152=4,RANDBETWEEN(2,10)*10,RANDBETWEEN(1,9)*10+RANDBETWEEN(1,9))","v":18},null,null,null,null,null,null,null,null,{"$f":"RANDBETWEEN(1,4)","v":1},{"$f":"CONCATENATE(F152,\"      \",G152,\"     \",H152,\"     \",I152,\"     \",J152,\" \",K152,\" \",L152,\" \",M152,\" \",N152,\" \",O152,\" \",P152,\" \",Q152,\" \",R152)","v":"Circle the number that is a multiple of 10:         60     47     62     18        "},{"$f":"IF(S152=1,G152,IF(S152=2,H152,IF(S152=3,I152,J152)))","v":60},{"$f":"IF(OR(G152=H152,G152=I152,G152=J152,H152=I152,H152=J152,I152=J152),NA(),\"\")","v":""},null,null,null,null,null,null,null,{"$f":"IF(OR(ISNA(U152),ISNA(V152),ISNA(W152),ISNA(X152),ISNA(Y152),ISNA(Z152),ISNA(AA152),ISNA(AB152),ISNA(AC152)),NA(),CONCATENATE(U152,V152,W152,X152,Y152,Z152,AA152,AB152))","v":"60"},{"$f":"IF(ISNA(AD152),FALSE,IF(C152=$B$1,Worksheet!$B$3,IF(C152=$C$1,Worksheet!$B$4,IF(C152=$D$1,Worksheet!$B$5,IF(C152=$E$1,Worksheet!$B$6,IF(C152=$B$2,Worksheet!$B$7,IF(C152=$C$2,Worksheet!$D$3,IF(C152=$D$2,Worksheet!$D$4,IF(C152=$E$2,Worksheet!$D$5,IF(C152=$C$3,Worksheet!$D$6,IF(C152=$B$3,Worksheet!$D$7,IF(C152=$D$3,Worksheet!$B$10,IF(C152=$E$3,Worksheet!$D$10,FALSE)))))))))))))","v":true},{"$f":"IF(AE152,D152,\"\")","v":"Easy"},{"$f":"IF(AE152,COUNTIF($AF$5:AF152,AF152),\"X\")","v":36},{"$f":"CONCATENATE(AE152,AF152)","v":"TRUEEasy"}]
[{"$f":"CONCATENATE(AE153,D153,AG153)","v":"TRUEMedium57"},{"$f":"RAND()","v":0.37221439128166278},"Dec","Medium",261,"Write the fraction","1/4","as a decimal",null,null,null,null,null,null,null,null,null,null,null,{"$f":"CONCATENATE(F153,\" \",G153,\" \",H153,\" \",I153,\" \",J153,\" \",K153,\" \",L153,\" \",M153,\" \",N153,\" \",O153,\" \",P153,\" \",Q153,\" \",R153)","v":"Write the fraction 1/4 as a decimal          "},0.25,null,null,null,null,null,null,null,null,{"$f":"IF(OR(ISNA(U153),ISNA(V153),ISNA(W153),ISNA(X153),ISNA(Y153),ISNA(Z153),ISNA(AA153),ISNA(AB153),ISNA(AC153)),NA(),CONCATENATE(U153,V153,W153,X153,Y153,Z153,AA153,AB153))","v":"0.25"},{"$f":"IF(ISNA(AD153),FALSE,IF(C153=$B$1,Worksheet!$B$3,IF(C153=$C$1,Worksheet!$B$4,IF(C153=$D$1,Worksheet!$B$5,IF(C153=$E$1,Worksheet!$B$6,IF(C153=$B$2,Worksheet!$B$7,IF(C153=$C$2,Worksheet!$D$3,IF(C153=$D$2,Worksheet!$D$4,IF(C153=$E$2,Worksheet!$D$5,IF(C153=$C$3,Worksheet!$D$6,IF(C153=$B$3,Worksheet!$D$7,IF(C153=$D$3,Worksheet!$B$10,IF(C153=$E$3,Worksheet!$D$10,FALSE)))))))))))))","v":true},{"$f":"IF(AE153,D153,\"\")","v":"Medium"},{"$f":"IF(AE153,COUNTIF($AF$5:AF153,AF153),\"X\")","v":57},{"$f":"CONCATENATE(AE153,AF153)","v":"TRUEMedium"}]
[{"$f":"CONCATENATE(AE154,D154,AG154)","v":"TRUEMedium58"},{"$f":"RAND()","v":0.479204662846209},"Frac","Medium",193,"Add the fractions:       ",{"$f":"RANDBETWEEN(2,7)","v":4},"/9","  +  ",{"$f":"RANDBETWEEN(1,9-G154)","v":4},"/9",null,null,null,null,null,null,null,null,{"$f":"CONCATENATE(F154,\" \",G154,\"\",H154,\" \",I154,\" \",J154,\"\",K154,\" \",L154,\" \",M154,\" \",N154,\" \",O154,\" \",P154,\" \",Q154,\" \",R154)","v":"Add the fractions:        4/9   +   4/9       "},{"$f":"IF(G154+J154=9,1,CONCATENATE(G154+J154,\"/9\"))","v":"8/9"},null,null,null,null,null,null,null,null,{"$f":"IF(OR(ISNA(U154),ISNA(V154),ISNA(W154),ISNA(X154),ISNA(Y154),ISNA(Z154),ISNA(AA154),ISNA(AB154),ISNA(AC154)),NA(),CONCATENATE(U154,V154,W154,X154,Y154,Z154,AA154,AB154))","v":"8/9"},{"$f":"IF(ISNA(AD154),FALSE,IF(C154=$B$1,Worksheet!$B$3,IF(C154=$C$1,Worksheet!$B$4,IF(C154=$D$1,Worksheet!$B$5,IF(C154=$E$1,Worksheet!$B$6,IF(C154=$B$2,Worksheet!$B$7,IF(C154=$C$2,Worksheet!$D$3,IF(C154=$D$2,Worksheet!$D$4,IF(C154=$E$2,Worksheet!$D$5,IF(C154=$C$3,Worksheet!$D$6,IF(C154=$B$3,Worksheet!$D$7,IF(C154=$D$3,Worksheet!$B$10,IF(C154=$E$3,Worksheet!$D$10,FALSE)))))))))))))","v":true},{"$f":"IF(AE154,D154,\"\")","v":"Medium"},{"$f":"IF(AE154,COUNTIF($AF$5:AF154,AF154),\"X\")","v":58},{"$f":"CONCATENATE(AE154,AF154)","v":"TRUEMedium"}]
[{"$f":"CONCATENATE(AE155,D155,AG155)","v":"TRUEHard47"},{"$f":"RAND()","v":0.50293176461803946},"Dec","Hard",283,"Add without writing down a sum:   ",{"$f":"RANDBETWEEN(1,9)+RANDBETWEEN(1,5)/10","v":1.1000000000000001},"+",{"$f":"RANDBETWEEN(2,5)+RANDBETWEEN(1,5)/10+RANDBETWEEN(1,9)/100","v":3.42},null,null,null,null,null,null,null,null,null,null,{"$f":"CONCATENATE(F155,\" \",G155,\" \",H155,\" \",I155,\" \",J155,\" \",K155,\" \",L155,\" \",M155,\" \",N155,\" \",O155,\" \",P155,\" \",Q155,\" \",R155)","v":"Add without writing down a sum:    1.1 + 3.42         "},{"$f":"G155+I155","v":4.5199999999999996},null,null,null,null,null,null,null,null,{"$f":"IF(OR(ISNA(U155),ISNA(V155),ISNA(W155),ISNA(X155),ISNA(Y155),ISNA(Z155),ISNA(AA155),ISNA(AB155),ISNA(AC155)),NA(),CONCATENATE(U155,V155,W155,X155,Y155,Z155,AA155,AB155))","v":"4.52"},{"$f":"IF(ISNA(AD155),FALSE,IF(C155=$B$1,Worksheet!$B$3,IF(C155=$C$1,Worksheet!$B$4,IF(C155=$D$1,Worksheet!$B$5,IF(C155=$E$1,Worksheet!$B$6,IF(C155=$B$2,Worksheet!$B$7,IF(C155=$C$2,Worksheet!$D$3,IF(C155=$D$2,Worksheet!$D$4,IF(C155=$E$2,Worksheet!$D$5,IF(C155=$C$3,Worksheet!$D$6,IF(C155=$B$3,Worksheet!$D$7,IF(C155=$D$3,Worksheet!$B$10,IF(C155=$E$3,Worksheet!$D$10,FALSE)))))))))))))","v":true},{"$f":"IF(AE155,D155,\"\")","v":"Hard"},{"$f":"IF(AE155,COUNTIF($AF$5:AF155,AF155),\"X\")","v":47},{"$f":"CONCATENATE(AE155,AF155)","v":"TRUEHard"}]
[{"$f":"CONCATENATE(AE156,D156,AG156)","v":"TRUEHard48"},{"$f":"RAND()","v":0.55716205479468395},"Frac","Hard",187,"Complete the sequence with the next two numbers:",1,"¾","½","___","___",null,null,null,null,null,null,null,null,{"$f":"CONCATENATE(F156,\" \",G156,\",   \",H156,\",   \",I156,\",   \",J156,\",   \",K156,\" \",L156,\" \",M156,\" \",N156,\" \",O156,\" \",P156,\" \",Q156,\" \",R156)","v":"Complete the sequence with the next two numbers: 1,   ¾,   ½,   ___,   ___       "},"1/4",",   0",null,null,null,null,null,null,null,{"$f":"IF(OR(ISNA(U156),ISNA(V156),ISNA(W156),ISNA(X156),ISNA(Y156),ISNA(Z156),ISNA(AA156),ISNA(AB156),ISNA(AC156)),NA(),CONCATENATE(U156,V156,W156,X156,Y156,Z156,AA156,AB156))","v":"1/4,   0"},{"$f":"IF(ISNA(AD156),FALSE,IF(C156=$B$1,Worksheet!$B$3,IF(C156=$C$1,Worksheet!$B$4,IF(C156=$D$1,Worksheet!$B$5,IF(C156=$E$1,Worksheet!$B$6,IF(C156=$B$2,Worksheet!$B$7,IF(C156=$C$2,Worksheet!$D$3,IF(C156=$D$2,Worksheet!$D$4,IF(C156=$E$2,Worksheet!$D$5,IF(C156=$C$3,Worksheet!$D$6,IF(C156=$B$3,Worksheet!$D$7,IF(C156=$D$3,Worksheet!$B$10,IF(C156=$E$3,Worksheet!$D$10,FALSE)))))))))))))","v":true},{"$f":"IF(AE156,D156,\"\")","v":"Hard"},{"$f":"IF(AE156,COUNTIF($AF$5:AF156,AF156),\"X\")","v":48},{"$f":"CONCATENATE(AE156,AF156)","v":"TRUEHard"}]
[{"$f":"CONCATENATE(AE157,D157,AG157)","v":"TRUEEasy37"},{"$f":"RAND()","v":0.34186197652520878},"Dec","Easy",240,"Take away:   ",{"$f":"RANDBETWEEN(11,90)+RANDBETWEEN(1,9)/10","v":59.2}," –",1,null,null,null,null,null,null,null,null,null,null,{"$f":"CONCATENATE(F157,\" \",G157,\" \",H157,\" \",I157,\" \",J157,\" \",K157,\" \",L157,\" \",M157,\" \",N157,\" \",O157,\" \",P157,\" \",Q157,\" \",R157)","v":"Take away:    59.2  – 1         "},{"$f":"G157-1","v":58.2},null,null,null,null,null,null,null,null,{"$f":"IF(OR(ISNA(U157),ISNA(V157),ISNA(W157),ISNA(X157),ISNA(Y157),ISNA(Z157),ISNA(AA157),ISNA(AB157),ISNA(AC157)),NA(),CONCATENATE(U157,V157,W157,X157,Y157,Z157,AA157,AB157))","v":"58.2"},{"$f":"IF(ISNA(AD157),FALSE,IF(C157=$B$1,Worksheet!$B$3,IF(C157=$C$1,Worksheet!$B$4,IF(C157=$D$1,Worksheet!$B$5,IF(C157=$E$1,Worksheet!$B$6,IF(C157=$B$2,Worksheet!$B$7,IF(C157=$C$2,Worksheet!$D$3,IF(C157=$D$2,Worksheet!$D$4,IF(C157=$E$2,Worksheet!$D$5,IF(C157=$C$3,Worksheet!$D$6,IF(C157=$B$3,Worksheet!$D$7,IF(C157=$D$3,Worksheet!$B$10,IF(C157=$E$3,Worksheet!$D$10,FALSE)))))))))))))","v":true},{"$f":"IF(AE157,D157,\"\")","v":"Easy"},{"$f":"IF(AE157,COUNTIF($AF$5:AF157,AF157),\"X\")","v":37},{"$f":"CONCATENATE(AE157,AF157)","v":"TRUEEasy"}]
[{"$f":"CONCATENATE(AE158,D158,AG158)","v":"FALSEMediumX"},{"$f":"RAND()","v":0.42845601306071379},"Alg","Medium",370,"Algebra.   If",{"$f":"CHOOSE(RANDBETWEEN(1,3),\"a\",\"x\",\"p\")","v":"a"},"=",{"$f":"RANDBETWEEN(2,10)","v":4}," and",{"$f":"IF(G158=\"x\",\"y\",IF(G158=\"a\",\"b\",\"q\"))","v":"b"},"=",{"$f":"RANDBETWEEN(2,5)","v":3},",    what is",{"$f":"RANDBETWEEN(2,5)","v":2},{"$f":"CONCATENATE(G158,\" – \")","v":"a – "},{"$f":"RANDBETWEEN(2,5)","v":3},{"$f":"CONCATENATE(K158,\" ?\")","v":"b ?"},null,{"$f":"CONCATENATE(F158,\" \",G158,\" \",H158,\" \",I158,\" \",J158,\" \",K158,\" \",L158,\" \",M158,\" \",N158,\" \",O158,\"\",P158,\" \",Q158,\"\",R158)","v":"Algebra.   If a = 4  and b = 3 ,    what is 2a –  3b ?"},{"$f":"O158*I158-Q158*M158","v":-1},null,{"$f":"IF(U158<0,NA(),\"\")","v":{"$error":"#N/A"}},null,null,null,null,null,null,{"$f":"IF(OR(ISNA(U158),ISNA(V158),ISNA(W158),ISNA(X158),ISNA(Y158),ISNA(Z158),ISNA(AA158),ISNA(AB158),ISNA(AC158)),NA(),CONCATENATE(U158,V158,W158,X158,Y158,Z158,AA158,AB158))","v":{"$error":"#N/A"}},{"$f":"IF(ISNA(AD158),FALSE,IF(C158=$B$1,Worksheet!$B$3,IF(C158=$C$1,Worksheet!$B$4,IF(C158=$D$1,Worksheet!$B$5,IF(C158=$E$1,Worksheet!$B$6,IF(C158=$B$2,Worksheet!$B$7,IF(C158=$C$2,Worksheet!$D$3,IF(C158=$D$2,Worksheet!$D$4,IF(C158=$E$2,Worksheet!$D$5,IF(C158=$C$3,Worksheet!$D$6,IF(C158=$B$3,Worksheet!$D$7,IF(C158=$D$3,Worksheet!$B$10,IF(C158=$E$3,Worksheet!$D$10,FALSE)))))))))))))","v":false},{"$f":"IF(AE158,D158,\"\")","v":""},{"$f":"IF(AE158,COUNTIF($AF$5:AF158,AF158),\"X\")","v":"X"},{"$f":"CONCATENATE(AE158,AF158)","v":"FALSE"}]
[{"$f":"CONCATENATE(AE159,D159,AG159)","v":"TRUEHard49"},{"$f":"RAND()","v":1.5558360307787233E-2},"Mult","Hard",99,"Multiply:   ",{"$f":"RANDBETWEEN(2,5)*10","v":20},"×",{"$f":"RANDBETWEEN(11,15)","v":14},null,null,null,null,null,null,null,null,null,null,{"$f":"CONCATENATE(F159,\" \",G159,\" \",H159,\" \",I159,\" \",J159,\" \",K159,\" \",L159,\" \",M159,\" \",N159,\" \",O159,\" \",P159,\" \",Q159,\" \",R159)","v":"Multiply:    20 × 14         "},{"$f":"TEXT(G159*I159,\"#,###\")","v":"280"},null,null,null,null,null,null,null,null,{"$f":"IF(OR(ISNA(U159),ISNA(V159),ISNA(W159),ISNA(X159),ISNA(Y159),ISNA(Z159),ISNA(AA159),ISNA(AB159),ISNA(AC159)),NA(),CONCATENATE(U159,V159,W159,X159,Y159,Z159,AA159,AB159))","v":"280"},{"$f":"IF(ISNA(AD159),FALSE,IF(C159=$B$1,Worksheet!$B$3,IF(C159=$C$1,Worksheet!$B$4,IF(C159=$D$1,Worksheet!$B$5,IF(C159=$E$1,Worksheet!$B$6,IF(C159=$B$2,Worksheet!$B$7,IF(C159=$C$2,Worksheet!$D$3,IF(C159=$D$2,Worksheet!$D$4,IF(C159=$E$2,Worksheet!$D$5,IF(C159=$C$3,Worksheet!$D$6,IF(C159=$B$3,Worksheet!$D$7,IF(C159=$D$3,Worksheet!$B$10,IF(C159=$E$3,Worksheet!$D$10,FALSE)))))))))))))","v":true},{"$f":"IF(AE159,D159,\"\")","v":"Hard"},{"$f":"IF(AE159,COUNTIF($AF$5:AF159,AF159),\"X\")","v":49},{"$f":"CONCATENATE(AE159,AF159)","v":"TRUEHard"}]
[{"$f":"CONCATENATE(AE160,D160,AG160)","v":"TRUEEasy38"},{"$f":"RAND()","v":0.1351464302673403},"Num","Easy",3,"Write the number   \"",{"$f":"CHOOSE(RANDBETWEEN(1,10),\"ten\",\"eleven\",\"twelve\",\"thirteen\",\"fourteen\",\"fifteen\",\"sixteen\",\"seventeen\",\"eighteen\",\"nineteen\")","v":"eleven"},"thousand,",{"$f":"CHOOSE(RANDBETWEEN(1,9),\"one\",\"two\",\"three\",\"four\",\"five\",\"six\",\"seven\",\"eight\",\"nine\")","v":"four"},"hundred and",{"$f":"CHOOSE(S160,CHOOSE(RANDBETWEEN(1,10),\"ten\",\"eleven\",\"twelve\",\"thirteen\",\"fourteen\",\"fifteen\",\"sixteen\",\"seventeen\",\"eighteen\",\"nineteen\"),\"twenty\",\"thirty\",\"forty\",\"fifty\",\"sixty\",\"seventy\",\"eighty\",\"ninety\")","v":"forty"},{"$f":"IF(S160=1,\"\",CHOOSE(RANDBETWEEN(1,9),\"one\",\"two\",\"three\",\"four\",\"five\",\"six\",\"seven\",\"eight\",\"nine\"))","v":"six"},"\"   in figures",null,null,null,null,null,{"$f":"RANDBETWEEN(1,9)","v":4},{"$f":"CONCATENATE(F160,\" \",G160,\" \",H160,\" \",I160,\" \",J160,\" \",K160,\" \",L160,\" \",M160,\" \",N160,\" \",O160,\" \",P160,\" \",Q160,\" \",R160)","v":"Write the number   \" eleven thousand, four hundred and forty six \"   in figures     "},{"$f":"IF(G160=\"ten\",10,IF(G160=\"eleven\",11,IF(G160=\"twelve\",12,IF(G160=\"thirteen\",13,IF(G160=\"fourteen\",14,IF(G160=\"fifteen\",15,IF(G160=\"sixteen\",16,IF(G160=\"seventeen\",17,IF(G160=\"eighteen\",18,19)))))))))","v":11},",",{"$f":"IF(I160=\"one\",1,IF(I160=\"two\",2,IF(I160=\"three\",3,IF(I160=\"four\",4,IF(I160=\"five\",5,IF(I160=\"six\",6,IF(I160=\"seven\",7,IF(I160=\"eight\",8,9))))))))","v":4},{"$f":"S160","v":4},{"$f":"IF(S160=1,IF(K160=\"ten\",0,IF(K160=\"eleven\",1,IF(K160=\"twelve\",2,IF(K160=\"thirteen\",3,IF(K160=\"fourteen\",4,IF(K160=\"fifteen\",5,IF(K160=\"sixteen\",6,IF(K160=\"seventeen\",7,IF(K160=\"eighteen\",8,9))))))))),\"\")","v":""},{"$f":"IF(L160=\"\",\"\",IF(L160=\"one\",1,IF(L160=\"two\",2,IF(L160=\"three\",3,IF(L160=\"four\",4,IF(L160=\"five\",5,IF(L160=\"six\",6,IF(L160=\"seven\",7,IF(L160=\"eight\",8,9)))))))))","v":6},null,null,null,{"$f":"IF(OR(ISNA(U160),ISNA(V160),ISNA(W160),ISNA(X160),ISNA(Y160),ISNA(Z160),ISNA(AA160),ISNA(AB160),ISNA(AC160)),NA(),CONCATENATE(U160,V160,W160,X160,Y160,Z160,AA160,AB160))","v":"11,446"},{"$f":"IF(ISNA(AD160),FALSE,IF(C160=$B$1,Worksheet!$B$3,IF(C160=$C$1,Worksheet!$B$4,IF(C160=$D$1,Worksheet!$B$5,IF(C160=$E$1,Worksheet!$B$6,IF(C160=$B$2,Worksheet!$B$7,IF(C160=$C$2,Worksheet!$D$3,IF(C160=$D$2,Worksheet!$D$4,IF(C160=$E$2,Worksheet!$D$5,IF(C160=$C$3,Worksheet!$D$6,IF(C160=$B$3,Worksheet!$D$7,IF(C160=$D$3,Worksheet!$B$10,IF(C160=$E$3,Worksheet!$D$10,FALSE)))))))))))))","v":true},{"$f":"IF(AE160,D160,\"\")","v":"Easy"},{"$f":"IF(AE160,COUNTIF($AF$5:AF160,AF160),\"X\")","v":38},{"$f":"CONCATENATE(AE160,AF160)","v":"TRUEEasy"}]
[{"$f":"CONCATENATE(AE161,D161,AG161)","v":"TRUEHard50"},{"$f":"RAND()","v":0.32246901357100421},"Mult","Hard",103,"Multiply:   ",{"$f":"RANDBETWEEN(2,5)*10","v":20},"×",{"$f":"RANDBETWEEN(2,5)*10","v":50},null,null,null,null,null,null,null,null,null,null,{"$f":"CONCATENATE(F161,\" \",G161,\" \",H161,\" \",I161,\" \",J161,\" \",K161,\" \",L161,\" \",M161,\" \",N161,\" \",O161,\" \",P161,\" \",Q161,\" \",R161)","v":"Multiply:    20 × 50         "},{"$f":"TEXT(G161*I161,\"#,###\")","v":"1,000"},null,null,{"$f":"IF(AND(G161=G160,I161=I160),NA(),\"\")","v":""},null,null,null,null,null,{"$f":"IF(OR(ISNA(U161),ISNA(V161),ISNA(W161),ISNA(X161),ISNA(Y161),ISNA(Z161),ISNA(AA161),ISNA(AB161),ISNA(AC161)),NA(),CONCATENATE(U161,V161,W161,X161,Y161,Z161,AA161,AB161))","v":"1,000"},{"$f":"IF(ISNA(AD161),FALSE,IF(C161=$B$1,Worksheet!$B$3,IF(C161=$C$1,Worksheet!$B$4,IF(C161=$D$1,Worksheet!$B$5,IF(C161=$E$1,Worksheet!$B$6,IF(C161=$B$2,Worksheet!$B$7,IF(C161=$C$2,Worksheet!$D$3,IF(C161=$D$2,Worksheet!$D$4,IF(C161=$E$2,Worksheet!$D$5,IF(C161=$C$3,Worksheet!$D$6,IF(C161=$B$3,Worksheet!$D$7,IF(C161=$D$3,Worksheet!$B$10,IF(C161=$E$3,Worksheet!$D$10,FALSE)))))))))))))","v":true},{"$f":"IF(AE161,D161,\"\")","v":"Hard"},{"$f":"IF(AE161,COUNTIF($AF$5:AF161,AF161),\"X\")","v":50},{"$f":"CONCATENATE(AE161,AF161)","v":"TRUEHard"}]
[{"$f":"CONCATENATE(AE162,D162,AG162)","v":"TRUEEasy39"},{"$f":"RAND()","v":0.341944852821227},"Dec","Easy",241,"Fill in the number to complete the sum:   ",{"$f":"RANDBETWEEN(1,9)+RANDBETWEEN(1,9)/10","v":4.5999999999999996}," + _____ = ",{"$f":"ROUNDUP(G162,0)","v":5},null,null,null,null,null,null,null,null,null,null,{"$f":"CONCATENATE(F162,\" \",G162,\" \",H162,\" \",I162,\" \",J162,\" \",K162,\" \",L162,\" \",M162,\" \",N162,\" \",O162,\" \",P162,\" \",Q162,\" \",R162)","v":"Fill in the number to complete the sum:    4.6  + _____ =  5         "},{"$f":"I162-G162","v":0.40000000000000036},null,null,null,null,null,null,null,null,{"$f":"IF(OR(ISNA(U162),ISNA(V162),ISNA(W162),ISNA(X162),ISNA(Y162),ISNA(Z162),ISNA(AA162),ISNA(AB162),ISNA(AC162)),NA(),CONCATENATE(U162,V162,W162,X162,Y162,Z162,AA162,AB162))","v":"0.4"},{"$f":"IF(ISNA(AD162),FALSE,IF(C162=$B$1,Worksheet!$B$3,IF(C162=$C$1,Worksheet!$B$4,IF(C162=$D$1,Worksheet!$B$5,IF(C162=$E$1,Worksheet!$B$6,IF(C162=$B$2,Worksheet!$B$7,IF(C162=$C$2,Worksheet!$D$3,IF(C162=$D$2,Worksheet!$D$4,IF(C162=$E$2,Worksheet!$D$5,IF(C162=$C$3,Worksheet!$D$6,IF(C162=$B$3,Worksheet!$D$7,IF(C162=$D$3,Worksheet!$B$10,IF(C162=$E$3,Worksheet!$D$10,FALSE)))))))))))))","v":true},{"$f":"IF(AE162,D162,\"\")","v":"Easy"},{"$f":"IF(AE162,COUNTIF($AF$5:AF162,AF162),\"X\")","v":39},{"$f":"CONCATENATE(AE162,AF162)","v":"TRUEEasy"}]
[{"$f":"CONCATENATE(AE163,D163,AG163)","v":"TRUEHard51"},{"$f":"RAND()","v":0.57028057811827559},"Frac","Hard",200,"Take away the fraction:       ",1,"  –  ",{"$f":"RANDBETWEEN(1,6)","v":3},"/7",null,null,null,null,null,null,null,null,null,{"$f":"CONCATENATE(F163,\" \",G163,\" \",H163,\" \",I163,\"\",J163,\" \",K163,\" \",L163,\" \",M163,\" \",N163,\" \",O163,\" \",P163,\" \",Q163,\" \",R163)","v":"Take away the fraction:        1   –   3/7        "},{"$f":"7-I163","v":4},"/7",null,null,null,null,null,null,null,{"$f":"IF(OR(ISNA(U163),ISNA(V163),ISNA(W163),ISNA(X163),ISNA(Y163),ISNA(Z163),ISNA(AA163),ISNA(AB163),ISNA(AC163)),NA(),CONCATENATE(U163,V163,W163,X163,Y163,Z163,AA163,AB163))","v":"4/7"},{"$f":"IF(ISNA(AD163),FALSE,IF(C163=$B$1,Worksheet!$B$3,IF(C163=$C$1,Worksheet!$B$4,IF(C163=$D$1,Worksheet!$B$5,IF(C163=$E$1,Worksheet!$B$6,IF(C163=$B$2,Worksheet!$B$7,IF(C163=$C$2,Worksheet!$D$3,IF(C163=$D$2,Worksheet!$D$4,IF(C163=$E$2,Worksheet!$D$5,IF(C163=$C$3,Worksheet!$D$6,IF(C163=$B$3,Worksheet!$D$7,IF(C163=$D$3,Worksheet!$B$10,IF(C163=$E$3,Worksheet!$D$10,FALSE)))))))))))))","v":true},{"$f":"IF(AE163,D163,\"\")","v":"Hard"},{"$f":"IF(AE163,COUNTIF($AF$5:AF163,AF163),\"X\")","v":51},{"$f":"CONCATENATE(AE163,AF163)","v":"TRUEHard"}]
[{"$f":"CONCATENATE(AE164,D164,AG164)","v":"TRUEEasy40"},{"$f":"RAND()","v":0.77734212892066124},"Neg","Easy",350,"Circle the number that is LARGEST:     ",{"$f":"RANDBETWEEN(-8,-2)","v":-4},{"$f":"G164+1","v":-3},{"$f":"G164-1","v":-5},null,null,null,null,null,null,null,null,null,null,{"$f":"CONCATENATE(F164,\" \",G164,\",     \",H164,\",     \",I164,\",     \",J164,\" \",K164,\" \",L164,\" \",M164,\" \",N164,\" \",O164,\" \",P164,\" \",Q164,\" \",R164)","v":"Circle the number that is LARGEST:      -4,     -3,     -5,             "},{"$f":"MAX(G164:I164)","v":-3},null,null,null,null,null,null,null,{"$f":"IF(ISERROR(T164),NA(),\"\")","v":""},{"$f":"IF(OR(ISNA(U164),ISNA(V164),ISNA(W164),ISNA(X164),ISNA(Y164),ISNA(Z164),ISNA(AA164),ISNA(AB164),ISNA(AC164)),NA(),CONCATENATE(U164,V164,W164,X164,Y164,Z164,AA164,AB164))","v":"-3"},{"$f":"IF(ISNA(AD164),FALSE,IF(C164=$B$1,Worksheet!$B$3,IF(C164=$C$1,Worksheet!$B$4,IF(C164=$D$1,Worksheet!$B$5,IF(C164=$E$1,Worksheet!$B$6,IF(C164=$B$2,Worksheet!$B$7,IF(C164=$C$2,Worksheet!$D$3,IF(C164=$D$2,Worksheet!$D$4,IF(C164=$E$2,Worksheet!$D$5,IF(C164=$C$3,Worksheet!$D$6,IF(C164=$B$3,Worksheet!$D$7,IF(C164=$D$3,Worksheet!$B$10,IF(C164=$E$3,Worksheet!$D$10,FALSE)))))))))))))","v":true},{"$f":"IF(AE164,D164,\"\")","v":"Easy"},{"$f":"IF(AE164,COUNTIF($AF$5:AF164,AF164),\"X\")","v":40},{"$f":"CONCATENATE(AE164,AF164)","v":"TRUEEasy"}]
[{"$f":"CONCATENATE(AE165,D165,AG165)","v":"TRUEEasy41"},{"$f":"RAND()","v":0.37359863910412749},"Num","Easy",16,"Write these numbers in order from",{"$f":"CHOOSE(RANDBETWEEN(1,2),\"smallest to biggest:\",\"biggest to smallest:\")","v":"biggest to smallest:"},{"$f":"IF($O165=1,$P165*1000,IF($O165=2,$Q165*1000,IF($O165=3,$R165*1000,$S165*1000)))+IF(RAND()<0.5,$R165,$S165)*100+IF(RAND()<0.5,$P165,$Q165)*10+CHOOSE(RANDBETWEEN(1,4),$P165,$Q165,$R165,$S165)","v":1699},{"$f":"IF($O165=1,$P165*1000,IF($O165=2,$Q165*1000,IF($O165=3,$R165*1000,$S165*1000)))+IF(RAND()<0.5,$R165,$S165)*100+IF(RAND()<0.5,$P165,$Q165)*10+CHOOSE(RANDBETWEEN(1,4),$P165,$Q165,$R165,$S165)","v":1991},{"$f":"IF($O165=1,$P165*1000,IF($O165=2,$Q165*1000,IF($O165=3,$R165*1000,$S165*1000)))+IF(RAND()<0.5,$R165,$S165)*100+IF(RAND()<0.5,$P165,$Q165)*10+CHOOSE(RANDBETWEEN(1,4),$P165,$Q165,$R165,$S165)","v":1911},{"$f":"IF($O165=1,$P165*1000,IF($O165=2,$Q165*1000,IF($O165=3,$R165*1000,$S165*1000)))+IF(RAND()<0.5,$R165,$S165)*100+IF(RAND()<0.5,$P165,$Q165)*10+CHOOSE(RANDBETWEEN(1,4),$P165,$Q165,$R165,$S165)","v":1691},null,null,null,{"$f":"RANDBETWEEN(1,9)","v":2},{"$f":"RANDBETWEEN(0,9)","v":9},{"$f":"RANDBETWEEN(0,9)","v":1},{"$f":"RANDBETWEEN(0,9)","v":6},{"$f":"RANDBETWEEN(1,9)","v":9},{"$f":"CONCATENATE(F165,\" \",G165,\"   \",H165,\",  \",I165,\",  \",J165,\",  \",K165,\" \",L165,\" \",M165,\" \",N165)","v":"Write these numbers in order from biggest to smallest:   1699,  1991,  1911,  1691   "},{"$f":"IF($G165=\"smallest to biggest:\",LARGE($H165:$K165,4),LARGE($H165:$K165,1))","v":1991},{"$f":"IF($G165=\"smallest to biggest:\",LARGE($H165:$K165,3),LARGE($H165:$K165,2))","v":1911},{"$f":"IF($G165=\"smallest to biggest:\",LARGE($H165:$K165,2),LARGE($H165:$K165,3))","v":1699},{"$f":"IF($G165=\"smallest to biggest:\",LARGE($H165:$K165,1),LARGE($H165:$K165,4))","v":1691},null,{"$f":"IF(OR(H165=I165,H165=J165,H165=K165,I165=J165,I165=K165,J165=K165),NA(),\"\")","v":""},null,null,null,{"$f":"IF(OR(ISNA(U165),ISNA(V165),ISNA(W165),ISNA(X165),ISNA(Y165),ISNA(Z165),ISNA(AA165),ISNA(AB165),ISNA(AC165)),NA(),CONCATENATE(U165,\",  \",V165,\",  \",W165,\",  \",X165,Y165,Z165,AA165,AB165))","v":"1991,  1911,  1699,  1691"},{"$f":"IF(ISNA(AD165),FALSE,IF(C165=$B$1,Worksheet!$B$3,IF(C165=$C$1,Worksheet!$B$4,IF(C165=$D$1,Worksheet!$B$5,IF(C165=$E$1,Worksheet!$B$6,IF(C165=$B$2,Worksheet!$B$7,IF(C165=$C$2,Worksheet!$D$3,IF(C165=$D$2,Worksheet!$D$4,IF(C165=$E$2,Worksheet!$D$5,IF(C165=$C$3,Worksheet!$D$6,IF(C165=$B$3,Worksheet!$D$7,IF(C165=$D$3,Worksheet!$B$10,IF(C165=$E$3,Worksheet!$D$10,FALSE)))))))))))))","v":true},{"$f":"IF(AE165,D165,\"\")","v":"Easy"},{"$f":"IF(AE165,COUNTIF($AF$5:AF165,AF165),\"X\")","v":41},{"$f":"CONCATENATE(AE165,AF165)","v":"TRUEEasy"}]
[{"$f":"CONCATENATE(AE166,D166,AG166)","v":"TRUEMedium59"},{"$f":"RAND()","v":0.29642018690161298},"%","Medium",321,"What is ",20,"% of £",{"$f":"5*RANDBETWEEN(1,10)","v":40},"?",null,null,null,null,null,null,null,null,null,{"$f":"CONCATENATE(F166,\" \",G166,\"\",H166,\"\",I166,\" \",J166,\" \",K166,\" \",L166,\" \",M166,\" \",N166,\" \",O166,\" \",P166,\" \",Q166,\" \",R166)","v":"What is  20% of £40 ?        "},"£",{"$f":"I166/5","v":8},null,null,null,null,null,null,null,{"$f":"IF(OR(ISNA(U166),ISNA(V166),ISNA(W166),ISNA(X166),ISNA(Y166),ISNA(Z166),ISNA(AA166),ISNA(AB166),ISNA(AC166)),NA(),CONCATENATE(U166,V166,W166,X166,Y166,Z166,AA166,AB166))","v":"£8"},{"$f":"IF(ISNA(AD166),FALSE,IF(C166=$B$1,Worksheet!$B$3,IF(C166=$C$1,Worksheet!$B$4,IF(C166=$D$1,Worksheet!$B$5,IF(C166=$E$1,Worksheet!$B$6,IF(C166=$B$2,Worksheet!$B$7,IF(C166=$C$2,Worksheet!$D$3,IF(C166=$D$2,Worksheet!$D$4,IF(C166=$E$2,Worksheet!$D$5,IF(C166=$C$3,Worksheet!$D$6,IF(C166=$B$3,Worksheet!$D$7,IF(C166=$D$3,Worksheet!$B$10,IF(C166=$E$3,Worksheet!$D$10,FALSE)))))))))))))","v":true},{"$f":"IF(AE166,D166,\"\")","v":"Medium"},{"$f":"IF(AE166,COUNTIF($AF$5:AF166,AF166),\"X\")","v":59},{"$f":"CONCATENATE(AE166,AF166)","v":"TRUEMedium"}]
[{"$f":"CONCATENATE(AE167,D167,AG167)","v":"TRUEHard52"},{"$f":"RAND()","v":0.23483436630575705},"Dec","Hard",280,"Divide:   ",{"$f":"RANDBETWEEN(1,9)+RANDBETWEEN(1,9)*10","v":69},"÷ 10",null,null,null,null,null,null,null,null,null,null,null,{"$f":"CONCATENATE(F167,\" \",G167,\" \",H167,\" \",I167,\" \",J167,\" \",K167,\" \",L167,\" \",M167,\" \",N167,\" \",O167,\" \",P167,\" \",Q167,\" \",R167)","v":"Divide:    69 ÷ 10          "},{"$f":"G167/10","v":6.9},null,null,null,null,null,null,null,null,{"$f":"IF(OR(ISNA(U167),ISNA(V167),ISNA(W167),ISNA(X167),ISNA(Y167),ISNA(Z167),ISNA(AA167),ISNA(AB167),ISNA(AC167)),NA(),CONCATENATE(U167,V167,W167,X167,Y167,Z167,AA167,AB167))","v":"6.9"},{"$f":"IF(ISNA(AD167),FALSE,IF(C167=$B$1,Worksheet!$B$3,IF(C167=$C$1,Worksheet!$B$4,IF(C167=$D$1,Worksheet!$B$5,IF(C167=$E$1,Worksheet!$B$6,IF(C167=$B$2,Worksheet!$B$7,IF(C167=$C$2,Worksheet!$D$3,IF(C167=$D$2,Worksheet!$D$4,IF(C167=$E$2,Worksheet!$D$5,IF(C167=$C$3,Worksheet!$D$6,IF(C167=$B$3,Worksheet!$D$7,IF(C167=$D$3,Worksheet!$B$10,IF(C167=$E$3,Worksheet!$D$10,FALSE)))))))))))))","v":true},{"$f":"IF(AE167,D167,\"\")","v":"Hard"},{"$f":"IF(AE167,COUNTIF($AF$5:AF167,AF167),\"X\")","v":52},{"$f":"CONCATENATE(AE167,AF167)","v":"TRUEHard"}]
[{"$f":"CONCATENATE(AE168,D168,AG168)","v":"TRUEMedium60"},{"$f":"RAND()","v":0.69577084473607964},"Mult","Medium",59,"What is",{"$f":"RANDBETWEEN(6,9)","v":9},"×",{"$f":"RANDBETWEEN(6,9)","v":6},"?",null,null,null,null,null,null,null,null,null,{"$f":"CONCATENATE(F168,\" \",G168,\" \",H168,\" \",I168,\" \",J168,\" \",K168,\" \",L168,\" \",M168,\" \",N168,\" \",O168,\" \",P168,\" \",Q168,\" \",R168)","v":"What is 9 × 6 ?        "},{"$f":"G168*I168","v":54},null,null,null,null,null,null,null,null,{"$f":"IF(OR(ISNA(U168),ISNA(V168),ISNA(W168),ISNA(X168),ISNA(Y168),ISNA(Z168),ISNA(AA168),ISNA(AB168),ISNA(AC168)),NA(),CONCATENATE(U168,V168,W168,X168,Y168,Z168,AA168,AB168))","v":"54"},{"$f":"IF(ISNA(AD168),FALSE,IF(C168=$B$1,Worksheet!$B$3,IF(C168=$C$1,Worksheet!$B$4,IF(C168=$D$1,Worksheet!$B$5,IF(C168=$E$1,Worksheet!$B$6,IF(C168=$B$2,Worksheet!$B$7,IF(C168=$C$2,Worksheet!$D$3,IF(C168=$D$2,Worksheet!$D$4,IF(C168=$E$2,Worksheet!$D$5,IF(C168=$C$3,Worksheet!$D$6,IF(C168=$B$3,Worksheet!$D$7,IF(C168=$D$3,Worksheet!$B$10,IF(C168=$E$3,Worksheet!$D$10,FALSE)))))))))))))","v":true},{"$f":"IF(AE168,D168,\"\")","v":"Medium"},{"$f":"IF(AE168,COUNTIF($AF$5:AF168,AF168),\"X\")","v":60},{"$f":"CONCATENATE(AE168,AF168)","v":"TRUEMedium"}]
[{"$f":"CONCATENATE(AE169,D169,AG169)","v":"TRUEEasy42"},{"$f":"RAND()","v":0.27854407048180918},"+-","Easy",50,"Take away by writing down a sum:   ",{"$f":"RANDBETWEEN(2,9)*100+RANDBETWEEN(1,99)","v":851},"–",{"$f":"RANDBETWEEN(101,G169)","v":843},null,null,null,null,null,null,null,null,null,null,{"$f":"CONCATENATE(F169,\" \",G169,\" \",H169,\" \",I169,\" \",J169,\" \",K169,\" \",L169,\" \",M169,\" \",N169,\" \",O169,\" \",P169,\" \",Q169,\" \",R169)","v":"Take away by writing down a sum:    851 – 843         "},{"$f":"G169-I169","v":8},null,null,null,null,null,null,null,null,{"$f":"IF(OR(ISNA(U169),ISNA(V169),ISNA(W169),ISNA(X169),ISNA(Y169),ISNA(Z169),ISNA(AA169),ISNA(AB169),ISNA(AC169)),NA(),CONCATENATE(U169,V169,W169,X169,Y169,Z169,AA169,AB169))","v":"8"},{"$f":"IF(ISNA(AD169),FALSE,IF(C169=$B$1,Worksheet!$B$3,IF(C169=$C$1,Worksheet!$B$4,IF(C169=$D$1,Worksheet!$B$5,IF(C169=$E$1,Worksheet!$B$6,IF(C169=$B$2,Worksheet!$B$7,IF(C169=$C$2,Worksheet!$D$3,IF(C169=$D$2,Worksheet!$D$4,IF(C169=$E$2,Worksheet!$D$5,IF(C169=$C$3,Worksheet!$D$6,IF(C169=$B$3,Worksheet!$D$7,IF(C169=$D$3,Worksheet!$B$10,IF(C169=$E$3,Worksheet!$D$10,FALSE)))))))))))))","v":true},{"$f":"IF(AE169,D169,\"\")","v":"Easy"},{"$f":"IF(AE169,COUNTIF($AF$5:AF169,AF169),\"X\")","v":42},{"$f":"CONCATENATE(AE169,AF169)","v":"TRUEEasy"}]
[{"$f":"CONCATENATE(AE170,D170,AG170)","v":"TRUEMedium61"},{"$f":"RAND()","v":0.79206213745556209},"Dec","Medium",212,"Three of these numbers are the same.  Cirle the number that is NOT the same:    ",{"$f":"IF(S170=1,0.05,0.5)","v":0.5},{"$f":"IF(S170=2,0.05,\"one half\")","v":"one half"},{"$f":"IF(S170=3,0.05,TEXT(0.5,\"0.00\"))","v":"0.50"},{"$f":"IF(S170=4,0.05,IF(S170=2,\"one half\",IF(S170=1,0.5,TEXT(0.5,\"0.00\"))))","v":0.05},null,null,null,null,null,null,null,{"$f":"RANDBETWEEN(1,9)","v":8},{"$f":"RANDBETWEEN(1,4)","v":4},{"$f":"CONCATENATE(F170,\" \",G170,\",     \",H170,\",     \",I170,\",     \",J170,\" \",K170,\" \",L170,\" \",M170,\" \",N170,\" \",O170,\" \",P170,\" \",Q170)","v":"Three of these numbers are the same.  Cirle the number that is NOT the same:     0.5,     one half,     0.50,     0.05       "},0.05,null,null,null,null,null,null,null,null,{"$f":"IF(OR(ISNA(U170),ISNA(V170),ISNA(W170),ISNA(X170),ISNA(Y170),ISNA(Z170),ISNA(AA170),ISNA(AB170),ISNA(AC170)),NA(),CONCATENATE(U170,V170,W170,X170,Y170,Z170,AA170,AB170))","v":"0.05"},{"$f":"IF(ISNA(AD170),FALSE,IF(C170=$B$1,Worksheet!$B$3,IF(C170=$C$1,Worksheet!$B$4,IF(C170=$D$1,Worksheet!$B$5,IF(C170=$E$1,Worksheet!$B$6,IF(C170=$B$2,Worksheet!$B$7,IF(C170=$C$2,Worksheet!$D$3,IF(C170=$D$2,Worksheet!$D$4,IF(C170=$E$2,Worksheet!$D$5,IF(C170=$C$3,Worksheet!$D$6,IF(C170=$B$3,Worksheet!$D$7,IF(C170=$D$3,Worksheet!$B$10,IF(C170=$E$3,Worksheet!$D$10,FALSE)))))))))))))","v":true},{"$f":"IF(AE170,D170,\"\")","v":"Medium"},{"$f":"IF(AE170,COUNTIF($AF$5:AF170,AF170),\"X\")","v":61},{"$f":"CONCATENATE(AE170,AF170)","v":"TRUEMedium"}]
[{"$f":"CONCATENATE(AE171,D171,AG171)","v":"TRUEMedium62"},{"$f":"RAND()","v":0.73024026628962069},"Num","Medium",4,"Write the number   \"",{"$f":"CHOOSE(RANDBETWEEN(1,9),\"one\",\"two\",\"three\",\"four\",\"five\",\"six\",\"seven\",\"eight\",\"nine\")","v":"four"},"and a half thousand","\"   in figures",null,null,null,null,null,null,null,null,null,null,{"$f":"CONCATENATE(F171,\" \",G171,\" \",H171,\" \",I171,\" \",J171,\" \",K171,\" \",L171,\" \",M171,\" \",N171,\" \",O171,\" \",P171,\" \",Q171,\" \",R171)","v":"Write the number   \" four and a half thousand \"   in figures         "},{"$f":"IF(G171=\"one\",1,IF(G171=\"two\",2,IF(G171=\"three\",3,IF(G171=\"four\",4,IF(G171=\"five\",5,IF(G171=\"six\",6,IF(G171=\"seven\",7,IF(G171=\"eight\",8,9))))))))","v":4},",500",null,null,null,null,null,null,null,{"$f":"IF(OR(ISNA(U171),ISNA(V171),ISNA(W171),ISNA(X171),ISNA(Y171),ISNA(Z171),ISNA(AA171),ISNA(AB171),ISNA(AC171)),NA(),CONCATENATE(U171,V171,W171,X171,Y171,Z171,AA171,AB171))","v":"4,500"},{"$f":"IF(ISNA(AD171),FALSE,IF(C171=$B$1,Worksheet!$B$3,IF(C171=$C$1,Worksheet!$B$4,IF(C171=$D$1,Worksheet!$B$5,IF(C171=$E$1,Worksheet!$B$6,IF(C171=$B$2,Worksheet!$B$7,IF(C171=$C$2,Worksheet!$D$3,IF(C171=$D$2,Worksheet!$D$4,IF(C171=$E$2,Worksheet!$D$5,IF(C171=$C$3,Worksheet!$D$6,IF(C171=$B$3,Worksheet!$D$7,IF(C171=$D$3,Worksheet!$B$10,IF(C171=$E$3,Worksheet!$D$10,FALSE)))))))))))))","v":true},{"$f":"IF(AE171,D171,\"\")","v":"Medium"},{"$f":"IF(AE171,COUNTIF($AF$5:AF171,AF171),\"X\")","v":62},{"$f":"CONCATENATE(AE171,AF171)","v":"TRUEMedium"}]
[{"$f":"CONCATENATE(AE172,D172,AG172)","v":"TRUEHard53"},{"$f":"RAND()","v":0.91995270046155797},"Round","Hard",342,"Round",{"$f":"RANDBETWEEN(101,999)+RANDBETWEEN(1,99)/100","v":848.02},"to one decimal place",null,null,null,null,null,null,null,null,null,null,null,{"$f":"CONCATENATE(F172,\" \",G172,\" \",H172,\" \",I172,\" \",J172,\" \",K172,\" \",L172,\" \",M172,\" \",N172,\" \",O172,\" \",P172,\" \",Q172,\" \",R172)","v":"Round 848.02 to one decimal place          "},{"$f":"MROUND(G172,0.1)","v":848},null,null,null,null,null,null,null,null,{"$f":"IF(OR(ISNA(U172),ISNA(V172),ISNA(W172),ISNA(X172),ISNA(Y172),ISNA(Z172),ISNA(AA172),ISNA(AB172),ISNA(AC172)),NA(),CONCATENATE(U172,V172,W172,X172,Y172,Z172,AA172,AB172))","v":"848"},{"$f":"IF(ISNA(AD172),FALSE,IF(C172=$B$1,Worksheet!$B$3,IF(C172=$C$1,Worksheet!$B$4,IF(C172=$D$1,Worksheet!$B$5,IF(C172=$E$1,Worksheet!$B$6,IF(C172=$B$2,Worksheet!$B$7,IF(C172=$C$2,Worksheet!$D$3,IF(C172=$D$2,Worksheet!$D$4,IF(C172=$E$2,Worksheet!$D$5,IF(C172=$C$3,Worksheet!$D$6,IF(C172=$B$3,Worksheet!$D$7,IF(C172=$D$3,Worksheet!$B$10,IF(C172=$E$3,Worksheet!$D$10,FALSE)))))))))))))","v":true},{"$f":"IF(AE172,D172,\"\")","v":"Hard"},{"$f":"IF(AE172,COUNTIF($AF$5:AF172,AF172),\"X\")","v":53},{"$f":"CONCATENATE(AE172,AF172)","v":"TRUEHard"}]
[{"$f":"CONCATENATE(AE173,D173,AG173)","v":"TRUEMedium63"},{"$f":"RAND()","v":0.69265699550622417},"Num","Medium",209,"Continue the pattern for three more numbers:   ",{"$f":"RANDBETWEEN(11,95)*1000+600+RANDBETWEEN(1,99)","v":17647},{"$f":"G173+S173","v":17747},{"$f":"H173+S173","v":17847},{"$f":"I173+S173","v":17947},"____","____","____",null,null,null,null,null,100,{"$f":"CONCATENATE(F173,\" \",G173,\",   \",H173,\",   \",I173,\",   \",J173,\",   \",K173,\",   \",L173,\",   \",M173,\" \",N173,\" \",O173,\" \",P173,\" \",Q173,\" \",R173)","v":"Continue the pattern for three more numbers:    17647,   17747,   17847,   17947,   ____,   ____,   ____     "},{"$f":"J173+S173","v":18047},{"$f":"U173+S173","v":18147},{"$f":"V173+S173","v":18247},null,null,null,null,null,null,{"$f":"IF(OR(ISNA(U173),ISNA(V173),ISNA(W173),ISNA(X173),ISNA(Y173),ISNA(Z173),ISNA(AA173),ISNA(AB173),ISNA(AC173)),NA(),CONCATENATE(U173,\",   \",V173,\",   \",W173,X173,Y173,Z173,AA173,AB173))","v":"18047,   18147,   18247"},{"$f":"IF(ISNA(AD173),FALSE,IF(C173=$B$1,Worksheet!$B$3,IF(C173=$C$1,Worksheet!$B$4,IF(C173=$D$1,Worksheet!$B$5,IF(C173=$E$1,Worksheet!$B$6,IF(C173=$B$2,Worksheet!$B$7,IF(C173=$C$2,Worksheet!$D$3,IF(C173=$D$2,Worksheet!$D$4,IF(C173=$E$2,Worksheet!$D$5,IF(C173=$C$3,Worksheet!$D$6,IF(C173=$B$3,Worksheet!$D$7,IF(C173=$D$3,Worksheet!$B$10,IF(C173=$E$3,Worksheet!$D$10,FALSE)))))))))))))","v":true},{"$f":"IF(AE173,D173,\"\")","v":"Medium"},{"$f":"IF(AE173,COUNTIF($AF$5:AF173,AF173),\"X\")","v":63},{"$f":"CONCATENATE(AE173,AF173)","v":"TRUEMedium"}]
[{"$f":"CONCATENATE(AE174,D174,AG174)","v":"TRUEHard54"},{"$f":"RAND()","v":0.74084164520713691},"Dec","Hard",266,"Fill in the number to complete the sum:   ",{"$f":"RANDBETWEEN(1,9)+RANDBETWEEN(1,9)/100+S174/10","v":7.34}," – _____ = ",{"$f":"G174-S174/10","v":7.04},null,null,null,null,null,null,null,null,null,{"$f":"RANDBETWEEN(1,9)","v":3},{"$f":"CONCATENATE(F174,\" \",G174,\" \",H174,\" \",I174,\" \",J174,\" \",K174,\" \",L174,\" \",M174,\" \",N174,\" \",O174,\" \",P174,\" \",Q174,\" \",R174)","v":"Fill in the number to complete the sum:    7.34  – _____ =  7.04         "},{"$f":"MROUND(G174-I174,0.1)","v":0.30000000000000004},null,null,null,null,null,null,null,null,{"$f":"IF(OR(ISNA(U174),ISNA(V174),ISNA(W174),ISNA(X174),ISNA(Y174),ISNA(Z174),ISNA(AA174),ISNA(AB174),ISNA(AC174)),NA(),CONCATENATE(U174,V174,W174,X174,Y174,Z174,AA174,AB174))","v":"0.3"},{"$f":"IF(ISNA(AD174),FALSE,IF(C174=$B$1,Worksheet!$B$3,IF(C174=$C$1,Worksheet!$B$4,IF(C174=$D$1,Worksheet!$B$5,IF(C174=$E$1,Worksheet!$B$6,IF(C174=$B$2,Worksheet!$B$7,IF(C174=$C$2,Worksheet!$D$3,IF(C174=$D$2,Worksheet!$D$4,IF(C174=$E$2,Worksheet!$D$5,IF(C174=$C$3,Worksheet!$D$6,IF(C174=$B$3,Worksheet!$D$7,IF(C174=$D$3,Worksheet!$B$10,IF(C174=$E$3,Worksheet!$D$10,FALSE)))))))))))))","v":true},{"$f":"IF(AE174,D174,\"\")","v":"Hard"},{"$f":"IF(AE174,COUNTIF($AF$5:AF174,AF174),\"X\")","v":54},{"$f":"CONCATENATE(AE174,AF174)","v":"TRUEHard"}]
[{"$f":"CONCATENATE(AE175,D175,AG175)","v":"TRUEMedium64"},{"$f":"RAND()","v":0.98786207632566803},"%","Medium",293,"Write",{"$f":"RANDBETWEEN(1,9)+RANDBETWEEN(1,9)*10","v":17},"% as a decimal",null,null,null,null,null,null,null,null,null,null,null,{"$f":"CONCATENATE(F175,\" \",G175,\"\",H175,\" \",I175,\" \",J175,\" \",K175,\" \",L175,\" \",M175,\" \",N175,\" \",O175,\" \",P175,\" \",Q175,\" \",R175)","v":"Write 17% as a decimal          "},{"$f":"G175/100","v":0.17},null,null,null,null,null,null,null,null,{"$f":"IF(OR(ISNA(U175),ISNA(V175),ISNA(W175),ISNA(X175),ISNA(Y175),ISNA(Z175),ISNA(AA175),ISNA(AB175),ISNA(AC175)),NA(),CONCATENATE(U175,V175,W175,X175,Y175,Z175,AA175,AB175))","v":"0.17"},{"$f":"IF(ISNA(AD175),FALSE,IF(C175=$B$1,Worksheet!$B$3,IF(C175=$C$1,Worksheet!$B$4,IF(C175=$D$1,Worksheet!$B$5,IF(C175=$E$1,Worksheet!$B$6,IF(C175=$B$2,Worksheet!$B$7,IF(C175=$C$2,Worksheet!$D$3,IF(C175=$D$2,Worksheet!$D$4,IF(C175=$E$2,Worksheet!$D$5,IF(C175=$C$3,Worksheet!$D$6,IF(C175=$B$3,Worksheet!$D$7,IF(C175=$D$3,Worksheet!$B$10,IF(C175=$E$3,Worksheet!$D$10,FALSE)))))))))))))","v":true},{"$f":"IF(AE175,D175,\"\")","v":"Medium"},{"$f":"IF(AE175,COUNTIF($AF$5:AF175,AF175),\"X\")","v":64},{"$f":"CONCATENATE(AE175,AF175)","v":"TRUEMedium"}]
[{"$f":"CONCATENATE(AE176,D176,AG176)","v":"TRUEMedium65"},{"$f":"RAND()","v":0.89403842662043442},"Dec","Medium",228,"In the number",{"$f":"RANDBETWEEN(1,9)","v":7},{"$f":"SMALL(IF(G176={1,2,3,4,5,6,7,8,9},\"\",{1,2,3,4,5,6,7,8,9}),RANDBETWEEN(1,8))","v":2},{"$f":"SMALL(IF(G176={1,2,3,4,5,6,7,8,9},\"\",IF(H176={1,2,3,4,5,6,7,8,9},\"\",{1,2,3,4,5,6,7,8,9})),RANDBETWEEN(1,7))","v":9},{"$f":"SMALL(IF(G176={1,2,3,4,5,6,7,8,9},\"\",IF(H176={1,2,3,4,5,6,7,8,9},\"\",IF(I176={1,2,3,4,5,6,7,8,9},\"\",{1,2,3,4,5,6,7,8,9}))),RANDBETWEEN(1,6))","v":8},{"$f":"SMALL(IF(G176={1,2,3,4,5,6,7,8,9},\"\",IF(H176={1,2,3,4,5,6,7,8,9},\"\",IF(I176={1,2,3,4,5,6,7,8,9},\"\",IF(J176={1,2,3,4,5,6,7,8,9},\"\",{1,2,3,4,5,6,7,8,9})))),RANDBETWEEN(1,5))","v":3},null,", which digit represents the UNITS?",null,null,null,null,null,{"$f":"RANDBETWEEN(1,3)","v":1},{"$f":"CONCATENATE(F176,\" \",G176,\"\",H176,\"•\",I176,\"\",J176,\"\",K176,\"\",L176,\" \",M176,\" \",N176,\" \",O176,\" \",P176,\" \",Q176,\" \",R176)","v":"In the number 72•983 , which digit represents the UNITS?     "},{"$f":"H176","v":2},null,null,null,null,null,null,null,null,{"$f":"IF(OR(ISNA(U176),ISNA(V176),ISNA(W176),ISNA(X176),ISNA(Y176),ISNA(Z176),ISNA(AA176),ISNA(AB176),ISNA(AC176)),NA(),CONCATENATE(U176,V176,W176,X176,Y176,Z176,AA176,AB176))","v":"2"},{"$f":"IF(ISNA(AD176),FALSE,IF(C176=$B$1,Worksheet!$B$3,IF(C176=$C$1,Worksheet!$B$4,IF(C176=$D$1,Worksheet!$B$5,IF(C176=$E$1,Worksheet!$B$6,IF(C176=$B$2,Worksheet!$B$7,IF(C176=$C$2,Worksheet!$D$3,IF(C176=$D$2,Worksheet!$D$4,IF(C176=$E$2,Worksheet!$D$5,IF(C176=$C$3,Worksheet!$D$6,IF(C176=$B$3,Worksheet!$D$7,IF(C176=$D$3,Worksheet!$B$10,IF(C176=$E$3,Worksheet!$D$10,FALSE)))))))))))))","v":true},{"$f":"IF(AE176,D176,\"\")","v":"Medium"},{"$f":"IF(AE176,COUNTIF($AF$5:AF176,AF176),\"X\")","v":65},{"$f":"CONCATENATE(AE176,AF176)","v":"TRUEMedium"}]
[{"$f":"CONCATENATE(AE177,D177,AG177)","v":"TRUEMedium66"},{"$f":"RAND()","v":0.58449393152919293},"Frac","Medium",171,"Fractions.   ",{"$f":"IF(I177=5,RANDBETWEEN(2,4),IF(I177=6,5,IF(I177=7,RANDBETWEEN(2,5),IF(I177=8,CHOOSE(RANDBETWEEN(1,3),3,5,7),IF(I177=9,CHOOSE(RANDBETWEEN(1,4),2,4,5,7),CHOOSE(RANDBETWEEN(1,3),3,7,9))))))","v":4},"/",{"$f":"RANDBETWEEN(5,10)","v":5},"of the people in",{"$f":"CHOOSE(RANDBETWEEN(1,5),\"Mrs Brown's\",\"Mr Wilson's\",\"Miss Forbes'\",\"Mr Jackson's\",\"Miss Black's\")","v":"Miss Black's"},"class are right-handed.  The rest are left-handed.  What fraction is left-handed?",null,null,null,null,null,null,null,{"$f":"CONCATENATE(F177,\" \",G177,\"\",H177,\"\",I177,\" \",J177,\" \",K177,\"\",L177,\" \",M177,\" \",N177,\" \",O177,\"\",P177,\" \",Q177,\" \",R177)","v":"Fractions.    4/5 of the people in Miss Black'sclass are right-handed.  The rest are left-handed.  What fraction is left-handed?     "},{"$f":"I177-G177","v":1},"/",{"$f":"I177","v":5},null,{"$f":"IF(AND(U177=U176,W177=W176),NA(),\"\")","v":""},null,null,null,null,{"$f":"IF(OR(ISNA(U177),ISNA(V177),ISNA(W177),ISNA(X177),ISNA(Y177),ISNA(Z177),ISNA(AA177),ISNA(AB177),ISNA(AC177)),NA(),CONCATENATE(U177,V177,W177,X177,Y177,Z177,AA177,AB177))","v":"1/5"},{"$f":"IF(ISNA(AD177),FALSE,IF(C177=$B$1,Worksheet!$B$3,IF(C177=$C$1,Worksheet!$B$4,IF(C177=$D$1,Worksheet!$B$5,IF(C177=$E$1,Worksheet!$B$6,IF(C177=$B$2,Worksheet!$B$7,IF(C177=$C$2,Worksheet!$D$3,IF(C177=$D$2,Worksheet!$D$4,IF(C177=$E$2,Worksheet!$D$5,IF(C177=$C$3,Worksheet!$D$6,IF(C177=$B$3,Worksheet!$D$7,IF(C177=$D$3,Worksheet!$B$10,IF(C177=$E$3,Worksheet!$D$10,FALSE)))))))))))))","v":true},{"$f":"IF(AE177,D177,\"\")","v":"Medium"},{"$f":"IF(AE177,COUNTIF($AF$5:AF177,AF177),\"X\")","v":66},{"$f":"CONCATENATE(AE177,AF177)","v":"TRUEMedium"}]
[{"$f":"CONCATENATE(AE178,D178,AG178)","v":"TRUEMedium67"},{"$f":"RAND()","v":0.26518349571558253},"Dec","Medium",292,"Divide by writing down a sum:  ",{"$f":"TEXT(U178*I178,\"0.0\")","v":"16.5"},"÷",{"$f":"RANDBETWEEN(2,5)","v":3},null,null,null,null,null,null,null,null,null,null,{"$f":"CONCATENATE(F178,\" \",G178,\" \",H178,\" \",I178,\" \",J178,\" \",K178,\" \",L178,\" \",M178,\" \",N178,\" \",O178,\" \",P178,\" \",Q178,\" \",R178)","v":"Divide by writing down a sum:   16.5 ÷ 3         "},{"$f":"RANDBETWEEN(2,7)+RANDBETWEEN(1,9)/10","v":5.5},null,null,null,null,null,null,null,null,{"$f":"IF(OR(ISNA(U178),ISNA(V178),ISNA(W178),ISNA(X178),ISNA(Y178),ISNA(Z178),ISNA(AA178),ISNA(AB178),ISNA(AC178)),NA(),CONCATENATE(U178,V178,W178,X178,Y178,Z178,AA178,AB178))","v":"5.5"},{"$f":"IF(ISNA(AD178),FALSE,IF(C178=$B$1,Worksheet!$B$3,IF(C178=$C$1,Worksheet!$B$4,IF(C178=$D$1,Worksheet!$B$5,IF(C178=$E$1,Worksheet!$B$6,IF(C178=$B$2,Worksheet!$B$7,IF(C178=$C$2,Worksheet!$D$3,IF(C178=$D$2,Worksheet!$D$4,IF(C178=$E$2,Worksheet!$D$5,IF(C178=$C$3,Worksheet!$D$6,IF(C178=$B$3,Worksheet!$D$7,IF(C178=$D$3,Worksheet!$B$10,IF(C178=$E$3,Worksheet!$D$10,FALSE)))))))))))))","v":true},{"$f":"IF(AE178,D178,\"\")","v":"Medium"},{"$f":"IF(AE178,COUNTIF($AF$5:AF178,AF178),\"X\")","v":67},{"$f":"CONCATENATE(AE178,AF178)","v":"TRUEMedium"}]
[{"$f":"CONCATENATE(AE179,D179,AG179)","v":"TRUEMedium68"},{"$f":"RAND()","v":7.9409046683502904E-2},"Frac","Medium",191,"Add the fractions:       ",{"$f":"RANDBETWEEN(1,4)","v":3},"/5","  +  ",{"$f":"RANDBETWEEN(1,5-G179)","v":1},"/5",null,null,null,null,null,null,null,null,{"$f":"CONCATENATE(F179,\" \",G179,\"\",H179,\" \",I179,\" \",J179,\"\",K179,\" \",L179,\" \",M179,\" \",N179,\" \",O179,\" \",P179,\" \",Q179,\" \",R179)","v":"Add the fractions:        3/5   +   1/5       "},{"$f":"IF(G179+J179=5,1,CONCATENATE(G179+J179,\"/5\"))","v":"4/5"},null,null,null,null,null,null,null,null,{"$f":"IF(OR(ISNA(U179),ISNA(V179),ISNA(W179),ISNA(X179),ISNA(Y179),ISNA(Z179),ISNA(AA179),ISNA(AB179),ISNA(AC179)),NA(),CONCATENATE(U179,V179,W179,X179,Y179,Z179,AA179,AB179))","v":"4/5"},{"$f":"IF(ISNA(AD179),FALSE,IF(C179=$B$1,Worksheet!$B$3,IF(C179=$C$1,Worksheet!$B$4,IF(C179=$D$1,Worksheet!$B$5,IF(C179=$E$1,Worksheet!$B$6,IF(C179=$B$2,Worksheet!$B$7,IF(C179=$C$2,Worksheet!$D$3,IF(C179=$D$2,Worksheet!$D$4,IF(C179=$E$2,Worksheet!$D$5,IF(C179=$C$3,Worksheet!$D$6,IF(C179=$B$3,Worksheet!$D$7,IF(C179=$D$3,Worksheet!$B$10,IF(C179=$E$3,Worksheet!$D$10,FALSE)))))))))))))","v":true},{"$f":"IF(AE179,D179,\"\")","v":"Medium"},{"$f":"IF(AE179,COUNTIF($AF$5:AF179,AF179),\"X\")","v":68},{"$f":"CONCATENATE(AE179,AF179)","v":"TRUEMedium"}]
[{"$f":"CONCATENATE(AE180,D180,AG180)","v":"TRUEMedium69"},{"$f":"RAND()","v":0.82184290752429379},"Divide","Medium",115,"What is half of",{"$f":"10*(2*RANDBETWEEN(5,24)+1)","v":150},"?",null,null,null,null,null,null,null,null,null,null,null,{"$f":"CONCATENATE(F180,\" \",G180,\" \",H180,\" \",I180,\" \",J180,\" \",K180,\" \",L180,\" \",M180,\" \",N180,\" \",O180,\" \",P180,\" \",Q180,\" \",R180)","v":"What is half of 150 ?          "},{"$f":"G180/2","v":75},null,null,null,null,null,null,null,null,{"$f":"IF(OR(ISNA(U180),ISNA(V180),ISNA(W180),ISNA(X180),ISNA(Y180),ISNA(Z180),ISNA(AA180),ISNA(AB180),ISNA(AC180)),NA(),CONCATENATE(U180,V180,W180,X180,Y180,Z180,AA180,AB180))","v":"75"},{"$f":"IF(ISNA(AD180),FALSE,IF(C180=$B$1,Worksheet!$B$3,IF(C180=$C$1,Worksheet!$B$4,IF(C180=$D$1,Worksheet!$B$5,IF(C180=$E$1,Worksheet!$B$6,IF(C180=$B$2,Worksheet!$B$7,IF(C180=$C$2,Worksheet!$D$3,IF(C180=$D$2,Worksheet!$D$4,IF(C180=$E$2,Worksheet!$D$5,IF(C180=$C$3,Worksheet!$D$6,IF(C180=$B$3,Worksheet!$D$7,IF(C180=$D$3,Worksheet!$B$10,IF(C180=$E$3,Worksheet!$D$10,FALSE)))))))))))))","v":true},{"$f":"IF(AE180,D180,\"\")","v":"Medium"},{"$f":"IF(AE180,COUNTIF($AF$5:AF180,AF180),\"X\")","v":69},{"$f":"CONCATENATE(AE180,AF180)","v":"TRUEMedium"}]
[{"$f":"CONCATENATE(AE181,D181,AG181)","v":"TRUEEasy43"},{"$f":"RAND()","v":0.10297744842084633},"Dec","Easy",260,"Write the fraction","1/4","as a decimal",null,null,null,null,null,null,null,null,null,null,null,{"$f":"CONCATENATE(F181,\" \",G181,\" \",H181,\" \",I181,\" \",J181,\" \",K181,\" \",L181,\" \",M181,\" \",N181,\" \",O181,\" \",P181,\" \",Q181,\" \",R181)","v":"Write the fraction 1/4 as a decimal          "},0.25,null,null,null,null,null,null,null,null,{"$f":"IF(OR(ISNA(U181),ISNA(V181),ISNA(W181),ISNA(X181),ISNA(Y181),ISNA(Z181),ISNA(AA181),ISNA(AB181),ISNA(AC181)),NA(),CONCATENATE(U181,V181,W181,X181,Y181,Z181,AA181,AB181))","v":"0.25"},{"$f":"IF(ISNA(AD181),FALSE,IF(C181=$B$1,Worksheet!$B$3,IF(C181=$C$1,Worksheet!$B$4,IF(C181=$D$1,Worksheet!$B$5,IF(C181=$E$1,Worksheet!$B$6,IF(C181=$B$2,Worksheet!$B$7,IF(C181=$C$2,Worksheet!$D$3,IF(C181=$D$2,Worksheet!$D$4,IF(C181=$E$2,Worksheet!$D$5,IF(C181=$C$3,Worksheet!$D$6,IF(C181=$B$3,Worksheet!$D$7,IF(C181=$D$3,Worksheet!$B$10,IF(C181=$E$3,Worksheet!$D$10,FALSE)))))))))))))","v":true},{"$f":"IF(AE181,D181,\"\")","v":"Easy"},{"$f":"IF(AE181,COUNTIF($AF$5:AF181,AF181),\"X\")","v":43},{"$f":"CONCATENATE(AE181,AF181)","v":"TRUEEasy"}]
[{"$f":"CONCATENATE(AE182,D182,AG182)","v":"FALSEHardX"},{"$f":"RAND()","v":0.62026798921450443},"Alg","Hard",375,"Fill in the box with one of the symbols  <   >   or   =    :",null,{"$f":"RANDBETWEEN(1,1000)","v":10},"_____",{"$f":"H182+RANDBETWEEN(-2,2)","v":9},null,null,null,null,null,null,null,null,null,{"$f":"CONCATENATE(F182,\" \",G182,\" \",H182,\"   \",I182,\"   \",J182,\" \",K182,\" \",L182,\" \",M182,\" \",N182,\" \",O182,\" \",P182,\" \",Q182,\" \",R182)","v":"Fill in the box with one of the symbols  <   >   or   =    :  10   _____   9        "},{"$f":"IF(J182>H182,\"<\",IF(H182>J182,\">\",\"=\"))","v":">"},null,null,null,null,null,null,null,null,{"$f":"IF(OR(ISNA(U182),ISNA(V182),ISNA(W182),ISNA(X182),ISNA(Y182),ISNA(Z182),ISNA(AA182),ISNA(AB182),ISNA(AC182)),NA(),CONCATENATE(U182,V182,W182,X182,Y182,Z182,AA182,AB182))","v":">"},{"$f":"IF(ISNA(AD182),FALSE,IF(C182=$B$1,Worksheet!$B$3,IF(C182=$C$1,Worksheet!$B$4,IF(C182=$D$1,Worksheet!$B$5,IF(C182=$E$1,Worksheet!$B$6,IF(C182=$B$2,Worksheet!$B$7,IF(C182=$C$2,Worksheet!$D$3,IF(C182=$D$2,Worksheet!$D$4,IF(C182=$E$2,Worksheet!$D$5,IF(C182=$C$3,Worksheet!$D$6,IF(C182=$B$3,Worksheet!$D$7,IF(C182=$D$3,Worksheet!$B$10,IF(C182=$E$3,Worksheet!$D$10,FALSE)))))))))))))","v":false},{"$f":"IF(AE182,D182,\"\")","v":""},{"$f":"IF(AE182,COUNTIF($AF$5:AF182,AF182),\"X\")","v":"X"},{"$f":"CONCATENATE(AE182,AF182)","v":"FALSE"}]
[{"$f":"CONCATENATE(AE183,D183,AG183)","v":"FALSEMediumX"},{"$f":"RAND()","v":4.3475774377564336E-2},"Alg","Medium",365,"Algebra.   If",{"$f":"CHOOSE(RANDBETWEEN(1,10),\"a\",\"x\",\"y\",\"b\",\"m\",\"p\",\"x\",\"y\",\"k\",\"f\")","v":"x"},"=",{"$f":"RANDBETWEEN(2,10)","v":9},", what is",null,{"$f":"RANDBETWEEN(2,10)","v":3},{"$f":"G183","v":"x"},"–",{"$f":"RANDBETWEEN(1,10)","v":7},"?",null,null,null,{"$f":"CONCATENATE(F183,\" \",G183,\" \",H183,\" \",I183,\"\",J183,\"\",K183,\"    \",L183,\"\",M183,\" \",N183,\" \",O183,\" \",P183,\" \",Q183,\" \",R183)","v":"Algebra.   If x = 9, what is    3x – 7 ?  "},{"$f":"I183*L183-O183","v":20},null,{"$f":"IF(U183<0,NA(),\"\")","v":""},null,null,null,null,null,null,{"$f":"IF(OR(ISNA(U183),ISNA(V183),ISNA(W183),ISNA(X183),ISNA(Y183),ISNA(Z183),ISNA(AA183),ISNA(AB183),ISNA(AC183)),NA(),CONCATENATE(U183,V183,W183,X183,Y183,Z183,AA183,AB183))","v":"20"},{"$f":"IF(ISNA(AD183),FALSE,IF(C183=$B$1,Worksheet!$B$3,IF(C183=$C$1,Worksheet!$B$4,IF(C183=$D$1,Worksheet!$B$5,IF(C183=$E$1,Worksheet!$B$6,IF(C183=$B$2,Worksheet!$B$7,IF(C183=$C$2,Worksheet!$D$3,IF(C183=$D$2,Worksheet!$D$4,IF(C183=$E$2,Worksheet!$D$5,IF(C183=$C$3,Worksheet!$D$6,IF(C183=$B$3,Worksheet!$D$7,IF(C183=$D$3,Worksheet!$B$10,IF(C183=$E$3,Worksheet!$D$10,FALSE)))))))))))))","v":false},{"$f":"IF(AE183,D183,\"\")","v":""},{"$f":"IF(AE183,COUNTIF($AF$5:AF183,AF183),\"X\")","v":"X"},{"$f":"CONCATENATE(AE183,AF183)","v":"FALSE"}]
[{"$f":"CONCATENATE(AE184,D184,AG184)","v":"TRUEMedium70"},{"$f":"RAND()","v":0.19690198549195781},"Frac","Medium",192,"Add the fractions:       ",{"$f":"RANDBETWEEN(1,6)","v":3},"/7","  +  ",{"$f":"RANDBETWEEN(1,7-G184)","v":3},"/7",null,null,null,null,null,null,null,null,{"$f":"CONCATENATE(F184,\" \",G184,\"\",H184,\" \",I184,\" \",J184,\"\",K184,\" \",L184,\" \",M184,\" \",N184,\" \",O184,\" \",P184,\" \",Q184,\" \",R184)","v":"Add the fractions:        3/7   +   3/7       "},{"$f":"IF(G184+J184=7,1,CONCATENATE(G184+J184,\"/7\"))","v":"6/7"},null,null,null,null,null,null,null,null,{"$f":"IF(OR(ISNA(U184),ISNA(V184),ISNA(W184),ISNA(X184),ISNA(Y184),ISNA(Z184),ISNA(AA184),ISNA(AB184),ISNA(AC184)),NA(),CONCATENATE(U184,V184,W184,X184,Y184,Z184,AA184,AB184))","v":"6/7"},{"$f":"IF(ISNA(AD184),FALSE,IF(C184=$B$1,Worksheet!$B$3,IF(C184=$C$1,Worksheet!$B$4,IF(C184=$D$1,Worksheet!$B$5,IF(C184=$E$1,Worksheet!$B$6,IF(C184=$B$2,Worksheet!$B$7,IF(C184=$C$2,Worksheet!$D$3,IF(C184=$D$2,Worksheet!$D$4,IF(C184=$E$2,Worksheet!$D$5,IF(C184=$C$3,Worksheet!$D$6,IF(C184=$B$3,Worksheet!$D$7,IF(C184=$D$3,Worksheet!$B$10,IF(C184=$E$3,Worksheet!$D$10,FALSE)))))))))))))","v":true},{"$f":"IF(AE184,D184,\"\")","v":"Medium"},{"$f":"IF(AE184,COUNTIF($AF$5:AF184,AF184),\"X\")","v":70},{"$f":"CONCATENATE(AE184,AF184)","v":"TRUEMedium"}]
[{"$f":"CONCATENATE(AE185,D185,AG185)","v":"TRUEHard55"},{"$f":"RAND()","v":0.66972013423878785},"Divide","Hard",113,"What is half of",{"$f":"RANDBETWEEN(5,15)*20+RANDBETWEEN(6,9)*2","v":174},"?",null,null,null,null,null,null,null,null,null,null,null,{"$f":"CONCATENATE(F185,\" \",G185,\" \",H185,\" \",I185,\" \",J185,\" \",K185,\" \",L185,\" \",M185,\" \",N185,\" \",O185,\" \",P185,\" \",Q185,\" \",R185)","v":"What is half of 174 ?          "},{"$f":"G185/2","v":87},null,null,null,null,null,null,null,null,{"$f":"IF(OR(ISNA(U185),ISNA(V185),ISNA(W185),ISNA(X185),ISNA(Y185),ISNA(Z185),ISNA(AA185),ISNA(AB185),ISNA(AC185)),NA(),CONCATENATE(U185,V185,W185,X185,Y185,Z185,AA185,AB185))","v":"87"},{"$f":"IF(ISNA(AD185),FALSE,IF(C185=$B$1,Worksheet!$B$3,IF(C185=$C$1,Worksheet!$B$4,IF(C185=$D$1,Worksheet!$B$5,IF(C185=$E$1,Worksheet!$B$6,IF(C185=$B$2,Worksheet!$B$7,IF(C185=$C$2,Worksheet!$D$3,IF(C185=$D$2,Worksheet!$D$4,IF(C185=$E$2,Worksheet!$D$5,IF(C185=$C$3,Worksheet!$D$6,IF(C185=$B$3,Worksheet!$D$7,IF(C185=$D$3,Worksheet!$B$10,IF(C185=$E$3,Worksheet!$D$10,FALSE)))))))))))))","v":true},{"$f":"IF(AE185,D185,\"\")","v":"Hard"},{"$f":"IF(AE185,COUNTIF($AF$5:AF185,AF185),\"X\")","v":55},{"$f":"CONCATENATE(AE185,AF185)","v":"TRUEHard"}]
[{"$f":"CONCATENATE(AE186,D186,AG186)","v":"TRUEHard56"},{"$f":"RAND()","v":0.81818237034849217},"Dec","Hard",262,"Write the fraction","3/4","as a decimal",null,null,null,null,null,null,null,null,null,null,null,{"$f":"CONCATENATE(F186,\" \",G186,\" \",H186,\" \",I186,\" \",J186,\" \",K186,\" \",L186,\" \",M186,\" \",N186,\" \",O186,\" \",P186,\" \",Q186,\" \",R186)","v":"Write the fraction 3/4 as a decimal          "},0.75,null,null,null,null,null,null,null,null,{"$f":"IF(OR(ISNA(U186),ISNA(V186),ISNA(W186),ISNA(X186),ISNA(Y186),ISNA(Z186),ISNA(AA186),ISNA(AB186),ISNA(AC186)),NA(),CONCATENATE(U186,V186,W186,X186,Y186,Z186,AA186,AB186))","v":"0.75"},{"$f":"IF(ISNA(AD186),FALSE,IF(C186=$B$1,Worksheet!$B$3,IF(C186=$C$1,Worksheet!$B$4,IF(C186=$D$1,Worksheet!$B$5,IF(C186=$E$1,Worksheet!$B$6,IF(C186=$B$2,Worksheet!$B$7,IF(C186=$C$2,Worksheet!$D$3,IF(C186=$D$2,Worksheet!$D$4,IF(C186=$E$2,Worksheet!$D$5,IF(C186=$C$3,Worksheet!$D$6,IF(C186=$B$3,Worksheet!$D$7,IF(C186=$D$3,Worksheet!$B$10,IF(C186=$E$3,Worksheet!$D$10,FALSE)))))))))))))","v":true},{"$f":"IF(AE186,D186,\"\")","v":"Hard"},{"$f":"IF(AE186,COUNTIF($AF$5:AF186,AF186),\"X\")","v":56},{"$f":"CONCATENATE(AE186,AF186)","v":"TRUEHard"}]
[{"$f":"CONCATENATE(AE187,D187,AG187)","v":"TRUEHard57"},{"$f":"RAND()","v":0.87218683035266686},"Num","Hard",5,"Write the number   \"",{"$f":"CHOOSE(S187,CHOOSE(RANDBETWEEN(1,10),\"ten\",\"eleven\",\"twelve\",\"thirteen\",\"fourteen\",\"fifteen\",\"sixteen\",\"seventeen\",\"eighteen\",\"nineteen\"),\"twenty\",\"thirty\",\"forty\",\"fifty\",\"sixty\",\"seventy\",\"eighty\",\"ninety\")","v":"fifty"},"and a half thousand","\"   in figures",null,null,null,null,null,null,null,null,null,{"$f":"RANDBETWEEN(1,9)","v":5},{"$f":"CONCATENATE(F187,\" \",G187,\" \",H187,\" \",I187,\" \",J187,\" \",K187,\" \",L187,\" \",M187,\" \",N187,\" \",O187,\" \",P187,\" \",Q187,\" \",R187)","v":"Write the number   \" fifty and a half thousand \"   in figures         "},{"$f":"S187","v":5},{"$f":"IF(G187=\"eleven\",1,IF(G187=\"twelve\",2,IF(G187=\"thirteen\",3,IF(G187=\"fourteen\",4,IF(G187=\"fifteen\",5,IF(G187=\"sixteen\",6,IF(G187=\"seventeen\",7,IF(G187=\"eighteen\",8,IF(G187=\"nineteen\",9,0)))))))))","v":0},",500",null,null,null,null,null,null,{"$f":"IF(OR(ISNA(U187),ISNA(V187),ISNA(W187),ISNA(X187),ISNA(Y187),ISNA(Z187),ISNA(AA187),ISNA(AB187),ISNA(AC187)),NA(),CONCATENATE(U187,V187,W187,X187,Y187,Z187,AA187,AB187))","v":"50,500"},{"$f":"IF(ISNA(AD187),FALSE,IF(C187=$B$1,Worksheet!$B$3,IF(C187=$C$1,Worksheet!$B$4,IF(C187=$D$1,Worksheet!$B$5,IF(C187=$E$1,Worksheet!$B$6,IF(C187=$B$2,Worksheet!$B$7,IF(C187=$C$2,Worksheet!$D$3,IF(C187=$D$2,Worksheet!$D$4,IF(C187=$E$2,Worksheet!$D$5,IF(C187=$C$3,Worksheet!$D$6,IF(C187=$B$3,Worksheet!$D$7,IF(C187=$D$3,Worksheet!$B$10,IF(C187=$E$3,Worksheet!$D$10,FALSE)))))))))))))","v":true},{"$f":"IF(AE187,D187,\"\")","v":"Hard"},{"$f":"IF(AE187,COUNTIF($AF$5:AF187,AF187),\"X\")","v":57},{"$f":"CONCATENATE(AE187,AF187)","v":"TRUEHard"}]
[{"$f":"CONCATENATE(AE188,D188,AG188)","v":"TRUEMedium71"},{"$f":"RAND()","v":0.11126099288309754},"Mult","Medium",68,"What is:   ",{"$f":"RANDBETWEEN(2,5)","v":2},"×",{"$f":"RANDBETWEEN(2,5)","v":3},"+",{"$f":"RANDBETWEEN(2,5)","v":2},"×",{"$f":"RANDBETWEEN(2,5)","v":2},"     ?",null,null,null,null,null,{"$f":"CONCATENATE(F188,\" \",G188,\" \",H188,\" \",I188,\" \",J188,\" \",K188,\" \",L188,\" \",M188,\" \",N188,\" \",O188,\" \",P188,\" \",Q188,\" \",R188)","v":"What is:    2 × 3 + 2 × 2      ?    "},{"$f":"G188*I188+K188*M188","v":10},null,null,null,null,null,null,null,null,{"$f":"IF(OR(ISNA(U188),ISNA(V188),ISNA(W188),ISNA(X188),ISNA(Y188),ISNA(Z188),ISNA(AA188),ISNA(AB188),ISNA(AC188)),NA(),CONCATENATE(U188,V188,W188,X188,Y188,Z188,AA188,AB188))","v":"10"},{"$f":"IF(ISNA(AD188),FALSE,IF(C188=$B$1,Worksheet!$B$3,IF(C188=$C$1,Worksheet!$B$4,IF(C188=$D$1,Worksheet!$B$5,IF(C188=$E$1,Worksheet!$B$6,IF(C188=$B$2,Worksheet!$B$7,IF(C188=$C$2,Worksheet!$D$3,IF(C188=$D$2,Worksheet!$D$4,IF(C188=$E$2,Worksheet!$D$5,IF(C188=$C$3,Worksheet!$D$6,IF(C188=$B$3,Worksheet!$D$7,IF(C188=$D$3,Worksheet!$B$10,IF(C188=$E$3,Worksheet!$D$10,FALSE)))))))))))))","v":true},{"$f":"IF(AE188,D188,\"\")","v":"Medium"},{"$f":"IF(AE188,COUNTIF($AF$5:AF188,AF188),\"X\")","v":71},{"$f":"CONCATENATE(AE188,AF188)","v":"TRUEMedium"}]
[{"$f":"CONCATENATE(AE189,D189,AG189)","v":"TRUEMedium72"},{"$f":"RAND()","v":0.18693581115425018},"%","Medium",297,"Write",{"$f":"RANDBETWEEN(1,99)","v":19},"% as a fraction",null,null,null,null,null,null,null,null,null,null,null,{"$f":"CONCATENATE(F189,\" \",G189,\"\",H189,\" \",I189,\" \",J189,\" \",K189,\" \",L189,\" \",M189,\" \",N189,\" \",O189,\" \",P189,\" \",Q189,\" \",R189)","v":"Write 19% as a fraction          "},{"$f":"G189","v":19},"/100",null,{"$f":"IF(G189=G190,NA(),\"\")","v":""},null,null,null,null,null,{"$f":"IF(OR(ISNA(U189),ISNA(V189),ISNA(W189),ISNA(X189),ISNA(Y189),ISNA(Z189),ISNA(AA189),ISNA(AB189),ISNA(AC189)),NA(),CONCATENATE(U189,V189,W189,X189,Y189,Z189,AA189,AB189))","v":"19/100"},{"$f":"IF(ISNA(AD189),FALSE,IF(C189=$B$1,Worksheet!$B$3,IF(C189=$C$1,Worksheet!$B$4,IF(C189=$D$1,Worksheet!$B$5,IF(C189=$E$1,Worksheet!$B$6,IF(C189=$B$2,Worksheet!$B$7,IF(C189=$C$2,Worksheet!$D$3,IF(C189=$D$2,Worksheet!$D$4,IF(C189=$E$2,Worksheet!$D$5,IF(C189=$C$3,Worksheet!$D$6,IF(C189=$B$3,Worksheet!$D$7,IF(C189=$D$3,Worksheet!$B$10,IF(C189=$E$3,Worksheet!$D$10,FALSE)))))))))))))","v":true},{"$f":"IF(AE189,D189,\"\")","v":"Medium"},{"$f":"IF(AE189,COUNTIF($AF$5:AF189,AF189),\"X\")","v":72},{"$f":"CONCATENATE(AE189,AF189)","v":"TRUEMedium"}]
[{"$f":"CONCATENATE(AE190,D190,AG190)","v":"TRUEMedium73"},{"$f":"RAND()","v":5.5983629177591698E-2},"%","Medium",318,"What is ",50,"% of £",{"$f":"2*RANDBETWEEN(1,10)+1","v":21},"?",null,null,null,null,null,null,null,null,null,{"$f":"CONCATENATE(F190,\" \",G190,\"\",H190,\"\",I190,\" \",J190,\" \",K190,\" \",L190,\" \",M190,\" \",N190,\" \",O190,\" \",P190,\" \",Q190,\" \",R190)","v":"What is  50% of £21 ?        "},"£",{"$f":"TEXT(I190/2,\"0.00\")","v":"10.50"},null,null,null,null,null,null,null,{"$f":"IF(OR(ISNA(U190),ISNA(V190),ISNA(W190),ISNA(X190),ISNA(Y190),ISNA(Z190),ISNA(AA190),ISNA(AB190),ISNA(AC190)),NA(),CONCATENATE(U190,V190,W190,X190,Y190,Z190,AA190,AB190))","v":"£10.50"},{"$f":"IF(ISNA(AD190),FALSE,IF(C190=$B$1,Worksheet!$B$3,IF(C190=$C$1,Worksheet!$B$4,IF(C190=$D$1,Worksheet!$B$5,IF(C190=$E$1,Worksheet!$B$6,IF(C190=$B$2,Worksheet!$B$7,IF(C190=$C$2,Worksheet!$D$3,IF(C190=$D$2,Worksheet!$D$4,IF(C190=$E$2,Worksheet!$D$5,IF(C190=$C$3,Worksheet!$D$6,IF(C190=$B$3,Worksheet!$D$7,IF(C190=$D$3,Worksheet!$B$10,IF(C190=$E$3,Worksheet!$D$10,FALSE)))))))))))))","v":true},{"$f":"IF(AE190,D190,\"\")","v":"Medium"},{"$f":"IF(AE190,COUNTIF($AF$5:AF190,AF190),\"X\")","v":73},{"$f":"CONCATENATE(AE190,AF190)","v":"TRUEMedium"}]
[{"$f":"CONCATENATE(AE191,D191,AG191)","v":"TRUEMedium74"},{"$f":"RAND()","v":0.8665925760786849},"Dec","Medium",238,"Add:   ",{"$f":"RANDBETWEEN(11,90)+0.9","v":51.9}," + ",0.1,null,null,null,null,null,null,null,null,null,null,{"$f":"CONCATENATE(F191,\" \",G191,\" \",H191,\" \",I191,\" \",J191,\" \",K191,\" \",L191,\" \",M191,\" \",N191,\" \",O191,\" \",P191,\" \",Q191,\" \",R191)","v":"Add:    51.9  +  0.1         "},{"$f":"G191+0.1","v":52},null,null,null,null,null,null,null,null,{"$f":"IF(OR(ISNA(U191),ISNA(V191),ISNA(W191),ISNA(X191),ISNA(Y191),ISNA(Z191),ISNA(AA191),ISNA(AB191),ISNA(AC191)),NA(),CONCATENATE(U191,V191,W191,X191,Y191,Z191,AA191,AB191))","v":"52"},{"$f":"IF(ISNA(AD191),FALSE,IF(C191=$B$1,Worksheet!$B$3,IF(C191=$C$1,Worksheet!$B$4,IF(C191=$D$1,Worksheet!$B$5,IF(C191=$E$1,Worksheet!$B$6,IF(C191=$B$2,Worksheet!$B$7,IF(C191=$C$2,Worksheet!$D$3,IF(C191=$D$2,Worksheet!$D$4,IF(C191=$E$2,Worksheet!$D$5,IF(C191=$C$3,Worksheet!$D$6,IF(C191=$B$3,Worksheet!$D$7,IF(C191=$D$3,Worksheet!$B$10,IF(C191=$E$3,Worksheet!$D$10,FALSE)))))))))))))","v":true},{"$f":"IF(AE191,D191,\"\")","v":"Medium"},{"$f":"IF(AE191,COUNTIF($AF$5:AF191,AF191),\"X\")","v":74},{"$f":"CONCATENATE(AE191,AF191)","v":"TRUEMedium"}]
[{"$f":"CONCATENATE(AE192,D192,AG192)","v":"TRUEMedium75"},{"$f":"RAND()","v":0.78786114062494039},"Round","Medium",340,"Round",{"$f":"RANDBETWEEN(0,9)+RANDBETWEEN(1,99)/100","v":1.26},"to one decimal place",null,null,null,null,null,null,null,null,null,null,null,{"$f":"CONCATENATE(F192,\" \",G192,\" \",H192,\" \",I192,\" \",J192,\" \",K192,\" \",L192,\" \",M192,\" \",N192,\" \",O192,\" \",P192,\" \",Q192,\" \",R192)","v":"Round 1.26 to one decimal place          "},{"$f":"MROUND(G192,0.1)","v":1.3},null,null,null,null,null,null,null,null,{"$f":"IF(OR(ISNA(U192),ISNA(V192),ISNA(W192),ISNA(X192),ISNA(Y192),ISNA(Z192),ISNA(AA192),ISNA(AB192),ISNA(AC192)),NA(),CONCATENATE(U192,V192,W192,X192,Y192,Z192,AA192,AB192))","v":"1.3"},{"$f":"IF(ISNA(AD192),FALSE,IF(C192=$B$1,Worksheet!$B$3,IF(C192=$C$1,Worksheet!$B$4,IF(C192=$D$1,Worksheet!$B$5,IF(C192=$E$1,Worksheet!$B$6,IF(C192=$B$2,Worksheet!$B$7,IF(C192=$C$2,Worksheet!$D$3,IF(C192=$D$2,Worksheet!$D$4,IF(C192=$E$2,Worksheet!$D$5,IF(C192=$C$3,Worksheet!$D$6,IF(C192=$B$3,Worksheet!$D$7,IF(C192=$D$3,Worksheet!$B$10,IF(C192=$E$3,Worksheet!$D$10,FALSE)))))))))))))","v":true},{"$f":"IF(AE192,D192,\"\")","v":"Medium"},{"$f":"IF(AE192,COUNTIF($AF$5:AF192,AF192),\"X\")","v":75},{"$f":"CONCATENATE(AE192,AF192)","v":"TRUEMedium"}]
[{"$f":"CONCATENATE(AE193,D193,AG193)","v":"TRUEHard58"},{"$f":"RAND()","v":1.6427039374293351E-2},"Dec","Hard",267,"Fill in the number to complete the sum:   ",{"$f":"RANDBETWEEN(1,9)+RANDBETWEEN(1,9)/10+S193/100","v":2.94}," – _____ = ",{"$f":"G193-S193/100","v":2.9},null,null,null,null,null,null,null,null,null,{"$f":"RANDBETWEEN(1,9)","v":4},{"$f":"CONCATENATE(F193,\" \",G193,\" \",H193,\" \",I193,\" \",J193,\" \",K193,\" \",L193,\" \",M193,\" \",N193,\" \",O193,\" \",P193,\" \",Q193,\" \",R193)","v":"Fill in the number to complete the sum:    2.94  – _____ =  2.9         "},{"$f":"MROUND(G193-I193,\"0.01\")","v":0.04},null,null,null,null,null,null,null,null,{"$f":"IF(OR(ISNA(U193),ISNA(V193),ISNA(W193),ISNA(X193),ISNA(Y193),ISNA(Z193),ISNA(AA193),ISNA(AB193),ISNA(AC193)),NA(),CONCATENATE(U193,V193,W193,X193,Y193,Z193,AA193,AB193))","v":"0.04"},{"$f":"IF(ISNA(AD193),FALSE,IF(C193=$B$1,Worksheet!$B$3,IF(C193=$C$1,Worksheet!$B$4,IF(C193=$D$1,Worksheet!$B$5,IF(C193=$E$1,Worksheet!$B$6,IF(C193=$B$2,Worksheet!$B$7,IF(C193=$C$2,Worksheet!$D$3,IF(C193=$D$2,Worksheet!$D$4,IF(C193=$E$2,Worksheet!$D$5,IF(C193=$C$3,Worksheet!$D$6,IF(C193=$B$3,Worksheet!$D$7,IF(C193=$D$3,Worksheet!$B$10,IF(C193=$E$3,Worksheet!$D$10,FALSE)))))))))))))","v":true},{"$f":"IF(AE193,D193,\"\")","v":"Hard"},{"$f":"IF(AE193,COUNTIF($AF$5:AF193,AF193),\"X\")","v":58},{"$f":"CONCATENATE(AE193,AF193)","v":"TRUEHard"}]
[{"$f":"CONCATENATE(AE194,D194,AG194)","v":"TRUEMedium76"},{"$f":"RAND()","v":0.11894981917174097},"Frac","Medium",195,"Take away the fractions:       ",{"$f":"RANDBETWEEN(3,6)","v":3},"/7","  –  ",{"$f":"RANDBETWEEN(1,G194-1)","v":2},"/5",null,null,null,null,null,null,null,null,{"$f":"CONCATENATE(F194,\" \",G194,\"\",H194,\" \",I194,\" \",J194,\"\",K194,\" \",L194,\" \",M194,\" \",N194,\" \",O194,\" \",P194,\" \",Q194,\" \",R194)","v":"Take away the fractions:        3/7   –   2/5       "},{"$f":"IF(G194-J194=0,0,CONCATENATE(G194-J194,\"/7\"))","v":"1/7"},null,null,null,null,null,null,null,null,{"$f":"IF(OR(ISNA(U194),ISNA(V194),ISNA(W194),ISNA(X194),ISNA(Y194),ISNA(Z194),ISNA(AA194),ISNA(AB194),ISNA(AC194)),NA(),CONCATENATE(U194,V194,W194,X194,Y194,Z194,AA194,AB194))","v":"1/7"},{"$f":"IF(ISNA(AD194),FALSE,IF(C194=$B$1,Worksheet!$B$3,IF(C194=$C$1,Worksheet!$B$4,IF(C194=$D$1,Worksheet!$B$5,IF(C194=$E$1,Worksheet!$B$6,IF(C194=$B$2,Worksheet!$B$7,IF(C194=$C$2,Worksheet!$D$3,IF(C194=$D$2,Worksheet!$D$4,IF(C194=$E$2,Worksheet!$D$5,IF(C194=$C$3,Worksheet!$D$6,IF(C194=$B$3,Worksheet!$D$7,IF(C194=$D$3,Worksheet!$B$10,IF(C194=$E$3,Worksheet!$D$10,FALSE)))))))))))))","v":true},{"$f":"IF(AE194,D194,\"\")","v":"Medium"},{"$f":"IF(AE194,COUNTIF($AF$5:AF194,AF194),\"X\")","v":76},{"$f":"CONCATENATE(AE194,AF194)","v":"TRUEMedium"}]
[{"$f":"CONCATENATE(AE195,D195,AG195)","v":"TRUEHard59"},{"$f":"RAND()","v":5.8735104577261055E-3},"%","Hard",325,"What is ",20,"% of £",{"$f":"5*RANDBETWEEN(1,10)*10","v":150},"?",null,null,null,null,null,null,null,null,null,{"$f":"CONCATENATE(F195,\" \",G195,\"\",H195,\"\",I195,\" \",J195,\" \",K195,\" \",L195,\" \",M195,\" \",N195,\" \",O195,\" \",P195,\" \",Q195,\" \",R195)","v":"What is  20% of £150 ?        "},"£",{"$f":"I195/5","v":30},null,null,null,null,null,null,null,{"$f":"IF(OR(ISNA(U195),ISNA(V195),ISNA(W195),ISNA(X195),ISNA(Y195),ISNA(Z195),ISNA(AA195),ISNA(AB195),ISNA(AC195)),NA(),CONCATENATE(U195,V195,W195,X195,Y195,Z195,AA195,AB195))","v":"£30"},{"$f":"IF(ISNA(AD195),FALSE,IF(C195=$B$1,Worksheet!$B$3,IF(C195=$C$1,Worksheet!$B$4,IF(C195=$D$1,Worksheet!$B$5,IF(C195=$E$1,Worksheet!$B$6,IF(C195=$B$2,Worksheet!$B$7,IF(C195=$C$2,Worksheet!$D$3,IF(C195=$D$2,Worksheet!$D$4,IF(C195=$E$2,Worksheet!$D$5,IF(C195=$C$3,Worksheet!$D$6,IF(C195=$B$3,Worksheet!$D$7,IF(C195=$D$3,Worksheet!$B$10,IF(C195=$E$3,Worksheet!$D$10,FALSE)))))))))))))","v":true},{"$f":"IF(AE195,D195,\"\")","v":"Hard"},{"$f":"IF(AE195,COUNTIF($AF$5:AF195,AF195),\"X\")","v":59},{"$f":"CONCATENATE(AE195,AF195)","v":"TRUEHard"}]
[{"$f":"CONCATENATE(AE196,D196,AG196)","v":"TRUEHard60"},{"$f":"RAND()","v":0.27590208418945061},"Dec","Hard",258,"Continue the pattern for three more numbers:   ",{"$f":"RANDBETWEEN(10,50)+0.6+RANDBETWEEN(1,9)/100","v":18.650000000000002},{"$f":"G196+S196","v":18.750000000000004},{"$f":"H196+S196","v":18.850000000000005},{"$f":"I196+S196","v":18.950000000000006},"____","____","____",null,null,null,null,null,0.1,{"$f":"CONCATENATE(F196,\" \",G196,\",   \",H196,\",   \",I196,\",   \",J196,\",   \",K196,\",   \",L196,\",   \",M196,\" \",N196,\" \",O196,\" \",P196,\" \",Q196,\" \",R196)","v":"Continue the pattern for three more numbers:    18.65,   18.75,   18.85,   18.95,   ____,   ____,   ____     "},{"$f":"J196+S196","v":19.050000000000008},{"$f":"U196+S196","v":19.150000000000009},{"$f":"V196+S196","v":19.250000000000011},null,null,null,null,null,null,{"$f":"IF(OR(ISNA(U196),ISNA(V196),ISNA(W196),ISNA(X196),ISNA(Y196),ISNA(Z196),ISNA(AA196),ISNA(AB196),ISNA(AC196)),NA(),CONCATENATE(U196,\",   \",V196,\",   \",W196,X196,Y196,Z196,AA196,AB196))","v":"19.05,   19.15,   19.25"},{"$f":"IF(ISNA(AD196),FALSE,IF(C196=$B$1,Worksheet!$B$3,IF(C196=$C$1,Worksheet!$B$4,IF(C196=$D$1,Worksheet!$B$5,IF(C196=$E$1,Worksheet!$B$6,IF(C196=$B$2,Worksheet!$B$7,IF(C196=$C$2,Worksheet!$D$3,IF(C196=$D$2,Worksheet!$D$4,IF(C196=$E$2,Worksheet!$D$5,IF(C196=$C$3,Worksheet!$D$6,IF(C196=$B$3,Worksheet!$D$7,IF(C196=$D$3,Worksheet!$B$10,IF(C196=$E$3,Worksheet!$D$10,FALSE)))))))))))))","v":true},{"$f":"IF(AE196,D196,\"\")","v":"Hard"},{"$f":"IF(AE196,COUNTIF($AF$5:AF196,AF196),\"X\")","v":60},{"$f":"CONCATENATE(AE196,AF196)","v":"TRUEHard"}]
[{"$f":"CONCATENATE(AE197,D197,AG197)","v":"TRUEMedium77"},{"$f":"RAND()","v":3.0421577357824248E-3},"Dec","Medium",263,"Write the fraction","3/4","as a decimal",null,null,null,null,null,null,null,null,null,null,null,{"$f":"CONCATENATE(F197,\" \",G197,\" \",H197,\" \",I197,\" \",J197,\" \",K197,\" \",L197,\" \",M197,\" \",N197,\" \",O197,\" \",P197,\" \",Q197,\" \",R197)","v":"Write the fraction 3/4 as a decimal          "},0.75,null,null,null,null,null,null,null,null,{"$f":"IF(OR(ISNA(U197),ISNA(V197),ISNA(W197),ISNA(X197),ISNA(Y197),ISNA(Z197),ISNA(AA197),ISNA(AB197),ISNA(AC197)),NA(),CONCATENATE(U197,V197,W197,X197,Y197,Z197,AA197,AB197))","v":"0.75"},{"$f":"IF(ISNA(AD197),FALSE,IF(C197=$B$1,Worksheet!$B$3,IF(C197=$C$1,Worksheet!$B$4,IF(C197=$D$1,Worksheet!$B$5,IF(C197=$E$1,Worksheet!$B$6,IF(C197=$B$2,Worksheet!$B$7,IF(C197=$C$2,Worksheet!$D$3,IF(C197=$D$2,Worksheet!$D$4,IF(C197=$E$2,Worksheet!$D$5,IF(C197=$C$3,Worksheet!$D$6,IF(C197=$B$3,Worksheet!$D$7,IF(C197=$D$3,Worksheet!$B$10,IF(C197=$E$3,Worksheet!$D$10,FALSE)))))))))))))","v":true},{"$f":"IF(AE197,D197,\"\")","v":"Medium"},{"$f":"IF(AE197,COUNTIF($AF$5:AF197,AF197),\"X\")","v":77},{"$f":"CONCATENATE(AE197,AF197)","v":"TRUEMedium"}]
[{"$f":"CONCATENATE(AE198,D198,AG198)","v":"TRUEHard61"},{"$f":"RAND()","v":0.9626540418161218},"Dec","Hard",291,"Divide by writing down a sum:  ",{"$f":"TEXT(U198*I198,\"0.00\")","v":"3.92"},"÷",{"$f":"RANDBETWEEN(2,5)","v":4},null,null,null,null,null,null,null,null,null,null,{"$f":"CONCATENATE(F198,\" \",G198,\" \",H198,\" \",I198,\" \",J198,\" \",K198,\" \",L198,\" \",M198,\" \",N198,\" \",O198,\" \",P198,\" \",Q198,\" \",R198)","v":"Divide by writing down a sum:   3.92 ÷ 4         "},{"$f":"RANDBETWEEN(0,5)+RANDBETWEEN(1,99)/100","v":0.98},null,null,null,null,null,null,null,null,{"$f":"IF(OR(ISNA(U198),ISNA(V198),ISNA(W198),ISNA(X198),ISNA(Y198),ISNA(Z198),ISNA(AA198),ISNA(AB198),ISNA(AC198)),NA(),CONCATENATE(U198,V198,W198,X198,Y198,Z198,AA198,AB198))","v":"0.98"},{"$f":"IF(ISNA(AD198),FALSE,IF(C198=$B$1,Worksheet!$B$3,IF(C198=$C$1,Worksheet!$B$4,IF(C198=$D$1,Worksheet!$B$5,IF(C198=$E$1,Worksheet!$B$6,IF(C198=$B$2,Worksheet!$B$7,IF(C198=$C$2,Worksheet!$D$3,IF(C198=$D$2,Worksheet!$D$4,IF(C198=$E$2,Worksheet!$D$5,IF(C198=$C$3,Worksheet!$D$6,IF(C198=$B$3,Worksheet!$D$7,IF(C198=$D$3,Worksheet!$B$10,IF(C198=$E$3,Worksheet!$D$10,FALSE)))))))))))))","v":true},{"$f":"IF(AE198,D198,\"\")","v":"Hard"},{"$f":"IF(AE198,COUNTIF($AF$5:AF198,AF198),\"X\")","v":61},{"$f":"CONCATENATE(AE198,AF198)","v":"TRUEHard"}]
[{"$f":"CONCATENATE(AE199,D199,AG199)","v":"TRUEMedium78"},{"$f":"RAND()","v":0.51449116414199625},"%","Medium",313,"What is ","1/4","as a percentage?",null,null,null,null,null,null,null,null,null,null,null,{"$f":"CONCATENATE(F199,\" \",G199,\" \",H199,\" \",I199,\" \",J199,\" \",K199,\" \",L199,\" \",M199,\" \",N199,\" \",O199,\" \",P199,\" \",Q199,\" \",R199)","v":"What is  1/4 as a percentage?          "},25,"%",null,null,null,null,null,null,null,{"$f":"IF(OR(ISNA(U199),ISNA(V199),ISNA(W199),ISNA(X199),ISNA(Y199),ISNA(Z199),ISNA(AA199),ISNA(AB199),ISNA(AC199)),NA(),CONCATENATE(U199,V199,W199,X199,Y199,Z199,AA199,AB199))","v":"25%"},{"$f":"IF(ISNA(AD199),FALSE,IF(C199=$B$1,Worksheet!$B$3,IF(C199=$C$1,Worksheet!$B$4,IF(C199=$D$1,Worksheet!$B$5,IF(C199=$E$1,Worksheet!$B$6,IF(C199=$B$2,Worksheet!$B$7,IF(C199=$C$2,Worksheet!$D$3,IF(C199=$D$2,Worksheet!$D$4,IF(C199=$E$2,Worksheet!$D$5,IF(C199=$C$3,Worksheet!$D$6,IF(C199=$B$3,Worksheet!$D$7,IF(C199=$D$3,Worksheet!$B$10,IF(C199=$E$3,Worksheet!$D$10,FALSE)))))))))))))","v":true},{"$f":"IF(AE199,D199,\"\")","v":"Medium"},{"$f":"IF(AE199,COUNTIF($AF$5:AF199,AF199),\"X\")","v":78},{"$f":"CONCATENATE(AE199,AF199)","v":"TRUEMedium"}]
[{"$f":"CONCATENATE(AE200,D200,AG200)","v":"TRUEEasy44"},{"$f":"RAND()","v":0.88612080179943997},"Dec","Easy",290,"Multiply by writing down a sum:   ",{"$f":"RANDBETWEEN(1,9)+RANDBETWEEN(1,9)/10","v":5.9},"×",{"$f":"RANDBETWEEN(2,5)","v":4},null,null,null,null,null,null,null,null,null,null,{"$f":"CONCATENATE(F200,\" \",G200,\" \",H200,\" \",I200,\" \",J200,\" \",K200,\" \",L200,\" \",M200,\" \",N200,\" \",O200,\" \",P200,\" \",Q200,\" \",R200)","v":"Multiply by writing down a sum:    5.9 × 4         "},{"$f":"G200*I200","v":23.6},null,null,null,null,null,null,null,null,{"$f":"IF(OR(ISNA(U200),ISNA(V200),ISNA(W200),ISNA(X200),ISNA(Y200),ISNA(Z200),ISNA(AA200),ISNA(AB200),ISNA(AC200)),NA(),CONCATENATE(U200,V200,W200,X200,Y200,Z200,AA200,AB200))","v":"23.6"},{"$f":"IF(ISNA(AD200),FALSE,IF(C200=$B$1,Worksheet!$B$3,IF(C200=$C$1,Worksheet!$B$4,IF(C200=$D$1,Worksheet!$B$5,IF(C200=$E$1,Worksheet!$B$6,IF(C200=$B$2,Worksheet!$B$7,IF(C200=$C$2,Worksheet!$D$3,IF(C200=$D$2,Worksheet!$D$4,IF(C200=$E$2,Worksheet!$D$5,IF(C200=$C$3,Worksheet!$D$6,IF(C200=$B$3,Worksheet!$D$7,IF(C200=$D$3,Worksheet!$B$10,IF(C200=$E$3,Worksheet!$D$10,FALSE)))))))))))))","v":true},{"$f":"IF(AE200,D200,\"\")","v":"Easy"},{"$f":"IF(AE200,COUNTIF($AF$5:AF200,AF200),\"X\")","v":44},{"$f":"CONCATENATE(AE200,AF200)","v":"TRUEEasy"}]
[{"$f":"CONCATENATE(AE201,D201,AG201)","v":"TRUEMedium79"},{"$f":"RAND()","v":0.73684400987848586},"Mult","Medium",102,"Multiply:   ",{"$f":"RANDBETWEEN(2,5)*10","v":20},"×",{"$f":"RANDBETWEEN(2,5)*10","v":50},null,null,null,null,null,null,null,null,null,null,{"$f":"CONCATENATE(F201,\" \",G201,\" \",H201,\" \",I201,\" \",J201,\" \",K201,\" \",L201,\" \",M201,\" \",N201,\" \",O201,\" \",P201,\" \",Q201,\" \",R201)","v":"Multiply:    20 × 50         "},{"$f":"TEXT(G201*I201,\"#,###\")","v":"1,000"},null,null,{"$f":"IF(AND(G201=G200,I201=I200),NA(),\"\")","v":""},null,null,null,null,null,{"$f":"IF(OR(ISNA(U201),ISNA(V201),ISNA(W201),ISNA(X201),ISNA(Y201),ISNA(Z201),ISNA(AA201),ISNA(AB201),ISNA(AC201)),NA(),CONCATENATE(U201,V201,W201,X201,Y201,Z201,AA201,AB201))","v":"1,000"},{"$f":"IF(ISNA(AD201),FALSE,IF(C201=$B$1,Worksheet!$B$3,IF(C201=$C$1,Worksheet!$B$4,IF(C201=$D$1,Worksheet!$B$5,IF(C201=$E$1,Worksheet!$B$6,IF(C201=$B$2,Worksheet!$B$7,IF(C201=$C$2,Worksheet!$D$3,IF(C201=$D$2,Worksheet!$D$4,IF(C201=$E$2,Worksheet!$D$5,IF(C201=$C$3,Worksheet!$D$6,IF(C201=$B$3,Worksheet!$D$7,IF(C201=$D$3,Worksheet!$B$10,IF(C201=$E$3,Worksheet!$D$10,FALSE)))))))))))))","v":true},{"$f":"IF(AE201,D201,\"\")","v":"Medium"},{"$f":"IF(AE201,COUNTIF($AF$5:AF201,AF201),\"X\")","v":79},{"$f":"CONCATENATE(AE201,AF201)","v":"TRUEMedium"}]
[{"$f":"CONCATENATE(AE202,D202,AG202)","v":"TRUEMedium80"},{"$f":"RAND()","v":0.68002230796277596},"Divide","Medium",120,"Divide:   ",{"$f":"U202*I202","v":56},"÷",{"$f":"RANDBETWEEN(6,9)","v":8},null,null,null,null,null,null,null,null,null,null,{"$f":"CONCATENATE(F202,\" \",G202,\" \",H202,\" \",I202,\" \",J202,\" \",K202,\" \",L202,\" \",M202,\" \",N202,\" \",O202,\" \",P202,\" \",Q202,\" \",R202)","v":"Divide:    56 ÷ 8         "},{"$f":"RANDBETWEEN(6,9)","v":7},null,null,null,null,null,null,null,null,{"$f":"IF(OR(ISNA(U202),ISNA(V202),ISNA(W202),ISNA(X202),ISNA(Y202),ISNA(Z202),ISNA(AA202),ISNA(AB202),ISNA(AC202)),NA(),CONCATENATE(U202,V202,W202,X202,Y202,Z202,AA202,AB202))","v":"7"},{"$f":"IF(ISNA(AD202),FALSE,IF(C202=$B$1,Worksheet!$B$3,IF(C202=$C$1,Worksheet!$B$4,IF(C202=$D$1,Worksheet!$B$5,IF(C202=$E$1,Worksheet!$B$6,IF(C202=$B$2,Worksheet!$B$7,IF(C202=$C$2,Worksheet!$D$3,IF(C202=$D$2,Worksheet!$D$4,IF(C202=$E$2,Worksheet!$D$5,IF(C202=$C$3,Worksheet!$D$6,IF(C202=$B$3,Worksheet!$D$7,IF(C202=$D$3,Worksheet!$B$10,IF(C202=$E$3,Worksheet!$D$10,FALSE)))))))))))))","v":true},{"$f":"IF(AE202,D202,\"\")","v":"Medium"},{"$f":"IF(AE202,COUNTIF($AF$5:AF202,AF202),\"X\")","v":80},{"$f":"CONCATENATE(AE202,AF202)","v":"TRUEMedium"}]
[{"$f":"CONCATENATE(AE203,D203,AG203)","v":"TRUEHard62"},{"$f":"RAND()","v":0.8587312942008698},"Choose","Hard",145,"Last year,",{"$f":"CHOOSE(RANDBETWEEN(1,5),\"Sarah\",\"Caitlin\",\"Emma\",\"Georgia\",\"Andrea\")","v":"Caitlin"},"sent",{"$f":"RANDBETWEEN(500,2000)","v":1911},"texts.  This year she sent",{"$f":"RANDBETWEEN(I203+100,2500)","v":2252},"texts.  HOW MANY MORE texts did she send this year?  Write down a sum.",null,null,null,null,null,null,null,{"$f":"CONCATENATE(F203,\" \",G203,\" \",H203,\" \",I203,\" \",J203,\" \",K203,\" \",L203,\" \",M203,\" \",N203,\" \",O203,\" \",P203,\" \",Q203,\" \",R203)","v":"Last year, Caitlin sent 1911 texts.  This year she sent 2252 texts.  HOW MANY MORE texts did she send this year?  Write down a sum.      "},{"$f":"K203-I203","v":341},null,null,null,null,null,null,null,null,{"$f":"IF(OR(ISNA(U203),ISNA(V203),ISNA(W203),ISNA(X203),ISNA(Y203),ISNA(Z203),ISNA(AA203),ISNA(AB203),ISNA(AC203)),NA(),CONCATENATE(U203,V203,W203,X203,Y203,Z203,AA203,AB203))","v":"341"},{"$f":"IF(ISNA(AD203),FALSE,IF(C203=$B$1,Worksheet!$B$3,IF(C203=$C$1,Worksheet!$B$4,IF(C203=$D$1,Worksheet!$B$5,IF(C203=$E$1,Worksheet!$B$6,IF(C203=$B$2,Worksheet!$B$7,IF(C203=$C$2,Worksheet!$D$3,IF(C203=$D$2,Worksheet!$D$4,IF(C203=$E$2,Worksheet!$D$5,IF(C203=$C$3,Worksheet!$D$6,IF(C203=$B$3,Worksheet!$D$7,IF(C203=$D$3,Worksheet!$B$10,IF(C203=$E$3,Worksheet!$D$10,FALSE)))))))))))))","v":true},{"$f":"IF(AE203,D203,\"\")","v":"Hard"},{"$f":"IF(AE203,COUNTIF($AF$5:AF203,AF203),\"X\")","v":62},{"$f":"CONCATENATE(AE203,AF203)","v":"TRUEHard"}]
[{"$f":"CONCATENATE(AE204,D204,AG204)","v":"TRUEHard63"},{"$f":"RAND()","v":0.41404272630963879},"Frac","Hard",164,"Fractions.   What is ",{"$f":"CHOOSE(RANDBETWEEN(1,3),\"3/10\",\"7/10\",\"9/10\")","v":"9/10"}," of",{"$f":"10*RANDBETWEEN(2,5)","v":30},"?",null,null,null,null,null,null,null,null,null,{"$f":"CONCATENATE(F204,\" \",G204,\" \",H204,\" \",I204,\" \",J204,\" \",K204,\" \",L204,\" \",M204,\" \",N204,\" \",O204,\" \",P204,\" \",Q204,\" \",R204)","v":"Fractions.   What is  9/10  of 30 ?        "},{"$f":"I204/10*IF(G204=\"3/10\",3,IF(G204=\"7/10\",7,9))","v":27},null,null,null,{"$f":"IF(INT(U204)<>U204,NA(),\"\")","v":""},null,null,null,null,{"$f":"IF(OR(ISNA(U204),ISNA(V204),ISNA(W204),ISNA(X204),ISNA(Y204),ISNA(Z204),ISNA(AA204),ISNA(AB204),ISNA(AC204)),NA(),CONCATENATE(U204,V204,W204,X204,Y204,Z204,AA204,AB204))","v":"27"},{"$f":"IF(ISNA(AD204),FALSE,IF(C204=$B$1,Worksheet!$B$3,IF(C204=$C$1,Worksheet!$B$4,IF(C204=$D$1,Worksheet!$B$5,IF(C204=$E$1,Worksheet!$B$6,IF(C204=$B$2,Worksheet!$B$7,IF(C204=$C$2,Worksheet!$D$3,IF(C204=$D$2,Worksheet!$D$4,IF(C204=$E$2,Worksheet!$D$5,IF(C204=$C$3,Worksheet!$D$6,IF(C204=$B$3,Worksheet!$D$7,IF(C204=$D$3,Worksheet!$B$10,IF(C204=$E$3,Worksheet!$D$10,FALSE)))))))))))))","v":true},{"$f":"IF(AE204,D204,\"\")","v":"Hard"},{"$f":"IF(AE204,COUNTIF($AF$5:AF204,AF204),\"X\")","v":63},{"$f":"CONCATENATE(AE204,AF204)","v":"TRUEHard"}]
[{"$f":"CONCATENATE(AE205,D205,AG205)","v":"TRUEHard64"},{"$f":"RAND()","v":0.60432875784270002},"Mult","Hard",85,"Circle the number that is a multiple of 8:   ",{"$f":"IF($S205=1,RANDBETWEEN(2,10)*8,RANDBETWEEN(1,9)*8+RANDBETWEEN(1,7))","v":77},{"$f":"IF($S205=2,RANDBETWEEN(2,10)*8,RANDBETWEEN(1,9)*8+RANDBETWEEN(1,7))","v":15},{"$f":"IF($S205=3,RANDBETWEEN(2,10)*8,RANDBETWEEN(1,9)*8+RANDBETWEEN(1,7))","v":35},{"$f":"IF($S205=4,RANDBETWEEN(2,10)*8,RANDBETWEEN(1,9)*8+RANDBETWEEN(1,7))","v":16},null,null,null,null,null,null,null,null,{"$f":"RANDBETWEEN(1,4)","v":4},{"$f":"CONCATENATE(F205,\"      \",G205,\"     \",H205,\"     \",I205,\"     \",J205,\" \",K205,\" \",L205,\" \",M205,\" \",N205,\" \",O205,\" \",P205,\" \",Q205,\" \",R205)","v":"Circle the number that is a multiple of 8:         77     15     35     16        "},{"$f":"IF(S205=1,G205,IF(S205=2,H205,IF(S205=3,I205,J205)))","v":16},{"$f":"IF(OR(G205=H205,G205=I205,G205=J205,H205=I205,H205=J205,I205=J205),NA(),\"\")","v":""},null,null,null,null,null,null,null,{"$f":"IF(OR(ISNA(U205),ISNA(V205),ISNA(W205),ISNA(X205),ISNA(Y205),ISNA(Z205),ISNA(AA205),ISNA(AB205),ISNA(AC205)),NA(),CONCATENATE(U205,V205,W205,X205,Y205,Z205,AA205,AB205))","v":"16"},{"$f":"IF(ISNA(AD205),FALSE,IF(C205=$B$1,Worksheet!$B$3,IF(C205=$C$1,Worksheet!$B$4,IF(C205=$D$1,Worksheet!$B$5,IF(C205=$E$1,Worksheet!$B$6,IF(C205=$B$2,Worksheet!$B$7,IF(C205=$C$2,Worksheet!$D$3,IF(C205=$D$2,Worksheet!$D$4,IF(C205=$E$2,Worksheet!$D$5,IF(C205=$C$3,Worksheet!$D$6,IF(C205=$B$3,Worksheet!$D$7,IF(C205=$D$3,Worksheet!$B$10,IF(C205=$E$3,Worksheet!$D$10,FALSE)))))))))))))","v":true},{"$f":"IF(AE205,D205,\"\")","v":"Hard"},{"$f":"IF(AE205,COUNTIF($AF$5:AF205,AF205),\"X\")","v":64},{"$f":"CONCATENATE(AE205,AF205)","v":"TRUEHard"}]
[{"$f":"CONCATENATE(AE206,D206,AG206)","v":"TRUEEasy45"},{"$f":"RAND()","v":0.54134862100838999},"Round","Easy",334,"Round",{"$f":"RANDBETWEEN(1,999)*10+RANDBETWEEN(1,9)","v":7623},"to the nearest thousand",null,null,null,null,null,null,null,null,null,null,null,{"$f":"CONCATENATE(F206,\" \",G206,\" \",H206,\" \",I206,\" \",J206,\" \",K206,\" \",L206,\" \",M206,\" \",N206,\" \",O206,\" \",P206,\" \",Q206,\" \",R206)","v":"Round 7623 to the nearest thousand          "},{"$f":"MROUND(G206,1000)","v":8000},null,null,null,null,null,null,null,null,{"$f":"IF(OR(ISNA(U206),ISNA(V206),ISNA(W206),ISNA(X206),ISNA(Y206),ISNA(Z206),ISNA(AA206),ISNA(AB206),ISNA(AC206)),NA(),CONCATENATE(U206,V206,W206,X206,Y206,Z206,AA206,AB206))","v":"8000"},{"$f":"IF(ISNA(AD206),FALSE,IF(C206=$B$1,Worksheet!$B$3,IF(C206=$C$1,Worksheet!$B$4,IF(C206=$D$1,Worksheet!$B$5,IF(C206=$E$1,Worksheet!$B$6,IF(C206=$B$2,Worksheet!$B$7,IF(C206=$C$2,Worksheet!$D$3,IF(C206=$D$2,Worksheet!$D$4,IF(C206=$E$2,Worksheet!$D$5,IF(C206=$C$3,Worksheet!$D$6,IF(C206=$B$3,Worksheet!$D$7,IF(C206=$D$3,Worksheet!$B$10,IF(C206=$E$3,Worksheet!$D$10,FALSE)))))))))))))","v":true},{"$f":"IF(AE206,D206,\"\")","v":"Easy"},{"$f":"IF(AE206,COUNTIF($AF$5:AF206,AF206),\"X\")","v":45},{"$f":"CONCATENATE(AE206,AF206)","v":"TRUEEasy"}]
[{"$f":"CONCATENATE(AE207,D207,AG207)","v":"TRUEMedium81"},{"$f":"RAND()","v":1.6128005536060197E-2},"Choose","Medium",142,"There are 60 minutes in an hour.  How many minutes are there in",{"$f":"RANDBETWEEN(2,5)","v":5},"hours?",null,null,null,null,null,null,null,null,null,null,null,{"$f":"CONCATENATE(F207,\" \",G207,\" \",H207,\" \",I207,\" \",J207,\" \",K207,\" \",L207,\" \",M207,\" \",N207,\" \",O207,\" \",P207,\" \",Q207,\" \",R207)","v":"There are 60 minutes in an hour.  How many minutes are there in 5 hours?          "},{"$f":"G207*60","v":300},null,null,null,null,null,null,null,null,{"$f":"IF(OR(ISNA(U207),ISNA(V207),ISNA(W207),ISNA(X207),ISNA(Y207),ISNA(Z207),ISNA(AA207),ISNA(AB207),ISNA(AC207)),NA(),CONCATENATE(U207,V207,W207,X207,Y207,Z207,AA207,AB207))","v":"300"},{"$f":"IF(ISNA(AD207),FALSE,IF(C207=$B$1,Worksheet!$B$3,IF(C207=$C$1,Worksheet!$B$4,IF(C207=$D$1,Worksheet!$B$5,IF(C207=$E$1,Worksheet!$B$6,IF(C207=$B$2,Worksheet!$B$7,IF(C207=$C$2,Worksheet!$D$3,IF(C207=$D$2,Worksheet!$D$4,IF(C207=$E$2,Worksheet!$D$5,IF(C207=$C$3,Worksheet!$D$6,IF(C207=$B$3,Worksheet!$D$7,IF(C207=$D$3,Worksheet!$B$10,IF(C207=$E$3,Worksheet!$D$10,FALSE)))))))))))))","v":true},{"$f":"IF(AE207,D207,\"\")","v":"Medium"},{"$f":"IF(AE207,COUNTIF($AF$5:AF207,AF207),\"X\")","v":81},{"$f":"CONCATENATE(AE207,AF207)","v":"TRUEMedium"}]
[{"$f":"CONCATENATE(AE208,D208,AG208)","v":"TRUEMedium82"},{"$f":"RAND()","v":0.62232842404927791},"Num","Medium",6,"Write the number   \"",{"$f":"CHOOSE(RANDBETWEEN(1,9),\"one\",\"two\",\"three\",\"four\",\"five\",\"six\",\"seven\",\"eight\",\"nine\")","v":"eight"},"hundred thousand, and",{"$f":"CHOOSE(RANDBETWEEN(1,9),\"one\",\"two\",\"three\",\"four\",\"five\",\"six\",\"seven\",\"eight\",\"nine\")","v":"one"},"\"   in figures",null,null,null,null,null,null,null,null,null,{"$f":"CONCATENATE(F208,\" \",G208,\" \",H208,\" \",I208,\" \",J208,\" \",K208,\" \",L208,\" \",M208,\" \",N208,\" \",O208,\" \",P208,\" \",Q208,\" \",R208)","v":"Write the number   \" eight hundred thousand, and one \"   in figures        "},{"$f":"IF(G208=\"one\",1,IF(G208=\"two\",2,IF(G208=\"three\",3,IF(G208=\"four\",4,IF(G208=\"five\",5,IF(G208=\"six\",6,IF(G208=\"seven\",7,IF(G208=\"eight\",8,9))))))))","v":8},"00,00",{"$f":"IF(I208=\"one\",1,IF(I208=\"two\",2,IF(I208=\"three\",3,IF(I208=\"four\",4,IF(I208=\"five\",5,IF(I208=\"six\",6,IF(I208=\"seven\",7,IF(I208=\"eight\",8,9))))))))","v":1},null,null,null,null,null,null,{"$f":"IF(OR(ISNA(U208),ISNA(V208),ISNA(W208),ISNA(X208),ISNA(Y208),ISNA(Z208),ISNA(AA208),ISNA(AB208),ISNA(AC208)),NA(),CONCATENATE(U208,V208,W208,X208,Y208,Z208,AA208,AB208))","v":"800,001"},{"$f":"IF(ISNA(AD208),FALSE,IF(C208=$B$1,Worksheet!$B$3,IF(C208=$C$1,Worksheet!$B$4,IF(C208=$D$1,Worksheet!$B$5,IF(C208=$E$1,Worksheet!$B$6,IF(C208=$B$2,Worksheet!$B$7,IF(C208=$C$2,Worksheet!$D$3,IF(C208=$D$2,Worksheet!$D$4,IF(C208=$E$2,Worksheet!$D$5,IF(C208=$C$3,Worksheet!$D$6,IF(C208=$B$3,Worksheet!$D$7,IF(C208=$D$3,Worksheet!$B$10,IF(C208=$E$3,Worksheet!$D$10,FALSE)))))))))))))","v":true},{"$f":"IF(AE208,D208,\"\")","v":"Medium"},{"$f":"IF(AE208,COUNTIF($AF$5:AF208,AF208),\"X\")","v":82},{"$f":"CONCATENATE(AE208,AF208)","v":"TRUEMedium"}]
[{"$f":"CONCATENATE(AE209,D209,AG209)","v":"TRUEEasy46"},{"$f":"RAND()","v":0.68444779747318973},"Mult","Easy",79,"Circle the number that is a multiple of 5:   ",{"$f":"IF($S209=1,RANDBETWEEN(2,10)*5,RANDBETWEEN(1,9)*5+RANDBETWEEN(1,4))","v":9},{"$f":"IF($S209=2,RANDBETWEEN(2,10)*5,RANDBETWEEN(1,9)*5+RANDBETWEEN(1,4))","v":14},{"$f":"IF($S209=3,RANDBETWEEN(2,10)*5,RANDBETWEEN(1,9)*5+RANDBETWEEN(1,4))","v":12},{"$f":"IF($S209=4,RANDBETWEEN(2,10)*5,RANDBETWEEN(1,9)*5+RANDBETWEEN(1,4))","v":30},null,null,null,null,null,null,null,null,{"$f":"RANDBETWEEN(1,4)","v":4},{"$f":"CONCATENATE(F209,\"      \",G209,\"     \",H209,\"     \",I209,\"     \",J209,\" \",K209,\" \",L209,\" \",M209,\" \",N209,\" \",O209,\" \",P209,\" \",Q209,\" \",R209)","v":"Circle the number that is a multiple of 5:         9     14     12     30        "},{"$f":"IF(S209=1,G209,IF(S209=2,H209,IF(S209=3,I209,J209)))","v":30},{"$f":"IF(OR(G209=H209,G209=I209,G209=J209,H209=I209,H209=J209,I209=J209),NA(),\"\")","v":""},null,null,null,null,null,null,null,{"$f":"IF(OR(ISNA(U209),ISNA(V209),ISNA(W209),ISNA(X209),ISNA(Y209),ISNA(Z209),ISNA(AA209),ISNA(AB209),ISNA(AC209)),NA(),CONCATENATE(U209,V209,W209,X209,Y209,Z209,AA209,AB209))","v":"30"},{"$f":"IF(ISNA(AD209),FALSE,IF(C209=$B$1,Worksheet!$B$3,IF(C209=$C$1,Worksheet!$B$4,IF(C209=$D$1,Worksheet!$B$5,IF(C209=$E$1,Worksheet!$B$6,IF(C209=$B$2,Worksheet!$B$7,IF(C209=$C$2,Worksheet!$D$3,IF(C209=$D$2,Worksheet!$D$4,IF(C209=$E$2,Worksheet!$D$5,IF(C209=$C$3,Worksheet!$D$6,IF(C209=$B$3,Worksheet!$D$7,IF(C209=$D$3,Worksheet!$B$10,IF(C209=$E$3,Worksheet!$D$10,FALSE)))))))))))))","v":true},{"$f":"IF(AE209,D209,\"\")","v":"Easy"},{"$f":"IF(AE209,COUNTIF($AF$5:AF209,AF209),\"X\")","v":46},{"$f":"CONCATENATE(AE209,AF209)","v":"TRUEEasy"}]
[{"$f":"CONCATENATE(AE210,D210,AG210)","v":"TRUEEasy47"},{"$f":"RAND()","v":0.19647025635567994},"Mult","Easy",64,"What is:   ",{"$f":"RANDBETWEEN(2,10)","v":5},"×",{"$f":"RANDBETWEEN(2,10)","v":8},"+",{"$f":"RANDBETWEEN(10,30)","v":16},"     ?",null,null,null,null,null,null,null,{"$f":"CONCATENATE(F210,\" \",G210,\" \",H210,\" \",I210,\" \",J210,\" \",K210,\" \",L210,\" \",M210,\" \",N210,\" \",O210,\" \",P210,\" \",Q210,\" \",R210)","v":"What is:    5 × 8 + 16      ?      "},{"$f":"G210*I210+K210","v":56},null,null,null,null,null,null,null,null,{"$f":"IF(OR(ISNA(U210),ISNA(V210),ISNA(W210),ISNA(X210),ISNA(Y210),ISNA(Z210),ISNA(AA210),ISNA(AB210),ISNA(AC210)),NA(),CONCATENATE(U210,V210,W210,X210,Y210,Z210,AA210,AB210))","v":"56"},{"$f":"IF(ISNA(AD210),FALSE,IF(C210=$B$1,Worksheet!$B$3,IF(C210=$C$1,Worksheet!$B$4,IF(C210=$D$1,Worksheet!$B$5,IF(C210=$E$1,Worksheet!$B$6,IF(C210=$B$2,Worksheet!$B$7,IF(C210=$C$2,Worksheet!$D$3,IF(C210=$D$2,Worksheet!$D$4,IF(C210=$E$2,Worksheet!$D$5,IF(C210=$C$3,Worksheet!$D$6,IF(C210=$B$3,Worksheet!$D$7,IF(C210=$D$3,Worksheet!$B$10,IF(C210=$E$3,Worksheet!$D$10,FALSE)))))))))))))","v":true},{"$f":"IF(AE210,D210,\"\")","v":"Easy"},{"$f":"IF(AE210,COUNTIF($AF$5:AF210,AF210),\"X\")","v":47},{"$f":"CONCATENATE(AE210,AF210)","v":"TRUEEasy"}]
[{"$f":"CONCATENATE(AE211,D211,AG211)","v":"TRUEMedium83"},{"$f":"RAND()","v":0.87988017776092819},"Mult","Medium",73,"What is double",{"$f":"RANDBETWEEN(5,9)*10+RANDBETWEEN(5,9)","v":87},"?",null,null,null,null,null,null,null,null,null,null,null,{"$f":"CONCATENATE(F211,\" \",G211,\" \",H211,\" \",I211,\" \",J211,\" \",K211,\" \",L211,\" \",M211,\" \",N211,\" \",O211,\" \",P211,\" \",Q211,\" \",R211)","v":"What is double 87 ?          "},{"$f":"2*G211","v":174},null,null,null,null,null,null,null,null,{"$f":"IF(OR(ISNA(U211),ISNA(V211),ISNA(W211),ISNA(X211),ISNA(Y211),ISNA(Z211),ISNA(AA211),ISNA(AB211),ISNA(AC211)),NA(),CONCATENATE(U211,V211,W211,X211,Y211,Z211,AA211,AB211))","v":"174"},{"$f":"IF(ISNA(AD211),FALSE,IF(C211=$B$1,Worksheet!$B$3,IF(C211=$C$1,Worksheet!$B$4,IF(C211=$D$1,Worksheet!$B$5,IF(C211=$E$1,Worksheet!$B$6,IF(C211=$B$2,Worksheet!$B$7,IF(C211=$C$2,Worksheet!$D$3,IF(C211=$D$2,Worksheet!$D$4,IF(C211=$E$2,Worksheet!$D$5,IF(C211=$C$3,Worksheet!$D$6,IF(C211=$B$3,Worksheet!$D$7,IF(C211=$D$3,Worksheet!$B$10,IF(C211=$E$3,Worksheet!$D$10,FALSE)))))))))))))","v":true},{"$f":"IF(AE211,D211,\"\")","v":"Medium"},{"$f":"IF(AE211,COUNTIF($AF$5:AF211,AF211),\"X\")","v":83},{"$f":"CONCATENATE(AE211,AF211)","v":"TRUEMedium"}]
[{"$f":"CONCATENATE(AE212,D212,AG212)","v":"TRUEMedium84"},{"$f":"RAND()","v":0.53135229039965748},"Mult","Medium",75,"What is double",{"$f":"RANDBETWEEN(1,4)*100+RANDBETWEEN(5,9)*10","v":250},"?",null,null,null,null,null,null,null,null,null,null,null,{"$f":"CONCATENATE(F212,\" \",G212,\" \",H212,\" \",I212,\" \",J212,\" \",K212,\" \",L212,\" \",M212,\" \",N212,\" \",O212,\" \",P212,\" \",Q212,\" \",R212)","v":"What is double 250 ?          "},{"$f":"2*G212","v":500},null,null,null,null,null,null,null,null,{"$f":"IF(OR(ISNA(U212),ISNA(V212),ISNA(W212),ISNA(X212),ISNA(Y212),ISNA(Z212),ISNA(AA212),ISNA(AB212),ISNA(AC212)),NA(),CONCATENATE(U212,V212,W212,X212,Y212,Z212,AA212,AB212))","v":"500"},{"$f":"IF(ISNA(AD212),FALSE,IF(C212=$B$1,Worksheet!$B$3,IF(C212=$C$1,Worksheet!$B$4,IF(C212=$D$1,Worksheet!$B$5,IF(C212=$E$1,Worksheet!$B$6,IF(C212=$B$2,Worksheet!$B$7,IF(C212=$C$2,Worksheet!$D$3,IF(C212=$D$2,Worksheet!$D$4,IF(C212=$E$2,Worksheet!$D$5,IF(C212=$C$3,Worksheet!$D$6,IF(C212=$B$3,Worksheet!$D$7,IF(C212=$D$3,Worksheet!$B$10,IF(C212=$E$3,Worksheet!$D$10,FALSE)))))))))))))","v":true},{"$f":"IF(AE212,D212,\"\")","v":"Medium"},{"$f":"IF(AE212,COUNTIF($AF$5:AF212,AF212),\"X\")","v":84},{"$f":"CONCATENATE(AE212,AF212)","v":"TRUEMedium"}]
[{"$f":"CONCATENATE(AE213,D213,AG213)","v":"TRUEMedium85"},{"$f":"RAND()","v":0.90273505133548027},"Mult","Medium",66,"What is:   ",{"$f":"RANDBETWEEN(1,20)","v":12},"+",{"$f":"RANDBETWEEN(2,10)","v":4},"×",{"$f":"RANDBETWEEN(2,10)","v":7},"     ?",null,null,null,null,null,null,null,{"$f":"CONCATENATE(F213,\" \",G213,\" \",H213,\" \",I213,\" \",J213,\" \",K213,\" \",L213,\" \",M213,\" \",N213,\" \",O213,\" \",P213,\" \",Q213,\" \",R213)","v":"What is:    12 + 4 × 7      ?      "},{"$f":"G213+I213*K213","v":40},null,null,null,null,null,null,null,null,{"$f":"IF(OR(ISNA(U213),ISNA(V213),ISNA(W213),ISNA(X213),ISNA(Y213),ISNA(Z213),ISNA(AA213),ISNA(AB213),ISNA(AC213)),NA(),CONCATENATE(U213,V213,W213,X213,Y213,Z213,AA213,AB213))","v":"40"},{"$f":"IF(ISNA(AD213),FALSE,IF(C213=$B$1,Worksheet!$B$3,IF(C213=$C$1,Worksheet!$B$4,IF(C213=$D$1,Worksheet!$B$5,IF(C213=$E$1,Worksheet!$B$6,IF(C213=$B$2,Worksheet!$B$7,IF(C213=$C$2,Worksheet!$D$3,IF(C213=$D$2,Worksheet!$D$4,IF(C213=$E$2,Worksheet!$D$5,IF(C213=$C$3,Worksheet!$D$6,IF(C213=$B$3,Worksheet!$D$7,IF(C213=$D$3,Worksheet!$B$10,IF(C213=$E$3,Worksheet!$D$10,FALSE)))))))))))))","v":true},{"$f":"IF(AE213,D213,\"\")","v":"Medium"},{"$f":"IF(AE213,COUNTIF($AF$5:AF213,AF213),\"X\")","v":85},{"$f":"CONCATENATE(AE213,AF213)","v":"TRUEMedium"}]
[{"$f":"CONCATENATE(AE214,D214,AG214)","v":"TRUEHard65"},{"$f":"RAND()","v":0.14929083307881919},"Dec","Hard",281,"Divide:   ",{"$f":"RANDBETWEEN(10,90)+RANDBETWEEN(1,9)*10","v":99},"÷ 10",null,null,null,null,null,null,null,null,null,null,null,{"$f":"CONCATENATE(F214,\" \",G214,\" \",H214,\" \",I214,\" \",J214,\" \",K214,\" \",L214,\" \",M214,\" \",N214,\" \",O214,\" \",P214,\" \",Q214,\" \",R214)","v":"Divide:    99 ÷ 10          "},{"$f":"G214/10","v":9.9},null,null,null,null,null,null,null,null,{"$f":"IF(OR(ISNA(U214),ISNA(V214),ISNA(W214),ISNA(X214),ISNA(Y214),ISNA(Z214),ISNA(AA214),ISNA(AB214),ISNA(AC214)),NA(),CONCATENATE(U214,V214,W214,X214,Y214,Z214,AA214,AB214))","v":"9.9"},{"$f":"IF(ISNA(AD214),FALSE,IF(C214=$B$1,Worksheet!$B$3,IF(C214=$C$1,Worksheet!$B$4,IF(C214=$D$1,Worksheet!$B$5,IF(C214=$E$1,Worksheet!$B$6,IF(C214=$B$2,Worksheet!$B$7,IF(C214=$C$2,Worksheet!$D$3,IF(C214=$D$2,Worksheet!$D$4,IF(C214=$E$2,Worksheet!$D$5,IF(C214=$C$3,Worksheet!$D$6,IF(C214=$B$3,Worksheet!$D$7,IF(C214=$D$3,Worksheet!$B$10,IF(C214=$E$3,Worksheet!$D$10,FALSE)))))))))))))","v":true},{"$f":"IF(AE214,D214,\"\")","v":"Hard"},{"$f":"IF(AE214,COUNTIF($AF$5:AF214,AF214),\"X\")","v":65},{"$f":"CONCATENATE(AE214,AF214)","v":"TRUEHard"}]
[{"$f":"CONCATENATE(AE215,D215,AG215)","v":"TRUEMedium86"},{"$f":"RAND()","v":0.16895547533362376},"Mult","Medium",93,"Multiply:   ",{"$f":"RANDBETWEEN(1,9)*10+RANDBETWEEN(1,9)","v":12},"×",{"$f":"10^RANDBETWEEN(2,3)","v":100},null,null,null,null,null,null,null,null,null,null,{"$f":"CONCATENATE(F215,\" \",G215,\" \",H215,\" \",I215,\" \",J215,\" \",K215,\" \",L215,\" \",M215,\" \",N215,\" \",O215,\" \",P215,\" \",Q215,\" \",R215)","v":"Multiply:    12 × 100         "},{"$f":"G215*I215","v":1200},null,null,null,null,null,null,null,null,{"$f":"IF(OR(ISNA(U215),ISNA(V215),ISNA(W215),ISNA(X215),ISNA(Y215),ISNA(Z215),ISNA(AA215),ISNA(AB215),ISNA(AC215)),NA(),CONCATENATE(U215,V215,W215,X215,Y215,Z215,AA215,AB215))","v":"1200"},{"$f":"IF(ISNA(AD215),FALSE,IF(C215=$B$1,Worksheet!$B$3,IF(C215=$C$1,Worksheet!$B$4,IF(C215=$D$1,Worksheet!$B$5,IF(C215=$E$1,Worksheet!$B$6,IF(C215=$B$2,Worksheet!$B$7,IF(C215=$C$2,Worksheet!$D$3,IF(C215=$D$2,Worksheet!$D$4,IF(C215=$E$2,Worksheet!$D$5,IF(C215=$C$3,Worksheet!$D$6,IF(C215=$B$3,Worksheet!$D$7,IF(C215=$D$3,Worksheet!$B$10,IF(C215=$E$3,Worksheet!$D$10,FALSE)))))))))))))","v":true},{"$f":"IF(AE215,D215,\"\")","v":"Medium"},{"$f":"IF(AE215,COUNTIF($AF$5:AF215,AF215),\"X\")","v":86},{"$f":"CONCATENATE(AE215,AF215)","v":"TRUEMedium"}]
[{"$f":"CONCATENATE(AE216,D216,AG216)","v":"TRUEMedium87"},{"$f":"RAND()","v":0.87723802493784386},"Neg","Medium",345,"Add:   ","(–",{"$f":"RANDBETWEEN(1,10)","v":5},") + (–",{"$f":"RANDBETWEEN(1,10)","v":8},")",null,null,null,null,null,null,null,null,{"$f":"CONCATENATE(F216,\" \",G216,\"\",H216,\"\",I216,\"\",J216,\"\",K216,\" \",L216,\" \",M216,\" \",N216,\" \",O216,\" \",P216,\" \",Q216,\" \",R216)","v":"Add:    (–5) + (–8)       "},"–",{"$f":"H216+J216","v":13},null,null,null,null,null,null,{"$f":"IF(ISERROR(T216),NA(),\"\")","v":""},{"$f":"IF(OR(ISNA(U216),ISNA(V216),ISNA(W216),ISNA(X216),ISNA(Y216),ISNA(Z216),ISNA(AA216),ISNA(AB216),ISNA(AC216)),NA(),CONCATENATE(U216,V216,W216,X216,Y216,Z216,AA216,AB216))","v":"–13"},{"$f":"IF(ISNA(AD216),FALSE,IF(C216=$B$1,Worksheet!$B$3,IF(C216=$C$1,Worksheet!$B$4,IF(C216=$D$1,Worksheet!$B$5,IF(C216=$E$1,Worksheet!$B$6,IF(C216=$B$2,Worksheet!$B$7,IF(C216=$C$2,Worksheet!$D$3,IF(C216=$D$2,Worksheet!$D$4,IF(C216=$E$2,Worksheet!$D$5,IF(C216=$C$3,Worksheet!$D$6,IF(C216=$B$3,Worksheet!$D$7,IF(C216=$D$3,Worksheet!$B$10,IF(C216=$E$3,Worksheet!$D$10,FALSE)))))))))))))","v":true},{"$f":"IF(AE216,D216,\"\")","v":"Medium"},{"$f":"IF(AE216,COUNTIF($AF$5:AF216,AF216),\"X\")","v":87},{"$f":"CONCATENATE(AE216,AF216)","v":"TRUEMedium"}]
[{"$f":"CONCATENATE(AE217,D217,AG217)","v":"TRUEEasy48"},{"$f":"RAND()","v":2.3500863651995108E-2},"Dec","Easy",226,"In the number",null,{"$f":"SMALL(IF(G217={1,2,3,4,5,6,7,8,9},\"\",{1,2,3,4,5,6,7,8,9}),RANDBETWEEN(1,8))","v":1},{"$f":"SMALL(IF(G217={1,2,3,4,5,6,7,8,9},\"\",IF(H217={1,2,3,4,5,6,7,8,9},\"\",{1,2,3,4,5,6,7,8,9})),RANDBETWEEN(1,7))","v":7},{"$f":"SMALL(IF(G217={1,2,3,4,5,6,7,8,9},\"\",IF(H217={1,2,3,4,5,6,7,8,9},\"\",IF(I217={1,2,3,4,5,6,7,8,9},\"\",{1,2,3,4,5,6,7,8,9}))),RANDBETWEEN(1,6))","v":5},", what does the",{"$f":"J217","v":5},"stand for?",null,null,null,null,null,null,{"$f":"CONCATENATE(F217,\" \",G217,\"\",H217,\"\",I217,\"•\",J217,\"\",K217,\" \",L217,\" \",M217,\" \",N217,\" \",O217,\" \",P217,\" \",Q217,\" \",R217)","v":"In the number 17•5, what does the 5 stand for?     "},{"$f":"L217/10","v":0.5},null,null,null,null,null,null,null,null,{"$f":"IF(OR(ISNA(U217),ISNA(V217),ISNA(W217),ISNA(X217),ISNA(Y217),ISNA(Z217),ISNA(AA217),ISNA(AB217),ISNA(AC217)),NA(),CONCATENATE(U217,V217,W217,X217,Y217,Z217,AA217,AB217))","v":"0.5"},{"$f":"IF(ISNA(AD217),FALSE,IF(C217=$B$1,Worksheet!$B$3,IF(C217=$C$1,Worksheet!$B$4,IF(C217=$D$1,Worksheet!$B$5,IF(C217=$E$1,Worksheet!$B$6,IF(C217=$B$2,Worksheet!$B$7,IF(C217=$C$2,Worksheet!$D$3,IF(C217=$D$2,Worksheet!$D$4,IF(C217=$E$2,Worksheet!$D$5,IF(C217=$C$3,Worksheet!$D$6,IF(C217=$B$3,Worksheet!$D$7,IF(C217=$D$3,Worksheet!$B$10,IF(C217=$E$3,Worksheet!$D$10,FALSE)))))))))))))","v":true},{"$f":"IF(AE217,D217,\"\")","v":"Easy"},{"$f":"IF(AE217,COUNTIF($AF$5:AF217,AF217),\"X\")","v":48},{"$f":"CONCATENATE(AE217,AF217)","v":"TRUEEasy"}]
[{"$f":"CONCATENATE(AE218,D218,AG218)","v":"TRUEHard66"},{"$f":"RAND()","v":1.8077122694298731E-2},"+-","Hard",52,"Take away by writing down a sum:   ",{"$f":"RANDBETWEEN(2,9)*10000+RANDBETWEEN(1,9999)","v":55346},"–",{"$f":"RANDBETWEEN(10001,G218)","v":52932},null,null,null,null,null,null,null,null,null,null,{"$f":"CONCATENATE(F218,\" \",G218,\" \",H218,\" \",I218,\" \",J218,\" \",K218,\" \",L218,\" \",M218,\" \",N218,\" \",O218,\" \",P218,\" \",Q218,\" \",R218)","v":"Take away by writing down a sum:    55346 – 52932         "},{"$f":"G218-I218","v":2414},null,null,null,null,null,null,null,null,{"$f":"IF(OR(ISNA(U218),ISNA(V218),ISNA(W218),ISNA(X218),ISNA(Y218),ISNA(Z218),ISNA(AA218),ISNA(AB218),ISNA(AC218)),NA(),CONCATENATE(U218,V218,W218,X218,Y218,Z218,AA218,AB218))","v":"2414"},{"$f":"IF(ISNA(AD218),FALSE,IF(C218=$B$1,Worksheet!$B$3,IF(C218=$C$1,Worksheet!$B$4,IF(C218=$D$1,Worksheet!$B$5,IF(C218=$E$1,Worksheet!$B$6,IF(C218=$B$2,Worksheet!$B$7,IF(C218=$C$2,Worksheet!$D$3,IF(C218=$D$2,Worksheet!$D$4,IF(C218=$E$2,Worksheet!$D$5,IF(C218=$C$3,Worksheet!$D$6,IF(C218=$B$3,Worksheet!$D$7,IF(C218=$D$3,Worksheet!$B$10,IF(C218=$E$3,Worksheet!$D$10,FALSE)))))))))))))","v":true},{"$f":"IF(AE218,D218,\"\")","v":"Hard"},{"$f":"IF(AE218,COUNTIF($AF$5:AF218,AF218),\"X\")","v":66},{"$f":"CONCATENATE(AE218,AF218)","v":"TRUEHard"}]
[{"$f":"CONCATENATE(AE219,D219,AG219)","v":"TRUEHard67"},{"$f":"RAND()","v":0.5332880105261677},"Frac","Hard",168,"Fractions.   Write down a sum to work out ","3/4"," of",{"$f":"4*RANDBETWEEN(20,50)","v":172},"?",null,null,null,null,null,null,null,null,null,{"$f":"CONCATENATE(F219,\" \",G219,\" \",H219,\" \",I219,\" \",J219,\" \",K219,\" \",L219,\" \",M219,\" \",N219,\" \",O219,\" \",P219,\" \",Q219,\" \",R219)","v":"Fractions.   Write down a sum to work out  3/4  of 172 ?        "},{"$f":"I219/4*3","v":129},null,null,null,{"$f":"IF(INT(U219)<>U219,NA(),\"\")","v":""},null,null,null,null,{"$f":"IF(OR(ISNA(U219),ISNA(V219),ISNA(W219),ISNA(X219),ISNA(Y219),ISNA(Z219),ISNA(AA219),ISNA(AB219),ISNA(AC219)),NA(),CONCATENATE(U219,V219,W219,X219,Y219,Z219,AA219,AB219))","v":"129"},{"$f":"IF(ISNA(AD219),FALSE,IF(C219=$B$1,Worksheet!$B$3,IF(C219=$C$1,Worksheet!$B$4,IF(C219=$D$1,Worksheet!$B$5,IF(C219=$E$1,Worksheet!$B$6,IF(C219=$B$2,Worksheet!$B$7,IF(C219=$C$2,Worksheet!$D$3,IF(C219=$D$2,Worksheet!$D$4,IF(C219=$E$2,Worksheet!$D$5,IF(C219=$C$3,Worksheet!$D$6,IF(C219=$B$3,Worksheet!$D$7,IF(C219=$D$3,Worksheet!$B$10,IF(C219=$E$3,Worksheet!$D$10,FALSE)))))))))))))","v":true},{"$f":"IF(AE219,D219,\"\")","v":"Hard"},{"$f":"IF(AE219,COUNTIF($AF$5:AF219,AF219),\"X\")","v":67},{"$f":"CONCATENATE(AE219,AF219)","v":"TRUEHard"}]
[{"$f":"CONCATENATE(AE220,D220,AG220)","v":"TRUEMedium88"},{"$f":"RAND()","v":2.527886190125217E-2},"+-","Medium",36,"What do you add on to",{"$f":"(RANDBETWEEN(1,9)+RANDBETWEEN(1,9)*10)*10","v":330},"to make 1000?",null,null,null,null,null,null,null,null,null,null,null,{"$f":"CONCATENATE(F220,\" \",G220,\" \",H220,\" \",I220,\" \",J220,\" \",K220,\" \",L220,\" \",M220,\" \",N220,\" \",O220,\" \",P220,\" \",Q220,\" \",R220)","v":"What do you add on to 330 to make 1000?          "},{"$f":"1000-G220","v":670},null,null,null,null,null,null,null,null,{"$f":"IF(OR(ISNA(U220),ISNA(V220),ISNA(W220),ISNA(X220),ISNA(Y220),ISNA(Z220),ISNA(AA220),ISNA(AB220),ISNA(AC220)),NA(),CONCATENATE(U220,V220,W220,X220,Y220,Z220,AA220,AB220))","v":"670"},{"$f":"IF(ISNA(AD220),FALSE,IF(C220=$B$1,Worksheet!$B$3,IF(C220=$C$1,Worksheet!$B$4,IF(C220=$D$1,Worksheet!$B$5,IF(C220=$E$1,Worksheet!$B$6,IF(C220=$B$2,Worksheet!$B$7,IF(C220=$C$2,Worksheet!$D$3,IF(C220=$D$2,Worksheet!$D$4,IF(C220=$E$2,Worksheet!$D$5,IF(C220=$C$3,Worksheet!$D$6,IF(C220=$B$3,Worksheet!$D$7,IF(C220=$D$3,Worksheet!$B$10,IF(C220=$E$3,Worksheet!$D$10,FALSE)))))))))))))","v":true},{"$f":"IF(AE220,D220,\"\")","v":"Medium"},{"$f":"IF(AE220,COUNTIF($AF$5:AF220,AF220),\"X\")","v":88},{"$f":"CONCATENATE(AE220,AF220)","v":"TRUEMedium"}]
[{"$f":"CONCATENATE(AE221,D221,AG221)","v":"TRUEHard68"},{"$f":"RAND()","v":0.53487547252393886},"Mult","Hard",95,"Multiply:   ",{"$f":"(RANDBETWEEN(1,9)*10+RANDBETWEEN(1,9))*10^RANDBETWEEN(1,2)","v":860},"×",{"$f":"10^RANDBETWEEN(2,3)","v":1000},null,null,null,null,null,null,null,null,null,null,{"$f":"CONCATENATE(F221,\" \",G221,\" \",H221,\" \",I221,\" \",J221,\" \",K221,\" \",L221,\" \",M221,\" \",N221,\" \",O221,\" \",P221,\" \",Q221,\" \",R221)","v":"Multiply:    860 × 1000         "},{"$f":"TEXT(G221*I221,\"#,###\")","v":"860,000"},null,null,null,null,null,null,null,null,{"$f":"IF(OR(ISNA(U221),ISNA(V221),ISNA(W221),ISNA(X221),ISNA(Y221),ISNA(Z221),ISNA(AA221),ISNA(AB221),ISNA(AC221)),NA(),CONCATENATE(U221,V221,W221,X221,Y221,Z221,AA221,AB221))","v":"860,000"},{"$f":"IF(ISNA(AD221),FALSE,IF(C221=$B$1,Worksheet!$B$3,IF(C221=$C$1,Worksheet!$B$4,IF(C221=$D$1,Worksheet!$B$5,IF(C221=$E$1,Worksheet!$B$6,IF(C221=$B$2,Worksheet!$B$7,IF(C221=$C$2,Worksheet!$D$3,IF(C221=$D$2,Worksheet!$D$4,IF(C221=$E$2,Worksheet!$D$5,IF(C221=$C$3,Worksheet!$D$6,IF(C221=$B$3,Worksheet!$D$7,IF(C221=$D$3,Worksheet!$B$10,IF(C221=$E$3,Worksheet!$D$10,FALSE)))))))))))))","v":true},{"$f":"IF(AE221,D221,\"\")","v":"Hard"},{"$f":"IF(AE221,COUNTIF($AF$5:AF221,AF221),\"X\")","v":68},{"$f":"CONCATENATE(AE221,AF221)","v":"TRUEHard"}]
[{"$f":"CONCATENATE(AE222,D222,AG222)","v":"TRUEEasy49"},{"$f":"RAND()","v":0.70949958474907626},"%","Easy",306,"What is",50,"% as a decimal?",null,null,null,null,null,null,null,null,null,null,null,{"$f":"CONCATENATE(F222,\" \",G222,\"\",H222,\" \",I222,\" \",J222,\" \",K222,\" \",L222,\" \",M222,\" \",N222,\" \",O222,\" \",P222,\" \",Q222,\" \",R222)","v":"What is 50% as a decimal?          "},0.5,null,null,null,null,null,null,null,null,{"$f":"IF(OR(ISNA(U222),ISNA(V222),ISNA(W222),ISNA(X222),ISNA(Y222),ISNA(Z222),ISNA(AA222),ISNA(AB222),ISNA(AC222)),NA(),CONCATENATE(U222,V222,W222,X222,Y222,Z222,AA222,AB222))","v":"0.5"},{"$f":"IF(ISNA(AD222),FALSE,IF(C222=$B$1,Worksheet!$B$3,IF(C222=$C$1,Worksheet!$B$4,IF(C222=$D$1,Worksheet!$B$5,IF(C222=$E$1,Worksheet!$B$6,IF(C222=$B$2,Worksheet!$B$7,IF(C222=$C$2,Worksheet!$D$3,IF(C222=$D$2,Worksheet!$D$4,IF(C222=$E$2,Worksheet!$D$5,IF(C222=$C$3,Worksheet!$D$6,IF(C222=$B$3,Worksheet!$D$7,IF(C222=$D$3,Worksheet!$B$10,IF(C222=$E$3,Worksheet!$D$10,FALSE)))))))))))))","v":true},{"$f":"IF(AE222,D222,\"\")","v":"Easy"},{"$f":"IF(AE222,COUNTIF($AF$5:AF222,AF222),\"X\")","v":49},{"$f":"CONCATENATE(AE222,AF222)","v":"TRUEEasy"}]
[{"$f":"CONCATENATE(AE223,D223,AG223)","v":"TRUEEasy50"},{"$f":"RAND()","v":0.3247504409677725},"Divide","Easy",109,"What is half of",{"$f":"RANDBETWEEN(1,5)*100","v":400},"?",null,null,null,null,null,null,null,null,null,null,null,{"$f":"CONCATENATE(F223,\" \",G223,\" \",H223,\" \",I223,\" \",J223,\" \",K223,\" \",L223,\" \",M223,\" \",N223,\" \",O223,\" \",P223,\" \",Q223,\" \",R223)","v":"What is half of 400 ?          "},{"$f":"G223/2","v":200},null,null,null,null,null,null,null,null,{"$f":"IF(OR(ISNA(U223),ISNA(V223),ISNA(W223),ISNA(X223),ISNA(Y223),ISNA(Z223),ISNA(AA223),ISNA(AB223),ISNA(AC223)),NA(),CONCATENATE(U223,V223,W223,X223,Y223,Z223,AA223,AB223))","v":"200"},{"$f":"IF(ISNA(AD223),FALSE,IF(C223=$B$1,Worksheet!$B$3,IF(C223=$C$1,Worksheet!$B$4,IF(C223=$D$1,Worksheet!$B$5,IF(C223=$E$1,Worksheet!$B$6,IF(C223=$B$2,Worksheet!$B$7,IF(C223=$C$2,Worksheet!$D$3,IF(C223=$D$2,Worksheet!$D$4,IF(C223=$E$2,Worksheet!$D$5,IF(C223=$C$3,Worksheet!$D$6,IF(C223=$B$3,Worksheet!$D$7,IF(C223=$D$3,Worksheet!$B$10,IF(C223=$E$3,Worksheet!$D$10,FALSE)))))))))))))","v":true},{"$f":"IF(AE223,D223,\"\")","v":"Easy"},{"$f":"IF(AE223,COUNTIF($AF$5:AF223,AF223),\"X\")","v":50},{"$f":"CONCATENATE(AE223,AF223)","v":"TRUEEasy"}]
[{"$f":"CONCATENATE(AE224,D224,AG224)","v":"TRUEHard69"},{"$f":"RAND()","v":0.99130224221923646},"Mult","Hard",67,"What is:   ",{"$f":"RANDBETWEEN(I224*K224+1,I224*K224+10)","v":38},"–",{"$f":"RANDBETWEEN(2,10)","v":7},"×",{"$f":"RANDBETWEEN(2,10)","v":4},"     ?",null,null,null,null,null,null,null,{"$f":"CONCATENATE(F224,\" \",G224,\" \",H224,\" \",I224,\" \",J224,\" \",K224,\" \",L224,\" \",M224,\" \",N224,\" \",O224,\" \",P224,\" \",Q224,\" \",R224)","v":"What is:    38 – 7 × 4      ?      "},{"$f":"G224-I224*K224","v":10},null,null,null,null,null,null,null,null,{"$f":"IF(OR(ISNA(U224),ISNA(V224),ISNA(W224),ISNA(X224),ISNA(Y224),ISNA(Z224),ISNA(AA224),ISNA(AB224),ISNA(AC224)),NA(),CONCATENATE(U224,V224,W224,X224,Y224,Z224,AA224,AB224))","v":"10"},{"$f":"IF(ISNA(AD224),FALSE,IF(C224=$B$1,Worksheet!$B$3,IF(C224=$C$1,Worksheet!$B$4,IF(C224=$D$1,Worksheet!$B$5,IF(C224=$E$1,Worksheet!$B$6,IF(C224=$B$2,Worksheet!$B$7,IF(C224=$C$2,Worksheet!$D$3,IF(C224=$D$2,Worksheet!$D$4,IF(C224=$E$2,Worksheet!$D$5,IF(C224=$C$3,Worksheet!$D$6,IF(C224=$B$3,Worksheet!$D$7,IF(C224=$D$3,Worksheet!$B$10,IF(C224=$E$3,Worksheet!$D$10,FALSE)))))))))))))","v":true},{"$f":"IF(AE224,D224,\"\")","v":"Hard"},{"$f":"IF(AE224,COUNTIF($AF$5:AF224,AF224),\"X\")","v":69},{"$f":"CONCATENATE(AE224,AF224)","v":"TRUEHard"}]
[{"$f":"CONCATENATE(AE225,D225,AG225)","v":"TRUEEasy51"},{"$f":"RAND()","v":0.32333352641361368},"Frac","Easy",148,"Fractions.   What is","1/",{"$f":"CHOOSE(RANDBETWEEN(1,4),3,4,5,10)","v":4},"of",{"$f":"H225*RANDBETWEEN(2,10)","v":8},"?",null,null,null,null,null,null,null,null,{"$f":"CONCATENATE(F225,\" \",G225,\"\",H225,\" \",I225,\" \",J225,\"\",K225,\" \",L225,\" \",M225,\" \",N225,\" \",O225,\" \",P225,\" \",Q225,\" \",R225)","v":"Fractions.   What is 1/4 of 8?       "},{"$f":"J225/H225","v":2},null,null,null,null,null,null,null,null,{"$f":"IF(OR(ISNA(U225),ISNA(V225),ISNA(W225),ISNA(X225),ISNA(Y225),ISNA(Z225),ISNA(AA225),ISNA(AB225),ISNA(AC225)),NA(),CONCATENATE(U225,V225,W225,X225,Y225,Z225,AA225,AB225))","v":"2"},{"$f":"IF(ISNA(AD225),FALSE,IF(C225=$B$1,Worksheet!$B$3,IF(C225=$C$1,Worksheet!$B$4,IF(C225=$D$1,Worksheet!$B$5,IF(C225=$E$1,Worksheet!$B$6,IF(C225=$B$2,Worksheet!$B$7,IF(C225=$C$2,Worksheet!$D$3,IF(C225=$D$2,Worksheet!$D$4,IF(C225=$E$2,Worksheet!$D$5,IF(C225=$C$3,Worksheet!$D$6,IF(C225=$B$3,Worksheet!$D$7,IF(C225=$D$3,Worksheet!$B$10,IF(C225=$E$3,Worksheet!$D$10,FALSE)))))))))))))","v":true},{"$f":"IF(AE225,D225,\"\")","v":"Easy"},{"$f":"IF(AE225,COUNTIF($AF$5:AF225,AF225),\"X\")","v":51},{"$f":"CONCATENATE(AE225,AF225)","v":"TRUEEasy"}]
[{"$f":"CONCATENATE(AE226,D226,AG226)","v":"TRUEHard70"},{"$f":"RAND()","v":0.60574558106260579},"Dec","Hard",286,"Add by writing down a sum:   ",{"$f":"RANDBETWEEN(20,99)+RANDBETWEEN(1,99)/100","v":48.19},"+",{"$f":"RANDBETWEEN(20,99)+RANDBETWEEN(1,99)/100","v":34.51},null,null,null,null,null,null,null,null,null,null,{"$f":"CONCATENATE(F226,\" \",G226,\" \",H226,\" \",I226,\" \",J226,\" \",K226,\" \",L226,\" \",M226,\" \",N226,\" \",O226,\" \",P226,\" \",Q226,\" \",R226)","v":"Add by writing down a sum:    48.19 + 34.51         "},{"$f":"G226+I226","v":82.699999999999989},null,null,null,null,null,null,null,null,{"$f":"IF(OR(ISNA(U226),ISNA(V226),ISNA(W226),ISNA(X226),ISNA(Y226),ISNA(Z226),ISNA(AA226),ISNA(AB226),ISNA(AC226)),NA(),CONCATENATE(U226,V226,W226,X226,Y226,Z226,AA226,AB226))","v":"82.7"},{"$f":"IF(ISNA(AD226),FALSE,IF(C226=$B$1,Worksheet!$B$3,IF(C226=$C$1,Worksheet!$B$4,IF(C226=$D$1,Worksheet!$B$5,IF(C226=$E$1,Worksheet!$B$6,IF(C226=$B$2,Worksheet!$B$7,IF(C226=$C$2,Worksheet!$D$3,IF(C226=$D$2,Worksheet!$D$4,IF(C226=$E$2,Worksheet!$D$5,IF(C226=$C$3,Worksheet!$D$6,IF(C226=$B$3,Worksheet!$D$7,IF(C226=$D$3,Worksheet!$B$10,IF(C226=$E$3,Worksheet!$D$10,FALSE)))))))))))))","v":true},{"$f":"IF(AE226,D226,\"\")","v":"Hard"},{"$f":"IF(AE226,COUNTIF($AF$5:AF226,AF226),\"X\")","v":70},{"$f":"CONCATENATE(AE226,AF226)","v":"TRUEHard"}]
[{"$f":"CONCATENATE(AE227,D227,AG227)","v":"TRUEMedium89"},{"$f":"RAND()","v":9.3946474565167581E-2},"Num","Medium",17,"Write these numbers in order from",{"$f":"CHOOSE(RANDBETWEEN(1,2),\"smallest to biggest:\",\"biggest to smallest:\")","v":"smallest to biggest:"},{"$f":"IF($O227=1,$P227*10000,IF($O227=2,$Q227*10000,IF($O227=3,$R227*10000,$S227*10000)))+IF(RAND()<0.5,$R227,$S227)*100+IF(RAND()<0.5,$P227,$Q227)*10+CHOOSE(RANDBETWEEN(1,4),$P227,$Q227,$R227,$S227)","v":80822},{"$f":"IF($O227=1,$P227*10000,IF($O227=2,$Q227*10000,IF($O227=3,$R227*10000,$S227*10000)))+IF(RAND()<0.5,$R227,$S227)*1000+IF(RAND()<0.5,$P227,$Q227)*10+CHOOSE(RANDBETWEEN(1,4),$P227,$Q227,$R227,$S227)","v":89029},{"$f":"IF($O227=1,$P227*10000,IF($O227=2,$Q227*10000,IF($O227=3,$R227*10000,$S227*10000)))+IF(RAND()<0.5,$R227,$S227)*100+IF(RAND()<0.5,$P227,$Q227)*10+CHOOSE(RANDBETWEEN(1,4),$P227,$Q227,$R227,$S227)","v":80928},{"$f":"IF($O227=1,$P227*10000,IF($O227=2,$Q227*10000,IF($O227=3,$R227*10000,$S227*10000)))+IF(RAND()<0.5,$R227,$S227)*1000+IF(RAND()<0.5,$P227,$Q227)*100+CHOOSE(RANDBETWEEN(1,4),$P227,$Q227,$R227,$S227)","v":88209},null,null,null,{"$f":"RANDBETWEEN(1,9)","v":5},{"$f":"RANDBETWEEN(0,9)","v":2},{"$f":"RANDBETWEEN(0,9)","v":2},{"$f":"RANDBETWEEN(0,9)","v":9},{"$f":"RANDBETWEEN(1,9)","v":8},{"$f":"CONCATENATE(F227,\" \",G227,\"   \",H227,\",  \",I227,\",  \",J227,\",  \",K227,\" \",L227,\" \",M227,\" \",N227)","v":"Write these numbers in order from smallest to biggest:   80822,  89029,  80928,  88209   "},{"$f":"IF($G227=\"smallest to biggest:\",LARGE($H227:$K227,4),LARGE($H227:$K227,1))","v":80822},{"$f":"IF($G227=\"smallest to biggest:\",LARGE($H227:$K227,3),LARGE($H227:$K227,2))","v":80928},{"$f":"IF($G227=\"smallest to biggest:\",LARGE($H227:$K227,2),LARGE($H227:$K227,3))","v":88209},{"$f":"IF($G227=\"smallest to biggest:\",LARGE($H227:$K227,1),LARGE($H227:$K227,4))","v":89029},null,{"$f":"IF(OR(H227=I227,H227=J227,H227=K227,I227=J227,I227=K227,J227=K227),NA(),\"\")","v":""},null,null,null,{"$f":"IF(OR(ISNA(U227),ISNA(V227),ISNA(W227),ISNA(X227),ISNA(Y227),ISNA(Z227),ISNA(AA227),ISNA(AB227),ISNA(AC227)),NA(),CONCATENATE(U227,\",  \",V227,\",  \",W227,\",  \",X227,Y227,Z227,AA227,AB227))","v":"80822,  80928,  88209,  89029"},{"$f":"IF(ISNA(AD227),FALSE,IF(C227=$B$1,Worksheet!$B$3,IF(C227=$C$1,Worksheet!$B$4,IF(C227=$D$1,Worksheet!$B$5,IF(C227=$E$1,Worksheet!$B$6,IF(C227=$B$2,Worksheet!$B$7,IF(C227=$C$2,Worksheet!$D$3,IF(C227=$D$2,Worksheet!$D$4,IF(C227=$E$2,Worksheet!$D$5,IF(C227=$C$3,Worksheet!$D$6,IF(C227=$B$3,Worksheet!$D$7,IF(C227=$D$3,Worksheet!$B$10,IF(C227=$E$3,Worksheet!$D$10,FALSE)))))))))))))","v":true},{"$f":"IF(AE227,D227,\"\")","v":"Medium"},{"$f":"IF(AE227,COUNTIF($AF$5:AF227,AF227),\"X\")","v":89},{"$f":"CONCATENATE(AE227,AF227)","v":"TRUEMedium"}]
[{"$f":"CONCATENATE(AE228,D228,AG228)","v":"TRUEEasy52"},{"$f":"RAND()","v":0.87692602347666904},"Frac","Easy",189,"Add the fractions:       ",{"$f":"IF(RAND()<0.5,\"1/3\",\"2/3\")","v":"1/3"},"  +  ",{"$f":"IF(G228=\"1/3\",\"2/3\",\"1/3\")","v":"2/3"},null,null,null,null,null,null,null,null,null,null,{"$f":"CONCATENATE(F228,\" \",G228,\" \",H228,\" \",I228,\" \",J228,\" \",K228,\" \",L228,\" \",M228,\" \",N228,\" \",O228,\" \",P228,\" \",Q228,\" \",R228)","v":"Add the fractions:        1/3   +   2/3         "},1,null,null,null,null,null,null,null,null,{"$f":"IF(OR(ISNA(U228),ISNA(V228),ISNA(W228),ISNA(X228),ISNA(Y228),ISNA(Z228),ISNA(AA228),ISNA(AB228),ISNA(AC228)),NA(),CONCATENATE(U228,V228,W228,X228,Y228,Z228,AA228,AB228))","v":"1"},{"$f":"IF(ISNA(AD228),FALSE,IF(C228=$B$1,Worksheet!$B$3,IF(C228=$C$1,Worksheet!$B$4,IF(C228=$D$1,Worksheet!$B$5,IF(C228=$E$1,Worksheet!$B$6,IF(C228=$B$2,Worksheet!$B$7,IF(C228=$C$2,Worksheet!$D$3,IF(C228=$D$2,Worksheet!$D$4,IF(C228=$E$2,Worksheet!$D$5,IF(C228=$C$3,Worksheet!$D$6,IF(C228=$B$3,Worksheet!$D$7,IF(C228=$D$3,Worksheet!$B$10,IF(C228=$E$3,Worksheet!$D$10,FALSE)))))))))))))","v":true},{"$f":"IF(AE228,D228,\"\")","v":"Easy"},{"$f":"IF(AE228,COUNTIF($AF$5:AF228,AF228),\"X\")","v":52},{"$f":"CONCATENATE(AE228,AF228)","v":"TRUEEasy"}]
[{"$f":"CONCATENATE(AE229,D229,AG229)","v":"TRUEEasy53"},{"$f":"RAND()","v":0.15194463461591634},"Frac","Easy",173,"Which of these fractions is NOT the same as one half?   ",{"$f":"RANDBETWEEN(2,20)","v":8},"/",{"$f":"IF(S229=1,G229*2+RANDBETWEEN(1,2)*(-1)^RANDBETWEEN(1,2),2*G229)","v":16},{"$f":"RANDBETWEEN(2,20)","v":4},"/",{"$f":"IF(S229=2,J229*2+RANDBETWEEN(1,2)*(-1)^RANDBETWEEN(1,2),2*J229)","v":8},{"$f":"RANDBETWEEN(2,20)","v":14},"/",{"$f":"IF(S229=3,M229*2+RANDBETWEEN(1,2)*(-1)^RANDBETWEEN(1,2),2*M229)","v":30},null,null,null,{"$f":"RANDBETWEEN(1,3)","v":3},{"$f":"CONCATENATE(F229,\"    \",G229,\"\",H229,\"\",I229,\"    \",J229,\"\",K229,\"\",L229,\"    \",M229,\"\",N229,\"\",O229,\" \",P229,\" \",Q229,\" \",R229)","v":"Which of these fractions is NOT the same as one half?       8/16    4/8    14/30   "},{"$f":"IF(S229=1,CONCATENATE(G229,H229,I229),IF(S229=2,CONCATENATE(J229,K229,L229),CONCATENATE(M229,N229,O229)))","v":"14/30"},null,null,{"$f":"IF(OR(AND(S229=1,L229=O229),AND(S229=2,I229=O229),AND(S229=3,I229=L229)),NA(),\"\")","v":""},null,null,null,null,null,{"$f":"IF(OR(ISNA(U229),ISNA(V229),ISNA(W229),ISNA(X229),ISNA(Y229),ISNA(Z229),ISNA(AA229),ISNA(AB229),ISNA(AC229)),NA(),CONCATENATE(U229,V229,W229,X229,Y229,Z229,AA229,AB229))","v":"14/30"},{"$f":"IF(ISNA(AD229),FALSE,IF(C229=$B$1,Worksheet!$B$3,IF(C229=$C$1,Worksheet!$B$4,IF(C229=$D$1,Worksheet!$B$5,IF(C229=$E$1,Worksheet!$B$6,IF(C229=$B$2,Worksheet!$B$7,IF(C229=$C$2,Worksheet!$D$3,IF(C229=$D$2,Worksheet!$D$4,IF(C229=$E$2,Worksheet!$D$5,IF(C229=$C$3,Worksheet!$D$6,IF(C229=$B$3,Worksheet!$D$7,IF(C229=$D$3,Worksheet!$B$10,IF(C229=$E$3,Worksheet!$D$10,FALSE)))))))))))))","v":true},{"$f":"IF(AE229,D229,\"\")","v":"Easy"},{"$f":"IF(AE229,COUNTIF($AF$5:AF229,AF229),\"X\")","v":53},{"$f":"CONCATENATE(AE229,AF229)","v":"TRUEEasy"}]
[{"$f":"CONCATENATE(AE230,D230,AG230)","v":"TRUEEasy54"},{"$f":"RAND()","v":0.18901861718521162},"Num","Easy",2,"Write the number   \"",{"$f":"CHOOSE(RANDBETWEEN(1,9),\"one\",\"two\",\"three\",\"four\",\"five\",\"six\",\"seven\",\"eight\",\"nine\")","v":"five"},"thousand, ",{"$f":"CHOOSE(RANDBETWEEN(1,9),\"one\",\"two\",\"three\",\"four\",\"five\",\"six\",\"seven\",\"eight\",\"nine\")","v":"eight"},"hundred and",null,{"$f":"CHOOSE(RANDBETWEEN(1,9),\"one\",\"two\",\"three\",\"four\",\"five\",\"six\",\"seven\",\"eight\",\"nine\")","v":"nine"},"\"   in figures",null,null,null,null,null,null,{"$f":"CONCATENATE(F230,\"\",G230,\" \",H230,\" \",I230,\" \",J230,\" \",K230,\" \",L230,\"\",M230,\" \",N230,\" \",O230,\" \",P230,\" \",Q230,\" \",R230)","v":"Write the number   \"five thousand,  eight hundred and  nine\"   in figures     "},{"$f":"IF(G230=\"one\",1,IF(G230=\"two\",2,IF(G230=\"three\",3,IF(G230=\"four\",4,IF(G230=\"five\",5,IF(G230=\"six\",6,IF(G230=\"seven\",7,IF(G230=\"eight\",8,9))))))))","v":5},{"$f":"IF(I230=\"one\",1,IF(I230=\"two\",2,IF(I230=\"three\",3,IF(I230=\"four\",4,IF(I230=\"five\",5,IF(I230=\"six\",6,IF(I230=\"seven\",7,IF(I230=\"eight\",8,9))))))))","v":8},0,{"$f":"IF(S230<>1,IF(L230=\"one\",1,IF(L230=\"two\",2,IF(L230=\"three\",3,IF(L230=\"four\",4,IF(L230=\"five\",5,IF(L230=\"six\",6,IF(L230=\"seven\",7,IF(L230=\"eight\",8,9)))))))),\"\")","v":9},null,null,null,null,null,{"$f":"IF(OR(ISNA(U230),ISNA(V230),ISNA(W230),ISNA(X230),ISNA(Y230),ISNA(Z230),ISNA(AA230),ISNA(AB230),ISNA(AC230)),NA(),CONCATENATE(U230,V230,W230,X230,Y230,Z230,AA230,AB230))","v":"5809"},{"$f":"IF(ISNA(AD230),FALSE,IF(C230=$B$1,Worksheet!$B$3,IF(C230=$C$1,Worksheet!$B$4,IF(C230=$D$1,Worksheet!$B$5,IF(C230=$E$1,Worksheet!$B$6,IF(C230=$B$2,Worksheet!$B$7,IF(C230=$C$2,Worksheet!$D$3,IF(C230=$D$2,Worksheet!$D$4,IF(C230=$E$2,Worksheet!$D$5,IF(C230=$C$3,Worksheet!$D$6,IF(C230=$B$3,Worksheet!$D$7,IF(C230=$D$3,Worksheet!$B$10,IF(C230=$E$3,Worksheet!$D$10,FALSE)))))))))))))","v":true},{"$f":"IF(AE230,D230,\"\")","v":"Easy"},{"$f":"IF(AE230,COUNTIF($AF$5:AF230,AF230),\"X\")","v":54},{"$f":"CONCATENATE(AE230,AF230)","v":"TRUEEasy"}]
[{"$f":"CONCATENATE(AE231,D231,AG231)","v":"TRUEHard71"},{"$f":"RAND()","v":0.96511363685826013},"Mult","Hard",78,"What is double",{"$f":"RANDBETWEEN(1,3)*100+RANDBETWEEN(1,9)*10+RANDBETWEEN(1,9)","v":133},"?",null,null,null,null,null,null,null,null,null,null,null,{"$f":"CONCATENATE(F231,\" \",G231,\" \",H231,\" \",I231,\" \",J231,\" \",K231,\" \",L231,\" \",M231,\" \",N231,\" \",O231,\" \",P231,\" \",Q231,\" \",R231)","v":"What is double 133 ?          "},{"$f":"2*G231","v":266},null,null,null,null,null,null,null,null,{"$f":"IF(OR(ISNA(U231),ISNA(V231),ISNA(W231),ISNA(X231),ISNA(Y231),ISNA(Z231),ISNA(AA231),ISNA(AB231),ISNA(AC231)),NA(),CONCATENATE(U231,V231,W231,X231,Y231,Z231,AA231,AB231))","v":"266"},{"$f":"IF(ISNA(AD231),FALSE,IF(C231=$B$1,Worksheet!$B$3,IF(C231=$C$1,Worksheet!$B$4,IF(C231=$D$1,Worksheet!$B$5,IF(C231=$E$1,Worksheet!$B$6,IF(C231=$B$2,Worksheet!$B$7,IF(C231=$C$2,Worksheet!$D$3,IF(C231=$D$2,Worksheet!$D$4,IF(C231=$E$2,Worksheet!$D$5,IF(C231=$C$3,Worksheet!$D$6,IF(C231=$B$3,Worksheet!$D$7,IF(C231=$D$3,Worksheet!$B$10,IF(C231=$E$3,Worksheet!$D$10,FALSE)))))))))))))","v":true},{"$f":"IF(AE231,D231,\"\")","v":"Hard"},{"$f":"IF(AE231,COUNTIF($AF$5:AF231,AF231),\"X\")","v":71},{"$f":"CONCATENATE(AE231,AF231)","v":"TRUEHard"}]
[{"$f":"CONCATENATE(AE232,D232,AG232)","v":"TRUEHard72"},{"$f":"RAND()","v":0.83828771563810922},"+-","Hard",42,"Take away:    ",{"$f":"RANDBETWEEN(3,9)*100+RANDBETWEEN(1,4)*10","v":740},"–",{"$f":"RANDBETWEEN(6,9)*10+RANDBETWEEN(1,(INT(G232/100)-1))*100","v":290},null,null,null,null,null,null,null,null,null,null,{"$f":"CONCATENATE(F232,\" \",G232,\" \",H232,\" \",I232,\" \",J232,\" \",K232,\" \",L232,\" \",M232,\" \",N232,\" \",O232,\" \",P232,\" \",Q232,\" \",R232)","v":"Take away:     740 – 290         "},{"$f":"G232-I232","v":450},null,null,null,null,null,null,null,null,{"$f":"IF(OR(ISNA(U232),ISNA(V232),ISNA(W232),ISNA(X232),ISNA(Y232),ISNA(Z232),ISNA(AA232),ISNA(AB232),ISNA(AC232)),NA(),CONCATENATE(U232,V232,W232,X232,Y232,Z232,AA232,AB232))","v":"450"},{"$f":"IF(ISNA(AD232),FALSE,IF(C232=$B$1,Worksheet!$B$3,IF(C232=$C$1,Worksheet!$B$4,IF(C232=$D$1,Worksheet!$B$5,IF(C232=$E$1,Worksheet!$B$6,IF(C232=$B$2,Worksheet!$B$7,IF(C232=$C$2,Worksheet!$D$3,IF(C232=$D$2,Worksheet!$D$4,IF(C232=$E$2,Worksheet!$D$5,IF(C232=$C$3,Worksheet!$D$6,IF(C232=$B$3,Worksheet!$D$7,IF(C232=$D$3,Worksheet!$B$10,IF(C232=$E$3,Worksheet!$D$10,FALSE)))))))))))))","v":true},{"$f":"IF(AE232,D232,\"\")","v":"Hard"},{"$f":"IF(AE232,COUNTIF($AF$5:AF232,AF232),\"X\")","v":72},{"$f":"CONCATENATE(AE232,AF232)","v":"TRUEHard"}]
[{"$f":"CONCATENATE(AE233,D233,AG233)","v":"FALSEEasyX"},{"$f":"RAND()","v":0.84590480497035725},"Num","Easy",15,"Write these numbers in order from",{"$f":"CHOOSE(RANDBETWEEN(1,2),\"smallest to biggest:\",\"biggest to smallest:\")","v":"biggest to smallest:"},{"$f":"IF($O233=1,$P233*1000,IF($O233=2,$Q233*1000,IF($O233=3,$R233*1000,$S233*1000)))+IF(RAND()<0.5,$R233,$S233)*100+IF(RAND()<0.5,$P233,$Q233)*10+CHOOSE(RANDBETWEEN(1,4),$P233,$Q233,$R233,$S233)","v":88},{"$f":"IF($O233=1,$P233*1000,IF($O233=2,$Q233*1000,IF($O233=3,$R233*1000,$S233*1000)))+IF(RAND()<0.5,$R233,$S233)*100+IF(RAND()<0.5,$P233,$Q233)*10+CHOOSE(RANDBETWEEN(1,4),$P233,$Q233,$R233,$S233)","v":583},{"$f":"IF($O233=1,$P233*1000,IF($O233=2,$Q233*1000,IF($O233=3,$R233*1000,$S233*1000)))+IF(RAND()<0.5,$R233,$S233)*100+IF(RAND()<0.5,$P233,$Q233)*10+CHOOSE(RANDBETWEEN(1,4),$P233,$Q233,$R233,$S233)","v":85},{"$f":"IF($O233=1,$P233*1000,IF($O233=2,$Q233*1000,IF($O233=3,$R233*1000,$S233*1000)))+IF(RAND()<0.5,$R233,$S233)*100+IF(RAND()<0.5,$P233,$Q233)*10+CHOOSE(RANDBETWEEN(1,4),$P233,$Q233,$R233,$S233)","v":85},null,null,null,{"$f":"RANDBETWEEN(1,9)","v":3},{"$f":"RANDBETWEEN(0,9)","v":8},{"$f":"RANDBETWEEN(0,9)","v":3},{"$f":"RANDBETWEEN(0,9)","v":0},{"$f":"RANDBETWEEN(1,9)","v":5},{"$f":"CONCATENATE(F233,\" \",G233,\"   \",H233,\",  \",I233,\",  \",J233,\",  \",K233,\" \",L233,\" \",M233,\" \",N233)","v":"Write these numbers in order from biggest to smallest:   88,  583,  85,  85   "},{"$f":"IF($G233=\"smallest to biggest:\",LARGE($H233:$K233,4),LARGE($H233:$K233,1))","v":583},{"$f":"IF($G233=\"smallest to biggest:\",LARGE($H233:$K233,3),LARGE($H233:$K233,2))","v":88},{"$f":"IF($G233=\"smallest to biggest:\",LARGE($H233:$K233,2),LARGE($H233:$K233,3))","v":85},{"$f":"IF($G233=\"smallest to biggest:\",LARGE($H233:$K233,1),LARGE($H233:$K233,4))","v":85},null,{"$f":"IF(OR(H233=I233,H233=J233,H233=K233,I233=J233,I233=K233,J233=K233),NA(),\"\")","v":{"$error":"#N/A"}},null,null,null,{"$f":"IF(OR(ISNA(U233),ISNA(V233),ISNA(W233),ISNA(X233),ISNA(Y233),ISNA(Z233),ISNA(AA233),ISNA(AB233),ISNA(AC233)),NA(),CONCATENATE(U233,\",  \",V233,\",  \",W233,\",  \",X233,Y233,Z233,AA233,AB233))","v":{"$error":"#N/A"}},{"$f":"IF(ISNA(AD233),FALSE,IF(C233=$B$1,Worksheet!$B$3,IF(C233=$C$1,Worksheet!$B$4,IF(C233=$D$1,Worksheet!$B$5,IF(C233=$E$1,Worksheet!$B$6,IF(C233=$B$2,Worksheet!$B$7,IF(C233=$C$2,Worksheet!$D$3,IF(C233=$D$2,Worksheet!$D$4,IF(C233=$E$2,Worksheet!$D$5,IF(C233=$C$3,Worksheet!$D$6,IF(C233=$B$3,Worksheet!$D$7,IF(C233=$D$3,Worksheet!$B$10,IF(C233=$E$3,Worksheet!$D$10,FALSE)))))))))))))","v":false},{"$f":"IF(AE233,D233,\"\")","v":""},{"$f":"IF(AE233,COUNTIF($AF$5:AF233,AF233),\"X\")","v":"X"},{"$f":"CONCATENATE(AE233,AF233)","v":"FALSE"}]
[{"$f":"CONCATENATE(AE234,D234,AG234)","v":"TRUEHard73"},{"$f":"RAND()","v":0.41391624238990798},"%","Hard",326,"What is ",10,"% of £",{"$f":"10*RANDBETWEEN(11,99)*10^RANDBETWEEN(0,1)","v":9700},"?",null,null,null,null,null,null,null,null,null,{"$f":"CONCATENATE(F234,\" \",G234,\"\",H234,\"\",I234,\" \",J234,\" \",K234,\" \",L234,\" \",M234,\" \",N234,\" \",O234,\" \",P234,\" \",Q234,\" \",R234)","v":"What is  10% of £9700 ?        "},"£",{"$f":"I234/10","v":970},null,null,null,null,null,null,null,{"$f":"IF(OR(ISNA(U234),ISNA(V234),ISNA(W234),ISNA(X234),ISNA(Y234),ISNA(Z234),ISNA(AA234),ISNA(AB234),ISNA(AC234)),NA(),CONCATENATE(U234,V234,W234,X234,Y234,Z234,AA234,AB234))","v":"£970"},{"$f":"IF(ISNA(AD234),FALSE,IF(C234=$B$1,Worksheet!$B$3,IF(C234=$C$1,Worksheet!$B$4,IF(C234=$D$1,Worksheet!$B$5,IF(C234=$E$1,Worksheet!$B$6,IF(C234=$B$2,Worksheet!$B$7,IF(C234=$C$2,Worksheet!$D$3,IF(C234=$D$2,Worksheet!$D$4,IF(C234=$E$2,Worksheet!$D$5,IF(C234=$C$3,Worksheet!$D$6,IF(C234=$B$3,Worksheet!$D$7,IF(C234=$D$3,Worksheet!$B$10,IF(C234=$E$3,Worksheet!$D$10,FALSE)))))))))))))","v":true},{"$f":"IF(AE234,D234,\"\")","v":"Hard"},{"$f":"IF(AE234,COUNTIF($AF$5:AF234,AF234),\"X\")","v":73},{"$f":"CONCATENATE(AE234,AF234)","v":"TRUEHard"}]
[{"$f":"CONCATENATE(AE235,D235,AG235)","v":"TRUEEasy55"},{"$f":"RAND()","v":0.56381812516481811},"Divide","Easy",123,"Divide by writing down a sum:  ",{"$f":"S235*100+R235*10+(Q235-R235-S235)","v":525},"÷",3,null,null,null,null,null,null,null,{"$f":"RANDBETWEEN(INT((R235+S235)/3)+1,MIN(9,INT((R235+S235)/3)+3))*3","v":12},{"$f":"RANDBETWEEN(1,9)","v":2},{"$f":"RANDBETWEEN(4,9)","v":5},{"$f":"CONCATENATE(F235,\" \",G235,\" \",H235,\" \",I235,\" \",J235,\" \",K235,\" \",L235,\" \",M235,\" \",N235,\" \",O235,\" \",P235)","v":"Divide by writing down a sum:   525 ÷ 3       "},{"$f":"G235/I235","v":175},null,{"$f":"IF(INT(U235)<>U235,NA(),\"\")","v":""},null,null,null,null,null,null,{"$f":"IF(OR(ISNA(U235),ISNA(V235),ISNA(W235),ISNA(X235),ISNA(Y235),ISNA(Z235),ISNA(AA235),ISNA(AB235),ISNA(AC235)),NA(),CONCATENATE(U235,V235,W235,X235,Y235,Z235,AA235,AB235))","v":"175"},{"$f":"IF(ISNA(AD235),FALSE,IF(C235=$B$1,Worksheet!$B$3,IF(C235=$C$1,Worksheet!$B$4,IF(C235=$D$1,Worksheet!$B$5,IF(C235=$E$1,Worksheet!$B$6,IF(C235=$B$2,Worksheet!$B$7,IF(C235=$C$2,Worksheet!$D$3,IF(C235=$D$2,Worksheet!$D$4,IF(C235=$E$2,Worksheet!$D$5,IF(C235=$C$3,Worksheet!$D$6,IF(C235=$B$3,Worksheet!$D$7,IF(C235=$D$3,Worksheet!$B$10,IF(C235=$E$3,Worksheet!$D$10,FALSE)))))))))))))","v":true},{"$f":"IF(AE235,D235,\"\")","v":"Easy"},{"$f":"IF(AE235,COUNTIF($AF$5:AF235,AF235),\"X\")","v":55},{"$f":"CONCATENATE(AE235,AF235)","v":"TRUEEasy"}]
[{"$f":"CONCATENATE(AE236,D236,AG236)","v":"TRUEMedium90"},{"$f":"RAND()","v":0.21592289392056196},"Choose","Medium",136,"One",{"$f":"CHOOSE(RANDBETWEEN(1,3),\"chair\",\"table\",\"desk\")","v":"chair"},"costs",{"$f":"RANDBETWEEN(6,9)*10","v":80},"How much do",{"$f":"RANDBETWEEN(4,9)","v":7},{"$f":"CONCATENATE(G236,\"s\")","v":"chairs"},"cost?",null,null,null,null,null,null,{"$f":"CONCATENATE(F236,\" \",G236,\" \",H236,\" £\",I236,\".  \",J236,\" \",K236,\" \",L236,\" \",M236,\" \",N236,\" \",O236,\" \",P236,\" \",Q236,\" \",R236)","v":"One chair costs £80.  How much do 7 chairs cost?     "},"£",{"$f":"I236*K236","v":560},null,null,null,null,null,null,null,{"$f":"IF(OR(ISNA(U236),ISNA(V236),ISNA(W236),ISNA(X236),ISNA(Y236),ISNA(Z236),ISNA(AA236),ISNA(AB236),ISNA(AC236)),NA(),CONCATENATE(U236,V236,W236,X236,Y236,Z236,AA236,AB236))","v":"£560"},{"$f":"IF(ISNA(AD236),FALSE,IF(C236=$B$1,Worksheet!$B$3,IF(C236=$C$1,Worksheet!$B$4,IF(C236=$D$1,Worksheet!$B$5,IF(C236=$E$1,Worksheet!$B$6,IF(C236=$B$2,Worksheet!$B$7,IF(C236=$C$2,Worksheet!$D$3,IF(C236=$D$2,Worksheet!$D$4,IF(C236=$E$2,Worksheet!$D$5,IF(C236=$C$3,Worksheet!$D$6,IF(C236=$B$3,Worksheet!$D$7,IF(C236=$D$3,Worksheet!$B$10,IF(C236=$E$3,Worksheet!$D$10,FALSE)))))))))))))","v":true},{"$f":"IF(AE236,D236,\"\")","v":"Medium"},{"$f":"IF(AE236,COUNTIF($AF$5:AF236,AF236),\"X\")","v":90},{"$f":"CONCATENATE(AE236,AF236)","v":"TRUEMedium"}]
[{"$f":"CONCATENATE(AE237,D237,AG237)","v":"TRUEMedium91"},{"$f":"RAND()","v":0.58217918770777644},"Dec","Medium",278,"Multiply:   10 ×",{"$f":"RANDBETWEEN(1,9)+RANDBETWEEN(1,9)/10","v":6.9},null,null,null,null,null,null,null,null,null,null,null,null,{"$f":"CONCATENATE(F237,\" \",G237,\" \",H237,\" \",I237,\" \",J237,\" \",K237,\" \",L237,\" \",M237,\" \",N237,\" \",O237,\" \",P237,\" \",Q237,\" \",R237)","v":"Multiply:   10 × 6.9           "},{"$f":"G237*10","v":69},null,null,null,null,null,null,null,null,{"$f":"IF(OR(ISNA(U237),ISNA(V237),ISNA(W237),ISNA(X237),ISNA(Y237),ISNA(Z237),ISNA(AA237),ISNA(AB237),ISNA(AC237)),NA(),CONCATENATE(U237,V237,W237,X237,Y237,Z237,AA237,AB237))","v":"69"},{"$f":"IF(ISNA(AD237),FALSE,IF(C237=$B$1,Worksheet!$B$3,IF(C237=$C$1,Worksheet!$B$4,IF(C237=$D$1,Worksheet!$B$5,IF(C237=$E$1,Worksheet!$B$6,IF(C237=$B$2,Worksheet!$B$7,IF(C237=$C$2,Worksheet!$D$3,IF(C237=$D$2,Worksheet!$D$4,IF(C237=$E$2,Worksheet!$D$5,IF(C237=$C$3,Worksheet!$D$6,IF(C237=$B$3,Worksheet!$D$7,IF(C237=$D$3,Worksheet!$B$10,IF(C237=$E$3,Worksheet!$D$10,FALSE)))))))))))))","v":true},{"$f":"IF(AE237,D237,\"\")","v":"Medium"},{"$f":"IF(AE237,COUNTIF($AF$5:AF237,AF237),\"X\")","v":91},{"$f":"CONCATENATE(AE237,AF237)","v":"TRUEMedium"}]
[{"$f":"CONCATENATE(AE238,D238,AG238)","v":"TRUEMedium92"},{"$f":"RAND()","v":0.46397282849478061},"Mult","Medium",60,"What is",{"$f":"RANDBETWEEN(6,9)","v":7},"×",{"$f":"CHOOSE(RANDBETWEEN(1,2),11,12)","v":12},"?",null,null,null,null,null,null,null,null,null,{"$f":"CONCATENATE(F238,\" \",G238,\" \",H238,\" \",I238,\" \",J238,\" \",K238,\" \",L238,\" \",M238,\" \",N238,\" \",O238,\" \",P238,\" \",Q238,\" \",R238)","v":"What is 7 × 12 ?        "},{"$f":"G238*I238","v":84},null,null,null,null,null,null,null,null,{"$f":"IF(OR(ISNA(U238),ISNA(V238),ISNA(W238),ISNA(X238),ISNA(Y238),ISNA(Z238),ISNA(AA238),ISNA(AB238),ISNA(AC238)),NA(),CONCATENATE(U238,V238,W238,X238,Y238,Z238,AA238,AB238))","v":"84"},{"$f":"IF(ISNA(AD238),FALSE,IF(C238=$B$1,Worksheet!$B$3,IF(C238=$C$1,Worksheet!$B$4,IF(C238=$D$1,Worksheet!$B$5,IF(C238=$E$1,Worksheet!$B$6,IF(C238=$B$2,Worksheet!$B$7,IF(C238=$C$2,Worksheet!$D$3,IF(C238=$D$2,Worksheet!$D$4,IF(C238=$E$2,Worksheet!$D$5,IF(C238=$C$3,Worksheet!$D$6,IF(C238=$B$3,Worksheet!$D$7,IF(C238=$D$3,Worksheet!$B$10,IF(C238=$E$3,Worksheet!$D$10,FALSE)))))))))))))","v":true},{"$f":"IF(AE238,D238,\"\")","v":"Medium"},{"$f":"IF(AE238,COUNTIF($AF$5:AF238,AF238),\"X\")","v":92},{"$f":"CONCATENATE(AE238,AF238)","v":"TRUEMedium"}]
[{"$f":"CONCATENATE(AE239,D239,AG239)","v":"TRUEHard74"},{"$f":"RAND()","v":0.95550008233090211},"Dec","Hard",282,"Add without writing down a sum:   ",{"$f":"RANDBETWEEN(1,9)+RANDBETWEEN(1,5)/10+RANDBETWEEN(1,9)/100","v":4.2700000000000005},"+",{"$f":"RANDBETWEEN(2,5)+RANDBETWEEN(1,5)/10","v":5.0999999999999996},null,null,null,null,null,null,null,null,null,null,{"$f":"CONCATENATE(F239,\" \",G239,\" \",H239,\" \",I239,\" \",J239,\" \",K239,\" \",L239,\" \",M239,\" \",N239,\" \",O239,\" \",P239,\" \",Q239,\" \",R239)","v":"Add without writing down a sum:    4.27 + 5.1         "},{"$f":"G239+I239","v":9.370000000000001},null,null,null,null,null,null,null,null,{"$f":"IF(OR(ISNA(U239),ISNA(V239),ISNA(W239),ISNA(X239),ISNA(Y239),ISNA(Z239),ISNA(AA239),ISNA(AB239),ISNA(AC239)),NA(),CONCATENATE(U239,V239,W239,X239,Y239,Z239,AA239,AB239))","v":"9.37"},{"$f":"IF(ISNA(AD239),FALSE,IF(C239=$B$1,Worksheet!$B$3,IF(C239=$C$1,Worksheet!$B$4,IF(C239=$D$1,Worksheet!$B$5,IF(C239=$E$1,Worksheet!$B$6,IF(C239=$B$2,Worksheet!$B$7,IF(C239=$C$2,Worksheet!$D$3,IF(C239=$D$2,Worksheet!$D$4,IF(C239=$E$2,Worksheet!$D$5,IF(C239=$C$3,Worksheet!$D$6,IF(C239=$B$3,Worksheet!$D$7,IF(C239=$D$3,Worksheet!$B$10,IF(C239=$E$3,Worksheet!$D$10,FALSE)))))))))))))","v":true},{"$f":"IF(AE239,D239,\"\")","v":"Hard"},{"$f":"IF(AE239,COUNTIF($AF$5:AF239,AF239),\"X\")","v":74},{"$f":"CONCATENATE(AE239,AF239)","v":"TRUEHard"}]
[{"$f":"CONCATENATE(AE240,D240,AG240)","v":"FALSEMediumX"},{"$f":"RAND()","v":0.81401581146897983},"Mult","Medium",71,"What is:   ",{"$f":"RANDBETWEEN(2,5)","v":5},"×",{"$f":"RANDBETWEEN(2,5)","v":3},"–",{"$f":"RANDBETWEEN(2,5)","v":5},"×",{"$f":"RANDBETWEEN(2,5)","v":5},"     ?",null,null,null,null,null,{"$f":"CONCATENATE(F240,\" \",G240,\" \",H240,\" \",I240,\" \",J240,\" \",K240,\" \",L240,\" \",M240,\" \",N240,\" \",O240,\" \",P240,\" \",Q240,\" \",R240)","v":"What is:    5 × 3 – 5 × 5      ?    "},{"$f":"G240*I240-K240*M240","v":-10},{"$f":"IF(U240<0,NA(),\"\")","v":{"$error":"#N/A"}},null,null,null,null,null,null,null,{"$f":"IF(OR(ISNA(U240),ISNA(V240),ISNA(W240),ISNA(X240),ISNA(Y240),ISNA(Z240),ISNA(AA240),ISNA(AB240),ISNA(AC240)),NA(),CONCATENATE(U240,V240,W240,X240,Y240,Z240,AA240,AB240))","v":{"$error":"#N/A"}},{"$f":"IF(ISNA(AD240),FALSE,IF(C240=$B$1,Worksheet!$B$3,IF(C240=$C$1,Worksheet!$B$4,IF(C240=$D$1,Worksheet!$B$5,IF(C240=$E$1,Worksheet!$B$6,IF(C240=$B$2,Worksheet!$B$7,IF(C240=$C$2,Worksheet!$D$3,IF(C240=$D$2,Worksheet!$D$4,IF(C240=$E$2,Worksheet!$D$5,IF(C240=$C$3,Worksheet!$D$6,IF(C240=$B$3,Worksheet!$D$7,IF(C240=$D$3,Worksheet!$B$10,IF(C240=$E$3,Worksheet!$D$10,FALSE)))))))))))))","v":false},{"$f":"IF(AE240,D240,\"\")","v":""},{"$f":"IF(AE240,COUNTIF($AF$5:AF240,AF240),\"X\")","v":"X"},{"$f":"CONCATENATE(AE240,AF240)","v":"FALSE"}]
[{"$f":"CONCATENATE(AE241,D241,AG241)","v":"TRUEMedium93"},{"$f":"RAND()","v":0.85480614612782768},"Neg","Medium",347,"Add:   ",{"$f":"RANDBETWEEN(1,8)","v":7},"+ (–",{"$f":"RANDBETWEEN(G241,10)","v":7},")",null,null,null,null,null,null,null,null,null,{"$f":"CONCATENATE(F241,\" \",G241,\" \",H241,\"\",I241,\"\",J241,\"\",K241,\" \",L241,\" \",M241,\" \",N241,\" \",O241,\" \",P241,\" \",Q241,\" \",R241)","v":"Add:    7 + (–7)       "},{"$f":"G241-I241","v":0},null,null,null,null,null,null,null,{"$f":"IF(ISERROR(T241),NA(),\"\")","v":""},{"$f":"IF(OR(ISNA(U241),ISNA(V241),ISNA(W241),ISNA(X241),ISNA(Y241),ISNA(Z241),ISNA(AA241),ISNA(AB241),ISNA(AC241)),NA(),CONCATENATE(U241,V241,W241,X241,Y241,Z241,AA241,AB241))","v":"0"},{"$f":"IF(ISNA(AD241),FALSE,IF(C241=$B$1,Worksheet!$B$3,IF(C241=$C$1,Worksheet!$B$4,IF(C241=$D$1,Worksheet!$B$5,IF(C241=$E$1,Worksheet!$B$6,IF(C241=$B$2,Worksheet!$B$7,IF(C241=$C$2,Worksheet!$D$3,IF(C241=$D$2,Worksheet!$D$4,IF(C241=$E$2,Worksheet!$D$5,IF(C241=$C$3,Worksheet!$D$6,IF(C241=$B$3,Worksheet!$D$7,IF(C241=$D$3,Worksheet!$B$10,IF(C241=$E$3,Worksheet!$D$10,FALSE)))))))))))))","v":true},{"$f":"IF(AE241,D241,\"\")","v":"Medium"},{"$f":"IF(AE241,COUNTIF($AF$5:AF241,AF241),\"X\")","v":93},{"$f":"CONCATENATE(AE241,AF241)","v":"TRUEMedium"}]
[{"$f":"CONCATENATE(AE242,D242,AG242)","v":"FALSEHardX"},{"$f":"RAND()","v":0.45214776940491419},"Alg","Hard",372,"Algebra.   If",{"$f":"CHOOSE(RANDBETWEEN(1,10),\"a\",\"x\",\"y\",\"b\",\"m\",\"p\",\"x\",\"y\",\"k\",\"f\")","v":"p"},"=",{"$f":"RANDBETWEEN(2,10)","v":9},", what is",null,{"$f":"RANDBETWEEN(2,10)","v":8},"+",{"$f":"RANDBETWEEN(2,10)","v":6},{"$f":"G242","v":"p"},"?",null,null,null,{"$f":"CONCATENATE(F242,\" \",G242,\" \",H242,\" \",I242,\"\",J242,\"\",K242,\"    \",L242,\" \",M242,\" \",N242,\"\",O242,\" \",P242,\" \",Q242,\" \",R242)","v":"Algebra.   If p = 9, what is    8 + 6p ?  "},{"$f":"L242+N242*I242","v":62},null,null,null,null,null,null,null,null,{"$f":"IF(OR(ISNA(U242),ISNA(V242),ISNA(W242),ISNA(X242),ISNA(Y242),ISNA(Z242),ISNA(AA242),ISNA(AB242),ISNA(AC242)),NA(),CONCATENATE(U242,V242,W242,X242,Y242,Z242,AA242,AB242))","v":"62"},{"$f":"IF(ISNA(AD242),FALSE,IF(C242=$B$1,Worksheet!$B$3,IF(C242=$C$1,Worksheet!$B$4,IF(C242=$D$1,Worksheet!$B$5,IF(C242=$E$1,Worksheet!$B$6,IF(C242=$B$2,Worksheet!$B$7,IF(C242=$C$2,Worksheet!$D$3,IF(C242=$D$2,Worksheet!$D$4,IF(C242=$E$2,Worksheet!$D$5,IF(C242=$C$3,Worksheet!$D$6,IF(C242=$B$3,Worksheet!$D$7,IF(C242=$D$3,Worksheet!$B$10,IF(C242=$E$3,Worksheet!$D$10,FALSE)))))))))))))","v":false},{"$f":"IF(AE242,D242,\"\")","v":""},{"$f":"IF(AE242,COUNTIF($AF$5:AF242,AF242),\"X\")","v":"X"},{"$f":"CONCATENATE(AE242,AF242)","v":"FALSE"}]
[{"$f":"CONCATENATE(AE243,D243,AG243)","v":"TRUEHard75"},{"$f":"RAND()","v":0.6722356264404945},"Dec","Hard",231,"In the number",{"$f":"RANDBETWEEN(1,9)","v":1},{"$f":"SMALL(IF(G243={1,2,3,4,5,6,7,8,9},\"\",{1,2,3,4,5,6,7,8,9}),RANDBETWEEN(1,8))","v":8},{"$f":"SMALL(IF(G243={1,2,3,4,5,6,7,8,9},\"\",IF(H243={1,2,3,4,5,6,7,8,9},\"\",{1,2,3,4,5,6,7,8,9})),RANDBETWEEN(1,7))","v":2},{"$f":"SMALL(IF(G243={1,2,3,4,5,6,7,8,9},\"\",IF(H243={1,2,3,4,5,6,7,8,9},\"\",IF(I243={1,2,3,4,5,6,7,8,9},\"\",{1,2,3,4,5,6,7,8,9}))),RANDBETWEEN(1,6))","v":9},{"$f":"SMALL(IF(G243={1,2,3,4,5,6,7,8,9},\"\",IF(H243={1,2,3,4,5,6,7,8,9},\"\",IF(I243={1,2,3,4,5,6,7,8,9},\"\",IF(J243={1,2,3,4,5,6,7,8,9},\"\",{1,2,3,4,5,6,7,8,9})))),RANDBETWEEN(1,5))","v":3},null,", which digit represents the TENTHS?",null,null,null,null,null,{"$f":"RANDBETWEEN(1,3)","v":1},{"$f":"CONCATENATE(F243,\" \",G243,\"\",H243,\"\",I243,\"\",J243,\"•\",K243,\"\",L243,\" \",M243,\" \",N243,\" \",O243,\" \",P243,\" \",Q243,\" \",R243)","v":"In the number 1829•3 , which digit represents the TENTHS?     "},{"$f":"K243","v":3},null,null,null,null,null,null,null,null,{"$f":"IF(OR(ISNA(U243),ISNA(V243),ISNA(W243),ISNA(X243),ISNA(Y243),ISNA(Z243),ISNA(AA243),ISNA(AB243),ISNA(AC243)),NA(),CONCATENATE(U243,V243,W243,X243,Y243,Z243,AA243,AB243))","v":"3"},{"$f":"IF(ISNA(AD243),FALSE,IF(C243=$B$1,Worksheet!$B$3,IF(C243=$C$1,Worksheet!$B$4,IF(C243=$D$1,Worksheet!$B$5,IF(C243=$E$1,Worksheet!$B$6,IF(C243=$B$2,Worksheet!$B$7,IF(C243=$C$2,Worksheet!$D$3,IF(C243=$D$2,Worksheet!$D$4,IF(C243=$E$2,Worksheet!$D$5,IF(C243=$C$3,Worksheet!$D$6,IF(C243=$B$3,Worksheet!$D$7,IF(C243=$D$3,Worksheet!$B$10,IF(C243=$E$3,Worksheet!$D$10,FALSE)))))))))))))","v":true},{"$f":"IF(AE243,D243,\"\")","v":"Hard"},{"$f":"IF(AE243,COUNTIF($AF$5:AF243,AF243),\"X\")","v":75},{"$f":"CONCATENATE(AE243,AF243)","v":"TRUEHard"}]
[{"$f":"CONCATENATE(AE244,D244,AG244)","v":"TRUEHard76"},{"$f":"RAND()","v":0.5068045229342093},"Frac","Hard",186,"Complete the sequence with the next two numbers:",0,"¼","½","___","___",null,null,null,null,null,null,null,null,{"$f":"CONCATENATE(F244,\" \",G244,\",   \",H244,\",   \",I244,\",   \",J244,\",   \",K244,\" \",L244,\" \",M244,\" \",N244,\" \",O244,\" \",P244,\" \",Q244,\" \",R244)","v":"Complete the sequence with the next two numbers: 0,   ¼,   ½,   ___,   ___       "},"3/4",",   1",null,null,null,null,null,null,null,{"$f":"IF(OR(ISNA(U244),ISNA(V244),ISNA(W244),ISNA(X244),ISNA(Y244),ISNA(Z244),ISNA(AA244),ISNA(AB244),ISNA(AC244)),NA(),CONCATENATE(U244,V244,W244,X244,Y244,Z244,AA244,AB244))","v":"3/4,   1"},{"$f":"IF(ISNA(AD244),FALSE,IF(C244=$B$1,Worksheet!$B$3,IF(C244=$C$1,Worksheet!$B$4,IF(C244=$D$1,Worksheet!$B$5,IF(C244=$E$1,Worksheet!$B$6,IF(C244=$B$2,Worksheet!$B$7,IF(C244=$C$2,Worksheet!$D$3,IF(C244=$D$2,Worksheet!$D$4,IF(C244=$E$2,Worksheet!$D$5,IF(C244=$C$3,Worksheet!$D$6,IF(C244=$B$3,Worksheet!$D$7,IF(C244=$D$3,Worksheet!$B$10,IF(C244=$E$3,Worksheet!$D$10,FALSE)))))))))))))","v":true},{"$f":"IF(AE244,D244,\"\")","v":"Hard"},{"$f":"IF(AE244,COUNTIF($AF$5:AF244,AF244),\"X\")","v":76},{"$f":"CONCATENATE(AE244,AF244)","v":"TRUEHard"}]
[{"$f":"CONCATENATE(AE245,D245,AG245)","v":"FALSEMediumX"},{"$f":"RAND()","v":0.43952579445941797},"Mult","Medium",82,"Circle the number that is a multiple of 4:   ",{"$f":"IF($S245=1,RANDBETWEEN(2,10)*4,RANDBETWEEN(1,9)*3+RANDBETWEEN(1,3))","v":11},{"$f":"IF($S245=2,RANDBETWEEN(2,10)*4,RANDBETWEEN(1,9)*3+RANDBETWEEN(1,3))","v":24},{"$f":"IF($S245=3,RANDBETWEEN(2,10)*4,RANDBETWEEN(1,9)*3+RANDBETWEEN(1,3))","v":24},{"$f":"IF($S245=4,RANDBETWEEN(2,10)*4,RANDBETWEEN(1,9)*3+RANDBETWEEN(1,3))","v":18},null,null,null,null,null,null,null,null,{"$f":"RANDBETWEEN(1,4)","v":3},{"$f":"CONCATENATE(F245,\"      \",G245,\"     \",H245,\"     \",I245,\"     \",J245,\" \",K245,\" \",L245,\" \",M245,\" \",N245,\" \",O245,\" \",P245,\" \",Q245,\" \",R245)","v":"Circle the number that is a multiple of 4:         11     24     24     18        "},{"$f":"IF(S245=1,G245,IF(S245=2,H245,IF(S245=3,I245,J245)))","v":24},{"$f":"IF(OR(G245=H245,G245=I245,G245=J245,H245=I245,H245=J245,I245=J245),NA(),\"\")","v":{"$error":"#N/A"}},null,null,null,null,null,null,null,{"$f":"IF(OR(ISNA(U245),ISNA(V245),ISNA(W245),ISNA(X245),ISNA(Y245),ISNA(Z245),ISNA(AA245),ISNA(AB245),ISNA(AC245)),NA(),CONCATENATE(U245,V245,W245,X245,Y245,Z245,AA245,AB245))","v":{"$error":"#N/A"}},{"$f":"IF(ISNA(AD245),FALSE,IF(C245=$B$1,Worksheet!$B$3,IF(C245=$C$1,Worksheet!$B$4,IF(C245=$D$1,Worksheet!$B$5,IF(C245=$E$1,Worksheet!$B$6,IF(C245=$B$2,Worksheet!$B$7,IF(C245=$C$2,Worksheet!$D$3,IF(C245=$D$2,Worksheet!$D$4,IF(C245=$E$2,Worksheet!$D$5,IF(C245=$C$3,Worksheet!$D$6,IF(C245=$B$3,Worksheet!$D$7,IF(C245=$D$3,Worksheet!$B$10,IF(C245=$E$3,Worksheet!$D$10,FALSE)))))))))))))","v":false},{"$f":"IF(AE245,D245,\"\")","v":""},{"$f":"IF(AE245,COUNTIF($AF$5:AF245,AF245),\"X\")","v":"X"},{"$f":"CONCATENATE(AE245,AF245)","v":"FALSE"}]
[{"$f":"CONCATENATE(AE246,D246,AG246)","v":"TRUEMedium94"},{"$f":"RAND()","v":7.8238595074402451E-2},"Dec","Medium",268,"Write these numbers in order from",{"$f":"CHOOSE(RANDBETWEEN(1,2),\"smallest to biggest:\",\"biggest to smallest:\")","v":"smallest to biggest:"},{"$f":"S246+R246/10","v":9.4},{"$f":"S246+0.1+R246/100","v":9.1399999999999988},{"$f":"S246+R246/100","v":9.0399999999999991},{"$f":"S246+0.5","v":9.5},null,null,null,null,null,null,{"$f":"SMALL(IF(S246={1,2,3,4,5,6,7,8,9},\"\",{1,2,3,4,5,6,7,8,9}),RANDBETWEEN(1,8))","v":4},{"$f":"RANDBETWEEN(1,9)","v":9},{"$f":"CONCATENATE(F246,\" \",G246,\"   \",H246,\",  \",I246,\",  \",J246,\",  \",K246,\" \",L246,\" \",M246,\" \",N246)","v":"Write these numbers in order from smallest to biggest:   9.4,  9.14,  9.04,  9.5   "},{"$f":"IF($G246=\"smallest to biggest:\",LARGE($H246:$K246,4),LARGE($H246:$K246,1))","v":9.0399999999999991},{"$f":"IF($G246=\"smallest to biggest:\",LARGE($H246:$K246,3),LARGE($H246:$K246,2))","v":9.1399999999999988},{"$f":"IF($G246=\"smallest to biggest:\",LARGE($H246:$K246,2),LARGE($H246:$K246,3))","v":9.4},{"$f":"IF($G246=\"smallest to biggest:\",LARGE($H246:$K246,1),LARGE($H246:$K246,4))","v":9.5},null,{"$f":"IF(OR(H246=I246,H246=J246,H246=K246,I246=J246,I246=K246,J246=K246),NA(),\"\")","v":""},null,null,null,{"$f":"IF(OR(ISNA(U246),ISNA(V246),ISNA(W246),ISNA(X246),ISNA(Y246),ISNA(Z246),ISNA(AA246),ISNA(AB246),ISNA(AC246)),NA(),CONCATENATE(U246,\",  \",V246,\",  \",W246,\",  \",X246,Y246,Z246,AA246,AB246))","v":"9.04,  9.14,  9.4,  9.5"},{"$f":"IF(ISNA(AD246),FALSE,IF(C246=$B$1,Worksheet!$B$3,IF(C246=$C$1,Worksheet!$B$4,IF(C246=$D$1,Worksheet!$B$5,IF(C246=$E$1,Worksheet!$B$6,IF(C246=$B$2,Worksheet!$B$7,IF(C246=$C$2,Worksheet!$D$3,IF(C246=$D$2,Worksheet!$D$4,IF(C246=$E$2,Worksheet!$D$5,IF(C246=$C$3,Worksheet!$D$6,IF(C246=$B$3,Worksheet!$D$7,IF(C246=$D$3,Worksheet!$B$10,IF(C246=$E$3,Worksheet!$D$10,FALSE)))))))))))))","v":true},{"$f":"IF(AE246,D246,\"\")","v":"Medium"},{"$f":"IF(AE246,COUNTIF($AF$5:AF246,AF246),\"X\")","v":94},{"$f":"CONCATENATE(AE246,AF246)","v":"TRUEMedium"}]
[{"$f":"CONCATENATE(AE247,D247,AG247)","v":"TRUEMedium95"},{"$f":"RAND()","v":0.51445369490963222},"Mult","Medium",61,"What is",{"$f":"CHOOSE(RANDBETWEEN(1,2),11,12)","v":11},"×",{"$f":"RANDBETWEEN(6,9)","v":6},"?",null,null,null,null,null,null,null,null,null,{"$f":"CONCATENATE(F247,\" \",G247,\" \",H247,\" \",I247,\" \",J247,\" \",K247,\" \",L247,\" \",M247,\" \",N247,\" \",O247,\" \",P247,\" \",Q247,\" \",R247)","v":"What is 11 × 6 ?        "},{"$f":"G247*I247","v":66},null,null,null,null,null,null,null,null,{"$f":"IF(OR(ISNA(U247),ISNA(V247),ISNA(W247),ISNA(X247),ISNA(Y247),ISNA(Z247),ISNA(AA247),ISNA(AB247),ISNA(AC247)),NA(),CONCATENATE(U247,V247,W247,X247,Y247,Z247,AA247,AB247))","v":"66"},{"$f":"IF(ISNA(AD247),FALSE,IF(C247=$B$1,Worksheet!$B$3,IF(C247=$C$1,Worksheet!$B$4,IF(C247=$D$1,Worksheet!$B$5,IF(C247=$E$1,Worksheet!$B$6,IF(C247=$B$2,Worksheet!$B$7,IF(C247=$C$2,Worksheet!$D$3,IF(C247=$D$2,Worksheet!$D$4,IF(C247=$E$2,Worksheet!$D$5,IF(C247=$C$3,Worksheet!$D$6,IF(C247=$B$3,Worksheet!$D$7,IF(C247=$D$3,Worksheet!$B$10,IF(C247=$E$3,Worksheet!$D$10,FALSE)))))))))))))","v":true},{"$f":"IF(AE247,D247,\"\")","v":"Medium"},{"$f":"IF(AE247,COUNTIF($AF$5:AF247,AF247),\"X\")","v":95},{"$f":"CONCATENATE(AE247,AF247)","v":"TRUEMedium"}]
[{"$f":"CONCATENATE(AE248,D248,AG248)","v":"TRUEHard77"},{"$f":"RAND()","v":0.39633387050470004},"+-","Hard",31,"Fill in the missing number:   ","____ +",{"$f":"RANDBETWEEN(1,8)*100+RANDBETWEEN(1,8)*10+RANDBETWEEN(1,9)","v":384},"=",1000,null,null,null,null,null,null,null,null,null,{"$f":"CONCATENATE(F248,\" \",G248,\" \",H248,\" \",I248,\" \",J248,\" \",K248,\" \",L248,\" \",M248,\" \",N248,\" \",O248,\" \",P248,\" \",Q248,\" \",R248)","v":"Fill in the missing number:    ____ + 384 = 1000        "},{"$f":"J248-H248","v":616},null,null,null,null,null,null,null,null,{"$f":"IF(OR(ISNA(U248),ISNA(V248),ISNA(W248),ISNA(X248),ISNA(Y248),ISNA(Z248),ISNA(AA248),ISNA(AB248),ISNA(AC248)),NA(),CONCATENATE(U248,V248,W248,X248,Y248,Z248,AA248,AB248))","v":"616"},{"$f":"IF(ISNA(AD248),FALSE,IF(C248=$B$1,Worksheet!$B$3,IF(C248=$C$1,Worksheet!$B$4,IF(C248=$D$1,Worksheet!$B$5,IF(C248=$E$1,Worksheet!$B$6,IF(C248=$B$2,Worksheet!$B$7,IF(C248=$C$2,Worksheet!$D$3,IF(C248=$D$2,Worksheet!$D$4,IF(C248=$E$2,Worksheet!$D$5,IF(C248=$C$3,Worksheet!$D$6,IF(C248=$B$3,Worksheet!$D$7,IF(C248=$D$3,Worksheet!$B$10,IF(C248=$E$3,Worksheet!$D$10,FALSE)))))))))))))","v":true},{"$f":"IF(AE248,D248,\"\")","v":"Hard"},{"$f":"IF(AE248,COUNTIF($AF$5:AF248,AF248),\"X\")","v":77},{"$f":"CONCATENATE(AE248,AF248)","v":"TRUEHard"}]
[{"$f":"CONCATENATE(AE249,D249,AG249)","v":"TRUEHard78"},{"$f":"RAND()","v":0.97737488348697454},"Frac","Hard",157,"Fractions.   What is ",{"$f":"CHOOSE(RANDBETWEEN(1,5),\"2/7\",\"3/7\",\"4/7\",\"5/7\",\"6/7\")","v":"2/7"}," of",{"$f":"7*RANDBETWEEN(4,11)","v":28},"?",null,null,null,null,null,null,null,null,null,{"$f":"CONCATENATE(F249,\" \",G249,\" \",H249,\" \",I249,\" \",J249,\" \",K249,\" \",L249,\" \",M249,\" \",N249,\" \",O249,\" \",P249,\" \",Q249,\" \",R249)","v":"Fractions.   What is  2/7  of 28 ?        "},{"$f":"I249/7*IF(G249=\"2/7\",2,IF(G249=\"3/7\",3,IF(G249=\"4/7\",4,IF(G249=\"5/7\",5,6))))","v":8},null,null,null,{"$f":"IF(INT(U249)<>U249,NA(),\"\")","v":""},null,null,null,null,{"$f":"IF(OR(ISNA(U249),ISNA(V249),ISNA(W249),ISNA(X249),ISNA(Y249),ISNA(Z249),ISNA(AA249),ISNA(AB249),ISNA(AC249)),NA(),CONCATENATE(U249,V249,W249,X249,Y249,Z249,AA249,AB249))","v":"8"},{"$f":"IF(ISNA(AD249),FALSE,IF(C249=$B$1,Worksheet!$B$3,IF(C249=$C$1,Worksheet!$B$4,IF(C249=$D$1,Worksheet!$B$5,IF(C249=$E$1,Worksheet!$B$6,IF(C249=$B$2,Worksheet!$B$7,IF(C249=$C$2,Worksheet!$D$3,IF(C249=$D$2,Worksheet!$D$4,IF(C249=$E$2,Worksheet!$D$5,IF(C249=$C$3,Worksheet!$D$6,IF(C249=$B$3,Worksheet!$D$7,IF(C249=$D$3,Worksheet!$B$10,IF(C249=$E$3,Worksheet!$D$10,FALSE)))))))))))))","v":true},{"$f":"IF(AE249,D249,\"\")","v":"Hard"},{"$f":"IF(AE249,COUNTIF($AF$5:AF249,AF249),\"X\")","v":78},{"$f":"CONCATENATE(AE249,AF249)","v":"TRUEHard"}]
[{"$f":"CONCATENATE(AE250,D250,AG250)","v":"TRUEMedium96"},{"$f":"RAND()","v":0.78371817786151621},"%","Medium",315,"What is ","1/5","as a percentage?",null,null,null,null,null,null,null,null,null,null,null,{"$f":"CONCATENATE(F250,\" \",G250,\" \",H250,\" \",I250,\" \",J250,\" \",K250,\" \",L250,\" \",M250,\" \",N250,\" \",O250,\" \",P250,\" \",Q250,\" \",R250)","v":"What is  1/5 as a percentage?          "},20,"%",null,null,null,null,null,null,null,{"$f":"IF(OR(ISNA(U250),ISNA(V250),ISNA(W250),ISNA(X250),ISNA(Y250),ISNA(Z250),ISNA(AA250),ISNA(AB250),ISNA(AC250)),NA(),CONCATENATE(U250,V250,W250,X250,Y250,Z250,AA250,AB250))","v":"20%"},{"$f":"IF(ISNA(AD250),FALSE,IF(C250=$B$1,Worksheet!$B$3,IF(C250=$C$1,Worksheet!$B$4,IF(C250=$D$1,Worksheet!$B$5,IF(C250=$E$1,Worksheet!$B$6,IF(C250=$B$2,Worksheet!$B$7,IF(C250=$C$2,Worksheet!$D$3,IF(C250=$D$2,Worksheet!$D$4,IF(C250=$E$2,Worksheet!$D$5,IF(C250=$C$3,Worksheet!$D$6,IF(C250=$B$3,Worksheet!$D$7,IF(C250=$D$3,Worksheet!$B$10,IF(C250=$E$3,Worksheet!$D$10,FALSE)))))))))))))","v":true},{"$f":"IF(AE250,D250,\"\")","v":"Medium"},{"$f":"IF(AE250,COUNTIF($AF$5:AF250,AF250),\"X\")","v":96},{"$f":"CONCATENATE(AE250,AF250)","v":"TRUEMedium"}]
[{"$f":"CONCATENATE(AE251,D251,AG251)","v":"TRUEEasy56"},{"$f":"RAND()","v":0.44405613465414095},"Mult","Easy",57,"What is double",{"$f":"RANDBETWEEN(1,4)*10+RANDBETWEEN(5,9)","v":46},"?",null,null,null,null,null,null,null,null,null,null,null,{"$f":"CONCATENATE(F251,\" \",G251,\"\",H251,\" \",I251,\" \",J251,\" \",K251,\" \",L251,\" \",M251,\" \",N251,\" \",O251,\" \",P251,\" \",Q251,\" \",R251)","v":"What is double 46?          "},{"$f":"G251*2","v":92},null,null,null,null,null,null,null,null,{"$f":"IF(OR(ISNA(U251),ISNA(V251),ISNA(W251),ISNA(X251),ISNA(Y251),ISNA(Z251),ISNA(AA251),ISNA(AB251),ISNA(AC251)),NA(),CONCATENATE(U251,V251,W251,X251,Y251,Z251,AA251,AB251))","v":"92"},{"$f":"IF(ISNA(AD251),FALSE,IF(C251=$B$1,Worksheet!$B$3,IF(C251=$C$1,Worksheet!$B$4,IF(C251=$D$1,Worksheet!$B$5,IF(C251=$E$1,Worksheet!$B$6,IF(C251=$B$2,Worksheet!$B$7,IF(C251=$C$2,Worksheet!$D$3,IF(C251=$D$2,Worksheet!$D$4,IF(C251=$E$2,Worksheet!$D$5,IF(C251=$C$3,Worksheet!$D$6,IF(C251=$B$3,Worksheet!$D$7,IF(C251=$D$3,Worksheet!$B$10,IF(C251=$E$3,Worksheet!$D$10,FALSE)))))))))))))","v":true},{"$f":"IF(AE251,D251,\"\")","v":"Easy"},{"$f":"IF(AE251,COUNTIF($AF$5:AF251,AF251),\"X\")","v":56},{"$f":"CONCATENATE(AE251,AF251)","v":"TRUEEasy"}]
[{"$f":"CONCATENATE(AE252,D252,AG252)","v":"TRUEHard79"},{"$f":"RAND()","v":0.41633718241570639},"Choose","Hard",139,{"$f":"RANDBETWEEN(4,8)","v":5},{"$f":"L252","v":"chocolate bars"},{"$f":"CONCATENATE(\"cost \",IF(I252<10,\" £\",\"\"))","v":"cost  £"},{"$f":"IF(F252*S252<100,F252*S252,F252*S252/100)","v":1},{"$f":"CONCATENATE(IF(I252>10,\"p\",\"\"),\".  How much do\")","v":".  How much do"},{"$f":"SMALL(IF(F252={2,3,4,5},\"\",{2,3,4,5}),RANDBETWEEN(1,IF(F252>5,4,3)))","v":3},{"$f":"CHOOSE(RANDBETWEEN(1,4),\"apples\",\"cupcakes\",\"chocolate bars\",\"packets of crisps\")","v":"chocolate bars"},"cost?",null,null,null,null,null,{"$f":"CHOOSE(RANDBETWEEN(1,5),\"20\",\"50\",\"12\",\"30\",\"25\")","v":"20"},{"$f":"CONCATENATE(F252,\" \",G252,\" \",H252,\"\",IF(I252<10,TEXT(I252,\"0.00\"),I252),\"\",J252,\" \",K252,\" \",L252,\" \",M252,\" \",N252,\" \",O252,\" \",P252,\" \",Q252,\" \",R252)","v":"5 chocolate bars cost  £1.00.  How much do 3 chocolate bars cost?     "},{"$f":"IF(VALUE(V252)<10,\"£\",\"\")","v":""},{"$f":"IF(K252*S252<100,K252*S252,TEXT(K252*S252/100,\"0.00\"))","v":60},{"$f":"IF(VALUE(V252)>10,\"p\",\"\")","v":"p"},null,null,null,null,null,null,{"$f":"IF(OR(ISNA(U252),ISNA(V252),ISNA(W252),ISNA(X252),ISNA(Y252),ISNA(Z252),ISNA(AA252),ISNA(AB252),ISNA(AC252)),NA(),CONCATENATE(U252,V252,W252,X252,Y252,Z252,AA252,AB252))","v":"60p"},{"$f":"IF(ISNA(AD252),FALSE,IF(C252=$B$1,Worksheet!$B$3,IF(C252=$C$1,Worksheet!$B$4,IF(C252=$D$1,Worksheet!$B$5,IF(C252=$E$1,Worksheet!$B$6,IF(C252=$B$2,Worksheet!$B$7,IF(C252=$C$2,Worksheet!$D$3,IF(C252=$D$2,Worksheet!$D$4,IF(C252=$E$2,Worksheet!$D$5,IF(C252=$C$3,Worksheet!$D$6,IF(C252=$B$3,Worksheet!$D$7,IF(C252=$D$3,Worksheet!$B$10,IF(C252=$E$3,Worksheet!$D$10,FALSE)))))))))))))","v":true},{"$f":"IF(AE252,D252,\"\")","v":"Hard"},{"$f":"IF(AE252,COUNTIF($AF$5:AF252,AF252),\"X\")","v":79},{"$f":"CONCATENATE(AE252,AF252)","v":"TRUEHard"}]
[{"$f":"CONCATENATE(AE253,D253,AG253)","v":"TRUEHard80"},{"$f":"RAND()","v":0.44513759994719981},"Frac","Hard",174,"Fractions.    Choose the number that makes the fractions equivalent:   ",{"$f":"IF(I253=5,RANDBETWEEN(2,4),IF(I253=6,5,IF(I253=7,RANDBETWEEN(2,5),IF(I253=8,CHOOSE(RANDBETWEEN(1,3),3,5,7),IF(I253=9,CHOOSE(RANDBETWEEN(1,4),2,4,5,7),CHOOSE(RANDBETWEEN(1,3),3,7,9))))))","v":5},"/",{"$f":"RANDBETWEEN(5,10)","v":7},"=",{"$f":"G253*S253","v":35},"/","___",null,null,null,null,null,{"$f":"RANDBETWEEN(2,10)","v":7},{"$f":"CONCATENATE(F253,\" \",G253,\"\",H253,\"\",I253,\" \",J253,\" \",K253,\"\",L253,\"\",M253,\" \",N253,\" \",O253,\" \",P253,\" \",Q253,\" \",R253)","v":"Fractions.    Choose the number that makes the fractions equivalent:    5/7 = 35/___     "},{"$f":"CONCATENATE(G253,H253,I253,\" = \",K253,L253,I253*S253)","v":"5/7 = 35/49"},null,null,null,null,null,null,null,null,{"$f":"IF(OR(ISNA(U253),ISNA(V253),ISNA(W253),ISNA(X253),ISNA(Y253),ISNA(Z253),ISNA(AA253),ISNA(AB253),ISNA(AC253)),NA(),CONCATENATE(U253,V253,W253,X253,Y253,Z253,AA253,AB253))","v":"5/7 = 35/49"},{"$f":"IF(ISNA(AD253),FALSE,IF(C253=$B$1,Worksheet!$B$3,IF(C253=$C$1,Worksheet!$B$4,IF(C253=$D$1,Worksheet!$B$5,IF(C253=$E$1,Worksheet!$B$6,IF(C253=$B$2,Worksheet!$B$7,IF(C253=$C$2,Worksheet!$D$3,IF(C253=$D$2,Worksheet!$D$4,IF(C253=$E$2,Worksheet!$D$5,IF(C253=$C$3,Worksheet!$D$6,IF(C253=$B$3,Worksheet!$D$7,IF(C253=$D$3,Worksheet!$B$10,IF(C253=$E$3,Worksheet!$D$10,FALSE)))))))))))))","v":true},{"$f":"IF(AE253,D253,\"\")","v":"Hard"},{"$f":"IF(AE253,COUNTIF($AF$5:AF253,AF253),\"X\")","v":80},{"$f":"CONCATENATE(AE253,AF253)","v":"TRUEHard"}]
[{"$f":"CONCATENATE(AE254,D254,AG254)","v":"TRUEHard81"},{"$f":"RAND()","v":0.41894916166967711},"Divide","Hard",114,"What is half of",{"$f":"RANDBETWEEN(15,24)*20+RANDBETWEEN(6,9)*2","v":412},"?",null,null,null,null,null,null,null,null,null,null,null,{"$f":"CONCATENATE(F254,\" \",G254,\" \",H254,\" \",I254,\" \",J254,\" \",K254,\" \",L254,\" \",M254,\" \",N254,\" \",O254,\" \",P254,\" \",Q254,\" \",R254)","v":"What is half of 412 ?          "},{"$f":"G254/2","v":206},null,null,null,null,null,null,null,null,{"$f":"IF(OR(ISNA(U254),ISNA(V254),ISNA(W254),ISNA(X254),ISNA(Y254),ISNA(Z254),ISNA(AA254),ISNA(AB254),ISNA(AC254)),NA(),CONCATENATE(U254,V254,W254,X254,Y254,Z254,AA254,AB254))","v":"206"},{"$f":"IF(ISNA(AD254),FALSE,IF(C254=$B$1,Worksheet!$B$3,IF(C254=$C$1,Worksheet!$B$4,IF(C254=$D$1,Worksheet!$B$5,IF(C254=$E$1,Worksheet!$B$6,IF(C254=$B$2,Worksheet!$B$7,IF(C254=$C$2,Worksheet!$D$3,IF(C254=$D$2,Worksheet!$D$4,IF(C254=$E$2,Worksheet!$D$5,IF(C254=$C$3,Worksheet!$D$6,IF(C254=$B$3,Worksheet!$D$7,IF(C254=$D$3,Worksheet!$B$10,IF(C254=$E$3,Worksheet!$D$10,FALSE)))))))))))))","v":true},{"$f":"IF(AE254,D254,\"\")","v":"Hard"},{"$f":"IF(AE254,COUNTIF($AF$5:AF254,AF254),\"X\")","v":81},{"$f":"CONCATENATE(AE254,AF254)","v":"TRUEHard"}]
[{"$f":"CONCATENATE(AE255,D255,AG255)","v":"TRUEMedium97"},{"$f":"RAND()","v":0.24165791798704817},"Frac","Medium",196,"Take away the fractions:       ",{"$f":"RANDBETWEEN(4,8)","v":7},"/9","  –  ",{"$f":"RANDBETWEEN(1,G255-1)","v":2},"/9",null,null,null,null,null,null,null,null,{"$f":"CONCATENATE(F255,\" \",G255,\"\",H255,\" \",I255,\" \",J255,\"\",K255,\" \",L255,\" \",M255,\" \",N255,\" \",O255,\" \",P255,\" \",Q255,\" \",R255)","v":"Take away the fractions:        7/9   –   2/9       "},{"$f":"IF(G255-J255=0,0,CONCATENATE(G255-J255,\"/9\"))","v":"5/9"},null,null,null,null,null,null,null,null,{"$f":"IF(OR(ISNA(U255),ISNA(V255),ISNA(W255),ISNA(X255),ISNA(Y255),ISNA(Z255),ISNA(AA255),ISNA(AB255),ISNA(AC255)),NA(),CONCATENATE(U255,V255,W255,X255,Y255,Z255,AA255,AB255))","v":"5/9"},{"$f":"IF(ISNA(AD255),FALSE,IF(C255=$B$1,Worksheet!$B$3,IF(C255=$C$1,Worksheet!$B$4,IF(C255=$D$1,Worksheet!$B$5,IF(C255=$E$1,Worksheet!$B$6,IF(C255=$B$2,Worksheet!$B$7,IF(C255=$C$2,Worksheet!$D$3,IF(C255=$D$2,Worksheet!$D$4,IF(C255=$E$2,Worksheet!$D$5,IF(C255=$C$3,Worksheet!$D$6,IF(C255=$B$3,Worksheet!$D$7,IF(C255=$D$3,Worksheet!$B$10,IF(C255=$E$3,Worksheet!$D$10,FALSE)))))))))))))","v":true},{"$f":"IF(AE255,D255,\"\")","v":"Medium"},{"$f":"IF(AE255,COUNTIF($AF$5:AF255,AF255),\"X\")","v":97},{"$f":"CONCATENATE(AE255,AF255)","v":"TRUEMedium"}]
[{"$f":"CONCATENATE(AE256,D256,AG256)","v":"TRUEMedium98"},{"$f":"RAND()","v":0.52734239966257179},"Num","Medium",18,"Write these numbers in order from",{"$f":"CHOOSE(RANDBETWEEN(1,2),\"smallest to biggest:\",\"biggest to smallest:\")","v":"biggest to smallest:"},{"$f":"IF($O256=1,$P256*10000,IF($O256=2,$Q256*10000,IF($O256=3,$R256*10000,$S256*10000)))+IF(RAND()<0.5,$R256,$S256)*100+IF(RAND()<0.5,$P256,$Q256)*10+CHOOSE(RANDBETWEEN(1,4),$P256,$Q256,$R256,$S256)","v":40244},{"$f":"IF($O256=1,$P256*10000,IF($O256=2,$Q256*10000,IF($O256=3,$R256*10000,$S256*10000)))+IF(RAND()<0.5,$R256,$S256)*1000+IF(RAND()<0.5,$P256,$Q256)*10+CHOOSE(RANDBETWEEN(1,4),$P256,$Q256,$R256,$S256)","v":46042},{"$f":"IF($O256=1,$P256*10000,IF($O256=2,$Q256*10000,IF($O256=3,$R256*10000,$S256*10000)))+IF(RAND()<0.5,$R256,$S256)*100+IF(RAND()<0.5,$P256,$Q256)*10+CHOOSE(RANDBETWEEN(1,4),$P256,$Q256,$R256,$S256)","v":40241},{"$f":"IF($O256=1,$P256*10000,IF($O256=2,$Q256*10000,IF($O256=3,$R256*10000,$S256*10000)))+IF(RAND()<0.5,$R256,$S256)*1000+IF(RAND()<0.5,$P256,$Q256)*100+CHOOSE(RANDBETWEEN(1,4),$P256,$Q256,$R256,$S256)","v":42106},null,null,null,{"$f":"RANDBETWEEN(1,9)","v":2},{"$f":"RANDBETWEEN(0,9)","v":1},{"$f":"RANDBETWEEN(0,9)","v":4},{"$f":"RANDBETWEEN(0,9)","v":2},{"$f":"RANDBETWEEN(1,9)","v":6},{"$f":"CONCATENATE(F256,\" \",G256,\"   \",H256,\",  \",I256,\",  \",J256,\",  \",K256,\" \",L256,\" \",M256,\" \",N256)","v":"Write these numbers in order from biggest to smallest:   40244,  46042,  40241,  42106   "},{"$f":"IF($G256=\"smallest to biggest:\",LARGE($H256:$K256,4),LARGE($H256:$K256,1))","v":46042},{"$f":"IF($G256=\"smallest to biggest:\",LARGE($H256:$K256,3),LARGE($H256:$K256,2))","v":42106},{"$f":"IF($G256=\"smallest to biggest:\",LARGE($H256:$K256,2),LARGE($H256:$K256,3))","v":40244},{"$f":"IF($G256=\"smallest to biggest:\",LARGE($H256:$K256,1),LARGE($H256:$K256,4))","v":40241},null,{"$f":"IF(OR(H256=I256,H256=J256,H256=K256,I256=J256,I256=K256,J256=K256),NA(),\"\")","v":""},null,null,null,{"$f":"IF(OR(ISNA(U256),ISNA(V256),ISNA(W256),ISNA(X256),ISNA(Y256),ISNA(Z256),ISNA(AA256),ISNA(AB256),ISNA(AC256)),NA(),CONCATENATE(U256,\",  \",V256,\",  \",W256,\",  \",X256,Y256,Z256,AA256,AB256))","v":"46042,  42106,  40244,  40241"},{"$f":"IF(ISNA(AD256),FALSE,IF(C256=$B$1,Worksheet!$B$3,IF(C256=$C$1,Worksheet!$B$4,IF(C256=$D$1,Worksheet!$B$5,IF(C256=$E$1,Worksheet!$B$6,IF(C256=$B$2,Worksheet!$B$7,IF(C256=$C$2,Worksheet!$D$3,IF(C256=$D$2,Worksheet!$D$4,IF(C256=$E$2,Worksheet!$D$5,IF(C256=$C$3,Worksheet!$D$6,IF(C256=$B$3,Worksheet!$D$7,IF(C256=$D$3,Worksheet!$B$10,IF(C256=$E$3,Worksheet!$D$10,FALSE)))))))))))))","v":true},{"$f":"IF(AE256,D256,\"\")","v":"Medium"},{"$f":"IF(AE256,COUNTIF($AF$5:AF256,AF256),\"X\")","v":98},{"$f":"CONCATENATE(AE256,AF256)","v":"TRUEMedium"}]
[{"$f":"CONCATENATE(AE257,D257,AG257)","v":"TRUEMedium99"},{"$f":"RAND()","v":0.9687669200272675},"%","Medium",314,"What is ","3/4","as a percentage?",null,null,null,null,null,null,null,null,null,null,null,{"$f":"CONCATENATE(F257,\" \",G257,\" \",H257,\" \",I257,\" \",J257,\" \",K257,\" \",L257,\" \",M257,\" \",N257,\" \",O257,\" \",P257,\" \",Q257,\" \",R257)","v":"What is  3/4 as a percentage?          "},75,"%",null,null,null,null,null,null,null,{"$f":"IF(OR(ISNA(U257),ISNA(V257),ISNA(W257),ISNA(X257),ISNA(Y257),ISNA(Z257),ISNA(AA257),ISNA(AB257),ISNA(AC257)),NA(),CONCATENATE(U257,V257,W257,X257,Y257,Z257,AA257,AB257))","v":"75%"},{"$f":"IF(ISNA(AD257),FALSE,IF(C257=$B$1,Worksheet!$B$3,IF(C257=$C$1,Worksheet!$B$4,IF(C257=$D$1,Worksheet!$B$5,IF(C257=$E$1,Worksheet!$B$6,IF(C257=$B$2,Worksheet!$B$7,IF(C257=$C$2,Worksheet!$D$3,IF(C257=$D$2,Worksheet!$D$4,IF(C257=$E$2,Worksheet!$D$5,IF(C257=$C$3,Worksheet!$D$6,IF(C257=$B$3,Worksheet!$D$7,IF(C257=$D$3,Worksheet!$B$10,IF(C257=$E$3,Worksheet!$D$10,FALSE)))))))))))))","v":true},{"$f":"IF(AE257,D257,\"\")","v":"Medium"},{"$f":"IF(AE257,COUNTIF($AF$5:AF257,AF257),\"X\")","v":99},{"$f":"CONCATENATE(AE257,AF257)","v":"TRUEMedium"}]
[{"$f":"CONCATENATE(AE258,D258,AG258)","v":"TRUEMedium100"},{"$f":"RAND()","v":0.21166265865671885},"+-","Medium",43,"Add (WITHOUT writing a sum down):   ",{"$f":"RANDBETWEEN(3,9)*10+RANDBETWEEN(6,9)","v":77},"+",{"$f":"RANDBETWEEN(3,9)*10+RANDBETWEEN(6,9)","v":68},null,null,null,null,null,null,null,null,null,null,{"$f":"CONCATENATE(F258,\" \",G258,\" \",H258,\" \",I258,\" \",J258,\" \",K258,\" \",L258,\" \",M258,\" \",N258,\" \",O258,\" \",P258,\" \",Q258,\" \",R258)","v":"Add (WITHOUT writing a sum down):    77 + 68         "},{"$f":"G258+I258","v":145},null,null,null,null,null,null,null,null,{"$f":"IF(OR(ISNA(U258),ISNA(V258),ISNA(W258),ISNA(X258),ISNA(Y258),ISNA(Z258),ISNA(AA258),ISNA(AB258),ISNA(AC258)),NA(),CONCATENATE(U258,V258,W258,X258,Y258,Z258,AA258,AB258))","v":"145"},{"$f":"IF(ISNA(AD258),FALSE,IF(C258=$B$1,Worksheet!$B$3,IF(C258=$C$1,Worksheet!$B$4,IF(C258=$D$1,Worksheet!$B$5,IF(C258=$E$1,Worksheet!$B$6,IF(C258=$B$2,Worksheet!$B$7,IF(C258=$C$2,Worksheet!$D$3,IF(C258=$D$2,Worksheet!$D$4,IF(C258=$E$2,Worksheet!$D$5,IF(C258=$C$3,Worksheet!$D$6,IF(C258=$B$3,Worksheet!$D$7,IF(C258=$D$3,Worksheet!$B$10,IF(C258=$E$3,Worksheet!$D$10,FALSE)))))))))))))","v":true},{"$f":"IF(AE258,D258,\"\")","v":"Medium"},{"$f":"IF(AE258,COUNTIF($AF$5:AF258,AF258),\"X\")","v":100},{"$f":"CONCATENATE(AE258,AF258)","v":"TRUEMedium"}]
[{"$f":"CONCATENATE(AE259,D259,AG259)","v":"TRUEMedium101"},{"$f":"RAND()","v":0.92433928221623451},"Num","Medium",11,"Write the number   \"",{"$f":"CHOOSE(RANDBETWEEN(1,9),\"one\",\"two\",\"three\",\"four\",\"five\",\"six\",\"seven\",\"eight\",\"nine\")","v":"four"},"hundred and",{"$f":"CHOOSE(S259,CHOOSE(RANDBETWEEN(1,10),\"ten\",\"eleven\",\"twelve\",\"thirteen\",\"fourteen\",\"fifteen\",\"sixteen\",\"seventeen\",\"eighteen\",\"nineteen\"),\"twenty\",\"thirty\",\"forty\",\"fifty\",\"sixty\",\"seventy\",\"eighty\",\"ninety\")","v":"forty"},{"$f":"IF(S259=1,\"\",CHOOSE(RANDBETWEEN(1,10),\"one\",\"two\",\"three\",\"four\",\"five\",\"six\",\"seven\",\"eight\",\"nine\",\"\"))","v":"two"},"thousand, ","and",{"$f":"CHOOSE(R259,CHOOSE(RANDBETWEEN(1,10),\"ten\",\"eleven\",\"twelve\",\"thirteen\",\"fourteen\",\"fifteen\",\"sixteen\",\"seventeen\",\"eighteen\",\"nineteen\"),\"twenty\",\"thirty\",\"forty\",\"fifty\",\"sixty\",\"seventy\",\"eighty\",\"ninety\")","v":"forty"},{"$f":"IF(R259=1,\"\",CHOOSE(RANDBETWEEN(1,10),\"one\",\"two\",\"three\",\"four\",\"five\",\"six\",\"seven\",\"eight\",\"nine\",\"\"))","v":"four"},"\"   in figures",null,null,{"$f":"RANDBETWEEN(1,9)","v":4},{"$f":"RANDBETWEEN(1,9)","v":4},{"$f":"CONCATENATE(F259,\" \",G259,\" \",H259,\" \",I259,\" \",J259,\" \",K259,\" \",L259,\" \",M259,\" \",N259,\" \",O259,\" \",P259,\" \",Q259)","v":"Write the number   \" four hundred and forty two thousand,  and forty four \"   in figures  "},{"$f":"IF(G259=\"one\",1,IF(G259=\"two\",2,IF(G259=\"three\",3,IF(G259=\"four\",4,IF(G259=\"five\",5,IF(G259=\"six\",6,IF(G259=\"seven\",7,IF(G259=\"eight\",8,9))))))))","v":4},{"$f":"S259","v":4},{"$f":"IF(S259=1,IF(I259=\"ten\",0,IF(I259=\"eleven\",1,IF(I259=\"twelve\",2,IF(I259=\"thirteen\",3,IF(I259=\"fourteen\",4,IF(I259=\"fifteen\",5,IF(I259=\"sixteen\",6,IF(I259=\"seventeen\",7,IF(I259=\"eighteen\",8,9))))))))),IF(J259=\"\",0,IF(J259=\"one\",1,IF(J259=\"two\",2,IF(J259=\"three\",3,IF(J259=\"four\",4,IF(J259=\"five\",5,IF(J259=\"six\",6,IF(J259=\"seven\",7,IF(J259=\"eight\",8,9))))))))))","v":2},",0",{"$f":"R259","v":4},{"$f":"IF(R259=1,IF(M259=\"ten\",0,IF(M259=\"eleven\",1,IF(M259=\"twelve\",2,IF(M259=\"thirteen\",3,IF(M259=\"fourteen\",4,IF(M259=\"fifteen\",5,IF(M259=\"sixteen\",6,IF(M259=\"seventeen\",7,IF(M259=\"eighteen\",8,9))))))))),IF(N259=\"\",0,IF(N259=\"one\",1,IF(N259=\"two\",2,IF(N259=\"three\",3,IF(N259=\"four\",4,IF(N259=\"five\",5,IF(N259=\"six\",6,IF(N259=\"seven\",7,IF(N259=\"eight\",8,9))))))))))","v":4},null,null,null,{"$f":"IF(OR(ISNA(U259),ISNA(V259),ISNA(W259),ISNA(X259),ISNA(Y259),ISNA(Z259),ISNA(AA259),ISNA(AB259),ISNA(AC259)),NA(),CONCATENATE(U259,V259,W259,X259,Y259,Z259,AA259,AB259))","v":"442,044"},{"$f":"IF(ISNA(AD259),FALSE,IF(C259=$B$1,Worksheet!$B$3,IF(C259=$C$1,Worksheet!$B$4,IF(C259=$D$1,Worksheet!$B$5,IF(C259=$E$1,Worksheet!$B$6,IF(C259=$B$2,Worksheet!$B$7,IF(C259=$C$2,Worksheet!$D$3,IF(C259=$D$2,Worksheet!$D$4,IF(C259=$E$2,Worksheet!$D$5,IF(C259=$C$3,Worksheet!$D$6,IF(C259=$B$3,Worksheet!$D$7,IF(C259=$D$3,Worksheet!$B$10,IF(C259=$E$3,Worksheet!$D$10,FALSE)))))))))))))","v":true},{"$f":"IF(AE259,D259,\"\")","v":"Medium"},{"$f":"IF(AE259,COUNTIF($AF$5:AF259,AF259),\"X\")","v":101},{"$f":"CONCATENATE(AE259,AF259)","v":"TRUEMedium"}]
[{"$f":"CONCATENATE(AE260,D260,AG260)","v":"TRUEEasy57"},{"$f":"RAND()","v":0.84500570821309806},"+-","Easy",24,"Fill in the missing number:   ",{"$f":"RANDBETWEEN(1,8)*10+RANDBETWEEN(1,9)","v":39},"+ ____ = ",100,null,null,null,null,null,null,null,null,null,null,{"$f":"CONCATENATE(F260,\" \",G260,\" \",H260,\" \",I260,\" \",J260,\" \",K260,\" \",L260,\" \",M260,\" \",N260,\" \",O260,\" \",P260,\" \",Q260,\" \",R260)","v":"Fill in the missing number:    39 + ____ =  100         "},{"$f":"I260-G260","v":61},null,null,null,null,null,null,null,null,{"$f":"IF(OR(ISNA(U260),ISNA(V260),ISNA(W260),ISNA(X260),ISNA(Y260),ISNA(Z260),ISNA(AA260),ISNA(AB260),ISNA(AC260)),NA(),CONCATENATE(U260,V260,W260,X260,Y260,Z260,AA260,AB260))","v":"61"},{"$f":"IF(ISNA(AD260),FALSE,IF(C260=$B$1,Worksheet!$B$3,IF(C260=$C$1,Worksheet!$B$4,IF(C260=$D$1,Worksheet!$B$5,IF(C260=$E$1,Worksheet!$B$6,IF(C260=$B$2,Worksheet!$B$7,IF(C260=$C$2,Worksheet!$D$3,IF(C260=$D$2,Worksheet!$D$4,IF(C260=$E$2,Worksheet!$D$5,IF(C260=$C$3,Worksheet!$D$6,IF(C260=$B$3,Worksheet!$D$7,IF(C260=$D$3,Worksheet!$B$10,IF(C260=$E$3,Worksheet!$D$10,FALSE)))))))))))))","v":true},{"$f":"IF(AE260,D260,\"\")","v":"Easy"},{"$f":"IF(AE260,COUNTIF($AF$5:AF260,AF260),\"X\")","v":57},{"$f":"CONCATENATE(AE260,AF260)","v":"TRUEEasy"}]
[{"$f":"CONCATENATE(AE261,D261,AG261)","v":"TRUEEasy58"},{"$f":"RAND()","v":0.36893412343770415},"Dec","Easy",239,"Add:   ",{"$f":"RANDBETWEEN(11,90)+RANDBETWEEN(1,8)/10","v":89.2}," + ",1,null,null,null,null,null,null,null,null,null,null,{"$f":"CONCATENATE(F261,\" \",G261,\" \",H261,\" \",I261,\" \",J261,\" \",K261,\" \",L261,\" \",M261,\" \",N261,\" \",O261,\" \",P261,\" \",Q261,\" \",R261)","v":"Add:    89.2  +  1         "},{"$f":"G261+1","v":90.2},null,null,null,null,null,null,null,null,{"$f":"IF(OR(ISNA(U261),ISNA(V261),ISNA(W261),ISNA(X261),ISNA(Y261),ISNA(Z261),ISNA(AA261),ISNA(AB261),ISNA(AC261)),NA(),CONCATENATE(U261,V261,W261,X261,Y261,Z261,AA261,AB261))","v":"90.2"},{"$f":"IF(ISNA(AD261),FALSE,IF(C261=$B$1,Worksheet!$B$3,IF(C261=$C$1,Worksheet!$B$4,IF(C261=$D$1,Worksheet!$B$5,IF(C261=$E$1,Worksheet!$B$6,IF(C261=$B$2,Worksheet!$B$7,IF(C261=$C$2,Worksheet!$D$3,IF(C261=$D$2,Worksheet!$D$4,IF(C261=$E$2,Worksheet!$D$5,IF(C261=$C$3,Worksheet!$D$6,IF(C261=$B$3,Worksheet!$D$7,IF(C261=$D$3,Worksheet!$B$10,IF(C261=$E$3,Worksheet!$D$10,FALSE)))))))))))))","v":true},{"$f":"IF(AE261,D261,\"\")","v":"Easy"},{"$f":"IF(AE261,COUNTIF($AF$5:AF261,AF261),\"X\")","v":58},{"$f":"CONCATENATE(AE261,AF261)","v":"TRUEEasy"}]
[{"$f":"CONCATENATE(AE262,D262,AG262)","v":"TRUEEasy59"},{"$f":"RAND()","v":0.444941643427883},"Divide","Easy",122,"Divide by writing down a sum:  ",{"$f":"RANDBETWEEN(5,9)*100+RANDBETWEEN(1,19)*5","v":850},"÷",5,null,null,null,null,null,null,null,null,null,null,{"$f":"CONCATENATE(F262,\" \",G262,\" \",H262,\" \",I262,\" \",J262,\" \",K262,\" \",L262,\" \",M262,\" \",N262,\" \",O262,\" \",P262,\" \",Q262,\" \",R262)","v":"Divide by writing down a sum:   850 ÷ 5         "},{"$f":"G262/I262","v":170},null,null,null,null,null,null,null,null,{"$f":"IF(OR(ISNA(U262),ISNA(V262),ISNA(W262),ISNA(X262),ISNA(Y262),ISNA(Z262),ISNA(AA262),ISNA(AB262),ISNA(AC262)),NA(),CONCATENATE(U262,V262,W262,X262,Y262,Z262,AA262,AB262))","v":"170"},{"$f":"IF(ISNA(AD262),FALSE,IF(C262=$B$1,Worksheet!$B$3,IF(C262=$C$1,Worksheet!$B$4,IF(C262=$D$1,Worksheet!$B$5,IF(C262=$E$1,Worksheet!$B$6,IF(C262=$B$2,Worksheet!$B$7,IF(C262=$C$2,Worksheet!$D$3,IF(C262=$D$2,Worksheet!$D$4,IF(C262=$E$2,Worksheet!$D$5,IF(C262=$C$3,Worksheet!$D$6,IF(C262=$B$3,Worksheet!$D$7,IF(C262=$D$3,Worksheet!$B$10,IF(C262=$E$3,Worksheet!$D$10,FALSE)))))))))))))","v":true},{"$f":"IF(AE262,D262,\"\")","v":"Easy"},{"$f":"IF(AE262,COUNTIF($AF$5:AF262,AF262),\"X\")","v":59},{"$f":"CONCATENATE(AE262,AF262)","v":"TRUEEasy"}]
[{"$f":"CONCATENATE(AE263,D263,AG263)","v":"TRUEEasy60"},{"$f":"RAND()","v":2.8072992634571858E-2},"+-","Easy",47,"Add by writing down a sum:   ",{"$f":"RANDBETWEEN(1,9)*1000+RANDBETWEEN(1,999)","v":8474},"+",{"$f":"RANDBETWEEN(1,9)*1000+RANDBETWEEN(1,999)","v":6098},null,null,null,null,null,null,null,null,null,null,{"$f":"CONCATENATE(F263,\" \",G263,\" \",H263,\" \",I263,\" \",J263,\" \",K263,\" \",L263,\" \",M263,\" \",N263,\" \",O263,\" \",P263,\" \",Q263,\" \",R263)","v":"Add by writing down a sum:    8474 + 6098         "},{"$f":"G263+I263","v":14572},null,null,null,null,null,null,null,null,{"$f":"IF(OR(ISNA(U263),ISNA(V263),ISNA(W263),ISNA(X263),ISNA(Y263),ISNA(Z263),ISNA(AA263),ISNA(AB263),ISNA(AC263)),NA(),CONCATENATE(U263,V263,W263,X263,Y263,Z263,AA263,AB263))","v":"14572"},{"$f":"IF(ISNA(AD263),FALSE,IF(C263=$B$1,Worksheet!$B$3,IF(C263=$C$1,Worksheet!$B$4,IF(C263=$D$1,Worksheet!$B$5,IF(C263=$E$1,Worksheet!$B$6,IF(C263=$B$2,Worksheet!$B$7,IF(C263=$C$2,Worksheet!$D$3,IF(C263=$D$2,Worksheet!$D$4,IF(C263=$E$2,Worksheet!$D$5,IF(C263=$C$3,Worksheet!$D$6,IF(C263=$B$3,Worksheet!$D$7,IF(C263=$D$3,Worksheet!$B$10,IF(C263=$E$3,Worksheet!$D$10,FALSE)))))))))))))","v":true},{"$f":"IF(AE263,D263,\"\")","v":"Easy"},{"$f":"IF(AE263,COUNTIF($AF$5:AF263,AF263),\"X\")","v":60},{"$f":"CONCATENATE(AE263,AF263)","v":"TRUEEasy"}]
[{"$f":"CONCATENATE(AE264,D264,AG264)","v":"TRUEHard82"},{"$f":"RAND()","v":0.57194416386443359},"Dec","Hard",222,"Write the decimal number",{"$f":"CHOOSE(RANDBETWEEN(1,2),2,6)/100","v":0.06},"as a fraction","in its simplest form",null,null,null,null,null,null,null,null,null,null,{"$f":"CONCATENATE(F264,\" \",G264,\" \",H264,\" \",I264,\" \",J264,\" \",K264,\" \",L264,\" \",M264,\" \",N264,\" \",O264,\" \",P264,\" \",Q264,\" \",R264)","v":"Write the decimal number 0.06 as a fraction in its simplest form         "},{"$f":"G264*100/2","v":3},"/50",null,null,null,null,null,null,null,{"$f":"IF(OR(ISNA(U264),ISNA(V264),ISNA(W264),ISNA(X264),ISNA(Y264),ISNA(Z264),ISNA(AA264),ISNA(AB264),ISNA(AC264)),NA(),CONCATENATE(U264,V264,W264,X264,Y264,Z264,AA264,AB264))","v":"3/50"},{"$f":"IF(ISNA(AD264),FALSE,IF(C264=$B$1,Worksheet!$B$3,IF(C264=$C$1,Worksheet!$B$4,IF(C264=$D$1,Worksheet!$B$5,IF(C264=$E$1,Worksheet!$B$6,IF(C264=$B$2,Worksheet!$B$7,IF(C264=$C$2,Worksheet!$D$3,IF(C264=$D$2,Worksheet!$D$4,IF(C264=$E$2,Worksheet!$D$5,IF(C264=$C$3,Worksheet!$D$6,IF(C264=$B$3,Worksheet!$D$7,IF(C264=$D$3,Worksheet!$B$10,IF(C264=$E$3,Worksheet!$D$10,FALSE)))))))))))))","v":true},{"$f":"IF(AE264,D264,\"\")","v":"Hard"},{"$f":"IF(AE264,COUNTIF($AF$5:AF264,AF264),\"X\")","v":82},{"$f":"CONCATENATE(AE264,AF264)","v":"TRUEHard"}]
[{"$f":"CONCATENATE(AE265,D265,AG265)","v":"TRUEMedium102"},{"$f":"RAND()","v":0.20735190572479756},"Num","Medium",22,"Fill in the missing numbers:   ",{"$f":"RANDBETWEEN(2,9)*10000+7000+RANDBETWEEN(1,999)","v":77356},{"$f":"G265+S265","v":78356},"_____","_____",{"$f":"H265+3*S265","v":81356},{"$f":"K265+S265","v":82356},null,null,null,null,null,null,1000,{"$f":"CONCATENATE(F265,\" \",G265,\",  \",H265,\",  \",I265,\",  \",J265,\",  \",K265,\",  \",L265,\",  \",M265,\" \",N265,\" \",O265,\" \",P265,\" \",Q265,\" \",R265)","v":"Fill in the missing numbers:    77356,  78356,  _____,  _____,  81356,  82356,       "},{"$f":"H265+S265","v":79356},",  ",{"$f":"U265+S265","v":80356},null,null,null,null,null,null,{"$f":"IF(OR(ISNA(U265),ISNA(V265),ISNA(W265),ISNA(X265),ISNA(Y265),ISNA(Z265),ISNA(AA265),ISNA(AB265),ISNA(AC265)),NA(),CONCATENATE(U265,V265,W265,X265,Y265,Z265,AA265,AB265))","v":"79356,  80356"},{"$f":"IF(ISNA(AD265),FALSE,IF(C265=$B$1,Worksheet!$B$3,IF(C265=$C$1,Worksheet!$B$4,IF(C265=$D$1,Worksheet!$B$5,IF(C265=$E$1,Worksheet!$B$6,IF(C265=$B$2,Worksheet!$B$7,IF(C265=$C$2,Worksheet!$D$3,IF(C265=$D$2,Worksheet!$D$4,IF(C265=$E$2,Worksheet!$D$5,IF(C265=$C$3,Worksheet!$D$6,IF(C265=$B$3,Worksheet!$D$7,IF(C265=$D$3,Worksheet!$B$10,IF(C265=$E$3,Worksheet!$D$10,FALSE)))))))))))))","v":true},{"$f":"IF(AE265,D265,\"\")","v":"Medium"},{"$f":"IF(AE265,COUNTIF($AF$5:AF265,AF265),\"X\")","v":102},{"$f":"CONCATENATE(AE265,AF265)","v":"TRUEMedium"}]
[{"$f":"CONCATENATE(AE266,D266,AG266)","v":"TRUEHard83"},{"$f":"RAND()","v":0.45293035315670549},"Divide","Hard",121,"Divide:   ",{"$f":"U266*I266","v":36},"÷",{"$f":"RANDBETWEEN(6,9)","v":6},null,null,null,null,null,null,null,null,null,null,{"$f":"CONCATENATE(F266,\" \",G266,\" \",H266,\" \",I266,\" \",J266,\" \",K266,\" \",L266,\" \",M266,\" \",N266,\" \",O266,\" \",P266,\" \",Q266,\" \",R266)","v":"Divide:    36 ÷ 6         "},{"$f":"RANDBETWEEN(6,9)","v":6},null,null,null,null,null,null,null,null,{"$f":"IF(OR(ISNA(U266),ISNA(V266),ISNA(W266),ISNA(X266),ISNA(Y266),ISNA(Z266),ISNA(AA266),ISNA(AB266),ISNA(AC266)),NA(),CONCATENATE(U266,V266,W266,X266,Y266,Z266,AA266,AB266))","v":"6"},{"$f":"IF(ISNA(AD266),FALSE,IF(C266=$B$1,Worksheet!$B$3,IF(C266=$C$1,Worksheet!$B$4,IF(C266=$D$1,Worksheet!$B$5,IF(C266=$E$1,Worksheet!$B$6,IF(C266=$B$2,Worksheet!$B$7,IF(C266=$C$2,Worksheet!$D$3,IF(C266=$D$2,Worksheet!$D$4,IF(C266=$E$2,Worksheet!$D$5,IF(C266=$C$3,Worksheet!$D$6,IF(C266=$B$3,Worksheet!$D$7,IF(C266=$D$3,Worksheet!$B$10,IF(C266=$E$3,Worksheet!$D$10,FALSE)))))))))))))","v":true},{"$f":"IF(AE266,D266,\"\")","v":"Hard"},{"$f":"IF(AE266,COUNTIF($AF$5:AF266,AF266),\"X\")","v":83},{"$f":"CONCATENATE(AE266,AF266)","v":"TRUEHard"}]
[{"$f":"CONCATENATE(AE267,D267,AG267)","v":"TRUEMedium103"},{"$f":"RAND()","v":0.64926906758042013},"Dec","Medium",284,"Add by writing down a sum:   ",{"$f":"RANDBETWEEN(20,99)+RANDBETWEEN(1,99)/100","v":84.33},"+",{"$f":"RANDBETWEEN(20,99)+RANDBETWEEN(1,99)/100","v":82.53},null,null,null,null,null,null,null,null,null,null,{"$f":"CONCATENATE(F267,\" \",G267,\" \",H267,\" \",I267,\" \",J267,\" \",K267,\" \",L267,\" \",M267,\" \",N267,\" \",O267,\" \",P267,\" \",Q267,\" \",R267)","v":"Add by writing down a sum:    84.33 + 82.53         "},{"$f":"G267+I267","v":166.86},null,null,null,null,null,null,null,null,{"$f":"IF(OR(ISNA(U267),ISNA(V267),ISNA(W267),ISNA(X267),ISNA(Y267),ISNA(Z267),ISNA(AA267),ISNA(AB267),ISNA(AC267)),NA(),CONCATENATE(U267,V267,W267,X267,Y267,Z267,AA267,AB267))","v":"166.86"},{"$f":"IF(ISNA(AD267),FALSE,IF(C267=$B$1,Worksheet!$B$3,IF(C267=$C$1,Worksheet!$B$4,IF(C267=$D$1,Worksheet!$B$5,IF(C267=$E$1,Worksheet!$B$6,IF(C267=$B$2,Worksheet!$B$7,IF(C267=$C$2,Worksheet!$D$3,IF(C267=$D$2,Worksheet!$D$4,IF(C267=$E$2,Worksheet!$D$5,IF(C267=$C$3,Worksheet!$D$6,IF(C267=$B$3,Worksheet!$D$7,IF(C267=$D$3,Worksheet!$B$10,IF(C267=$E$3,Worksheet!$D$10,FALSE)))))))))))))","v":true},{"$f":"IF(AE267,D267,\"\")","v":"Medium"},{"$f":"IF(AE267,COUNTIF($AF$5:AF267,AF267),\"X\")","v":103},{"$f":"CONCATENATE(AE267,AF267)","v":"TRUEMedium"}]
[{"$f":"CONCATENATE(AE268,D268,AG268)","v":"TRUEMedium104"},{"$f":"RAND()","v":0.60720390342693487},"+-","Medium",33,"Fill in the missing number:   ","____ +",{"$f":"RANDBETWEEN(1,8)*100+RANDBETWEEN(1,8)*10","v":260},"=",1000,null,null,null,null,null,null,null,null,null,{"$f":"CONCATENATE(F268,\" \",G268,\" \",H268,\" \",I268,\" \",J268,\" \",K268,\" \",L268,\" \",M268,\" \",N268,\" \",O268,\" \",P268,\" \",Q268,\" \",R268)","v":"Fill in the missing number:    ____ + 260 = 1000        "},{"$f":"J268-H268","v":740},null,null,null,null,null,null,null,null,{"$f":"IF(OR(ISNA(U268),ISNA(V268),ISNA(W268),ISNA(X268),ISNA(Y268),ISNA(Z268),ISNA(AA268),ISNA(AB268),ISNA(AC268)),NA(),CONCATENATE(U268,V268,W268,X268,Y268,Z268,AA268,AB268))","v":"740"},{"$f":"IF(ISNA(AD268),FALSE,IF(C268=$B$1,Worksheet!$B$3,IF(C268=$C$1,Worksheet!$B$4,IF(C268=$D$1,Worksheet!$B$5,IF(C268=$E$1,Worksheet!$B$6,IF(C268=$B$2,Worksheet!$B$7,IF(C268=$C$2,Worksheet!$D$3,IF(C268=$D$2,Worksheet!$D$4,IF(C268=$E$2,Worksheet!$D$5,IF(C268=$C$3,Worksheet!$D$6,IF(C268=$B$3,Worksheet!$D$7,IF(C268=$D$3,Worksheet!$B$10,IF(C268=$E$3,Worksheet!$D$10,FALSE)))))))))))))","v":true},{"$f":"IF(AE268,D268,\"\")","v":"Medium"},{"$f":"IF(AE268,COUNTIF($AF$5:AF268,AF268),\"X\")","v":104},{"$f":"CONCATENATE(AE268,AF268)","v":"TRUEMedium"}]
[{"$f":"CONCATENATE(AE269,D269,AG269)","v":"TRUEMedium105"},{"$f":"RAND()","v":0.40814300492624511},"Frac","Medium",156,"Fractions.   What is ","5/6"," of",{"$f":"6*RANDBETWEEN(2,5)","v":18},"?",null,null,null,null,null,null,null,null,null,{"$f":"CONCATENATE(F269,\" \",G269,\" \",H269,\" \",I269,\" \",J269,\" \",K269,\" \",L269,\" \",M269,\" \",N269,\" \",O269,\" \",P269,\" \",Q269,\" \",R269)","v":"Fractions.   What is  5/6  of 18 ?        "},{"$f":"I269/6*5","v":15},null,null,null,{"$f":"IF(INT(U269)<>U269,NA(),\"\")","v":""},null,null,null,null,{"$f":"IF(OR(ISNA(U269),ISNA(V269),ISNA(W269),ISNA(X269),ISNA(Y269),ISNA(Z269),ISNA(AA269),ISNA(AB269),ISNA(AC269)),NA(),CONCATENATE(U269,V269,W269,X269,Y269,Z269,AA269,AB269))","v":"15"},{"$f":"IF(ISNA(AD269),FALSE,IF(C269=$B$1,Worksheet!$B$3,IF(C269=$C$1,Worksheet!$B$4,IF(C269=$D$1,Worksheet!$B$5,IF(C269=$E$1,Worksheet!$B$6,IF(C269=$B$2,Worksheet!$B$7,IF(C269=$C$2,Worksheet!$D$3,IF(C269=$D$2,Worksheet!$D$4,IF(C269=$E$2,Worksheet!$D$5,IF(C269=$C$3,Worksheet!$D$6,IF(C269=$B$3,Worksheet!$D$7,IF(C269=$D$3,Worksheet!$B$10,IF(C269=$E$3,Worksheet!$D$10,FALSE)))))))))))))","v":true},{"$f":"IF(AE269,D269,\"\")","v":"Medium"},{"$f":"IF(AE269,COUNTIF($AF$5:AF269,AF269),\"X\")","v":105},{"$f":"CONCATENATE(AE269,AF269)","v":"TRUEMedium"}]
[{"$f":"CONCATENATE(AE270,D270,AG270)","v":"TRUEEasy61"},{"$f":"RAND()","v":0.55305765619420899},"Num","Easy",208,"Continue the pattern for three more numbers:   ",{"$f":"RANDBETWEEN(11,95)*1000+RANDBETWEEN(1,999)","v":19386},{"$f":"G270+S270","v":20386},{"$f":"H270+S270","v":21386},{"$f":"I270+S270","v":22386},"____","____","____",null,null,null,null,null,1000,{"$f":"CONCATENATE(F270,\" \",G270,\",   \",H270,\",   \",I270,\",   \",J270,\",   \",K270,\",   \",L270,\",   \",M270,\" \",N270,\" \",O270,\" \",P270,\" \",Q270,\" \",R270)","v":"Continue the pattern for three more numbers:    19386,   20386,   21386,   22386,   ____,   ____,   ____     "},{"$f":"J270+S270","v":23386},{"$f":"U270+S270","v":24386},{"$f":"V270+S270","v":25386},null,null,null,null,null,null,{"$f":"IF(OR(ISNA(U270),ISNA(V270),ISNA(W270),ISNA(X270),ISNA(Y270),ISNA(Z270),ISNA(AA270),ISNA(AB270),ISNA(AC270)),NA(),CONCATENATE(U270,\",   \",V270,\",   \",W270,X270,Y270,Z270,AA270,AB270))","v":"23386,   24386,   25386"},{"$f":"IF(ISNA(AD270),FALSE,IF(C270=$B$1,Worksheet!$B$3,IF(C270=$C$1,Worksheet!$B$4,IF(C270=$D$1,Worksheet!$B$5,IF(C270=$E$1,Worksheet!$B$6,IF(C270=$B$2,Worksheet!$B$7,IF(C270=$C$2,Worksheet!$D$3,IF(C270=$D$2,Worksheet!$D$4,IF(C270=$E$2,Worksheet!$D$5,IF(C270=$C$3,Worksheet!$D$6,IF(C270=$B$3,Worksheet!$D$7,IF(C270=$D$3,Worksheet!$B$10,IF(C270=$E$3,Worksheet!$D$10,FALSE)))))))))))))","v":true},{"$f":"IF(AE270,D270,\"\")","v":"Easy"},{"$f":"IF(AE270,COUNTIF($AF$5:AF270,AF270),\"X\")","v":61},{"$f":"CONCATENATE(AE270,AF270)","v":"TRUEEasy"}]
[{"$f":"CONCATENATE(AE271,D271,AG271)","v":"TRUEMedium106"},{"$f":"RAND()","v":0.92626596353553892},"Frac","Medium",172,"Fractions.   ",{"$f":"IF(I271=5,RANDBETWEEN(2,4),IF(I271=6,5,IF(I271=7,RANDBETWEEN(2,5),IF(I271=8,CHOOSE(RANDBETWEEN(1,3),3,5,7),IF(I271=9,CHOOSE(RANDBETWEEN(1,4),2,4,5,7),CHOOSE(RANDBETWEEN(1,3),3,7,9))))))","v":5},"/",{"$f":"RANDBETWEEN(5,10)","v":6},"of a pizza has been eaten.  What fraction is LEFT OVER?",null,null,null,null,null,null,null,null,null,{"$f":"CONCATENATE(F271,\" \",G271,\"\",H271,\"\",I271,\" \",J271,\" \",K271,\"\",L271,\" \",M271,\" \",N271,\" \",O271,\"\",P271,\" \",Q271,\" \",R271)","v":"Fractions.    5/6 of a pizza has been eaten.  What fraction is LEFT OVER?      "},{"$f":"I271-G271","v":1},"/",{"$f":"I271","v":6},null,null,null,null,null,null,{"$f":"IF(OR(ISNA(U271),ISNA(V271),ISNA(W271),ISNA(X271),ISNA(Y271),ISNA(Z271),ISNA(AA271),ISNA(AB271),ISNA(AC271)),NA(),CONCATENATE(U271,V271,W271,X271,Y271,Z271,AA271,AB271))","v":"1/6"},{"$f":"IF(ISNA(AD271),FALSE,IF(C271=$B$1,Worksheet!$B$3,IF(C271=$C$1,Worksheet!$B$4,IF(C271=$D$1,Worksheet!$B$5,IF(C271=$E$1,Worksheet!$B$6,IF(C271=$B$2,Worksheet!$B$7,IF(C271=$C$2,Worksheet!$D$3,IF(C271=$D$2,Worksheet!$D$4,IF(C271=$E$2,Worksheet!$D$5,IF(C271=$C$3,Worksheet!$D$6,IF(C271=$B$3,Worksheet!$D$7,IF(C271=$D$3,Worksheet!$B$10,IF(C271=$E$3,Worksheet!$D$10,FALSE)))))))))))))","v":true},{"$f":"IF(AE271,D271,\"\")","v":"Medium"},{"$f":"IF(AE271,COUNTIF($AF$5:AF271,AF271),\"X\")","v":106},{"$f":"CONCATENATE(AE271,AF271)","v":"TRUEMedium"}]
[{"$f":"CONCATENATE(AE272,D272,AG272)","v":"TRUEMedium107"},{"$f":"RAND()","v":0.31947469209947033},"Dec","Medium",246,"Take away:   ",{"$f":"RANDBETWEEN(3,8)+RANDBETWEEN(1,5)/10","v":5.5}," – ",{"$f":"RANDBETWEEN(1,ROUNDDOWN(G272,0)-1)+RANDBETWEEN(6,9)/10","v":3.8},null,null,null,null,null,null,null,null,null,null,{"$f":"CONCATENATE(F272,\" \",G272,\" \",H272,\" \",I272,\" \",J272,\" \",K272,\" \",L272,\" \",M272,\" \",N272,\" \",O272,\" \",P272,\" \",Q272,\" \",R272)","v":"Take away:    5.5  –  3.8         "},{"$f":"G272-I272","v":1.7000000000000002},null,null,null,null,null,null,null,null,{"$f":"IF(OR(ISNA(U272),ISNA(V272),ISNA(W272),ISNA(X272),ISNA(Y272),ISNA(Z272),ISNA(AA272),ISNA(AB272),ISNA(AC272)),NA(),CONCATENATE(U272,V272,W272,X272,Y272,Z272,AA272,AB272))","v":"1.7"},{"$f":"IF(ISNA(AD272),FALSE,IF(C272=$B$1,Worksheet!$B$3,IF(C272=$C$1,Worksheet!$B$4,IF(C272=$D$1,Worksheet!$B$5,IF(C272=$E$1,Worksheet!$B$6,IF(C272=$B$2,Worksheet!$B$7,IF(C272=$C$2,Worksheet!$D$3,IF(C272=$D$2,Worksheet!$D$4,IF(C272=$E$2,Worksheet!$D$5,IF(C272=$C$3,Worksheet!$D$6,IF(C272=$B$3,Worksheet!$D$7,IF(C272=$D$3,Worksheet!$B$10,IF(C272=$E$3,Worksheet!$D$10,FALSE)))))))))))))","v":true},{"$f":"IF(AE272,D272,\"\")","v":"Medium"},{"$f":"IF(AE272,COUNTIF($AF$5:AF272,AF272),\"X\")","v":107},{"$f":"CONCATENATE(AE272,AF272)","v":"TRUEMedium"}]
[{"$f":"CONCATENATE(AE273,D273,AG273)","v":"TRUEHard84"},{"$f":"RAND()","v":0.76603585774384275},"Frac","Hard",161,"Fractions.   What is ","3/4"," of",{"$f":"4*RANDBETWEEN(2,10)*10","v":80},"?",null,null,null,null,null,null,null,null,null,{"$f":"CONCATENATE(F273,\" \",G273,\" \",H273,\" \",I273,\" \",J273,\" \",K273,\" \",L273,\" \",M273,\" \",N273,\" \",O273,\" \",P273,\" \",Q273,\" \",R273)","v":"Fractions.   What is  3/4  of 80 ?        "},{"$f":"I273/4*3","v":60},null,null,null,{"$f":"IF(INT(U273)<>U273,NA(),\"\")","v":""},null,null,null,null,{"$f":"IF(OR(ISNA(U273),ISNA(V273),ISNA(W273),ISNA(X273),ISNA(Y273),ISNA(Z273),ISNA(AA273),ISNA(AB273),ISNA(AC273)),NA(),CONCATENATE(U273,V273,W273,X273,Y273,Z273,AA273,AB273))","v":"60"},{"$f":"IF(ISNA(AD273),FALSE,IF(C273=$B$1,Worksheet!$B$3,IF(C273=$C$1,Worksheet!$B$4,IF(C273=$D$1,Worksheet!$B$5,IF(C273=$E$1,Worksheet!$B$6,IF(C273=$B$2,Worksheet!$B$7,IF(C273=$C$2,Worksheet!$D$3,IF(C273=$D$2,Worksheet!$D$4,IF(C273=$E$2,Worksheet!$D$5,IF(C273=$C$3,Worksheet!$D$6,IF(C273=$B$3,Worksheet!$D$7,IF(C273=$D$3,Worksheet!$B$10,IF(C273=$E$3,Worksheet!$D$10,FALSE)))))))))))))","v":true},{"$f":"IF(AE273,D273,\"\")","v":"Hard"},{"$f":"IF(AE273,COUNTIF($AF$5:AF273,AF273),\"X\")","v":84},{"$f":"CONCATENATE(AE273,AF273)","v":"TRUEHard"}]
[{"$f":"CONCATENATE(AE274,D274,AG274)","v":"TRUEHard85"},{"$f":"RAND()","v":0.56459525975822866},"Frac","Hard",163,"Fractions.   What is ",{"$f":"CHOOSE(RANDBETWEEN(1,3),\"2/5\",\"3/5\",\"4/5\")","v":"3/5"}," of",{"$f":"5*RANDBETWEEN(2,10)*10","v":500},"?",null,null,null,null,null,null,null,null,null,{"$f":"CONCATENATE(F274,\" \",G274,\" \",H274,\" \",I274,\" \",J274,\" \",K274,\" \",L274,\" \",M274,\" \",N274,\" \",O274,\" \",P274,\" \",Q274,\" \",R274)","v":"Fractions.   What is  3/5  of 500 ?        "},{"$f":"I274/5*IF(G274=\"2/5\",2,IF(G274=\"3/5\",3,4))","v":300},null,{"$f":"IF(AND(G274=G273,I274=I273),NA(),\"\")","v":""},null,{"$f":"IF(INT(U274)<>U274,NA(),\"\")","v":""},null,null,null,null,{"$f":"IF(OR(ISNA(U274),ISNA(V274),ISNA(W274),ISNA(X274),ISNA(Y274),ISNA(Z274),ISNA(AA274),ISNA(AB274),ISNA(AC274)),NA(),CONCATENATE(U274,V274,W274,X274,Y274,Z274,AA274,AB274))","v":"300"},{"$f":"IF(ISNA(AD274),FALSE,IF(C274=$B$1,Worksheet!$B$3,IF(C274=$C$1,Worksheet!$B$4,IF(C274=$D$1,Worksheet!$B$5,IF(C274=$E$1,Worksheet!$B$6,IF(C274=$B$2,Worksheet!$B$7,IF(C274=$C$2,Worksheet!$D$3,IF(C274=$D$2,Worksheet!$D$4,IF(C274=$E$2,Worksheet!$D$5,IF(C274=$C$3,Worksheet!$D$6,IF(C274=$B$3,Worksheet!$D$7,IF(C274=$D$3,Worksheet!$B$10,IF(C274=$E$3,Worksheet!$D$10,FALSE)))))))))))))","v":true},{"$f":"IF(AE274,D274,\"\")","v":"Hard"},{"$f":"IF(AE274,COUNTIF($AF$5:AF274,AF274),\"X\")","v":85},{"$f":"CONCATENATE(AE274,AF274)","v":"TRUEHard"}]
[{"$f":"CONCATENATE(AE275,D275,AG275)","v":"TRUEHard86"},{"$f":"RAND()","v":0.72228630288602225},"Frac","Hard",166,"Fractions.   What is ","5/6"," of",{"$f":"6*RANDBETWEEN(5,10)","v":54},"?",null,null,null,null,null,null,null,null,null,{"$f":"CONCATENATE(F275,\" \",G275,\" \",H275,\" \",I275,\" \",J275,\" \",K275,\" \",L275,\" \",M275,\" \",N275,\" \",O275,\" \",P275,\" \",Q275,\" \",R275)","v":"Fractions.   What is  5/6  of 54 ?        "},{"$f":"I275/6*5","v":45},null,null,null,{"$f":"IF(INT(U275)<>U275,NA(),\"\")","v":""},null,null,null,null,{"$f":"IF(OR(ISNA(U275),ISNA(V275),ISNA(W275),ISNA(X275),ISNA(Y275),ISNA(Z275),ISNA(AA275),ISNA(AB275),ISNA(AC275)),NA(),CONCATENATE(U275,V275,W275,X275,Y275,Z275,AA275,AB275))","v":"45"},{"$f":"IF(ISNA(AD275),FALSE,IF(C275=$B$1,Worksheet!$B$3,IF(C275=$C$1,Worksheet!$B$4,IF(C275=$D$1,Worksheet!$B$5,IF(C275=$E$1,Worksheet!$B$6,IF(C275=$B$2,Worksheet!$B$7,IF(C275=$C$2,Worksheet!$D$3,IF(C275=$D$2,Worksheet!$D$4,IF(C275=$E$2,Worksheet!$D$5,IF(C275=$C$3,Worksheet!$D$6,IF(C275=$B$3,Worksheet!$D$7,IF(C275=$D$3,Worksheet!$B$10,IF(C275=$E$3,Worksheet!$D$10,FALSE)))))))))))))","v":true},{"$f":"IF(AE275,D275,\"\")","v":"Hard"},{"$f":"IF(AE275,COUNTIF($AF$5:AF275,AF275),\"X\")","v":86},{"$f":"CONCATENATE(AE275,AF275)","v":"TRUEHard"}]
[{"$f":"CONCATENATE(AE276,D276,AG276)","v":"TRUEMedium108"},{"$f":"RAND()","v":0.82889230696831306},"Dec","Medium",217,"Write the fraction",{"$f":"RANDBETWEEN(1,9)*10","v":70},"/100","as a decimal",null,null,null,null,null,null,null,null,null,null,{"$f":"CONCATENATE(F276,\" \",G276,\"\",H276,\" \",I276,\" \",J276,\" \",K276,\" \",L276,\" \",M276,\" \",N276,\" \",O276,\" \",P276,\" \",Q276,\" \",R276)","v":"Write the fraction 70/100 as a decimal         "},{"$f":"G276/100","v":0.7}," or ",{"$f":"TEXT(G276/100,\"0.00\")","v":"0.70"},null,null,null,null,null,null,{"$f":"IF(OR(ISNA(U276),ISNA(V276),ISNA(W276),ISNA(X276),ISNA(Y276),ISNA(Z276),ISNA(AA276),ISNA(AB276),ISNA(AC276)),NA(),CONCATENATE(U276,V276,W276,X276,Y276,Z276,AA276,AB276))","v":"0.7 or 0.70"},{"$f":"IF(ISNA(AD276),FALSE,IF(C276=$B$1,Worksheet!$B$3,IF(C276=$C$1,Worksheet!$B$4,IF(C276=$D$1,Worksheet!$B$5,IF(C276=$E$1,Worksheet!$B$6,IF(C276=$B$2,Worksheet!$B$7,IF(C276=$C$2,Worksheet!$D$3,IF(C276=$D$2,Worksheet!$D$4,IF(C276=$E$2,Worksheet!$D$5,IF(C276=$C$3,Worksheet!$D$6,IF(C276=$B$3,Worksheet!$D$7,IF(C276=$D$3,Worksheet!$B$10,IF(C276=$E$3,Worksheet!$D$10,FALSE)))))))))))))","v":true},{"$f":"IF(AE276,D276,\"\")","v":"Medium"},{"$f":"IF(AE276,COUNTIF($AF$5:AF276,AF276),\"X\")","v":108},{"$f":"CONCATENATE(AE276,AF276)","v":"TRUEMedium"}]
[{"$f":"CONCATENATE(AE277,D277,AG277)","v":"TRUEMedium109"},{"$f":"RAND()","v":0.3527555327035069},"Divide","Medium",126,"Divide by writing down a sum:  ",{"$f":"I277*RANDBETWEEN(1001/I277,9999/I277)","v":2397},"÷",{"$f":"RANDBETWEEN(3,5)","v":3},null,null,null,null,null,null,null,null,null,{"$f":"RANDBETWEEN(4,9)","v":4},{"$f":"CONCATENATE(F277,\" \",G277,\" \",H277,\" \",I277,\" \",J277,\" \",K277,\" \",L277,\" \",M277,\" \",N277,\" \",O277,\" \",P277,\" \",Q277,\" \",R277)","v":"Divide by writing down a sum:   2397 ÷ 3         "},{"$f":"G277/I277","v":799},null,{"$f":"IF(INT(U277)<>U277,NA(),\"\")","v":""},null,null,null,null,null,null,{"$f":"IF(OR(ISNA(U277),ISNA(V277),ISNA(W277),ISNA(X277),ISNA(Y277),ISNA(Z277),ISNA(AA277),ISNA(AB277),ISNA(AC277)),NA(),CONCATENATE(U277,V277,W277,X277,Y277,Z277,AA277,AB277))","v":"799"},{"$f":"IF(ISNA(AD277),FALSE,IF(C277=$B$1,Worksheet!$B$3,IF(C277=$C$1,Worksheet!$B$4,IF(C277=$D$1,Worksheet!$B$5,IF(C277=$E$1,Worksheet!$B$6,IF(C277=$B$2,Worksheet!$B$7,IF(C277=$C$2,Worksheet!$D$3,IF(C277=$D$2,Worksheet!$D$4,IF(C277=$E$2,Worksheet!$D$5,IF(C277=$C$3,Worksheet!$D$6,IF(C277=$B$3,Worksheet!$D$7,IF(C277=$D$3,Worksheet!$B$10,IF(C277=$E$3,Worksheet!$D$10,FALSE)))))))))))))","v":true},{"$f":"IF(AE277,D277,\"\")","v":"Medium"},{"$f":"IF(AE277,COUNTIF($AF$5:AF277,AF277),\"X\")","v":109},{"$f":"CONCATENATE(AE277,AF277)","v":"TRUEMedium"}]
[{"$f":"CONCATENATE(AE278,D278,AG278)","v":"TRUEEasy62"},{"$f":"RAND()","v":0.89048639612357361},"Dec","Easy",204,"Continue the pattern for three more numbers:   ",{"$f":"RANDBETWEEN(1,40)","v":26},{"$f":"G278+S278","v":26.5},{"$f":"H278+S278","v":27},{"$f":"I278+S278","v":27.5},"____","____","____",null,null,null,null,null,0.5,{"$f":"CONCATENATE(F278,\" \",G278,\",   \",H278,\",   \",I278,\",   \",J278,\",   \",K278,\",   \",L278,\",   \",M278,\" \",N278,\" \",O278,\" \",P278,\" \",Q278,\" \",R278)","v":"Continue the pattern for three more numbers:    26,   26.5,   27,   27.5,   ____,   ____,   ____     "},{"$f":"J278+S278","v":28},{"$f":"U278+S278","v":28.5},{"$f":"V278+S278","v":29},null,null,null,null,null,null,{"$f":"IF(OR(ISNA(U278),ISNA(V278),ISNA(W278),ISNA(X278),ISNA(Y278),ISNA(Z278),ISNA(AA278),ISNA(AB278),ISNA(AC278)),NA(),CONCATENATE(U278,\",   \",V278,\",   \",W278,X278,Y278,Z278,AA278,AB278))","v":"28,   28.5,   29"},{"$f":"IF(ISNA(AD278),FALSE,IF(C278=$B$1,Worksheet!$B$3,IF(C278=$C$1,Worksheet!$B$4,IF(C278=$D$1,Worksheet!$B$5,IF(C278=$E$1,Worksheet!$B$6,IF(C278=$B$2,Worksheet!$B$7,IF(C278=$C$2,Worksheet!$D$3,IF(C278=$D$2,Worksheet!$D$4,IF(C278=$E$2,Worksheet!$D$5,IF(C278=$C$3,Worksheet!$D$6,IF(C278=$B$3,Worksheet!$D$7,IF(C278=$D$3,Worksheet!$B$10,IF(C278=$E$3,Worksheet!$D$10,FALSE)))))))))))))","v":true},{"$f":"IF(AE278,D278,\"\")","v":"Easy"},{"$f":"IF(AE278,COUNTIF($AF$5:AF278,AF278),\"X\")","v":62},{"$f":"CONCATENATE(AE278,AF278)","v":"TRUEEasy"}]
[{"$f":"CONCATENATE(AE279,D279,AG279)","v":"TRUEMedium110"},{"$f":"RAND()","v":1.2193383208025876E-2},"Choose","Medium",140,"There are",{"$f":"U279*RANDBETWEEN(4,7)","v":49},"children at a football tournament.  They are put into teams of",{"$f":"G279/U279","v":7},".  How many teams can be made?",null,null,null,null,null,null,null,null,null,{"$f":"CONCATENATE(F279,\" \",G279,\" \",H279,\" \",I279,\"\",J279,\" \",K279,\" \",L279,\" \",M279,\" \",N279,\" \",O279,\" \",P279,\" \",Q279,\" \",R279)","v":"There are 49 children at a football tournament.  They are put into teams of 7.  How many teams can be made?        "},{"$f":"RANDBETWEEN(6,9)","v":7},null,null,null,null,null,null,null,null,{"$f":"IF(OR(ISNA(U279),ISNA(V279),ISNA(W279),ISNA(X279),ISNA(Y279),ISNA(Z279),ISNA(AA279),ISNA(AB279),ISNA(AC279)),NA(),CONCATENATE(U279,V279,W279,X279,Y279,Z279,AA279,AB279))","v":"7"},{"$f":"IF(ISNA(AD279),FALSE,IF(C279=$B$1,Worksheet!$B$3,IF(C279=$C$1,Worksheet!$B$4,IF(C279=$D$1,Worksheet!$B$5,IF(C279=$E$1,Worksheet!$B$6,IF(C279=$B$2,Worksheet!$B$7,IF(C279=$C$2,Worksheet!$D$3,IF(C279=$D$2,Worksheet!$D$4,IF(C279=$E$2,Worksheet!$D$5,IF(C279=$C$3,Worksheet!$D$6,IF(C279=$B$3,Worksheet!$D$7,IF(C279=$D$3,Worksheet!$B$10,IF(C279=$E$3,Worksheet!$D$10,FALSE)))))))))))))","v":true},{"$f":"IF(AE279,D279,\"\")","v":"Medium"},{"$f":"IF(AE279,COUNTIF($AF$5:AF279,AF279),\"X\")","v":110},{"$f":"CONCATENATE(AE279,AF279)","v":"TRUEMedium"}]
[{"$f":"CONCATENATE(AE280,D280,AG280)","v":"TRUEMedium111"},{"$f":"RAND()","v":5.7473584812323231E-2},"%","Medium",309,"What is",75,"% as a fraction in its simplest form?",null,null,null,null,null,null,null,null,null,null,null,{"$f":"CONCATENATE(F280,\" \",G280,\"\",H280,\" \",I280,\" \",J280,\" \",K280,\" \",L280,\" \",M280,\" \",N280,\" \",O280,\" \",P280,\" \",Q280,\" \",R280)","v":"What is 75% as a fraction in its simplest form?          "},"3/4",null,null,null,null,null,null,null,null,{"$f":"IF(OR(ISNA(U280),ISNA(V280),ISNA(W280),ISNA(X280),ISNA(Y280),ISNA(Z280),ISNA(AA280),ISNA(AB280),ISNA(AC280)),NA(),CONCATENATE(U280,V280,W280,X280,Y280,Z280,AA280,AB280))","v":"3/4"},{"$f":"IF(ISNA(AD280),FALSE,IF(C280=$B$1,Worksheet!$B$3,IF(C280=$C$1,Worksheet!$B$4,IF(C280=$D$1,Worksheet!$B$5,IF(C280=$E$1,Worksheet!$B$6,IF(C280=$B$2,Worksheet!$B$7,IF(C280=$C$2,Worksheet!$D$3,IF(C280=$D$2,Worksheet!$D$4,IF(C280=$E$2,Worksheet!$D$5,IF(C280=$C$3,Worksheet!$D$6,IF(C280=$B$3,Worksheet!$D$7,IF(C280=$D$3,Worksheet!$B$10,IF(C280=$E$3,Worksheet!$D$10,FALSE)))))))))))))","v":true},{"$f":"IF(AE280,D280,\"\")","v":"Medium"},{"$f":"IF(AE280,COUNTIF($AF$5:AF280,AF280),\"X\")","v":111},{"$f":"CONCATENATE(AE280,AF280)","v":"TRUEMedium"}]
[{"$f":"CONCATENATE(AE281,D281,AG281)","v":"TRUEMedium112"},{"$f":"RAND()","v":0.25037361096584698},"Divide","Medium",129,"Divide:   ",{"$f":"TEXT((RANDBETWEEN(1,9)*10+RANDBETWEEN(1,9))*10^RANDBETWEEN(2,3),\"#,###\")","v":"25,000"},"÷",10,null,null,null,null,null,null,null,null,null,null,{"$f":"CONCATENATE(F281,\" \",G281,\" \",H281,\" \",I281,\" \",J281,\" \",K281,\" \",L281,\" \",M281,\" \",N281,\" \",O281,\" \",P281,\" \",Q281,\" \",R281)","v":"Divide:    25,000 ÷ 10         "},{"$f":"G281/10","v":2500},null,{"$f":"IF(INT(U281)<>U281,NA(),\"\")","v":""},null,null,null,null,null,null,{"$f":"IF(OR(ISNA(U281),ISNA(V281),ISNA(W281),ISNA(X281),ISNA(Y281),ISNA(Z281),ISNA(AA281),ISNA(AB281),ISNA(AC281)),NA(),CONCATENATE(U281,V281,W281,X281,Y281,Z281,AA281,AB281))","v":"2500"},{"$f":"IF(ISNA(AD281),FALSE,IF(C281=$B$1,Worksheet!$B$3,IF(C281=$C$1,Worksheet!$B$4,IF(C281=$D$1,Worksheet!$B$5,IF(C281=$E$1,Worksheet!$B$6,IF(C281=$B$2,Worksheet!$B$7,IF(C281=$C$2,Worksheet!$D$3,IF(C281=$D$2,Worksheet!$D$4,IF(C281=$E$2,Worksheet!$D$5,IF(C281=$C$3,Worksheet!$D$6,IF(C281=$B$3,Worksheet!$D$7,IF(C281=$D$3,Worksheet!$B$10,IF(C281=$E$3,Worksheet!$D$10,FALSE)))))))))))))","v":true},{"$f":"IF(AE281,D281,\"\")","v":"Medium"},{"$f":"IF(AE281,COUNTIF($AF$5:AF281,AF281),\"X\")","v":112},{"$f":"CONCATENATE(AE281,AF281)","v":"TRUEMedium"}]
[{"$f":"CONCATENATE(AE282,D282,AG282)","v":"TRUEMedium113"},{"$f":"RAND()","v":0.52623671108302028},"Dec","Medium",215,"Write the fraction",{"$f":"RANDBETWEEN(1,9)","v":5},"/100","as a decimal",null,null,null,null,null,null,null,null,null,null,{"$f":"CONCATENATE(F282,\" \",G282,\"\",H282,\" \",I282,\" \",J282,\" \",K282,\" \",L282,\" \",M282,\" \",N282,\" \",O282,\" \",P282,\" \",Q282,\" \",R282)","v":"Write the fraction 5/100 as a decimal         "},{"$f":"G282/100","v":0.05},null,null,null,null,null,null,null,null,{"$f":"IF(OR(ISNA(U282),ISNA(V282),ISNA(W282),ISNA(X282),ISNA(Y282),ISNA(Z282),ISNA(AA282),ISNA(AB282),ISNA(AC282)),NA(),CONCATENATE(U282,V282,W282,X282,Y282,Z282,AA282,AB282))","v":"0.05"},{"$f":"IF(ISNA(AD282),FALSE,IF(C282=$B$1,Worksheet!$B$3,IF(C282=$C$1,Worksheet!$B$4,IF(C282=$D$1,Worksheet!$B$5,IF(C282=$E$1,Worksheet!$B$6,IF(C282=$B$2,Worksheet!$B$7,IF(C282=$C$2,Worksheet!$D$3,IF(C282=$D$2,Worksheet!$D$4,IF(C282=$E$2,Worksheet!$D$5,IF(C282=$C$3,Worksheet!$D$6,IF(C282=$B$3,Worksheet!$D$7,IF(C282=$D$3,Worksheet!$B$10,IF(C282=$E$3,Worksheet!$D$10,FALSE)))))))))))))","v":true},{"$f":"IF(AE282,D282,\"\")","v":"Medium"},{"$f":"IF(AE282,COUNTIF($AF$5:AF282,AF282),\"X\")","v":113},{"$f":"CONCATENATE(AE282,AF282)","v":"TRUEMedium"}]
[{"$f":"CONCATENATE(AE283,D283,AG283)","v":"TRUEMedium114"},{"$f":"RAND()","v":0.93955122712082129},"Dec","Medium",251,"Continue the pattern for three more numbers:   ",{"$f":"RANDBETWEEN(1,40)+RANDBETWEEN(0,8)*0.1+0.07","v":10.77},{"$f":"G283+S283","v":10.78},{"$f":"H283+S283","v":10.79},{"$f":"I283+S283","v":10.799999999999999},"____","____","____",null,null,null,null,null,0.01,{"$f":"CONCATENATE(F283,\" \",G283,\",   \",H283,\",   \",I283,\",   \",J283,\",   \",K283,\",   \",L283,\",   \",M283,\" \",N283,\" \",O283,\" \",P283,\" \",Q283,\" \",R283)","v":"Continue the pattern for three more numbers:    10.77,   10.78,   10.79,   10.8,   ____,   ____,   ____     "},{"$f":"J283+S283","v":10.809999999999999},{"$f":"U283+S283","v":10.819999999999999},{"$f":"V283+S283","v":10.829999999999998},null,null,null,null,null,null,{"$f":"IF(OR(ISNA(U283),ISNA(V283),ISNA(W283),ISNA(X283),ISNA(Y283),ISNA(Z283),ISNA(AA283),ISNA(AB283),ISNA(AC283)),NA(),CONCATENATE(U283,\",   \",V283,\",   \",W283,X283,Y283,Z283,AA283,AB283))","v":"10.81,   10.82,   10.83"},{"$f":"IF(ISNA(AD283),FALSE,IF(C283=$B$1,Worksheet!$B$3,IF(C283=$C$1,Worksheet!$B$4,IF(C283=$D$1,Worksheet!$B$5,IF(C283=$E$1,Worksheet!$B$6,IF(C283=$B$2,Worksheet!$B$7,IF(C283=$C$2,Worksheet!$D$3,IF(C283=$D$2,Worksheet!$D$4,IF(C283=$E$2,Worksheet!$D$5,IF(C283=$C$3,Worksheet!$D$6,IF(C283=$B$3,Worksheet!$D$7,IF(C283=$D$3,Worksheet!$B$10,IF(C283=$E$3,Worksheet!$D$10,FALSE)))))))))))))","v":true},{"$f":"IF(AE283,D283,\"\")","v":"Medium"},{"$f":"IF(AE283,COUNTIF($AF$5:AF283,AF283),\"X\")","v":114},{"$f":"CONCATENATE(AE283,AF283)","v":"TRUEMedium"}]
[{"$f":"CONCATENATE(AE284,D284,AG284)","v":"TRUEEasy63"},{"$f":"RAND()","v":0.21932119254937188},"Frac","Easy",190,"Add the fractions:       ","3/4","  +  ","1/4",null,null,null,null,null,null,null,null,null,null,{"$f":"CONCATENATE(F284,\" \",G284,\" \",H284,\" \",I284,\" \",J284,\" \",K284,\" \",L284,\" \",M284,\" \",N284,\" \",O284,\" \",P284,\" \",Q284,\" \",R284)","v":"Add the fractions:        3/4   +   1/4         "},1,null,null,null,null,null,null,null,null,{"$f":"IF(OR(ISNA(U284),ISNA(V284),ISNA(W284),ISNA(X284),ISNA(Y284),ISNA(Z284),ISNA(AA284),ISNA(AB284),ISNA(AC284)),NA(),CONCATENATE(U284,V284,W284,X284,Y284,Z284,AA284,AB284))","v":"1"},{"$f":"IF(ISNA(AD284),FALSE,IF(C284=$B$1,Worksheet!$B$3,IF(C284=$C$1,Worksheet!$B$4,IF(C284=$D$1,Worksheet!$B$5,IF(C284=$E$1,Worksheet!$B$6,IF(C284=$B$2,Worksheet!$B$7,IF(C284=$C$2,Worksheet!$D$3,IF(C284=$D$2,Worksheet!$D$4,IF(C284=$E$2,Worksheet!$D$5,IF(C284=$C$3,Worksheet!$D$6,IF(C284=$B$3,Worksheet!$D$7,IF(C284=$D$3,Worksheet!$B$10,IF(C284=$E$3,Worksheet!$D$10,FALSE)))))))))))))","v":true},{"$f":"IF(AE284,D284,\"\")","v":"Easy"},{"$f":"IF(AE284,COUNTIF($AF$5:AF284,AF284),\"X\")","v":63},{"$f":"CONCATENATE(AE284,AF284)","v":"TRUEEasy"}]
[{"$f":"CONCATENATE(AE285,D285,AG285)","v":"TRUEEasy64"},{"$f":"RAND()","v":0.19070027177893056},"+-","Easy",38,"Add:   ",{"$f":"RANDBETWEEN(6,15)*10","v":70},"+",{"$f":"RANDBETWEEN(6,15)*10","v":130},null,null,null,null,null,null,null,null,null,null,{"$f":"CONCATENATE(F285,\" \",G285,\" \",H285,\" \",I285,\" \",J285,\" \",K285,\" \",L285,\" \",M285,\" \",N285,\" \",O285,\" \",P285,\" \",Q285,\" \",R285)","v":"Add:    70 + 130         "},{"$f":"G285+I285","v":200},null,null,null,null,null,null,null,null,{"$f":"IF(OR(ISNA(U285),ISNA(V285),ISNA(W285),ISNA(X285),ISNA(Y285),ISNA(Z285),ISNA(AA285),ISNA(AB285),ISNA(AC285)),NA(),CONCATENATE(U285,V285,W285,X285,Y285,Z285,AA285,AB285))","v":"200"},{"$f":"IF(ISNA(AD285),FALSE,IF(C285=$B$1,Worksheet!$B$3,IF(C285=$C$1,Worksheet!$B$4,IF(C285=$D$1,Worksheet!$B$5,IF(C285=$E$1,Worksheet!$B$6,IF(C285=$B$2,Worksheet!$B$7,IF(C285=$C$2,Worksheet!$D$3,IF(C285=$D$2,Worksheet!$D$4,IF(C285=$E$2,Worksheet!$D$5,IF(C285=$C$3,Worksheet!$D$6,IF(C285=$B$3,Worksheet!$D$7,IF(C285=$D$3,Worksheet!$B$10,IF(C285=$E$3,Worksheet!$D$10,FALSE)))))))))))))","v":true},{"$f":"IF(AE285,D285,\"\")","v":"Easy"},{"$f":"IF(AE285,COUNTIF($AF$5:AF285,AF285),\"X\")","v":64},{"$f":"CONCATENATE(AE285,AF285)","v":"TRUEEasy"}]
[{"$f":"CONCATENATE(AE286,D286,AG286)","v":"TRUEEasy65"},{"$f":"RAND()","v":0.36581578501040046},"Divide","Easy",131,"Divide:   ",{"$f":"TEXT(RANDBETWEEN(1,9)*10000+RANDBETWEEN(1,9)*1000,\"#,###\")","v":"96,000"},"÷",1000,null,null,null,null,null,null,null,null,null,null,{"$f":"CONCATENATE(F286,\" \",G286,\" \",H286,\" \",I286,\" \",J286,\" \",K286,\" \",L286,\" \",M286,\" \",N286,\" \",O286,\" \",P286,\" \",Q286,\" \",R286)","v":"Divide:    96,000 ÷ 1000         "},{"$f":"G286/I286","v":96},null,{"$f":"IF(INT(U286)<>U286,NA(),\"\")","v":""},null,null,null,null,null,null,{"$f":"IF(OR(ISNA(U286),ISNA(V286),ISNA(W286),ISNA(X286),ISNA(Y286),ISNA(Z286),ISNA(AA286),ISNA(AB286),ISNA(AC286)),NA(),CONCATENATE(U286,V286,W286,X286,Y286,Z286,AA286,AB286))","v":"96"},{"$f":"IF(ISNA(AD286),FALSE,IF(C286=$B$1,Worksheet!$B$3,IF(C286=$C$1,Worksheet!$B$4,IF(C286=$D$1,Worksheet!$B$5,IF(C286=$E$1,Worksheet!$B$6,IF(C286=$B$2,Worksheet!$B$7,IF(C286=$C$2,Worksheet!$D$3,IF(C286=$D$2,Worksheet!$D$4,IF(C286=$E$2,Worksheet!$D$5,IF(C286=$C$3,Worksheet!$D$6,IF(C286=$B$3,Worksheet!$D$7,IF(C286=$D$3,Worksheet!$B$10,IF(C286=$E$3,Worksheet!$D$10,FALSE)))))))))))))","v":true},{"$f":"IF(AE286,D286,\"\")","v":"Easy"},{"$f":"IF(AE286,COUNTIF($AF$5:AF286,AF286),\"X\")","v":65},{"$f":"CONCATENATE(AE286,AF286)","v":"TRUEEasy"}]
[{"$f":"CONCATENATE(AE287,D287,AG287)","v":"FALSEMediumX"},{"$f":"RAND()","v":0.86628864882780898},"Alg","Medium",363,"Algebra.   If",{"$f":"CHOOSE(RANDBETWEEN(1,10),\"a\",\"x\",\"y\",\"b\",\"m\",\"p\",\"x\",\"y\",\"k\",\"f\")","v":"f"},"=",{"$f":"RANDBETWEEN(2,10)","v":5},", what is",null,{"$f":"RANDBETWEEN(2,10)","v":9},{"$f":"G287","v":"f"},"?",null,null,null,null,null,{"$f":"CONCATENATE(F287,\" \",G287,\" \",H287,\" \",I287,\"\",J287,\"\",K287,\"    \",L287,\"\",M287,\" \",N287,\" \",O287,\" \",P287,\" \",Q287,\" \",R287)","v":"Algebra.   If f = 5, what is    9f ?    "},{"$f":"I287*L287","v":45},null,null,null,null,null,null,null,null,{"$f":"IF(OR(ISNA(U287),ISNA(V287),ISNA(W287),ISNA(X287),ISNA(Y287),ISNA(Z287),ISNA(AA287),ISNA(AB287),ISNA(AC287)),NA(),CONCATENATE(U287,V287,W287,X287,Y287,Z287,AA287,AB287))","v":"45"},{"$f":"IF(ISNA(AD287),FALSE,IF(C287=$B$1,Worksheet!$B$3,IF(C287=$C$1,Worksheet!$B$4,IF(C287=$D$1,Worksheet!$B$5,IF(C287=$E$1,Worksheet!$B$6,IF(C287=$B$2,Worksheet!$B$7,IF(C287=$C$2,Worksheet!$D$3,IF(C287=$D$2,Worksheet!$D$4,IF(C287=$E$2,Worksheet!$D$5,IF(C287=$C$3,Worksheet!$D$6,IF(C287=$B$3,Worksheet!$D$7,IF(C287=$D$3,Worksheet!$B$10,IF(C287=$E$3,Worksheet!$D$10,FALSE)))))))))))))","v":false},{"$f":"IF(AE287,D287,\"\")","v":""},{"$f":"IF(AE287,COUNTIF($AF$5:AF287,AF287),\"X\")","v":"X"},{"$f":"CONCATENATE(AE287,AF287)","v":"FALSE"}]
[{"$f":"CONCATENATE(AE288,D288,AG288)","v":"TRUEHard87"},{"$f":"RAND()","v":0.4068880340683807},"%","Hard",299,"What is",{"$f":"RANDBETWEEN(1,9)","v":2},"/10","as a percentage?",null,null,null,null,null,null,null,null,null,null,{"$f":"CONCATENATE(F288,\" \",G288,\"\",H288,\" \",I288,\" \",J288,\" \",K288,\" \",L288,\" \",M288,\" \",N288,\" \",O288,\" \",P288,\" \",Q288,\" \",R288)","v":"What is 2/10 as a percentage?         "},{"$f":"G288*10","v":20},"%",null,null,null,null,null,null,null,{"$f":"IF(OR(ISNA(U288),ISNA(V288),ISNA(W288),ISNA(X288),ISNA(Y288),ISNA(Z288),ISNA(AA288),ISNA(AB288),ISNA(AC288)),NA(),CONCATENATE(U288,V288,W288,X288,Y288,Z288,AA288,AB288))","v":"20%"},{"$f":"IF(ISNA(AD288),FALSE,IF(C288=$B$1,Worksheet!$B$3,IF(C288=$C$1,Worksheet!$B$4,IF(C288=$D$1,Worksheet!$B$5,IF(C288=$E$1,Worksheet!$B$6,IF(C288=$B$2,Worksheet!$B$7,IF(C288=$C$2,Worksheet!$D$3,IF(C288=$D$2,Worksheet!$D$4,IF(C288=$E$2,Worksheet!$D$5,IF(C288=$C$3,Worksheet!$D$6,IF(C288=$B$3,Worksheet!$D$7,IF(C288=$D$3,Worksheet!$B$10,IF(C288=$E$3,Worksheet!$D$10,FALSE)))))))))))))","v":true},{"$f":"IF(AE288,D288,\"\")","v":"Hard"},{"$f":"IF(AE288,COUNTIF($AF$5:AF288,AF288),\"X\")","v":87},{"$f":"CONCATENATE(AE288,AF288)","v":"TRUEHard"}]
[{"$f":"CONCATENATE(AE289,D289,AG289)","v":"TRUEEasy66"},{"$f":"RAND()","v":0.63928554260255155},"+-","Easy",25,"Fill in the missing number:   ","____ +",{"$f":"RANDBETWEEN(1,8)*10+RANDBETWEEN(1,9)","v":68},"=",100,null,null,null,null,null,null,null,null,null,{"$f":"CONCATENATE(F289,\" \",G289,\" \",H289,\" \",I289,\" \",J289,\" \",K289,\" \",L289,\" \",M289,\" \",N289,\" \",O289,\" \",P289,\" \",Q289,\" \",R289)","v":"Fill in the missing number:    ____ + 68 = 100        "},{"$f":"J289-H289","v":32},null,null,null,null,null,null,null,null,{"$f":"IF(OR(ISNA(U289),ISNA(V289),ISNA(W289),ISNA(X289),ISNA(Y289),ISNA(Z289),ISNA(AA289),ISNA(AB289),ISNA(AC289)),NA(),CONCATENATE(U289,V289,W289,X289,Y289,Z289,AA289,AB289))","v":"32"},{"$f":"IF(ISNA(AD289),FALSE,IF(C289=$B$1,Worksheet!$B$3,IF(C289=$C$1,Worksheet!$B$4,IF(C289=$D$1,Worksheet!$B$5,IF(C289=$E$1,Worksheet!$B$6,IF(C289=$B$2,Worksheet!$B$7,IF(C289=$C$2,Worksheet!$D$3,IF(C289=$D$2,Worksheet!$D$4,IF(C289=$E$2,Worksheet!$D$5,IF(C289=$C$3,Worksheet!$D$6,IF(C289=$B$3,Worksheet!$D$7,IF(C289=$D$3,Worksheet!$B$10,IF(C289=$E$3,Worksheet!$D$10,FALSE)))))))))))))","v":true},{"$f":"IF(AE289,D289,\"\")","v":"Easy"},{"$f":"IF(AE289,COUNTIF($AF$5:AF289,AF289),\"X\")","v":66},{"$f":"CONCATENATE(AE289,AF289)","v":"TRUEEasy"}]
[{"$f":"CONCATENATE(AE290,D290,AG290)","v":"TRUEMedium115"},{"$f":"RAND()","v":0.85606502561380515},"+-","Medium",28,"Fill in the missing number:   ",{"$f":"RANDBETWEEN(1,9)*100+RANDBETWEEN(1,8)*10+RANDBETWEEN(1,9)","v":155},"+ ____ = ",{"$f":"INT((G290+100)/100)*100","v":200},null,null,null,null,null,null,null,null,null,null,{"$f":"CONCATENATE(F290,\" \",G290,\" \",H290,\" \",I290,\" \",J290,\" \",K290,\" \",L290,\" \",M290,\" \",N290,\" \",O290,\" \",P290,\" \",Q290,\" \",R290)","v":"Fill in the missing number:    155 + ____ =  200         "},{"$f":"I290-G290","v":45},null,null,null,null,null,null,null,null,{"$f":"IF(OR(ISNA(U290),ISNA(V290),ISNA(W290),ISNA(X290),ISNA(Y290),ISNA(Z290),ISNA(AA290),ISNA(AB290),ISNA(AC290)),NA(),CONCATENATE(U290,V290,W290,X290,Y290,Z290,AA290,AB290))","v":"45"},{"$f":"IF(ISNA(AD290),FALSE,IF(C290=$B$1,Worksheet!$B$3,IF(C290=$C$1,Worksheet!$B$4,IF(C290=$D$1,Worksheet!$B$5,IF(C290=$E$1,Worksheet!$B$6,IF(C290=$B$2,Worksheet!$B$7,IF(C290=$C$2,Worksheet!$D$3,IF(C290=$D$2,Worksheet!$D$4,IF(C290=$E$2,Worksheet!$D$5,IF(C290=$C$3,Worksheet!$D$6,IF(C290=$B$3,Worksheet!$D$7,IF(C290=$D$3,Worksheet!$B$10,IF(C290=$E$3,Worksheet!$D$10,FALSE)))))))))))))","v":true},{"$f":"IF(AE290,D290,\"\")","v":"Medium"},{"$f":"IF(AE290,COUNTIF($AF$5:AF290,AF290),\"X\")","v":115},{"$f":"CONCATENATE(AE290,AF290)","v":"TRUEMedium"}]
[{"$f":"CONCATENATE(AE291,D291,AG291)","v":"TRUEMedium116"},{"$f":"RAND()","v":0.72865542957431728},"%","Medium",310,"What is",20,"% as a fraction in its simplest form?",null,null,null,null,null,null,null,null,null,null,null,{"$f":"CONCATENATE(F291,\" \",G291,\"\",H291,\" \",I291,\" \",J291,\" \",K291,\" \",L291,\" \",M291,\" \",N291,\" \",O291,\" \",P291,\" \",Q291,\" \",R291)","v":"What is 20% as a fraction in its simplest form?          "},"1/5",null,null,null,null,null,null,null,null,{"$f":"IF(OR(ISNA(U291),ISNA(V291),ISNA(W291),ISNA(X291),ISNA(Y291),ISNA(Z291),ISNA(AA291),ISNA(AB291),ISNA(AC291)),NA(),CONCATENATE(U291,V291,W291,X291,Y291,Z291,AA291,AB291))","v":"1/5"},{"$f":"IF(ISNA(AD291),FALSE,IF(C291=$B$1,Worksheet!$B$3,IF(C291=$C$1,Worksheet!$B$4,IF(C291=$D$1,Worksheet!$B$5,IF(C291=$E$1,Worksheet!$B$6,IF(C291=$B$2,Worksheet!$B$7,IF(C291=$C$2,Worksheet!$D$3,IF(C291=$D$2,Worksheet!$D$4,IF(C291=$E$2,Worksheet!$D$5,IF(C291=$C$3,Worksheet!$D$6,IF(C291=$B$3,Worksheet!$D$7,IF(C291=$D$3,Worksheet!$B$10,IF(C291=$E$3,Worksheet!$D$10,FALSE)))))))))))))","v":true},{"$f":"IF(AE291,D291,\"\")","v":"Medium"},{"$f":"IF(AE291,COUNTIF($AF$5:AF291,AF291),\"X\")","v":116},{"$f":"CONCATENATE(AE291,AF291)","v":"TRUEMedium"}]
[{"$f":"CONCATENATE(AE292,D292,AG292)","v":"TRUEHard88"},{"$f":"RAND()","v":4.1968833194738653E-2},"Mult","Hard",77,"What is double",{"$f":"RANDBETWEEN(1,3)*100+RANDBETWEEN(1,9)*10+RANDBETWEEN(1,9)","v":263},"?",null,null,null,null,null,null,null,null,null,null,null,{"$f":"CONCATENATE(F292,\" \",G292,\" \",H292,\" \",I292,\" \",J292,\" \",K292,\" \",L292,\" \",M292,\" \",N292,\" \",O292,\" \",P292,\" \",Q292,\" \",R292)","v":"What is double 263 ?          "},{"$f":"2*G292","v":526},null,null,null,null,null,null,null,null,{"$f":"IF(OR(ISNA(U292),ISNA(V292),ISNA(W292),ISNA(X292),ISNA(Y292),ISNA(Z292),ISNA(AA292),ISNA(AB292),ISNA(AC292)),NA(),CONCATENATE(U292,V292,W292,X292,Y292,Z292,AA292,AB292))","v":"526"},{"$f":"IF(ISNA(AD292),FALSE,IF(C292=$B$1,Worksheet!$B$3,IF(C292=$C$1,Worksheet!$B$4,IF(C292=$D$1,Worksheet!$B$5,IF(C292=$E$1,Worksheet!$B$6,IF(C292=$B$2,Worksheet!$B$7,IF(C292=$C$2,Worksheet!$D$3,IF(C292=$D$2,Worksheet!$D$4,IF(C292=$E$2,Worksheet!$D$5,IF(C292=$C$3,Worksheet!$D$6,IF(C292=$B$3,Worksheet!$D$7,IF(C292=$D$3,Worksheet!$B$10,IF(C292=$E$3,Worksheet!$D$10,FALSE)))))))))))))","v":true},{"$f":"IF(AE292,D292,\"\")","v":"Hard"},{"$f":"IF(AE292,COUNTIF($AF$5:AF292,AF292),\"X\")","v":88},{"$f":"CONCATENATE(AE292,AF292)","v":"TRUEHard"}]
[{"$f":"CONCATENATE(AE293,D293,AG293)","v":"TRUEEasy67"},{"$f":"RAND()","v":0.64042235034894135},"Choose","Easy",134,{"$f":"CHOOSE(RANDBETWEEN(1,5),\"Graham\",\"Sean\",\"Kyle\",\"Robbie\",\"Jack\")","v":"Robbie"},"earns",{"$f":"RANDBETWEEN(20,50)","v":26},"on Wednesday,",{"$f":"RANDBETWEEN(20,50)","v":30},"on Thursday and",null,{"$f":"RANDBETWEEN(20,50)","v":36},"on Friday.  How much does he earn in total?",null,null,null,null,null,{"$f":"CONCATENATE(F293,\" \",G293,\" £\",H293,\" \",I293,\" £\",J293,\" \",K293,\" \",L293,\" £\",M293,\" \",N293,\" \",O293,\" \",P293,\" \",Q293,\" \",R293)","v":"Robbie earns £26 on Wednesday, £30 on Thursday and  £36 on Friday.  How much does he earn in total?    "},{"$f":"H293+J293+M293","v":92},null,null,null,null,null,null,null,null,{"$f":"IF(OR(ISNA(U293),ISNA(V293),ISNA(W293),ISNA(X293),ISNA(Y293),ISNA(Z293),ISNA(AA293),ISNA(AB293),ISNA(AC293)),NA(),CONCATENATE(U293,V293,W293,X293,Y293,Z293,AA293,AB293))","v":"92"},{"$f":"IF(ISNA(AD293),FALSE,IF(C293=$B$1,Worksheet!$B$3,IF(C293=$C$1,Worksheet!$B$4,IF(C293=$D$1,Worksheet!$B$5,IF(C293=$E$1,Worksheet!$B$6,IF(C293=$B$2,Worksheet!$B$7,IF(C293=$C$2,Worksheet!$D$3,IF(C293=$D$2,Worksheet!$D$4,IF(C293=$E$2,Worksheet!$D$5,IF(C293=$C$3,Worksheet!$D$6,IF(C293=$B$3,Worksheet!$D$7,IF(C293=$D$3,Worksheet!$B$10,IF(C293=$E$3,Worksheet!$D$10,FALSE)))))))))))))","v":true},{"$f":"IF(AE293,D293,\"\")","v":"Easy"},{"$f":"IF(AE293,COUNTIF($AF$5:AF293,AF293),\"X\")","v":67},{"$f":"CONCATENATE(AE293,AF293)","v":"TRUEEasy"}]
[{"$f":"CONCATENATE(AE294,D294,AG294)","v":"TRUEMedium117"},{"$f":"RAND()","v":0.35312231809722838},"Dec","Medium",220,"Write the decimal number",{"$f":"CHOOSE(RANDBETWEEN(1,4),1,3,7,9)/100","v":0.01},"as a fraction",null,null,null,null,null,null,null,null,null,null,null,{"$f":"CONCATENATE(F294,\" \",G294,\" \",H294,\" \",I294,\" \",J294,\" \",K294,\" \",L294,\" \",M294,\" \",N294,\" \",O294,\" \",P294,\" \",Q294,\" \",R294)","v":"Write the decimal number 0.01 as a fraction          "},{"$f":"G294*10","v":0.1},"/100",null,null,null,null,null,null,null,{"$f":"IF(OR(ISNA(U294),ISNA(V294),ISNA(W294),ISNA(X294),ISNA(Y294),ISNA(Z294),ISNA(AA294),ISNA(AB294),ISNA(AC294)),NA(),CONCATENATE(U294,V294,W294,X294,Y294,Z294,AA294,AB294))","v":"0.1/100"},{"$f":"IF(ISNA(AD294),FALSE,IF(C294=$B$1,Worksheet!$B$3,IF(C294=$C$1,Worksheet!$B$4,IF(C294=$D$1,Worksheet!$B$5,IF(C294=$E$1,Worksheet!$B$6,IF(C294=$B$2,Worksheet!$B$7,IF(C294=$C$2,Worksheet!$D$3,IF(C294=$D$2,Worksheet!$D$4,IF(C294=$E$2,Worksheet!$D$5,IF(C294=$C$3,Worksheet!$D$6,IF(C294=$B$3,Worksheet!$D$7,IF(C294=$D$3,Worksheet!$B$10,IF(C294=$E$3,Worksheet!$D$10,FALSE)))))))))))))","v":true},{"$f":"IF(AE294,D294,\"\")","v":"Medium"},{"$f":"IF(AE294,COUNTIF($AF$5:AF294,AF294),\"X\")","v":117},{"$f":"CONCATENATE(AE294,AF294)","v":"TRUEMedium"}]
[{"$f":"CONCATENATE(AE295,D295,AG295)","v":"FALSEEasyX"},{"$f":"RAND()","v":9.6277504215576237E-2},"Alg","Easy",361,"Algebra.   If",{"$f":"CHOOSE(RANDBETWEEN(1,10),\"a\",\"x\",\"y\",\"b\",\"m\",\"p\",\"x\",\"y\",\"k\",\"f\")","v":"m"},"=",{"$f":"RANDBETWEEN(10,20)","v":20},", what is",null,{"$f":"G295","v":"m"},"–",{"$f":"RANDBETWEEN(1,10)","v":6},"?",null,null,null,null,{"$f":"CONCATENATE(F295,\" \",G295,\" \",H295,\" \",I295,\"\",J295,\"\",K295,\"    \",L295,\" \",M295,\" \",N295,\" \",O295,\" \",P295,\" \",Q295,\" \",R295)","v":"Algebra.   If m = 20, what is    m – 6 ?   "},{"$f":"I295-N295","v":14},null,null,null,null,null,null,null,null,{"$f":"IF(OR(ISNA(U295),ISNA(V295),ISNA(W295),ISNA(X295),ISNA(Y295),ISNA(Z295),ISNA(AA295),ISNA(AB295),ISNA(AC295)),NA(),CONCATENATE(U295,V295,W295,X295,Y295,Z295,AA295,AB295))","v":"14"},{"$f":"IF(ISNA(AD295),FALSE,IF(C295=$B$1,Worksheet!$B$3,IF(C295=$C$1,Worksheet!$B$4,IF(C295=$D$1,Worksheet!$B$5,IF(C295=$E$1,Worksheet!$B$6,IF(C295=$B$2,Worksheet!$B$7,IF(C295=$C$2,Worksheet!$D$3,IF(C295=$D$2,Worksheet!$D$4,IF(C295=$E$2,Worksheet!$D$5,IF(C295=$C$3,Worksheet!$D$6,IF(C295=$B$3,Worksheet!$D$7,IF(C295=$D$3,Worksheet!$B$10,IF(C295=$E$3,Worksheet!$D$10,FALSE)))))))))))))","v":false},{"$f":"IF(AE295,D295,\"\")","v":""},{"$f":"IF(AE295,COUNTIF($AF$5:AF295,AF295),\"X\")","v":"X"},{"$f":"CONCATENATE(AE295,AF295)","v":"FALSE"}]
[{"$f":"CONCATENATE(AE296,D296,AG296)","v":"TRUEEasy68"},{"$f":"RAND()","v":0.31316400819610379},"Mult","Easy",58,"What is",{"$f":"RANDBETWEEN(6,9)","v":9},"×",{"$f":"RANDBETWEEN(6,9)","v":6},"?",null,null,null,null,null,null,null,null,null,{"$f":"CONCATENATE(F296,\" \",G296,\" \",H296,\" \",I296,\" \",J296,\" \",K296,\" \",L296,\" \",M296,\" \",N296,\" \",O296,\" \",P296,\" \",Q296,\" \",R296)","v":"What is 9 × 6 ?        "},{"$f":"G296*I296","v":54},null,null,null,null,null,null,null,null,{"$f":"IF(OR(ISNA(U296),ISNA(V296),ISNA(W296),ISNA(X296),ISNA(Y296),ISNA(Z296),ISNA(AA296),ISNA(AB296),ISNA(AC296)),NA(),CONCATENATE(U296,V296,W296,X296,Y296,Z296,AA296,AB296))","v":"54"},{"$f":"IF(ISNA(AD296),FALSE,IF(C296=$B$1,Worksheet!$B$3,IF(C296=$C$1,Worksheet!$B$4,IF(C296=$D$1,Worksheet!$B$5,IF(C296=$E$1,Worksheet!$B$6,IF(C296=$B$2,Worksheet!$B$7,IF(C296=$C$2,Worksheet!$D$3,IF(C296=$D$2,Worksheet!$D$4,IF(C296=$E$2,Worksheet!$D$5,IF(C296=$C$3,Worksheet!$D$6,IF(C296=$B$3,Worksheet!$D$7,IF(C296=$D$3,Worksheet!$B$10,IF(C296=$E$3,Worksheet!$D$10,FALSE)))))))))))))","v":true},{"$f":"IF(AE296,D296,\"\")","v":"Easy"},{"$f":"IF(AE296,COUNTIF($AF$5:AF296,AF296),\"X\")","v":68},{"$f":"CONCATENATE(AE296,AF296)","v":"TRUEEasy"}]
[{"$f":"CONCATENATE(AE297,D297,AG297)","v":"TRUEMedium118"},{"$f":"RAND()","v":0.85072216084636665},"Dec","Medium",242,"Fill in the number to complete the sum:   ",{"$f":"RANDBETWEEN(1,9)+RANDBETWEEN(1,9)/10","v":8.6}," + _____ = ",{"$f":"ROUNDUP(G297,0)+RANDBETWEEN(1,5)","v":12},null,null,null,null,null,null,null,null,null,null,{"$f":"CONCATENATE(F297,\" \",G297,\" \",H297,\" \",I297,\" \",J297,\" \",K297,\" \",L297,\" \",M297,\" \",N297,\" \",O297,\" \",P297,\" \",Q297,\" \",R297)","v":"Fill in the number to complete the sum:    8.6  + _____ =  12         "},{"$f":"I297-G297","v":3.4000000000000004},null,null,null,null,null,null,null,null,{"$f":"IF(OR(ISNA(U297),ISNA(V297),ISNA(W297),ISNA(X297),ISNA(Y297),ISNA(Z297),ISNA(AA297),ISNA(AB297),ISNA(AC297)),NA(),CONCATENATE(U297,V297,W297,X297,Y297,Z297,AA297,AB297))","v":"3.4"},{"$f":"IF(ISNA(AD297),FALSE,IF(C297=$B$1,Worksheet!$B$3,IF(C297=$C$1,Worksheet!$B$4,IF(C297=$D$1,Worksheet!$B$5,IF(C297=$E$1,Worksheet!$B$6,IF(C297=$B$2,Worksheet!$B$7,IF(C297=$C$2,Worksheet!$D$3,IF(C297=$D$2,Worksheet!$D$4,IF(C297=$E$2,Worksheet!$D$5,IF(C297=$C$3,Worksheet!$D$6,IF(C297=$B$3,Worksheet!$D$7,IF(C297=$D$3,Worksheet!$B$10,IF(C297=$E$3,Worksheet!$D$10,FALSE)))))))))))))","v":true},{"$f":"IF(AE297,D297,\"\")","v":"Medium"},{"$f":"IF(AE297,COUNTIF($AF$5:AF297,AF297),\"X\")","v":118},{"$f":"CONCATENATE(AE297,AF297)","v":"TRUEMedium"}]
[{"$f":"CONCATENATE(AE298,D298,AG298)","v":"TRUEHard89"},{"$f":"RAND()","v":0.47538275302512989},"%","Hard",296,"Write",{"$f":"RANDBETWEEN(1,9)","v":8},"% as a decimal",null,null,null,null,null,null,null,null,null,null,null,{"$f":"CONCATENATE(F298,\" \",G298,\"\",H298,\" \",I298,\" \",J298,\" \",K298,\" \",L298,\" \",M298,\" \",N298,\" \",O298,\" \",P298,\" \",Q298,\" \",R298)","v":"Write 8% as a decimal          "},{"$f":"G298/100","v":0.08},null,null,null,null,null,null,null,null,{"$f":"IF(OR(ISNA(U298),ISNA(V298),ISNA(W298),ISNA(X298),ISNA(Y298),ISNA(Z298),ISNA(AA298),ISNA(AB298),ISNA(AC298)),NA(),CONCATENATE(U298,V298,W298,X298,Y298,Z298,AA298,AB298))","v":"0.08"},{"$f":"IF(ISNA(AD298),FALSE,IF(C298=$B$1,Worksheet!$B$3,IF(C298=$C$1,Worksheet!$B$4,IF(C298=$D$1,Worksheet!$B$5,IF(C298=$E$1,Worksheet!$B$6,IF(C298=$B$2,Worksheet!$B$7,IF(C298=$C$2,Worksheet!$D$3,IF(C298=$D$2,Worksheet!$D$4,IF(C298=$E$2,Worksheet!$D$5,IF(C298=$C$3,Worksheet!$D$6,IF(C298=$B$3,Worksheet!$D$7,IF(C298=$D$3,Worksheet!$B$10,IF(C298=$E$3,Worksheet!$D$10,FALSE)))))))))))))","v":true},{"$f":"IF(AE298,D298,\"\")","v":"Hard"},{"$f":"IF(AE298,COUNTIF($AF$5:AF298,AF298),\"X\")","v":89},{"$f":"CONCATENATE(AE298,AF298)","v":"TRUEHard"}]
[{"$f":"CONCATENATE(AE299,D299,AG299)","v":"FALSEHardX"},{"$f":"RAND()","v":0.91685170941967042},"Alg","Hard",368,"Algebra.   If",{"$f":"CHOOSE(RANDBETWEEN(1,3),\"a\",\"x\",\"p\")","v":"a"},"=",{"$f":"RANDBETWEEN(2,10)","v":9}," and",{"$f":"IF(G299=\"x\",\"y\",IF(G299=\"a\",\"b\",\"q\"))","v":"b"},"=",{"$f":"RANDBETWEEN(2,10)","v":4},",    what is",{"$f":"RANDBETWEEN(2,10)","v":8},{"$f":"CONCATENATE(G299,\" + \")","v":"a + "},{"$f":"RANDBETWEEN(2,10)","v":7},{"$f":"CONCATENATE(K299,\" ?\")","v":"b ?"},null,{"$f":"CONCATENATE(F299,\" \",G299,\" \",H299,\" \",I299,\" \",J299,\" \",K299,\" \",L299,\" \",M299,\" \",N299,\" \",O299,\"\",P299,\" \",Q299,\"\",R299)","v":"Algebra.   If a = 9  and b = 4 ,    what is 8a +  7b ?"},{"$f":"O299*I299+Q299*M299","v":100},null,{"$f":"IF(U299<0,NA(),\"\")","v":""},null,null,null,null,null,null,{"$f":"IF(OR(ISNA(U299),ISNA(V299),ISNA(W299),ISNA(X299),ISNA(Y299),ISNA(Z299),ISNA(AA299),ISNA(AB299),ISNA(AC299)),NA(),CONCATENATE(U299,V299,W299,X299,Y299,Z299,AA299,AB299))","v":"100"},{"$f":"IF(ISNA(AD299),FALSE,IF(C299=$B$1,Worksheet!$B$3,IF(C299=$C$1,Worksheet!$B$4,IF(C299=$D$1,Worksheet!$B$5,IF(C299=$E$1,Worksheet!$B$6,IF(C299=$B$2,Worksheet!$B$7,IF(C299=$C$2,Worksheet!$D$3,IF(C299=$D$2,Worksheet!$D$4,IF(C299=$E$2,Worksheet!$D$5,IF(C299=$C$3,Worksheet!$D$6,IF(C299=$B$3,Worksheet!$D$7,IF(C299=$D$3,Worksheet!$B$10,IF(C299=$E$3,Worksheet!$D$10,FALSE)))))))))))))","v":false},{"$f":"IF(AE299,D299,\"\")","v":""},{"$f":"IF(AE299,COUNTIF($AF$5:AF299,AF299),\"X\")","v":"X"},{"$f":"CONCATENATE(AE299,AF299)","v":"FALSE"}]
[{"$f":"CONCATENATE(AE300,D300,AG300)","v":"TRUEEasy69"},{"$f":"RAND()","v":0.78189571488360332},"Dec","Easy",245,"Take away:   ",{"$f":"RANDBETWEEN(3,6)+RANDBETWEEN(5,9)/10","v":5.7}," – ",{"$f":"RANDBETWEEN(1,ROUNDDOWN(G300,0))+RANDBETWEEN(1,5)/10","v":4.4000000000000004},null,null,null,null,null,null,null,null,null,null,{"$f":"CONCATENATE(F300,\" \",G300,\" \",H300,\" \",I300,\" \",J300,\" \",K300,\" \",L300,\" \",M300,\" \",N300,\" \",O300,\" \",P300,\" \",Q300,\" \",R300)","v":"Take away:    5.7  –  4.4         "},{"$f":"G300-I300","v":1.2999999999999998},null,null,null,null,null,null,null,null,{"$f":"IF(OR(ISNA(U300),ISNA(V300),ISNA(W300),ISNA(X300),ISNA(Y300),ISNA(Z300),ISNA(AA300),ISNA(AB300),ISNA(AC300)),NA(),CONCATENATE(U300,V300,W300,X300,Y300,Z300,AA300,AB300))","v":"1.3"},{"$f":"IF(ISNA(AD300),FALSE,IF(C300=$B$1,Worksheet!$B$3,IF(C300=$C$1,Worksheet!$B$4,IF(C300=$D$1,Worksheet!$B$5,IF(C300=$E$1,Worksheet!$B$6,IF(C300=$B$2,Worksheet!$B$7,IF(C300=$C$2,Worksheet!$D$3,IF(C300=$D$2,Worksheet!$D$4,IF(C300=$E$2,Worksheet!$D$5,IF(C300=$C$3,Worksheet!$D$6,IF(C300=$B$3,Worksheet!$D$7,IF(C300=$D$3,Worksheet!$B$10,IF(C300=$E$3,Worksheet!$D$10,FALSE)))))))))))))","v":true},{"$f":"IF(AE300,D300,\"\")","v":"Easy"},{"$f":"IF(AE300,COUNTIF($AF$5:AF300,AF300),\"X\")","v":69},{"$f":"CONCATENATE(AE300,AF300)","v":"TRUEEasy"}]
[{"$f":"CONCATENATE(AE301,D301,AG301)","v":"TRUEMedium119"},{"$f":"RAND()","v":5.2657276149942756E-2},"Frac","Medium",151,"Fractions.   What is ","3/4"," of",{"$f":"4*RANDBETWEEN(2,10)","v":8},"?",null,null,null,null,null,null,null,null,null,{"$f":"CONCATENATE(F301,\" \",G301,\" \",H301,\" \",I301,\" \",J301,\" \",K301,\" \",L301,\" \",M301,\" \",N301,\" \",O301,\" \",P301,\" \",Q301,\" \",R301)","v":"Fractions.   What is  3/4  of 8 ?        "},{"$f":"I301/4*3","v":6},null,null,null,{"$f":"IF(INT(U301)<>U301,NA(),\"\")","v":""},null,null,null,null,{"$f":"IF(OR(ISNA(U301),ISNA(V301),ISNA(W301),ISNA(X301),ISNA(Y301),ISNA(Z301),ISNA(AA301),ISNA(AB301),ISNA(AC301)),NA(),CONCATENATE(U301,V301,W301,X301,Y301,Z301,AA301,AB301))","v":"6"},{"$f":"IF(ISNA(AD301),FALSE,IF(C301=$B$1,Worksheet!$B$3,IF(C301=$C$1,Worksheet!$B$4,IF(C301=$D$1,Worksheet!$B$5,IF(C301=$E$1,Worksheet!$B$6,IF(C301=$B$2,Worksheet!$B$7,IF(C301=$C$2,Worksheet!$D$3,IF(C301=$D$2,Worksheet!$D$4,IF(C301=$E$2,Worksheet!$D$5,IF(C301=$C$3,Worksheet!$D$6,IF(C301=$B$3,Worksheet!$D$7,IF(C301=$D$3,Worksheet!$B$10,IF(C301=$E$3,Worksheet!$D$10,FALSE)))))))))))))","v":true},{"$f":"IF(AE301,D301,\"\")","v":"Medium"},{"$f":"IF(AE301,COUNTIF($AF$5:AF301,AF301),\"X\")","v":119},{"$f":"CONCATENATE(AE301,AF301)","v":"TRUEMedium"}]
[{"$f":"CONCATENATE(AE302,D302,AG302)","v":"TRUEMedium120"},{"$f":"RAND()","v":0.68535618109067087},"Dec","Medium",264,"Write the number ",{"$f":"RANDBETWEEN(1,10)","v":3},{"$f":"CHOOSE(RANDBETWEEN(1,2),\"¼\",\"¾\")","v":"¼"},"as a number with a decimal point",null,null,null,null,null,null,null,null,null,null,{"$f":"CONCATENATE(F302,\" \",G302,\"\",H302,\" \",I302,\" \",J302,\" \",K302,\" \",L302,\" \",M302,\" \",N302,\" \",O302,\" \",P302,\" \",Q302,\" \",R302)","v":"Write the number  3¼ as a number with a decimal point         "},{"$f":"G302+IF(H302=\"¼\",0.25,0.75)","v":3.25},null,null,null,null,null,null,null,null,{"$f":"IF(OR(ISNA(U302),ISNA(V302),ISNA(W302),ISNA(X302),ISNA(Y302),ISNA(Z302),ISNA(AA302),ISNA(AB302),ISNA(AC302)),NA(),CONCATENATE(U302,V302,W302,X302,Y302,Z302,AA302,AB302))","v":"3.25"},{"$f":"IF(ISNA(AD302),FALSE,IF(C302=$B$1,Worksheet!$B$3,IF(C302=$C$1,Worksheet!$B$4,IF(C302=$D$1,Worksheet!$B$5,IF(C302=$E$1,Worksheet!$B$6,IF(C302=$B$2,Worksheet!$B$7,IF(C302=$C$2,Worksheet!$D$3,IF(C302=$D$2,Worksheet!$D$4,IF(C302=$E$2,Worksheet!$D$5,IF(C302=$C$3,Worksheet!$D$6,IF(C302=$B$3,Worksheet!$D$7,IF(C302=$D$3,Worksheet!$B$10,IF(C302=$E$3,Worksheet!$D$10,FALSE)))))))))))))","v":true},{"$f":"IF(AE302,D302,\"\")","v":"Medium"},{"$f":"IF(AE302,COUNTIF($AF$5:AF302,AF302),\"X\")","v":120},{"$f":"CONCATENATE(AE302,AF302)","v":"TRUEMedium"}]
[{"$f":"CONCATENATE(AE303,D303,AG303)","v":"TRUEHard90"},{"$f":"RAND()","v":0.60625639601090553},"%","Hard",324,"What is ",75,"% of £",{"$f":"4*RANDBETWEEN(1,10)*10","v":280},"?",null,null,null,null,null,null,null,null,null,{"$f":"CONCATENATE(F303,\" \",G303,\"\",H303,\"\",I303,\" \",J303,\" \",K303,\" \",L303,\" \",M303,\" \",N303,\" \",O303,\" \",P303,\" \",Q303,\" \",R303)","v":"What is  75% of £280 ?        "},"£",{"$f":"I303/4*3","v":210},null,null,null,null,null,null,null,{"$f":"IF(OR(ISNA(U303),ISNA(V303),ISNA(W303),ISNA(X303),ISNA(Y303),ISNA(Z303),ISNA(AA303),ISNA(AB303),ISNA(AC303)),NA(),CONCATENATE(U303,V303,W303,X303,Y303,Z303,AA303,AB303))","v":"£210"},{"$f":"IF(ISNA(AD303),FALSE,IF(C303=$B$1,Worksheet!$B$3,IF(C303=$C$1,Worksheet!$B$4,IF(C303=$D$1,Worksheet!$B$5,IF(C303=$E$1,Worksheet!$B$6,IF(C303=$B$2,Worksheet!$B$7,IF(C303=$C$2,Worksheet!$D$3,IF(C303=$D$2,Worksheet!$D$4,IF(C303=$E$2,Worksheet!$D$5,IF(C303=$C$3,Worksheet!$D$6,IF(C303=$B$3,Worksheet!$D$7,IF(C303=$D$3,Worksheet!$B$10,IF(C303=$E$3,Worksheet!$D$10,FALSE)))))))))))))","v":true},{"$f":"IF(AE303,D303,\"\")","v":"Hard"},{"$f":"IF(AE303,COUNTIF($AF$5:AF303,AF303),\"X\")","v":90},{"$f":"CONCATENATE(AE303,AF303)","v":"TRUEHard"}]
[{"$f":"CONCATENATE(AE304,D304,AG304)","v":"TRUEEasy70"},{"$f":"RAND()","v":0.58579566694149932},"Mult","Easy",92,"Multiply:   ",10,"×",{"$f":"RANDBETWEEN(1,9)*10+RANDBETWEEN(1,9)","v":25},null,null,null,null,null,null,null,null,null,null,{"$f":"CONCATENATE(F304,\" \",G304,\" \",H304,\" \",I304,\" \",J304,\" \",K304,\" \",L304,\" \",M304,\" \",N304,\" \",O304,\" \",P304,\" \",Q304,\" \",R304)","v":"Multiply:    10 × 25         "},{"$f":"I304*10","v":250},null,null,null,null,null,null,null,null,{"$f":"IF(OR(ISNA(U304),ISNA(V304),ISNA(W304),ISNA(X304),ISNA(Y304),ISNA(Z304),ISNA(AA304),ISNA(AB304),ISNA(AC304)),NA(),CONCATENATE(U304,V304,W304,X304,Y304,Z304,AA304,AB304))","v":"250"},{"$f":"IF(ISNA(AD304),FALSE,IF(C304=$B$1,Worksheet!$B$3,IF(C304=$C$1,Worksheet!$B$4,IF(C304=$D$1,Worksheet!$B$5,IF(C304=$E$1,Worksheet!$B$6,IF(C304=$B$2,Worksheet!$B$7,IF(C304=$C$2,Worksheet!$D$3,IF(C304=$D$2,Worksheet!$D$4,IF(C304=$E$2,Worksheet!$D$5,IF(C304=$C$3,Worksheet!$D$6,IF(C304=$B$3,Worksheet!$D$7,IF(C304=$D$3,Worksheet!$B$10,IF(C304=$E$3,Worksheet!$D$10,FALSE)))))))))))))","v":true},{"$f":"IF(AE304,D304,\"\")","v":"Easy"},{"$f":"IF(AE304,COUNTIF($AF$5:AF304,AF304),\"X\")","v":70},{"$f":"CONCATENATE(AE304,AF304)","v":"TRUEEasy"}]
[{"$f":"CONCATENATE(AE305,D305,AG305)","v":"TRUEHard91"},{"$f":"RAND()","v":0.15316502429900314},"Dec","Hard",259,"Continue the pattern for three more numbers:   ",{"$f":"RANDBETWEEN(10,50)+0.4+RANDBETWEEN(1,9)/100","v":29.459999999999997},{"$f":"G305+S305","v":29.359999999999996},{"$f":"H305+S305","v":29.259999999999994},{"$f":"I305+S305","v":29.159999999999993},"____","____","____",null,null,null,null,null,-0.1,{"$f":"CONCATENATE(F305,\" \",G305,\",   \",H305,\",   \",I305,\",   \",J305,\",   \",K305,\",   \",L305,\",   \",M305,\" \",N305,\" \",O305,\" \",P305,\" \",Q305,\" \",R305)","v":"Continue the pattern for three more numbers:    29.46,   29.36,   29.26,   29.16,   ____,   ____,   ____     "},{"$f":"J305+S305","v":29.059999999999992},{"$f":"U305+S305","v":28.95999999999999},{"$f":"V305+S305","v":28.859999999999989},null,null,null,null,null,null,{"$f":"IF(OR(ISNA(U305),ISNA(V305),ISNA(W305),ISNA(X305),ISNA(Y305),ISNA(Z305),ISNA(AA305),ISNA(AB305),ISNA(AC305)),NA(),CONCATENATE(U305,\",   \",V305,\",   \",W305,X305,Y305,Z305,AA305,AB305))","v":"29.06,   28.96,   28.86"},{"$f":"IF(ISNA(AD305),FALSE,IF(C305=$B$1,Worksheet!$B$3,IF(C305=$C$1,Worksheet!$B$4,IF(C305=$D$1,Worksheet!$B$5,IF(C305=$E$1,Worksheet!$B$6,IF(C305=$B$2,Worksheet!$B$7,IF(C305=$C$2,Worksheet!$D$3,IF(C305=$D$2,Worksheet!$D$4,IF(C305=$E$2,Worksheet!$D$5,IF(C305=$C$3,Worksheet!$D$6,IF(C305=$B$3,Worksheet!$D$7,IF(C305=$D$3,Worksheet!$B$10,IF(C305=$E$3,Worksheet!$D$10,FALSE)))))))))))))","v":true},{"$f":"IF(AE305,D305,\"\")","v":"Hard"},{"$f":"IF(AE305,COUNTIF($AF$5:AF305,AF305),\"X\")","v":91},{"$f":"CONCATENATE(AE305,AF305)","v":"TRUEHard"}]
[{"$f":"CONCATENATE(AE306,D306,AG306)","v":"TRUEMedium121"},{"$f":"RAND()","v":0.74808149773775068},"Mult","Medium",87,"Write down all four factors of",{"$f":"CHOOSE(RANDBETWEEN(1,3),6,8,10)","v":8},null,null,null,null,null,null,null,null,null,null,null,null,{"$f":"CONCATENATE(F306,\" \",G306,\" \",H306,\" \",I306,\" \",J306,\" \",K306,\" \",L306,\" \",M306,\" \",N306,\" \",O306,\" \",P306,\" \",Q306,\" \",R306)","v":"Write down all four factors of 8           "},{"$f":"IF(G306=6,\"1, 2, 3 and 6\",IF(G306=8,\"1, 2, 4 and 8\",\"1, 2, 5 and 10\"))","v":"1, 2, 4 and 8"},null,null,null,null,null,null,null,null,{"$f":"IF(OR(ISNA(U306),ISNA(V306),ISNA(W306),ISNA(X306),ISNA(Y306),ISNA(Z306),ISNA(AA306),ISNA(AB306),ISNA(AC306)),NA(),CONCATENATE(U306,V306,W306,X306,Y306,Z306,AA306,AB306))","v":"1, 2, 4 and 8"},{"$f":"IF(ISNA(AD306),FALSE,IF(C306=$B$1,Worksheet!$B$3,IF(C306=$C$1,Worksheet!$B$4,IF(C306=$D$1,Worksheet!$B$5,IF(C306=$E$1,Worksheet!$B$6,IF(C306=$B$2,Worksheet!$B$7,IF(C306=$C$2,Worksheet!$D$3,IF(C306=$D$2,Worksheet!$D$4,IF(C306=$E$2,Worksheet!$D$5,IF(C306=$C$3,Worksheet!$D$6,IF(C306=$B$3,Worksheet!$D$7,IF(C306=$D$3,Worksheet!$B$10,IF(C306=$E$3,Worksheet!$D$10,FALSE)))))))))))))","v":true},{"$f":"IF(AE306,D306,\"\")","v":"Medium"},{"$f":"IF(AE306,COUNTIF($AF$5:AF306,AF306),\"X\")","v":121},{"$f":"CONCATENATE(AE306,AF306)","v":"TRUEMedium"}]
[{"$f":"CONCATENATE(AE307,D307,AG307)","v":"TRUEEasy71"},{"$f":"RAND()","v":0.8219094775377056},"Frac","Easy",185,"True or False?   The fraction",{"$f":"RANDBETWEEN(2,I307-1)","v":2},"/",{"$f":"2*RANDBETWEEN(2,5)-1","v":3},"is",{"$f":"IF(RAND()<0.5,\"smaller\",\"bigger\")","v":"smaller"},"than ½",null,null,null,null,null,null,null,{"$f":"CONCATENATE(F307,\" \",G307,\"\",H307,\"\",I307,\" \",J307,\" \",K307,\" \",L307,\" \",M307,\" \",N307,\" \",O307,\" \",P307,\" \",Q307,\" \",R307)","v":"True or False?   The fraction 2/3 is smaller than ½      "},{"$f":"IF(K307=\"bigger\",IF(G307>I307/2,TRUE,FALSE),IF(G307>I307/2,FALSE,TRUE))","v":false},null,null,null,null,null,null,null,null,{"$f":"IF(OR(ISNA(U307),ISNA(V307),ISNA(W307),ISNA(X307),ISNA(Y307),ISNA(Z307),ISNA(AA307),ISNA(AB307),ISNA(AC307)),NA(),CONCATENATE(U307,V307,W307,X307,Y307,Z307,AA307,AB307))","v":"FALSE"},{"$f":"IF(ISNA(AD307),FALSE,IF(C307=$B$1,Worksheet!$B$3,IF(C307=$C$1,Worksheet!$B$4,IF(C307=$D$1,Worksheet!$B$5,IF(C307=$E$1,Worksheet!$B$6,IF(C307=$B$2,Worksheet!$B$7,IF(C307=$C$2,Worksheet!$D$3,IF(C307=$D$2,Worksheet!$D$4,IF(C307=$E$2,Worksheet!$D$5,IF(C307=$C$3,Worksheet!$D$6,IF(C307=$B$3,Worksheet!$D$7,IF(C307=$D$3,Worksheet!$B$10,IF(C307=$E$3,Worksheet!$D$10,FALSE)))))))))))))","v":true},{"$f":"IF(AE307,D307,\"\")","v":"Easy"},{"$f":"IF(AE307,COUNTIF($AF$5:AF307,AF307),\"X\")","v":71},{"$f":"CONCATENATE(AE307,AF307)","v":"TRUEEasy"}]
[{"$f":"CONCATENATE(AE308,D308,AG308)","v":"TRUEHard92"},{"$f":"RAND()","v":0.6841408811351033},"Neg","Hard",353,"Take away:   ",{"$f":"RANDBETWEEN(1,10)","v":4},"–",{"$f":"RANDBETWEEN(G308+1,20)","v":18},null,null,null,null,null,null,null,null,null,null,{"$f":"CONCATENATE(F308,\" \",G308,\" \",H308,\" \",I308,\"\",J308,\"\",K308,\" \",L308,\" \",M308,\" \",N308,\" \",O308,\" \",P308,\" \",Q308,\" \",R308)","v":"Take away:    4 – 18       "},{"$f":"G308-I308","v":-14},null,null,null,null,null,null,null,{"$f":"IF(ISERROR(T308),NA(),\"\")","v":""},{"$f":"IF(OR(ISNA(U308),ISNA(V308),ISNA(W308),ISNA(X308),ISNA(Y308),ISNA(Z308),ISNA(AA308),ISNA(AB308),ISNA(AC308)),NA(),CONCATENATE(U308,V308,W308,X308,Y308,Z308,AA308,AB308))","v":"-14"},{"$f":"IF(ISNA(AD308),FALSE,IF(C308=$B$1,Worksheet!$B$3,IF(C308=$C$1,Worksheet!$B$4,IF(C308=$D$1,Worksheet!$B$5,IF(C308=$E$1,Worksheet!$B$6,IF(C308=$B$2,Worksheet!$B$7,IF(C308=$C$2,Worksheet!$D$3,IF(C308=$D$2,Worksheet!$D$4,IF(C308=$E$2,Worksheet!$D$5,IF(C308=$C$3,Worksheet!$D$6,IF(C308=$B$3,Worksheet!$D$7,IF(C308=$D$3,Worksheet!$B$10,IF(C308=$E$3,Worksheet!$D$10,FALSE)))))))))))))","v":true},{"$f":"IF(AE308,D308,\"\")","v":"Hard"},{"$f":"IF(AE308,COUNTIF($AF$5:AF308,AF308),\"X\")","v":92},{"$f":"CONCATENATE(AE308,AF308)","v":"TRUEHard"}]
[{"$f":"CONCATENATE(AE309,D309,AG309)","v":"TRUEMedium122"},{"$f":"RAND()","v":0.9448447114708487},"Dec","Medium",256,"Continue the pattern for three more numbers:   ",{"$f":"RANDBETWEEN(1,40)+RANDBETWEEN(2,7)/10","v":39.4},{"$f":"G309+S309","v":39.449999999999996},{"$f":"H309+S309","v":39.499999999999993},{"$f":"I309+S309","v":39.54999999999999},"____","____","____",null,null,null,null,null,0.05,{"$f":"CONCATENATE(F309,\" \",G309,\",   \",H309,\",   \",I309,\",   \",J309,\",   \",K309,\",   \",L309,\",   \",M309,\" \",N309,\" \",O309,\" \",P309,\" \",Q309,\" \",R309)","v":"Continue the pattern for three more numbers:    39.4,   39.45,   39.5,   39.55,   ____,   ____,   ____     "},{"$f":"J309+S309","v":39.599999999999987},{"$f":"U309+S309","v":39.649999999999984},{"$f":"V309+S309","v":39.699999999999982},null,null,null,null,null,null,{"$f":"IF(OR(ISNA(U309),ISNA(V309),ISNA(W309),ISNA(X309),ISNA(Y309),ISNA(Z309),ISNA(AA309),ISNA(AB309),ISNA(AC309)),NA(),CONCATENATE(U309,\",   \",V309,\",   \",W309,X309,Y309,Z309,AA309,AB309))","v":"39.6,   39.65,   39.7"},{"$f":"IF(ISNA(AD309),FALSE,IF(C309=$B$1,Worksheet!$B$3,IF(C309=$C$1,Worksheet!$B$4,IF(C309=$D$1,Worksheet!$B$5,IF(C309=$E$1,Worksheet!$B$6,IF(C309=$B$2,Worksheet!$B$7,IF(C309=$C$2,Worksheet!$D$3,IF(C309=$D$2,Worksheet!$D$4,IF(C309=$E$2,Worksheet!$D$5,IF(C309=$C$3,Worksheet!$D$6,IF(C309=$B$3,Worksheet!$D$7,IF(C309=$D$3,Worksheet!$B$10,IF(C309=$E$3,Worksheet!$D$10,FALSE)))))))))))))","v":true},{"$f":"IF(AE309,D309,\"\")","v":"Medium"},{"$f":"IF(AE309,COUNTIF($AF$5:AF309,AF309),\"X\")","v":122},{"$f":"CONCATENATE(AE309,AF309)","v":"TRUEMedium"}]
[{"$f":"CONCATENATE(AE310,D310,AG310)","v":"TRUEMedium123"},{"$f":"RAND()","v":0.6165361356067548},"Dec","Medium",207,"Continue the pattern for three more numbers:   ",{"$f":"2*RANDBETWEEN(50,200)/10","v":13.6},{"$f":"G310+S310","v":13.4},{"$f":"H310+S310","v":13.200000000000001},{"$f":"I310+S310","v":13.000000000000002},"____","____","____",null,null,null,null,null,-0.2,{"$f":"CONCATENATE(F310,\" \",G310,\",   \",H310,\",   \",I310,\",   \",J310,\",   \",K310,\",   \",L310,\",   \",M310,\" \",N310,\" \",O310,\" \",P310,\" \",Q310,\" \",R310)","v":"Continue the pattern for three more numbers:    13.6,   13.4,   13.2,   13,   ____,   ____,   ____     "},{"$f":"J310+S310","v":12.800000000000002},{"$f":"U310+S310","v":12.600000000000003},{"$f":"V310+S310","v":12.400000000000004},null,null,null,null,null,null,{"$f":"IF(OR(ISNA(U310),ISNA(V310),ISNA(W310),ISNA(X310),ISNA(Y310),ISNA(Z310),ISNA(AA310),ISNA(AB310),ISNA(AC310)),NA(),CONCATENATE(U310,\",   \",V310,\",   \",W310,X310,Y310,Z310,AA310,AB310))","v":"12.8,   12.6,   12.4"},{"$f":"IF(ISNA(AD310),FALSE,IF(C310=$B$1,Worksheet!$B$3,IF(C310=$C$1,Worksheet!$B$4,IF(C310=$D$1,Worksheet!$B$5,IF(C310=$E$1,Worksheet!$B$6,IF(C310=$B$2,Worksheet!$B$7,IF(C310=$C$2,Worksheet!$D$3,IF(C310=$D$2,Worksheet!$D$4,IF(C310=$E$2,Worksheet!$D$5,IF(C310=$C$3,Worksheet!$D$6,IF(C310=$B$3,Worksheet!$D$7,IF(C310=$D$3,Worksheet!$B$10,IF(C310=$E$3,Worksheet!$D$10,FALSE)))))))))))))","v":true},{"$f":"IF(AE310,D310,\"\")","v":"Medium"},{"$f":"IF(AE310,COUNTIF($AF$5:AF310,AF310),\"X\")","v":123},{"$f":"CONCATENATE(AE310,AF310)","v":"TRUEMedium"}]
[{"$f":"CONCATENATE(AE311,D311,AG311)","v":"TRUEMedium124"},{"$f":"RAND()","v":0.86607109845356867},"%","Medium",303,"What is",{"$f":"RANDBETWEEN(1,9)/10+RANDBETWEEN(1,9)/100","v":0.74},"as a percentage?",null,null,null,null,null,null,null,null,null,null,null,{"$f":"CONCATENATE(F311,\" \",G311,\" \",H311,\" \",I311,\" \",J311,\" \",K311,\" \",L311,\" \",M311,\" \",N311,\" \",O311,\" \",P311,\" \",Q311,\" \",R311)","v":"What is 0.74 as a percentage?          "},{"$f":"G311*100","v":74},"%",null,null,null,null,null,null,null,{"$f":"IF(OR(ISNA(U311),ISNA(V311),ISNA(W311),ISNA(X311),ISNA(Y311),ISNA(Z311),ISNA(AA311),ISNA(AB311),ISNA(AC311)),NA(),CONCATENATE(U311,V311,W311,X311,Y311,Z311,AA311,AB311))","v":"74%"},{"$f":"IF(ISNA(AD311),FALSE,IF(C311=$B$1,Worksheet!$B$3,IF(C311=$C$1,Worksheet!$B$4,IF(C311=$D$1,Worksheet!$B$5,IF(C311=$E$1,Worksheet!$B$6,IF(C311=$B$2,Worksheet!$B$7,IF(C311=$C$2,Worksheet!$D$3,IF(C311=$D$2,Worksheet!$D$4,IF(C311=$E$2,Worksheet!$D$5,IF(C311=$C$3,Worksheet!$D$6,IF(C311=$B$3,Worksheet!$D$7,IF(C311=$D$3,Worksheet!$B$10,IF(C311=$E$3,Worksheet!$D$10,FALSE)))))))))))))","v":true},{"$f":"IF(AE311,D311,\"\")","v":"Medium"},{"$f":"IF(AE311,COUNTIF($AF$5:AF311,AF311),\"X\")","v":124},{"$f":"CONCATENATE(AE311,AF311)","v":"TRUEMedium"}]
[{"$f":"CONCATENATE(AE312,D312,AG312)","v":"TRUEMedium125"},{"$f":"RAND()","v":0.27040525835555795},"Dec","Medium",289,"Multiply by writing down a sum:   ",{"$f":"RANDBETWEEN(1,9)+RANDBETWEEN(1,9)/10+RANDBETWEEN(1,9)/100","v":7.74},"×",{"$f":"RANDBETWEEN(2,5)","v":2},null,null,null,null,null,null,null,null,null,null,{"$f":"CONCATENATE(F312,\" \",G312,\" \",H312,\" \",I312,\" \",J312,\" \",K312,\" \",L312,\" \",M312,\" \",N312,\" \",O312,\" \",P312,\" \",Q312,\" \",R312)","v":"Multiply by writing down a sum:    7.74 × 2         "},{"$f":"G312*I312","v":15.48},null,null,null,null,null,null,null,null,{"$f":"IF(OR(ISNA(U312),ISNA(V312),ISNA(W312),ISNA(X312),ISNA(Y312),ISNA(Z312),ISNA(AA312),ISNA(AB312),ISNA(AC312)),NA(),CONCATENATE(U312,V312,W312,X312,Y312,Z312,AA312,AB312))","v":"15.48"},{"$f":"IF(ISNA(AD312),FALSE,IF(C312=$B$1,Worksheet!$B$3,IF(C312=$C$1,Worksheet!$B$4,IF(C312=$D$1,Worksheet!$B$5,IF(C312=$E$1,Worksheet!$B$6,IF(C312=$B$2,Worksheet!$B$7,IF(C312=$C$2,Worksheet!$D$3,IF(C312=$D$2,Worksheet!$D$4,IF(C312=$E$2,Worksheet!$D$5,IF(C312=$C$3,Worksheet!$D$6,IF(C312=$B$3,Worksheet!$D$7,IF(C312=$D$3,Worksheet!$B$10,IF(C312=$E$3,Worksheet!$D$10,FALSE)))))))))))))","v":true},{"$f":"IF(AE312,D312,\"\")","v":"Medium"},{"$f":"IF(AE312,COUNTIF($AF$5:AF312,AF312),\"X\")","v":125},{"$f":"CONCATENATE(AE312,AF312)","v":"TRUEMedium"}]
[{"$f":"CONCATENATE(AE313,D313,AG313)","v":"TRUEHard93"},{"$f":"RAND()","v":0.40841815166446516},"Frac","Hard",165,"Fractions.   What is ",{"$f":"CHOOSE(RANDBETWEEN(1,3),\"3/10\",\"7/10\",\"9/10\")","v":"9/10"}," of",{"$f":"100*RANDBETWEEN(2,10)","v":500},"?",null,null,null,null,null,null,null,null,null,{"$f":"CONCATENATE(F313,\" \",G313,\" \",H313,\" \",I313,\" \",J313,\" \",K313,\" \",L313,\" \",M313,\" \",N313,\" \",O313,\" \",P313,\" \",Q313,\" \",R313)","v":"Fractions.   What is  9/10  of 500 ?        "},{"$f":"I313/10*IF(G313=\"3/10\",3,IF(G313=\"7/10\",7,9))","v":450},null,{"$f":"IF(AND(G313=G312,I313=I312),NA(),\"\")","v":""},null,{"$f":"IF(INT(U313)<>U313,NA(),\"\")","v":""},null,null,null,null,{"$f":"IF(OR(ISNA(U313),ISNA(V313),ISNA(W313),ISNA(X313),ISNA(Y313),ISNA(Z313),ISNA(AA313),ISNA(AB313),ISNA(AC313)),NA(),CONCATENATE(U313,V313,W313,X313,Y313,Z313,AA313,AB313))","v":"450"},{"$f":"IF(ISNA(AD313),FALSE,IF(C313=$B$1,Worksheet!$B$3,IF(C313=$C$1,Worksheet!$B$4,IF(C313=$D$1,Worksheet!$B$5,IF(C313=$E$1,Worksheet!$B$6,IF(C313=$B$2,Worksheet!$B$7,IF(C313=$C$2,Worksheet!$D$3,IF(C313=$D$2,Worksheet!$D$4,IF(C313=$E$2,Worksheet!$D$5,IF(C313=$C$3,Worksheet!$D$6,IF(C313=$B$3,Worksheet!$D$7,IF(C313=$D$3,Worksheet!$B$10,IF(C313=$E$3,Worksheet!$D$10,FALSE)))))))))))))","v":true},{"$f":"IF(AE313,D313,\"\")","v":"Hard"},{"$f":"IF(AE313,COUNTIF($AF$5:AF313,AF313),\"X\")","v":93},{"$f":"CONCATENATE(AE313,AF313)","v":"TRUEHard"}]
[{"$f":"CONCATENATE(AE314,D314,AG314)","v":"TRUEMedium126"},{"$f":"RAND()","v":3.7179162242183206E-2},"Mult","Medium",107,"Multiply by writing down a sum:   ",{"$f":"RANDBETWEEN(501,999)","v":674},"×",{"$f":"RANDBETWEEN(2,5)","v":2},null,null,null,null,null,null,null,null,null,null,{"$f":"CONCATENATE(F314,\" \",G314,\" \",H314,\" \",I314,\" \",J314,\" \",K314,\" \",L314,\" \",M314,\" \",N314,\" \",O314,\" \",P314,\" \",Q314,\" \",R314)","v":"Multiply by writing down a sum:    674 × 2         "},{"$f":"TEXT(G314*I314,\"#,###\")","v":"1,348"},null,null,null,null,null,null,null,null,{"$f":"IF(OR(ISNA(U314),ISNA(V314),ISNA(W314),ISNA(X314),ISNA(Y314),ISNA(Z314),ISNA(AA314),ISNA(AB314),ISNA(AC314)),NA(),CONCATENATE(U314,V314,W314,X314,Y314,Z314,AA314,AB314))","v":"1,348"},{"$f":"IF(ISNA(AD314),FALSE,IF(C314=$B$1,Worksheet!$B$3,IF(C314=$C$1,Worksheet!$B$4,IF(C314=$D$1,Worksheet!$B$5,IF(C314=$E$1,Worksheet!$B$6,IF(C314=$B$2,Worksheet!$B$7,IF(C314=$C$2,Worksheet!$D$3,IF(C314=$D$2,Worksheet!$D$4,IF(C314=$E$2,Worksheet!$D$5,IF(C314=$C$3,Worksheet!$D$6,IF(C314=$B$3,Worksheet!$D$7,IF(C314=$D$3,Worksheet!$B$10,IF(C314=$E$3,Worksheet!$D$10,FALSE)))))))))))))","v":true},{"$f":"IF(AE314,D314,\"\")","v":"Medium"},{"$f":"IF(AE314,COUNTIF($AF$5:AF314,AF314),\"X\")","v":126},{"$f":"CONCATENATE(AE314,AF314)","v":"TRUEMedium"}]
[{"$f":"CONCATENATE(AE315,D315,AG315)","v":"TRUEEasy72"},{"$f":"RAND()","v":0.15750259881179463},"Divide","Easy",128,"Divide:   ",{"$f":"RANDBETWEEN(1,9)*100+RANDBETWEEN(1,9)*10","v":130},"÷",10,null,null,null,null,null,null,null,null,null,null,{"$f":"CONCATENATE(F315,\" \",G315,\" \",H315,\" \",I315,\" \",J315,\" \",K315,\" \",L315,\" \",M315,\" \",N315,\" \",O315,\" \",P315,\" \",Q315,\" \",R315)","v":"Divide:    130 ÷ 10         "},{"$f":"G315/10","v":13},null,{"$f":"IF(INT(U315)<>U315,NA(),\"\")","v":""},null,null,null,null,null,null,{"$f":"IF(OR(ISNA(U315),ISNA(V315),ISNA(W315),ISNA(X315),ISNA(Y315),ISNA(Z315),ISNA(AA315),ISNA(AB315),ISNA(AC315)),NA(),CONCATENATE(U315,V315,W315,X315,Y315,Z315,AA315,AB315))","v":"13"},{"$f":"IF(ISNA(AD315),FALSE,IF(C315=$B$1,Worksheet!$B$3,IF(C315=$C$1,Worksheet!$B$4,IF(C315=$D$1,Worksheet!$B$5,IF(C315=$E$1,Worksheet!$B$6,IF(C315=$B$2,Worksheet!$B$7,IF(C315=$C$2,Worksheet!$D$3,IF(C315=$D$2,Worksheet!$D$4,IF(C315=$E$2,Worksheet!$D$5,IF(C315=$C$3,Worksheet!$D$6,IF(C315=$B$3,Worksheet!$D$7,IF(C315=$D$3,Worksheet!$B$10,IF(C315=$E$3,Worksheet!$D$10,FALSE)))))))))))))","v":true},{"$f":"IF(AE315,D315,\"\")","v":"Easy"},{"$f":"IF(AE315,COUNTIF($AF$5:AF315,AF315),\"X\")","v":72},{"$f":"CONCATENATE(AE315,AF315)","v":"TRUEEasy"}]
[{"$f":"CONCATENATE(AE316,D316,AG316)","v":"TRUEHard94"},{"$f":"RAND()","v":0.52808446468560299},"+-","Hard",51,"Take away by writing down a sum:   ",{"$f":"RANDBETWEEN(2,9)*1000","v":2000},"–",{"$f":"RANDBETWEEN(1001,G316)","v":1204},null,null,null,null,null,null,null,null,null,null,{"$f":"CONCATENATE(F316,\" \",G316,\" \",H316,\" \",I316,\" \",J316,\" \",K316,\" \",L316,\" \",M316,\" \",N316,\" \",O316,\" \",P316,\" \",Q316,\" \",R316)","v":"Take away by writing down a sum:    2000 – 1204         "},{"$f":"G316-I316","v":796},null,null,null,null,null,null,null,null,{"$f":"IF(OR(ISNA(U316),ISNA(V316),ISNA(W316),ISNA(X316),ISNA(Y316),ISNA(Z316),ISNA(AA316),ISNA(AB316),ISNA(AC316)),NA(),CONCATENATE(U316,V316,W316,X316,Y316,Z316,AA316,AB316))","v":"796"},{"$f":"IF(ISNA(AD316),FALSE,IF(C316=$B$1,Worksheet!$B$3,IF(C316=$C$1,Worksheet!$B$4,IF(C316=$D$1,Worksheet!$B$5,IF(C316=$E$1,Worksheet!$B$6,IF(C316=$B$2,Worksheet!$B$7,IF(C316=$C$2,Worksheet!$D$3,IF(C316=$D$2,Worksheet!$D$4,IF(C316=$E$2,Worksheet!$D$5,IF(C316=$C$3,Worksheet!$D$6,IF(C316=$B$3,Worksheet!$D$7,IF(C316=$D$3,Worksheet!$B$10,IF(C316=$E$3,Worksheet!$D$10,FALSE)))))))))))))","v":true},{"$f":"IF(AE316,D316,\"\")","v":"Hard"},{"$f":"IF(AE316,COUNTIF($AF$5:AF316,AF316),\"X\")","v":94},{"$f":"CONCATENATE(AE316,AF316)","v":"TRUEHard"}]
[{"$f":"CONCATENATE(AE317,D317,AG317)","v":"FALSEEasyX"},{"$f":"RAND()","v":0.79271008402191767},"Alg","Easy",362,"Algebra.   If",{"$f":"CHOOSE(RANDBETWEEN(1,10),\"a\",\"x\",\"y\",\"b\",\"m\",\"p\",\"x\",\"y\",\"k\",\"f\")","v":"x"},"=",{"$f":"RANDBETWEEN(2,10)","v":8},", what is",null,{"$f":"RANDBETWEEN(2,5)","v":5},{"$f":"G317","v":"x"},"?",null,null,null,null,null,{"$f":"CONCATENATE(F317,\" \",G317,\" \",H317,\" \",I317,\"\",J317,\"\",K317,\"    \",L317,\"\",M317,\" \",N317,\" \",O317,\" \",P317,\" \",Q317,\" \",R317)","v":"Algebra.   If x = 8, what is    5x ?    "},{"$f":"I317*L317","v":40},null,null,null,null,null,null,null,null,{"$f":"IF(OR(ISNA(U317),ISNA(V317),ISNA(W317),ISNA(X317),ISNA(Y317),ISNA(Z317),ISNA(AA317),ISNA(AB317),ISNA(AC317)),NA(),CONCATENATE(U317,V317,W317,X317,Y317,Z317,AA317,AB317))","v":"40"},{"$f":"IF(ISNA(AD317),FALSE,IF(C317=$B$1,Worksheet!$B$3,IF(C317=$C$1,Worksheet!$B$4,IF(C317=$D$1,Worksheet!$B$5,IF(C317=$E$1,Worksheet!$B$6,IF(C317=$B$2,Worksheet!$B$7,IF(C317=$C$2,Worksheet!$D$3,IF(C317=$D$2,Worksheet!$D$4,IF(C317=$E$2,Worksheet!$D$5,IF(C317=$C$3,Worksheet!$D$6,IF(C317=$B$3,Worksheet!$D$7,IF(C317=$D$3,Worksheet!$B$10,IF(C317=$E$3,Worksheet!$D$10,FALSE)))))))))))))","v":false},{"$f":"IF(AE317,D317,\"\")","v":""},{"$f":"IF(AE317,COUNTIF($AF$5:AF317,AF317),\"X\")","v":"X"},{"$f":"CONCATENATE(AE317,AF317)","v":"FALSE"}]
[{"$f":"CONCATENATE(AE318,D318,AG318)","v":"TRUEMedium127"},{"$f":"RAND()","v":0.12258649145987111},"Round","Medium",335,"Round",{"$f":"RANDBETWEEN(1,9)*10000+RANDBETWEEN(1,999)*10+RANDBETWEEN(1,9)","v":21343},"to the nearest ten",null,null,null,null,null,null,null,null,null,null,null,{"$f":"CONCATENATE(F318,\" \",TEXT(G318,\"#,###\"),\" \",H318,\" \",I318,\" \",J318,\" \",K318,\" \",L318,\" \",M318,\" \",N318,\" \",O318,\" \",P318,\" \",Q318,\" \",R318)","v":"Round 21,343 to the nearest ten          "},{"$f":"TEXT(MROUND(G318,10),\"#,###\")","v":"21,340"},null,null,null,null,null,null,null,null,{"$f":"IF(OR(ISNA(U318),ISNA(V318),ISNA(W318),ISNA(X318),ISNA(Y318),ISNA(Z318),ISNA(AA318),ISNA(AB318),ISNA(AC318)),NA(),CONCATENATE(U318,V318,W318,X318,Y318,Z318,AA318,AB318))","v":"21,340"},{"$f":"IF(ISNA(AD318),FALSE,IF(C318=$B$1,Worksheet!$B$3,IF(C318=$C$1,Worksheet!$B$4,IF(C318=$D$1,Worksheet!$B$5,IF(C318=$E$1,Worksheet!$B$6,IF(C318=$B$2,Worksheet!$B$7,IF(C318=$C$2,Worksheet!$D$3,IF(C318=$D$2,Worksheet!$D$4,IF(C318=$E$2,Worksheet!$D$5,IF(C318=$C$3,Worksheet!$D$6,IF(C318=$B$3,Worksheet!$D$7,IF(C318=$D$3,Worksheet!$B$10,IF(C318=$E$3,Worksheet!$D$10,FALSE)))))))))))))","v":true},{"$f":"IF(AE318,D318,\"\")","v":"Medium"},{"$f":"IF(AE318,COUNTIF($AF$5:AF318,AF318),\"X\")","v":127},{"$f":"CONCATENATE(AE318,AF318)","v":"TRUEMedium"}]
[{"$f":"CONCATENATE(AE319,D319,AG319)","v":"TRUEMedium128"},{"$f":"RAND()","v":0.81229260228994149},"Dec","Medium",269,"Write these numbers in order from",{"$f":"CHOOSE(RANDBETWEEN(1,2),\"smallest to biggest:\",\"biggest to smallest:\")","v":"smallest to biggest:"},{"$f":"S319+0.1+R319/100","v":8.15},{"$f":"S319*1.1","v":8.8000000000000007},{"$f":"S319+R319/10","v":8.5},{"$f":"S319+R319/100","v":8.0500000000000007},null,null,null,null,null,null,{"$f":"SMALL(IF(S319={1,2,3,4,5,6,7,8,9},\"\",{1,2,3,4,5,6,7,8,9}),RANDBETWEEN(1,8))","v":5},{"$f":"RANDBETWEEN(1,9)","v":8},{"$f":"CONCATENATE(F319,\" \",G319,\"   \",H319,\",  \",I319,\",  \",J319,\",  \",K319,\" \",L319,\" \",M319,\" \",N319)","v":"Write these numbers in order from smallest to biggest:   8.15,  8.8,  8.5,  8.05   "},{"$f":"IF($G319=\"smallest to biggest:\",LARGE($H319:$K319,4),LARGE($H319:$K319,1))","v":8.0500000000000007},{"$f":"IF($G319=\"smallest to biggest:\",LARGE($H319:$K319,3),LARGE($H319:$K319,2))","v":8.15},{"$f":"IF($G319=\"smallest to biggest:\",LARGE($H319:$K319,2),LARGE($H319:$K319,3))","v":8.5},{"$f":"IF($G319=\"smallest to biggest:\",LARGE($H319:$K319,1),LARGE($H319:$K319,4))","v":8.8000000000000007},null,{"$f":"IF(OR(H319=I319,H319=J319,H319=K319,I319=J319,I319=K319,J319=K319),NA(),\"\")","v":""},null,null,null,{"$f":"IF(OR(ISNA(U319),ISNA(V319),ISNA(W319),ISNA(X319),ISNA(Y319),ISNA(Z319),ISNA(AA319),ISNA(AB319),ISNA(AC319)),NA(),CONCATENATE(U319,\",  \",V319,\",  \",W319,\",  \",X319,Y319,Z319,AA319,AB319))","v":"8.05,  8.15,  8.5,  8.8"},{"$f":"IF(ISNA(AD319),FALSE,IF(C319=$B$1,Worksheet!$B$3,IF(C319=$C$1,Worksheet!$B$4,IF(C319=$D$1,Worksheet!$B$5,IF(C319=$E$1,Worksheet!$B$6,IF(C319=$B$2,Worksheet!$B$7,IF(C319=$C$2,Worksheet!$D$3,IF(C319=$D$2,Worksheet!$D$4,IF(C319=$E$2,Worksheet!$D$5,IF(C319=$C$3,Worksheet!$D$6,IF(C319=$B$3,Worksheet!$D$7,IF(C319=$D$3,Worksheet!$B$10,IF(C319=$E$3,Worksheet!$D$10,FALSE)))))))))))))","v":true},{"$f":"IF(AE319,D319,\"\")","v":"Medium"},{"$f":"IF(AE319,COUNTIF($AF$5:AF319,AF319),\"X\")","v":128},{"$f":"CONCATENATE(AE319,AF319)","v":"TRUEMedium"}]
[{"$f":"CONCATENATE(AE320,D320,AG320)","v":"TRUEHard95"},{"$f":"RAND()","v":0.17851990023204733},"Neg","Hard",359,"Continue the pattern for three more numbers:   ",{"$f":"RANDBETWEEN(3,4)*2+1","v":7},{"$f":"G320+S320","v":5},{"$f":"H320+S320","v":3},{"$f":"I320+S320","v":1},"____","____","____",null,null,null,null,null,-2,{"$f":"CONCATENATE(F320,\" \",G320,\",   \",H320,\",   \",I320,\",   \",J320,\",   \",K320,\",   \",L320,\",   \",M320,\" \",N320,\" \",O320,\" \",P320,\" \",Q320,\" \",R320)","v":"Continue the pattern for three more numbers:    7,   5,   3,   1,   ____,   ____,   ____     "},{"$f":"J320+S320","v":-1},{"$f":"U320+S320","v":-3},{"$f":"V320+S320","v":-5},null,null,null,null,null,null,{"$f":"IF(OR(ISNA(U320),ISNA(V320),ISNA(W320),ISNA(X320),ISNA(Y320),ISNA(Z320),ISNA(AA320),ISNA(AB320),ISNA(AC320)),NA(),CONCATENATE(U320,\",   \",V320,\",   \",W320,X320,Y320,Z320,AA320,AB320))","v":"-1,   -3,   -5"},{"$f":"IF(ISNA(AD320),FALSE,IF(C320=$B$1,Worksheet!$B$3,IF(C320=$C$1,Worksheet!$B$4,IF(C320=$D$1,Worksheet!$B$5,IF(C320=$E$1,Worksheet!$B$6,IF(C320=$B$2,Worksheet!$B$7,IF(C320=$C$2,Worksheet!$D$3,IF(C320=$D$2,Worksheet!$D$4,IF(C320=$E$2,Worksheet!$D$5,IF(C320=$C$3,Worksheet!$D$6,IF(C320=$B$3,Worksheet!$D$7,IF(C320=$D$3,Worksheet!$B$10,IF(C320=$E$3,Worksheet!$D$10,FALSE)))))))))))))","v":true},{"$f":"IF(AE320,D320,\"\")","v":"Hard"},{"$f":"IF(AE320,COUNTIF($AF$5:AF320,AF320),\"X\")","v":95},{"$f":"CONCATENATE(AE320,AF320)","v":"TRUEHard"}]
[{"$f":"CONCATENATE(AE321,D321,AG321)","v":"TRUEHard96"},{"$f":"RAND()","v":0.84450205237322162},"Dec","Hard",255,"Continue the pattern for three more numbers:   ",{"$f":"RANDBETWEEN(1,40)+0.13","v":22.13},{"$f":"G321+S321","v":22.119999999999997},{"$f":"H321+S321","v":22.109999999999996},{"$f":"I321+S321","v":22.099999999999994},"____","____","____",null,null,null,null,null,-0.01,{"$f":"CONCATENATE(F321,\" \",G321,\",   \",H321,\",   \",I321,\",   \",J321,\",   \",K321,\",   \",L321,\",   \",M321,\" \",N321,\" \",O321,\" \",P321,\" \",Q321,\" \",R321)","v":"Continue the pattern for three more numbers:    22.13,   22.12,   22.11,   22.1,   ____,   ____,   ____     "},{"$f":"J321+S321","v":22.089999999999993},{"$f":"U321+S321","v":22.079999999999991},{"$f":"V321+S321","v":22.06999999999999},null,null,null,null,null,null,{"$f":"IF(OR(ISNA(U321),ISNA(V321),ISNA(W321),ISNA(X321),ISNA(Y321),ISNA(Z321),ISNA(AA321),ISNA(AB321),ISNA(AC321)),NA(),CONCATENATE(U321,\",   \",V321,\",   \",W321,X321,Y321,Z321,AA321,AB321))","v":"22.09,   22.08,   22.07"},{"$f":"IF(ISNA(AD321),FALSE,IF(C321=$B$1,Worksheet!$B$3,IF(C321=$C$1,Worksheet!$B$4,IF(C321=$D$1,Worksheet!$B$5,IF(C321=$E$1,Worksheet!$B$6,IF(C321=$B$2,Worksheet!$B$7,IF(C321=$C$2,Worksheet!$D$3,IF(C321=$D$2,Worksheet!$D$4,IF(C321=$E$2,Worksheet!$D$5,IF(C321=$C$3,Worksheet!$D$6,IF(C321=$B$3,Worksheet!$D$7,IF(C321=$D$3,Worksheet!$B$10,IF(C321=$E$3,Worksheet!$D$10,FALSE)))))))))))))","v":true},{"$f":"IF(AE321,D321,\"\")","v":"Hard"},{"$f":"IF(AE321,COUNTIF($AF$5:AF321,AF321),\"X\")","v":96},{"$f":"CONCATENATE(AE321,AF321)","v":"TRUEHard"}]
[{"$f":"CONCATENATE(AE322,D322,AG322)","v":"TRUEMedium129"},{"$f":"RAND()","v":0.95293573951101729},"%","Medium",322,"What is ",10,"% of £",{"$f":"10*RANDBETWEEN(1,10)","v":90},"?",null,null,null,null,null,null,null,null,null,{"$f":"CONCATENATE(F322,\" \",G322,\"\",H322,\"\",I322,\" \",J322,\" \",K322,\" \",L322,\" \",M322,\" \",N322,\" \",O322,\" \",P322,\" \",Q322,\" \",R322)","v":"What is  10% of £90 ?        "},"£",{"$f":"I322/10","v":9},null,null,null,null,null,null,null,{"$f":"IF(OR(ISNA(U322),ISNA(V322),ISNA(W322),ISNA(X322),ISNA(Y322),ISNA(Z322),ISNA(AA322),ISNA(AB322),ISNA(AC322)),NA(),CONCATENATE(U322,V322,W322,X322,Y322,Z322,AA322,AB322))","v":"£9"},{"$f":"IF(ISNA(AD322),FALSE,IF(C322=$B$1,Worksheet!$B$3,IF(C322=$C$1,Worksheet!$B$4,IF(C322=$D$1,Worksheet!$B$5,IF(C322=$E$1,Worksheet!$B$6,IF(C322=$B$2,Worksheet!$B$7,IF(C322=$C$2,Worksheet!$D$3,IF(C322=$D$2,Worksheet!$D$4,IF(C322=$E$2,Worksheet!$D$5,IF(C322=$C$3,Worksheet!$D$6,IF(C322=$B$3,Worksheet!$D$7,IF(C322=$D$3,Worksheet!$B$10,IF(C322=$E$3,Worksheet!$D$10,FALSE)))))))))))))","v":true},{"$f":"IF(AE322,D322,\"\")","v":"Medium"},{"$f":"IF(AE322,COUNTIF($AF$5:AF322,AF322),\"X\")","v":129},{"$f":"CONCATENATE(AE322,AF322)","v":"TRUEMedium"}]
[{"$f":"CONCATENATE(AE323,D323,AG323)","v":"TRUEMedium130"},{"$f":"RAND()","v":0.14261060595408803},"Round","Medium",341,"Round",{"$f":"RANDBETWEEN(0,99)+RANDBETWEEN(1,99)/100","v":29.69},"to one decimal place",null,null,null,null,null,null,null,null,null,null,null,{"$f":"CONCATENATE(F323,\" \",G323,\" \",H323,\" \",I323,\" \",J323,\" \",K323,\" \",L323,\" \",M323,\" \",N323,\" \",O323,\" \",P323,\" \",Q323,\" \",R323)","v":"Round 29.69 to one decimal place          "},{"$f":"MROUND(G323,0.1)","v":29.700000000000003},null,null,null,null,null,null,null,null,{"$f":"IF(OR(ISNA(U323),ISNA(V323),ISNA(W323),ISNA(X323),ISNA(Y323),ISNA(Z323),ISNA(AA323),ISNA(AB323),ISNA(AC323)),NA(),CONCATENATE(U323,V323,W323,X323,Y323,Z323,AA323,AB323))","v":"29.7"},{"$f":"IF(ISNA(AD323),FALSE,IF(C323=$B$1,Worksheet!$B$3,IF(C323=$C$1,Worksheet!$B$4,IF(C323=$D$1,Worksheet!$B$5,IF(C323=$E$1,Worksheet!$B$6,IF(C323=$B$2,Worksheet!$B$7,IF(C323=$C$2,Worksheet!$D$3,IF(C323=$D$2,Worksheet!$D$4,IF(C323=$E$2,Worksheet!$D$5,IF(C323=$C$3,Worksheet!$D$6,IF(C323=$B$3,Worksheet!$D$7,IF(C323=$D$3,Worksheet!$B$10,IF(C323=$E$3,Worksheet!$D$10,FALSE)))))))))))))","v":true},{"$f":"IF(AE323,D323,\"\")","v":"Medium"},{"$f":"IF(AE323,COUNTIF($AF$5:AF323,AF323),\"X\")","v":130},{"$f":"CONCATENATE(AE323,AF323)","v":"TRUEMedium"}]
[{"$f":"CONCATENATE(AE324,D324,AG324)","v":"TRUEHard97"},{"$f":"RAND()","v":0.29695370249831299},"Dec","Hard",230,"In the number",{"$f":"RANDBETWEEN(1,9)","v":2},{"$f":"SMALL(IF(G324={1,2,3,4,5,6,7,8,9},\"\",{1,2,3,4,5,6,7,8,9}),RANDBETWEEN(1,8))","v":7},{"$f":"SMALL(IF(G324={1,2,3,4,5,6,7,8,9},\"\",IF(H324={1,2,3,4,5,6,7,8,9},\"\",{1,2,3,4,5,6,7,8,9})),RANDBETWEEN(1,7))","v":6},{"$f":"SMALL(IF(G324={1,2,3,4,5,6,7,8,9},\"\",IF(H324={1,2,3,4,5,6,7,8,9},\"\",IF(I324={1,2,3,4,5,6,7,8,9},\"\",{1,2,3,4,5,6,7,8,9}))),RANDBETWEEN(1,6))","v":4},{"$f":"SMALL(IF(G324={1,2,3,4,5,6,7,8,9},\"\",IF(H324={1,2,3,4,5,6,7,8,9},\"\",IF(I324={1,2,3,4,5,6,7,8,9},\"\",IF(J324={1,2,3,4,5,6,7,8,9},\"\",{1,2,3,4,5,6,7,8,9})))),RANDBETWEEN(1,5))","v":8},null,", which digit represents the UNITS?",null,null,null,null,null,{"$f":"RANDBETWEEN(1,3)","v":2},{"$f":"CONCATENATE(F324,\" \",G324,\"\",H324,\"\",I324,\"•\",J324,\"\",K324,\"\",L324,\" \",M324,\" \",N324,\" \",O324,\" \",P324,\" \",Q324,\" \",R324)","v":"In the number 276•48 , which digit represents the UNITS?     "},{"$f":"I324","v":6},null,null,null,null,null,null,null,null,{"$f":"IF(OR(ISNA(U324),ISNA(V324),ISNA(W324),ISNA(X324),ISNA(Y324),ISNA(Z324),ISNA(AA324),ISNA(AB324),ISNA(AC324)),NA(),CONCATENATE(U324,V324,W324,X324,Y324,Z324,AA324,AB324))","v":"6"},{"$f":"IF(ISNA(AD324),FALSE,IF(C324=$B$1,Worksheet!$B$3,IF(C324=$C$1,Worksheet!$B$4,IF(C324=$D$1,Worksheet!$B$5,IF(C324=$E$1,Worksheet!$B$6,IF(C324=$B$2,Worksheet!$B$7,IF(C324=$C$2,Worksheet!$D$3,IF(C324=$D$2,Worksheet!$D$4,IF(C324=$E$2,Worksheet!$D$5,IF(C324=$C$3,Worksheet!$D$6,IF(C324=$B$3,Worksheet!$D$7,IF(C324=$D$3,Worksheet!$B$10,IF(C324=$E$3,Worksheet!$D$10,FALSE)))))))))))))","v":true},{"$f":"IF(AE324,D324,\"\")","v":"Hard"},{"$f":"IF(AE324,COUNTIF($AF$5:AF324,AF324),\"X\")","v":97},{"$f":"CONCATENATE(AE324,AF324)","v":"TRUEHard"}]
[{"$f":"CONCATENATE(AE325,D325,AG325)","v":"TRUEMedium131"},{"$f":"RAND()","v":0.41846368272193768},"Dec","Medium",272,"Write these numbers in order from",{"$f":"CHOOSE(RANDBETWEEN(1,2),\"smallest to biggest:\",\"biggest to smallest:\")","v":"biggest to smallest:"},{"$f":"S325+0.1+R325/100","v":9.15},{"$f":"S325*1.1","v":9.9},{"$f":"S325+R325/10-1.01","v":8.49},{"$f":"S325+R325/100","v":9.0500000000000007},{"$f":"S325","v":9},null,null,null,null,null,{"$f":"SMALL(IF(S325={1,2,3,4,5,6,7,8,9},\"\",{1,2,3,4,5,6,7,8,9}),RANDBETWEEN(1,8))","v":5},{"$f":"RANDBETWEEN(1,9)","v":9},{"$f":"CONCATENATE(F325,\" \",G325,\"   \",H325,\",  \",I325,\",  \",J325,\",  \",K325,\",   \",L325,\" \",M325,\" \",N325)","v":"Write these numbers in order from biggest to smallest:   9.15,  9.9,  8.49,  9.05,   9  "},{"$f":"IF($G325=\"smallest to biggest:\",LARGE($H325:$L325,5),LARGE($H325:$L325,1))","v":9.9},{"$f":"IF($G325=\"smallest to biggest:\",LARGE($H325:$L325,4),LARGE($H325:$L325,2))","v":9.15},{"$f":"IF($G325=\"smallest to biggest:\",LARGE($H325:$L325,3),LARGE($H325:$L325,3))","v":9.0500000000000007},{"$f":"IF($G325=\"smallest to biggest:\",LARGE($H325:$L325,2),LARGE($H325:$L325,4))","v":9},{"$f":"IF($G325=\"smallest to biggest:\",LARGE($H325:$L325,1),LARGE($H325:$L325,5))","v":8.49},{"$f":"IF(OR(H325=I325,H325=J325,H325=K325,I325=J325,I325=K325,J325=K325,L325=H325,L325=I325,L325=J325,L325=K325),NA(),\"\")","v":""},null,null,null,{"$f":"IF(OR(ISNA(U325),ISNA(V325),ISNA(W325),ISNA(X325),ISNA(Y325),ISNA(Z325),ISNA(AA325),ISNA(AB325),ISNA(AC325)),NA(),CONCATENATE(U325,\",  \",V325,\",  \",W325,\",  \",X325,\",  \",Y325,Z325,AA325,AB325))","v":"9.9,  9.15,  9.05,  9,  8.49"},{"$f":"IF(ISNA(AD325),FALSE,IF(C325=$B$1,Worksheet!$B$3,IF(C325=$C$1,Worksheet!$B$4,IF(C325=$D$1,Worksheet!$B$5,IF(C325=$E$1,Worksheet!$B$6,IF(C325=$B$2,Worksheet!$B$7,IF(C325=$C$2,Worksheet!$D$3,IF(C325=$D$2,Worksheet!$D$4,IF(C325=$E$2,Worksheet!$D$5,IF(C325=$C$3,Worksheet!$D$6,IF(C325=$B$3,Worksheet!$D$7,IF(C325=$D$3,Worksheet!$B$10,IF(C325=$E$3,Worksheet!$D$10,FALSE)))))))))))))","v":true},{"$f":"IF(AE325,D325,\"\")","v":"Medium"},{"$f":"IF(AE325,COUNTIF($AF$5:AF325,AF325),\"X\")","v":131},{"$f":"CONCATENATE(AE325,AF325)","v":"TRUEMedium"}]
[{"$f":"CONCATENATE(AE326,D326,AG326)","v":"TRUEMedium132"},{"$f":"RAND()","v":0.69785098760710185},"Round","Medium",336,"Round",{"$f":"RANDBETWEEN(1,9)*10000+RANDBETWEEN(1,9999)","v":37010},"to the nearest hundred",null,null,null,null,null,null,null,null,null,null,null,{"$f":"CONCATENATE(F326,\" \",TEXT(G326,\"#,###\"),\" \",H326,\" \",I326,\" \",J326,\" \",K326,\" \",L326,\" \",M326,\" \",N326,\" \",O326,\" \",P326,\" \",Q326,\" \",R326)","v":"Round 37,010 to the nearest hundred          "},{"$f":"TEXT(MROUND(G326,100),\"#,###\")","v":"37,000"},null,null,null,null,null,null,null,null,{"$f":"IF(OR(ISNA(U326),ISNA(V326),ISNA(W326),ISNA(X326),ISNA(Y326),ISNA(Z326),ISNA(AA326),ISNA(AB326),ISNA(AC326)),NA(),CONCATENATE(U326,V326,W326,X326,Y326,Z326,AA326,AB326))","v":"37,000"},{"$f":"IF(ISNA(AD326),FALSE,IF(C326=$B$1,Worksheet!$B$3,IF(C326=$C$1,Worksheet!$B$4,IF(C326=$D$1,Worksheet!$B$5,IF(C326=$E$1,Worksheet!$B$6,IF(C326=$B$2,Worksheet!$B$7,IF(C326=$C$2,Worksheet!$D$3,IF(C326=$D$2,Worksheet!$D$4,IF(C326=$E$2,Worksheet!$D$5,IF(C326=$C$3,Worksheet!$D$6,IF(C326=$B$3,Worksheet!$D$7,IF(C326=$D$3,Worksheet!$B$10,IF(C326=$E$3,Worksheet!$D$10,FALSE)))))))))))))","v":true},{"$f":"IF(AE326,D326,\"\")","v":"Medium"},{"$f":"IF(AE326,COUNTIF($AF$5:AF326,AF326),\"X\")","v":132},{"$f":"CONCATENATE(AE326,AF326)","v":"TRUEMedium"}]
[{"$f":"CONCATENATE(AE327,D327,AG327)","v":"TRUEMedium133"},{"$f":"RAND()","v":0.92685544054032754},"%","Medium",319,"What is ",25,"% of £",{"$f":"4*RANDBETWEEN(1,10)","v":12},"?",null,null,null,null,null,null,null,null,null,{"$f":"CONCATENATE(F327,\" \",G327,\"\",H327,\"\",I327,\" \",J327,\" \",K327,\" \",L327,\" \",M327,\" \",N327,\" \",O327,\" \",P327,\" \",Q327,\" \",R327)","v":"What is  25% of £12 ?        "},"£",{"$f":"I327/4","v":3},null,null,null,null,null,null,null,{"$f":"IF(OR(ISNA(U327),ISNA(V327),ISNA(W327),ISNA(X327),ISNA(Y327),ISNA(Z327),ISNA(AA327),ISNA(AB327),ISNA(AC327)),NA(),CONCATENATE(U327,V327,W327,X327,Y327,Z327,AA327,AB327))","v":"£3"},{"$f":"IF(ISNA(AD327),FALSE,IF(C327=$B$1,Worksheet!$B$3,IF(C327=$C$1,Worksheet!$B$4,IF(C327=$D$1,Worksheet!$B$5,IF(C327=$E$1,Worksheet!$B$6,IF(C327=$B$2,Worksheet!$B$7,IF(C327=$C$2,Worksheet!$D$3,IF(C327=$D$2,Worksheet!$D$4,IF(C327=$E$2,Worksheet!$D$5,IF(C327=$C$3,Worksheet!$D$6,IF(C327=$B$3,Worksheet!$D$7,IF(C327=$D$3,Worksheet!$B$10,IF(C327=$E$3,Worksheet!$D$10,FALSE)))))))))))))","v":true},{"$f":"IF(AE327,D327,\"\")","v":"Medium"},{"$f":"IF(AE327,COUNTIF($AF$5:AF327,AF327),\"X\")","v":133},{"$f":"CONCATENATE(AE327,AF327)","v":"TRUEMedium"}]
[{"$f":"CONCATENATE(AE328,D328,AG328)","v":"TRUEMedium134"},{"$f":"RAND()","v":6.2103178732911934E-2},"Divide","Medium",111,"What is half of",{"$f":"RANDBETWEEN(2,4)*20+RANDBETWEEN(5,9)*2","v":90},"?",null,null,null,null,null,null,null,null,null,null,null,{"$f":"CONCATENATE(F328,\" \",G328,\" \",H328,\" \",I328,\" \",J328,\" \",K328,\" \",L328,\" \",M328,\" \",N328,\" \",O328,\" \",P328,\" \",Q328,\" \",R328)","v":"What is half of 90 ?          "},{"$f":"G328/2","v":45},null,null,null,null,null,null,null,null,{"$f":"IF(OR(ISNA(U328),ISNA(V328),ISNA(W328),ISNA(X328),ISNA(Y328),ISNA(Z328),ISNA(AA328),ISNA(AB328),ISNA(AC328)),NA(),CONCATENATE(U328,V328,W328,X328,Y328,Z328,AA328,AB328))","v":"45"},{"$f":"IF(ISNA(AD328),FALSE,IF(C328=$B$1,Worksheet!$B$3,IF(C328=$C$1,Worksheet!$B$4,IF(C328=$D$1,Worksheet!$B$5,IF(C328=$E$1,Worksheet!$B$6,IF(C328=$B$2,Worksheet!$B$7,IF(C328=$C$2,Worksheet!$D$3,IF(C328=$D$2,Worksheet!$D$4,IF(C328=$E$2,Worksheet!$D$5,IF(C328=$C$3,Worksheet!$D$6,IF(C328=$B$3,Worksheet!$D$7,IF(C328=$D$3,Worksheet!$B$10,IF(C328=$E$3,Worksheet!$D$10,FALSE)))))))))))))","v":true},{"$f":"IF(AE328,D328,\"\")","v":"Medium"},{"$f":"IF(AE328,COUNTIF($AF$5:AF328,AF328),\"X\")","v":134},{"$f":"CONCATENATE(AE328,AF328)","v":"TRUEMedium"}]
[{"$f":"CONCATENATE(AE329,D329,AG329)","v":"TRUEHard98"},{"$f":"RAND()","v":0.59759412384232635},"Divide","Hard",133,"Divide:   ",{"$f":"TEXT((RANDBETWEEN(1,9)*10+RANDBETWEEN(1,9))*10^RANDBETWEEN(4,5),\"#,###\")","v":"4,900,000"},"÷",{"$f":"10^RANDBETWEEN(2,3)","v":1000},null,null,null,null,null,null,null,null,null,null,{"$f":"CONCATENATE(F329,\" \",G329,\" \",H329,\" \",I329,\" \",J329,\" \",K329,\" \",L329,\" \",M329,\" \",N329,\" \",O329,\" \",P329,\" \",Q329,\" \",R329)","v":"Divide:    4,900,000 ÷ 1000         "},{"$f":"TEXT(G329/I329,\"#,###\")","v":"4,900"},null,null,null,null,null,null,null,null,{"$f":"IF(OR(ISNA(U329),ISNA(V329),ISNA(W329),ISNA(X329),ISNA(Y329),ISNA(Z329),ISNA(AA329),ISNA(AB329),ISNA(AC329)),NA(),CONCATENATE(U329,V329,W329,X329,Y329,Z329,AA329,AB329))","v":"4,900"},{"$f":"IF(ISNA(AD329),FALSE,IF(C329=$B$1,Worksheet!$B$3,IF(C329=$C$1,Worksheet!$B$4,IF(C329=$D$1,Worksheet!$B$5,IF(C329=$E$1,Worksheet!$B$6,IF(C329=$B$2,Worksheet!$B$7,IF(C329=$C$2,Worksheet!$D$3,IF(C329=$D$2,Worksheet!$D$4,IF(C329=$E$2,Worksheet!$D$5,IF(C329=$C$3,Worksheet!$D$6,IF(C329=$B$3,Worksheet!$D$7,IF(C329=$D$3,Worksheet!$B$10,IF(C329=$E$3,Worksheet!$D$10,FALSE)))))))))))))","v":true},{"$f":"IF(AE329,D329,\"\")","v":"Hard"},{"$f":"IF(AE329,COUNTIF($AF$5:AF329,AF329),\"X\")","v":98},{"$f":"CONCATENATE(AE329,AF329)","v":"TRUEHard"}]
[{"$f":"CONCATENATE(AE330,D330,AG330)","v":"TRUEHard99"},{"$f":"RAND()","v":0.67608775129061349},"+-","Hard",37,"What do you add on to",{"$f":"(RANDBETWEEN(1,9)+RANDBETWEEN(1,9)*10)+RANDBETWEEN(1,8)*100","v":549},"to make 1000?",null,null,null,null,null,null,null,null,null,null,null,{"$f":"CONCATENATE(F330,\" \",G330,\" \",H330,\" \",I330,\" \",J330,\" \",K330,\" \",L330,\" \",M330,\" \",N330,\" \",O330,\" \",P330,\" \",Q330,\" \",R330)","v":"What do you add on to 549 to make 1000?          "},{"$f":"1000-G330","v":451},null,null,null,null,null,null,null,null,{"$f":"IF(OR(ISNA(U330),ISNA(V330),ISNA(W330),ISNA(X330),ISNA(Y330),ISNA(Z330),ISNA(AA330),ISNA(AB330),ISNA(AC330)),NA(),CONCATENATE(U330,V330,W330,X330,Y330,Z330,AA330,AB330))","v":"451"},{"$f":"IF(ISNA(AD330),FALSE,IF(C330=$B$1,Worksheet!$B$3,IF(C330=$C$1,Worksheet!$B$4,IF(C330=$D$1,Worksheet!$B$5,IF(C330=$E$1,Worksheet!$B$6,IF(C330=$B$2,Worksheet!$B$7,IF(C330=$C$2,Worksheet!$D$3,IF(C330=$D$2,Worksheet!$D$4,IF(C330=$E$2,Worksheet!$D$5,IF(C330=$C$3,Worksheet!$D$6,IF(C330=$B$3,Worksheet!$D$7,IF(C330=$D$3,Worksheet!$B$10,IF(C330=$E$3,Worksheet!$D$10,FALSE)))))))))))))","v":true},{"$f":"IF(AE330,D330,\"\")","v":"Hard"},{"$f":"IF(AE330,COUNTIF($AF$5:AF330,AF330),\"X\")","v":99},{"$f":"CONCATENATE(AE330,AF330)","v":"TRUEHard"}]
[{"$f":"CONCATENATE(AE331,D331,AG331)","v":"TRUEMedium135"},{"$f":"RAND()","v":0.2082626853991778},"Mult","Medium",98,"Multiply:   ",{"$f":"RANDBETWEEN(2,9)","v":7},"×",{"$f":"RANDBETWEEN(2,9)*10","v":90},null,null,null,null,null,null,null,null,null,null,{"$f":"CONCATENATE(F331,\" \",G331,\" \",H331,\" \",I331,\" \",J331,\" \",K331,\" \",L331,\" \",M331,\" \",N331,\" \",O331,\" \",P331,\" \",Q331,\" \",R331)","v":"Multiply:    7 × 90         "},{"$f":"TEXT(G331*I331,\"#,###\")","v":"630"},null,null,null,null,null,null,null,null,{"$f":"IF(OR(ISNA(U331),ISNA(V331),ISNA(W331),ISNA(X331),ISNA(Y331),ISNA(Z331),ISNA(AA331),ISNA(AB331),ISNA(AC331)),NA(),CONCATENATE(U331,V331,W331,X331,Y331,Z331,AA331,AB331))","v":"630"},{"$f":"IF(ISNA(AD331),FALSE,IF(C331=$B$1,Worksheet!$B$3,IF(C331=$C$1,Worksheet!$B$4,IF(C331=$D$1,Worksheet!$B$5,IF(C331=$E$1,Worksheet!$B$6,IF(C331=$B$2,Worksheet!$B$7,IF(C331=$C$2,Worksheet!$D$3,IF(C331=$D$2,Worksheet!$D$4,IF(C331=$E$2,Worksheet!$D$5,IF(C331=$C$3,Worksheet!$D$6,IF(C331=$B$3,Worksheet!$D$7,IF(C331=$D$3,Worksheet!$B$10,IF(C331=$E$3,Worksheet!$D$10,FALSE)))))))))))))","v":true},{"$f":"IF(AE331,D331,\"\")","v":"Medium"},{"$f":"IF(AE331,COUNTIF($AF$5:AF331,AF331),\"X\")","v":135},{"$f":"CONCATENATE(AE331,AF331)","v":"TRUEMedium"}]
[{"$f":"CONCATENATE(AE332,D332,AG332)","v":"TRUEHard100"},{"$f":"RAND()","v":0.64226689926379077},"Dec","Hard",221,"Write the decimal number",{"$f":"CHOOSE(RANDBETWEEN(1,4),2,4,6,8)/10","v":0.6},"as a fraction","in its simplest form",null,null,null,null,null,null,null,null,null,null,{"$f":"CONCATENATE(F332,\" \",G332,\" \",H332,\" \",I332,\" \",J332,\" \",K332,\" \",L332,\" \",M332,\" \",N332,\" \",O332,\" \",P332,\" \",Q332,\" \",R332)","v":"Write the decimal number 0.6 as a fraction in its simplest form         "},{"$f":"G332*10/2","v":3},"/5",null,null,null,null,null,null,null,{"$f":"IF(OR(ISNA(U332),ISNA(V332),ISNA(W332),ISNA(X332),ISNA(Y332),ISNA(Z332),ISNA(AA332),ISNA(AB332),ISNA(AC332)),NA(),CONCATENATE(U332,V332,W332,X332,Y332,Z332,AA332,AB332))","v":"3/5"},{"$f":"IF(ISNA(AD332),FALSE,IF(C332=$B$1,Worksheet!$B$3,IF(C332=$C$1,Worksheet!$B$4,IF(C332=$D$1,Worksheet!$B$5,IF(C332=$E$1,Worksheet!$B$6,IF(C332=$B$2,Worksheet!$B$7,IF(C332=$C$2,Worksheet!$D$3,IF(C332=$D$2,Worksheet!$D$4,IF(C332=$E$2,Worksheet!$D$5,IF(C332=$C$3,Worksheet!$D$6,IF(C332=$B$3,Worksheet!$D$7,IF(C332=$D$3,Worksheet!$B$10,IF(C332=$E$3,Worksheet!$D$10,FALSE)))))))))))))","v":true},{"$f":"IF(AE332,D332,\"\")","v":"Hard"},{"$f":"IF(AE332,COUNTIF($AF$5:AF332,AF332),\"X\")","v":100},{"$f":"CONCATENATE(AE332,AF332)","v":"TRUEHard"}]
[{"$f":"CONCATENATE(AE333,D333,AG333)","v":"TRUEMedium136"},{"$f":"RAND()","v":0.91824940942725308},"Num","Medium",12,"Write the number   \"",{"$f":"CHOOSE(RANDBETWEEN(1,9),\"one\",\"two\",\"three\",\"four\",\"five\",\"six\",\"seven\",\"eight\",\"nine\")","v":"three"},"hundred and",{"$f":"CHOOSE(S333,\"ten\",\"twenty\",\"thirty\",\"forty\",\"fifty\",\"sixty\",\"seventy\",\"eighty\",\"ninety\")","v":"thirty"},null,"thousand, ","and",{"$f":"CHOOSE(R333,CHOOSE(RANDBETWEEN(1,10),\"ten\",\"eleven\",\"twelve\",\"thirteen\",\"fourteen\",\"fifteen\",\"sixteen\",\"seventeen\",\"eighteen\",\"nineteen\"),\"twenty\",\"thirty\",\"forty\",\"fifty\",\"sixty\",\"seventy\",\"eighty\",\"ninety\")","v":"fifty"},{"$f":"IF(R333=1,\"\",CHOOSE(RANDBETWEEN(1,10),\"one\",\"two\",\"three\",\"four\",\"five\",\"six\",\"seven\",\"eight\",\"nine\",\"\"))","v":"seven"},"\"   in figures",null,null,{"$f":"RANDBETWEEN(1,9)","v":5},{"$f":"RANDBETWEEN(1,9)","v":3},{"$f":"CONCATENATE(F333,\" \",G333,\" \",H333,\" \",I333,\" \",J333,\" \",K333,\" \",L333,\" \",M333,\" \",N333,\" \",O333,\" \",P333,\" \",Q333)","v":"Write the number   \" three hundred and thirty  thousand,  and fifty seven \"   in figures  "},{"$f":"IF(G333=\"one\",1,IF(G333=\"two\",2,IF(G333=\"three\",3,IF(G333=\"four\",4,IF(G333=\"five\",5,IF(G333=\"six\",6,IF(G333=\"seven\",7,IF(G333=\"eight\",8,9))))))))","v":3},{"$f":"S333","v":3},{"$f":"IF(S333=1,IF(I333=\"ten\",0,IF(I333=\"eleven\",1,IF(I333=\"twelve\",2,IF(I333=\"thirteen\",3,IF(I333=\"fourteen\",4,IF(I333=\"fifteen\",5,IF(I333=\"sixteen\",6,IF(I333=\"seventeen\",7,IF(I333=\"eighteen\",8,9))))))))),IF(J333=\"\",0,IF(J333=\"one\",1,IF(J333=\"two\",2,IF(J333=\"three\",3,IF(J333=\"four\",4,IF(J333=\"five\",5,IF(J333=\"six\",6,IF(J333=\"seven\",7,IF(J333=\"eight\",8,9))))))))))","v":0},",0",{"$f":"R333","v":5},{"$f":"IF(R333=1,IF(M333=\"ten\",0,IF(M333=\"eleven\",1,IF(M333=\"twelve\",2,IF(M333=\"thirteen\",3,IF(M333=\"fourteen\",4,IF(M333=\"fifteen\",5,IF(M333=\"sixteen\",6,IF(M333=\"seventeen\",7,IF(M333=\"eighteen\",8,9))))))))),IF(N333=\"\",0,IF(N333=\"one\",1,IF(N333=\"two\",2,IF(N333=\"three\",3,IF(N333=\"four\",4,IF(N333=\"five\",5,IF(N333=\"six\",6,IF(N333=\"seven\",7,IF(N333=\"eight\",8,9))))))))))","v":7},null,null,null,{"$f":"IF(OR(ISNA(U333),ISNA(V333),ISNA(W333),ISNA(X333),ISNA(Y333),ISNA(Z333),ISNA(AA333),ISNA(AB333),ISNA(AC333)),NA(),CONCATENATE(U333,V333,W333,X333,Y333,Z333,AA333,AB333))","v":"330,057"},{"$f":"IF(ISNA(AD333),FALSE,IF(C333=$B$1,Worksheet!$B$3,IF(C333=$C$1,Worksheet!$B$4,IF(C333=$D$1,Worksheet!$B$5,IF(C333=$E$1,Worksheet!$B$6,IF(C333=$B$2,Worksheet!$B$7,IF(C333=$C$2,Worksheet!$D$3,IF(C333=$D$2,Worksheet!$D$4,IF(C333=$E$2,Worksheet!$D$5,IF(C333=$C$3,Worksheet!$D$6,IF(C333=$B$3,Worksheet!$D$7,IF(C333=$D$3,Worksheet!$B$10,IF(C333=$E$3,Worksheet!$D$10,FALSE)))))))))))))","v":true},{"$f":"IF(AE333,D333,\"\")","v":"Medium"},{"$f":"IF(AE333,COUNTIF($AF$5:AF333,AF333),\"X\")","v":136},{"$f":"CONCATENATE(AE333,AF333)","v":"TRUEMedium"}]
[{"$f":"CONCATENATE(AE334,D334,AG334)","v":"TRUEHard101"},{"$f":"RAND()","v":0.58319054100537726},"%","Hard",301,"What is",{"$f":"RANDBETWEEN(1,9)/100","v":0.04},"as a percentage?",null,null,null,null,null,null,null,null,null,null,null,{"$f":"CONCATENATE(F334,\" \",G334,\" \",H334,\" \",I334,\" \",J334,\" \",K334,\" \",L334,\" \",M334,\" \",N334,\" \",O334,\" \",P334,\" \",Q334,\" \",R334)","v":"What is 0.04 as a percentage?          "},{"$f":"G334*100","v":4},"%",null,null,null,null,null,null,null,{"$f":"IF(OR(ISNA(U334),ISNA(V334),ISNA(W334),ISNA(X334),ISNA(Y334),ISNA(Z334),ISNA(AA334),ISNA(AB334),ISNA(AC334)),NA(),CONCATENATE(U334,V334,W334,X334,Y334,Z334,AA334,AB334))","v":"4%"},{"$f":"IF(ISNA(AD334),FALSE,IF(C334=$B$1,Worksheet!$B$3,IF(C334=$C$1,Worksheet!$B$4,IF(C334=$D$1,Worksheet!$B$5,IF(C334=$E$1,Worksheet!$B$6,IF(C334=$B$2,Worksheet!$B$7,IF(C334=$C$2,Worksheet!$D$3,IF(C334=$D$2,Worksheet!$D$4,IF(C334=$E$2,Worksheet!$D$5,IF(C334=$C$3,Worksheet!$D$6,IF(C334=$B$3,Worksheet!$D$7,IF(C334=$D$3,Worksheet!$B$10,IF(C334=$E$3,Worksheet!$D$10,FALSE)))))))))))))","v":true},{"$f":"IF(AE334,D334,\"\")","v":"Hard"},{"$f":"IF(AE334,COUNTIF($AF$5:AF334,AF334),\"X\")","v":101},{"$f":"CONCATENATE(AE334,AF334)","v":"TRUEHard"}]
[{"$f":"CONCATENATE(AE335,D335,AG335)","v":"TRUEHard102"},{"$f":"RAND()","v":0.90256566646210135},"Frac","Hard",182,"If it can be simplified, write the fraction",{"$f":"RANDBETWEEN(2,0.75*I335)","v":4},"/",{"$f":"RANDBETWEEN(5,10)*RANDBETWEEN(2,5)","v":20},"in its simplest form",null,null,null,null,null,null,null,null,null,{"$f":"CONCATENATE(F335,\" \",G335,\"\",H335,\"\",I335,\" \",J335,\" \",K335,\" \",L335,\" \",M335,\" \",N335,\" \",O335,\" \",P335,\" \",Q335,\" \",R335)","v":"If it can be simplified, write the fraction 4/20 in its simplest form        "},{"$f":"G335/GCD(G335,I335)","v":1},"/",{"$f":"I335/GCD(G335,I335)","v":5},null,null,null,null,null,null,{"$f":"IF(OR(ISNA(U335),ISNA(V335),ISNA(W335),ISNA(X335),ISNA(Y335),ISNA(Z335),ISNA(AA335),ISNA(AB335),ISNA(AC335)),NA(),CONCATENATE(U335,V335,W335,X335,Y335,Z335,AA335,AB335))","v":"1/5"},{"$f":"IF(ISNA(AD335),FALSE,IF(C335=$B$1,Worksheet!$B$3,IF(C335=$C$1,Worksheet!$B$4,IF(C335=$D$1,Worksheet!$B$5,IF(C335=$E$1,Worksheet!$B$6,IF(C335=$B$2,Worksheet!$B$7,IF(C335=$C$2,Worksheet!$D$3,IF(C335=$D$2,Worksheet!$D$4,IF(C335=$E$2,Worksheet!$D$5,IF(C335=$C$3,Worksheet!$D$6,IF(C335=$B$3,Worksheet!$D$7,IF(C335=$D$3,Worksheet!$B$10,IF(C335=$E$3,Worksheet!$D$10,FALSE)))))))))))))","v":true},{"$f":"IF(AE335,D335,\"\")","v":"Hard"},{"$f":"IF(AE335,COUNTIF($AF$5:AF335,AF335),\"X\")","v":102},{"$f":"CONCATENATE(AE335,AF335)","v":"TRUEHard"}]
[{"$f":"CONCATENATE(AE336,D336,AG336)","v":"TRUEMedium137"},{"$f":"RAND()","v":0.34373523127498373},"%","Medium",308,"What is",25,"% as a fraction in its simplest form?",null,null,null,null,null,null,null,null,null,null,null,{"$f":"CONCATENATE(F336,\" \",G336,\"\",H336,\" \",I336,\" \",J336,\" \",K336,\" \",L336,\" \",M336,\" \",N336,\" \",O336,\" \",P336,\" \",Q336,\" \",R336)","v":"What is 25% as a fraction in its simplest form?          "},"1/4",null,null,null,null,null,null,null,null,{"$f":"IF(OR(ISNA(U336),ISNA(V336),ISNA(W336),ISNA(X336),ISNA(Y336),ISNA(Z336),ISNA(AA336),ISNA(AB336),ISNA(AC336)),NA(),CONCATENATE(U336,V336,W336,X336,Y336,Z336,AA336,AB336))","v":"1/4"},{"$f":"IF(ISNA(AD336),FALSE,IF(C336=$B$1,Worksheet!$B$3,IF(C336=$C$1,Worksheet!$B$4,IF(C336=$D$1,Worksheet!$B$5,IF(C336=$E$1,Worksheet!$B$6,IF(C336=$B$2,Worksheet!$B$7,IF(C336=$C$2,Worksheet!$D$3,IF(C336=$D$2,Worksheet!$D$4,IF(C336=$E$2,Worksheet!$D$5,IF(C336=$C$3,Worksheet!$D$6,IF(C336=$B$3,Worksheet!$D$7,IF(C336=$D$3,Worksheet!$B$10,IF(C336=$E$3,Worksheet!$D$10,FALSE)))))))))))))","v":true},{"$f":"IF(AE336,D336,\"\")","v":"Medium"},{"$f":"IF(AE336,COUNTIF($AF$5:AF336,AF336),\"X\")","v":137},{"$f":"CONCATENATE(AE336,AF336)","v":"TRUEMedium"}]
[{"$f":"CONCATENATE(AE337,D337,AG337)","v":"TRUEHard103"},{"$f":"RAND()","v":0.12396012144286228},"Num","Hard",19,"Write these numbers in order from",{"$f":"CHOOSE(RANDBETWEEN(1,2),\"smallest to biggest:\",\"biggest to smallest:\")","v":"biggest to smallest:"},{"$f":"IF($O337=1,$P337*100000,IF($O337=2,$Q337*100000,IF($O337=3,$R337*100000,$S337*100000)))+IF(RAND()<0.5,$R337,$S337)*100+IF(RAND()<0.5,$P337,$Q337)*10+CHOOSE(RANDBETWEEN(1,4),$P337,$Q337,$R337,$S337)","v":200228},{"$f":"IF($O337=1,$P337*100000,IF($O337=2,$Q337*100000,IF($O337=3,$R337*100000,$S337*100000)))+IF(RAND()<0.5,$R337,$S337)*10000+IF(RAND()<0.5,$P337,$Q337)*1000+CHOOSE(RANDBETWEEN(1,4),$P337,$Q337,$R337,$S337)","v":278008},{"$f":"IF($O337=1,$P337*100000,IF($O337=2,$Q337*100000,IF($O337=3,$R337*100000,$S337*100000)))+IF(RAND()<0.5,$R337,$S337)*100+IF(RAND()<0.5,$P337,$Q337)*10000+CHOOSE(RANDBETWEEN(1,4),$P337,$Q337,$R337,$S337)*1000","v":222200},{"$f":"IF($O337=1,$P337*100000,IF($O337=2,$Q337*100000,IF($O337=3,$R337*100000,$S337*100000)))+IF(RAND()<0.5,$R337,$S337)*10000+IF(RAND()<0.5,$P337,$Q337)*10+CHOOSE(RANDBETWEEN(1,4),$P337,$Q337,$R337,$S337)*1000","v":228020},null,null,null,{"$f":"RANDBETWEEN(1,9)","v":1},{"$f":"RANDBETWEEN(0,9)","v":2},{"$f":"RANDBETWEEN(0,9)","v":8},{"$f":"RANDBETWEEN(0,9)","v":7},{"$f":"RANDBETWEEN(1,9)","v":2},{"$f":"CONCATENATE(F337,\" \",G337,\"   \",TEXT(H337,\"#,###\"),\",      \",TEXT(I337,\"#,###\"),\",      \",TEXT(J337,\"#,###\"),\",      \",TEXT(K337,\"#,###\"),\" \",L337,\" \",M337,\" \",N337)","v":"Write these numbers in order from biggest to smallest:   200,228,      278,008,      222,200,      228,020   "},{"$f":"IF($G337=\"smallest to biggest:\",LARGE($H337:$K337,4),LARGE($H337:$K337,1))","v":278008},{"$f":"IF($G337=\"smallest to biggest:\",LARGE($H337:$K337,3),LARGE($H337:$K337,2))","v":228020},{"$f":"IF($G337=\"smallest to biggest:\",LARGE($H337:$K337,2),LARGE($H337:$K337,3))","v":222200},{"$f":"IF($G337=\"smallest to biggest:\",LARGE($H337:$K337,1),LARGE($H337:$K337,4))","v":200228},null,{"$f":"IF(OR(H337=I337,H337=J337,H337=K337,I337=J337,I337=K337,J337=K337),NA(),\"\")","v":""},null,null,null,{"$f":"IF(OR(ISNA(U337),ISNA(V337),ISNA(W337),ISNA(X337),ISNA(Y337),ISNA(Z337),ISNA(AA337),ISNA(AB337),ISNA(AC337)),NA(),CONCATENATE(U337,\",  \",V337,\",  \",W337,\",  \",X337,Y337,Z337,AA337,AB337))","v":"278008,  228020,  222200,  200228"},{"$f":"IF(ISNA(AD337),FALSE,IF(C337=$B$1,Worksheet!$B$3,IF(C337=$C$1,Worksheet!$B$4,IF(C337=$D$1,Worksheet!$B$5,IF(C337=$E$1,Worksheet!$B$6,IF(C337=$B$2,Worksheet!$B$7,IF(C337=$C$2,Worksheet!$D$3,IF(C337=$D$2,Worksheet!$D$4,IF(C337=$E$2,Worksheet!$D$5,IF(C337=$C$3,Worksheet!$D$6,IF(C337=$B$3,Worksheet!$D$7,IF(C337=$D$3,Worksheet!$B$10,IF(C337=$E$3,Worksheet!$D$10,FALSE)))))))))))))","v":true},{"$f":"IF(AE337,D337,\"\")","v":"Hard"},{"$f":"IF(AE337,COUNTIF($AF$5:AF337,AF337),\"X\")","v":103},{"$f":"CONCATENATE(AE337,AF337)","v":"TRUEHard"}]
[{"$f":"CONCATENATE(AE338,D338,AG338)","v":"TRUEHard104"},{"$f":"RAND()","v":0.63475174873394091},"Dec","Hard",218,"Write the fraction",{"$f":"RANDBETWEEN(1,9)","v":8},"/100","as a decimal",null,null,null,null,null,null,null,null,null,null,{"$f":"CONCATENATE(F338,\" \",G338,\"\",H338,\" \",I338,\" \",J338,\" \",K338,\" \",L338,\" \",M338,\" \",N338,\" \",O338,\" \",P338,\" \",Q338,\" \",R338)","v":"Write the fraction 8/100 as a decimal         "},{"$f":"G338/100","v":0.08},null,null,null,null,null,null,null,null,{"$f":"IF(OR(ISNA(U338),ISNA(V338),ISNA(W338),ISNA(X338),ISNA(Y338),ISNA(Z338),ISNA(AA338),ISNA(AB338),ISNA(AC338)),NA(),CONCATENATE(U338,V338,W338,X338,Y338,Z338,AA338,AB338))","v":"0.08"},{"$f":"IF(ISNA(AD338),FALSE,IF(C338=$B$1,Worksheet!$B$3,IF(C338=$C$1,Worksheet!$B$4,IF(C338=$D$1,Worksheet!$B$5,IF(C338=$E$1,Worksheet!$B$6,IF(C338=$B$2,Worksheet!$B$7,IF(C338=$C$2,Worksheet!$D$3,IF(C338=$D$2,Worksheet!$D$4,IF(C338=$E$2,Worksheet!$D$5,IF(C338=$C$3,Worksheet!$D$6,IF(C338=$B$3,Worksheet!$D$7,IF(C338=$D$3,Worksheet!$B$10,IF(C338=$E$3,Worksheet!$D$10,FALSE)))))))))))))","v":true},{"$f":"IF(AE338,D338,\"\")","v":"Hard"},{"$f":"IF(AE338,COUNTIF($AF$5:AF338,AF338),\"X\")","v":104},{"$f":"CONCATENATE(AE338,AF338)","v":"TRUEHard"}]
[{"$f":"CONCATENATE(AE339,D339,AG339)","v":"TRUEEasy73"},{"$f":"RAND()","v":8.0405290255973205E-2},"Dec","Easy",237,"Take away:   ",{"$f":"RANDBETWEEN(11,90)+RANDBETWEEN(1,9)/10","v":52.9}," –",0.1,null,null,null,null,null,null,null,null,null,null,{"$f":"CONCATENATE(F339,\" \",G339,\" \",H339,\" \",I339,\" \",J339,\" \",K339,\" \",L339,\" \",M339,\" \",N339,\" \",O339,\" \",P339,\" \",Q339,\" \",R339)","v":"Take away:    52.9  – 0.1         "},{"$f":"G339-0.1","v":52.8},null,null,null,null,null,null,null,null,{"$f":"IF(OR(ISNA(U339),ISNA(V339),ISNA(W339),ISNA(X339),ISNA(Y339),ISNA(Z339),ISNA(AA339),ISNA(AB339),ISNA(AC339)),NA(),CONCATENATE(U339,V339,W339,X339,Y339,Z339,AA339,AB339))","v":"52.8"},{"$f":"IF(ISNA(AD339),FALSE,IF(C339=$B$1,Worksheet!$B$3,IF(C339=$C$1,Worksheet!$B$4,IF(C339=$D$1,Worksheet!$B$5,IF(C339=$E$1,Worksheet!$B$6,IF(C339=$B$2,Worksheet!$B$7,IF(C339=$C$2,Worksheet!$D$3,IF(C339=$D$2,Worksheet!$D$4,IF(C339=$E$2,Worksheet!$D$5,IF(C339=$C$3,Worksheet!$D$6,IF(C339=$B$3,Worksheet!$D$7,IF(C339=$D$3,Worksheet!$B$10,IF(C339=$E$3,Worksheet!$D$10,FALSE)))))))))))))","v":true},{"$f":"IF(AE339,D339,\"\")","v":"Easy"},{"$f":"IF(AE339,COUNTIF($AF$5:AF339,AF339),\"X\")","v":73},{"$f":"CONCATENATE(AE339,AF339)","v":"TRUEEasy"}]
[{"$f":"CONCATENATE(AE340,D340,AG340)","v":"TRUEMedium138"},{"$f":"RAND()","v":0.72492344487276827},"+-","Medium",48,"Add by writing down a sum:   ",{"$f":"RANDBETWEEN(1,9)*10000+RANDBETWEEN(1,9999)","v":99692},"+",{"$f":"RANDBETWEEN(1,9)*10000+RANDBETWEEN(1,9999)","v":52958},null,null,null,null,null,null,null,null,null,null,{"$f":"CONCATENATE(F340,\" \",G340,\" \",H340,\" \",I340,\" \",J340,\" \",K340,\" \",L340,\" \",M340,\" \",N340,\" \",O340,\" \",P340,\" \",Q340,\" \",R340)","v":"Add by writing down a sum:    99692 + 52958         "},{"$f":"G340+I340","v":152650},null,null,null,null,null,null,null,null,{"$f":"IF(OR(ISNA(U340),ISNA(V340),ISNA(W340),ISNA(X340),ISNA(Y340),ISNA(Z340),ISNA(AA340),ISNA(AB340),ISNA(AC340)),NA(),CONCATENATE(U340,V340,W340,X340,Y340,Z340,AA340,AB340))","v":"152650"},{"$f":"IF(ISNA(AD340),FALSE,IF(C340=$B$1,Worksheet!$B$3,IF(C340=$C$1,Worksheet!$B$4,IF(C340=$D$1,Worksheet!$B$5,IF(C340=$E$1,Worksheet!$B$6,IF(C340=$B$2,Worksheet!$B$7,IF(C340=$C$2,Worksheet!$D$3,IF(C340=$D$2,Worksheet!$D$4,IF(C340=$E$2,Worksheet!$D$5,IF(C340=$C$3,Worksheet!$D$6,IF(C340=$B$3,Worksheet!$D$7,IF(C340=$D$3,Worksheet!$B$10,IF(C340=$E$3,Worksheet!$D$10,FALSE)))))))))))))","v":true},{"$f":"IF(AE340,D340,\"\")","v":"Medium"},{"$f":"IF(AE340,COUNTIF($AF$5:AF340,AF340),\"X\")","v":138},{"$f":"CONCATENATE(AE340,AF340)","v":"TRUEMedium"}]
[{"$f":"CONCATENATE(AE341,D341,AG341)","v":"TRUEEasy74"},{"$f":"RAND()","v":0.26068301216771217},"Round","Easy",332,"Round",{"$f":"RANDBETWEEN(1,999)*10+RANDBETWEEN(1,9)","v":3734},"to the nearest ten",null,null,null,null,null,null,null,null,null,null,null,{"$f":"CONCATENATE(F341,\" \",G341,\" \",H341,\" \",I341,\" \",J341,\" \",K341,\" \",L341,\" \",M341,\" \",N341,\" \",O341,\" \",P341,\" \",Q341,\" \",R341)","v":"Round 3734 to the nearest ten          "},{"$f":"MROUND(G341,10)","v":3730},null,null,null,null,null,null,null,null,{"$f":"IF(OR(ISNA(U341),ISNA(V341),ISNA(W341),ISNA(X341),ISNA(Y341),ISNA(Z341),ISNA(AA341),ISNA(AB341),ISNA(AC341)),NA(),CONCATENATE(U341,V341,W341,X341,Y341,Z341,AA341,AB341))","v":"3730"},{"$f":"IF(ISNA(AD341),FALSE,IF(C341=$B$1,Worksheet!$B$3,IF(C341=$C$1,Worksheet!$B$4,IF(C341=$D$1,Worksheet!$B$5,IF(C341=$E$1,Worksheet!$B$6,IF(C341=$B$2,Worksheet!$B$7,IF(C341=$C$2,Worksheet!$D$3,IF(C341=$D$2,Worksheet!$D$4,IF(C341=$E$2,Worksheet!$D$5,IF(C341=$C$3,Worksheet!$D$6,IF(C341=$B$3,Worksheet!$D$7,IF(C341=$D$3,Worksheet!$B$10,IF(C341=$E$3,Worksheet!$D$10,FALSE)))))))))))))","v":true},{"$f":"IF(AE341,D341,\"\")","v":"Easy"},{"$f":"IF(AE341,COUNTIF($AF$5:AF341,AF341),\"X\")","v":74},{"$f":"CONCATENATE(AE341,AF341)","v":"TRUEEasy"}]
[{"$f":"CONCATENATE(AE342,D342,AG342)","v":"TRUEHard105"},{"$f":"RAND()","v":0.72476801650669642},"+-","Hard",45,"Take away (WITHOUT writing a sum down):   ",{"$f":"RANDBETWEEN(3,9)*10+RANDBETWEEN(0,5)","v":43},"–",{"$f":"RANDBETWEEN(1,INT((G342-10)/10))*10+RANDBETWEEN(6,9)","v":39},null,null,null,null,null,null,null,null,null,null,{"$f":"CONCATENATE(F342,\" \",G342,\" \",H342,\" \",I342,\" \",J342,\" \",K342,\" \",L342,\" \",M342,\" \",N342,\" \",O342,\" \",P342,\" \",Q342,\" \",R342)","v":"Take away (WITHOUT writing a sum down):    43 – 39         "},{"$f":"G342-I342","v":4},null,{"$f":"IF(U342<0,NA(),\"\")","v":""},null,null,null,null,null,null,{"$f":"IF(OR(ISNA(U342),ISNA(V342),ISNA(W342),ISNA(X342),ISNA(Y342),ISNA(Z342),ISNA(AA342),ISNA(AB342),ISNA(AC342)),NA(),CONCATENATE(U342,V342,W342,X342,Y342,Z342,AA342,AB342))","v":"4"},{"$f":"IF(ISNA(AD342),FALSE,IF(C342=$B$1,Worksheet!$B$3,IF(C342=$C$1,Worksheet!$B$4,IF(C342=$D$1,Worksheet!$B$5,IF(C342=$E$1,Worksheet!$B$6,IF(C342=$B$2,Worksheet!$B$7,IF(C342=$C$2,Worksheet!$D$3,IF(C342=$D$2,Worksheet!$D$4,IF(C342=$E$2,Worksheet!$D$5,IF(C342=$C$3,Worksheet!$D$6,IF(C342=$B$3,Worksheet!$D$7,IF(C342=$D$3,Worksheet!$B$10,IF(C342=$E$3,Worksheet!$D$10,FALSE)))))))))))))","v":true},{"$f":"IF(AE342,D342,\"\")","v":"Hard"},{"$f":"IF(AE342,COUNTIF($AF$5:AF342,AF342),\"X\")","v":105},{"$f":"CONCATENATE(AE342,AF342)","v":"TRUEHard"}]
[{"$f":"CONCATENATE(AE343,D343,AG343)","v":"TRUEMedium139"},{"$f":"RAND()","v":0.77074001163485117},"Num","Medium",23,"Fill in the missing numbers:   ",{"$f":"RANDBETWEEN(2,9)*10000+1900+RANDBETWEEN(1,99)","v":31958},{"$f":"G343+S343","v":30958},"_____","_____",{"$f":"H343+3*S343","v":27958},{"$f":"K343+S343","v":26958},null,null,null,null,null,null,-1000,{"$f":"CONCATENATE(F343,\" \",G343,\",  \",H343,\",  \",I343,\",  \",J343,\",  \",K343,\",  \",L343,\",  \",M343,\" \",N343,\" \",O343,\" \",P343,\" \",Q343,\" \",R343)","v":"Fill in the missing numbers:    31958,  30958,  _____,  _____,  27958,  26958,       "},{"$f":"H343+S343","v":29958},",  ",{"$f":"U343+S343","v":28958},null,null,null,null,null,null,{"$f":"IF(OR(ISNA(U343),ISNA(V343),ISNA(W343),ISNA(X343),ISNA(Y343),ISNA(Z343),ISNA(AA343),ISNA(AB343),ISNA(AC343)),NA(),CONCATENATE(U343,V343,W343,X343,Y343,Z343,AA343,AB343))","v":"29958,  28958"},{"$f":"IF(ISNA(AD343),FALSE,IF(C343=$B$1,Worksheet!$B$3,IF(C343=$C$1,Worksheet!$B$4,IF(C343=$D$1,Worksheet!$B$5,IF(C343=$E$1,Worksheet!$B$6,IF(C343=$B$2,Worksheet!$B$7,IF(C343=$C$2,Worksheet!$D$3,IF(C343=$D$2,Worksheet!$D$4,IF(C343=$E$2,Worksheet!$D$5,IF(C343=$C$3,Worksheet!$D$6,IF(C343=$B$3,Worksheet!$D$7,IF(C343=$D$3,Worksheet!$B$10,IF(C343=$E$3,Worksheet!$D$10,FALSE)))))))))))))","v":true},{"$f":"IF(AE343,D343,\"\")","v":"Medium"},{"$f":"IF(AE343,COUNTIF($AF$5:AF343,AF343),\"X\")","v":139},{"$f":"CONCATENATE(AE343,AF343)","v":"TRUEMedium"}]
[{"$f":"CONCATENATE(AE344,D344,AG344)","v":"TRUEMedium140"},{"$f":"RAND()","v":0.13783233583457843},"Frac","Medium",155,"Fractions.   What is ",{"$f":"CHOOSE(RANDBETWEEN(1,3),\"3/10\",\"7/10\",\"9/10\")","v":"3/10"}," of",{"$f":"100*RANDBETWEEN(2,10)","v":500},"?",null,null,null,null,null,null,null,null,null,{"$f":"CONCATENATE(F344,\" \",G344,\" \",H344,\" \",I344,\" \",J344,\" \",K344,\" \",L344,\" \",M344,\" \",N344,\" \",O344,\" \",P344,\" \",Q344,\" \",R344)","v":"Fractions.   What is  3/10  of 500 ?        "},{"$f":"I344/10*IF(G344=\"3/10\",3,IF(G344=\"7/10\",7,9))","v":150},null,{"$f":"IF(AND(G344=G343,I344=I343),NA(),\"\")","v":""},null,{"$f":"IF(INT(U344)<>U344,NA(),\"\")","v":""},null,null,null,null,{"$f":"IF(OR(ISNA(U344),ISNA(V344),ISNA(W344),ISNA(X344),ISNA(Y344),ISNA(Z344),ISNA(AA344),ISNA(AB344),ISNA(AC344)),NA(),CONCATENATE(U344,V344,W344,X344,Y344,Z344,AA344,AB344))","v":"150"},{"$f":"IF(ISNA(AD344),FALSE,IF(C344=$B$1,Worksheet!$B$3,IF(C344=$C$1,Worksheet!$B$4,IF(C344=$D$1,Worksheet!$B$5,IF(C344=$E$1,Worksheet!$B$6,IF(C344=$B$2,Worksheet!$B$7,IF(C344=$C$2,Worksheet!$D$3,IF(C344=$D$2,Worksheet!$D$4,IF(C344=$E$2,Worksheet!$D$5,IF(C344=$C$3,Worksheet!$D$6,IF(C344=$B$3,Worksheet!$D$7,IF(C344=$D$3,Worksheet!$B$10,IF(C344=$E$3,Worksheet!$D$10,FALSE)))))))))))))","v":true},{"$f":"IF(AE344,D344,\"\")","v":"Medium"},{"$f":"IF(AE344,COUNTIF($AF$5:AF344,AF344),\"X\")","v":140},{"$f":"CONCATENATE(AE344,AF344)","v":"TRUEMedium"}]
[{"$f":"CONCATENATE(AE345,D345,AG345)","v":"TRUEMedium141"},{"$f":"RAND()","v":0.16078799333230098},"Choose","Medium",138,{"$f":"RANDBETWEEN(4,8)","v":4},{"$f":"CONCATENATE(K345,\"s\")","v":"chocolate bars"},{"$f":"CONCATENATE(\"cost \",IF(I345<10,\" £\",\"\"))","v":"cost "},{"$f":"IF(F345*U345<100,F345*U345,F345*U345/100)","v":48},{"$f":"CONCATENATE(IF(I345>10,\"p\",\"\"),\".  How much does one\")","v":"p.  How much does one"},{"$f":"CHOOSE(RANDBETWEEN(1,4),\"apple\",\"cupcake\",\"chocolate bar\",\"crisp packet\")","v":"chocolate bar"},"cost?",null,null,null,null,null,null,null,{"$f":"CONCATENATE(F345,\" \",G345,\" \",H345,\"\",IF(I345<10,TEXT(I345,\"0.00\"),I345),\"\",J345,\" \",K345,\" \",L345,\" \",M345,\" \",N345,\" \",O345,\" \",P345,\" \",Q345,\" \",R345)","v":"4 chocolate bars cost 48p.  How much does one chocolate bar cost?      "},{"$f":"CHOOSE(RANDBETWEEN(1,5),\"20\",\"50\",\"12\",\"30\",\"25\")","v":"12"},"p",null,null,null,null,null,null,null,{"$f":"IF(OR(ISNA(U345),ISNA(V345),ISNA(W345),ISNA(X345),ISNA(Y345),ISNA(Z345),ISNA(AA345),ISNA(AB345),ISNA(AC345)),NA(),CONCATENATE(U345,V345,W345,X345,Y345,Z345,AA345,AB345))","v":"12p"},{"$f":"IF(ISNA(AD345),FALSE,IF(C345=$B$1,Worksheet!$B$3,IF(C345=$C$1,Worksheet!$B$4,IF(C345=$D$1,Worksheet!$B$5,IF(C345=$E$1,Worksheet!$B$6,IF(C345=$B$2,Worksheet!$B$7,IF(C345=$C$2,Worksheet!$D$3,IF(C345=$D$2,Worksheet!$D$4,IF(C345=$E$2,Worksheet!$D$5,IF(C345=$C$3,Worksheet!$D$6,IF(C345=$B$3,Worksheet!$D$7,IF(C345=$D$3,Worksheet!$B$10,IF(C345=$E$3,Worksheet!$D$10,FALSE)))))))))))))","v":true},{"$f":"IF(AE345,D345,\"\")","v":"Medium"},{"$f":"IF(AE345,COUNTIF($AF$5:AF345,AF345),\"X\")","v":141},{"$f":"CONCATENATE(AE345,AF345)","v":"TRUEMedium"}]
[{"$f":"CONCATENATE(AE346,D346,AG346)","v":"TRUEHard106"},{"$f":"RAND()","v":0.97325878957996304},"%","Hard",328,"A",{"$f":"CHOOSE(RANDBETWEEN(1,4),\"jacket\",\"pair of shoes\",\"DVD player\",\"mobile phone\")","v":"pair of shoes"},"costs £",{"$f":"RANDBETWEEN(5,15)*10","v":50},".  In a sale, its price is reduced by 10%.  What price is it now?",null,null,null,null,null,null,null,null,null,{"$f":"CONCATENATE(F346,\" \",G346,\" \",H346,\"\",I346,\"\",J346,\" \",K346,\" \",L346,\" \",M346,\" \",N346,\" \",O346,\" \",P346,\" \",Q346,\" \",R346)","v":"A pair of shoes costs £50.  In a sale, its price is reduced by 10%.  What price is it now?        "},"£",{"$f":"0.9*I346","v":45},null,null,null,null,null,null,null,{"$f":"IF(OR(ISNA(U346),ISNA(V346),ISNA(W346),ISNA(X346),ISNA(Y346),ISNA(Z346),ISNA(AA346),ISNA(AB346),ISNA(AC346)),NA(),CONCATENATE(U346,V346,W346,X346,Y346,Z346,AA346,AB346))","v":"£45"},{"$f":"IF(ISNA(AD346),FALSE,IF(C346=$B$1,Worksheet!$B$3,IF(C346=$C$1,Worksheet!$B$4,IF(C346=$D$1,Worksheet!$B$5,IF(C346=$E$1,Worksheet!$B$6,IF(C346=$B$2,Worksheet!$B$7,IF(C346=$C$2,Worksheet!$D$3,IF(C346=$D$2,Worksheet!$D$4,IF(C346=$E$2,Worksheet!$D$5,IF(C346=$C$3,Worksheet!$D$6,IF(C346=$B$3,Worksheet!$D$7,IF(C346=$D$3,Worksheet!$B$10,IF(C346=$E$3,Worksheet!$D$10,FALSE)))))))))))))","v":true},{"$f":"IF(AE346,D346,\"\")","v":"Hard"},{"$f":"IF(AE346,COUNTIF($AF$5:AF346,AF346),\"X\")","v":106},{"$f":"CONCATENATE(AE346,AF346)","v":"TRUEHard"}]
[{"$f":"CONCATENATE(AE347,D347,AG347)","v":"TRUEMedium142"},{"$f":"RAND()","v":0.66429734656542105},"Dec","Medium",273,"Write these numbers in order from",{"$f":"CHOOSE(RANDBETWEEN(1,2),\"smallest to biggest:\",\"biggest to smallest:\")","v":"smallest to biggest:"},{"$f":"S347","v":7},{"$f":"S347*1.1","v":7.7000000000000011},{"$f":"S347-1+R347/10","v":6.2},{"$f":"S347-1+0.1+R347/100","v":6.1199999999999992},{"$f":"S347+R347/100","v":7.02},null,null,null,null,null,{"$f":"SMALL(IF(S347={1,2,3,4,5,6,7,8,9},\"\",{1,2,3,4,5,6,7,8,9}),RANDBETWEEN(1,8))","v":2},{"$f":"RANDBETWEEN(1,9)","v":7},{"$f":"CONCATENATE(F347,\" \",G347,\"   \",H347,\",  \",I347,\",  \",J347,\",  \",K347,\",   \",L347,\" \",M347,\" \",N347)","v":"Write these numbers in order from smallest to biggest:   7,  7.7,  6.2,  6.12,   7.02  "},{"$f":"IF($G347=\"smallest to biggest:\",LARGE($H347:$L347,5),LARGE($H347:$L347,1))","v":6.1199999999999992},{"$f":"IF($G347=\"smallest to biggest:\",LARGE($H347:$L347,4),LARGE($H347:$L347,2))","v":6.2},{"$f":"IF($G347=\"smallest to biggest:\",LARGE($H347:$L347,3),LARGE($H347:$L347,3))","v":7},{"$f":"IF($G347=\"smallest to biggest:\",LARGE($H347:$L347,2),LARGE($H347:$L347,4))","v":7.02},{"$f":"IF($G347=\"smallest to biggest:\",LARGE($H347:$L347,1),LARGE($H347:$L347,5))","v":7.7000000000000011},{"$f":"IF(OR(H347=I347,H347=J347,H347=K347,I347=J347,I347=K347,J347=K347,L347=H347,L347=I347,L347=J347,L347=K347),NA(),\"\")","v":""},null,null,null,{"$f":"IF(OR(ISNA(U347),ISNA(V347),ISNA(W347),ISNA(X347),ISNA(Y347),ISNA(Z347),ISNA(AA347),ISNA(AB347),ISNA(AC347)),NA(),CONCATENATE(U347,\",  \",V347,\",  \",W347,\",  \",X347,\",  \",Y347,Z347,AA347,AB347))","v":"6.12,  6.2,  7,  7.02,  7.7"},{"$f":"IF(ISNA(AD347),FALSE,IF(C347=$B$1,Worksheet!$B$3,IF(C347=$C$1,Worksheet!$B$4,IF(C347=$D$1,Worksheet!$B$5,IF(C347=$E$1,Worksheet!$B$6,IF(C347=$B$2,Worksheet!$B$7,IF(C347=$C$2,Worksheet!$D$3,IF(C347=$D$2,Worksheet!$D$4,IF(C347=$E$2,Worksheet!$D$5,IF(C347=$C$3,Worksheet!$D$6,IF(C347=$B$3,Worksheet!$D$7,IF(C347=$D$3,Worksheet!$B$10,IF(C347=$E$3,Worksheet!$D$10,FALSE)))))))))))))","v":true},{"$f":"IF(AE347,D347,\"\")","v":"Medium"},{"$f":"IF(AE347,COUNTIF($AF$5:AF347,AF347),\"X\")","v":142},{"$f":"CONCATENATE(AE347,AF347)","v":"TRUEMedium"}]
[{"$f":"CONCATENATE(AE348,D348,AG348)","v":"TRUEHard107"},{"$f":"RAND()","v":0.59122171374326238},"Neg","Hard",348,"Add:   ","(–",{"$f":"RANDBETWEEN(11,20)","v":18},") + ",{"$f":"RANDBETWEEN(11,20)","v":16},null,null,null,null,null,null,null,null,null,{"$f":"CONCATENATE(F348,\" \",G348,\"\",H348,\"\",I348,\"\",J348,\"\",K348,\" \",L348,\" \",M348,\" \",N348,\" \",O348,\" \",P348,\" \",Q348,\" \",R348)","v":"Add:    (–18) + 16       "},{"$f":"J348-H348","v":-2},null,null,null,null,null,null,null,{"$f":"IF(ISERROR(T348),NA(),\"\")","v":""},{"$f":"IF(OR(ISNA(U348),ISNA(V348),ISNA(W348),ISNA(X348),ISNA(Y348),ISNA(Z348),ISNA(AA348),ISNA(AB348),ISNA(AC348)),NA(),CONCATENATE(U348,V348,W348,X348,Y348,Z348,AA348,AB348))","v":"-2"},{"$f":"IF(ISNA(AD348),FALSE,IF(C348=$B$1,Worksheet!$B$3,IF(C348=$C$1,Worksheet!$B$4,IF(C348=$D$1,Worksheet!$B$5,IF(C348=$E$1,Worksheet!$B$6,IF(C348=$B$2,Worksheet!$B$7,IF(C348=$C$2,Worksheet!$D$3,IF(C348=$D$2,Worksheet!$D$4,IF(C348=$E$2,Worksheet!$D$5,IF(C348=$C$3,Worksheet!$D$6,IF(C348=$B$3,Worksheet!$D$7,IF(C348=$D$3,Worksheet!$B$10,IF(C348=$E$3,Worksheet!$D$10,FALSE)))))))))))))","v":true},{"$f":"IF(AE348,D348,\"\")","v":"Hard"},{"$f":"IF(AE348,COUNTIF($AF$5:AF348,AF348),\"X\")","v":107},{"$f":"CONCATENATE(AE348,AF348)","v":"TRUEHard"}]
[{"$f":"CONCATENATE(AE349,D349,AG349)","v":"TRUEEasy75"},{"$f":"RAND()","v":0.46092907344758316},"Mult","Easy",65,"What is:   ",{"$f":"RANDBETWEEN(2,10)","v":8},"×",{"$f":"RANDBETWEEN(2,10)","v":10},"–",{"$f":"RANDBETWEEN(10,G349*I349)","v":57},"     ?",null,null,null,null,null,null,null,{"$f":"CONCATENATE(F349,\" \",G349,\" \",H349,\" \",I349,\" \",J349,\" \",K349,\" \",L349,\" \",M349,\" \",N349,\" \",O349,\" \",P349,\" \",Q349,\" \",R349)","v":"What is:    8 × 10 – 57      ?      "},{"$f":"G349*I349-K349","v":23},null,null,null,null,null,null,null,null,{"$f":"IF(OR(ISNA(U349),ISNA(V349),ISNA(W349),ISNA(X349),ISNA(Y349),ISNA(Z349),ISNA(AA349),ISNA(AB349),ISNA(AC349)),NA(),CONCATENATE(U349,V349,W349,X349,Y349,Z349,AA349,AB349))","v":"23"},{"$f":"IF(ISNA(AD349),FALSE,IF(C349=$B$1,Worksheet!$B$3,IF(C349=$C$1,Worksheet!$B$4,IF(C349=$D$1,Worksheet!$B$5,IF(C349=$E$1,Worksheet!$B$6,IF(C349=$B$2,Worksheet!$B$7,IF(C349=$C$2,Worksheet!$D$3,IF(C349=$D$2,Worksheet!$D$4,IF(C349=$E$2,Worksheet!$D$5,IF(C349=$C$3,Worksheet!$D$6,IF(C349=$B$3,Worksheet!$D$7,IF(C349=$D$3,Worksheet!$B$10,IF(C349=$E$3,Worksheet!$D$10,FALSE)))))))))))))","v":true},{"$f":"IF(AE349,D349,\"\")","v":"Easy"},{"$f":"IF(AE349,COUNTIF($AF$5:AF349,AF349),\"X\")","v":75},{"$f":"CONCATENATE(AE349,AF349)","v":"TRUEEasy"}]
[{"$f":"CONCATENATE(AE350,D350,AG350)","v":"TRUEMedium143"},{"$f":"RAND()","v":0.68324845867087403},"Mult","Medium",62,"Multiply:   ",{"$f":"RANDBETWEEN(2,5)","v":4},"×",{"$f":"RANDBETWEEN(2,5)","v":3},"×",{"$f":"RANDBETWEEN(2,5)","v":2},null,null,null,null,null,null,null,null,{"$f":"CONCATENATE(F350,\" \",G350,\" \",H350,\" \",I350,\" \",J350,\" \",K350,\" \",L350,\" \",M350,\" \",N350,\" \",O350,\" \",P350,\" \",Q350,\" \",R350)","v":"Multiply:    4 × 3 × 2       "},{"$f":"G350*I350*K350","v":24},null,null,null,null,null,null,null,null,{"$f":"IF(OR(ISNA(U350),ISNA(V350),ISNA(W350),ISNA(X350),ISNA(Y350),ISNA(Z350),ISNA(AA350),ISNA(AB350),ISNA(AC350)),NA(),CONCATENATE(U350,V350,W350,X350,Y350,Z350,AA350,AB350))","v":"24"},{"$f":"IF(ISNA(AD350),FALSE,IF(C350=$B$1,Worksheet!$B$3,IF(C350=$C$1,Worksheet!$B$4,IF(C350=$D$1,Worksheet!$B$5,IF(C350=$E$1,Worksheet!$B$6,IF(C350=$B$2,Worksheet!$B$7,IF(C350=$C$2,Worksheet!$D$3,IF(C350=$D$2,Worksheet!$D$4,IF(C350=$E$2,Worksheet!$D$5,IF(C350=$C$3,Worksheet!$D$6,IF(C350=$B$3,Worksheet!$D$7,IF(C350=$D$3,Worksheet!$B$10,IF(C350=$E$3,Worksheet!$D$10,FALSE)))))))))))))","v":true},{"$f":"IF(AE350,D350,\"\")","v":"Medium"},{"$f":"IF(AE350,COUNTIF($AF$5:AF350,AF350),\"X\")","v":143},{"$f":"CONCATENATE(AE350,AF350)","v":"TRUEMedium"}]
[{"$f":"CONCATENATE(AE351,D351,AG351)","v":"TRUEMedium144"},{"$f":"RAND()","v":0.47400201501266692},"Mult","Medium",97,"Multiply:   ",{"$f":"RANDBETWEEN(2,9)*10","v":20},"×",{"$f":"RANDBETWEEN(2,9)","v":7},null,null,null,null,null,null,null,null,null,null,{"$f":"CONCATENATE(F351,\" \",G351,\" \",H351,\" \",I351,\" \",J351,\" \",K351,\" \",L351,\" \",M351,\" \",N351,\" \",O351,\" \",P351,\" \",Q351,\" \",R351)","v":"Multiply:    20 × 7         "},{"$f":"TEXT(G351*I351,\"#,###\")","v":"140"},null,null,null,null,null,null,null,null,{"$f":"IF(OR(ISNA(U351),ISNA(V351),ISNA(W351),ISNA(X351),ISNA(Y351),ISNA(Z351),ISNA(AA351),ISNA(AB351),ISNA(AC351)),NA(),CONCATENATE(U351,V351,W351,X351,Y351,Z351,AA351,AB351))","v":"140"},{"$f":"IF(ISNA(AD351),FALSE,IF(C351=$B$1,Worksheet!$B$3,IF(C351=$C$1,Worksheet!$B$4,IF(C351=$D$1,Worksheet!$B$5,IF(C351=$E$1,Worksheet!$B$6,IF(C351=$B$2,Worksheet!$B$7,IF(C351=$C$2,Worksheet!$D$3,IF(C351=$D$2,Worksheet!$D$4,IF(C351=$E$2,Worksheet!$D$5,IF(C351=$C$3,Worksheet!$D$6,IF(C351=$B$3,Worksheet!$D$7,IF(C351=$D$3,Worksheet!$B$10,IF(C351=$E$3,Worksheet!$D$10,FALSE)))))))))))))","v":true},{"$f":"IF(AE351,D351,\"\")","v":"Medium"},{"$f":"IF(AE351,COUNTIF($AF$5:AF351,AF351),\"X\")","v":144},{"$f":"CONCATENATE(AE351,AF351)","v":"TRUEMedium"}]
[{"$f":"CONCATENATE(AE352,D352,AG352)","v":"TRUEHard108"},{"$f":"RAND()","v":0.33671792072494755},"Mult","Hard",90,"Write down all eight factors of",{"$f":"CHOOSE(RANDBETWEEN(1,3),30,24,40)","v":24},null,null,null,null,null,null,null,null,null,null,null,null,{"$f":"CONCATENATE(F352,\" \",G352,\" \",H352,\" \",I352,\" \",J352,\" \",K352,\" \",L352,\" \",M352,\" \",N352,\" \",O352,\" \",P352,\" \",Q352,\" \",R352)","v":"Write down all eight factors of 24           "},{"$f":"IF(G352=30,\"1, 2, 3, 5, 6, 10,15 and 30\",IF(G352=24,\"1, 2, 3, 4, 6, 8, 12 and 24\",\"1, 2, 4, 5, 8, 10, 20 and 40\"))","v":"1, 2, 3, 4, 6, 8, 12 and 24"},null,null,null,null,null,null,null,null,{"$f":"IF(OR(ISNA(U352),ISNA(V352),ISNA(W352),ISNA(X352),ISNA(Y352),ISNA(Z352),ISNA(AA352),ISNA(AB352),ISNA(AC352)),NA(),CONCATENATE(U352,V352,W352,X352,Y352,Z352,AA352,AB352))","v":"1, 2, 3, 4, 6, 8, 12 and 24"},{"$f":"IF(ISNA(AD352),FALSE,IF(C352=$B$1,Worksheet!$B$3,IF(C352=$C$1,Worksheet!$B$4,IF(C352=$D$1,Worksheet!$B$5,IF(C352=$E$1,Worksheet!$B$6,IF(C352=$B$2,Worksheet!$B$7,IF(C352=$C$2,Worksheet!$D$3,IF(C352=$D$2,Worksheet!$D$4,IF(C352=$E$2,Worksheet!$D$5,IF(C352=$C$3,Worksheet!$D$6,IF(C352=$B$3,Worksheet!$D$7,IF(C352=$D$3,Worksheet!$B$10,IF(C352=$E$3,Worksheet!$D$10,FALSE)))))))))))))","v":true},{"$f":"IF(AE352,D352,\"\")","v":"Hard"},{"$f":"IF(AE352,COUNTIF($AF$5:AF352,AF352),\"X\")","v":108},{"$f":"CONCATENATE(AE352,AF352)","v":"TRUEHard"}]
[{"$f":"CONCATENATE(AE353,D353,AG353)","v":"TRUEHard109"},{"$f":"RAND()","v":0.86738859731415185},"Dec","Hard",275,"Write these numbers in order from",{"$f":"CHOOSE(RANDBETWEEN(1,2),\"smallest to biggest:\",\"biggest to smallest:\")","v":"biggest to smallest:"},{"$f":"S353","v":9},{"$f":"S353*1.1","v":9.9},{"$f":"S353-1+R353/10","v":8.1999999999999993},{"$f":"S353-1+0.1+R353/100","v":8.1199999999999992},{"$f":"S353+R353/100","v":9.02},null,null,null,null,null,{"$f":"SMALL(IF(S353={1,2,3,4,5,6,7,8,9},\"\",{1,2,3,4,5,6,7,8,9}),RANDBETWEEN(1,8))","v":2},{"$f":"RANDBETWEEN(1,9)","v":9},{"$f":"CONCATENATE(F353,\" \",G353,\"   \",H353,\",  \",I353,\",  \",J353,\",  \",K353,\",   \",L353,\" \",M353,\" \",N353)","v":"Write these numbers in order from biggest to smallest:   9,  9.9,  8.2,  8.12,   9.02  "},{"$f":"IF($G353=\"smallest to biggest:\",LARGE($H353:$L353,5),LARGE($H353:$L353,1))","v":9.9},{"$f":"IF($G353=\"smallest to biggest:\",LARGE($H353:$L353,4),LARGE($H353:$L353,2))","v":9.02},{"$f":"IF($G353=\"smallest to biggest:\",LARGE($H353:$L353,3),LARGE($H353:$L353,3))","v":9},{"$f":"IF($G353=\"smallest to biggest:\",LARGE($H353:$L353,2),LARGE($H353:$L353,4))","v":8.1999999999999993},{"$f":"IF($G353=\"smallest to biggest:\",LARGE($H353:$L353,1),LARGE($H353:$L353,5))","v":8.1199999999999992},{"$f":"IF(OR(H353=I353,H353=J353,H353=K353,I353=J353,I353=K353,J353=K353,L353=H353,L353=I353,L353=J353,L353=K353),NA(),\"\")","v":""},null,null,null,{"$f":"IF(OR(ISNA(U353),ISNA(V353),ISNA(W353),ISNA(X353),ISNA(Y353),ISNA(Z353),ISNA(AA353),ISNA(AB353),ISNA(AC353)),NA(),CONCATENATE(U353,\",  \",V353,\",  \",W353,\",  \",X353,\",  \",Y353,Z353,AA353,AB353))","v":"9.9,  9.02,  9,  8.2,  8.12"},{"$f":"IF(ISNA(AD353),FALSE,IF(C353=$B$1,Worksheet!$B$3,IF(C353=$C$1,Worksheet!$B$4,IF(C353=$D$1,Worksheet!$B$5,IF(C353=$E$1,Worksheet!$B$6,IF(C353=$B$2,Worksheet!$B$7,IF(C353=$C$2,Worksheet!$D$3,IF(C353=$D$2,Worksheet!$D$4,IF(C353=$E$2,Worksheet!$D$5,IF(C353=$C$3,Worksheet!$D$6,IF(C353=$B$3,Worksheet!$D$7,IF(C353=$D$3,Worksheet!$B$10,IF(C353=$E$3,Worksheet!$D$10,FALSE)))))))))))))","v":true},{"$f":"IF(AE353,D353,\"\")","v":"Hard"},{"$f":"IF(AE353,COUNTIF($AF$5:AF353,AF353),\"X\")","v":109},{"$f":"CONCATENATE(AE353,AF353)","v":"TRUEHard"}]
[{"$f":"CONCATENATE(AE354,D354,AG354)","v":"TRUEMedium145"},{"$f":"RAND()","v":0.10715169436811478},"Mult","Medium",105,"Multiply by writing down a sum:   ",{"$f":"RANDBETWEEN(501,999)","v":992},"×",{"$f":"RANDBETWEEN(2,5)","v":5},null,null,null,null,null,null,null,null,null,null,{"$f":"CONCATENATE(F354,\" \",G354,\" \",H354,\" \",I354,\" \",J354,\" \",K354,\" \",L354,\" \",M354,\" \",N354,\" \",O354,\" \",P354,\" \",Q354,\" \",R354)","v":"Multiply by writing down a sum:    992 × 5         "},{"$f":"TEXT(G354*I354,\"#,###\")","v":"4,960"},null,null,null,null,null,null,null,null,{"$f":"IF(OR(ISNA(U354),ISNA(V354),ISNA(W354),ISNA(X354),ISNA(Y354),ISNA(Z354),ISNA(AA354),ISNA(AB354),ISNA(AC354)),NA(),CONCATENATE(U354,V354,W354,X354,Y354,Z354,AA354,AB354))","v":"4,960"},{"$f":"IF(ISNA(AD354),FALSE,IF(C354=$B$1,Worksheet!$B$3,IF(C354=$C$1,Worksheet!$B$4,IF(C354=$D$1,Worksheet!$B$5,IF(C354=$E$1,Worksheet!$B$6,IF(C354=$B$2,Worksheet!$B$7,IF(C354=$C$2,Worksheet!$D$3,IF(C354=$D$2,Worksheet!$D$4,IF(C354=$E$2,Worksheet!$D$5,IF(C354=$C$3,Worksheet!$D$6,IF(C354=$B$3,Worksheet!$D$7,IF(C354=$D$3,Worksheet!$B$10,IF(C354=$E$3,Worksheet!$D$10,FALSE)))))))))))))","v":true},{"$f":"IF(AE354,D354,\"\")","v":"Medium"},{"$f":"IF(AE354,COUNTIF($AF$5:AF354,AF354),\"X\")","v":145},{"$f":"CONCATENATE(AE354,AF354)","v":"TRUEMedium"}]
[{"$f":"CONCATENATE(AE355,D355,AG355)","v":"TRUEMedium146"},{"$f":"RAND()","v":0.67371171961431153},"Frac","Medium",176,"Fractions.    Choose the number that makes the fractions equivalent:   ",{"$f":"IF(I355=3,2,IF(I355=4,3,RANDBETWEEN(2,4)))","v":3},"/",{"$f":"RANDBETWEEN(3,5)","v":5},"=","___","/",{"$f":"I355*S355","v":40},null,null,null,null,null,{"$f":"RANDBETWEEN(2,10)","v":8},{"$f":"CONCATENATE(F355,\" \",G355,\"\",H355,\"\",I355,\" \",J355,\" \",K355,\"\",L355,\"\",M355,\" \",N355,\" \",O355,\" \",P355,\" \",Q355,\" \",R355)","v":"Fractions.    Choose the number that makes the fractions equivalent:    3/5 = ___/40     "},{"$f":"CONCATENATE(G355,H355,I355,\" = \",G355*S355,L355,I355*S355)","v":"3/5 = 24/40"},null,null,null,null,null,null,null,null,{"$f":"IF(OR(ISNA(U355),ISNA(V355),ISNA(W355),ISNA(X355),ISNA(Y355),ISNA(Z355),ISNA(AA355),ISNA(AB355),ISNA(AC355)),NA(),CONCATENATE(U355,V355,W355,X355,Y355,Z355,AA355,AB355))","v":"3/5 = 24/40"},{"$f":"IF(ISNA(AD355),FALSE,IF(C355=$B$1,Worksheet!$B$3,IF(C355=$C$1,Worksheet!$B$4,IF(C355=$D$1,Worksheet!$B$5,IF(C355=$E$1,Worksheet!$B$6,IF(C355=$B$2,Worksheet!$B$7,IF(C355=$C$2,Worksheet!$D$3,IF(C355=$D$2,Worksheet!$D$4,IF(C355=$E$2,Worksheet!$D$5,IF(C355=$C$3,Worksheet!$D$6,IF(C355=$B$3,Worksheet!$D$7,IF(C355=$D$3,Worksheet!$B$10,IF(C355=$E$3,Worksheet!$D$10,FALSE)))))))))))))","v":true},{"$f":"IF(AE355,D355,\"\")","v":"Medium"},{"$f":"IF(AE355,COUNTIF($AF$5:AF355,AF355),\"X\")","v":146},{"$f":"CONCATENATE(AE355,AF355)","v":"TRUEMedium"}]
[{"$f":"CONCATENATE(AE356,D356,AG356)","v":"TRUEHard110"},{"$f":"RAND()","v":0.11414617095169943},"Choose","Hard",141,"There are",{"$f":"S356*RANDBETWEEN(4,7)+RANDBETWEEN(1,I356-1)","v":32},"children at a football tournament.  They are put into teams of",{"$f":"RANDBETWEEN(4,6)","v":5},".  How many children are LEFT OVER?",null,null,null,null,null,null,null,null,{"$f":"RANDBETWEEN(5,8)","v":5},{"$f":"CONCATENATE(F356,\" \",G356,\" \",H356,\" \",I356,\"\",J356,\" \",K356,\" \",L356,\" \",M356,\" \",N356,\" \",O356,\" \",P356,\" \",Q356,\" \",R356)","v":"There are 32 children at a football tournament.  They are put into teams of 5.  How many children are LEFT OVER?        "},{"$f":"MOD(G356,I356)","v":2},null,null,null,null,null,null,null,null,{"$f":"IF(OR(ISNA(U356),ISNA(V356),ISNA(W356),ISNA(X356),ISNA(Y356),ISNA(Z356),ISNA(AA356),ISNA(AB356),ISNA(AC356)),NA(),CONCATENATE(U356,V356,W356,X356,Y356,Z356,AA356,AB356))","v":"2"},{"$f":"IF(ISNA(AD356),FALSE,IF(C356=$B$1,Worksheet!$B$3,IF(C356=$C$1,Worksheet!$B$4,IF(C356=$D$1,Worksheet!$B$5,IF(C356=$E$1,Worksheet!$B$6,IF(C356=$B$2,Worksheet!$B$7,IF(C356=$C$2,Worksheet!$D$3,IF(C356=$D$2,Worksheet!$D$4,IF(C356=$E$2,Worksheet!$D$5,IF(C356=$C$3,Worksheet!$D$6,IF(C356=$B$3,Worksheet!$D$7,IF(C356=$D$3,Worksheet!$B$10,IF(C356=$E$3,Worksheet!$D$10,FALSE)))))))))))))","v":true},{"$f":"IF(AE356,D356,\"\")","v":"Hard"},{"$f":"IF(AE356,COUNTIF($AF$5:AF356,AF356),\"X\")","v":110},{"$f":"CONCATENATE(AE356,AF356)","v":"TRUEHard"}]
[{"$f":"CONCATENATE(AE357,D357,AG357)","v":"TRUEHard111"},{"$f":"RAND()","v":0.15828383339311114},"Frac","Hard",183,"If it can be simplified, write the fraction",{"$f":"RANDBETWEEN(2,0.75*I357)","v":18},"/",{"$f":"RANDBETWEEN(5,10)*RANDBETWEEN(4,8)","v":25},"in its simplest form",null,null,null,null,null,null,null,null,null,{"$f":"CONCATENATE(F357,\" \",G357,\"\",H357,\"\",I357,\" \",J357,\" \",K357,\" \",L357,\" \",M357,\" \",N357,\" \",O357,\" \",P357,\" \",Q357,\" \",R357)","v":"If it can be simplified, write the fraction 18/25 in its simplest form        "},{"$f":"G357/GCD(G357,I357)","v":18},"/",{"$f":"I357/GCD(G357,I357)","v":25},null,null,null,null,null,null,{"$f":"IF(OR(ISNA(U357),ISNA(V357),ISNA(W357),ISNA(X357),ISNA(Y357),ISNA(Z357),ISNA(AA357),ISNA(AB357),ISNA(AC357)),NA(),CONCATENATE(U357,V357,W357,X357,Y357,Z357,AA357,AB357))","v":"18/25"},{"$f":"IF(ISNA(AD357),FALSE,IF(C357=$B$1,Worksheet!$B$3,IF(C357=$C$1,Worksheet!$B$4,IF(C357=$D$1,Worksheet!$B$5,IF(C357=$E$1,Worksheet!$B$6,IF(C357=$B$2,Worksheet!$B$7,IF(C357=$C$2,Worksheet!$D$3,IF(C357=$D$2,Worksheet!$D$4,IF(C357=$E$2,Worksheet!$D$5,IF(C357=$C$3,Worksheet!$D$6,IF(C357=$B$3,Worksheet!$D$7,IF(C357=$D$3,Worksheet!$B$10,IF(C357=$E$3,Worksheet!$D$10,FALSE)))))))))))))","v":true},{"$f":"IF(AE357,D357,\"\")","v":"Hard"},{"$f":"IF(AE357,COUNTIF($AF$5:AF357,AF357),\"X\")","v":111},{"$f":"CONCATENATE(AE357,AF357)","v":"TRUEHard"}]
[{"$f":"CONCATENATE(AE358,D358,AG358)","v":"FALSEEasyX"},{"$f":"RAND()","v":0.75876511257341772},"Alg","Easy",360,"Algebra.   If",{"$f":"CHOOSE(RANDBETWEEN(1,10),\"a\",\"x\",\"y\",\"b\",\"m\",\"p\",\"x\",\"y\",\"k\",\"f\")","v":"p"},"=",{"$f":"RANDBETWEEN(2,10)","v":6},", what is",null,{"$f":"G358","v":"p"},"+",{"$f":"RANDBETWEEN(1,10)","v":6},"?",null,null,null,null,{"$f":"CONCATENATE(F358,\" \",G358,\" \",H358,\" \",I358,\"\",J358,\"\",K358,\"    \",L358,\" \",M358,\" \",N358,\" \",O358,\" \",P358,\" \",Q358,\" \",R358)","v":"Algebra.   If p = 6, what is    p + 6 ?   "},{"$f":"I358+N358","v":12},null,null,null,null,null,null,null,null,{"$f":"IF(OR(ISNA(U358),ISNA(V358),ISNA(W358),ISNA(X358),ISNA(Y358),ISNA(Z358),ISNA(AA358),ISNA(AB358),ISNA(AC358)),NA(),CONCATENATE(U358,V358,W358,X358,Y358,Z358,AA358,AB358))","v":"12"},{"$f":"IF(ISNA(AD358),FALSE,IF(C358=$B$1,Worksheet!$B$3,IF(C358=$C$1,Worksheet!$B$4,IF(C358=$D$1,Worksheet!$B$5,IF(C358=$E$1,Worksheet!$B$6,IF(C358=$B$2,Worksheet!$B$7,IF(C358=$C$2,Worksheet!$D$3,IF(C358=$D$2,Worksheet!$D$4,IF(C358=$E$2,Worksheet!$D$5,IF(C358=$C$3,Worksheet!$D$6,IF(C358=$B$3,Worksheet!$D$7,IF(C358=$D$3,Worksheet!$B$10,IF(C358=$E$3,Worksheet!$D$10,FALSE)))))))))))))","v":false},{"$f":"IF(AE358,D358,\"\")","v":""},{"$f":"IF(AE358,COUNTIF($AF$5:AF358,AF358),\"X\")","v":"X"},{"$f":"CONCATENATE(AE358,AF358)","v":"FALSE"}]
[{"$f":"CONCATENATE(AE359,D359,AG359)","v":"FALSEHardX"},{"$f":"RAND()","v":0.67663249619935129},"Mult","Hard",83,"Circle the number that is a multiple of 6:   ",{"$f":"IF($S359=1,RANDBETWEEN(2,10)*6,RANDBETWEEN(1,9)*6+RANDBETWEEN(1,5))","v":60},{"$f":"IF($S359=2,RANDBETWEEN(2,10)*6,RANDBETWEEN(1,9)*6+RANDBETWEEN(1,5))","v":31},{"$f":"IF($S359=3,RANDBETWEEN(2,10)*6,RANDBETWEEN(1,9)*6+RANDBETWEEN(1,5))","v":22},{"$f":"IF($S359=4,RANDBETWEEN(2,10)*6,RANDBETWEEN(1,9)*6+RANDBETWEEN(1,5))","v":22},null,null,null,null,null,null,null,null,{"$f":"RANDBETWEEN(1,4)","v":1},{"$f":"CONCATENATE(F359,\"      \",G359,\"     \",H359,\"     \",I359,\"     \",J359,\" \",K359,\" \",L359,\" \",M359,\" \",N359,\" \",O359,\" \",P359,\" \",Q359,\" \",R359)","v":"Circle the number that is a multiple of 6:         60     31     22     22        "},{"$f":"IF(S359=1,G359,IF(S359=2,H359,IF(S359=3,I359,J359)))","v":60},{"$f":"IF(OR(G359=H359,G359=I359,G359=J359,H359=I359,H359=J359,I359=J359),NA(),\"\")","v":{"$error":"#N/A"}},null,null,null,null,null,null,null,{"$f":"IF(OR(ISNA(U359),ISNA(V359),ISNA(W359),ISNA(X359),ISNA(Y359),ISNA(Z359),ISNA(AA359),ISNA(AB359),ISNA(AC359)),NA(),CONCATENATE(U359,V359,W359,X359,Y359,Z359,AA359,AB359))","v":{"$error":"#N/A"}},{"$f":"IF(ISNA(AD359),FALSE,IF(C359=$B$1,Worksheet!$B$3,IF(C359=$C$1,Worksheet!$B$4,IF(C359=$D$1,Worksheet!$B$5,IF(C359=$E$1,Worksheet!$B$6,IF(C359=$B$2,Worksheet!$B$7,IF(C359=$C$2,Worksheet!$D$3,IF(C359=$D$2,Worksheet!$D$4,IF(C359=$E$2,Worksheet!$D$5,IF(C359=$C$3,Worksheet!$D$6,IF(C359=$B$3,Worksheet!$D$7,IF(C359=$D$3,Worksheet!$B$10,IF(C359=$E$3,Worksheet!$D$10,FALSE)))))))))))))","v":false},{"$f":"IF(AE359,D359,\"\")","v":""},{"$f":"IF(AE359,COUNTIF($AF$5:AF359,AF359),\"X\")","v":"X"},{"$f":"CONCATENATE(AE359,AF359)","v":"FALSE"}]
[{"$f":"CONCATENATE(AE360,D360,AG360)","v":"TRUEMedium147"},{"$f":"RAND()","v":7.3583110317974043E-3},"Frac","Medium",170,"Fractions.   ",{"$f":"IF(I360=5,RANDBETWEEN(2,4),IF(I360=6,5,IF(I360=7,RANDBETWEEN(2,5),IF(I360=8,CHOOSE(RANDBETWEEN(1,3),3,5,7),IF(I360=9,CHOOSE(RANDBETWEEN(1,4),2,4,5,7),CHOOSE(RANDBETWEEN(1,3),3,7,9))))))","v":5},"/",{"$f":"RANDBETWEEN(5,10)","v":6},"of the people at a party are",{"$f":"IF(RAND()<0.5,\"men\",\"women\")","v":"men"},".  The rest are",{"$f":"IF(K360=\"men\",\"women\",\"men\")","v":"women"},".  What fraction are",{"$f":"M360","v":"women"},"?",null,null,null,{"$f":"CONCATENATE(F360,\" \",G360,\"\",H360,\"\",I360,\" \",J360,\" \",K360,\"\",L360,\" \",M360,\" \",N360,\" \",O360,\"\",P360,\" \",Q360,\" \",R360)","v":"Fractions.    5/6 of the people at a party are men.  The rest are women .  What fraction are women?  "},{"$f":"I360-G360","v":1},"/",{"$f":"I360","v":6},null,null,null,null,null,null,{"$f":"IF(OR(ISNA(U360),ISNA(V360),ISNA(W360),ISNA(X360),ISNA(Y360),ISNA(Z360),ISNA(AA360),ISNA(AB360),ISNA(AC360)),NA(),CONCATENATE(U360,V360,W360,X360,Y360,Z360,AA360,AB360))","v":"1/6"},{"$f":"IF(ISNA(AD360),FALSE,IF(C360=$B$1,Worksheet!$B$3,IF(C360=$C$1,Worksheet!$B$4,IF(C360=$D$1,Worksheet!$B$5,IF(C360=$E$1,Worksheet!$B$6,IF(C360=$B$2,Worksheet!$B$7,IF(C360=$C$2,Worksheet!$D$3,IF(C360=$D$2,Worksheet!$D$4,IF(C360=$E$2,Worksheet!$D$5,IF(C360=$C$3,Worksheet!$D$6,IF(C360=$B$3,Worksheet!$D$7,IF(C360=$D$3,Worksheet!$B$10,IF(C360=$E$3,Worksheet!$D$10,FALSE)))))))))))))","v":true},{"$f":"IF(AE360,D360,\"\")","v":"Medium"},{"$f":"IF(AE360,COUNTIF($AF$5:AF360,AF360),\"X\")","v":147},{"$f":"CONCATENATE(AE360,AF360)","v":"TRUEMedium"}]
[{"$f":"CONCATENATE(AE361,D361,AG361)","v":"TRUEMedium148"},{"$f":"RAND()","v":0.63698286393822368},"Mult","Medium",70,"What is:   ",{"$f":"RANDBETWEEN(2,5)","v":4},"×",{"$f":"RANDBETWEEN(2,5)","v":2},"–",{"$f":"RANDBETWEEN(2,5)","v":2},"×",{"$f":"RANDBETWEEN(2,5)","v":2},"     ?",null,null,null,null,null,{"$f":"CONCATENATE(F361,\" \",G361,\" \",H361,\" \",I361,\" \",J361,\" \",K361,\" \",L361,\" \",M361,\" \",N361,\" \",O361,\" \",P361,\" \",Q361,\" \",R361)","v":"What is:    4 × 2 – 2 × 2      ?    "},{"$f":"G361*I361-K361*M361","v":4},{"$f":"IF(U361<0,NA(),\"\")","v":""},null,null,null,null,null,null,null,{"$f":"IF(OR(ISNA(U361),ISNA(V361),ISNA(W361),ISNA(X361),ISNA(Y361),ISNA(Z361),ISNA(AA361),ISNA(AB361),ISNA(AC361)),NA(),CONCATENATE(U361,V361,W361,X361,Y361,Z361,AA361,AB361))","v":"4"},{"$f":"IF(ISNA(AD361),FALSE,IF(C361=$B$1,Worksheet!$B$3,IF(C361=$C$1,Worksheet!$B$4,IF(C361=$D$1,Worksheet!$B$5,IF(C361=$E$1,Worksheet!$B$6,IF(C361=$B$2,Worksheet!$B$7,IF(C361=$C$2,Worksheet!$D$3,IF(C361=$D$2,Worksheet!$D$4,IF(C361=$E$2,Worksheet!$D$5,IF(C361=$C$3,Worksheet!$D$6,IF(C361=$B$3,Worksheet!$D$7,IF(C361=$D$3,Worksheet!$B$10,IF(C361=$E$3,Worksheet!$D$10,FALSE)))))))))))))","v":true},{"$f":"IF(AE361,D361,\"\")","v":"Medium"},{"$f":"IF(AE361,COUNTIF($AF$5:AF361,AF361),\"X\")","v":148},{"$f":"CONCATENATE(AE361,AF361)","v":"TRUEMedium"}]
[{"$f":"CONCATENATE(AE362,D362,AG362)","v":"TRUEEasy76"},{"$f":"RAND()","v":0.65433257896968744},"+-","Easy",44,"Add:   ",{"$f":"RANDBETWEEN(3,9)*10+RANDBETWEEN(6,9)","v":76},"+",{"$f":"RANDBETWEEN(3,9)*10+RANDBETWEEN(6,9)","v":79},null,null,null,null,null,null,null,null,null,null,{"$f":"CONCATENATE(F362,\" \",G362,\" \",H362,\" \",I362,\" \",J362,\" \",K362,\" \",L362,\" \",M362,\" \",N362,\" \",O362,\" \",P362,\" \",Q362,\" \",R362)","v":"Add:    76 + 79         "},{"$f":"G362+I362","v":155},null,null,null,null,null,null,null,null,{"$f":"IF(OR(ISNA(U362),ISNA(V362),ISNA(W362),ISNA(X362),ISNA(Y362),ISNA(Z362),ISNA(AA362),ISNA(AB362),ISNA(AC362)),NA(),CONCATENATE(U362,V362,W362,X362,Y362,Z362,AA362,AB362))","v":"155"},{"$f":"IF(ISNA(AD362),FALSE,IF(C362=$B$1,Worksheet!$B$3,IF(C362=$C$1,Worksheet!$B$4,IF(C362=$D$1,Worksheet!$B$5,IF(C362=$E$1,Worksheet!$B$6,IF(C362=$B$2,Worksheet!$B$7,IF(C362=$C$2,Worksheet!$D$3,IF(C362=$D$2,Worksheet!$D$4,IF(C362=$E$2,Worksheet!$D$5,IF(C362=$C$3,Worksheet!$D$6,IF(C362=$B$3,Worksheet!$D$7,IF(C362=$D$3,Worksheet!$B$10,IF(C362=$E$3,Worksheet!$D$10,FALSE)))))))))))))","v":true},{"$f":"IF(AE362,D362,\"\")","v":"Easy"},{"$f":"IF(AE362,COUNTIF($AF$5:AF362,AF362),\"X\")","v":76},{"$f":"CONCATENATE(AE362,AF362)","v":"TRUEEasy"}]
[{"$f":"CONCATENATE(AE363,D363,AG363)","v":"TRUEMedium149"},{"$f":"RAND()","v":0.94619046293938891},"Dec","Medium",223,"Write the decimal number",{"$f":"(RANDBETWEEN(1,9)*10+RANDBETWEEN(1,9))/100","v":0.53},"as a fraction",null,null,null,null,null,null,null,null,null,null,null,{"$f":"CONCATENATE(F363,\" \",G363,\" \",H363,\" \",I363,\" \",J363,\" \",K363,\" \",L363,\" \",M363,\" \",N363,\" \",O363,\" \",P363,\" \",Q363,\" \",R363)","v":"Write the decimal number 0.53 as a fraction          "},{"$f":"G363*100","v":53},"/100",null,null,null,null,null,null,null,{"$f":"IF(OR(ISNA(U363),ISNA(V363),ISNA(W363),ISNA(X363),ISNA(Y363),ISNA(Z363),ISNA(AA363),ISNA(AB363),ISNA(AC363)),NA(),CONCATENATE(U363,V363,W363,X363,Y363,Z363,AA363,AB363))","v":"53/100"},{"$f":"IF(ISNA(AD363),FALSE,IF(C363=$B$1,Worksheet!$B$3,IF(C363=$C$1,Worksheet!$B$4,IF(C363=$D$1,Worksheet!$B$5,IF(C363=$E$1,Worksheet!$B$6,IF(C363=$B$2,Worksheet!$B$7,IF(C363=$C$2,Worksheet!$D$3,IF(C363=$D$2,Worksheet!$D$4,IF(C363=$E$2,Worksheet!$D$5,IF(C363=$C$3,Worksheet!$D$6,IF(C363=$B$3,Worksheet!$D$7,IF(C363=$D$3,Worksheet!$B$10,IF(C363=$E$3,Worksheet!$D$10,FALSE)))))))))))))","v":true},{"$f":"IF(AE363,D363,\"\")","v":"Medium"},{"$f":"IF(AE363,COUNTIF($AF$5:AF363,AF363),\"X\")","v":149},{"$f":"CONCATENATE(AE363,AF363)","v":"TRUEMedium"}]
[{"$f":"CONCATENATE(AE364,D364,AG364)","v":"TRUEHard112"},{"$f":"RAND()","v":0.91193166653425406},"Dec","Hard",274,"Write these numbers in order from",{"$f":"CHOOSE(RANDBETWEEN(1,2),\"smallest to biggest:\",\"biggest to smallest:\")","v":"smallest to biggest:"},{"$f":"S364+0.1+R364/100","v":1.1300000000000001},{"$f":"S364*1.1","v":1.1000000000000001},{"$f":"S364+R364/10-1.01","v":0.29000000000000004},{"$f":"S364+R364/100","v":1.03},{"$f":"S364","v":1},null,null,null,null,null,{"$f":"SMALL(IF(S364={1,2,3,4,5,6,7,8,9},\"\",{1,2,3,4,5,6,7,8,9}),RANDBETWEEN(1,8))","v":3},{"$f":"RANDBETWEEN(1,9)","v":1},{"$f":"CONCATENATE(F364,\" \",G364,\"   \",H364,\",  \",I364,\",  \",J364,\",  \",K364,\",   \",L364,\" \",M364,\" \",N364)","v":"Write these numbers in order from smallest to biggest:   1.13,  1.1,  0.29,  1.03,   1  "},{"$f":"IF($G364=\"smallest to biggest:\",LARGE($H364:$L364,5),LARGE($H364:$L364,1))","v":0.29000000000000004},{"$f":"IF($G364=\"smallest to biggest:\",LARGE($H364:$L364,4),LARGE($H364:$L364,2))","v":1},{"$f":"IF($G364=\"smallest to biggest:\",LARGE($H364:$L364,3),LARGE($H364:$L364,3))","v":1.03},{"$f":"IF($G364=\"smallest to biggest:\",LARGE($H364:$L364,2),LARGE($H364:$L364,4))","v":1.1000000000000001},{"$f":"IF($G364=\"smallest to biggest:\",LARGE($H364:$L364,1),LARGE($H364:$L364,5))","v":1.1300000000000001},{"$f":"IF(OR(H364=I364,H364=J364,H364=K364,I364=J364,I364=K364,J364=K364,L364=H364,L364=I364,L364=J364,L364=K364),NA(),\"\")","v":""},null,null,null,{"$f":"IF(OR(ISNA(U364),ISNA(V364),ISNA(W364),ISNA(X364),ISNA(Y364),ISNA(Z364),ISNA(AA364),ISNA(AB364),ISNA(AC364)),NA(),CONCATENATE(U364,\",  \",V364,\",  \",W364,\",  \",X364,\",  \",Y364,Z364,AA364,AB364))","v":"0.29,  1,  1.03,  1.1,  1.13"},{"$f":"IF(ISNA(AD364),FALSE,IF(C364=$B$1,Worksheet!$B$3,IF(C364=$C$1,Worksheet!$B$4,IF(C364=$D$1,Worksheet!$B$5,IF(C364=$E$1,Worksheet!$B$6,IF(C364=$B$2,Worksheet!$B$7,IF(C364=$C$2,Worksheet!$D$3,IF(C364=$D$2,Worksheet!$D$4,IF(C364=$E$2,Worksheet!$D$5,IF(C364=$C$3,Worksheet!$D$6,IF(C364=$B$3,Worksheet!$D$7,IF(C364=$D$3,Worksheet!$B$10,IF(C364=$E$3,Worksheet!$D$10,FALSE)))))))))))))","v":true},{"$f":"IF(AE364,D364,\"\")","v":"Hard"},{"$f":"IF(AE364,COUNTIF($AF$5:AF364,AF364),\"X\")","v":112},{"$f":"CONCATENATE(AE364,AF364)","v":"TRUEHard"}]
[{"$f":"CONCATENATE(AE365,D365,AG365)","v":"TRUEMedium150"},{"$f":"RAND()","v":0.10107938963308982},"+-","Medium",32,"Fill in the missing number:   ",{"$f":"RANDBETWEEN(1,8)*100+RANDBETWEEN(1,8)*10","v":220},"+ ____ = ",1000,null,null,null,null,null,null,null,null,null,null,{"$f":"CONCATENATE(F365,\" \",G365,\" \",H365,\" \",I365,\" \",J365,\" \",K365,\" \",L365,\" \",M365,\" \",N365,\" \",O365,\" \",P365,\" \",Q365,\" \",R365)","v":"Fill in the missing number:    220 + ____ =  1000         "},{"$f":"I365-G365","v":780},null,null,null,null,null,null,null,null,{"$f":"IF(OR(ISNA(U365),ISNA(V365),ISNA(W365),ISNA(X365),ISNA(Y365),ISNA(Z365),ISNA(AA365),ISNA(AB365),ISNA(AC365)),NA(),CONCATENATE(U365,V365,W365,X365,Y365,Z365,AA365,AB365))","v":"780"},{"$f":"IF(ISNA(AD365),FALSE,IF(C365=$B$1,Worksheet!$B$3,IF(C365=$C$1,Worksheet!$B$4,IF(C365=$D$1,Worksheet!$B$5,IF(C365=$E$1,Worksheet!$B$6,IF(C365=$B$2,Worksheet!$B$7,IF(C365=$C$2,Worksheet!$D$3,IF(C365=$D$2,Worksheet!$D$4,IF(C365=$E$2,Worksheet!$D$5,IF(C365=$C$3,Worksheet!$D$6,IF(C365=$B$3,Worksheet!$D$7,IF(C365=$D$3,Worksheet!$B$10,IF(C365=$E$3,Worksheet!$D$10,FALSE)))))))))))))","v":true},{"$f":"IF(AE365,D365,\"\")","v":"Medium"},{"$f":"IF(AE365,COUNTIF($AF$5:AF365,AF365),\"X\")","v":150},{"$f":"CONCATENATE(AE365,AF365)","v":"TRUEMedium"}]
[{"$f":"CONCATENATE(AE366,D366,AG366)","v":"TRUEEasy77"},{"$f":"RAND()","v":0.78851759329650806},"Round","Easy",333,"Round",{"$f":"RANDBETWEEN(1,999)*10+RANDBETWEEN(1,9)","v":7393},"to the nearest hundred",null,null,null,null,null,null,null,null,null,null,null,{"$f":"CONCATENATE(F366,\" \",G366,\" \",H366,\" \",I366,\" \",J366,\" \",K366,\" \",L366,\" \",M366,\" \",N366,\" \",O366,\" \",P366,\" \",Q366,\" \",R366)","v":"Round 7393 to the nearest hundred          "},{"$f":"MROUND(G366,100)","v":7400},null,null,null,null,null,null,null,null,{"$f":"IF(OR(ISNA(U366),ISNA(V366),ISNA(W366),ISNA(X366),ISNA(Y366),ISNA(Z366),ISNA(AA366),ISNA(AB366),ISNA(AC366)),NA(),CONCATENATE(U366,V366,W366,X366,Y366,Z366,AA366,AB366))","v":"7400"},{"$f":"IF(ISNA(AD366),FALSE,IF(C366=$B$1,Worksheet!$B$3,IF(C366=$C$1,Worksheet!$B$4,IF(C366=$D$1,Worksheet!$B$5,IF(C366=$E$1,Worksheet!$B$6,IF(C366=$B$2,Worksheet!$B$7,IF(C366=$C$2,Worksheet!$D$3,IF(C366=$D$2,Worksheet!$D$4,IF(C366=$E$2,Worksheet!$D$5,IF(C366=$C$3,Worksheet!$D$6,IF(C366=$B$3,Worksheet!$D$7,IF(C366=$D$3,Worksheet!$B$10,IF(C366=$E$3,Worksheet!$D$10,FALSE)))))))))))))","v":true},{"$f":"IF(AE366,D366,\"\")","v":"Easy"},{"$f":"IF(AE366,COUNTIF($AF$5:AF366,AF366),\"X\")","v":77},{"$f":"CONCATENATE(AE366,AF366)","v":"TRUEEasy"}]
[{"$f":"CONCATENATE(AE367,D367,AG367)","v":"TRUEEasy78"},{"$f":"RAND()","v":0.37556068996895486},"Choose","Easy",135,"One",{"$f":"CHOOSE(RANDBETWEEN(1,3),\"chair\",\"table\",\"desk\")","v":"chair"},"costs",{"$f":"RANDBETWEEN(2,5)*10","v":40},"How much do",{"$f":"RANDBETWEEN(2,5)","v":5},{"$f":"CONCATENATE(G367,\"s\")","v":"chairs"},"cost?",null,null,null,null,null,null,{"$f":"CONCATENATE(F367,\" \",G367,\" \",H367,\" £\",I367,\".  \",J367,\" \",K367,\" \",L367,\" \",M367,\" \",N367,\" \",O367,\" \",P367,\" \",Q367,\" \",R367)","v":"One chair costs £40.  How much do 5 chairs cost?     "},"£",{"$f":"I367*K367","v":200},null,null,null,null,null,null,null,{"$f":"IF(OR(ISNA(U367),ISNA(V367),ISNA(W367),ISNA(X367),ISNA(Y367),ISNA(Z367),ISNA(AA367),ISNA(AB367),ISNA(AC367)),NA(),CONCATENATE(U367,V367,W367,X367,Y367,Z367,AA367,AB367))","v":"£200"},{"$f":"IF(ISNA(AD367),FALSE,IF(C367=$B$1,Worksheet!$B$3,IF(C367=$C$1,Worksheet!$B$4,IF(C367=$D$1,Worksheet!$B$5,IF(C367=$E$1,Worksheet!$B$6,IF(C367=$B$2,Worksheet!$B$7,IF(C367=$C$2,Worksheet!$D$3,IF(C367=$D$2,Worksheet!$D$4,IF(C367=$E$2,Worksheet!$D$5,IF(C367=$C$3,Worksheet!$D$6,IF(C367=$B$3,Worksheet!$D$7,IF(C367=$D$3,Worksheet!$B$10,IF(C367=$E$3,Worksheet!$D$10,FALSE)))))))))))))","v":true},{"$f":"IF(AE367,D367,\"\")","v":"Easy"},{"$f":"IF(AE367,COUNTIF($AF$5:AF367,AF367),\"X\")","v":78},{"$f":"CONCATENATE(AE367,AF367)","v":"TRUEEasy"}]
[{"$f":"CONCATENATE(AE368,D368,AG368)","v":"TRUEHard113"},{"$f":"RAND()","v":0.58836727698800884},"Num","Hard",13,"Write the number   \"",{"$f":"CHOOSE(RANDBETWEEN(1,9),\"one\",\"two\",\"three\",\"four\",\"five\",\"six\",\"seven\",\"eight\",\"nine\")","v":"three"},"hundred and",{"$f":"CHOOSE(S368,\"ten\",\"twenty\",\"thirty\",\"forty\",\"fifty\",\"sixty\",\"seventy\",\"eighty\",\"ninety\")","v":"fifty"},null,"thousand, ","and",{"$f":"CHOOSE(R368,CHOOSE(RANDBETWEEN(1,10),\"ten\",\"eleven\",\"twelve\",\"thirteen\",\"fourteen\",\"fifteen\",\"sixteen\",\"seventeen\",\"eighteen\",\"nineteen\"),\"twenty\",\"thirty\",\"forty\",\"fifty\",\"sixty\",\"seventy\",\"eighty\",\"ninety\")","v":"ninety"},{"$f":"IF(R368=1,\"\",CHOOSE(RANDBETWEEN(1,10),\"one\",\"two\",\"three\",\"four\",\"five\",\"six\",\"seven\",\"eight\",\"nine\",\"\"))","v":"nine"},"\"   in figures",null,null,{"$f":"RANDBETWEEN(1,9)","v":9},{"$f":"RANDBETWEEN(1,9)","v":5},{"$f":"CONCATENATE(F368,\" \",G368,\" \",H368,\" \",I368,\" \",J368,\" \",K368,\" \",L368,\" \",M368,\" \",N368,\" \",O368,\" \",P368,\" \",Q368)","v":"Write the number   \" three hundred and fifty  thousand,  and ninety nine \"   in figures  "},{"$f":"IF(G368=\"one\",1,IF(G368=\"two\",2,IF(G368=\"three\",3,IF(G368=\"four\",4,IF(G368=\"five\",5,IF(G368=\"six\",6,IF(G368=\"seven\",7,IF(G368=\"eight\",8,9))))))))","v":3},{"$f":"S368","v":5},{"$f":"IF(S368=1,IF(I368=\"ten\",0,IF(I368=\"eleven\",1,IF(I368=\"twelve\",2,IF(I368=\"thirteen\",3,IF(I368=\"fourteen\",4,IF(I368=\"fifteen\",5,IF(I368=\"sixteen\",6,IF(I368=\"seventeen\",7,IF(I368=\"eighteen\",8,9))))))))),IF(J368=\"\",0,IF(J368=\"one\",1,IF(J368=\"two\",2,IF(J368=\"three\",3,IF(J368=\"four\",4,IF(J368=\"five\",5,IF(J368=\"six\",6,IF(J368=\"seven\",7,IF(J368=\"eight\",8,9))))))))))","v":0},",0",{"$f":"R368","v":9},{"$f":"IF(R368=1,IF(M368=\"ten\",0,IF(M368=\"eleven\",1,IF(M368=\"twelve\",2,IF(M368=\"thirteen\",3,IF(M368=\"fourteen\",4,IF(M368=\"fifteen\",5,IF(M368=\"sixteen\",6,IF(M368=\"seventeen\",7,IF(M368=\"eighteen\",8,9))))))))),IF(N368=\"\",0,IF(N368=\"one\",1,IF(N368=\"two\",2,IF(N368=\"three\",3,IF(N368=\"four\",4,IF(N368=\"five\",5,IF(N368=\"six\",6,IF(N368=\"seven\",7,IF(N368=\"eight\",8,9))))))))))","v":9},null,null,null,{"$f":"IF(OR(ISNA(U368),ISNA(V368),ISNA(W368),ISNA(X368),ISNA(Y368),ISNA(Z368),ISNA(AA368),ISNA(AB368),ISNA(AC368)),NA(),CONCATENATE(U368,V368,W368,X368,Y368,Z368,AA368,AB368))","v":"350,099"},{"$f":"IF(ISNA(AD368),FALSE,IF(C368=$B$1,Worksheet!$B$3,IF(C368=$C$1,Worksheet!$B$4,IF(C368=$D$1,Worksheet!$B$5,IF(C368=$E$1,Worksheet!$B$6,IF(C368=$B$2,Worksheet!$B$7,IF(C368=$C$2,Worksheet!$D$3,IF(C368=$D$2,Worksheet!$D$4,IF(C368=$E$2,Worksheet!$D$5,IF(C368=$C$3,Worksheet!$D$6,IF(C368=$B$3,Worksheet!$D$7,IF(C368=$D$3,Worksheet!$B$10,IF(C368=$E$3,Worksheet!$D$10,FALSE)))))))))))))","v":true},{"$f":"IF(AE368,D368,\"\")","v":"Hard"},{"$f":"IF(AE368,COUNTIF($AF$5:AF368,AF368),\"X\")","v":113},{"$f":"CONCATENATE(AE368,AF368)","v":"TRUEHard"}]
[{"$f":"CONCATENATE(AE369,D369,AG369)","v":"TRUEHard114"},{"$f":"RAND()","v":0.50788528618055462},"Dec","Hard",288,"Multiply by writing down a sum:   ",{"$f":"RANDBETWEEN(1,9)+RANDBETWEEN(1,9)/10+RANDBETWEEN(1,9)/100","v":5.76},"×",{"$f":"RANDBETWEEN(2,5)","v":5},null,null,null,null,null,null,null,null,null,null,{"$f":"CONCATENATE(F369,\" \",G369,\" \",H369,\" \",I369,\" \",J369,\" \",K369,\" \",L369,\" \",M369,\" \",N369,\" \",O369,\" \",P369,\" \",Q369,\" \",R369)","v":"Multiply by writing down a sum:    5.76 × 5         "},{"$f":"G369*I369","v":28.799999999999997},null,null,null,null,null,null,null,null,{"$f":"IF(OR(ISNA(U369),ISNA(V369),ISNA(W369),ISNA(X369),ISNA(Y369),ISNA(Z369),ISNA(AA369),ISNA(AB369),ISNA(AC369)),NA(),CONCATENATE(U369,V369,W369,X369,Y369,Z369,AA369,AB369))","v":"28.8"},{"$f":"IF(ISNA(AD369),FALSE,IF(C369=$B$1,Worksheet!$B$3,IF(C369=$C$1,Worksheet!$B$4,IF(C369=$D$1,Worksheet!$B$5,IF(C369=$E$1,Worksheet!$B$6,IF(C369=$B$2,Worksheet!$B$7,IF(C369=$C$2,Worksheet!$D$3,IF(C369=$D$2,Worksheet!$D$4,IF(C369=$E$2,Worksheet!$D$5,IF(C369=$C$3,Worksheet!$D$6,IF(C369=$B$3,Worksheet!$D$7,IF(C369=$D$3,Worksheet!$B$10,IF(C369=$E$3,Worksheet!$D$10,FALSE)))))))))))))","v":true},{"$f":"IF(AE369,D369,\"\")","v":"Hard"},{"$f":"IF(AE369,COUNTIF($AF$5:AF369,AF369),\"X\")","v":114},{"$f":"CONCATENATE(AE369,AF369)","v":"TRUEHard"}]
[{"$f":"CONCATENATE(AE370,D370,AG370)","v":"TRUEHard115"},{"$f":"RAND()","v":0.79193812612756453},"%","Hard",329,"A",{"$f":"CHOOSE(RANDBETWEEN(1,4),\"jacket\",\"pair of shoes\",\"DVD player\",\"mobile phone\")","v":"mobile phone"},"costs £",{"$f":"RANDBETWEEN(5,15)*4","v":24},".  In a sale, its price is reduced by 25%.  What price is it now?",null,null,null,null,null,null,null,null,null,{"$f":"CONCATENATE(F370,\" \",G370,\" \",H370,\"\",I370,\"\",J370,\" \",K370,\" \",L370,\" \",M370,\" \",N370,\" \",O370,\" \",P370,\" \",Q370,\" \",R370)","v":"A mobile phone costs £24.  In a sale, its price is reduced by 25%.  What price is it now?        "},"£",{"$f":"0.75*I370","v":18},null,null,null,null,null,null,null,{"$f":"IF(OR(ISNA(U370),ISNA(V370),ISNA(W370),ISNA(X370),ISNA(Y370),ISNA(Z370),ISNA(AA370),ISNA(AB370),ISNA(AC370)),NA(),CONCATENATE(U370,V370,W370,X370,Y370,Z370,AA370,AB370))","v":"£18"},{"$f":"IF(ISNA(AD370),FALSE,IF(C370=$B$1,Worksheet!$B$3,IF(C370=$C$1,Worksheet!$B$4,IF(C370=$D$1,Worksheet!$B$5,IF(C370=$E$1,Worksheet!$B$6,IF(C370=$B$2,Worksheet!$B$7,IF(C370=$C$2,Worksheet!$D$3,IF(C370=$D$2,Worksheet!$D$4,IF(C370=$E$2,Worksheet!$D$5,IF(C370=$C$3,Worksheet!$D$6,IF(C370=$B$3,Worksheet!$D$7,IF(C370=$D$3,Worksheet!$B$10,IF(C370=$E$3,Worksheet!$D$10,FALSE)))))))))))))","v":true},{"$f":"IF(AE370,D370,\"\")","v":"Hard"},{"$f":"IF(AE370,COUNTIF($AF$5:AF370,AF370),\"X\")","v":115},{"$f":"CONCATENATE(AE370,AF370)","v":"TRUEHard"}]
[{"$f":"CONCATENATE(AE371,D371,AG371)","v":"TRUEMedium151"},{"$f":"RAND()","v":0.75512015524931786},"Dec","Medium",254,"Continue the pattern for three more numbers:   ",{"$f":"RANDBETWEEN(1,40)+RANDBETWEEN(2,9)*0.1+0.03","v":12.33},{"$f":"G371+S371","v":12.32},{"$f":"H371+S371","v":12.31},{"$f":"I371+S371","v":12.3},"____","____","____",null,null,null,null,null,-0.01,{"$f":"CONCATENATE(F371,\" \",G371,\",   \",H371,\",   \",I371,\",   \",J371,\",   \",K371,\",   \",L371,\",   \",M371,\" \",N371,\" \",O371,\" \",P371,\" \",Q371,\" \",R371)","v":"Continue the pattern for three more numbers:    12.33,   12.32,   12.31,   12.3,   ____,   ____,   ____     "},{"$f":"J371+S371","v":12.290000000000001},{"$f":"U371+S371","v":12.280000000000001},{"$f":"V371+S371","v":12.270000000000001},null,null,null,null,null,null,{"$f":"IF(OR(ISNA(U371),ISNA(V371),ISNA(W371),ISNA(X371),ISNA(Y371),ISNA(Z371),ISNA(AA371),ISNA(AB371),ISNA(AC371)),NA(),CONCATENATE(U371,\",   \",V371,\",   \",W371,X371,Y371,Z371,AA371,AB371))","v":"12.29,   12.28,   12.27"},{"$f":"IF(ISNA(AD371),FALSE,IF(C371=$B$1,Worksheet!$B$3,IF(C371=$C$1,Worksheet!$B$4,IF(C371=$D$1,Worksheet!$B$5,IF(C371=$E$1,Worksheet!$B$6,IF(C371=$B$2,Worksheet!$B$7,IF(C371=$C$2,Worksheet!$D$3,IF(C371=$D$2,Worksheet!$D$4,IF(C371=$E$2,Worksheet!$D$5,IF(C371=$C$3,Worksheet!$D$6,IF(C371=$B$3,Worksheet!$D$7,IF(C371=$D$3,Worksheet!$B$10,IF(C371=$E$3,Worksheet!$D$10,FALSE)))))))))))))","v":true},{"$f":"IF(AE371,D371,\"\")","v":"Medium"},{"$f":"IF(AE371,COUNTIF($AF$5:AF371,AF371),\"X\")","v":151},{"$f":"CONCATENATE(AE371,AF371)","v":"TRUEMedium"}]
[{"$f":"CONCATENATE(AE372,D372,AG372)","v":"TRUEHard116"},{"$f":"RAND()","v":0.17470073056822188},"Dec","Hard",253,"Continue the pattern for three more numbers:   ",{"$f":"RANDBETWEEN(1,40)+0.95","v":21.95},{"$f":"G372+S372","v":21.96},{"$f":"H372+S372","v":21.970000000000002},{"$f":"I372+S372","v":21.980000000000004},"____","____","____",null,null,null,null,null,0.01,{"$f":"CONCATENATE(F372,\" \",G372,\",   \",H372,\",   \",I372,\",   \",J372,\",   \",K372,\",   \",L372,\",   \",M372,\" \",N372,\" \",O372,\" \",P372,\" \",Q372,\" \",R372)","v":"Continue the pattern for three more numbers:    21.95,   21.96,   21.97,   21.98,   ____,   ____,   ____     "},{"$f":"J372+S372","v":21.990000000000006},{"$f":"U372+S372","v":22.000000000000007},{"$f":"V372+S372","v":22.010000000000009},null,null,null,null,null,null,{"$f":"IF(OR(ISNA(U372),ISNA(V372),ISNA(W372),ISNA(X372),ISNA(Y372),ISNA(Z372),ISNA(AA372),ISNA(AB372),ISNA(AC372)),NA(),CONCATENATE(U372,\",   \",V372,\",   \",W372,X372,Y372,Z372,AA372,AB372))","v":"21.99,   22,   22.01"},{"$f":"IF(ISNA(AD372),FALSE,IF(C372=$B$1,Worksheet!$B$3,IF(C372=$C$1,Worksheet!$B$4,IF(C372=$D$1,Worksheet!$B$5,IF(C372=$E$1,Worksheet!$B$6,IF(C372=$B$2,Worksheet!$B$7,IF(C372=$C$2,Worksheet!$D$3,IF(C372=$D$2,Worksheet!$D$4,IF(C372=$E$2,Worksheet!$D$5,IF(C372=$C$3,Worksheet!$D$6,IF(C372=$B$3,Worksheet!$D$7,IF(C372=$D$3,Worksheet!$B$10,IF(C372=$E$3,Worksheet!$D$10,FALSE)))))))))))))","v":true},{"$f":"IF(AE372,D372,\"\")","v":"Hard"},{"$f":"IF(AE372,COUNTIF($AF$5:AF372,AF372),\"X\")","v":116},{"$f":"CONCATENATE(AE372,AF372)","v":"TRUEHard"}]
[{"$f":"CONCATENATE(AE373,D373,AG373)","v":"TRUEMedium152"},{"$f":"RAND()","v":2.7668215859204648E-2},"+-","Medium",46,"Take away:   ",{"$f":"RANDBETWEEN(3,9)*10+RANDBETWEEN(0,5)","v":31},"–",{"$f":"RANDBETWEEN(1,INT((G373-10)/10))*10+RANDBETWEEN(6,9)","v":28},null,null,null,null,null,null,null,null,null,null,{"$f":"CONCATENATE(F373,\" \",G373,\" \",H373,\" \",I373,\" \",J373,\" \",K373,\" \",L373,\" \",M373,\" \",N373,\" \",O373,\" \",P373,\" \",Q373,\" \",R373)","v":"Take away:    31 – 28         "},{"$f":"G373-I373","v":3},null,{"$f":"IF(U373<0,NA(),\"\")","v":""},null,null,null,null,null,null,{"$f":"IF(OR(ISNA(U373),ISNA(V373),ISNA(W373),ISNA(X373),ISNA(Y373),ISNA(Z373),ISNA(AA373),ISNA(AB373),ISNA(AC373)),NA(),CONCATENATE(U373,V373,W373,X373,Y373,Z373,AA373,AB373))","v":"3"},{"$f":"IF(ISNA(AD373),FALSE,IF(C373=$B$1,Worksheet!$B$3,IF(C373=$C$1,Worksheet!$B$4,IF(C373=$D$1,Worksheet!$B$5,IF(C373=$E$1,Worksheet!$B$6,IF(C373=$B$2,Worksheet!$B$7,IF(C373=$C$2,Worksheet!$D$3,IF(C373=$D$2,Worksheet!$D$4,IF(C373=$E$2,Worksheet!$D$5,IF(C373=$C$3,Worksheet!$D$6,IF(C373=$B$3,Worksheet!$D$7,IF(C373=$D$3,Worksheet!$B$10,IF(C373=$E$3,Worksheet!$D$10,FALSE)))))))))))))","v":true},{"$f":"IF(AE373,D373,\"\")","v":"Medium"},{"$f":"IF(AE373,COUNTIF($AF$5:AF373,AF373),\"X\")","v":152},{"$f":"CONCATENATE(AE373,AF373)","v":"TRUEMedium"}]
[{"$f":"CONCATENATE(AE374,D374,AG374)","v":"FALSEMediumX"},{"$f":"RAND()","v":0.67864440208306209},"Alg","Medium",364,"Algebra.   If",{"$f":"CHOOSE(RANDBETWEEN(1,10),\"a\",\"x\",\"y\",\"b\",\"m\",\"p\",\"x\",\"y\",\"k\",\"f\")","v":"y"},"=",{"$f":"RANDBETWEEN(2,10)","v":2},", what is",null,{"$f":"RANDBETWEEN(2,10)","v":6},{"$f":"G374","v":"y"},"+",{"$f":"RANDBETWEEN(1,10)","v":7},"?",null,null,null,{"$f":"CONCATENATE(F374,\" \",G374,\" \",H374,\" \",I374,\"\",J374,\"\",K374,\"    \",L374,\"\",M374,\" \",N374,\" \",O374,\" \",P374,\" \",Q374,\" \",R374)","v":"Algebra.   If y = 2, what is    6y + 7 ?  "},{"$f":"I374*L374+O374","v":19},null,null,null,null,null,null,null,null,{"$f":"IF(OR(ISNA(U374),ISNA(V374),ISNA(W374),ISNA(X374),ISNA(Y374),ISNA(Z374),ISNA(AA374),ISNA(AB374),ISNA(AC374)),NA(),CONCATENATE(U374,V374,W374,X374,Y374,Z374,AA374,AB374))","v":"19"},{"$f":"IF(ISNA(AD374),FALSE,IF(C374=$B$1,Worksheet!$B$3,IF(C374=$C$1,Worksheet!$B$4,IF(C374=$D$1,Worksheet!$B$5,IF(C374=$E$1,Worksheet!$B$6,IF(C374=$B$2,Worksheet!$B$7,IF(C374=$C$2,Worksheet!$D$3,IF(C374=$D$2,Worksheet!$D$4,IF(C374=$E$2,Worksheet!$D$5,IF(C374=$C$3,Worksheet!$D$6,IF(C374=$B$3,Worksheet!$D$7,IF(C374=$D$3,Worksheet!$B$10,IF(C374=$E$3,Worksheet!$D$10,FALSE)))))))))))))","v":false},{"$f":"IF(AE374,D374,\"\")","v":""},{"$f":"IF(AE374,COUNTIF($AF$5:AF374,AF374),\"X\")","v":"X"},{"$f":"CONCATENATE(AE374,AF374)","v":"FALSE"}]
[{"$f":"CONCATENATE(AE375,D375,AG375)","v":"TRUEHard117"},{"$f":"RAND()","v":0.27227448185323433},"Choose","Hard",143,"There are 60 seconds in an minute.  How many seconds are there in",{"$f":"RANDBETWEEN(5,9)","v":8},"minutes?",null,null,null,null,null,null,null,null,null,null,null,{"$f":"CONCATENATE(F375,\" \",G375,\" \",H375,\" \",I375,\" \",J375,\" \",K375,\" \",L375,\" \",M375,\" \",N375,\" \",O375,\" \",P375,\" \",Q375,\" \",R375)","v":"There are 60 seconds in an minute.  How many seconds are there in 8 minutes?          "},{"$f":"G375*60","v":480},null,null,null,null,null,null,null,null,{"$f":"IF(OR(ISNA(U375),ISNA(V375),ISNA(W375),ISNA(X375),ISNA(Y375),ISNA(Z375),ISNA(AA375),ISNA(AB375),ISNA(AC375)),NA(),CONCATENATE(U375,V375,W375,X375,Y375,Z375,AA375,AB375))","v":"480"},{"$f":"IF(ISNA(AD375),FALSE,IF(C375=$B$1,Worksheet!$B$3,IF(C375=$C$1,Worksheet!$B$4,IF(C375=$D$1,Worksheet!$B$5,IF(C375=$E$1,Worksheet!$B$6,IF(C375=$B$2,Worksheet!$B$7,IF(C375=$C$2,Worksheet!$D$3,IF(C375=$D$2,Worksheet!$D$4,IF(C375=$E$2,Worksheet!$D$5,IF(C375=$C$3,Worksheet!$D$6,IF(C375=$B$3,Worksheet!$D$7,IF(C375=$D$3,Worksheet!$B$10,IF(C375=$E$3,Worksheet!$D$10,FALSE)))))))))))))","v":true},{"$f":"IF(AE375,D375,\"\")","v":"Hard"},{"$f":"IF(AE375,COUNTIF($AF$5:AF375,AF375),\"X\")","v":117},{"$f":"CONCATENATE(AE375,AF375)","v":"TRUEHard"}]
[{"$f":"CONCATENATE(AE376,D376,AG376)","v":"TRUEMedium153"},{"$f":"RAND()","v":0.69569228860185195},"+-","Medium",27,"Take away:    100 –",{"$f":"RANDBETWEEN(1,9)*10+RANDBETWEEN(1,9)","v":68},null,null,null,null,null,null,null,null,null,null,null,null,{"$f":"CONCATENATE(F376,\" \",G376,\" \",H376,\" \",I376,\" \",J376,\" \",K376,\" \",L376,\" \",M376,\" \",N376,\" \",O376,\" \",P376,\" \",Q376,\" \",R376)","v":"Take away:    100 – 68           "},{"$f":"100-G376","v":32},null,null,null,null,null,null,null,null,{"$f":"IF(OR(ISNA(U376),ISNA(V376),ISNA(W376),ISNA(X376),ISNA(Y376),ISNA(Z376),ISNA(AA376),ISNA(AB376),ISNA(AC376)),NA(),CONCATENATE(U376,V376,W376,X376,Y376,Z376,AA376,AB376))","v":"32"},{"$f":"IF(ISNA(AD376),FALSE,IF(C376=$B$1,Worksheet!$B$3,IF(C376=$C$1,Worksheet!$B$4,IF(C376=$D$1,Worksheet!$B$5,IF(C376=$E$1,Worksheet!$B$6,IF(C376=$B$2,Worksheet!$B$7,IF(C376=$C$2,Worksheet!$D$3,IF(C376=$D$2,Worksheet!$D$4,IF(C376=$E$2,Worksheet!$D$5,IF(C376=$C$3,Worksheet!$D$6,IF(C376=$B$3,Worksheet!$D$7,IF(C376=$D$3,Worksheet!$B$10,IF(C376=$E$3,Worksheet!$D$10,FALSE)))))))))))))","v":true},{"$f":"IF(AE376,D376,\"\")","v":"Medium"},{"$f":"IF(AE376,COUNTIF($AF$5:AF376,AF376),\"X\")","v":153},{"$f":"CONCATENATE(AE376,AF376)","v":"TRUEMedium"}]
[{"$f":"CONCATENATE(AE377,D377,AG377)","v":"TRUEMedium154"},{"$f":"RAND()","v":0.3074351119455766},"Mult","Medium",76,"What is double",{"$f":"RANDBETWEEN(5,9)*100+RANDBETWEEN(1,5)*10","v":620},"?",null,null,null,null,null,null,null,null,null,null,null,{"$f":"CONCATENATE(F377,\" \",G377,\" \",H377,\" \",I377,\" \",J377,\" \",K377,\" \",L377,\" \",M377,\" \",N377,\" \",O377,\" \",P377,\" \",Q377,\" \",R377)","v":"What is double 620 ?          "},{"$f":"2*G377","v":1240},null,null,null,null,null,null,null,null,{"$f":"IF(OR(ISNA(U377),ISNA(V377),ISNA(W377),ISNA(X377),ISNA(Y377),ISNA(Z377),ISNA(AA377),ISNA(AB377),ISNA(AC377)),NA(),CONCATENATE(U377,V377,W377,X377,Y377,Z377,AA377,AB377))","v":"1240"},{"$f":"IF(ISNA(AD377),FALSE,IF(C377=$B$1,Worksheet!$B$3,IF(C377=$C$1,Worksheet!$B$4,IF(C377=$D$1,Worksheet!$B$5,IF(C377=$E$1,Worksheet!$B$6,IF(C377=$B$2,Worksheet!$B$7,IF(C377=$C$2,Worksheet!$D$3,IF(C377=$D$2,Worksheet!$D$4,IF(C377=$E$2,Worksheet!$D$5,IF(C377=$C$3,Worksheet!$D$6,IF(C377=$B$3,Worksheet!$D$7,IF(C377=$D$3,Worksheet!$B$10,IF(C377=$E$3,Worksheet!$D$10,FALSE)))))))))))))","v":true},{"$f":"IF(AE377,D377,\"\")","v":"Medium"},{"$f":"IF(AE377,COUNTIF($AF$5:AF377,AF377),\"X\")","v":154},{"$f":"CONCATENATE(AE377,AF377)","v":"TRUEMedium"}]
[{"$f":"CONCATENATE(AE378,D378,AG378)","v":"TRUEMedium155"},{"$f":"RAND()","v":0.25875785652816541},"Dec","Medium",225,"In the number",null,{"$f":"SMALL(IF(G378={1,2,3,4,5,6,7,8,9},\"\",{1,2,3,4,5,6,7,8,9}),RANDBETWEEN(1,8))","v":8},{"$f":"SMALL(IF(G378={1,2,3,4,5,6,7,8,9},\"\",IF(H378={1,2,3,4,5,6,7,8,9},\"\",{1,2,3,4,5,6,7,8,9})),RANDBETWEEN(1,7))","v":2},{"$f":"SMALL(IF(G378={1,2,3,4,5,6,7,8,9},\"\",IF(H378={1,2,3,4,5,6,7,8,9},\"\",IF(I378={1,2,3,4,5,6,7,8,9},\"\",{1,2,3,4,5,6,7,8,9}))),RANDBETWEEN(1,6))","v":7},", what does the",{"$f":"CHOOSE(S378,J378,I378,H378)","v":2},"stand for?",null,null,null,null,null,{"$f":"RANDBETWEEN(1,3)","v":2},{"$f":"CONCATENATE(F378,\" \",G378,\"\",H378,\"•\",I378,\"\",J378,\"\",K378,\" \",L378,\" \",M378,\" \",N378,\" \",O378,\" \",P378,\" \",Q378,\" \",R378)","v":"In the number 8•27, what does the 2 stand for?     "},{"$f":"L378*10^(S378-3)","v":0.2},null,null,null,null,null,null,null,null,{"$f":"IF(OR(ISNA(U378),ISNA(V378),ISNA(W378),ISNA(X378),ISNA(Y378),ISNA(Z378),ISNA(AA378),ISNA(AB378),ISNA(AC378)),NA(),CONCATENATE(U378,V378,W378,X378,Y378,Z378,AA378,AB378))","v":"0.2"},{"$f":"IF(ISNA(AD378),FALSE,IF(C378=$B$1,Worksheet!$B$3,IF(C378=$C$1,Worksheet!$B$4,IF(C378=$D$1,Worksheet!$B$5,IF(C378=$E$1,Worksheet!$B$6,IF(C378=$B$2,Worksheet!$B$7,IF(C378=$C$2,Worksheet!$D$3,IF(C378=$D$2,Worksheet!$D$4,IF(C378=$E$2,Worksheet!$D$5,IF(C378=$C$3,Worksheet!$D$6,IF(C378=$B$3,Worksheet!$D$7,IF(C378=$D$3,Worksheet!$B$10,IF(C378=$E$3,Worksheet!$D$10,FALSE)))))))))))))","v":true},{"$f":"IF(AE378,D378,\"\")","v":"Medium"},{"$f":"IF(AE378,COUNTIF($AF$5:AF378,AF378),\"X\")","v":155},{"$f":"CONCATENATE(AE378,AF378)","v":"TRUEMedium"}]
[{"$f":"CONCATENATE(AE379,D379,AG379)","v":"TRUEHard118"},{"$f":"RAND()","v":0.61513592316942001},"Dec","Hard",270,"Write these numbers in order from",{"$f":"CHOOSE(RANDBETWEEN(1,2),\"smallest to biggest:\",\"biggest to smallest:\")","v":"biggest to smallest:"},{"$f":"S379+R379/10","v":2.4},{"$f":"S379+0.1+R379/100","v":2.14},{"$f":"S379+R379/100","v":2.04},{"$f":"S379+0.5","v":2.5},null,null,null,null,null,null,{"$f":"SMALL(IF(S379={1,2,3,4,5,6,7,8,9},\"\",{1,2,3,4,5,6,7,8,9}),RANDBETWEEN(1,8))","v":4},{"$f":"RANDBETWEEN(1,9)","v":2},{"$f":"CONCATENATE(F379,\" \",G379,\"   \",H379,\",  \",I379,\",  \",J379,\",  \",K379,\" \",L379,\" \",M379,\" \",N379)","v":"Write these numbers in order from biggest to smallest:   2.4,  2.14,  2.04,  2.5   "},{"$f":"IF($G379=\"smallest to biggest:\",LARGE($H379:$K379,4),LARGE($H379:$K379,1))","v":2.5},{"$f":"IF($G379=\"smallest to biggest:\",LARGE($H379:$K379,3),LARGE($H379:$K379,2))","v":2.4},{"$f":"IF($G379=\"smallest to biggest:\",LARGE($H379:$K379,2),LARGE($H379:$K379,3))","v":2.14},{"$f":"IF($G379=\"smallest to biggest:\",LARGE($H379:$K379,1),LARGE($H379:$K379,4))","v":2.04},null,{"$f":"IF(OR(H379=I379,H379=J379,H379=K379,I379=J379,I379=K379,J379=K379),NA(),\"\")","v":""},null,null,null,{"$f":"IF(OR(ISNA(U379),ISNA(V379),ISNA(W379),ISNA(X379),ISNA(Y379),ISNA(Z379),ISNA(AA379),ISNA(AB379),ISNA(AC379)),NA(),CONCATENATE(U379,\",  \",V379,\",  \",W379,\",  \",X379,Y379,Z379,AA379,AB379))","v":"2.5,  2.4,  2.14,  2.04"},{"$f":"IF(ISNA(AD379),FALSE,IF(C379=$B$1,Worksheet!$B$3,IF(C379=$C$1,Worksheet!$B$4,IF(C379=$D$1,Worksheet!$B$5,IF(C379=$E$1,Worksheet!$B$6,IF(C379=$B$2,Worksheet!$B$7,IF(C379=$C$2,Worksheet!$D$3,IF(C379=$D$2,Worksheet!$D$4,IF(C379=$E$2,Worksheet!$D$5,IF(C379=$C$3,Worksheet!$D$6,IF(C379=$B$3,Worksheet!$D$7,IF(C379=$D$3,Worksheet!$B$10,IF(C379=$E$3,Worksheet!$D$10,FALSE)))))))))))))","v":true},{"$f":"IF(AE379,D379,\"\")","v":"Hard"},{"$f":"IF(AE379,COUNTIF($AF$5:AF379,AF379),\"X\")","v":118},{"$f":"CONCATENATE(AE379,AF379)","v":"TRUEHard"}]
[{"$f":"CONCATENATE(AE380,D380,AG380)","v":"TRUEEasy79"},{"$f":"RAND()","v":0.22468948414961942},"Dec","Easy",214,"Write the fraction",{"$f":"RANDBETWEEN(1,9)","v":1},"/10","as a decimal",null,null,null,null,null,null,null,null,null,null,{"$f":"CONCATENATE(F380,\" \",G380,\"\",H380,\" \",I380,\" \",J380,\" \",K380,\" \",L380,\" \",M380,\" \",N380,\" \",O380,\" \",P380,\" \",Q380,\" \",R380)","v":"Write the fraction 1/10 as a decimal         "},{"$f":"G380/10","v":0.1},null,{"$f":"IF(G380=G379,NA(),\"\")","v":""},null,null,null,null,null,null,{"$f":"IF(OR(ISNA(U380),ISNA(V380),ISNA(W380),ISNA(X380),ISNA(Y380),ISNA(Z380),ISNA(AA380),ISNA(AB380),ISNA(AC380)),NA(),CONCATENATE(U380,V380,W380,X380,Y380,Z380,AA380,AB380))","v":"0.1"},{"$f":"IF(ISNA(AD380),FALSE,IF(C380=$B$1,Worksheet!$B$3,IF(C380=$C$1,Worksheet!$B$4,IF(C380=$D$1,Worksheet!$B$5,IF(C380=$E$1,Worksheet!$B$6,IF(C380=$B$2,Worksheet!$B$7,IF(C380=$C$2,Worksheet!$D$3,IF(C380=$D$2,Worksheet!$D$4,IF(C380=$E$2,Worksheet!$D$5,IF(C380=$C$3,Worksheet!$D$6,IF(C380=$B$3,Worksheet!$D$7,IF(C380=$D$3,Worksheet!$B$10,IF(C380=$E$3,Worksheet!$D$10,FALSE)))))))))))))","v":true},{"$f":"IF(AE380,D380,\"\")","v":"Easy"},{"$f":"IF(AE380,COUNTIF($AF$5:AF380,AF380),\"X\")","v":79},{"$f":"CONCATENATE(AE380,AF380)","v":"TRUEEasy"}]
[{"$f":"CONCATENATE(AE381,D381,AG381)","v":"TRUEMedium156"},{"$f":"RAND()","v":0.63702812211656779},"Dec","Medium",244,"Add:   ",{"$f":"RANDBETWEEN(1,6)+RANDBETWEEN(5,9)/10","v":4.5999999999999996}," + ",{"$f":"RANDBETWEEN(1,6)+RANDBETWEEN(5,9)/10","v":4.8},null,null,null,null,null,null,null,null,null,null,{"$f":"CONCATENATE(F381,\" \",G381,\" \",H381,\" \",I381,\" \",J381,\" \",K381,\" \",L381,\" \",M381,\" \",N381,\" \",O381,\" \",P381,\" \",Q381,\" \",R381)","v":"Add:    4.6  +  4.8         "},{"$f":"G381+I381","v":9.3999999999999986},null,null,null,null,null,null,null,null,{"$f":"IF(OR(ISNA(U381),ISNA(V381),ISNA(W381),ISNA(X381),ISNA(Y381),ISNA(Z381),ISNA(AA381),ISNA(AB381),ISNA(AC381)),NA(),CONCATENATE(U381,V381,W381,X381,Y381,Z381,AA381,AB381))","v":"9.4"},{"$f":"IF(ISNA(AD381),FALSE,IF(C381=$B$1,Worksheet!$B$3,IF(C381=$C$1,Worksheet!$B$4,IF(C381=$D$1,Worksheet!$B$5,IF(C381=$E$1,Worksheet!$B$6,IF(C381=$B$2,Worksheet!$B$7,IF(C381=$C$2,Worksheet!$D$3,IF(C381=$D$2,Worksheet!$D$4,IF(C381=$E$2,Worksheet!$D$5,IF(C381=$C$3,Worksheet!$D$6,IF(C381=$B$3,Worksheet!$D$7,IF(C381=$D$3,Worksheet!$B$10,IF(C381=$E$3,Worksheet!$D$10,FALSE)))))))))))))","v":true},{"$f":"IF(AE381,D381,\"\")","v":"Medium"},{"$f":"IF(AE381,COUNTIF($AF$5:AF381,AF381),\"X\")","v":156},{"$f":"CONCATENATE(AE381,AF381)","v":"TRUEMedium"}]