{"text_format":"1","workbook":"xlsx","n_sheets":2,"sheets":["Worksheet","SYSTEM FORMULAE"],"not_rendered":{"charts":0,"images":0,"macros":1,"external_links":0,"defined_names":4,"comments":0,"pivot_tables":0},"unopened":[],"bounds":{"document_bytes":16777216,"sheet_cells":100000,"rows_first":2000,"rows_last":500,"rows_between":2000,"halvings":0,"cell_chars":16384,"cell_head_chars":4096},"cells_cut":0,"cells_raw":0,"read":"whole","date_system":"1900"}

{"sheet":"Worksheet","index":0,"n_rows":22,"n_cols":17,"rows_kept":22,"cut":false,"hidden":false,"merged":[[7,0,7,3],[1,0,1,3],[0,6,0,7],[1,6,1,7],[0,8,1,8],[0,5,1,5]]}
[null,null,null,null,null,"adjust difficulty here.  Aim for a spread.","Number Topics: Revision Questions",null,"Answers (by default this column will not print)"]
["Include questions on these NUMBER topics      (if you only choose a limited number of topics, some questions may appear blank)",null,null,null,null,null,"No calculators: write working whenever you need to.  Use another sheet if you need more space"]
["Whole Numbers, Numerals, Count, Order",true,"Fractions",true,null,{"$f":"IF(O3=1,\"Easy\",IF(O3=2,\"Medium\",\"Hard\"))","v":"Easy"},1,"The number 52 is even.  True or False?        ","TRUE",null,null,null,null,{"$f":"CONCATENATE(TRUE,F3,COUNTIF($F$3:F3,F3))","v":"TRUEEasy1"},1,{"$f":"VLOOKUP(N3,Questions,20,FALSE)","v":"The number 56 is odd.  True or False?        "},{"$f":"VLOOKUP(N3,Questions,30,FALSE)","v":"FALSE"}]
["Add and Subtract",true,"Decimals and Money",true,null,{"$f":"IF(O4=1,\"Easy\",IF(O4=2,\"Medium\",\"Hard\"))","v":"Easy"},2,"8 + 8          ","16",null,null,null,null,{"$f":"CONCATENATE(TRUE,F4,COUNTIF($F$3:F4,F4))","v":"TRUEEasy2"},1,"6 + 7          ","13"]
["Multiply",true,"Percentages",true,null,"Easy",3,"What does 100% mean?            ","all",null,null,null,null,{"$f":"CONCATENATE(TRUE,F5,COUNTIF($F$3:F5,F5))","v":"TRUEEasy3"},1,"What does 100% mean?            ","all"]
["Divide",true,"Rounding",true,null,"Easy",4,"Fill in the missing numbers:    900,   890,   880,   ____,   ____,   850,   840     ","870,   860",null,null,null,null,{"$f":"CONCATENATE(TRUE,F6,COUNTIF($F$3:F6,F6))","v":"TRUEEasy4"},1,"Fill in the missing numbers:    250,   240,   230,   ____,   ____,   200,   190     ","220,   210"]
["Choose the Operation",true,"Negative Numbers",true,null,"Easy",5,"Fractions.   What is  1/4 of 20 ?        ","5",null,null,null,null,{"$f":"CONCATENATE(TRUE,F7,COUNTIF($F$3:F7,F7))","v":"TRUEEasy5"},1,"Fractions.   What is  1/4 of 8 ?        ","2"]
[{"$f":"IF(OR('SYSTEM FORMULAE'!A3<20,'SYSTEM FORMULAE'!U1<'SYSTEM FORMULAE'!T1,'SYSTEM FORMULAE'!U2<'SYSTEM FORMULAE'!T2,'SYSTEM FORMULAE'!U3<'SYSTEM FORMULAE'!T3),\"there are not enough potential questions.  Please choose more topics\",\"\")","v":""},null,null,null,null,"Medium",6,"Divide:    19 ÷ 4 , showing the remainder        ","4r3",null,null,null,null,{"$f":"CONCATENATE(TRUE,F8,COUNTIF($F$3:F8,F8))","v":"TRUEMedium1"},2,"Divide:    34 ÷ 4 , showing the remainder        ","8r2"]
[null,null,null,null,null,"Medium",7,"Fractions.   What is  1/5 of 50 ?        ","10",null,null,null,null,{"$f":"CONCATENATE(TRUE,F9,COUNTIF($F$3:F9,F9))","v":"TRUEMedium2"},2,"Fractions.   What is  1/5 of 35 ?        ","7"]
[null,null,null,null,null,"Medium",8,"Fill in the missing number:    7 + _____ = 12       ","5",null,null,null,null,{"$f":"CONCATENATE(TRUE,F10,COUNTIF($F$3:F10,F10))","v":"TRUEMedium3"},2,"Fill in the missing number:    9 + _____ = 14       ","5"]
[null,null,null,null,null,"Medium",9,"Write these amounts of money in order from smallest to biggest:  £ 4.07,  £4.7,  £4.77,  £4.74      ","£4.07,  £4.7,  £4.74,  £4.77",null,null,null,null,{"$f":"CONCATENATE(TRUE,F11,COUNTIF($F$3:F11,F11))","v":"TRUEMedium4"},2,"Write these amounts of money in order from smallest to biggest:  £ 4.06,  £4.6,  £4.66,  £4.64      ","£4.06,  £4.6,  £4.64,  £4.66"]
[null,null,null,null,null,"Medium",10,"What is half of  16?          ","8",null,null,null,null,{"$f":"CONCATENATE(TRUE,F12,COUNTIF($F$3:F12,F12))","v":"TRUEMedium5"},2,"What is half of  12?          ","6"]
[null,null,null,null,null,"Medium",11,"Fill in the missing numbers:    857,   757,   657,   ____,   ____,   357,   257     ","557,   457",null,null,null,null,{"$f":"CONCATENATE(TRUE,F13,COUNTIF($F$3:F13,F13))","v":"TRUEMedium6"},2,"Fill in the missing numbers:    739,   639,   539,   ____,   ____,   239,   139     ","439,   339"]
[null,null,null,null,null,"Medium",12,"Fill in the blank:   £5.7 = _____ pounds and ______ pence     ","5 pounds and 70 pence",null,null,null,null,{"$f":"CONCATENATE(TRUE,F14,COUNTIF($F$3:F14,F14))","v":"TRUEMedium7"},2,"Fill in the blank:   £1.9 = _____ pounds and ______ pence     ","1 pounds and 90 pence"]
[null,null,null,null,null,"Medium",13,"Circle all the  odd numbers in this list:    93,   99,   19,   22,   60     ","93  99  19    ",null,null,null,null,{"$f":"CONCATENATE(TRUE,F15,COUNTIF($F$3:F15,F15))","v":"TRUEMedium8"},2,"Circle all the  even numbers in this list:    28,   39,   44,   52,   90     ","28    44  52  90"]
[null,null,null,null,null,"Medium",14,"Take away:    25 – 6         ","19",null,null,null,null,{"$f":"CONCATENATE(TRUE,F16,COUNTIF($F$3:F16,F16))","v":"TRUEMedium9"},2,"Take away:    32 – 8         ","24"]
[null,null,null,null,null,"Hard",15,"How many pounds are there in 1006p?          ","£10.06",null,null,null,null,{"$f":"CONCATENATE(TRUE,F17,COUNTIF($F$3:F17,F17))","v":"TRUEHard1"},3,"How many pounds are there in 1030p?          ","£10.30"]
[null,null,null,null,null,"Hard",16,"Multiply 157 × 10         ","1570",null,null,null,null,{"$f":"CONCATENATE(TRUE,F18,COUNTIF($F$3:F18,F18))","v":"TRUEHard2"},3,"Multiply 625 × 10         ","6250"]
[null,null,null,null,null,"Hard",17,"What is 8 × 9 ?        ","72",null,null,null,null,{"$f":"CONCATENATE(TRUE,F19,COUNTIF($F$3:F19,F19))","v":"TRUEHard3"},3,"What is 7 × 6 ?        ","42"]
[null,null,null,null,null,"Hard",18,"Multiply 10 × 192         ","1920",null,null,null,null,{"$f":"CONCATENATE(TRUE,F20,COUNTIF($F$3:F20,F20))","v":"TRUEHard4"},3,"Multiply 10 × 705         ","7050"]
[null,null,null,null,null,"Hard",19,"Write down a chimney sum to take away: 300 – 278         ","22",null,null,null,null,{"$f":"CONCATENATE(TRUE,F21,COUNTIF($F$3:F21,F21))","v":"TRUEHard5"},3,"Write down a chimney sum to take away: 400 – 309         ","91"]
[null,null,null,null,null,"Hard",20,"Fractions.   What is  1/2 of 20 ?        ","10",null,null,null,null,{"$f":"CONCATENATE(TRUE,F22,COUNTIF($F$3:F22,F22))","v":"TRUEHard6"},3,"Fractions.   What is  1/2 of 18 ?        ","9"]

{"sheet":"SYSTEM FORMULAE","index":1,"n_rows":178,"n_cols":34,"rows_kept":178,"cut":false,"hidden":false,"merged":[]}
["Possible topics","Num","+-","Mult","Divide",null,null,null,"not included as needs diagram",null,null,null,null,null,null,null,null,null,"hard",{"$f":"COUNTIF(Worksheet!$F$3:$F$22,S1)","v":6},{"$f":"COUNTIF(AH$5:AH$646,\"TRUEHard\")","v":35}]
[null,"Choose","Frac","Dec","%",null,null,null,"shade fraction of shape; choose coins to make given amount",null,null,null,null,null,null,null,null,null,"medium",{"$f":"COUNTIF(Worksheet!$F$3:$F$22,S2)","v":9},{"$f":"COUNTIF(AH$5:AH$646,\"TRUEMedium\")","v":83}]
[{"$f":"COUNTIF(AE5:AE646,TRUE)","v":174},"Neg","Round",null,null,null,null,null,null,null,null,null,null,null,null,null,null,null,"easy",{"$f":"COUNTIF(Worksheet!$F$3:$F$22,S3)","v":5},{"$f":"COUNTIF(AH$5:AH$646,\"TRUEEasy\")","v":56}]
["allow inclusion?","rand()","topic","difficulty",null,null,null,null,null,null,null,null,null,null,null,null,null,null,null,null,"Answers"]
[{"$f":"CONCATENATE(AE5,D5,AG5)","v":"TRUEMedium1"},{"$f":"RAND()","v":0.45846598100070746},"Divide","Medium",102,"Divide:   ",{"$f":"4*RANDBETWEEN(1,10)+RANDBETWEEN(1,3)","v":34},"÷",4,", showing the remainder",null,null,null,null,null,null,null,null,null,{"$f":"CONCATENATE(F5,\" \",G5,\" \",H5,\" \",I5,\" \",J5,\" \",K5,\" \",L5,\" \",M5,\" \",N5,\" \",O5,\" \",P5,\" \",Q5,\" \",R5)","v":"Divide:    34 ÷ 4 , showing the remainder        "},{"$f":"INT(G5/I5)","v":8},"r",{"$f":"MOD(G5,I5)","v":2},null,null,null,null,null,null,{"$f":"IF(OR(ISNA(U5),ISNA(V5),ISNA(W5),ISNA(X5),ISNA(Y5),ISNA(Z5),ISNA(AA5),ISNA(AB5),ISNA(AC5)),NA(),CONCATENATE(U5,V5,W5,X5,Y5,Z5,AA5,AB5))","v":"8r2"},{"$f":"IF(ISNA(AD5),FALSE,IF(C5=$B$1,Worksheet!$B$3,IF(C5=$C$1,Worksheet!$B$4,IF(C5=$D$1,Worksheet!$B$5,IF(C5=$E$1,Worksheet!$B$6,IF(C5=$B$2,Worksheet!$B$7,IF(C5=$C$2,Worksheet!$D$3,IF(C5=$D$2,Worksheet!$D$4,IF(C5=$E$2,Worksheet!$D$5,IF(C5=$C$3,Worksheet!$D$6,IF(C5=$B$3,Worksheet!$D$7,FALSE)))))))))))","v":true},{"$f":"IF(AE5,D5,\"\")","v":"Medium"},{"$f":"IF(AE5,COUNTIF($AF$5:AF5,AF5),\"X\")","v":1},{"$f":"CONCATENATE(AE5,AF5)","v":"TRUEMedium"}]
[{"$f":"CONCATENATE(AE6,D6,AG6)","v":"TRUEMedium2"},{"$f":"RAND()","v":0.27414782491802225},"Frac","Medium",126,"Fractions.   What is ","1/5","of",{"$f":"5*RANDBETWEEN(5,10)","v":35},"?",null,null,null,null,null,null,null,null,null,{"$f":"CONCATENATE(F6,\" \",G6,\" \",H6,\" \",I6,\" \",J6,\" \",K6,\" \",L6,\" \",M6,\" \",N6,\" \",O6,\" \",P6,\" \",Q6,\" \",R6)","v":"Fractions.   What is  1/5 of 35 ?        "},{"$f":"I6/5","v":7},null,null,null,null,null,null,null,null,{"$f":"IF(OR(ISNA(U6),ISNA(V6),ISNA(W6),ISNA(X6),ISNA(Y6),ISNA(Z6),ISNA(AA6),ISNA(AB6),ISNA(AC6)),NA(),CONCATENATE(U6,V6,W6,X6,Y6,Z6,AA6,AB6))","v":"7"},{"$f":"IF(ISNA(AD6),FALSE,IF(C6=$B$1,Worksheet!$B$3,IF(C6=$C$1,Worksheet!$B$4,IF(C6=$D$1,Worksheet!$B$5,IF(C6=$E$1,Worksheet!$B$6,IF(C6=$B$2,Worksheet!$B$7,IF(C6=$C$2,Worksheet!$D$3,IF(C6=$D$2,Worksheet!$D$4,IF(C6=$E$2,Worksheet!$D$5,IF(C6=$C$3,Worksheet!$D$6,IF(C6=$B$3,Worksheet!$D$7,FALSE)))))))))))","v":true},{"$f":"IF(AE6,D6,\"\")","v":"Medium"},{"$f":"IF(AE6,COUNTIF($AF$5:AF6,AF6),\"X\")","v":2},{"$f":"CONCATENATE(AE6,AF6)","v":"TRUEMedium"}]
[{"$f":"CONCATENATE(AE7,D7,AG7)","v":"TRUEEasy1"},{"$f":"RAND()","v":9.4922680880001997E-2},"Mult","Easy",69,"The number",{"$f":"RANDBETWEEN(1,100)","v":56},"is",{"$f":"IF(RAND()<0.5,\"odd\",\"even\")","v":"odd"},".  True or False?",null,null,null,null,null,null,null,null,null,{"$f":"CONCATENATE(F7,\" \",G7,\" \",H7,\" \",I7,\"\",J7,\" \",K7,\" \",L7,\" \",M7,\" \",N7,\" \",O7,\" \",P7,\" \",Q7,\" \",R7)","v":"The number 56 is odd.  True or False?        "},{"$f":"IF(I7=\"odd\",ISODD(G7),ISEVEN(G7))","v":false},null,null,null,null,null,null,null,null,{"$f":"IF(OR(ISNA(U7),ISNA(V7),ISNA(W7),ISNA(X7),ISNA(Y7),ISNA(Z7),ISNA(AA7),ISNA(AB7),ISNA(AC7)),NA(),CONCATENATE(U7,V7,W7,X7,Y7,Z7,AA7,AB7))","v":"FALSE"},{"$f":"IF(ISNA(AD7),FALSE,IF(C7=$B$1,Worksheet!$B$3,IF(C7=$C$1,Worksheet!$B$4,IF(C7=$D$1,Worksheet!$B$5,IF(C7=$E$1,Worksheet!$B$6,IF(C7=$B$2,Worksheet!$B$7,IF(C7=$C$2,Worksheet!$D$3,IF(C7=$D$2,Worksheet!$D$4,IF(C7=$E$2,Worksheet!$D$5,IF(C7=$C$3,Worksheet!$D$6,IF(C7=$B$3,Worksheet!$D$7,FALSE)))))))))))","v":true},{"$f":"IF(AE7,D7,\"\")","v":"Easy"},{"$f":"IF(AE7,COUNTIF($AF$5:AF7,AF7),\"X\")","v":1},{"$f":"CONCATENATE(AE7,AF7)","v":"TRUEEasy"}]
[{"$f":"CONCATENATE(AE8,D8,AG8)","v":"TRUEEasy2"},{"$f":"RAND()","v":0.25424618846631053},"+-","Easy",50,{"$f":"RANDBETWEEN(6,9)","v":6},"+",{"$f":"RANDBETWEEN(6,9)","v":7},null,null,null,null,null,null,null,null,null,null,null,{"$f":"CONCATENATE(F8,\" \",G8,\" \",H8,\" \",I8,\" \",J8,\" \",K8,\" \",L8,\" \",M8,\" \",N8,\" \",O8,\" \",P8,\" \",Q8,\" \",R8)","v":"6 + 7          "},{"$f":"F8+H8","v":13},null,null,null,null,null,null,null,null,{"$f":"IF(OR(ISNA(U8),ISNA(V8),ISNA(W8),ISNA(X8),ISNA(Y8),ISNA(Z8),ISNA(AA8),ISNA(AB8),ISNA(AC8)),NA(),CONCATENATE(U8,V8,W8,X8,Y8,Z8,AA8,AB8))","v":"13"},{"$f":"IF(ISNA(AD8),FALSE,IF(C8=$B$1,Worksheet!$B$3,IF(C8=$C$1,Worksheet!$B$4,IF(C8=$D$1,Worksheet!$B$5,IF(C8=$E$1,Worksheet!$B$6,IF(C8=$B$2,Worksheet!$B$7,IF(C8=$C$2,Worksheet!$D$3,IF(C8=$D$2,Worksheet!$D$4,IF(C8=$E$2,Worksheet!$D$5,IF(C8=$C$3,Worksheet!$D$6,IF(C8=$B$3,Worksheet!$D$7,FALSE)))))))))))","v":true},{"$f":"IF(AE8,D8,\"\")","v":"Easy"},{"$f":"IF(AE8,COUNTIF($AF$5:AF8,AF8),\"X\")","v":2},{"$f":"CONCATENATE(AE8,AF8)","v":"TRUEEasy"}]
[{"$f":"CONCATENATE(AE9,D9,AG9)","v":"TRUEHard1"},{"$f":"RAND()","v":0.68631838740249662},"Dec","Hard",141,"How many pounds are there in",{"$f":"1000+RANDBETWEEN(1,99)","v":1030},"p?",null,null,null,null,null,null,null,null,null,null,null,{"$f":"CONCATENATE(F9,\" \",G9,\"\",H9,\" \",I9,\" \",J9,\" \",K9,\" \",L9,\" \",M9,\" \",N9,\" \",O9,\" \",P9,\" \",Q9,\" \",R9)","v":"How many pounds are there in 1030p?          "},"£",{"$f":"TEXT(G9/100,\"#.00\")","v":"10.30"},null,null,null,null,null,null,null,{"$f":"IF(OR(ISNA(U9),ISNA(V9),ISNA(W9),ISNA(X9),ISNA(Y9),ISNA(Z9),ISNA(AA9),ISNA(AB9),ISNA(AC9)),NA(),CONCATENATE(U9,V9,W9,X9,Y9,Z9,AA9,AB9))","v":"£10.30"},{"$f":"IF(ISNA(AD9),FALSE,IF(C9=$B$1,Worksheet!$B$3,IF(C9=$C$1,Worksheet!$B$4,IF(C9=$D$1,Worksheet!$B$5,IF(C9=$E$1,Worksheet!$B$6,IF(C9=$B$2,Worksheet!$B$7,IF(C9=$C$2,Worksheet!$D$3,IF(C9=$D$2,Worksheet!$D$4,IF(C9=$E$2,Worksheet!$D$5,IF(C9=$C$3,Worksheet!$D$6,IF(C9=$B$3,Worksheet!$D$7,FALSE)))))))))))","v":true},{"$f":"IF(AE9,D9,\"\")","v":"Hard"},{"$f":"IF(AE9,COUNTIF($AF$5:AF9,AF9),\"X\")","v":1},{"$f":"CONCATENATE(AE9,AF9)","v":"TRUEHard"}]
[{"$f":"CONCATENATE(AE10,D10,AG10)","v":"TRUEMedium3"},{"$f":"RAND()","v":0.59083771582403488},"+-","Medium",52,"Fill in the missing number:   ",{"$f":"RANDBETWEEN(6,9)","v":9},"+","_____","=",{"$f":"RANDBETWEEN(11,19)","v":14},null,null,null,null,null,null,null,null,{"$f":"CONCATENATE(F10,\" \",G10,\" \",H10,\" \",I10,\" \",J10,\" \",K10,\" \",L10,\" \",M10,\" \",N10,\" \",O10,\" \",P10,\" \",Q10,\" \",R10)","v":"Fill in the missing number:    9 + _____ = 14       "},{"$f":"K10-G10","v":5},null,null,null,null,null,null,null,null,{"$f":"IF(OR(ISNA(U10),ISNA(V10),ISNA(W10),ISNA(X10),ISNA(Y10),ISNA(Z10),ISNA(AA10),ISNA(AB10),ISNA(AC10)),NA(),CONCATENATE(U10,V10,W10,X10,Y10,Z10,AA10,AB10))","v":"5"},{"$f":"IF(ISNA(AD10),FALSE,IF(C10=$B$1,Worksheet!$B$3,IF(C10=$C$1,Worksheet!$B$4,IF(C10=$D$1,Worksheet!$B$5,IF(C10=$E$1,Worksheet!$B$6,IF(C10=$B$2,Worksheet!$B$7,IF(C10=$C$2,Worksheet!$D$3,IF(C10=$D$2,Worksheet!$D$4,IF(C10=$E$2,Worksheet!$D$5,IF(C10=$C$3,Worksheet!$D$6,IF(C10=$B$3,Worksheet!$D$7,FALSE)))))))))))","v":true},{"$f":"IF(AE10,D10,\"\")","v":"Medium"},{"$f":"IF(AE10,COUNTIF($AF$5:AF10,AF10),\"X\")","v":3},{"$f":"CONCATENATE(AE10,AF10)","v":"TRUEMedium"}]
[{"$f":"CONCATENATE(AE11,D11,AG11)","v":"TRUEMedium4"},{"$f":"RAND()","v":0.56654838567286903},"Num","Medium",147,"Write these amounts of money in order from",{"$f":"CHOOSE(RANDBETWEEN(1,2),\"smallest to biggest:\",\"biggest to smallest:\")","v":"smallest to biggest:"},{"$f":"R11+S11/100","v":4.0599999999999996},{"$f":"R11+S11/10","v":4.5999999999999996},{"$f":"R11+S11/10+S11/100","v":4.6599999999999993},{"$f":"R11+S11/10+R11/100","v":4.6399999999999997},null,null,null,null,null,null,{"$f":"RANDBETWEEN(1,9)","v":4},{"$f":"RANDBETWEEN(1,9)","v":6},{"$f":"CONCATENATE(F11,\" \",G11,\"  £ \",H11,\",  £\",I11,\",  £\",J11,\",  £\",K11,\" \",L11,\" \",M11,\" \",N11,\" \",O11,\" \",P11,\" \",Q11)","v":"Write these amounts of money in order from smallest to biggest:  £ 4.06,  £4.6,  £4.66,  £4.64      "},{"$f":"IF($G11=\"smallest to biggest:\",LARGE($H11:$K11,4),LARGE($H11:$K11,1))","v":4.0599999999999996},{"$f":"IF($G11=\"smallest to biggest:\",LARGE($H11:$K11,3),LARGE($H11:$K11,2))","v":4.5999999999999996},{"$f":"IF($G11=\"smallest to biggest:\",LARGE($H11:$K11,2),LARGE($H11:$K11,3))","v":4.6399999999999997},{"$f":"IF($G11=\"smallest to biggest:\",LARGE($H11:$K11,1),LARGE($H11:$K11,4))","v":4.6599999999999993},null,{"$f":"IF(OR(H11=I11,H11=J11,H11=K11,I11=J11,I11=K11,J11=K11),NA(),\"\")","v":""},null,null,null,{"$f":"IF(OR(ISNA(U11),ISNA(V11),ISNA(W11),ISNA(X11),ISNA(Y11),ISNA(Z11),ISNA(AA11),ISNA(AB11),ISNA(AC11)),NA(),CONCATENATE(\"£\",U11,\",  £\",V11,\",  £\",W11,\",  £\",X11,Y11,Z11,AA11,AB11))","v":"£4.06,  £4.6,  £4.64,  £4.66"},{"$f":"IF(ISNA(AD11),FALSE,IF(C11=$B$1,Worksheet!$B$3,IF(C11=$C$1,Worksheet!$B$4,IF(C11=$D$1,Worksheet!$B$5,IF(C11=$E$1,Worksheet!$B$6,IF(C11=$B$2,Worksheet!$B$7,IF(C11=$C$2,Worksheet!$D$3,IF(C11=$D$2,Worksheet!$D$4,IF(C11=$E$2,Worksheet!$D$5,IF(C11=$C$3,Worksheet!$D$6,IF(C11=$B$3,Worksheet!$D$7,FALSE)))))))))))","v":true},{"$f":"IF(AE11,D11,\"\")","v":"Medium"},{"$f":"IF(AE11,COUNTIF($AF$5:AF11,AF11),\"X\")","v":4},{"$f":"CONCATENATE(AE11,AF11)","v":"TRUEMedium"}]
[{"$f":"CONCATENATE(AE12,D12,AG12)","v":"TRUEMedium5"},{"$f":"RAND()","v":0.63807951447623068},"Divide","Medium",87,"What is half of ",{"$f":"2*RANDBETWEEN(6,10)","v":12},"?",null,null,null,null,null,null,null,null,null,null,null,{"$f":"CONCATENATE(F12,\" \",G12,\"\",H12,\" \",I12,\" \",J12,\" \",K12,\" \",L12,\" \",M12,\" \",N12,\" \",O12,\" \",P12,\" \",Q12,\" \",R12)","v":"What is half of  12?          "},{"$f":"G12/2","v":6},null,null,null,null,null,null,null,null,{"$f":"IF(OR(ISNA(U12),ISNA(V12),ISNA(W12),ISNA(X12),ISNA(Y12),ISNA(Z12),ISNA(AA12),ISNA(AB12),ISNA(AC12)),NA(),CONCATENATE(U12,V12,W12,X12,Y12,Z12,AA12,AB12))","v":"6"},{"$f":"IF(ISNA(AD12),FALSE,IF(C12=$B$1,Worksheet!$B$3,IF(C12=$C$1,Worksheet!$B$4,IF(C12=$D$1,Worksheet!$B$5,IF(C12=$E$1,Worksheet!$B$6,IF(C12=$B$2,Worksheet!$B$7,IF(C12=$C$2,Worksheet!$D$3,IF(C12=$D$2,Worksheet!$D$4,IF(C12=$E$2,Worksheet!$D$5,IF(C12=$C$3,Worksheet!$D$6,IF(C12=$B$3,Worksheet!$D$7,FALSE)))))))))))","v":true},{"$f":"IF(AE12,D12,\"\")","v":"Medium"},{"$f":"IF(AE12,COUNTIF($AF$5:AF12,AF12),\"X\")","v":5},{"$f":"CONCATENATE(AE12,AF12)","v":"TRUEMedium"}]
[{"$f":"CONCATENATE(AE13,D13,AG13)","v":"TRUEHard2"},{"$f":"RAND()","v":0.55998489626725179},"Mult","Hard",83,"Multiply",{"$f":"RANDBETWEEN(101,999)","v":625},"×",10,null,null,null,null,null,null,null,null,null,null,{"$f":"CONCATENATE(F13,\" \",G13,\" \",H13,\" \",I13,\" \",J13,\" \",K13,\" \",L13,\" \",M13,\" \",N13,\" \",O13,\" \",P13,\" \",Q13,\" \",R13)","v":"Multiply 625 × 10         "},{"$f":"G13*I13","v":6250},null,null,null,null,null,null,null,null,{"$f":"IF(OR(ISNA(U13),ISNA(V13),ISNA(W13),ISNA(X13),ISNA(Y13),ISNA(Z13),ISNA(AA13),ISNA(AB13),ISNA(AC13)),NA(),CONCATENATE(U13,V13,W13,X13,Y13,Z13,AA13,AB13))","v":"6250"},{"$f":"IF(ISNA(AD13),FALSE,IF(C13=$B$1,Worksheet!$B$3,IF(C13=$C$1,Worksheet!$B$4,IF(C13=$D$1,Worksheet!$B$5,IF(C13=$E$1,Worksheet!$B$6,IF(C13=$B$2,Worksheet!$B$7,IF(C13=$C$2,Worksheet!$D$3,IF(C13=$D$2,Worksheet!$D$4,IF(C13=$E$2,Worksheet!$D$5,IF(C13=$C$3,Worksheet!$D$6,IF(C13=$B$3,Worksheet!$D$7,FALSE)))))))))))","v":true},{"$f":"IF(AE13,D13,\"\")","v":"Hard"},{"$f":"IF(AE13,COUNTIF($AF$5:AF13,AF13),\"X\")","v":2},{"$f":"CONCATENATE(AE13,AF13)","v":"TRUEHard"}]
[{"$f":"CONCATENATE(AE14,D14,AG14)","v":"TRUEEasy3"},{"$f":"RAND()","v":0.39786725640036946},"%","Easy",149,"What does 100% mean?",null,null,null,null,null,null,null,null,null,null,null,null,null,{"$f":"CONCATENATE(F14,\" \",G14,\" \",H14,\" \",I14,\" \",J14,\" \",K14,\" \",L14,\" \",M14,\" \",N14,\" \",O14,\" \",P14,\" \",Q14,\" \",R14)","v":"What does 100% mean?            "},"all",null,null,null,null,null,null,null,null,{"$f":"IF(OR(ISNA(U14),ISNA(V14),ISNA(W14),ISNA(X14),ISNA(Y14),ISNA(Z14),ISNA(AA14),ISNA(AB14),ISNA(AC14)),NA(),CONCATENATE(U14,V14,W14,X14,Y14,Z14,AA14,AB14))","v":"all"},{"$f":"IF(ISNA(AD14),FALSE,IF(C14=$B$1,Worksheet!$B$3,IF(C14=$C$1,Worksheet!$B$4,IF(C14=$D$1,Worksheet!$B$5,IF(C14=$E$1,Worksheet!$B$6,IF(C14=$B$2,Worksheet!$B$7,IF(C14=$C$2,Worksheet!$D$3,IF(C14=$D$2,Worksheet!$D$4,IF(C14=$E$2,Worksheet!$D$5,IF(C14=$C$3,Worksheet!$D$6,IF(C14=$B$3,Worksheet!$D$7,FALSE)))))))))))","v":true},{"$f":"IF(AE14,D14,\"\")","v":"Easy"},{"$f":"IF(AE14,COUNTIF($AF$5:AF14,AF14),\"X\")","v":3},{"$f":"CONCATENATE(AE14,AF14)","v":"TRUEEasy"}]
[{"$f":"CONCATENATE(AE15,D15,AG15)","v":"TRUEEasy4"},{"$f":"RAND()","v":0.80583272152145968},"Num","Easy",10,"Fill in the missing numbers:   ",{"$f":"RANDBETWEEN(11,95)*10","v":250},{"$f":"G15+S15","v":240},{"$f":"H15+S15","v":230},"____","____",{"$f":"V15+S15","v":200},{"$f":"L15+S15","v":190},null,null,null,null,null,-10,{"$f":"CONCATENATE(F15,\" \",G15,\",   \",H15,\",   \",I15,\",   \",J15,\",   \",K15,\",   \",L15,\",   \",M15,\" \",N15,\" \",O15,\" \",P15,\" \",Q15,\" \",R15)","v":"Fill in the missing numbers:    250,   240,   230,   ____,   ____,   200,   190     "},{"$f":"I15+S15","v":220},{"$f":"U15+S15","v":210},null,null,null,null,null,null,null,{"$f":"IF(OR(ISNA(U15),ISNA(V15),ISNA(W15),ISNA(X15),ISNA(Y15),ISNA(Z15),ISNA(AA15),ISNA(AB15),ISNA(AC15)),NA(),CONCATENATE(U15,\",   \",V15,W15,X15,Y15,Z15,AA15,AB15))","v":"220,   210"},{"$f":"IF(ISNA(AD15),FALSE,IF(C15=$B$1,Worksheet!$B$3,IF(C15=$C$1,Worksheet!$B$4,IF(C15=$D$1,Worksheet!$B$5,IF(C15=$E$1,Worksheet!$B$6,IF(C15=$B$2,Worksheet!$B$7,IF(C15=$C$2,Worksheet!$D$3,IF(C15=$D$2,Worksheet!$D$4,IF(C15=$E$2,Worksheet!$D$5,IF(C15=$C$3,Worksheet!$D$6,IF(C15=$B$3,Worksheet!$D$7,FALSE)))))))))))","v":true},{"$f":"IF(AE15,D15,\"\")","v":"Easy"},{"$f":"IF(AE15,COUNTIF($AF$5:AF15,AF15),\"X\")","v":4},{"$f":"CONCATENATE(AE15,AF15)","v":"TRUEEasy"}]
[{"$f":"CONCATENATE(AE16,D16,AG16)","v":"TRUEMedium6"},{"$f":"RAND()","v":0.38573700582627213},"Num","Medium",17,"Fill in the missing numbers:   ",{"$f":"RANDBETWEEN(7,9)*100+RANDBETWEEN(1,99)","v":739},{"$f":"G16+S16","v":639},{"$f":"H16+S16","v":539},"____","____",{"$f":"V16+S16","v":239},{"$f":"L16+S16","v":139},null,null,null,null,null,-100,{"$f":"CONCATENATE(F16,\" \",G16,\",   \",H16,\",   \",I16,\",   \",J16,\",   \",K16,\",   \",L16,\",   \",M16,\" \",N16,\" \",O16,\" \",P16,\" \",Q16,\" \",R16)","v":"Fill in the missing numbers:    739,   639,   539,   ____,   ____,   239,   139     "},{"$f":"I16+S16","v":439},{"$f":"U16+S16","v":339},null,null,null,null,null,null,null,{"$f":"IF(OR(ISNA(U16),ISNA(V16),ISNA(W16),ISNA(X16),ISNA(Y16),ISNA(Z16),ISNA(AA16),ISNA(AB16),ISNA(AC16)),NA(),CONCATENATE(U16,\",   \",V16,W16,X16,Y16,Z16,AA16,AB16))","v":"439,   339"},{"$f":"IF(ISNA(AD16),FALSE,IF(C16=$B$1,Worksheet!$B$3,IF(C16=$C$1,Worksheet!$B$4,IF(C16=$D$1,Worksheet!$B$5,IF(C16=$E$1,Worksheet!$B$6,IF(C16=$B$2,Worksheet!$B$7,IF(C16=$C$2,Worksheet!$D$3,IF(C16=$D$2,Worksheet!$D$4,IF(C16=$E$2,Worksheet!$D$5,IF(C16=$C$3,Worksheet!$D$6,IF(C16=$B$3,Worksheet!$D$7,FALSE)))))))))))","v":true},{"$f":"IF(AE16,D16,\"\")","v":"Medium"},{"$f":"IF(AE16,COUNTIF($AF$5:AF16,AF16),\"X\")","v":6},{"$f":"CONCATENATE(AE16,AF16)","v":"TRUEMedium"}]
[{"$f":"CONCATENATE(AE17,D17,AG17)","v":"TRUEHard3"},{"$f":"RAND()","v":0.29267252451713921},"Mult","Hard",78,"What is",{"$f":"RANDBETWEEN(6,9)","v":7},"×",{"$f":"RANDBETWEEN(6,9)","v":6},"?",null,null,null,null,null,null,null,null,null,{"$f":"CONCATENATE(F17,\" \",G17,\" \",H17,\" \",I17,\" \",J17,\" \",K17,\" \",L17,\" \",M17,\" \",N17,\" \",O17,\" \",P17,\" \",Q17,\" \",R17)","v":"What is 7 × 6 ?        "},{"$f":"G17*I17","v":42},null,null,null,null,null,null,null,null,{"$f":"IF(OR(ISNA(U17),ISNA(V17),ISNA(W17),ISNA(X17),ISNA(Y17),ISNA(Z17),ISNA(AA17),ISNA(AB17),ISNA(AC17)),NA(),CONCATENATE(U17,V17,W17,X17,Y17,Z17,AA17,AB17))","v":"42"},{"$f":"IF(ISNA(AD17),FALSE,IF(C17=$B$1,Worksheet!$B$3,IF(C17=$C$1,Worksheet!$B$4,IF(C17=$D$1,Worksheet!$B$5,IF(C17=$E$1,Worksheet!$B$6,IF(C17=$B$2,Worksheet!$B$7,IF(C17=$C$2,Worksheet!$D$3,IF(C17=$D$2,Worksheet!$D$4,IF(C17=$E$2,Worksheet!$D$5,IF(C17=$C$3,Worksheet!$D$6,IF(C17=$B$3,Worksheet!$D$7,FALSE)))))))))))","v":true},{"$f":"IF(AE17,D17,\"\")","v":"Hard"},{"$f":"IF(AE17,COUNTIF($AF$5:AF17,AF17),\"X\")","v":3},{"$f":"CONCATENATE(AE17,AF17)","v":"TRUEHard"}]
[{"$f":"CONCATENATE(AE18,D18,AG18)","v":"TRUEEasy5"},{"$f":"RAND()","v":0.84898408358163224},"Frac","Easy",120,"Fractions.   What is ","1/4","of",{"$f":"4*RANDBETWEEN(2,5)","v":8},"?",null,null,null,null,null,null,null,null,null,{"$f":"CONCATENATE(F18,\" \",G18,\" \",H18,\" \",I18,\" \",J18,\" \",K18,\" \",L18,\" \",M18,\" \",N18,\" \",O18,\" \",P18,\" \",Q18,\" \",R18)","v":"Fractions.   What is  1/4 of 8 ?        "},{"$f":"I18/4","v":2},null,null,null,null,null,null,null,null,{"$f":"IF(OR(ISNA(U18),ISNA(V18),ISNA(W18),ISNA(X18),ISNA(Y18),ISNA(Z18),ISNA(AA18),ISNA(AB18),ISNA(AC18)),NA(),CONCATENATE(U18,V18,W18,X18,Y18,Z18,AA18,AB18))","v":"2"},{"$f":"IF(ISNA(AD18),FALSE,IF(C18=$B$1,Worksheet!$B$3,IF(C18=$C$1,Worksheet!$B$4,IF(C18=$D$1,Worksheet!$B$5,IF(C18=$E$1,Worksheet!$B$6,IF(C18=$B$2,Worksheet!$B$7,IF(C18=$C$2,Worksheet!$D$3,IF(C18=$D$2,Worksheet!$D$4,IF(C18=$E$2,Worksheet!$D$5,IF(C18=$C$3,Worksheet!$D$6,IF(C18=$B$3,Worksheet!$D$7,FALSE)))))))))))","v":true},{"$f":"IF(AE18,D18,\"\")","v":"Easy"},{"$f":"IF(AE18,COUNTIF($AF$5:AF18,AF18),\"X\")","v":5},{"$f":"CONCATENATE(AE18,AF18)","v":"TRUEEasy"}]
[{"$f":"CONCATENATE(AE19,D19,AG19)","v":"TRUEEasy6"},{"$f":"RAND()","v":0.49016124876831346},"Choose","Easy",108,"A boy buys three sweets costing",{"$f":"RANDBETWEEN(3,10)","v":8},{"$f":"RANDBETWEEN(3,10)","v":5},"and",{"$f":"RANDBETWEEN(3,10)","v":10},".  How much do they cost in total?",null,null,null,null,null,null,null,null,{"$f":"CONCATENATE(F19,\" \",G19,\"p, \",H19,\"p \",I19,\" \",J19,\"p. \",K19,\" \",L19,\" \",M19,\" \",N19,\" \",O19,\" \",P19,\" \",Q19,\" \",R19)","v":"A boy buys three sweets costing 8p, 5p and 10p. .  How much do they cost in total?       "},{"$f":"G19+H19+J19","v":23},"p",null,null,null,null,null,null,null,{"$f":"IF(OR(ISNA(U19),ISNA(V19),ISNA(W19),ISNA(X19),ISNA(Y19),ISNA(Z19),ISNA(AA19),ISNA(AB19),ISNA(AC19)),NA(),CONCATENATE(U19,V19,W19,X19,Y19,Z19,AA19,AB19))","v":"23p"},{"$f":"IF(ISNA(AD19),FALSE,IF(C19=$B$1,Worksheet!$B$3,IF(C19=$C$1,Worksheet!$B$4,IF(C19=$D$1,Worksheet!$B$5,IF(C19=$E$1,Worksheet!$B$6,IF(C19=$B$2,Worksheet!$B$7,IF(C19=$C$2,Worksheet!$D$3,IF(C19=$D$2,Worksheet!$D$4,IF(C19=$E$2,Worksheet!$D$5,IF(C19=$C$3,Worksheet!$D$6,IF(C19=$B$3,Worksheet!$D$7,FALSE)))))))))))","v":true},{"$f":"IF(AE19,D19,\"\")","v":"Easy"},{"$f":"IF(AE19,COUNTIF($AF$5:AF19,AF19),\"X\")","v":6},{"$f":"CONCATENATE(AE19,AF19)","v":"TRUEEasy"}]
[{"$f":"CONCATENATE(AE20,D20,AG20)","v":"TRUEEasy7"},{"$f":"RAND()","v":0.33082352512293978},"+-","Easy",44,"Fill in the missing number:   ",{"$f":"RANDBETWEEN(1,8)*10+RANDBETWEEN(1,9)","v":14},"+ ____ = ",{"$f":"INT(G20/10)*10+10","v":20},null,null,null,null,null,null,null,null,null,null,{"$f":"CONCATENATE(F20,\" \",G20,\" \",H20,\" \",I20,\" \",J20,\" \",K20,\" \",L20,\" \",M20,\" \",N20,\" \",O20,\" \",P20,\" \",Q20,\" \",R20)","v":"Fill in the missing number:    14 + ____ =  20         "},{"$f":"I20-G20","v":6},null,null,null,null,null,null,null,null,{"$f":"IF(OR(ISNA(U20),ISNA(V20),ISNA(W20),ISNA(X20),ISNA(Y20),ISNA(Z20),ISNA(AA20),ISNA(AB20),ISNA(AC20)),NA(),CONCATENATE(U20,V20,W20,X20,Y20,Z20,AA20,AB20))","v":"6"},{"$f":"IF(ISNA(AD20),FALSE,IF(C20=$B$1,Worksheet!$B$3,IF(C20=$C$1,Worksheet!$B$4,IF(C20=$D$1,Worksheet!$B$5,IF(C20=$E$1,Worksheet!$B$6,IF(C20=$B$2,Worksheet!$B$7,IF(C20=$C$2,Worksheet!$D$3,IF(C20=$D$2,Worksheet!$D$4,IF(C20=$E$2,Worksheet!$D$5,IF(C20=$C$3,Worksheet!$D$6,IF(C20=$B$3,Worksheet!$D$7,FALSE)))))))))))","v":true},{"$f":"IF(AE20,D20,\"\")","v":"Easy"},{"$f":"IF(AE20,COUNTIF($AF$5:AF20,AF20),\"X\")","v":7},{"$f":"CONCATENATE(AE20,AF20)","v":"TRUEEasy"}]
[{"$f":"CONCATENATE(AE21,D21,AG21)","v":"TRUEHard4"},{"$f":"RAND()","v":0.74931820989062115},"Mult","Hard",84,"Multiply",10,"×",{"$f":"RANDBETWEEN(101,999)","v":705},null,null,null,null,null,null,null,null,null,null,{"$f":"CONCATENATE(F21,\" \",G21,\" \",H21,\" \",I21,\" \",J21,\" \",K21,\" \",L21,\" \",M21,\" \",N21,\" \",O21,\" \",P21,\" \",Q21,\" \",R21)","v":"Multiply 10 × 705         "},{"$f":"G21*I21","v":7050},null,null,null,null,null,null,null,null,{"$f":"IF(OR(ISNA(U21),ISNA(V21),ISNA(W21),ISNA(X21),ISNA(Y21),ISNA(Z21),ISNA(AA21),ISNA(AB21),ISNA(AC21)),NA(),CONCATENATE(U21,V21,W21,X21,Y21,Z21,AA21,AB21))","v":"7050"},{"$f":"IF(ISNA(AD21),FALSE,IF(C21=$B$1,Worksheet!$B$3,IF(C21=$C$1,Worksheet!$B$4,IF(C21=$D$1,Worksheet!$B$5,IF(C21=$E$1,Worksheet!$B$6,IF(C21=$B$2,Worksheet!$B$7,IF(C21=$C$2,Worksheet!$D$3,IF(C21=$D$2,Worksheet!$D$4,IF(C21=$E$2,Worksheet!$D$5,IF(C21=$C$3,Worksheet!$D$6,IF(C21=$B$3,Worksheet!$D$7,FALSE)))))))))))","v":true},{"$f":"IF(AE21,D21,\"\")","v":"Hard"},{"$f":"IF(AE21,COUNTIF($AF$5:AF21,AF21),\"X\")","v":4},{"$f":"CONCATENATE(AE21,AF21)","v":"TRUEHard"}]
[{"$f":"CONCATENATE(AE22,D22,AG22)","v":"TRUEMedium7"},{"$f":"RAND()","v":0.17236507868473439},"Dec","Medium",146,"Fill in the blank:  ","£",{"$f":"RANDBETWEEN(1,9)","v":1},".",{"$f":"RANDBETWEEN(1,9)","v":9},null,"=","_____ pounds and ______ pence",null,null,null,null,null,null,{"$f":"CONCATENATE(F22,\" \",G22,\"\",H22,\"\",I22,\"\",J22,\"\",K22,\" \",L22,\" \",M22,\" \",N22,\" \",O22,\" \",P22,\" \",Q22,\" \",R22)","v":"Fill in the blank:   £1.9 = _____ pounds and ______ pence     "},{"$f":"H22","v":1}," pounds and ",{"$f":"J22*10","v":90}," pence",null,null,null,null,null,{"$f":"IF(OR(ISNA(U22),ISNA(V22),ISNA(W22),ISNA(X22),ISNA(Y22),ISNA(Z22),ISNA(AA22),ISNA(AB22),ISNA(AC22)),NA(),CONCATENATE(U22,V22,W22,X22,Y22,Z22,AA22,AB22))","v":"1 pounds and 90 pence"},{"$f":"IF(ISNA(AD22),FALSE,IF(C22=$B$1,Worksheet!$B$3,IF(C22=$C$1,Worksheet!$B$4,IF(C22=$D$1,Worksheet!$B$5,IF(C22=$E$1,Worksheet!$B$6,IF(C22=$B$2,Worksheet!$B$7,IF(C22=$C$2,Worksheet!$D$3,IF(C22=$D$2,Worksheet!$D$4,IF(C22=$E$2,Worksheet!$D$5,IF(C22=$C$3,Worksheet!$D$6,IF(C22=$B$3,Worksheet!$D$7,FALSE)))))))))))","v":true},{"$f":"IF(AE22,D22,\"\")","v":"Medium"},{"$f":"IF(AE22,COUNTIF($AF$5:AF22,AF22),\"X\")","v":7},{"$f":"CONCATENATE(AE22,AF22)","v":"TRUEMedium"}]
[{"$f":"CONCATENATE(AE23,D23,AG23)","v":"TRUEEasy8"},{"$f":"RAND()","v":7.4856088803362475E-2},"Divide","Easy",93,"Divide:   ",{"$f":"2*RANDBETWEEN(1,10)","v":14},"÷",2,null,null,null,null,null,null,null,null,null,null,{"$f":"CONCATENATE(F23,\" \",G23,\" \",H23,\" \",I23,\" \",J23,\" \",K23,\" \",L23,\" \",M23,\" \",N23,\" \",O23,\" \",P23,\" \",Q23,\" \",R23)","v":"Divide:    14 ÷ 2         "},{"$f":"G23/I23","v":7},null,null,null,null,null,null,null,null,{"$f":"IF(OR(ISNA(U23),ISNA(V23),ISNA(W23),ISNA(X23),ISNA(Y23),ISNA(Z23),ISNA(AA23),ISNA(AB23),ISNA(AC23)),NA(),CONCATENATE(U23,V23,W23,X23,Y23,Z23,AA23,AB23))","v":"7"},{"$f":"IF(ISNA(AD23),FALSE,IF(C23=$B$1,Worksheet!$B$3,IF(C23=$C$1,Worksheet!$B$4,IF(C23=$D$1,Worksheet!$B$5,IF(C23=$E$1,Worksheet!$B$6,IF(C23=$B$2,Worksheet!$B$7,IF(C23=$C$2,Worksheet!$D$3,IF(C23=$D$2,Worksheet!$D$4,IF(C23=$E$2,Worksheet!$D$5,IF(C23=$C$3,Worksheet!$D$6,IF(C23=$B$3,Worksheet!$D$7,FALSE)))))))))))","v":true},{"$f":"IF(AE23,D23,\"\")","v":"Easy"},{"$f":"IF(AE23,COUNTIF($AF$5:AF23,AF23),\"X\")","v":8},{"$f":"CONCATENATE(AE23,AF23)","v":"TRUEEasy"}]
[{"$f":"CONCATENATE(AE24,D24,AG24)","v":"TRUEHard5"},{"$f":"RAND()","v":0.24663724780437712},"+-","Hard",68,"Write down a chimney sum to take away:",{"$f":"RANDBETWEEN(2,9)*100","v":400},"–",{"$f":"RANDBETWEEN(11,INT((G24-10)/10))*10+RANDBETWEEN(1,9)","v":309},null,null,null,null,null,null,null,null,null,null,{"$f":"CONCATENATE(F24,\" \",G24,\" \",H24,\" \",I24,\" \",J24,\" \",K24,\" \",L24,\" \",M24,\" \",N24,\" \",O24,\" \",P24,\" \",Q24,\" \",R24)","v":"Write down a chimney sum to take away: 400 – 309         "},{"$f":"G24-I24","v":91},null,null,null,null,null,null,null,null,{"$f":"IF(OR(ISNA(U24),ISNA(V24),ISNA(W24),ISNA(X24),ISNA(Y24),ISNA(Z24),ISNA(AA24),ISNA(AB24),ISNA(AC24)),NA(),CONCATENATE(U24,V24,W24,X24,Y24,Z24,AA24,AB24))","v":"91"},{"$f":"IF(ISNA(AD24),FALSE,IF(C24=$B$1,Worksheet!$B$3,IF(C24=$C$1,Worksheet!$B$4,IF(C24=$D$1,Worksheet!$B$5,IF(C24=$E$1,Worksheet!$B$6,IF(C24=$B$2,Worksheet!$B$7,IF(C24=$C$2,Worksheet!$D$3,IF(C24=$D$2,Worksheet!$D$4,IF(C24=$E$2,Worksheet!$D$5,IF(C24=$C$3,Worksheet!$D$6,IF(C24=$B$3,Worksheet!$D$7,FALSE)))))))))))","v":true},{"$f":"IF(AE24,D24,\"\")","v":"Hard"},{"$f":"IF(AE24,COUNTIF($AF$5:AF24,AF24),\"X\")","v":5},{"$f":"CONCATENATE(AE24,AF24)","v":"TRUEHard"}]
[{"$f":"CONCATENATE(AE25,D25,AG25)","v":"TRUEEasy9"},{"$f":"RAND()","v":0.68336426399997208},"Mult","Easy",80,"Multiply",10,"×",{"$f":"RANDBETWEEN(2,10)","v":10},null,null,null,null,null,null,null,null,null,null,{"$f":"CONCATENATE(F25,\" \",G25,\" \",H25,\" \",I25,\" \",J25,\" \",K25,\" \",L25,\" \",M25,\" \",N25,\" \",O25,\" \",P25,\" \",Q25,\" \",R25)","v":"Multiply 10 × 10         "},{"$f":"G25*I25","v":100},null,null,null,null,null,null,null,null,{"$f":"IF(OR(ISNA(U25),ISNA(V25),ISNA(W25),ISNA(X25),ISNA(Y25),ISNA(Z25),ISNA(AA25),ISNA(AB25),ISNA(AC25)),NA(),CONCATENATE(U25,V25,W25,X25,Y25,Z25,AA25,AB25))","v":"100"},{"$f":"IF(ISNA(AD25),FALSE,IF(C25=$B$1,Worksheet!$B$3,IF(C25=$C$1,Worksheet!$B$4,IF(C25=$D$1,Worksheet!$B$5,IF(C25=$E$1,Worksheet!$B$6,IF(C25=$B$2,Worksheet!$B$7,IF(C25=$C$2,Worksheet!$D$3,IF(C25=$D$2,Worksheet!$D$4,IF(C25=$E$2,Worksheet!$D$5,IF(C25=$C$3,Worksheet!$D$6,IF(C25=$B$3,Worksheet!$D$7,FALSE)))))))))))","v":true},{"$f":"IF(AE25,D25,\"\")","v":"Easy"},{"$f":"IF(AE25,COUNTIF($AF$5:AF25,AF25),\"X\")","v":9},{"$f":"CONCATENATE(AE25,AF25)","v":"TRUEEasy"}]
[{"$f":"CONCATENATE(AE26,D26,AG26)","v":"TRUEEasy10"},{"$f":"RAND()","v":0.59597355340480618},"Round","Easy",161,"Round",{"$f":"RANDBETWEEN(1,9)*10+RANDBETWEEN(1,9)","v":49},"to the nearest ten",null,null,null,null,null,null,null,null,null,null,null,{"$f":"CONCATENATE(F26,\" \",G26,\" \",H26,\" \",I26,\" \",J26,\" \",K26,\" \",L26,\" \",M26,\" \",N26,\" \",O26,\" \",P26,\" \",Q26,\" \",R26)","v":"Round 49 to the nearest ten          "},{"$f":"MROUND(G26,10)","v":50},null,null,null,null,null,null,null,null,{"$f":"IF(OR(ISNA(U26),ISNA(V26),ISNA(W26),ISNA(X26),ISNA(Y26),ISNA(Z26),ISNA(AA26),ISNA(AB26),ISNA(AC26)),NA(),CONCATENATE(U26,V26,W26,X26,Y26,Z26,AA26,AB26))","v":"50"},{"$f":"IF(ISNA(AD26),FALSE,IF(C26=$B$1,Worksheet!$B$3,IF(C26=$C$1,Worksheet!$B$4,IF(C26=$D$1,Worksheet!$B$5,IF(C26=$E$1,Worksheet!$B$6,IF(C26=$B$2,Worksheet!$B$7,IF(C26=$C$2,Worksheet!$D$3,IF(C26=$D$2,Worksheet!$D$4,IF(C26=$E$2,Worksheet!$D$5,IF(C26=$C$3,Worksheet!$D$6,IF(C26=$B$3,Worksheet!$D$7,FALSE)))))))))))","v":true},{"$f":"IF(AE26,D26,\"\")","v":"Easy"},{"$f":"IF(AE26,COUNTIF($AF$5:AF26,AF26),\"X\")","v":10},{"$f":"CONCATENATE(AE26,AF26)","v":"TRUEEasy"}]
[{"$f":"CONCATENATE(AE27,D27,AG27)","v":"TRUEEasy11"},{"$f":"RAND()","v":0.52119006550844604},"+-","Easy",51,{"$f":"RANDBETWEEN(11,15)","v":13},"–",{"$f":"RANDBETWEEN(6,9)","v":9},null,null,null,null,null,null,null,null,null,null,null,{"$f":"CONCATENATE(F27,\" \",G27,\" \",H27,\" \",I27,\" \",J27,\" \",K27,\" \",L27,\" \",M27,\" \",N27,\" \",O27,\" \",P27,\" \",Q27,\" \",R27)","v":"13 – 9          "},{"$f":"F27-H27","v":4},null,null,null,null,null,null,null,null,{"$f":"IF(OR(ISNA(U27),ISNA(V27),ISNA(W27),ISNA(X27),ISNA(Y27),ISNA(Z27),ISNA(AA27),ISNA(AB27),ISNA(AC27)),NA(),CONCATENATE(U27,V27,W27,X27,Y27,Z27,AA27,AB27))","v":"4"},{"$f":"IF(ISNA(AD27),FALSE,IF(C27=$B$1,Worksheet!$B$3,IF(C27=$C$1,Worksheet!$B$4,IF(C27=$D$1,Worksheet!$B$5,IF(C27=$E$1,Worksheet!$B$6,IF(C27=$B$2,Worksheet!$B$7,IF(C27=$C$2,Worksheet!$D$3,IF(C27=$D$2,Worksheet!$D$4,IF(C27=$E$2,Worksheet!$D$5,IF(C27=$C$3,Worksheet!$D$6,IF(C27=$B$3,Worksheet!$D$7,FALSE)))))))))))","v":true},{"$f":"IF(AE27,D27,\"\")","v":"Easy"},{"$f":"IF(AE27,COUNTIF($AF$5:AF27,AF27),\"X\")","v":11},{"$f":"CONCATENATE(AE27,AF27)","v":"TRUEEasy"}]
[{"$f":"CONCATENATE(AE28,D28,AG28)","v":"TRUEMedium8"},{"$f":"RAND()","v":0.9270316683332237},"Mult","Medium",70,"Circle all the ",{"$f":"IF(RAND()<0.5,\"odd\",\"even\")","v":"even"},"numbers in this list:   ",{"$f":"RANDBETWEEN(1,99)","v":28},{"$f":"2*RANDBETWEEN(1,49)+1","v":39},{"$f":"RANDBETWEEN(1,99)","v":44},{"$f":"2*RANDBETWEEN(1,49)","v":52},{"$f":"RANDBETWEEN(1,99)","v":90},null,null,null,null,null,null,{"$f":"CONCATENATE(F28,\" \",G28,\" \",H28,\" \",I28,\",   \",J28,\",   \",K28,\",   \",L28,\",   \",M28,\" \",N28,\" \",O28,\" \",P28,\" \",Q28,\" \",R28)","v":"Circle all the  even numbers in this list:    28,   39,   44,   52,   90     "},{"$f":"IF(ISODD(I28),IF($G28=\"odd\",I28,\"\"),IF($G28=\"odd\",\"\",I28))","v":28},{"$f":"IF(ISODD(J28),IF($G28=\"odd\",J28,\"\"),IF($G28=\"odd\",\"\",J28))","v":""},{"$f":"IF(ISODD(K28),IF($G28=\"odd\",K28,\"\"),IF($G28=\"odd\",\"\",K28))","v":44},{"$f":"IF(ISODD(L28),IF($G28=\"odd\",L28,\"\"),IF($G28=\"odd\",\"\",L28))","v":52},{"$f":"IF(ISODD(M28),IF($G28=\"odd\",M28,\"\"),IF($G28=\"odd\",\"\",M28))","v":90},null,{"$f":"IF(OR(I28=J28,I28=K28,I28=L28,I28=M28,J28=K28,J28=L28,J28=M28,K28=L28,K28=M28,L28=M28),NA(),\"\")","v":""},null,null,{"$f":"IF(OR(ISNA(U28),ISNA(V28),ISNA(W28),ISNA(X28),ISNA(Y28),ISNA(Z28),ISNA(AA28),ISNA(AB28),ISNA(AC28)),NA(),CONCATENATE(U28,\"  \",V28,\"  \",W28,\"  \",X28,\"  \",Y28,Z28,AA28,AB28))","v":"28    44  52  90"},{"$f":"IF(ISNA(AD28),FALSE,IF(C28=$B$1,Worksheet!$B$3,IF(C28=$C$1,Worksheet!$B$4,IF(C28=$D$1,Worksheet!$B$5,IF(C28=$E$1,Worksheet!$B$6,IF(C28=$B$2,Worksheet!$B$7,IF(C28=$C$2,Worksheet!$D$3,IF(C28=$D$2,Worksheet!$D$4,IF(C28=$E$2,Worksheet!$D$5,IF(C28=$C$3,Worksheet!$D$6,IF(C28=$B$3,Worksheet!$D$7,FALSE)))))))))))","v":true},{"$f":"IF(AE28,D28,\"\")","v":"Medium"},{"$f":"IF(AE28,COUNTIF($AF$5:AF28,AF28),\"X\")","v":8},{"$f":"CONCATENATE(AE28,AF28)","v":"TRUEMedium"}]
[{"$f":"CONCATENATE(AE29,D29,AG29)","v":"TRUEMedium9"},{"$f":"RAND()","v":0.88689949582652827},"+-","Medium",61,"Take away:   ",{"$f":"RANDBETWEEN(2,8)*10+RANDBETWEEN(0,5)","v":32},"–",{"$f":"RANDBETWEEN(6,9)","v":8},null,null,null,null,null,null,null,null,null,null,{"$f":"CONCATENATE(F29,\" \",G29,\" \",H29,\" \",I29,\" \",J29,\" \",K29,\" \",L29,\" \",M29,\" \",N29,\" \",O29,\" \",P29,\" \",Q29,\" \",R29)","v":"Take away:    32 – 8         "},{"$f":"G29-I29","v":24},null,null,null,null,null,null,null,null,{"$f":"IF(OR(ISNA(U29),ISNA(V29),ISNA(W29),ISNA(X29),ISNA(Y29),ISNA(Z29),ISNA(AA29),ISNA(AB29),ISNA(AC29)),NA(),CONCATENATE(U29,V29,W29,X29,Y29,Z29,AA29,AB29))","v":"24"},{"$f":"IF(ISNA(AD29),FALSE,IF(C29=$B$1,Worksheet!$B$3,IF(C29=$C$1,Worksheet!$B$4,IF(C29=$D$1,Worksheet!$B$5,IF(C29=$E$1,Worksheet!$B$6,IF(C29=$B$2,Worksheet!$B$7,IF(C29=$C$2,Worksheet!$D$3,IF(C29=$D$2,Worksheet!$D$4,IF(C29=$E$2,Worksheet!$D$5,IF(C29=$C$3,Worksheet!$D$6,IF(C29=$B$3,Worksheet!$D$7,FALSE)))))))))))","v":true},{"$f":"IF(AE29,D29,\"\")","v":"Medium"},{"$f":"IF(AE29,COUNTIF($AF$5:AF29,AF29),\"X\")","v":9},{"$f":"CONCATENATE(AE29,AF29)","v":"TRUEMedium"}]
[{"$f":"CONCATENATE(AE30,D30,AG30)","v":"TRUEHard6"},{"$f":"RAND()","v":0.65402340993011288},"Frac","Hard",128,"Fractions.   What is ","1/2","of",{"$f":"2*RANDBETWEEN(8,12)","v":18},"?",null,null,null,null,null,null,null,null,null,{"$f":"CONCATENATE(F30,\" \",G30,\" \",H30,\" \",I30,\" \",J30,\" \",K30,\" \",L30,\" \",M30,\" \",N30,\" \",O30,\" \",P30,\" \",Q30,\" \",R30)","v":"Fractions.   What is  1/2 of 18 ?        "},{"$f":"I30/2","v":9},null,null,null,null,null,null,null,null,{"$f":"IF(OR(ISNA(U30),ISNA(V30),ISNA(W30),ISNA(X30),ISNA(Y30),ISNA(Z30),ISNA(AA30),ISNA(AB30),ISNA(AC30)),NA(),CONCATENATE(U30,V30,W30,X30,Y30,Z30,AA30,AB30))","v":"9"},{"$f":"IF(ISNA(AD30),FALSE,IF(C30=$B$1,Worksheet!$B$3,IF(C30=$C$1,Worksheet!$B$4,IF(C30=$D$1,Worksheet!$B$5,IF(C30=$E$1,Worksheet!$B$6,IF(C30=$B$2,Worksheet!$B$7,IF(C30=$C$2,Worksheet!$D$3,IF(C30=$D$2,Worksheet!$D$4,IF(C30=$E$2,Worksheet!$D$5,IF(C30=$C$3,Worksheet!$D$6,IF(C30=$B$3,Worksheet!$D$7,FALSE)))))))))))","v":true},{"$f":"IF(AE30,D30,\"\")","v":"Hard"},{"$f":"IF(AE30,COUNTIF($AF$5:AF30,AF30),\"X\")","v":6},{"$f":"CONCATENATE(AE30,AF30)","v":"TRUEHard"}]
[{"$f":"CONCATENATE(AE31,D31,AG31)","v":"TRUEMedium10"},{"$f":"RAND()","v":0.26920678653843222},"+-","Medium",67,"Write down a chimney sum to take away:",{"$f":"RANDBETWEEN(12,99)*10+RANDBETWEEN(0,5)","v":530},"–",{"$f":"RANDBETWEEN(9,INT(G31-10)/10-2)*10+RANDBETWEEN(6,9)","v":356},null,null,null,null,null,null,null,null,null,null,{"$f":"CONCATENATE(F31,\" \",G31,\" \",H31,\" \",I31,\" \",J31,\" \",K31,\" \",L31,\" \",M31,\" \",N31,\" \",O31,\" \",P31,\" \",Q31,\" \",R31)","v":"Write down a chimney sum to take away: 530 – 356         "},{"$f":"G31-I31","v":174},null,null,null,null,null,null,null,null,{"$f":"IF(OR(ISNA(U31),ISNA(V31),ISNA(W31),ISNA(X31),ISNA(Y31),ISNA(Z31),ISNA(AA31),ISNA(AB31),ISNA(AC31)),NA(),CONCATENATE(U31,V31,W31,X31,Y31,Z31,AA31,AB31))","v":"174"},{"$f":"IF(ISNA(AD31),FALSE,IF(C31=$B$1,Worksheet!$B$3,IF(C31=$C$1,Worksheet!$B$4,IF(C31=$D$1,Worksheet!$B$5,IF(C31=$E$1,Worksheet!$B$6,IF(C31=$B$2,Worksheet!$B$7,IF(C31=$C$2,Worksheet!$D$3,IF(C31=$D$2,Worksheet!$D$4,IF(C31=$E$2,Worksheet!$D$5,IF(C31=$C$3,Worksheet!$D$6,IF(C31=$B$3,Worksheet!$D$7,FALSE)))))))))))","v":true},{"$f":"IF(AE31,D31,\"\")","v":"Medium"},{"$f":"IF(AE31,COUNTIF($AF$5:AF31,AF31),\"X\")","v":10},{"$f":"CONCATENATE(AE31,AF31)","v":"TRUEMedium"}]
[{"$f":"CONCATENATE(AE32,D32,AG32)","v":"TRUEHard7"},{"$f":"RAND()","v":0.91604157460573121},"+-","Hard",63,"Take away:",{"$f":"RANDBETWEEN(2,6)*10","v":30},"–",{"$f":"RANDBETWEEN(1,G32/10-1)*10+RANDBETWEEN(1,9)","v":17},null,null,null,null,null,null,null,null,null,null,{"$f":"CONCATENATE(F32,\" \",G32,\" \",H32,\" \",I32,\" \",J32,\" \",K32,\" \",L32,\" \",M32,\" \",N32,\" \",O32,\" \",P32,\" \",Q32,\" \",R32)","v":"Take away: 30 – 17         "},{"$f":"G32-I32","v":13},null,null,null,null,null,null,null,null,{"$f":"IF(OR(ISNA(U32),ISNA(V32),ISNA(W32),ISNA(X32),ISNA(Y32),ISNA(Z32),ISNA(AA32),ISNA(AB32),ISNA(AC32)),NA(),CONCATENATE(U32,V32,W32,X32,Y32,Z32,AA32,AB32))","v":"13"},{"$f":"IF(ISNA(AD32),FALSE,IF(C32=$B$1,Worksheet!$B$3,IF(C32=$C$1,Worksheet!$B$4,IF(C32=$D$1,Worksheet!$B$5,IF(C32=$E$1,Worksheet!$B$6,IF(C32=$B$2,Worksheet!$B$7,IF(C32=$C$2,Worksheet!$D$3,IF(C32=$D$2,Worksheet!$D$4,IF(C32=$E$2,Worksheet!$D$5,IF(C32=$C$3,Worksheet!$D$6,IF(C32=$B$3,Worksheet!$D$7,FALSE)))))))))))","v":true},{"$f":"IF(AE32,D32,\"\")","v":"Hard"},{"$f":"IF(AE32,COUNTIF($AF$5:AF32,AF32),\"X\")","v":7},{"$f":"CONCATENATE(AE32,AF32)","v":"TRUEHard"}]
[{"$f":"CONCATENATE(AE33,D33,AG33)","v":"TRUEMedium11"},{"$f":"RAND()","v":0.65020498906746205},"Choose","Medium",105,"Out of a class of ",{"$f":"RANDBETWEEN(15,30)","v":23},"pupils, ",{"$f":"RANDBETWEEN(6,12)","v":12},"are off.  How many pupils are in class?",null,null,null,null,null,null,null,null,null,{"$f":"CONCATENATE(F33,\" \",G33,\" \",H33,\" \",I33,\" \",J33,\" \",K33,\" \",L33,\" \",M33,\" \",N33,\" \",O33,\" \",P33,\" \",Q33,\" \",R33)","v":"Out of a class of  23 pupils,  12 are off.  How many pupils are in class?        "},{"$f":"G33-I33","v":11},null,null,null,null,null,null,null,null,{"$f":"IF(OR(ISNA(U33),ISNA(V33),ISNA(W33),ISNA(X33),ISNA(Y33),ISNA(Z33),ISNA(AA33),ISNA(AB33),ISNA(AC33)),NA(),CONCATENATE(U33,V33,W33,X33,Y33,Z33,AA33,AB33))","v":"11"},{"$f":"IF(ISNA(AD33),FALSE,IF(C33=$B$1,Worksheet!$B$3,IF(C33=$C$1,Worksheet!$B$4,IF(C33=$D$1,Worksheet!$B$5,IF(C33=$E$1,Worksheet!$B$6,IF(C33=$B$2,Worksheet!$B$7,IF(C33=$C$2,Worksheet!$D$3,IF(C33=$D$2,Worksheet!$D$4,IF(C33=$E$2,Worksheet!$D$5,IF(C33=$C$3,Worksheet!$D$6,IF(C33=$B$3,Worksheet!$D$7,FALSE)))))))))))","v":true},{"$f":"IF(AE33,D33,\"\")","v":"Medium"},{"$f":"IF(AE33,COUNTIF($AF$5:AF33,AF33),\"X\")","v":11},{"$f":"CONCATENATE(AE33,AF33)","v":"TRUEMedium"}]
[{"$f":"CONCATENATE(AE34,D34,AG34)","v":"TRUEMedium12"},{"$f":"RAND()","v":7.8565285998306589E-2},"%","Medium",152,"What is","0%","of £",{"$f":"RANDBETWEEN(1,100)","v":29},"?",null,null,null,null,null,null,null,null,null,{"$f":"CONCATENATE(F34,\" \",G34,\" \",H34,\"\",I34,\"\",J34,\" \",K34,\" \",L34,\" \",M34,\" \",N34,\" \",O34,\" \",P34,\" \",Q34,\" \",R34)","v":"What is 0% of £29?        "},"£",0,null,null,null,null,null,null,null,{"$f":"IF(OR(ISNA(U34),ISNA(V34),ISNA(W34),ISNA(X34),ISNA(Y34),ISNA(Z34),ISNA(AA34),ISNA(AB34),ISNA(AC34)),NA(),CONCATENATE(U34,V34,W34,X34,Y34,Z34,AA34,AB34))","v":"£0"},{"$f":"IF(ISNA(AD34),FALSE,IF(C34=$B$1,Worksheet!$B$3,IF(C34=$C$1,Worksheet!$B$4,IF(C34=$D$1,Worksheet!$B$5,IF(C34=$E$1,Worksheet!$B$6,IF(C34=$B$2,Worksheet!$B$7,IF(C34=$C$2,Worksheet!$D$3,IF(C34=$D$2,Worksheet!$D$4,IF(C34=$E$2,Worksheet!$D$5,IF(C34=$C$3,Worksheet!$D$6,IF(C34=$B$3,Worksheet!$D$7,FALSE)))))))))))","v":true},{"$f":"IF(AE34,D34,\"\")","v":"Medium"},{"$f":"IF(AE34,COUNTIF($AF$5:AF34,AF34),\"X\")","v":12},{"$f":"CONCATENATE(AE34,AF34)","v":"TRUEMedium"}]
[{"$f":"CONCATENATE(AE35,D35,AG35)","v":"TRUEMedium13"},{"$f":"RAND()","v":0.10536941769755737},"Num","Medium",28,"Continue the pattern for three more numbers:   ",{"$f":"RANDBETWEEN(7,9)*100+RANDBETWEEN(1,99)","v":867},{"$f":"G35+S35","v":767},{"$f":"H35+S35","v":667},{"$f":"I35+S35","v":567},"____","____","____",null,null,null,null,null,-100,{"$f":"CONCATENATE(F35,\" \",G35,\",   \",H35,\",   \",I35,\",   \",J35,\",   \",K35,\",   \",L35,\",   \",M35,\" \",N35,\" \",O35,\" \",P35,\" \",Q35,\" \",R35)","v":"Continue the pattern for three more numbers:    867,   767,   667,   567,   ____,   ____,   ____     "},{"$f":"J35+S35","v":467},{"$f":"U35+S35","v":367},null,null,null,null,null,null,null,{"$f":"IF(OR(ISNA(U35),ISNA(V35),ISNA(W35),ISNA(X35),ISNA(Y35),ISNA(Z35),ISNA(AA35),ISNA(AB35),ISNA(AC35)),NA(),CONCATENATE(U35,\",   \",V35,W35,X35,Y35,Z35,AA35,AB35))","v":"467,   367"},{"$f":"IF(ISNA(AD35),FALSE,IF(C35=$B$1,Worksheet!$B$3,IF(C35=$C$1,Worksheet!$B$4,IF(C35=$D$1,Worksheet!$B$5,IF(C35=$E$1,Worksheet!$B$6,IF(C35=$B$2,Worksheet!$B$7,IF(C35=$C$2,Worksheet!$D$3,IF(C35=$D$2,Worksheet!$D$4,IF(C35=$E$2,Worksheet!$D$5,IF(C35=$C$3,Worksheet!$D$6,IF(C35=$B$3,Worksheet!$D$7,FALSE)))))))))))","v":true},{"$f":"IF(AE35,D35,\"\")","v":"Medium"},{"$f":"IF(AE35,COUNTIF($AF$5:AF35,AF35),\"X\")","v":13},{"$f":"CONCATENATE(AE35,AF35)","v":"TRUEMedium"}]
[{"$f":"CONCATENATE(AE36,D36,AG36)","v":"TRUEMedium14"},{"$f":"RAND()","v":0.25407777532810472},"Neg","Medium",171,"Circle the",{"$f":"IF(RAND()<0.5,\"WARMEST\",\"COLDEST\")","v":"WARMEST"},"temperature:   ",{"$f":"RANDBETWEEN(-5,5)","v":5},0,null,null,null,null,null,null,null,null,null,{"$f":"CONCATENATE(F36,\" \",G36,\" \",H36,\" \",I36,\"°C      \",J36,\"°C \",K36,\" \",L36,\" \",M36,\" \",N36,\" \",O36,\" \",P36,\" \",Q36,\" \",R36)","v":"Circle the WARMEST temperature:    5°C      0°C        "},{"$f":"IF(G36=\"WARMEST\",MAX(I36:J36),MIN(I36:J36))","v":5},"°C",null,null,null,{"$f":"IF(I36=J36,NA(),\"\")","v":""},null,null,null,{"$f":"IF(OR(ISNA(U36),ISNA(V36),ISNA(W36),ISNA(X36),ISNA(Y36),ISNA(Z36),ISNA(AA36),ISNA(AB36),ISNA(AC36)),NA(),CONCATENATE(U36,V36,W36,X36,Y36,Z36,AA36,AB36))","v":"5°C"},{"$f":"IF(ISNA(AD36),FALSE,IF(C36=$B$1,Worksheet!$B$3,IF(C36=$C$1,Worksheet!$B$4,IF(C36=$D$1,Worksheet!$B$5,IF(C36=$E$1,Worksheet!$B$6,IF(C36=$B$2,Worksheet!$B$7,IF(C36=$C$2,Worksheet!$D$3,IF(C36=$D$2,Worksheet!$D$4,IF(C36=$E$2,Worksheet!$D$5,IF(C36=$C$3,Worksheet!$D$6,IF(C36=$B$3,Worksheet!$D$7,FALSE)))))))))))","v":true},{"$f":"IF(AE36,D36,\"\")","v":"Medium"},{"$f":"IF(AE36,COUNTIF($AF$5:AF36,AF36),\"X\")","v":14},{"$f":"CONCATENATE(AE36,AF36)","v":"TRUEMedium"}]
[{"$f":"CONCATENATE(AE37,D37,AG37)","v":"TRUEHard8"},{"$f":"RAND()","v":0.35359044684316421},"Mult","Hard",32,"Write out all the numbers in the",{"$f":"RANDBETWEEN(6,9)","v":6},"times table going backwards:   ",{"$f":"CONCATENATE(10*G37,\",  \",G37*9,\",   \",G37*8)","v":"60,  54,   48"},", ___, ___, ___, ___, ___, ___, ___",null,null,null,null,null,null,null,null,null,{"$f":"CONCATENATE(F37,\" \",G37,\" \",H37,\" \",I37,\" \",J37,\" \",K37,\" \",L37,\" \",M37,\" \",N37,\" \",O37,\" \",P37,\" \",Q37,\" \",R37)","v":"Write out all the numbers in the 6 times table going backwards:    60,  54,   48 , ___, ___, ___, ___, ___, ___, ___        "},{"$f":"CONCATENATE(G37*4,\",  \",G37*5,\",  \",G37*6,\",  \",G37*7,\",  \",G37*8,\",  \",G37*9,\",  \",G37*10)","v":"24,  30,  36,  42,  48,  54,  60"},null,null,null,null,null,null,null,null,{"$f":"IF(OR(ISNA(U37),ISNA(V37),ISNA(W37),ISNA(X37),ISNA(Y37),ISNA(Z37),ISNA(AA37),ISNA(AB37),ISNA(AC37)),NA(),CONCATENATE(U37,V37,W37,X37,Y37,Z37,AA37,AB37))","v":"24,  30,  36,  42,  48,  54,  60"},{"$f":"IF(ISNA(AD37),FALSE,IF(C37=$B$1,Worksheet!$B$3,IF(C37=$C$1,Worksheet!$B$4,IF(C37=$D$1,Worksheet!$B$5,IF(C37=$E$1,Worksheet!$B$6,IF(C37=$B$2,Worksheet!$B$7,IF(C37=$C$2,Worksheet!$D$3,IF(C37=$D$2,Worksheet!$D$4,IF(C37=$E$2,Worksheet!$D$5,IF(C37=$C$3,Worksheet!$D$6,IF(C37=$B$3,Worksheet!$D$7,FALSE)))))))))))","v":true},{"$f":"IF(AE37,D37,\"\")","v":"Hard"},{"$f":"IF(AE37,COUNTIF($AF$5:AF37,AF37),\"X\")","v":8},{"$f":"CONCATENATE(AE37,AF37)","v":"TRUEHard"}]
[{"$f":"CONCATENATE(AE38,D38,AG38)","v":"TRUEMedium15"},{"$f":"RAND()","v":0.51610460868189079},"Mult","Medium",82,"Multiply",10,"×",{"$f":"RANDBETWEEN(11,99)","v":24},null,null,null,null,null,null,null,null,null,null,{"$f":"CONCATENATE(F38,\" \",G38,\" \",H38,\" \",I38,\" \",J38,\" \",K38,\" \",L38,\" \",M38,\" \",N38,\" \",O38,\" \",P38,\" \",Q38,\" \",R38)","v":"Multiply 10 × 24         "},{"$f":"G38*I38","v":240},null,null,null,null,null,null,null,null,{"$f":"IF(OR(ISNA(U38),ISNA(V38),ISNA(W38),ISNA(X38),ISNA(Y38),ISNA(Z38),ISNA(AA38),ISNA(AB38),ISNA(AC38)),NA(),CONCATENATE(U38,V38,W38,X38,Y38,Z38,AA38,AB38))","v":"240"},{"$f":"IF(ISNA(AD38),FALSE,IF(C38=$B$1,Worksheet!$B$3,IF(C38=$C$1,Worksheet!$B$4,IF(C38=$D$1,Worksheet!$B$5,IF(C38=$E$1,Worksheet!$B$6,IF(C38=$B$2,Worksheet!$B$7,IF(C38=$C$2,Worksheet!$D$3,IF(C38=$D$2,Worksheet!$D$4,IF(C38=$E$2,Worksheet!$D$5,IF(C38=$C$3,Worksheet!$D$6,IF(C38=$B$3,Worksheet!$D$7,FALSE)))))))))))","v":true},{"$f":"IF(AE38,D38,\"\")","v":"Medium"},{"$f":"IF(AE38,COUNTIF($AF$5:AF38,AF38),\"X\")","v":15},{"$f":"CONCATENATE(AE38,AF38)","v":"TRUEMedium"}]
[{"$f":"CONCATENATE(AE39,D39,AG39)","v":"TRUEMedium16"},{"$f":"RAND()","v":0.98426576003323119},"+-","Medium",65,"Write down a chimney sum to add:",{"$f":"RANDBETWEEN(150,899)","v":522},"+",{"$f":"RANDBETWEEN(150,899)","v":865},null,null,null,null,null,null,null,null,null,null,{"$f":"CONCATENATE(F39,\" \",G39,\" \",H39,\" \",I39,\" \",J39,\" \",K39,\" \",L39,\" \",M39,\" \",N39,\" \",O39,\" \",P39,\" \",Q39,\" \",R39)","v":"Write down a chimney sum to add: 522 + 865         "},{"$f":"G39+I39","v":1387},null,null,null,null,null,null,null,null,{"$f":"IF(OR(ISNA(U39),ISNA(V39),ISNA(W39),ISNA(X39),ISNA(Y39),ISNA(Z39),ISNA(AA39),ISNA(AB39),ISNA(AC39)),NA(),CONCATENATE(U39,V39,W39,X39,Y39,Z39,AA39,AB39))","v":"1387"},{"$f":"IF(ISNA(AD39),FALSE,IF(C39=$B$1,Worksheet!$B$3,IF(C39=$C$1,Worksheet!$B$4,IF(C39=$D$1,Worksheet!$B$5,IF(C39=$E$1,Worksheet!$B$6,IF(C39=$B$2,Worksheet!$B$7,IF(C39=$C$2,Worksheet!$D$3,IF(C39=$D$2,Worksheet!$D$4,IF(C39=$E$2,Worksheet!$D$5,IF(C39=$C$3,Worksheet!$D$6,IF(C39=$B$3,Worksheet!$D$7,FALSE)))))))))))","v":true},{"$f":"IF(AE39,D39,\"\")","v":"Medium"},{"$f":"IF(AE39,COUNTIF($AF$5:AF39,AF39),\"X\")","v":16},{"$f":"CONCATENATE(AE39,AF39)","v":"TRUEMedium"}]
[{"$f":"CONCATENATE(AE40,D40,AG40)","v":"TRUEEasy12"},{"$f":"RAND()","v":0.86364495114733586},"Round","Easy",174,"What is the number before",{"$f":"RANDBETWEEN(2,10)*100","v":600},"?",null,null,null,null,null,null,null,null,null,null,null,{"$f":"CONCATENATE(F40,\" \",G40,\"\",H40,\" \",I40,\" \",J40,\" \",K40,\" \",L40,\" \",M40,\" \",N40,\" \",O40,\" \",P40,\" \",Q40,\" \",R40)","v":"What is the number before 600?          "},{"$f":"G40-1","v":599},null,null,null,null,null,null,null,null,{"$f":"IF(OR(ISNA(U40),ISNA(V40),ISNA(W40),ISNA(X40),ISNA(Y40),ISNA(Z40),ISNA(AA40),ISNA(AB40),ISNA(AC40)),NA(),CONCATENATE(U40,V40,W40,X40,Y40,Z40,AA40,AB40))","v":"599"},{"$f":"IF(ISNA(AD40),FALSE,IF(C40=$B$1,Worksheet!$B$3,IF(C40=$C$1,Worksheet!$B$4,IF(C40=$D$1,Worksheet!$B$5,IF(C40=$E$1,Worksheet!$B$6,IF(C40=$B$2,Worksheet!$B$7,IF(C40=$C$2,Worksheet!$D$3,IF(C40=$D$2,Worksheet!$D$4,IF(C40=$E$2,Worksheet!$D$5,IF(C40=$C$3,Worksheet!$D$6,IF(C40=$B$3,Worksheet!$D$7,FALSE)))))))))))","v":true},{"$f":"IF(AE40,D40,\"\")","v":"Easy"},{"$f":"IF(AE40,COUNTIF($AF$5:AF40,AF40),\"X\")","v":12},{"$f":"CONCATENATE(AE40,AF40)","v":"TRUEEasy"}]
[{"$f":"CONCATENATE(AE41,D41,AG41)","v":"TRUEEasy13"},{"$f":"RAND()","v":0.36630609680860315},"Mult","Easy",79,"Multiply",{"$f":"RANDBETWEEN(2,10)","v":8},"×",10,null,null,null,null,null,null,null,null,null,null,{"$f":"CONCATENATE(F41,\" \",G41,\" \",H41,\" \",I41,\" \",J41,\" \",K41,\" \",L41,\" \",M41,\" \",N41,\" \",O41,\" \",P41,\" \",Q41,\" \",R41)","v":"Multiply 8 × 10         "},{"$f":"G41*I41","v":80},null,null,null,null,null,null,null,null,{"$f":"IF(OR(ISNA(U41),ISNA(V41),ISNA(W41),ISNA(X41),ISNA(Y41),ISNA(Z41),ISNA(AA41),ISNA(AB41),ISNA(AC41)),NA(),CONCATENATE(U41,V41,W41,X41,Y41,Z41,AA41,AB41))","v":"80"},{"$f":"IF(ISNA(AD41),FALSE,IF(C41=$B$1,Worksheet!$B$3,IF(C41=$C$1,Worksheet!$B$4,IF(C41=$D$1,Worksheet!$B$5,IF(C41=$E$1,Worksheet!$B$6,IF(C41=$B$2,Worksheet!$B$7,IF(C41=$C$2,Worksheet!$D$3,IF(C41=$D$2,Worksheet!$D$4,IF(C41=$E$2,Worksheet!$D$5,IF(C41=$C$3,Worksheet!$D$6,IF(C41=$B$3,Worksheet!$D$7,FALSE)))))))))))","v":true},{"$f":"IF(AE41,D41,\"\")","v":"Easy"},{"$f":"IF(AE41,COUNTIF($AF$5:AF41,AF41),\"X\")","v":13},{"$f":"CONCATENATE(AE41,AF41)","v":"TRUEEasy"}]
[{"$f":"CONCATENATE(AE42,D42,AG42)","v":"TRUEHard9"},{"$f":"RAND()","v":0.90047677502462564},"Num","Hard",6,"Write the number   \"",{"$f":"CHOOSE(RANDBETWEEN(1,10),\"ten\",\"eleven\",\"twelve\",\"thirteen\",\"fourteen\",\"fifteen\",\"sixteen\",\"seventeen\",\"eighteen\",\"nineteen\")","v":"fifteen"},"thousand, and",{"$f":"CHOOSE(S42,CHOOSE(RANDBETWEEN(1,10),\"ten\",\"eleven\",\"twelve\",\"thirteen\",\"fourteen\",\"fifteen\",\"sixteen\",\"seventeen\",\"eighteen\",\"nineteen\"),\"twenty\",\"thirty\",\"forty\",\"fifty\",\"sixty\",\"seventy\",\"eighty\",\"ninety\")","v":"seventy"},{"$f":"IF(S42=1,\"\",CHOOSE(RANDBETWEEN(1,9),\"one\",\"two\",\"three\",\"four\",\"five\",\"six\",\"seven\",\"eight\",\"nine\"))","v":"six"},"\"   in figures",null,null,null,null,null,null,null,{"$f":"RANDBETWEEN(1,9)","v":7},{"$f":"CONCATENATE(F42,\"\",G42,\" \",H42,\" \",I42,\" \",J42,\"\",K42,\" \",L42,\" \",M42,\" \",N42,\" \",O42,\" \",P42,\" \",Q42,\" \",R42)","v":"Write the number   \"fifteen thousand, and seventy six\"   in figures       "},{"$f":"IF(G42=\"ten\",10,IF(G42=\"eleven\",11,IF(G42=\"twelve\",12,IF(G42=\"thirteen\",13,IF(G42=\"fourteen\",14,IF(G42=\"fifteen\",15,IF(G42=\"sixteen\",16,IF(G42=\"seventeen\",17,IF(G42=\"eighteen\",18,19)))))))))","v":15},0,{"$f":"S42","v":7},{"$f":"IF(S42=1,IF(I42=\"ten\",0,IF(I42=\"eleven\",1,IF(I42=\"twelve\",2,IF(I42=\"thirteen\",3,IF(I42=\"fourteen\",4,IF(I42=\"fifteen\",5,IF(I42=\"sixteen\",6,IF(I42=\"seventeen\",7,IF(I42=\"eighteen\",8,9))))))))),\"\")","v":""},{"$f":"IF(S42<>1,IF(J42=\"one\",1,IF(J42=\"two\",2,IF(J42=\"three\",3,IF(J42=\"four\",4,IF(J42=\"five\",5,IF(J42=\"six\",6,IF(J42=\"seven\",7,IF(J42=\"eight\",8,9)))))))),\"\")","v":6},null,null,null,null,{"$f":"IF(OR(ISNA(U42),ISNA(V42),ISNA(W42),ISNA(X42),ISNA(Y42),ISNA(Z42),ISNA(AA42),ISNA(AB42),ISNA(AC42)),NA(),TEXT(CONCATENATE(U42,V42,W42,X42,Y42,Z42,AA42,AB42),\"#,###\"))","v":"15,076"},{"$f":"IF(ISNA(AD42),FALSE,IF(C42=$B$1,Worksheet!$B$3,IF(C42=$C$1,Worksheet!$B$4,IF(C42=$D$1,Worksheet!$B$5,IF(C42=$E$1,Worksheet!$B$6,IF(C42=$B$2,Worksheet!$B$7,IF(C42=$C$2,Worksheet!$D$3,IF(C42=$D$2,Worksheet!$D$4,IF(C42=$E$2,Worksheet!$D$5,IF(C42=$C$3,Worksheet!$D$6,IF(C42=$B$3,Worksheet!$D$7,FALSE)))))))))))","v":true},{"$f":"IF(AE42,D42,\"\")","v":"Hard"},{"$f":"IF(AE42,COUNTIF($AF$5:AF42,AF42),\"X\")","v":9},{"$f":"CONCATENATE(AE42,AF42)","v":"TRUEHard"}]
[{"$f":"CONCATENATE(AE43,D43,AG43)","v":"TRUEMedium17"},{"$f":"RAND()","v":0.74118938120940236},"Num","Medium",35,"Write these numbers in order from",{"$f":"CHOOSE(RANDBETWEEN(1,2),\"smallest to biggest:\",\"biggest to smallest:\")","v":"smallest to biggest:"},{"$f":"R43*1000+S43*10^RANDBETWEEN(1,2)","v":9020},{"$f":"S43*1000+R43*10^RANDBETWEEN(0,1)","v":2009},{"$f":"R43*1000+S43*10^RANDBETWEEN(0,1)","v":9002},{"$f":"S43*1000+R43*10^RANDBETWEEN(1,2)","v":2900},null,null,null,null,null,null,{"$f":"RANDBETWEEN(1,9)","v":9},{"$f":"RANDBETWEEN(1,9)","v":2},{"$f":"CONCATENATE(F43,\" \",G43,\"   \",H43,\",  \",I43,\",  \",J43,\",  \",K43,\" \",L43,\" \",M43,\" \",N43,\" \",O43,\" \",P43,\" \",Q43)","v":"Write these numbers in order from smallest to biggest:   9020,  2009,  9002,  2900      "},{"$f":"IF($G43=\"smallest to biggest:\",LARGE($H43:$K43,4),LARGE($H43:$K43,1))","v":2009},{"$f":"IF($G43=\"smallest to biggest:\",LARGE($H43:$K43,3),LARGE($H43:$K43,2))","v":2900},{"$f":"IF($G43=\"smallest to biggest:\",LARGE($H43:$K43,2),LARGE($H43:$K43,3))","v":9002},{"$f":"IF($G43=\"smallest to biggest:\",LARGE($H43:$K43,1),LARGE($H43:$K43,4))","v":9020},null,{"$f":"IF(OR(H43=I43,H43=J43,H43=K43,I43=J43,I43=K43,J43=K43),NA(),\"\")","v":""},null,null,null,{"$f":"IF(OR(ISNA(U43),ISNA(V43),ISNA(W43),ISNA(X43),ISNA(Y43),ISNA(Z43),ISNA(AA43),ISNA(AB43),ISNA(AC43)),NA(),CONCATENATE(U43,\",  \",V43,\",  \",W43,\",  \",X43,Y43,Z43,AA43,AB43))","v":"2009,  2900,  9002,  9020"},{"$f":"IF(ISNA(AD43),FALSE,IF(C43=$B$1,Worksheet!$B$3,IF(C43=$C$1,Worksheet!$B$4,IF(C43=$D$1,Worksheet!$B$5,IF(C43=$E$1,Worksheet!$B$6,IF(C43=$B$2,Worksheet!$B$7,IF(C43=$C$2,Worksheet!$D$3,IF(C43=$D$2,Worksheet!$D$4,IF(C43=$E$2,Worksheet!$D$5,IF(C43=$C$3,Worksheet!$D$6,IF(C43=$B$3,Worksheet!$D$7,FALSE)))))))))))","v":true},{"$f":"IF(AE43,D43,\"\")","v":"Medium"},{"$f":"IF(AE43,COUNTIF($AF$5:AF43,AF43),\"X\")","v":17},{"$f":"CONCATENATE(AE43,AF43)","v":"TRUEMedium"}]
[{"$f":"CONCATENATE(AE44,D44,AG44)","v":"TRUEEasy14"},{"$f":"RAND()","v":3.3663662038384889E-2},"Dec","Easy",140,"Fill in the blank:  ","£",{"$f":"RANDBETWEEN(1,9)","v":1},".",0,{"$f":"RANDBETWEEN(1,9)","v":9},"=","_____ pounds and ______ pence",null,null,null,null,null,null,{"$f":"CONCATENATE(F44,\" \",G44,\"\",H44,\"\",I44,\"\",J44,\"\",K44,\" \",L44,\" \",M44,\" \",N44,\" \",O44,\" \",P44,\" \",Q44,\" \",R44)","v":"Fill in the blank:   £1.09 = _____ pounds and ______ pence     "},{"$f":"H44","v":1}," pounds and ",{"$f":"K44","v":9}," pence",null,null,null,null,null,{"$f":"IF(OR(ISNA(U44),ISNA(V44),ISNA(W44),ISNA(X44),ISNA(Y44),ISNA(Z44),ISNA(AA44),ISNA(AB44),ISNA(AC44)),NA(),CONCATENATE(U44,V44,W44,X44,Y44,Z44,AA44,AB44))","v":"1 pounds and 9 pence"},{"$f":"IF(ISNA(AD44),FALSE,IF(C44=$B$1,Worksheet!$B$3,IF(C44=$C$1,Worksheet!$B$4,IF(C44=$D$1,Worksheet!$B$5,IF(C44=$E$1,Worksheet!$B$6,IF(C44=$B$2,Worksheet!$B$7,IF(C44=$C$2,Worksheet!$D$3,IF(C44=$D$2,Worksheet!$D$4,IF(C44=$E$2,Worksheet!$D$5,IF(C44=$C$3,Worksheet!$D$6,IF(C44=$B$3,Worksheet!$D$7,FALSE)))))))))))","v":true},{"$f":"IF(AE44,D44,\"\")","v":"Easy"},{"$f":"IF(AE44,COUNTIF($AF$5:AF44,AF44),\"X\")","v":14},{"$f":"CONCATENATE(AE44,AF44)","v":"TRUEEasy"}]
[{"$f":"CONCATENATE(AE45,D45,AG45)","v":"TRUEEasy15"},{"$f":"RAND()","v":9.5050782764360964E-2},"Neg","Easy",168,"Circle the",{"$f":"IF(RAND()<0.5,\"WARMEST\",\"COLDEST\")","v":"WARMEST"},"temperature:   ",{"$f":"RANDBETWEEN(1,5)","v":4},{"$f":"RANDBETWEEN(-5,-1)","v":-5},null,null,null,null,null,null,null,null,null,{"$f":"CONCATENATE(F45,\" \",G45,\" \",H45,\" \",I45,\"°C      \",J45,\"°C \",K45,\" \",L45,\" \",M45,\" \",N45,\" \",O45,\" \",P45,\" \",Q45,\" \",R45)","v":"Circle the WARMEST temperature:    4°C      -5°C        "},{"$f":"IF(G45=\"WARMEST\",MAX(I45:J45),MIN(I45:J45))","v":4},"°C",null,null,null,{"$f":"IF(I45=J45,NA(),\"\")","v":""},null,null,null,{"$f":"IF(OR(ISNA(U45),ISNA(V45),ISNA(W45),ISNA(X45),ISNA(Y45),ISNA(Z45),ISNA(AA45),ISNA(AB45),ISNA(AC45)),NA(),CONCATENATE(U45,V45,W45,X45,Y45,Z45,AA45,AB45))","v":"4°C"},{"$f":"IF(ISNA(AD45),FALSE,IF(C45=$B$1,Worksheet!$B$3,IF(C45=$C$1,Worksheet!$B$4,IF(C45=$D$1,Worksheet!$B$5,IF(C45=$E$1,Worksheet!$B$6,IF(C45=$B$2,Worksheet!$B$7,IF(C45=$C$2,Worksheet!$D$3,IF(C45=$D$2,Worksheet!$D$4,IF(C45=$E$2,Worksheet!$D$5,IF(C45=$C$3,Worksheet!$D$6,IF(C45=$B$3,Worksheet!$D$7,FALSE)))))))))))","v":true},{"$f":"IF(AE45,D45,\"\")","v":"Easy"},{"$f":"IF(AE45,COUNTIF($AF$5:AF45,AF45),\"X\")","v":15},{"$f":"CONCATENATE(AE45,AF45)","v":"TRUEEasy"}]
[{"$f":"CONCATENATE(AE46,D46,AG46)","v":"TRUEMedium18"},{"$f":"RAND()","v":0.25030583408696372},"Num","Medium",36,"Write these numbers in order from",{"$f":"CHOOSE(RANDBETWEEN(1,2),\"smallest to biggest:\",\"biggest to smallest:\")","v":"smallest to biggest:"},{"$f":"R46*1000+S46*10^RANDBETWEEN(1,2)","v":8060},{"$f":"S46*1000+R46*10^RANDBETWEEN(0,1)","v":6080},{"$f":"R46*1000+S46*10^RANDBETWEEN(0,1)","v":8006},{"$f":"S46*1000+R46*10^RANDBETWEEN(1,2)","v":6800},null,null,null,null,null,null,{"$f":"RANDBETWEEN(1,9)","v":8},{"$f":"RANDBETWEEN(1,9)","v":6},{"$f":"CONCATENATE(F46,\" \",G46,\"   \",H46,\",  \",I46,\",  \",J46,\",  \",K46,\" \",L46,\" \",M46,\" \",N46,\" \",O46,\" \",P46,\" \",Q46)","v":"Write these numbers in order from smallest to biggest:   8060,  6080,  8006,  6800      "},{"$f":"IF($G46=\"smallest to biggest:\",LARGE($H46:$K46,4),LARGE($H46:$K46,1))","v":6080},{"$f":"IF($G46=\"smallest to biggest:\",LARGE($H46:$K46,3),LARGE($H46:$K46,2))","v":6800},{"$f":"IF($G46=\"smallest to biggest:\",LARGE($H46:$K46,2),LARGE($H46:$K46,3))","v":8006},{"$f":"IF($G46=\"smallest to biggest:\",LARGE($H46:$K46,1),LARGE($H46:$K46,4))","v":8060},null,{"$f":"IF(OR(H46=I46,H46=J46,H46=K46,I46=J46,I46=K46,J46=K46),NA(),\"\")","v":""},null,null,null,{"$f":"IF(OR(ISNA(U46),ISNA(V46),ISNA(W46),ISNA(X46),ISNA(Y46),ISNA(Z46),ISNA(AA46),ISNA(AB46),ISNA(AC46)),NA(),CONCATENATE(U46,\",  \",V46,\",  \",W46,\",  \",X46,Y46,Z46,AA46,AB46))","v":"6080,  6800,  8006,  8060"},{"$f":"IF(ISNA(AD46),FALSE,IF(C46=$B$1,Worksheet!$B$3,IF(C46=$C$1,Worksheet!$B$4,IF(C46=$D$1,Worksheet!$B$5,IF(C46=$E$1,Worksheet!$B$6,IF(C46=$B$2,Worksheet!$B$7,IF(C46=$C$2,Worksheet!$D$3,IF(C46=$D$2,Worksheet!$D$4,IF(C46=$E$2,Worksheet!$D$5,IF(C46=$C$3,Worksheet!$D$6,IF(C46=$B$3,Worksheet!$D$7,FALSE)))))))))))","v":true},{"$f":"IF(AE46,D46,\"\")","v":"Medium"},{"$f":"IF(AE46,COUNTIF($AF$5:AF46,AF46),\"X\")","v":18},{"$f":"CONCATENATE(AE46,AF46)","v":"TRUEMedium"}]
[{"$f":"CONCATENATE(AE47,D47,AG47)","v":"TRUEEasy16"},{"$f":"RAND()","v":0.43449497502048318},"Divide","Easy",86,"What is half of ",{"$f":"2*RANDBETWEEN(3,5)","v":10},"?",null,null,null,null,null,null,null,null,null,null,null,{"$f":"CONCATENATE(F47,\" \",G47,\"\",H47,\" \",I47,\" \",J47,\" \",K47,\" \",L47,\" \",M47,\" \",N47,\" \",O47,\" \",P47,\" \",Q47,\" \",R47)","v":"What is half of  10?          "},{"$f":"G47/2","v":5},null,null,null,null,null,null,null,null,{"$f":"IF(OR(ISNA(U47),ISNA(V47),ISNA(W47),ISNA(X47),ISNA(Y47),ISNA(Z47),ISNA(AA47),ISNA(AB47),ISNA(AC47)),NA(),CONCATENATE(U47,V47,W47,X47,Y47,Z47,AA47,AB47))","v":"5"},{"$f":"IF(ISNA(AD47),FALSE,IF(C47=$B$1,Worksheet!$B$3,IF(C47=$C$1,Worksheet!$B$4,IF(C47=$D$1,Worksheet!$B$5,IF(C47=$E$1,Worksheet!$B$6,IF(C47=$B$2,Worksheet!$B$7,IF(C47=$C$2,Worksheet!$D$3,IF(C47=$D$2,Worksheet!$D$4,IF(C47=$E$2,Worksheet!$D$5,IF(C47=$C$3,Worksheet!$D$6,IF(C47=$B$3,Worksheet!$D$7,FALSE)))))))))))","v":true},{"$f":"IF(AE47,D47,\"\")","v":"Easy"},{"$f":"IF(AE47,COUNTIF($AF$5:AF47,AF47),\"X\")","v":16},{"$f":"CONCATENATE(AE47,AF47)","v":"TRUEEasy"}]
[{"$f":"CONCATENATE(AE48,D48,AG48)","v":"TRUEEasy17"},{"$f":"RAND()","v":0.38088900732974507},"+-","Easy",64,"Write down a chimney sum to add:",{"$f":"RANDBETWEEN(50,99)","v":84},"+",{"$f":"RANDBETWEEN(50,99)","v":92},null,null,null,null,null,null,null,null,null,null,{"$f":"CONCATENATE(F48,\" \",G48,\" \",H48,\" \",I48,\" \",J48,\" \",K48,\" \",L48,\" \",M48,\" \",N48,\" \",O48,\" \",P48,\" \",Q48,\" \",R48)","v":"Write down a chimney sum to add: 84 + 92         "},{"$f":"G48+I48","v":176},null,null,null,null,null,null,null,null,{"$f":"IF(OR(ISNA(U48),ISNA(V48),ISNA(W48),ISNA(X48),ISNA(Y48),ISNA(Z48),ISNA(AA48),ISNA(AB48),ISNA(AC48)),NA(),CONCATENATE(U48,V48,W48,X48,Y48,Z48,AA48,AB48))","v":"176"},{"$f":"IF(ISNA(AD48),FALSE,IF(C48=$B$1,Worksheet!$B$3,IF(C48=$C$1,Worksheet!$B$4,IF(C48=$D$1,Worksheet!$B$5,IF(C48=$E$1,Worksheet!$B$6,IF(C48=$B$2,Worksheet!$B$7,IF(C48=$C$2,Worksheet!$D$3,IF(C48=$D$2,Worksheet!$D$4,IF(C48=$E$2,Worksheet!$D$5,IF(C48=$C$3,Worksheet!$D$6,IF(C48=$B$3,Worksheet!$D$7,FALSE)))))))))))","v":true},{"$f":"IF(AE48,D48,\"\")","v":"Easy"},{"$f":"IF(AE48,COUNTIF($AF$5:AF48,AF48),\"X\")","v":17},{"$f":"CONCATENATE(AE48,AF48)","v":"TRUEEasy"}]
[{"$f":"CONCATENATE(AE49,D49,AG49)","v":"TRUEEasy18"},{"$f":"RAND()","v":0.51050991884106556},"Mult","Easy",72,"What is double",{"$f":"RANDBETWEEN(6,10)","v":7},"?",null,null,null,null,null,null,null,null,null,null,null,{"$f":"CONCATENATE(F49,\" \",G49,\"\",H49,\" \",I49,\" \",J49,\" \",K49,\" \",L49,\" \",M49,\" \",N49,\" \",O49,\" \",P49,\" \",Q49,\" \",R49)","v":"What is double 7?          "},{"$f":"G49*2","v":14},null,null,null,null,null,null,null,null,{"$f":"IF(OR(ISNA(U49),ISNA(V49),ISNA(W49),ISNA(X49),ISNA(Y49),ISNA(Z49),ISNA(AA49),ISNA(AB49),ISNA(AC49)),NA(),CONCATENATE(U49,V49,W49,X49,Y49,Z49,AA49,AB49))","v":"14"},{"$f":"IF(ISNA(AD49),FALSE,IF(C49=$B$1,Worksheet!$B$3,IF(C49=$C$1,Worksheet!$B$4,IF(C49=$D$1,Worksheet!$B$5,IF(C49=$E$1,Worksheet!$B$6,IF(C49=$B$2,Worksheet!$B$7,IF(C49=$C$2,Worksheet!$D$3,IF(C49=$D$2,Worksheet!$D$4,IF(C49=$E$2,Worksheet!$D$5,IF(C49=$C$3,Worksheet!$D$6,IF(C49=$B$3,Worksheet!$D$7,FALSE)))))))))))","v":true},{"$f":"IF(AE49,D49,\"\")","v":"Easy"},{"$f":"IF(AE49,COUNTIF($AF$5:AF49,AF49),\"X\")","v":18},{"$f":"CONCATENATE(AE49,AF49)","v":"TRUEEasy"}]
[{"$f":"CONCATENATE(AE50,D50,AG50)","v":"TRUEHard10"},{"$f":"RAND()","v":0.94700307302240594},"Choose","Hard",116,"One",{"$f":"CHOOSE(RANDBETWEEN(1,3),\"chair\",\"table\",\"desk\")","v":"table"},"costs",{"$f":"RANDBETWEEN(2,5)*10","v":20},"How much do",{"$f":"RANDBETWEEN(2,5)","v":5},{"$f":"CONCATENATE(G50,\"s\")","v":"tables"},"cost?",null,null,null,null,null,null,{"$f":"CONCATENATE(F50,\" \",G50,\" \",H50,\" £\",I50,\".  \",J50,\" \",K50,\" \",L50,\" \",M50,\" \",N50,\" \",O50,\" \",P50,\" \",Q50,\" \",R50)","v":"One table costs £20.  How much do 5 tables cost?     "},"£",{"$f":"I50*K50","v":100},null,null,null,null,null,null,null,{"$f":"IF(OR(ISNA(U50),ISNA(V50),ISNA(W50),ISNA(X50),ISNA(Y50),ISNA(Z50),ISNA(AA50),ISNA(AB50),ISNA(AC50)),NA(),CONCATENATE(U50,V50,W50,X50,Y50,Z50,AA50,AB50))","v":"£100"},{"$f":"IF(ISNA(AD50),FALSE,IF(C50=$B$1,Worksheet!$B$3,IF(C50=$C$1,Worksheet!$B$4,IF(C50=$D$1,Worksheet!$B$5,IF(C50=$E$1,Worksheet!$B$6,IF(C50=$B$2,Worksheet!$B$7,IF(C50=$C$2,Worksheet!$D$3,IF(C50=$D$2,Worksheet!$D$4,IF(C50=$E$2,Worksheet!$D$5,IF(C50=$C$3,Worksheet!$D$6,IF(C50=$B$3,Worksheet!$D$7,FALSE)))))))))))","v":true},{"$f":"IF(AE50,D50,\"\")","v":"Hard"},{"$f":"IF(AE50,COUNTIF($AF$5:AF50,AF50),\"X\")","v":10},{"$f":"CONCATENATE(AE50,AF50)","v":"TRUEHard"}]
[{"$f":"CONCATENATE(AE51,D51,AG51)","v":"TRUEHard11"},{"$f":"RAND()","v":0.31597133217825712},"Num","Hard",37,"Write these numbers in order from",{"$f":"CHOOSE(RANDBETWEEN(1,2),\"smallest to biggest:\",\"biggest to smallest:\")","v":"smallest to biggest:"},{"$f":"IF($O51=1,$P51*1000,IF($O51=2,$Q51*1000,IF($O51=3,$R51*1000,$S51*1000)))+IF(RAND()<0.5,$R51,$S51)*100+IF(RAND()<0.5,$P51,$Q51)*10+CHOOSE(RANDBETWEEN(1,4),$P51,$Q51,$R51,$S51)","v":6699},{"$f":"IF($O51=1,$P51*1000,IF($O51=2,$Q51*1000,IF($O51=3,$R51*1000,$S51*1000)))+IF(RAND()<0.5,$R51,$S51)*100+IF(RAND()<0.5,$P51,$Q51)*10+CHOOSE(RANDBETWEEN(1,4),$P51,$Q51,$R51,$S51)","v":6999},{"$f":"IF($O51=1,$P51*1000,IF($O51=2,$Q51*1000,IF($O51=3,$R51*1000,$S51*1000)))+IF(RAND()<0.5,$R51,$S51)*100+IF(RAND()<0.5,$P51,$Q51)*10+CHOOSE(RANDBETWEEN(1,4),$P51,$Q51,$R51,$S51)","v":6639},{"$f":"IF($O51=1,$P51*1000,IF($O51=2,$Q51*1000,IF($O51=3,$R51*1000,$S51*1000)))+IF(RAND()<0.5,$R51,$S51)*100+IF(RAND()<0.5,$P51,$Q51)*10+CHOOSE(RANDBETWEEN(1,4),$P51,$Q51,$R51,$S51)","v":6939},null,null,null,{"$f":"RANDBETWEEN(1,4)","v":3},{"$f":"RANDBETWEEN(1,9)","v":3},{"$f":"RANDBETWEEN(1,9)","v":9},{"$f":"RANDBETWEEN(1,9)","v":6},{"$f":"RANDBETWEEN(1,9)","v":9},{"$f":"CONCATENATE(F51,\" \",G51,\"   \",H51,\",  \",I51,\",  \",J51,\",  \",K51,\" \",L51,\" \",M51,\" \",N51)","v":"Write these numbers in order from smallest to biggest:   6699,  6999,  6639,  6939   "},{"$f":"IF($G51=\"smallest to biggest:\",LARGE($H51:$K51,4),LARGE($H51:$K51,1))","v":6639},{"$f":"IF($G51=\"smallest to biggest:\",LARGE($H51:$K51,3),LARGE($H51:$K51,2))","v":6699},{"$f":"IF($G51=\"smallest to biggest:\",LARGE($H51:$K51,2),LARGE($H51:$K51,3))","v":6939},{"$f":"IF($G51=\"smallest to biggest:\",LARGE($H51:$K51,1),LARGE($H51:$K51,4))","v":6999},null,{"$f":"IF(OR(H51=I51,H51=J51,H51=K51,I51=J51,I51=K51,J51=K51),NA(),\"\")","v":""},null,null,null,{"$f":"IF(OR(ISNA(U51),ISNA(V51),ISNA(W51),ISNA(X51),ISNA(Y51),ISNA(Z51),ISNA(AA51),ISNA(AB51),ISNA(AC51)),NA(),CONCATENATE(U51,\",  \",V51,\",  \",W51,\",  \",X51,Y51,Z51,AA51,AB51))","v":"6639,  6699,  6939,  6999"},{"$f":"IF(ISNA(AD51),FALSE,IF(C51=$B$1,Worksheet!$B$3,IF(C51=$C$1,Worksheet!$B$4,IF(C51=$D$1,Worksheet!$B$5,IF(C51=$E$1,Worksheet!$B$6,IF(C51=$B$2,Worksheet!$B$7,IF(C51=$C$2,Worksheet!$D$3,IF(C51=$D$2,Worksheet!$D$4,IF(C51=$E$2,Worksheet!$D$5,IF(C51=$C$3,Worksheet!$D$6,IF(C51=$B$3,Worksheet!$D$7,FALSE)))))))))))","v":true},{"$f":"IF(AE51,D51,\"\")","v":"Hard"},{"$f":"IF(AE51,COUNTIF($AF$5:AF51,AF51),\"X\")","v":11},{"$f":"CONCATENATE(AE51,AF51)","v":"TRUEHard"}]
[{"$f":"CONCATENATE(AE52,D52,AG52)","v":"TRUEEasy19"},{"$f":"RAND()","v":0.25357683999656266},"Frac","Easy",122,"Fractions.   What is ","1/10","of",{"$f":"10*RANDBETWEEN(2,5)","v":30},"?",null,null,null,null,null,null,null,null,null,{"$f":"CONCATENATE(F52,\" \",G52,\" \",H52,\" \",I52,\" \",J52,\" \",K52,\" \",L52,\" \",M52,\" \",N52,\" \",O52,\" \",P52,\" \",Q52,\" \",R52)","v":"Fractions.   What is  1/10 of 30 ?        "},{"$f":"I52/10","v":3},null,null,null,null,null,null,null,null,{"$f":"IF(OR(ISNA(U52),ISNA(V52),ISNA(W52),ISNA(X52),ISNA(Y52),ISNA(Z52),ISNA(AA52),ISNA(AB52),ISNA(AC52)),NA(),CONCATENATE(U52,V52,W52,X52,Y52,Z52,AA52,AB52))","v":"3"},{"$f":"IF(ISNA(AD52),FALSE,IF(C52=$B$1,Worksheet!$B$3,IF(C52=$C$1,Worksheet!$B$4,IF(C52=$D$1,Worksheet!$B$5,IF(C52=$E$1,Worksheet!$B$6,IF(C52=$B$2,Worksheet!$B$7,IF(C52=$C$2,Worksheet!$D$3,IF(C52=$D$2,Worksheet!$D$4,IF(C52=$E$2,Worksheet!$D$5,IF(C52=$C$3,Worksheet!$D$6,IF(C52=$B$3,Worksheet!$D$7,FALSE)))))))))))","v":true},{"$f":"IF(AE52,D52,\"\")","v":"Easy"},{"$f":"IF(AE52,COUNTIF($AF$5:AF52,AF52),\"X\")","v":19},{"$f":"CONCATENATE(AE52,AF52)","v":"TRUEEasy"}]
[{"$f":"CONCATENATE(AE53,D53,AG53)","v":"TRUEMedium19"},{"$f":"RAND()","v":0.15244598981800772},"Mult","Medium",30,"Write out all the numbers in the",{"$f":"RANDBETWEEN(6,9)","v":6},"times table:   ",{"$f":"CONCATENATE(G53,\",  \",G53*2,\",   \",G53*3)","v":"6,  12,   18"},", ___, ___, ___, ___, ___, ___, ___",null,null,null,null,null,null,null,null,null,{"$f":"CONCATENATE(F53,\" \",G53,\" \",H53,\" \",I53,\" \",J53,\" \",K53,\" \",L53,\" \",M53,\" \",N53,\" \",O53,\" \",P53,\" \",Q53,\" \",R53)","v":"Write out all the numbers in the 6 times table:    6,  12,   18 , ___, ___, ___, ___, ___, ___, ___        "},{"$f":"CONCATENATE(G53*4,\",  \",G53*5,\",  \",G53*6,\",  \",G53*7,\",  \",G53*8,\",  \",G53*9,\",  \",G53*10)","v":"24,  30,  36,  42,  48,  54,  60"},null,null,null,null,null,null,null,null,{"$f":"IF(OR(ISNA(U53),ISNA(V53),ISNA(W53),ISNA(X53),ISNA(Y53),ISNA(Z53),ISNA(AA53),ISNA(AB53),ISNA(AC53)),NA(),CONCATENATE(U53,V53,W53,X53,Y53,Z53,AA53,AB53))","v":"24,  30,  36,  42,  48,  54,  60"},{"$f":"IF(ISNA(AD53),FALSE,IF(C53=$B$1,Worksheet!$B$3,IF(C53=$C$1,Worksheet!$B$4,IF(C53=$D$1,Worksheet!$B$5,IF(C53=$E$1,Worksheet!$B$6,IF(C53=$B$2,Worksheet!$B$7,IF(C53=$C$2,Worksheet!$D$3,IF(C53=$D$2,Worksheet!$D$4,IF(C53=$E$2,Worksheet!$D$5,IF(C53=$C$3,Worksheet!$D$6,IF(C53=$B$3,Worksheet!$D$7,FALSE)))))))))))","v":true},{"$f":"IF(AE53,D53,\"\")","v":"Medium"},{"$f":"IF(AE53,COUNTIF($AF$5:AF53,AF53),\"X\")","v":19},{"$f":"CONCATENATE(AE53,AF53)","v":"TRUEMedium"}]
[{"$f":"CONCATENATE(AE54,D54,AG54)","v":"TRUEEasy20"},{"$f":"RAND()","v":0.28667973104027122},"Num","Easy",9,"Fill in the missing numbers:   ",{"$f":"RANDBETWEEN(11,95)*10","v":590},{"$f":"G54+S54","v":600},{"$f":"H54+S54","v":610},"____","____",{"$f":"V54+S54","v":640},{"$f":"L54+S54","v":650},null,null,null,null,null,10,{"$f":"CONCATENATE(F54,\" \",G54,\",   \",H54,\",   \",I54,\",   \",J54,\",   \",K54,\",   \",L54,\",   \",M54,\" \",N54,\" \",O54,\" \",P54,\" \",Q54,\" \",R54)","v":"Fill in the missing numbers:    590,   600,   610,   ____,   ____,   640,   650     "},{"$f":"I54+S54","v":620},{"$f":"U54+S54","v":630},null,null,null,null,null,null,null,{"$f":"IF(OR(ISNA(U54),ISNA(V54),ISNA(W54),ISNA(X54),ISNA(Y54),ISNA(Z54),ISNA(AA54),ISNA(AB54),ISNA(AC54)),NA(),CONCATENATE(U54,\",   \",V54,W54,X54,Y54,Z54,AA54,AB54))","v":"620,   630"},{"$f":"IF(ISNA(AD54),FALSE,IF(C54=$B$1,Worksheet!$B$3,IF(C54=$C$1,Worksheet!$B$4,IF(C54=$D$1,Worksheet!$B$5,IF(C54=$E$1,Worksheet!$B$6,IF(C54=$B$2,Worksheet!$B$7,IF(C54=$C$2,Worksheet!$D$3,IF(C54=$D$2,Worksheet!$D$4,IF(C54=$E$2,Worksheet!$D$5,IF(C54=$C$3,Worksheet!$D$6,IF(C54=$B$3,Worksheet!$D$7,FALSE)))))))))))","v":true},{"$f":"IF(AE54,D54,\"\")","v":"Easy"},{"$f":"IF(AE54,COUNTIF($AF$5:AF54,AF54),\"X\")","v":20},{"$f":"CONCATENATE(AE54,AF54)","v":"TRUEEasy"}]
[{"$f":"CONCATENATE(AE55,D55,AG55)","v":"TRUEMedium20"},{"$f":"RAND()","v":3.0648497546623577E-2},"Num","Medium",150,"Write these amounts of money in order from",{"$f":"CHOOSE(RANDBETWEEN(1,2),\"smallest to biggest:\",\"biggest to smallest:\")","v":"biggest to smallest:"},{"$f":"R55+S55/100","v":6.02},{"$f":"R55+S55/10","v":6.2},{"$f":"R55+S55/10+S55/100","v":6.22},{"$f":"R55+S55/10+R55/100","v":6.26},null,null,null,null,null,null,{"$f":"RANDBETWEEN(1,9)","v":6},{"$f":"RANDBETWEEN(1,9)","v":2},{"$f":"CONCATENATE(F55,\" \",G55,\"  £ \",H55,\",  £\",I55,\",  £\",J55,\",  £\",K55,\" \",L55,\" \",M55,\" \",N55,\" \",O55,\" \",P55,\" \",Q55)","v":"Write these amounts of money in order from biggest to smallest:  £ 6.02,  £6.2,  £6.22,  £6.26      "},{"$f":"IF($G55=\"smallest to biggest:\",LARGE($H55:$K55,4),LARGE($H55:$K55,1))","v":6.26},{"$f":"IF($G55=\"smallest to biggest:\",LARGE($H55:$K55,3),LARGE($H55:$K55,2))","v":6.22},{"$f":"IF($G55=\"smallest to biggest:\",LARGE($H55:$K55,2),LARGE($H55:$K55,3))","v":6.2},{"$f":"IF($G55=\"smallest to biggest:\",LARGE($H55:$K55,1),LARGE($H55:$K55,4))","v":6.02},null,{"$f":"IF(OR(H55=I55,H55=J55,H55=K55,I55=J55,I55=K55,J55=K55),NA(),\"\")","v":""},null,null,null,{"$f":"IF(OR(ISNA(U55),ISNA(V55),ISNA(W55),ISNA(X55),ISNA(Y55),ISNA(Z55),ISNA(AA55),ISNA(AB55),ISNA(AC55)),NA(),CONCATENATE(\"£\",U55,\",  £\",V55,\",  £\",W55,\",  £\",X55,Y55,Z55,AA55,AB55))","v":"£6.26,  £6.22,  £6.2,  £6.02"},{"$f":"IF(ISNA(AD55),FALSE,IF(C55=$B$1,Worksheet!$B$3,IF(C55=$C$1,Worksheet!$B$4,IF(C55=$D$1,Worksheet!$B$5,IF(C55=$E$1,Worksheet!$B$6,IF(C55=$B$2,Worksheet!$B$7,IF(C55=$C$2,Worksheet!$D$3,IF(C55=$D$2,Worksheet!$D$4,IF(C55=$E$2,Worksheet!$D$5,IF(C55=$C$3,Worksheet!$D$6,IF(C55=$B$3,Worksheet!$D$7,FALSE)))))))))))","v":true},{"$f":"IF(AE55,D55,\"\")","v":"Medium"},{"$f":"IF(AE55,COUNTIF($AF$5:AF55,AF55),\"X\")","v":20},{"$f":"CONCATENATE(AE55,AF55)","v":"TRUEMedium"}]
[{"$f":"CONCATENATE(AE56,D56,AG56)","v":"TRUEMedium21"},{"$f":"RAND()","v":3.9825434619447875E-2},"+-","Medium",53,"Fill in the missing number:   ",{"$f":"RANDBETWEEN(6,9)","v":8},"+","_____","=",{"$f":"RANDBETWEEN(11,19)","v":16},null,null,null,null,null,null,null,null,{"$f":"CONCATENATE(F56,\" \",G56,\" \",H56,\" \",I56,\" \",J56,\" \",K56,\" \",L56,\" \",M56,\" \",N56,\" \",O56,\" \",P56,\" \",Q56,\" \",R56)","v":"Fill in the missing number:    8 + _____ = 16       "},{"$f":"K56-G56","v":8},null,null,null,null,null,null,null,null,{"$f":"IF(OR(ISNA(U56),ISNA(V56),ISNA(W56),ISNA(X56),ISNA(Y56),ISNA(Z56),ISNA(AA56),ISNA(AB56),ISNA(AC56)),NA(),CONCATENATE(U56,V56,W56,X56,Y56,Z56,AA56,AB56))","v":"8"},{"$f":"IF(ISNA(AD56),FALSE,IF(C56=$B$1,Worksheet!$B$3,IF(C56=$C$1,Worksheet!$B$4,IF(C56=$D$1,Worksheet!$B$5,IF(C56=$E$1,Worksheet!$B$6,IF(C56=$B$2,Worksheet!$B$7,IF(C56=$C$2,Worksheet!$D$3,IF(C56=$D$2,Worksheet!$D$4,IF(C56=$E$2,Worksheet!$D$5,IF(C56=$C$3,Worksheet!$D$6,IF(C56=$B$3,Worksheet!$D$7,FALSE)))))))))))","v":true},{"$f":"IF(AE56,D56,\"\")","v":"Medium"},{"$f":"IF(AE56,COUNTIF($AF$5:AF56,AF56),\"X\")","v":21},{"$f":"CONCATENATE(AE56,AF56)","v":"TRUEMedium"}]
[{"$f":"CONCATENATE(AE57,D57,AG57)","v":"TRUEMedium22"},{"$f":"RAND()","v":0.27154155359680832},"Neg","Medium",170,"Circle the",{"$f":"IF(RAND()<0.5,\"WARMEST\",\"COLDEST\")","v":"WARMEST"},"temperature:   ",{"$f":"RANDBETWEEN(-5,5)","v":0},{"$f":"RANDBETWEEN(-5,5)","v":-1},null,null,null,null,null,null,null,null,null,{"$f":"CONCATENATE(F57,\" \",G57,\" \",H57,\" \",I57,\"°C      \",J57,\"°C \",K57,\" \",L57,\" \",M57,\" \",N57,\" \",O57,\" \",P57,\" \",Q57,\" \",R57)","v":"Circle the WARMEST temperature:    0°C      -1°C        "},{"$f":"IF(G57=\"WARMEST\",MAX(I57:J57),MIN(I57:J57))","v":0},"°C",null,null,null,{"$f":"IF(I57=J57,NA(),\"\")","v":""},null,null,null,{"$f":"IF(OR(ISNA(U57),ISNA(V57),ISNA(W57),ISNA(X57),ISNA(Y57),ISNA(Z57),ISNA(AA57),ISNA(AB57),ISNA(AC57)),NA(),CONCATENATE(U57,V57,W57,X57,Y57,Z57,AA57,AB57))","v":"0°C"},{"$f":"IF(ISNA(AD57),FALSE,IF(C57=$B$1,Worksheet!$B$3,IF(C57=$C$1,Worksheet!$B$4,IF(C57=$D$1,Worksheet!$B$5,IF(C57=$E$1,Worksheet!$B$6,IF(C57=$B$2,Worksheet!$B$7,IF(C57=$C$2,Worksheet!$D$3,IF(C57=$D$2,Worksheet!$D$4,IF(C57=$E$2,Worksheet!$D$5,IF(C57=$C$3,Worksheet!$D$6,IF(C57=$B$3,Worksheet!$D$7,FALSE)))))))))))","v":true},{"$f":"IF(AE57,D57,\"\")","v":"Medium"},{"$f":"IF(AE57,COUNTIF($AF$5:AF57,AF57),\"X\")","v":22},{"$f":"CONCATENATE(AE57,AF57)","v":"TRUEMedium"}]
[{"$f":"CONCATENATE(AE58,D58,AG58)","v":"TRUEMedium23"},{"$f":"RAND()","v":0.54702927332666362},"+-","Medium",54,"Fill in the missing number:   ",{"$f":"RANDBETWEEN(6,9)","v":9},"+","_____","=",{"$f":"RANDBETWEEN(11,19)","v":17},null,null,null,null,null,null,null,null,{"$f":"CONCATENATE(F58,\" \",G58,\" \",H58,\" \",I58,\" \",J58,\" \",K58,\" \",L58,\" \",M58,\" \",N58,\" \",O58,\" \",P58,\" \",Q58,\" \",R58)","v":"Fill in the missing number:    9 + _____ = 17       "},{"$f":"K58-G58","v":8},null,null,null,null,null,null,null,null,{"$f":"IF(OR(ISNA(U58),ISNA(V58),ISNA(W58),ISNA(X58),ISNA(Y58),ISNA(Z58),ISNA(AA58),ISNA(AB58),ISNA(AC58)),NA(),CONCATENATE(U58,V58,W58,X58,Y58,Z58,AA58,AB58))","v":"8"},{"$f":"IF(ISNA(AD58),FALSE,IF(C58=$B$1,Worksheet!$B$3,IF(C58=$C$1,Worksheet!$B$4,IF(C58=$D$1,Worksheet!$B$5,IF(C58=$E$1,Worksheet!$B$6,IF(C58=$B$2,Worksheet!$B$7,IF(C58=$C$2,Worksheet!$D$3,IF(C58=$D$2,Worksheet!$D$4,IF(C58=$E$2,Worksheet!$D$5,IF(C58=$C$3,Worksheet!$D$6,IF(C58=$B$3,Worksheet!$D$7,FALSE)))))))))))","v":true},{"$f":"IF(AE58,D58,\"\")","v":"Medium"},{"$f":"IF(AE58,COUNTIF($AF$5:AF58,AF58),\"X\")","v":23},{"$f":"CONCATENATE(AE58,AF58)","v":"TRUEMedium"}]
[{"$f":"CONCATENATE(AE59,D59,AG59)","v":"TRUEEasy21"},{"$f":"RAND()","v":9.8668958831600539E-2},"+-","Easy",43,"Fill in the missing number:   ","____ +",{"$f":"90+RANDBETWEEN(1,9)","v":94},"=",100,null,null,null,null,null,null,null,null,null,{"$f":"CONCATENATE(F59,\" \",G59,\" \",H59,\" \",I59,\" \",J59,\" \",K59,\" \",L59,\" \",M59,\" \",N59,\" \",O59,\" \",P59,\" \",Q59,\" \",R59)","v":"Fill in the missing number:    ____ + 94 = 100        "},{"$f":"J59-H59","v":6},null,null,null,null,null,null,null,null,{"$f":"IF(OR(ISNA(U59),ISNA(V59),ISNA(W59),ISNA(X59),ISNA(Y59),ISNA(Z59),ISNA(AA59),ISNA(AB59),ISNA(AC59)),NA(),CONCATENATE(U59,V59,W59,X59,Y59,Z59,AA59,AB59))","v":"6"},{"$f":"IF(ISNA(AD59),FALSE,IF(C59=$B$1,Worksheet!$B$3,IF(C59=$C$1,Worksheet!$B$4,IF(C59=$D$1,Worksheet!$B$5,IF(C59=$E$1,Worksheet!$B$6,IF(C59=$B$2,Worksheet!$B$7,IF(C59=$C$2,Worksheet!$D$3,IF(C59=$D$2,Worksheet!$D$4,IF(C59=$E$2,Worksheet!$D$5,IF(C59=$C$3,Worksheet!$D$6,IF(C59=$B$3,Worksheet!$D$7,FALSE)))))))))))","v":true},{"$f":"IF(AE59,D59,\"\")","v":"Easy"},{"$f":"IF(AE59,COUNTIF($AF$5:AF59,AF59),\"X\")","v":21},{"$f":"CONCATENATE(AE59,AF59)","v":"TRUEEasy"}]
[{"$f":"CONCATENATE(AE60,D60,AG60)","v":"TRUEMedium24"},{"$f":"RAND()","v":0.39979419038584252},"+-","Medium",41,"Fill in the missing number:   ","____ +",{"$f":"RANDBETWEEN(1,8)*10+RANDBETWEEN(1,9)","v":62},"=",100,null,null,null,null,null,null,null,null,null,{"$f":"CONCATENATE(F60,\" \",G60,\" \",H60,\" \",I60,\" \",J60,\" \",K60,\" \",L60,\" \",M60,\" \",N60,\" \",O60,\" \",P60,\" \",Q60,\" \",R60)","v":"Fill in the missing number:    ____ + 62 = 100        "},{"$f":"J60-H60","v":38},null,null,null,null,null,null,null,null,{"$f":"IF(OR(ISNA(U60),ISNA(V60),ISNA(W60),ISNA(X60),ISNA(Y60),ISNA(Z60),ISNA(AA60),ISNA(AB60),ISNA(AC60)),NA(),CONCATENATE(U60,V60,W60,X60,Y60,Z60,AA60,AB60))","v":"38"},{"$f":"IF(ISNA(AD60),FALSE,IF(C60=$B$1,Worksheet!$B$3,IF(C60=$C$1,Worksheet!$B$4,IF(C60=$D$1,Worksheet!$B$5,IF(C60=$E$1,Worksheet!$B$6,IF(C60=$B$2,Worksheet!$B$7,IF(C60=$C$2,Worksheet!$D$3,IF(C60=$D$2,Worksheet!$D$4,IF(C60=$E$2,Worksheet!$D$5,IF(C60=$C$3,Worksheet!$D$6,IF(C60=$B$3,Worksheet!$D$7,FALSE)))))))))))","v":true},{"$f":"IF(AE60,D60,\"\")","v":"Medium"},{"$f":"IF(AE60,COUNTIF($AF$5:AF60,AF60),\"X\")","v":24},{"$f":"CONCATENATE(AE60,AF60)","v":"TRUEMedium"}]
[{"$f":"CONCATENATE(AE61,D61,AG61)","v":"TRUEEasy22"},{"$f":"RAND()","v":0.33152948793387249},"+-","Easy",42,"Fill in the missing number:   ",{"$f":"90+RANDBETWEEN(1,9)","v":93},"+ ____ = ",100,null,null,null,null,null,null,null,null,null,null,{"$f":"CONCATENATE(F61,\" \",G61,\" \",H61,\" \",I61,\" \",J61,\" \",K61,\" \",L61,\" \",M61,\" \",N61,\" \",O61,\" \",P61,\" \",Q61,\" \",R61)","v":"Fill in the missing number:    93 + ____ =  100         "},{"$f":"I61-G61","v":7},null,null,null,null,null,null,null,null,{"$f":"IF(OR(ISNA(U61),ISNA(V61),ISNA(W61),ISNA(X61),ISNA(Y61),ISNA(Z61),ISNA(AA61),ISNA(AB61),ISNA(AC61)),NA(),CONCATENATE(U61,V61,W61,X61,Y61,Z61,AA61,AB61))","v":"7"},{"$f":"IF(ISNA(AD61),FALSE,IF(C61=$B$1,Worksheet!$B$3,IF(C61=$C$1,Worksheet!$B$4,IF(C61=$D$1,Worksheet!$B$5,IF(C61=$E$1,Worksheet!$B$6,IF(C61=$B$2,Worksheet!$B$7,IF(C61=$C$2,Worksheet!$D$3,IF(C61=$D$2,Worksheet!$D$4,IF(C61=$E$2,Worksheet!$D$5,IF(C61=$C$3,Worksheet!$D$6,IF(C61=$B$3,Worksheet!$D$7,FALSE)))))))))))","v":true},{"$f":"IF(AE61,D61,\"\")","v":"Easy"},{"$f":"IF(AE61,COUNTIF($AF$5:AF61,AF61),\"X\")","v":22},{"$f":"CONCATENATE(AE61,AF61)","v":"TRUEEasy"}]
[{"$f":"CONCATENATE(AE62,D62,AG62)","v":"TRUEMedium25"},{"$f":"RAND()","v":0.18014131626317365},"Neg","Medium",169,"Circle the",{"$f":"IF(RAND()<0.5,\"WARMEST\",\"COLDEST\")","v":"COLDEST"},"temperature:   ",{"$f":"RANDBETWEEN(-5,5)","v":-5},{"$f":"RANDBETWEEN(-5,5)","v":-2},null,null,null,null,null,null,null,null,null,{"$f":"CONCATENATE(F62,\" \",G62,\" \",H62,\" \",I62,\"°C      \",J62,\"°C \",K62,\" \",L62,\" \",M62,\" \",N62,\" \",O62,\" \",P62,\" \",Q62,\" \",R62)","v":"Circle the COLDEST temperature:    -5°C      -2°C        "},{"$f":"IF(G62=\"WARMEST\",MAX(I62:J62),MIN(I62:J62))","v":-5},"°C",null,null,null,{"$f":"IF(I62=J62,NA(),\"\")","v":""},null,null,null,{"$f":"IF(OR(ISNA(U62),ISNA(V62),ISNA(W62),ISNA(X62),ISNA(Y62),ISNA(Z62),ISNA(AA62),ISNA(AB62),ISNA(AC62)),NA(),CONCATENATE(U62,V62,W62,X62,Y62,Z62,AA62,AB62))","v":"-5°C"},{"$f":"IF(ISNA(AD62),FALSE,IF(C62=$B$1,Worksheet!$B$3,IF(C62=$C$1,Worksheet!$B$4,IF(C62=$D$1,Worksheet!$B$5,IF(C62=$E$1,Worksheet!$B$6,IF(C62=$B$2,Worksheet!$B$7,IF(C62=$C$2,Worksheet!$D$3,IF(C62=$D$2,Worksheet!$D$4,IF(C62=$E$2,Worksheet!$D$5,IF(C62=$C$3,Worksheet!$D$6,IF(C62=$B$3,Worksheet!$D$7,FALSE)))))))))))","v":true},{"$f":"IF(AE62,D62,\"\")","v":"Medium"},{"$f":"IF(AE62,COUNTIF($AF$5:AF62,AF62),\"X\")","v":25},{"$f":"CONCATENATE(AE62,AF62)","v":"TRUEMedium"}]
[{"$f":"CONCATENATE(AE63,D63,AG63)","v":"TRUEMedium26"},{"$f":"RAND()","v":0.89026846184138997},"+-","Medium",62,"Add:   ",{"$f":"RANDBETWEEN(5,9)*10+RANDBETWEEN(1,9)","v":67},"–",{"$f":"RANDBETWEEN(2,5)*10","v":30},null,null,null,null,null,null,null,null,null,null,{"$f":"CONCATENATE(F63,\" \",G63,\" \",H63,\" \",I63,\" \",J63,\" \",K63,\" \",L63,\" \",M63,\" \",N63,\" \",O63,\" \",P63,\" \",Q63,\" \",R63)","v":"Add:    67 – 30         "},{"$f":"G63-I63","v":37},null,null,null,null,null,null,null,null,{"$f":"IF(OR(ISNA(U63),ISNA(V63),ISNA(W63),ISNA(X63),ISNA(Y63),ISNA(Z63),ISNA(AA63),ISNA(AB63),ISNA(AC63)),NA(),CONCATENATE(U63,V63,W63,X63,Y63,Z63,AA63,AB63))","v":"37"},{"$f":"IF(ISNA(AD63),FALSE,IF(C63=$B$1,Worksheet!$B$3,IF(C63=$C$1,Worksheet!$B$4,IF(C63=$D$1,Worksheet!$B$5,IF(C63=$E$1,Worksheet!$B$6,IF(C63=$B$2,Worksheet!$B$7,IF(C63=$C$2,Worksheet!$D$3,IF(C63=$D$2,Worksheet!$D$4,IF(C63=$E$2,Worksheet!$D$5,IF(C63=$C$3,Worksheet!$D$6,IF(C63=$B$3,Worksheet!$D$7,FALSE)))))))))))","v":true},{"$f":"IF(AE63,D63,\"\")","v":"Medium"},{"$f":"IF(AE63,COUNTIF($AF$5:AF63,AF63),\"X\")","v":26},{"$f":"CONCATENATE(AE63,AF63)","v":"TRUEMedium"}]
[{"$f":"CONCATENATE(AE64,D64,AG64)","v":"TRUEMedium27"},{"$f":"RAND()","v":0.82241853780526442},"Mult","Medium",76,"What is",{"$f":"RANDBETWEEN(5,9)","v":7},"×",{"$f":"RANDBETWEEN(2,5)","v":3},"?",null,null,null,null,null,null,null,null,null,{"$f":"CONCATENATE(F64,\" \",G64,\" \",H64,\" \",I64,\" \",J64,\" \",K64,\" \",L64,\" \",M64,\" \",N64,\" \",O64,\" \",P64,\" \",Q64,\" \",R64)","v":"What is 7 × 3 ?        "},{"$f":"G64*I64","v":21},null,null,null,null,null,null,null,null,{"$f":"IF(OR(ISNA(U64),ISNA(V64),ISNA(W64),ISNA(X64),ISNA(Y64),ISNA(Z64),ISNA(AA64),ISNA(AB64),ISNA(AC64)),NA(),CONCATENATE(U64,V64,W64,X64,Y64,Z64,AA64,AB64))","v":"21"},{"$f":"IF(ISNA(AD64),FALSE,IF(C64=$B$1,Worksheet!$B$3,IF(C64=$C$1,Worksheet!$B$4,IF(C64=$D$1,Worksheet!$B$5,IF(C64=$E$1,Worksheet!$B$6,IF(C64=$B$2,Worksheet!$B$7,IF(C64=$C$2,Worksheet!$D$3,IF(C64=$D$2,Worksheet!$D$4,IF(C64=$E$2,Worksheet!$D$5,IF(C64=$C$3,Worksheet!$D$6,IF(C64=$B$3,Worksheet!$D$7,FALSE)))))))))))","v":true},{"$f":"IF(AE64,D64,\"\")","v":"Medium"},{"$f":"IF(AE64,COUNTIF($AF$5:AF64,AF64),\"X\")","v":27},{"$f":"CONCATENATE(AE64,AF64)","v":"TRUEMedium"}]
[{"$f":"CONCATENATE(AE65,D65,AG65)","v":"TRUEEasy23"},{"$f":"RAND()","v":0.19422520147955291},"Num","Easy",1,"Write the number   \"",{"$f":"CHOOSE(RANDBETWEEN(1,9),\"one\",\"two\",\"three\",\"four\",\"five\",\"six\",\"seven\",\"eight\",\"nine\")","v":"four"},"hundred and",{"$f":"CHOOSE(RANDBETWEEN(1,9),\"one\",\"two\",\"three\",\"four\",\"five\",\"six\",\"seven\",\"eight\",\"nine\")","v":"six"},"\"   in figures",null,null,null,null,null,null,null,null,null,{"$f":"CONCATENATE(F65,\"\",G65,\" \",H65,\" \",I65,\"\",J65,\" \",K65,\" \",L65,\" \",M65,\" \",N65,\" \",O65,\" \",P65,\" \",Q65,\" \",R65)","v":"Write the number   \"four hundred and six\"   in figures        "},{"$f":"IF(G65=\"one\",1,IF(G65=\"two\",2,IF(G65=\"three\",3,IF(G65=\"four\",4,IF(G65=\"five\",5,IF(G65=\"six\",6,IF(G65=\"seven\",7,IF(G65=\"eight\",8,9))))))))","v":4},0,{"$f":"IF(I65=\"one\",1,IF(I65=\"two\",2,IF(I65=\"three\",3,IF(I65=\"four\",4,IF(I65=\"five\",5,IF(I65=\"six\",6,IF(I65=\"seven\",7,IF(I65=\"eight\",8,9))))))))","v":6},null,null,null,null,null,null,{"$f":"IF(OR(ISNA(U65),ISNA(V65),ISNA(W65),ISNA(X65),ISNA(Y65),ISNA(Z65),ISNA(AA65),ISNA(AB65),ISNA(AC65)),NA(),CONCATENATE(U65,V65,W65,X65,Y65,Z65,AA65,AB65))","v":"406"},{"$f":"IF(ISNA(AD65),FALSE,IF(C65=$B$1,Worksheet!$B$3,IF(C65=$C$1,Worksheet!$B$4,IF(C65=$D$1,Worksheet!$B$5,IF(C65=$E$1,Worksheet!$B$6,IF(C65=$B$2,Worksheet!$B$7,IF(C65=$C$2,Worksheet!$D$3,IF(C65=$D$2,Worksheet!$D$4,IF(C65=$E$2,Worksheet!$D$5,IF(C65=$C$3,Worksheet!$D$6,IF(C65=$B$3,Worksheet!$D$7,FALSE)))))))))))","v":true},{"$f":"IF(AE65,D65,\"\")","v":"Easy"},{"$f":"IF(AE65,COUNTIF($AF$5:AF65,AF65),\"X\")","v":23},{"$f":"CONCATENATE(AE65,AF65)","v":"TRUEEasy"}]
[{"$f":"CONCATENATE(AE66,D66,AG66)","v":"TRUEEasy24"},{"$f":"RAND()","v":0.47044518405249602},"+-","Easy",46,"Fill in the missing number:   ",{"$f":"RANDBETWEEN(1,9)*100","v":200},"+ ____ = ",1000,null,null,null,null,null,null,null,null,null,null,{"$f":"CONCATENATE(F66,\" \",G66,\" \",H66,\" \",I66,\" \",J66,\" \",K66,\" \",L66,\" \",M66,\" \",N66,\" \",O66,\" \",P66,\" \",Q66,\" \",R66)","v":"Fill in the missing number:    200 + ____ =  1000         "},{"$f":"I66-G66","v":800},null,null,null,null,null,null,null,null,{"$f":"IF(OR(ISNA(U66),ISNA(V66),ISNA(W66),ISNA(X66),ISNA(Y66),ISNA(Z66),ISNA(AA66),ISNA(AB66),ISNA(AC66)),NA(),CONCATENATE(U66,V66,W66,X66,Y66,Z66,AA66,AB66))","v":"800"},{"$f":"IF(ISNA(AD66),FALSE,IF(C66=$B$1,Worksheet!$B$3,IF(C66=$C$1,Worksheet!$B$4,IF(C66=$D$1,Worksheet!$B$5,IF(C66=$E$1,Worksheet!$B$6,IF(C66=$B$2,Worksheet!$B$7,IF(C66=$C$2,Worksheet!$D$3,IF(C66=$D$2,Worksheet!$D$4,IF(C66=$E$2,Worksheet!$D$5,IF(C66=$C$3,Worksheet!$D$6,IF(C66=$B$3,Worksheet!$D$7,FALSE)))))))))))","v":true},{"$f":"IF(AE66,D66,\"\")","v":"Easy"},{"$f":"IF(AE66,COUNTIF($AF$5:AF66,AF66),\"X\")","v":24},{"$f":"CONCATENATE(AE66,AF66)","v":"TRUEEasy"}]
[{"$f":"CONCATENATE(AE67,D67,AG67)","v":"TRUEHard12"},{"$f":"RAND()","v":0.3581439544471221},"%","Hard",154,"What is","0%","of £",{"$f":"RANDBETWEEN(100,1000)","v":689},"?",null,null,null,null,null,null,null,null,null,{"$f":"CONCATENATE(F67,\" \",G67,\" \",H67,\"\",I67,\"\",J67,\" \",K67,\" \",L67,\" \",M67,\" \",N67,\" \",O67,\" \",P67,\" \",Q67,\" \",R67)","v":"What is 0% of £689?        "},"£",0,null,null,null,null,null,null,null,{"$f":"IF(OR(ISNA(U67),ISNA(V67),ISNA(W67),ISNA(X67),ISNA(Y67),ISNA(Z67),ISNA(AA67),ISNA(AB67),ISNA(AC67)),NA(),CONCATENATE(U67,V67,W67,X67,Y67,Z67,AA67,AB67))","v":"£0"},{"$f":"IF(ISNA(AD67),FALSE,IF(C67=$B$1,Worksheet!$B$3,IF(C67=$C$1,Worksheet!$B$4,IF(C67=$D$1,Worksheet!$B$5,IF(C67=$E$1,Worksheet!$B$6,IF(C67=$B$2,Worksheet!$B$7,IF(C67=$C$2,Worksheet!$D$3,IF(C67=$D$2,Worksheet!$D$4,IF(C67=$E$2,Worksheet!$D$5,IF(C67=$C$3,Worksheet!$D$6,IF(C67=$B$3,Worksheet!$D$7,FALSE)))))))))))","v":true},{"$f":"IF(AE67,D67,\"\")","v":"Hard"},{"$f":"IF(AE67,COUNTIF($AF$5:AF67,AF67),\"X\")","v":12},{"$f":"CONCATENATE(AE67,AF67)","v":"TRUEHard"}]
[{"$f":"CONCATENATE(AE68,D68,AG68)","v":"TRUEMedium28"},{"$f":"RAND()","v":0.32468873069571347},"Num","Medium",13,"Fill in the missing numbers:   ",{"$f":"RANDBETWEEN(11,93)*10+RANDBETWEEN(1,9)","v":399},{"$f":"G68+S68","v":394},{"$f":"H68+S68","v":389},"____","____",{"$f":"V68+S68","v":374},{"$f":"L68+S68","v":369},null,null,null,null,null,{"$f":"RANDBETWEEN(2,5)*(-1)","v":-5},{"$f":"CONCATENATE(F68,\" \",G68,\",   \",H68,\",   \",I68,\",   \",J68,\",   \",K68,\",   \",L68,\",   \",M68,\" \",N68,\" \",O68,\" \",P68,\" \",Q68,\" \",R68)","v":"Fill in the missing numbers:    399,   394,   389,   ____,   ____,   374,   369     "},{"$f":"I68+S68","v":384},{"$f":"U68+S68","v":379},null,null,null,null,null,null,null,{"$f":"IF(OR(ISNA(U68),ISNA(V68),ISNA(W68),ISNA(X68),ISNA(Y68),ISNA(Z68),ISNA(AA68),ISNA(AB68),ISNA(AC68)),NA(),CONCATENATE(U68,\",   \",V68,W68,X68,Y68,Z68,AA68,AB68))","v":"384,   379"},{"$f":"IF(ISNA(AD68),FALSE,IF(C68=$B$1,Worksheet!$B$3,IF(C68=$C$1,Worksheet!$B$4,IF(C68=$D$1,Worksheet!$B$5,IF(C68=$E$1,Worksheet!$B$6,IF(C68=$B$2,Worksheet!$B$7,IF(C68=$C$2,Worksheet!$D$3,IF(C68=$D$2,Worksheet!$D$4,IF(C68=$E$2,Worksheet!$D$5,IF(C68=$C$3,Worksheet!$D$6,IF(C68=$B$3,Worksheet!$D$7,FALSE)))))))))))","v":true},{"$f":"IF(AE68,D68,\"\")","v":"Medium"},{"$f":"IF(AE68,COUNTIF($AF$5:AF68,AF68),\"X\")","v":28},{"$f":"CONCATENATE(AE68,AF68)","v":"TRUEMedium"}]
[{"$f":"CONCATENATE(AE69,D69,AG69)","v":"TRUEMedium29"},{"$f":"RAND()","v":0.88842899556845167},"Choose","Medium",114,{"$f":"RANDBETWEEN(2,5)","v":3},{"$f":"CHOOSE(RANDBETWEEN(1,3),\"apples\",\"oranges\",\"bananas\")","v":"apples"},"cost",{"$f":"U69*F69","v":9},"p.  What does one",{"$f":"IF(G69=\"bananas\",\"banana\",IF(G69=\"apples\",\"apple\",\"orange\"))","v":"apple"},"cost?",null,null,null,null,null,null,null,{"$f":"CONCATENATE(F69,\" \",G69,\" \",H69,\" \",I69,\"\",J69,\" \",K69,\" \",L69,\" \",M69,\" \",N69,\" \",O69,\" \",P69,\" \",Q69,\" \",R69)","v":"3 apples cost 9p.  What does one apple cost?      "},{"$f":"RANDBETWEEN(2,10)","v":3},"p",null,null,null,null,null,null,null,{"$f":"IF(OR(ISNA(U69),ISNA(V69),ISNA(W69),ISNA(X69),ISNA(Y69),ISNA(Z69),ISNA(AA69),ISNA(AB69),ISNA(AC69)),NA(),CONCATENATE(U69,V69,W69,X69,Y69,Z69,AA69,AB69))","v":"3p"},{"$f":"IF(ISNA(AD69),FALSE,IF(C69=$B$1,Worksheet!$B$3,IF(C69=$C$1,Worksheet!$B$4,IF(C69=$D$1,Worksheet!$B$5,IF(C69=$E$1,Worksheet!$B$6,IF(C69=$B$2,Worksheet!$B$7,IF(C69=$C$2,Worksheet!$D$3,IF(C69=$D$2,Worksheet!$D$4,IF(C69=$E$2,Worksheet!$D$5,IF(C69=$C$3,Worksheet!$D$6,IF(C69=$B$3,Worksheet!$D$7,FALSE)))))))))))","v":true},{"$f":"IF(AE69,D69,\"\")","v":"Medium"},{"$f":"IF(AE69,COUNTIF($AF$5:AF69,AF69),\"X\")","v":29},{"$f":"CONCATENATE(AE69,AF69)","v":"TRUEMedium"}]
[{"$f":"CONCATENATE(AE70,D70,AG70)","v":"TRUEEasy25"},{"$f":"RAND()","v":0.89306158735414698},"Choose","Easy",104,"Out of a class of ",{"$f":"RANDBETWEEN(15,30)","v":15},"pupils, ",{"$f":"RANDBETWEEN(1,5)","v":5},"are off.  How many pupils are in class?",null,null,null,null,null,null,null,null,null,{"$f":"CONCATENATE(F70,\" \",G70,\" \",H70,\" \",I70,\" \",J70,\" \",K70,\" \",L70,\" \",M70,\" \",N70,\" \",O70,\" \",P70,\" \",Q70,\" \",R70)","v":"Out of a class of  15 pupils,  5 are off.  How many pupils are in class?        "},{"$f":"G70-I70","v":10},null,null,null,null,null,null,null,null,{"$f":"IF(OR(ISNA(U70),ISNA(V70),ISNA(W70),ISNA(X70),ISNA(Y70),ISNA(Z70),ISNA(AA70),ISNA(AB70),ISNA(AC70)),NA(),CONCATENATE(U70,V70,W70,X70,Y70,Z70,AA70,AB70))","v":"10"},{"$f":"IF(ISNA(AD70),FALSE,IF(C70=$B$1,Worksheet!$B$3,IF(C70=$C$1,Worksheet!$B$4,IF(C70=$D$1,Worksheet!$B$5,IF(C70=$E$1,Worksheet!$B$6,IF(C70=$B$2,Worksheet!$B$7,IF(C70=$C$2,Worksheet!$D$3,IF(C70=$D$2,Worksheet!$D$4,IF(C70=$E$2,Worksheet!$D$5,IF(C70=$C$3,Worksheet!$D$6,IF(C70=$B$3,Worksheet!$D$7,FALSE)))))))))))","v":true},{"$f":"IF(AE70,D70,\"\")","v":"Easy"},{"$f":"IF(AE70,COUNTIF($AF$5:AF70,AF70),\"X\")","v":25},{"$f":"CONCATENATE(AE70,AF70)","v":"TRUEEasy"}]
[{"$f":"CONCATENATE(AE71,D71,AG71)","v":"TRUEMedium30"},{"$f":"RAND()","v":0.91402096526991916},"Round","Medium",163,"Round",{"$f":"RANDBETWEEN(10,99)*10+RANDBETWEEN(1,9)","v":271},"to the nearest ten",null,null,null,null,null,null,null,null,null,null,null,{"$f":"CONCATENATE(F71,\" \",G71,\" \",H71,\" \",I71,\" \",J71,\" \",K71,\" \",L71,\" \",M71,\" \",N71,\" \",O71,\" \",P71,\" \",Q71,\" \",R71)","v":"Round 271 to the nearest ten          "},{"$f":"MROUND(G71,10)","v":270},null,null,null,null,null,null,null,null,{"$f":"IF(OR(ISNA(U71),ISNA(V71),ISNA(W71),ISNA(X71),ISNA(Y71),ISNA(Z71),ISNA(AA71),ISNA(AB71),ISNA(AC71)),NA(),CONCATENATE(U71,V71,W71,X71,Y71,Z71,AA71,AB71))","v":"270"},{"$f":"IF(ISNA(AD71),FALSE,IF(C71=$B$1,Worksheet!$B$3,IF(C71=$C$1,Worksheet!$B$4,IF(C71=$D$1,Worksheet!$B$5,IF(C71=$E$1,Worksheet!$B$6,IF(C71=$B$2,Worksheet!$B$7,IF(C71=$C$2,Worksheet!$D$3,IF(C71=$D$2,Worksheet!$D$4,IF(C71=$E$2,Worksheet!$D$5,IF(C71=$C$3,Worksheet!$D$6,IF(C71=$B$3,Worksheet!$D$7,FALSE)))))))))))","v":true},{"$f":"IF(AE71,D71,\"\")","v":"Medium"},{"$f":"IF(AE71,COUNTIF($AF$5:AF71,AF71),\"X\")","v":30},{"$f":"CONCATENATE(AE71,AF71)","v":"TRUEMedium"}]
[{"$f":"CONCATENATE(AE72,D72,AG72)","v":"TRUEMedium31"},{"$f":"RAND()","v":0.41515628900937018},"Divide","Medium",91,"What is half of ",{"$f":"200*RANDBETWEEN(1,5)","v":200},"?",null,null,null,null,null,null,null,null,null,null,null,{"$f":"CONCATENATE(F72,\" \",G72,\"\",H72,\" \",I72,\" \",J72,\" \",K72,\" \",L72,\" \",M72,\" \",N72,\" \",O72,\" \",P72,\" \",Q72,\" \",R72)","v":"What is half of  200?          "},{"$f":"G72/2","v":100},null,null,null,null,null,null,null,null,{"$f":"IF(OR(ISNA(U72),ISNA(V72),ISNA(W72),ISNA(X72),ISNA(Y72),ISNA(Z72),ISNA(AA72),ISNA(AB72),ISNA(AC72)),NA(),CONCATENATE(U72,V72,W72,X72,Y72,Z72,AA72,AB72))","v":"100"},{"$f":"IF(ISNA(AD72),FALSE,IF(C72=$B$1,Worksheet!$B$3,IF(C72=$C$1,Worksheet!$B$4,IF(C72=$D$1,Worksheet!$B$5,IF(C72=$E$1,Worksheet!$B$6,IF(C72=$B$2,Worksheet!$B$7,IF(C72=$C$2,Worksheet!$D$3,IF(C72=$D$2,Worksheet!$D$4,IF(C72=$E$2,Worksheet!$D$5,IF(C72=$C$3,Worksheet!$D$6,IF(C72=$B$3,Worksheet!$D$7,FALSE)))))))))))","v":true},{"$f":"IF(AE72,D72,\"\")","v":"Medium"},{"$f":"IF(AE72,COUNTIF($AF$5:AF72,AF72),\"X\")","v":31},{"$f":"CONCATENATE(AE72,AF72)","v":"TRUEMedium"}]
[{"$f":"CONCATENATE(AE73,D73,AG73)","v":"TRUEMedium32"},{"$f":"RAND()","v":0.63589503143486004},"Divide","Medium",96,"Divide:   ",{"$f":"5*RANDBETWEEN(1,10)","v":45},"÷",5,null,null,null,null,null,null,null,null,null,null,{"$f":"CONCATENATE(F73,\" \",G73,\" \",H73,\" \",I73,\" \",J73,\" \",K73,\" \",L73,\" \",M73,\" \",N73,\" \",O73,\" \",P73,\" \",Q73,\" \",R73)","v":"Divide:    45 ÷ 5         "},{"$f":"G73/I73","v":9},null,null,null,null,null,null,null,null,{"$f":"IF(OR(ISNA(U73),ISNA(V73),ISNA(W73),ISNA(X73),ISNA(Y73),ISNA(Z73),ISNA(AA73),ISNA(AB73),ISNA(AC73)),NA(),CONCATENATE(U73,V73,W73,X73,Y73,Z73,AA73,AB73))","v":"9"},{"$f":"IF(ISNA(AD73),FALSE,IF(C73=$B$1,Worksheet!$B$3,IF(C73=$C$1,Worksheet!$B$4,IF(C73=$D$1,Worksheet!$B$5,IF(C73=$E$1,Worksheet!$B$6,IF(C73=$B$2,Worksheet!$B$7,IF(C73=$C$2,Worksheet!$D$3,IF(C73=$D$2,Worksheet!$D$4,IF(C73=$E$2,Worksheet!$D$5,IF(C73=$C$3,Worksheet!$D$6,IF(C73=$B$3,Worksheet!$D$7,FALSE)))))))))))","v":true},{"$f":"IF(AE73,D73,\"\")","v":"Medium"},{"$f":"IF(AE73,COUNTIF($AF$5:AF73,AF73),\"X\")","v":32},{"$f":"CONCATENATE(AE73,AF73)","v":"TRUEMedium"}]
[{"$f":"CONCATENATE(AE74,D74,AG74)","v":"TRUEMedium33"},{"$f":"RAND()","v":9.9101715667160084E-2},"Dec","Medium",139,"How many pence are there in £",{"$f":"TEXT(RANDBETWEEN(1,9)+RANDBETWEEN(1,99)/100,\"#.00\")","v":"6.45"},"?",null,null,null,null,null,null,null,null,null,null,null,{"$f":"CONCATENATE(F74,\"\",G74,\"\",H74,\" \",I74,\" \",J74,\" \",K74,\" \",L74,\" \",M74,\" \",N74,\" \",O74,\" \",P74,\" \",Q74,\" \",R74)","v":"How many pence are there in £6.45?          "},{"$f":"G74*100","v":645},"p",null,null,null,null,null,null,null,{"$f":"IF(OR(ISNA(U74),ISNA(V74),ISNA(W74),ISNA(X74),ISNA(Y74),ISNA(Z74),ISNA(AA74),ISNA(AB74),ISNA(AC74)),NA(),CONCATENATE(U74,V74,W74,X74,Y74,Z74,AA74,AB74))","v":"645p"},{"$f":"IF(ISNA(AD74),FALSE,IF(C74=$B$1,Worksheet!$B$3,IF(C74=$C$1,Worksheet!$B$4,IF(C74=$D$1,Worksheet!$B$5,IF(C74=$E$1,Worksheet!$B$6,IF(C74=$B$2,Worksheet!$B$7,IF(C74=$C$2,Worksheet!$D$3,IF(C74=$D$2,Worksheet!$D$4,IF(C74=$E$2,Worksheet!$D$5,IF(C74=$C$3,Worksheet!$D$6,IF(C74=$B$3,Worksheet!$D$7,FALSE)))))))))))","v":true},{"$f":"IF(AE74,D74,\"\")","v":"Medium"},{"$f":"IF(AE74,COUNTIF($AF$5:AF74,AF74),\"X\")","v":33},{"$f":"CONCATENATE(AE74,AF74)","v":"TRUEMedium"}]
[{"$f":"CONCATENATE(AE75,D75,AG75)","v":"TRUEMedium34"},{"$f":"RAND()","v":0.693160541764829},"+-","Medium",57,"Add:   ",{"$f":"RANDBETWEEN(2,5)*10","v":30},"+",{"$f":"RANDBETWEEN(1,5)*10+RANDBETWEEN(1,9)","v":15},null,null,null,null,null,null,null,null,null,null,{"$f":"CONCATENATE(F75,\" \",G75,\" \",H75,\" \",I75,\" \",J75,\" \",K75,\" \",L75,\" \",M75,\" \",N75,\" \",O75,\" \",P75,\" \",Q75,\" \",R75)","v":"Add:    30 + 15         "},{"$f":"G75+I75","v":45},null,null,null,null,null,null,null,null,{"$f":"IF(OR(ISNA(U75),ISNA(V75),ISNA(W75),ISNA(X75),ISNA(Y75),ISNA(Z75),ISNA(AA75),ISNA(AB75),ISNA(AC75)),NA(),CONCATENATE(U75,V75,W75,X75,Y75,Z75,AA75,AB75))","v":"45"},{"$f":"IF(ISNA(AD75),FALSE,IF(C75=$B$1,Worksheet!$B$3,IF(C75=$C$1,Worksheet!$B$4,IF(C75=$D$1,Worksheet!$B$5,IF(C75=$E$1,Worksheet!$B$6,IF(C75=$B$2,Worksheet!$B$7,IF(C75=$C$2,Worksheet!$D$3,IF(C75=$D$2,Worksheet!$D$4,IF(C75=$E$2,Worksheet!$D$5,IF(C75=$C$3,Worksheet!$D$6,IF(C75=$B$3,Worksheet!$D$7,FALSE)))))))))))","v":true},{"$f":"IF(AE75,D75,\"\")","v":"Medium"},{"$f":"IF(AE75,COUNTIF($AF$5:AF75,AF75),\"X\")","v":34},{"$f":"CONCATENATE(AE75,AF75)","v":"TRUEMedium"}]
[{"$f":"CONCATENATE(AE76,D76,AG76)","v":"TRUEMedium35"},{"$f":"RAND()","v":0.57258015910307303},"Num","Medium",4,"Write the number   \"",{"$f":"CHOOSE(RANDBETWEEN(1,9),\"one\",\"two\",\"three\",\"four\",\"five\",\"six\",\"seven\",\"eight\",\"nine\")","v":"one"},"thousand, ",{"$f":"CHOOSE(RANDBETWEEN(1,9),\"one\",\"two\",\"three\",\"four\",\"five\",\"six\",\"seven\",\"eight\",\"nine\")","v":"five"},"hundred and",null,{"$f":"CHOOSE(RANDBETWEEN(1,9),\"one\",\"two\",\"three\",\"four\",\"five\",\"six\",\"seven\",\"eight\",\"nine\")","v":"three"},"\"   in figures",null,null,null,null,null,null,{"$f":"CONCATENATE(F76,\"\",G76,\" \",H76,\" \",I76,\" \",J76,\" \",K76,\" \",L76,\"\",M76,\" \",N76,\" \",O76,\" \",P76,\" \",Q76,\" \",R76)","v":"Write the number   \"one thousand,  five hundred and  three\"   in figures     "},{"$f":"IF(G76=\"one\",1,IF(G76=\"two\",2,IF(G76=\"three\",3,IF(G76=\"four\",4,IF(G76=\"five\",5,IF(G76=\"six\",6,IF(G76=\"seven\",7,IF(G76=\"eight\",8,9))))))))","v":1},{"$f":"IF(I76=\"one\",1,IF(I76=\"two\",2,IF(I76=\"three\",3,IF(I76=\"four\",4,IF(I76=\"five\",5,IF(I76=\"six\",6,IF(I76=\"seven\",7,IF(I76=\"eight\",8,9))))))))","v":5},0,{"$f":"IF(S76<>1,IF(L76=\"one\",1,IF(L76=\"two\",2,IF(L76=\"three\",3,IF(L76=\"four\",4,IF(L76=\"five\",5,IF(L76=\"six\",6,IF(L76=\"seven\",7,IF(L76=\"eight\",8,9)))))))),\"\")","v":3},null,null,null,null,null,{"$f":"IF(OR(ISNA(U76),ISNA(V76),ISNA(W76),ISNA(X76),ISNA(Y76),ISNA(Z76),ISNA(AA76),ISNA(AB76),ISNA(AC76)),NA(),TEXT(CONCATENATE(U76,V76,W76,X76,Y76,Z76,AA76,AB76),\"#,###\"))","v":"1,503"},{"$f":"IF(ISNA(AD76),FALSE,IF(C76=$B$1,Worksheet!$B$3,IF(C76=$C$1,Worksheet!$B$4,IF(C76=$D$1,Worksheet!$B$5,IF(C76=$E$1,Worksheet!$B$6,IF(C76=$B$2,Worksheet!$B$7,IF(C76=$C$2,Worksheet!$D$3,IF(C76=$D$2,Worksheet!$D$4,IF(C76=$E$2,Worksheet!$D$5,IF(C76=$C$3,Worksheet!$D$6,IF(C76=$B$3,Worksheet!$D$7,FALSE)))))))))))","v":true},{"$f":"IF(AE76,D76,\"\")","v":"Medium"},{"$f":"IF(AE76,COUNTIF($AF$5:AF76,AF76),\"X\")","v":35},{"$f":"CONCATENATE(AE76,AF76)","v":"TRUEMedium"}]
[{"$f":"CONCATENATE(AE77,D77,AG77)","v":"TRUEEasy26"},{"$f":"RAND()","v":0.48405162099251031},"Frac","Easy",118,"Fractions.   What is ","1/2","of",{"$f":"2*RANDBETWEEN(2,5)","v":6},"?",null,null,null,null,null,null,null,null,null,{"$f":"CONCATENATE(F77,\" \",G77,\" \",H77,\" \",I77,\" \",J77,\" \",K77,\" \",L77,\" \",M77,\" \",N77,\" \",O77,\" \",P77,\" \",Q77,\" \",R77)","v":"Fractions.   What is  1/2 of 6 ?        "},{"$f":"I77/2","v":3},null,null,null,null,null,null,null,null,{"$f":"IF(OR(ISNA(U77),ISNA(V77),ISNA(W77),ISNA(X77),ISNA(Y77),ISNA(Z77),ISNA(AA77),ISNA(AB77),ISNA(AC77)),NA(),CONCATENATE(U77,V77,W77,X77,Y77,Z77,AA77,AB77))","v":"3"},{"$f":"IF(ISNA(AD77),FALSE,IF(C77=$B$1,Worksheet!$B$3,IF(C77=$C$1,Worksheet!$B$4,IF(C77=$D$1,Worksheet!$B$5,IF(C77=$E$1,Worksheet!$B$6,IF(C77=$B$2,Worksheet!$B$7,IF(C77=$C$2,Worksheet!$D$3,IF(C77=$D$2,Worksheet!$D$4,IF(C77=$E$2,Worksheet!$D$5,IF(C77=$C$3,Worksheet!$D$6,IF(C77=$B$3,Worksheet!$D$7,FALSE)))))))))))","v":true},{"$f":"IF(AE77,D77,\"\")","v":"Easy"},{"$f":"IF(AE77,COUNTIF($AF$5:AF77,AF77),\"X\")","v":26},{"$f":"CONCATENATE(AE77,AF77)","v":"TRUEEasy"}]
[{"$f":"CONCATENATE(AE78,D78,AG78)","v":"TRUEEasy27"},{"$f":"RAND()","v":0.8547588070541321},"Round","Easy",162,"Round",{"$f":"RANDBETWEEN(1,9)*10+RANDBETWEEN(1,9)","v":52},"to the nearest ten",null,null,null,null,null,null,null,null,null,null,null,{"$f":"CONCATENATE(F78,\" \",G78,\" \",H78,\" \",I78,\" \",J78,\" \",K78,\" \",L78,\" \",M78,\" \",N78,\" \",O78,\" \",P78,\" \",Q78,\" \",R78)","v":"Round 52 to the nearest ten          "},{"$f":"MROUND(G78,10)","v":50},null,null,null,null,null,null,null,null,{"$f":"IF(OR(ISNA(U78),ISNA(V78),ISNA(W78),ISNA(X78),ISNA(Y78),ISNA(Z78),ISNA(AA78),ISNA(AB78),ISNA(AC78)),NA(),CONCATENATE(U78,V78,W78,X78,Y78,Z78,AA78,AB78))","v":"50"},{"$f":"IF(ISNA(AD78),FALSE,IF(C78=$B$1,Worksheet!$B$3,IF(C78=$C$1,Worksheet!$B$4,IF(C78=$D$1,Worksheet!$B$5,IF(C78=$E$1,Worksheet!$B$6,IF(C78=$B$2,Worksheet!$B$7,IF(C78=$C$2,Worksheet!$D$3,IF(C78=$D$2,Worksheet!$D$4,IF(C78=$E$2,Worksheet!$D$5,IF(C78=$C$3,Worksheet!$D$6,IF(C78=$B$3,Worksheet!$D$7,FALSE)))))))))))","v":true},{"$f":"IF(AE78,D78,\"\")","v":"Easy"},{"$f":"IF(AE78,COUNTIF($AF$5:AF78,AF78),\"X\")","v":27},{"$f":"CONCATENATE(AE78,AF78)","v":"TRUEEasy"}]
[{"$f":"CONCATENATE(AE79,D79,AG79)","v":"TRUEEasy28"},{"$f":"RAND()","v":0.63226654170158225},"Choose","Easy",112,"One",{"$f":"CHOOSE(RANDBETWEEN(1,3),\"sweet\",\"pencil\",\"rubber\")","v":"rubber"},"costs",{"$f":"RANDBETWEEN(2,5)","v":4},"p.   How much do",{"$f":"RANDBETWEEN(2,10)","v":4},{"$f":"CONCATENATE(G79,\"s\")","v":"rubbers"},"cost?",null,null,null,null,null,null,{"$f":"CONCATENATE(F79,\" \",G79,\" \",H79,\" \",I79,\"\",J79,\" \",K79,\" \",L79,\" \",M79,\" \",N79,\" \",O79,\" \",P79,\" \",Q79,\" \",R79)","v":"One rubber costs 4p.   How much do 4 rubbers cost?     "},{"$f":"I79*K79","v":16},"p",null,null,null,null,null,null,null,{"$f":"IF(OR(ISNA(U79),ISNA(V79),ISNA(W79),ISNA(X79),ISNA(Y79),ISNA(Z79),ISNA(AA79),ISNA(AB79),ISNA(AC79)),NA(),CONCATENATE(U79,V79,W79,X79,Y79,Z79,AA79,AB79))","v":"16p"},{"$f":"IF(ISNA(AD79),FALSE,IF(C79=$B$1,Worksheet!$B$3,IF(C79=$C$1,Worksheet!$B$4,IF(C79=$D$1,Worksheet!$B$5,IF(C79=$E$1,Worksheet!$B$6,IF(C79=$B$2,Worksheet!$B$7,IF(C79=$C$2,Worksheet!$D$3,IF(C79=$D$2,Worksheet!$D$4,IF(C79=$E$2,Worksheet!$D$5,IF(C79=$C$3,Worksheet!$D$6,IF(C79=$B$3,Worksheet!$D$7,FALSE)))))))))))","v":true},{"$f":"IF(AE79,D79,\"\")","v":"Easy"},{"$f":"IF(AE79,COUNTIF($AF$5:AF79,AF79),\"X\")","v":28},{"$f":"CONCATENATE(AE79,AF79)","v":"TRUEEasy"}]
[{"$f":"CONCATENATE(AE80,D80,AG80)","v":"TRUEMedium36"},{"$f":"RAND()","v":0.2034979186549799},"Num","Medium",11,"Fill in the missing numbers:   ",{"$f":"RANDBETWEEN(11,95)*10+RANDBETWEEN(1,9)","v":451},{"$f":"G80+S80","v":461},{"$f":"H80+S80","v":471},"____","____",{"$f":"V80+S80","v":501},{"$f":"L80+S80","v":511},null,null,null,null,null,10,{"$f":"CONCATENATE(F80,\" \",G80,\",   \",H80,\",   \",I80,\",   \",J80,\",   \",K80,\",   \",L80,\",   \",M80,\" \",N80,\" \",O80,\" \",P80,\" \",Q80,\" \",R80)","v":"Fill in the missing numbers:    451,   461,   471,   ____,   ____,   501,   511     "},{"$f":"I80+S80","v":481},{"$f":"U80+S80","v":491},null,null,null,null,null,null,null,{"$f":"IF(OR(ISNA(U80),ISNA(V80),ISNA(W80),ISNA(X80),ISNA(Y80),ISNA(Z80),ISNA(AA80),ISNA(AB80),ISNA(AC80)),NA(),CONCATENATE(U80,\",   \",V80,W80,X80,Y80,Z80,AA80,AB80))","v":"481,   491"},{"$f":"IF(ISNA(AD80),FALSE,IF(C80=$B$1,Worksheet!$B$3,IF(C80=$C$1,Worksheet!$B$4,IF(C80=$D$1,Worksheet!$B$5,IF(C80=$E$1,Worksheet!$B$6,IF(C80=$B$2,Worksheet!$B$7,IF(C80=$C$2,Worksheet!$D$3,IF(C80=$D$2,Worksheet!$D$4,IF(C80=$E$2,Worksheet!$D$5,IF(C80=$C$3,Worksheet!$D$6,IF(C80=$B$3,Worksheet!$D$7,FALSE)))))))))))","v":true},{"$f":"IF(AE80,D80,\"\")","v":"Medium"},{"$f":"IF(AE80,COUNTIF($AF$5:AF80,AF80),\"X\")","v":36},{"$f":"CONCATENATE(AE80,AF80)","v":"TRUEMedium"}]
[{"$f":"CONCATENATE(AE81,D81,AG81)","v":"TRUEEasy29"},{"$f":"RAND()","v":0.86146777029448796},"Dec","Easy",137,"How many pence are there in £",{"$f":"RANDBETWEEN(1,9)","v":1},"?",null,null,null,null,null,null,null,null,null,null,null,{"$f":"CONCATENATE(F81,\"\",G81,\"\",H81,\" \",I81,\" \",J81,\" \",K81,\" \",L81,\" \",M81,\" \",N81,\" \",O81,\" \",P81,\" \",Q81,\" \",R81)","v":"How many pence are there in £1?          "},{"$f":"G81*100","v":100},"p",null,null,null,null,null,null,null,{"$f":"IF(OR(ISNA(U81),ISNA(V81),ISNA(W81),ISNA(X81),ISNA(Y81),ISNA(Z81),ISNA(AA81),ISNA(AB81),ISNA(AC81)),NA(),CONCATENATE(U81,V81,W81,X81,Y81,Z81,AA81,AB81))","v":"100p"},{"$f":"IF(ISNA(AD81),FALSE,IF(C81=$B$1,Worksheet!$B$3,IF(C81=$C$1,Worksheet!$B$4,IF(C81=$D$1,Worksheet!$B$5,IF(C81=$E$1,Worksheet!$B$6,IF(C81=$B$2,Worksheet!$B$7,IF(C81=$C$2,Worksheet!$D$3,IF(C81=$D$2,Worksheet!$D$4,IF(C81=$E$2,Worksheet!$D$5,IF(C81=$C$3,Worksheet!$D$6,IF(C81=$B$3,Worksheet!$D$7,FALSE)))))))))))","v":true},{"$f":"IF(AE81,D81,\"\")","v":"Easy"},{"$f":"IF(AE81,COUNTIF($AF$5:AF81,AF81),\"X\")","v":29},{"$f":"CONCATENATE(AE81,AF81)","v":"TRUEEasy"}]
[{"$f":"CONCATENATE(AE82,D82,AG82)","v":"TRUEMedium37"},{"$f":"RAND()","v":0.85370861003328946},"+-","Medium",56,"Add:   ",{"$f":"RANDBETWEEN(1,5)*10+RANDBETWEEN(1,9)","v":42},"+",{"$f":"RANDBETWEEN(2,5)*10","v":50},null,null,null,null,null,null,null,null,null,null,{"$f":"CONCATENATE(F82,\" \",G82,\" \",H82,\" \",I82,\" \",J82,\" \",K82,\" \",L82,\" \",M82,\" \",N82,\" \",O82,\" \",P82,\" \",Q82,\" \",R82)","v":"Add:    42 + 50         "},{"$f":"G82+I82","v":92},null,null,null,null,null,null,null,null,{"$f":"IF(OR(ISNA(U82),ISNA(V82),ISNA(W82),ISNA(X82),ISNA(Y82),ISNA(Z82),ISNA(AA82),ISNA(AB82),ISNA(AC82)),NA(),CONCATENATE(U82,V82,W82,X82,Y82,Z82,AA82,AB82))","v":"92"},{"$f":"IF(ISNA(AD82),FALSE,IF(C82=$B$1,Worksheet!$B$3,IF(C82=$C$1,Worksheet!$B$4,IF(C82=$D$1,Worksheet!$B$5,IF(C82=$E$1,Worksheet!$B$6,IF(C82=$B$2,Worksheet!$B$7,IF(C82=$C$2,Worksheet!$D$3,IF(C82=$D$2,Worksheet!$D$4,IF(C82=$E$2,Worksheet!$D$5,IF(C82=$C$3,Worksheet!$D$6,IF(C82=$B$3,Worksheet!$D$7,FALSE)))))))))))","v":true},{"$f":"IF(AE82,D82,\"\")","v":"Medium"},{"$f":"IF(AE82,COUNTIF($AF$5:AF82,AF82),\"X\")","v":37},{"$f":"CONCATENATE(AE82,AF82)","v":"TRUEMedium"}]
[{"$f":"CONCATENATE(AE83,D83,AG83)","v":"TRUEMedium38"},{"$f":"RAND()","v":0.74398335262547355},"Divide","Medium",94,"Divide:   ",{"$f":"3*RANDBETWEEN(1,10)","v":24},"÷",3,null,null,null,null,null,null,null,null,null,null,{"$f":"CONCATENATE(F83,\" \",G83,\" \",H83,\" \",I83,\" \",J83,\" \",K83,\" \",L83,\" \",M83,\" \",N83,\" \",O83,\" \",P83,\" \",Q83,\" \",R83)","v":"Divide:    24 ÷ 3         "},{"$f":"G83/I83","v":8},null,null,null,null,null,null,null,null,{"$f":"IF(OR(ISNA(U83),ISNA(V83),ISNA(W83),ISNA(X83),ISNA(Y83),ISNA(Z83),ISNA(AA83),ISNA(AB83),ISNA(AC83)),NA(),CONCATENATE(U83,V83,W83,X83,Y83,Z83,AA83,AB83))","v":"8"},{"$f":"IF(ISNA(AD83),FALSE,IF(C83=$B$1,Worksheet!$B$3,IF(C83=$C$1,Worksheet!$B$4,IF(C83=$D$1,Worksheet!$B$5,IF(C83=$E$1,Worksheet!$B$6,IF(C83=$B$2,Worksheet!$B$7,IF(C83=$C$2,Worksheet!$D$3,IF(C83=$D$2,Worksheet!$D$4,IF(C83=$E$2,Worksheet!$D$5,IF(C83=$C$3,Worksheet!$D$6,IF(C83=$B$3,Worksheet!$D$7,FALSE)))))))))))","v":true},{"$f":"IF(AE83,D83,\"\")","v":"Medium"},{"$f":"IF(AE83,COUNTIF($AF$5:AF83,AF83),\"X\")","v":38},{"$f":"CONCATENATE(AE83,AF83)","v":"TRUEMedium"}]
[{"$f":"CONCATENATE(AE84,D84,AG84)","v":"TRUEMedium39"},{"$f":"RAND()","v":0.16653248275907218},"Divide","Medium",97,"Divide:   ",{"$f":"10*RANDBETWEEN(1,10)","v":80},"÷",10,null,null,null,null,null,null,null,null,null,null,{"$f":"CONCATENATE(F84,\" \",G84,\" \",H84,\" \",I84,\" \",J84,\" \",K84,\" \",L84,\" \",M84,\" \",N84,\" \",O84,\" \",P84,\" \",Q84,\" \",R84)","v":"Divide:    80 ÷ 10         "},{"$f":"G84/I84","v":8},null,null,null,null,null,null,null,null,{"$f":"IF(OR(ISNA(U84),ISNA(V84),ISNA(W84),ISNA(X84),ISNA(Y84),ISNA(Z84),ISNA(AA84),ISNA(AB84),ISNA(AC84)),NA(),CONCATENATE(U84,V84,W84,X84,Y84,Z84,AA84,AB84))","v":"8"},{"$f":"IF(ISNA(AD84),FALSE,IF(C84=$B$1,Worksheet!$B$3,IF(C84=$C$1,Worksheet!$B$4,IF(C84=$D$1,Worksheet!$B$5,IF(C84=$E$1,Worksheet!$B$6,IF(C84=$B$2,Worksheet!$B$7,IF(C84=$C$2,Worksheet!$D$3,IF(C84=$D$2,Worksheet!$D$4,IF(C84=$E$2,Worksheet!$D$5,IF(C84=$C$3,Worksheet!$D$6,IF(C84=$B$3,Worksheet!$D$7,FALSE)))))))))))","v":true},{"$f":"IF(AE84,D84,\"\")","v":"Medium"},{"$f":"IF(AE84,COUNTIF($AF$5:AF84,AF84),\"X\")","v":39},{"$f":"CONCATENATE(AE84,AF84)","v":"TRUEMedium"}]
[{"$f":"CONCATENATE(AE85,D85,AG85)","v":"TRUEMedium40"},{"$f":"RAND()","v":0.98975752518527982},"Num","Medium",12,"Fill in the missing numbers:   ",{"$f":"RANDBETWEEN(11,95)*10+RANDBETWEEN(1,9)","v":721},{"$f":"G85+S85","v":711},{"$f":"H85+S85","v":701},"____","____",{"$f":"V85+S85","v":671},{"$f":"L85+S85","v":661},null,null,null,null,null,-10,{"$f":"CONCATENATE(F85,\" \",G85,\",   \",H85,\",   \",I85,\",   \",J85,\",   \",K85,\",   \",L85,\",   \",M85,\" \",N85,\" \",O85,\" \",P85,\" \",Q85,\" \",R85)","v":"Fill in the missing numbers:    721,   711,   701,   ____,   ____,   671,   661     "},{"$f":"I85+S85","v":691},{"$f":"U85+S85","v":681},null,null,null,null,null,null,null,{"$f":"IF(OR(ISNA(U85),ISNA(V85),ISNA(W85),ISNA(X85),ISNA(Y85),ISNA(Z85),ISNA(AA85),ISNA(AB85),ISNA(AC85)),NA(),CONCATENATE(U85,\",   \",V85,W85,X85,Y85,Z85,AA85,AB85))","v":"691,   681"},{"$f":"IF(ISNA(AD85),FALSE,IF(C85=$B$1,Worksheet!$B$3,IF(C85=$C$1,Worksheet!$B$4,IF(C85=$D$1,Worksheet!$B$5,IF(C85=$E$1,Worksheet!$B$6,IF(C85=$B$2,Worksheet!$B$7,IF(C85=$C$2,Worksheet!$D$3,IF(C85=$D$2,Worksheet!$D$4,IF(C85=$E$2,Worksheet!$D$5,IF(C85=$C$3,Worksheet!$D$6,IF(C85=$B$3,Worksheet!$D$7,FALSE)))))))))))","v":true},{"$f":"IF(AE85,D85,\"\")","v":"Medium"},{"$f":"IF(AE85,COUNTIF($AF$5:AF85,AF85),\"X\")","v":40},{"$f":"CONCATENATE(AE85,AF85)","v":"TRUEMedium"}]
[{"$f":"CONCATENATE(AE86,D86,AG86)","v":"TRUEEasy30"},{"$f":"RAND()","v":0.42537256819501978},"+-","Easy",45,"Fill in the missing number:   ","____ +",{"$f":"RANDBETWEEN(1,8)*10+RANDBETWEEN(1,9)","v":81},"=",{"$f":"INT(H86/10)*10+10","v":90},null,null,null,null,null,null,null,null,null,{"$f":"CONCATENATE(F86,\" \",G86,\" \",H86,\" \",I86,\" \",J86,\" \",K86,\" \",L86,\" \",M86,\" \",N86,\" \",O86,\" \",P86,\" \",Q86,\" \",R86)","v":"Fill in the missing number:    ____ + 81 = 90        "},{"$f":"J86-H86","v":9},null,null,null,null,null,null,null,null,{"$f":"IF(OR(ISNA(U86),ISNA(V86),ISNA(W86),ISNA(X86),ISNA(Y86),ISNA(Z86),ISNA(AA86),ISNA(AB86),ISNA(AC86)),NA(),CONCATENATE(U86,V86,W86,X86,Y86,Z86,AA86,AB86))","v":"9"},{"$f":"IF(ISNA(AD86),FALSE,IF(C86=$B$1,Worksheet!$B$3,IF(C86=$C$1,Worksheet!$B$4,IF(C86=$D$1,Worksheet!$B$5,IF(C86=$E$1,Worksheet!$B$6,IF(C86=$B$2,Worksheet!$B$7,IF(C86=$C$2,Worksheet!$D$3,IF(C86=$D$2,Worksheet!$D$4,IF(C86=$E$2,Worksheet!$D$5,IF(C86=$C$3,Worksheet!$D$6,IF(C86=$B$3,Worksheet!$D$7,FALSE)))))))))))","v":true},{"$f":"IF(AE86,D86,\"\")","v":"Easy"},{"$f":"IF(AE86,COUNTIF($AF$5:AF86,AF86),\"X\")","v":30},{"$f":"CONCATENATE(AE86,AF86)","v":"TRUEEasy"}]
[{"$f":"CONCATENATE(AE87,D87,AG87)","v":"TRUEEasy31"},{"$f":"RAND()","v":0.37837039312882892},"%","Easy",148,"What does 0% mean?",null,null,null,null,null,null,null,null,null,null,null,null,null,{"$f":"CONCATENATE(F87,\" \",G87,\" \",H87,\" \",I87,\" \",J87,\" \",K87,\" \",L87,\" \",M87,\" \",N87,\" \",O87,\" \",P87,\" \",Q87,\" \",R87)","v":"What does 0% mean?            "},"none",null,null,null,null,null,null,null,null,{"$f":"IF(OR(ISNA(U87),ISNA(V87),ISNA(W87),ISNA(X87),ISNA(Y87),ISNA(Z87),ISNA(AA87),ISNA(AB87),ISNA(AC87)),NA(),CONCATENATE(U87,V87,W87,X87,Y87,Z87,AA87,AB87))","v":"none"},{"$f":"IF(ISNA(AD87),FALSE,IF(C87=$B$1,Worksheet!$B$3,IF(C87=$C$1,Worksheet!$B$4,IF(C87=$D$1,Worksheet!$B$5,IF(C87=$E$1,Worksheet!$B$6,IF(C87=$B$2,Worksheet!$B$7,IF(C87=$C$2,Worksheet!$D$3,IF(C87=$D$2,Worksheet!$D$4,IF(C87=$E$2,Worksheet!$D$5,IF(C87=$C$3,Worksheet!$D$6,IF(C87=$B$3,Worksheet!$D$7,FALSE)))))))))))","v":true},{"$f":"IF(AE87,D87,\"\")","v":"Easy"},{"$f":"IF(AE87,COUNTIF($AF$5:AF87,AF87),\"X\")","v":31},{"$f":"CONCATENATE(AE87,AF87)","v":"TRUEEasy"}]
[{"$f":"CONCATENATE(AE88,D88,AG88)","v":"TRUEEasy32"},{"$f":"RAND()","v":0.64803640230814197},"Num","Easy",173,"What is the number before",{"$f":"RANDBETWEEN(2,10)*100","v":200},"?",null,null,null,null,null,null,null,null,null,null,null,{"$f":"CONCATENATE(F88,\" \",G88,\"\",H88,\" \",I88,\" \",J88,\" \",K88,\" \",L88,\" \",M88,\" \",N88,\" \",O88,\" \",P88,\" \",Q88,\" \",R88)","v":"What is the number before 200?          "},{"$f":"G88-1","v":199},null,null,null,null,null,null,null,null,{"$f":"IF(OR(ISNA(U88),ISNA(V88),ISNA(W88),ISNA(X88),ISNA(Y88),ISNA(Z88),ISNA(AA88),ISNA(AB88),ISNA(AC88)),NA(),CONCATENATE(U88,V88,W88,X88,Y88,Z88,AA88,AB88))","v":"199"},{"$f":"IF(ISNA(AD88),FALSE,IF(C88=$B$1,Worksheet!$B$3,IF(C88=$C$1,Worksheet!$B$4,IF(C88=$D$1,Worksheet!$B$5,IF(C88=$E$1,Worksheet!$B$6,IF(C88=$B$2,Worksheet!$B$7,IF(C88=$C$2,Worksheet!$D$3,IF(C88=$D$2,Worksheet!$D$4,IF(C88=$E$2,Worksheet!$D$5,IF(C88=$C$3,Worksheet!$D$6,IF(C88=$B$3,Worksheet!$D$7,FALSE)))))))))))","v":true},{"$f":"IF(AE88,D88,\"\")","v":"Easy"},{"$f":"IF(AE88,COUNTIF($AF$5:AF88,AF88),\"X\")","v":32},{"$f":"CONCATENATE(AE88,AF88)","v":"TRUEEasy"}]
[{"$f":"CONCATENATE(AE89,D89,AG89)","v":"TRUEEasy33"},{"$f":"RAND()","v":0.67440438145228443},"Num","Easy",14,"Fill in the missing numbers:   ",{"$f":"RANDBETWEEN(1,3)*100","v":300},{"$f":"G89+S89","v":400},{"$f":"H89+S89","v":500},"____","____",{"$f":"V89+S89","v":800},{"$f":"L89+S89","v":900},null,null,null,null,null,100,{"$f":"CONCATENATE(F89,\" \",G89,\",   \",H89,\",   \",I89,\",   \",J89,\",   \",K89,\",   \",L89,\",   \",M89,\" \",N89,\" \",O89,\" \",P89,\" \",Q89,\" \",R89)","v":"Fill in the missing numbers:    300,   400,   500,   ____,   ____,   800,   900     "},{"$f":"I89+S89","v":600},{"$f":"U89+S89","v":700},null,null,null,null,null,null,null,{"$f":"IF(OR(ISNA(U89),ISNA(V89),ISNA(W89),ISNA(X89),ISNA(Y89),ISNA(Z89),ISNA(AA89),ISNA(AB89),ISNA(AC89)),NA(),CONCATENATE(U89,\",   \",V89,W89,X89,Y89,Z89,AA89,AB89))","v":"600,   700"},{"$f":"IF(ISNA(AD89),FALSE,IF(C89=$B$1,Worksheet!$B$3,IF(C89=$C$1,Worksheet!$B$4,IF(C89=$D$1,Worksheet!$B$5,IF(C89=$E$1,Worksheet!$B$6,IF(C89=$B$2,Worksheet!$B$7,IF(C89=$C$2,Worksheet!$D$3,IF(C89=$D$2,Worksheet!$D$4,IF(C89=$E$2,Worksheet!$D$5,IF(C89=$C$3,Worksheet!$D$6,IF(C89=$B$3,Worksheet!$D$7,FALSE)))))))))))","v":true},{"$f":"IF(AE89,D89,\"\")","v":"Easy"},{"$f":"IF(AE89,COUNTIF($AF$5:AF89,AF89),\"X\")","v":33},{"$f":"CONCATENATE(AE89,AF89)","v":"TRUEEasy"}]
[{"$f":"CONCATENATE(AE90,D90,AG90)","v":"TRUEEasy34"},{"$f":"RAND()","v":0.63161304842760591},"Mult","Easy",75,"What is",{"$f":"RANDBETWEEN(2,5)","v":4},"×",{"$f":"RANDBETWEEN(2,5)","v":4},"?",null,null,null,null,null,null,null,null,null,{"$f":"CONCATENATE(F90,\" \",G90,\" \",H90,\" \",I90,\" \",J90,\" \",K90,\" \",L90,\" \",M90,\" \",N90,\" \",O90,\" \",P90,\" \",Q90,\" \",R90)","v":"What is 4 × 4 ?        "},{"$f":"G90*I90","v":16},null,null,null,null,null,null,null,null,{"$f":"IF(OR(ISNA(U90),ISNA(V90),ISNA(W90),ISNA(X90),ISNA(Y90),ISNA(Z90),ISNA(AA90),ISNA(AB90),ISNA(AC90)),NA(),CONCATENATE(U90,V90,W90,X90,Y90,Z90,AA90,AB90))","v":"16"},{"$f":"IF(ISNA(AD90),FALSE,IF(C90=$B$1,Worksheet!$B$3,IF(C90=$C$1,Worksheet!$B$4,IF(C90=$D$1,Worksheet!$B$5,IF(C90=$E$1,Worksheet!$B$6,IF(C90=$B$2,Worksheet!$B$7,IF(C90=$C$2,Worksheet!$D$3,IF(C90=$D$2,Worksheet!$D$4,IF(C90=$E$2,Worksheet!$D$5,IF(C90=$C$3,Worksheet!$D$6,IF(C90=$B$3,Worksheet!$D$7,FALSE)))))))))))","v":true},{"$f":"IF(AE90,D90,\"\")","v":"Easy"},{"$f":"IF(AE90,COUNTIF($AF$5:AF90,AF90),\"X\")","v":34},{"$f":"CONCATENATE(AE90,AF90)","v":"TRUEEasy"}]
[{"$f":"CONCATENATE(AE91,D91,AG91)","v":"TRUEMedium41"},{"$f":"RAND()","v":0.92941421465011742},"+-","Medium",60,"Add:   ",{"$f":"RANDBETWEEN(2,8)*10+RANDBETWEEN(5,9)","v":85},"+",{"$f":"RANDBETWEEN(5,9)","v":7},null,null,null,null,null,null,null,null,null,null,{"$f":"CONCATENATE(F91,\" \",G91,\" \",H91,\" \",I91,\" \",J91,\" \",K91,\" \",L91,\" \",M91,\" \",N91,\" \",O91,\" \",P91,\" \",Q91,\" \",R91)","v":"Add:    85 + 7         "},{"$f":"G91+I91","v":92},null,null,null,null,null,null,null,null,{"$f":"IF(OR(ISNA(U91),ISNA(V91),ISNA(W91),ISNA(X91),ISNA(Y91),ISNA(Z91),ISNA(AA91),ISNA(AB91),ISNA(AC91)),NA(),CONCATENATE(U91,V91,W91,X91,Y91,Z91,AA91,AB91))","v":"92"},{"$f":"IF(ISNA(AD91),FALSE,IF(C91=$B$1,Worksheet!$B$3,IF(C91=$C$1,Worksheet!$B$4,IF(C91=$D$1,Worksheet!$B$5,IF(C91=$E$1,Worksheet!$B$6,IF(C91=$B$2,Worksheet!$B$7,IF(C91=$C$2,Worksheet!$D$3,IF(C91=$D$2,Worksheet!$D$4,IF(C91=$E$2,Worksheet!$D$5,IF(C91=$C$3,Worksheet!$D$6,IF(C91=$B$3,Worksheet!$D$7,FALSE)))))))))))","v":true},{"$f":"IF(AE91,D91,\"\")","v":"Medium"},{"$f":"IF(AE91,COUNTIF($AF$5:AF91,AF91),\"X\")","v":41},{"$f":"CONCATENATE(AE91,AF91)","v":"TRUEMedium"}]
[{"$f":"CONCATENATE(AE92,D92,AG92)","v":"TRUEMedium42"},{"$f":"RAND()","v":0.99507511889617051},"Num","Medium",19,"Continue the pattern for three more numbers:   ",{"$f":"RANDBETWEEN(30,80)","v":69},{"$f":"G92+S92","v":64},{"$f":"H92+S92","v":59},{"$f":"I92+S92","v":54},"____","____","____",null,null,null,null,null,{"$f":"RANDBETWEEN(2,5)*(-1)","v":-5},{"$f":"CONCATENATE(F92,\" \",G92,\",   \",H92,\",   \",I92,\",   \",J92,\",   \",K92,\",   \",L92,\",   \",M92,\" \",N92,\" \",O92,\" \",P92,\" \",Q92,\" \",R92)","v":"Continue the pattern for three more numbers:    69,   64,   59,   54,   ____,   ____,   ____     "},{"$f":"J92+S92","v":49},{"$f":"U92+S92","v":44},null,null,null,null,null,null,null,{"$f":"IF(OR(ISNA(U92),ISNA(V92),ISNA(W92),ISNA(X92),ISNA(Y92),ISNA(Z92),ISNA(AA92),ISNA(AB92),ISNA(AC92)),NA(),CONCATENATE(U92,\",   \",V92,W92,X92,Y92,Z92,AA92,AB92))","v":"49,   44"},{"$f":"IF(ISNA(AD92),FALSE,IF(C92=$B$1,Worksheet!$B$3,IF(C92=$C$1,Worksheet!$B$4,IF(C92=$D$1,Worksheet!$B$5,IF(C92=$E$1,Worksheet!$B$6,IF(C92=$B$2,Worksheet!$B$7,IF(C92=$C$2,Worksheet!$D$3,IF(C92=$D$2,Worksheet!$D$4,IF(C92=$E$2,Worksheet!$D$5,IF(C92=$C$3,Worksheet!$D$6,IF(C92=$B$3,Worksheet!$D$7,FALSE)))))))))))","v":true},{"$f":"IF(AE92,D92,\"\")","v":"Medium"},{"$f":"IF(AE92,COUNTIF($AF$5:AF92,AF92),\"X\")","v":42},{"$f":"CONCATENATE(AE92,AF92)","v":"TRUEMedium"}]
[{"$f":"CONCATENATE(AE93,D93,AG93)","v":"TRUEMedium43"},{"$f":"RAND()","v":0.66575056666320076},"Divide","Medium",101,"Divide:   ",{"$f":"3*RANDBETWEEN(1,10)+RANDBETWEEN(1,2)","v":32},"÷",3,", showing the remainder",null,null,null,null,null,null,null,null,null,{"$f":"CONCATENATE(F93,\" \",G93,\" \",H93,\" \",I93,\" \",J93,\" \",K93,\" \",L93,\" \",M93,\" \",N93,\" \",O93,\" \",P93,\" \",Q93,\" \",R93)","v":"Divide:    32 ÷ 3 , showing the remainder        "},{"$f":"INT(G93/I93)","v":10},"r",{"$f":"MOD(G93,I93)","v":2},null,null,null,null,null,null,{"$f":"IF(OR(ISNA(U93),ISNA(V93),ISNA(W93),ISNA(X93),ISNA(Y93),ISNA(Z93),ISNA(AA93),ISNA(AB93),ISNA(AC93)),NA(),CONCATENATE(U93,V93,W93,X93,Y93,Z93,AA93,AB93))","v":"10r2"},{"$f":"IF(ISNA(AD93),FALSE,IF(C93=$B$1,Worksheet!$B$3,IF(C93=$C$1,Worksheet!$B$4,IF(C93=$D$1,Worksheet!$B$5,IF(C93=$E$1,Worksheet!$B$6,IF(C93=$B$2,Worksheet!$B$7,IF(C93=$C$2,Worksheet!$D$3,IF(C93=$D$2,Worksheet!$D$4,IF(C93=$E$2,Worksheet!$D$5,IF(C93=$C$3,Worksheet!$D$6,IF(C93=$B$3,Worksheet!$D$7,FALSE)))))))))))","v":true},{"$f":"IF(AE93,D93,\"\")","v":"Medium"},{"$f":"IF(AE93,COUNTIF($AF$5:AF93,AF93),\"X\")","v":43},{"$f":"CONCATENATE(AE93,AF93)","v":"TRUEMedium"}]
[{"$f":"CONCATENATE(AE94,D94,AG94)","v":"TRUEHard13"},{"$f":"RAND()","v":0.97944008229588397},"Round","Hard",166,"Round",{"$f":"RANDBETWEEN(10,99)*10+RANDBETWEEN(1,9)","v":634},"to the nearest ten",null,null,null,null,null,null,null,null,null,null,null,{"$f":"CONCATENATE(F94,\" \",G94,\" \",H94,\" \",I94,\" \",J94,\" \",K94,\" \",L94,\" \",M94,\" \",N94,\" \",O94,\" \",P94,\" \",Q94,\" \",R94)","v":"Round 634 to the nearest ten          "},{"$f":"MROUND(G94,10)","v":630},null,null,null,null,null,null,null,null,{"$f":"IF(OR(ISNA(U94),ISNA(V94),ISNA(W94),ISNA(X94),ISNA(Y94),ISNA(Z94),ISNA(AA94),ISNA(AB94),ISNA(AC94)),NA(),CONCATENATE(U94,V94,W94,X94,Y94,Z94,AA94,AB94))","v":"630"},{"$f":"IF(ISNA(AD94),FALSE,IF(C94=$B$1,Worksheet!$B$3,IF(C94=$C$1,Worksheet!$B$4,IF(C94=$D$1,Worksheet!$B$5,IF(C94=$E$1,Worksheet!$B$6,IF(C94=$B$2,Worksheet!$B$7,IF(C94=$C$2,Worksheet!$D$3,IF(C94=$D$2,Worksheet!$D$4,IF(C94=$E$2,Worksheet!$D$5,IF(C94=$C$3,Worksheet!$D$6,IF(C94=$B$3,Worksheet!$D$7,FALSE)))))))))))","v":true},{"$f":"IF(AE94,D94,\"\")","v":"Hard"},{"$f":"IF(AE94,COUNTIF($AF$5:AF94,AF94),\"X\")","v":13},{"$f":"CONCATENATE(AE94,AF94)","v":"TRUEHard"}]
[{"$f":"CONCATENATE(AE95,D95,AG95)","v":"TRUEEasy35"},{"$f":"RAND()","v":0.60079147405588496},"Num","Easy",2,"Write the number   \"",{"$f":"CHOOSE(RANDBETWEEN(1,9),\"one\",\"two\",\"three\",\"four\",\"five\",\"six\",\"seven\",\"eight\",\"nine\")","v":"one"},"thousand, ",{"$f":"CHOOSE(RANDBETWEEN(1,9),\"one\",\"two\",\"three\",\"four\",\"five\",\"six\",\"seven\",\"eight\",\"nine\")","v":"five"},"hundred and",null,{"$f":"CHOOSE(S95,CHOOSE(RANDBETWEEN(1,10),\"ten\",\"eleven\",\"twelve\",\"thirteen\",\"fourteen\",\"fifteen\",\"sixteen\",\"seventeen\",\"eighteen\",\"nineteen\"),\"twenty\",\"thirty\",\"forty\",\"fifty\",\"sixty\",\"seventy\",\"eighty\",\"ninety\")","v":"seventy"},{"$f":"IF(S95=1,\"\",CHOOSE(RANDBETWEEN(1,9),\"one\",\"two\",\"three\",\"four\",\"five\",\"six\",\"seven\",\"eight\",\"nine\"))","v":"one"},"\"   in figures",null,null,null,null,{"$f":"RANDBETWEEN(1,9)","v":7},{"$f":"CONCATENATE(F95,\"\",G95,\" \",H95,\" \",I95,\" \",J95,\" \",K95,\" \",L95,\" \",M95,\"\",N95,\" \",O95,\" \",P95,\" \",Q95,\" \",R95)","v":"Write the number   \"one thousand,  five hundred and  seventy one\"   in figures    "},{"$f":"IF(G95=\"one\",1,IF(G95=\"two\",2,IF(G95=\"three\",3,IF(G95=\"four\",4,IF(G95=\"five\",5,IF(G95=\"six\",6,IF(G95=\"seven\",7,IF(G95=\"eight\",8,9))))))))","v":1},{"$f":"IF(I95=\"one\",1,IF(I95=\"two\",2,IF(I95=\"three\",3,IF(I95=\"four\",4,IF(I95=\"five\",5,IF(I95=\"six\",6,IF(I95=\"seven\",7,IF(I95=\"eight\",8,9))))))))","v":5},{"$f":"S95","v":7},{"$f":"IF(S95=1,IF(L95=\"ten\",0,IF(L95=\"eleven\",1,IF(L95=\"twelve\",2,IF(L95=\"thirteen\",3,IF(L95=\"fourteen\",4,IF(L95=\"fifteen\",5,IF(L95=\"sixteen\",6,IF(L95=\"seventeen\",7,IF(L95=\"eighteen\",8,9))))))))),\"\")","v":""},{"$f":"IF(S95<>1,IF(M95=\"one\",1,IF(M95=\"two\",2,IF(M95=\"three\",3,IF(M95=\"four\",4,IF(M95=\"five\",5,IF(M95=\"six\",6,IF(M95=\"seven\",7,IF(M95=\"eight\",8,9)))))))),\"\")","v":1},null,null,null,null,{"$f":"IF(OR(ISNA(U95),ISNA(V95),ISNA(W95),ISNA(X95),ISNA(Y95),ISNA(Z95),ISNA(AA95),ISNA(AB95),ISNA(AC95)),NA(),TEXT(CONCATENATE(U95,V95,W95,X95,Y95,Z95,AA95,AB95),\"#,###\"))","v":"1,571"},{"$f":"IF(ISNA(AD95),FALSE,IF(C95=$B$1,Worksheet!$B$3,IF(C95=$C$1,Worksheet!$B$4,IF(C95=$D$1,Worksheet!$B$5,IF(C95=$E$1,Worksheet!$B$6,IF(C95=$B$2,Worksheet!$B$7,IF(C95=$C$2,Worksheet!$D$3,IF(C95=$D$2,Worksheet!$D$4,IF(C95=$E$2,Worksheet!$D$5,IF(C95=$C$3,Worksheet!$D$6,IF(C95=$B$3,Worksheet!$D$7,FALSE)))))))))))","v":true},{"$f":"IF(AE95,D95,\"\")","v":"Easy"},{"$f":"IF(AE95,COUNTIF($AF$5:AF95,AF95),\"X\")","v":35},{"$f":"CONCATENATE(AE95,AF95)","v":"TRUEEasy"}]
[{"$f":"CONCATENATE(AE96,D96,AG96)","v":"TRUEMedium44"},{"$f":"RAND()","v":0.3690132151139377},"%","Medium",159,{"$f":"RANDBETWEEN(1,9)*10","v":90},"of the children at a",{"$f":"CHOOSE(RANDBETWEEN(1,3),\"youth club\",\"party\",\"school trip\")","v":"youth club"},"are",{"$f":"IF(RAND()<0.5,\"girls\",\"boys\")","v":"girls"},".  What percentage are",{"$f":"IF(I96=\"girls\",\"boys\",\"girls\")","v":"girls"},"?",null,null,null,null,null,null,{"$f":"CONCATENATE(F96,\"% \",G96,\" \",H96,\" \",I96,\" \",J96,\"\",K96,\" \",L96,\"\",M96,\" \",N96,\" \",O96,\" \",P96,\" \",Q96,\" \",R96)","v":"90% of the children at a youth club are girls.  What percentage are girls?     "},{"$f":"100-F96","v":10},"%",null,null,null,null,null,null,null,{"$f":"IF(OR(ISNA(U96),ISNA(V96),ISNA(W96),ISNA(X96),ISNA(Y96),ISNA(Z96),ISNA(AA96),ISNA(AB96),ISNA(AC96)),NA(),CONCATENATE(U96,V96,W96,X96,Y96,Z96,AA96,AB96))","v":"10%"},{"$f":"IF(ISNA(AD96),FALSE,IF(C96=$B$1,Worksheet!$B$3,IF(C96=$C$1,Worksheet!$B$4,IF(C96=$D$1,Worksheet!$B$5,IF(C96=$E$1,Worksheet!$B$6,IF(C96=$B$2,Worksheet!$B$7,IF(C96=$C$2,Worksheet!$D$3,IF(C96=$D$2,Worksheet!$D$4,IF(C96=$E$2,Worksheet!$D$5,IF(C96=$C$3,Worksheet!$D$6,IF(C96=$B$3,Worksheet!$D$7,FALSE)))))))))))","v":true},{"$f":"IF(AE96,D96,\"\")","v":"Medium"},{"$f":"IF(AE96,COUNTIF($AF$5:AF96,AF96),\"X\")","v":44},{"$f":"CONCATENATE(AE96,AF96)","v":"TRUEMedium"}]
[{"$f":"CONCATENATE(AE97,D97,AG97)","v":"TRUEEasy36"},{"$f":"RAND()","v":0.31887250350013341},"Dec","Easy",134,"A",{"$f":"CHOOSE(RANDBETWEEN(1,3),\"chocolate bar\",\"card\",\"cake\")","v":"card"},"costs",{"$f":"RANDBETWEEN(3,9)*10","v":80},"p.  How much change do you get from £1?",null,null,null,null,null,null,null,null,null,{"$f":"CONCATENATE(F97,\" \",G97,\" \",H97,\" \",I97,\"\",J97,\"\",K97,\" \",L97,\" \",M97,\" \",N97,\" \",O97,\" \",P97,\" \",Q97,\" \",R97)","v":"A card costs 80p.  How much change do you get from £1?       "},{"$f":"100-I97","v":20},"p",null,null,null,null,null,null,null,{"$f":"IF(OR(ISNA(U97),ISNA(V97),ISNA(W97),ISNA(X97),ISNA(Y97),ISNA(Z97),ISNA(AA97),ISNA(AB97),ISNA(AC97)),NA(),CONCATENATE(U97,V97,W97,X97,Y97,Z97,AA97,AB97))","v":"20p"},{"$f":"IF(ISNA(AD97),FALSE,IF(C97=$B$1,Worksheet!$B$3,IF(C97=$C$1,Worksheet!$B$4,IF(C97=$D$1,Worksheet!$B$5,IF(C97=$E$1,Worksheet!$B$6,IF(C97=$B$2,Worksheet!$B$7,IF(C97=$C$2,Worksheet!$D$3,IF(C97=$D$2,Worksheet!$D$4,IF(C97=$E$2,Worksheet!$D$5,IF(C97=$C$3,Worksheet!$D$6,IF(C97=$B$3,Worksheet!$D$7,FALSE)))))))))))","v":true},{"$f":"IF(AE97,D97,\"\")","v":"Easy"},{"$f":"IF(AE97,COUNTIF($AF$5:AF97,AF97),\"X\")","v":36},{"$f":"CONCATENATE(AE97,AF97)","v":"TRUEEasy"}]
[{"$f":"CONCATENATE(AE98,D98,AG98)","v":"TRUEHard14"},{"$f":"RAND()","v":0.38329566692946848},"Num","Hard",38,"Write these numbers in order from",{"$f":"CHOOSE(RANDBETWEEN(1,2),\"smallest to biggest:\",\"biggest to smallest:\")","v":"smallest to biggest:"},{"$f":"IF($O98=1,$P98*1000,IF($O98=2,$Q98*1000,IF($O98=3,$R98*1000,$S98*1000)))+IF(RAND()<0.5,$R98,$S98)*100+IF(RAND()<0.5,$P98,$Q98)*10+CHOOSE(RANDBETWEEN(1,4),$P98,$Q98,$R98,$S98)","v":5855},{"$f":"IF($O98=1,$P98*1000,IF($O98=2,$Q98*1000,IF($O98=3,$R98*1000,$S98*1000)))+IF(RAND()<0.5,$R98,$S98)*100+IF(RAND()<0.5,$P98,$Q98)*10+CHOOSE(RANDBETWEEN(1,4),$P98,$Q98,$R98,$S98)","v":5888},{"$f":"IF($O98=1,$P98*1000,IF($O98=2,$Q98*1000,IF($O98=3,$R98*1000,$S98*1000)))+IF(RAND()<0.5,$R98,$S98)*100+IF(RAND()<0.5,$P98,$Q98)*10+CHOOSE(RANDBETWEEN(1,4),$P98,$Q98,$R98,$S98)","v":5858},{"$f":"IF($O98=1,$P98*1000,IF($O98=2,$Q98*1000,IF($O98=3,$R98*1000,$S98*1000)))+IF(RAND()<0.5,$R98,$S98)*100+IF(RAND()<0.5,$P98,$Q98)*10+CHOOSE(RANDBETWEEN(1,4),$P98,$Q98,$R98,$S98)","v":5787},null,null,null,{"$f":"RANDBETWEEN(1,4)","v":1},{"$f":"RANDBETWEEN(1,9)","v":5},{"$f":"RANDBETWEEN(1,9)","v":8},{"$f":"RANDBETWEEN(1,9)","v":8},{"$f":"RANDBETWEEN(1,9)","v":7},{"$f":"CONCATENATE(F98,\" \",G98,\"   \",H98,\",  \",I98,\",  \",J98,\",  \",K98,\" \",L98,\" \",M98,\" \",N98)","v":"Write these numbers in order from smallest to biggest:   5855,  5888,  5858,  5787   "},{"$f":"IF($G98=\"smallest to biggest:\",LARGE($H98:$K98,4),LARGE($H98:$K98,1))","v":5787},{"$f":"IF($G98=\"smallest to biggest:\",LARGE($H98:$K98,3),LARGE($H98:$K98,2))","v":5855},{"$f":"IF($G98=\"smallest to biggest:\",LARGE($H98:$K98,2),LARGE($H98:$K98,3))","v":5858},{"$f":"IF($G98=\"smallest to biggest:\",LARGE($H98:$K98,1),LARGE($H98:$K98,4))","v":5888},null,{"$f":"IF(OR(H98=I98,H98=J98,H98=K98,I98=J98,I98=K98,J98=K98),NA(),\"\")","v":""},null,null,null,{"$f":"IF(OR(ISNA(U98),ISNA(V98),ISNA(W98),ISNA(X98),ISNA(Y98),ISNA(Z98),ISNA(AA98),ISNA(AB98),ISNA(AC98)),NA(),CONCATENATE(U98,\",  \",V98,\",  \",W98,\",  \",X98,Y98,Z98,AA98,AB98))","v":"5787,  5855,  5858,  5888"},{"$f":"IF(ISNA(AD98),FALSE,IF(C98=$B$1,Worksheet!$B$3,IF(C98=$C$1,Worksheet!$B$4,IF(C98=$D$1,Worksheet!$B$5,IF(C98=$E$1,Worksheet!$B$6,IF(C98=$B$2,Worksheet!$B$7,IF(C98=$C$2,Worksheet!$D$3,IF(C98=$D$2,Worksheet!$D$4,IF(C98=$E$2,Worksheet!$D$5,IF(C98=$C$3,Worksheet!$D$6,IF(C98=$B$3,Worksheet!$D$7,FALSE)))))))))))","v":true},{"$f":"IF(AE98,D98,\"\")","v":"Hard"},{"$f":"IF(AE98,COUNTIF($AF$5:AF98,AF98),\"X\")","v":14},{"$f":"CONCATENATE(AE98,AF98)","v":"TRUEHard"}]
[{"$f":"CONCATENATE(AE99,D99,AG99)","v":"TRUEHard15"},{"$f":"RAND()","v":0.10908854872785889},"Divide","Hard",92,"What is half of ",{"$f":"200*RANDBETWEEN(1,4)+100","v":700},"?",null,null,null,null,null,null,null,null,null,null,null,{"$f":"CONCATENATE(F99,\" \",G99,\"\",H99,\" \",I99,\" \",J99,\" \",K99,\" \",L99,\" \",M99,\" \",N99,\" \",O99,\" \",P99,\" \",Q99,\" \",R99)","v":"What is half of  700?          "},{"$f":"G99/2","v":350},null,null,null,null,null,null,null,null,{"$f":"IF(OR(ISNA(U99),ISNA(V99),ISNA(W99),ISNA(X99),ISNA(Y99),ISNA(Z99),ISNA(AA99),ISNA(AB99),ISNA(AC99)),NA(),CONCATENATE(U99,V99,W99,X99,Y99,Z99,AA99,AB99))","v":"350"},{"$f":"IF(ISNA(AD99),FALSE,IF(C99=$B$1,Worksheet!$B$3,IF(C99=$C$1,Worksheet!$B$4,IF(C99=$D$1,Worksheet!$B$5,IF(C99=$E$1,Worksheet!$B$6,IF(C99=$B$2,Worksheet!$B$7,IF(C99=$C$2,Worksheet!$D$3,IF(C99=$D$2,Worksheet!$D$4,IF(C99=$E$2,Worksheet!$D$5,IF(C99=$C$3,Worksheet!$D$6,IF(C99=$B$3,Worksheet!$D$7,FALSE)))))))))))","v":true},{"$f":"IF(AE99,D99,\"\")","v":"Hard"},{"$f":"IF(AE99,COUNTIF($AF$5:AF99,AF99),\"X\")","v":15},{"$f":"CONCATENATE(AE99,AF99)","v":"TRUEHard"}]
[{"$f":"CONCATENATE(AE100,D100,AG100)","v":"TRUEMedium45"},{"$f":"RAND()","v":0.38711828436999063},"Round","Medium",164,"Round",{"$f":"RANDBETWEEN(10,99)*10+RANDBETWEEN(1,9)","v":101},"to the nearest ten",null,null,null,null,null,null,null,null,null,null,null,{"$f":"CONCATENATE(F100,\" \",G100,\" \",H100,\" \",I100,\" \",J100,\" \",K100,\" \",L100,\" \",M100,\" \",N100,\" \",O100,\" \",P100,\" \",Q100,\" \",R100)","v":"Round 101 to the nearest ten          "},{"$f":"MROUND(G100,10)","v":100},null,null,null,null,null,null,null,null,{"$f":"IF(OR(ISNA(U100),ISNA(V100),ISNA(W100),ISNA(X100),ISNA(Y100),ISNA(Z100),ISNA(AA100),ISNA(AB100),ISNA(AC100)),NA(),CONCATENATE(U100,V100,W100,X100,Y100,Z100,AA100,AB100))","v":"100"},{"$f":"IF(ISNA(AD100),FALSE,IF(C100=$B$1,Worksheet!$B$3,IF(C100=$C$1,Worksheet!$B$4,IF(C100=$D$1,Worksheet!$B$5,IF(C100=$E$1,Worksheet!$B$6,IF(C100=$B$2,Worksheet!$B$7,IF(C100=$C$2,Worksheet!$D$3,IF(C100=$D$2,Worksheet!$D$4,IF(C100=$E$2,Worksheet!$D$5,IF(C100=$C$3,Worksheet!$D$6,IF(C100=$B$3,Worksheet!$D$7,FALSE)))))))))))","v":true},{"$f":"IF(AE100,D100,\"\")","v":"Medium"},{"$f":"IF(AE100,COUNTIF($AF$5:AF100,AF100),\"X\")","v":45},{"$f":"CONCATENATE(AE100,AF100)","v":"TRUEMedium"}]
[{"$f":"CONCATENATE(AE101,D101,AG101)","v":"TRUEEasy37"},{"$f":"RAND()","v":0.91867071933231625},"Frac","Easy",121,"Fractions.   What is ","1/5","of",{"$f":"5*RANDBETWEEN(2,5)","v":10},"?",null,null,null,null,null,null,null,null,null,{"$f":"CONCATENATE(F101,\" \",G101,\" \",H101,\" \",I101,\" \",J101,\" \",K101,\" \",L101,\" \",M101,\" \",N101,\" \",O101,\" \",P101,\" \",Q101,\" \",R101)","v":"Fractions.   What is  1/5 of 10 ?        "},{"$f":"I101/5","v":2},null,null,null,null,null,null,null,null,{"$f":"IF(OR(ISNA(U101),ISNA(V101),ISNA(W101),ISNA(X101),ISNA(Y101),ISNA(Z101),ISNA(AA101),ISNA(AB101),ISNA(AC101)),NA(),CONCATENATE(U101,V101,W101,X101,Y101,Z101,AA101,AB101))","v":"2"},{"$f":"IF(ISNA(AD101),FALSE,IF(C101=$B$1,Worksheet!$B$3,IF(C101=$C$1,Worksheet!$B$4,IF(C101=$D$1,Worksheet!$B$5,IF(C101=$E$1,Worksheet!$B$6,IF(C101=$B$2,Worksheet!$B$7,IF(C101=$C$2,Worksheet!$D$3,IF(C101=$D$2,Worksheet!$D$4,IF(C101=$E$2,Worksheet!$D$5,IF(C101=$C$3,Worksheet!$D$6,IF(C101=$B$3,Worksheet!$D$7,FALSE)))))))))))","v":true},{"$f":"IF(AE101,D101,\"\")","v":"Easy"},{"$f":"IF(AE101,COUNTIF($AF$5:AF101,AF101),\"X\")","v":37},{"$f":"CONCATENATE(AE101,AF101)","v":"TRUEEasy"}]
[{"$f":"CONCATENATE(AE102,D102,AG102)","v":"TRUEHard16"},{"$f":"RAND()","v":0.56642388114329356},"Mult","Hard",85,"Multiply by writing down a chimney sum:  ",{"$f":"RANDBETWEEN(1,9)*10+RANDBETWEEN(1,9)","v":29},"×",{"$f":"RANDBETWEEN(2,5)","v":3},null,null,null,null,null,null,null,null,null,null,{"$f":"CONCATENATE(F102,\" \",G102,\" \",H102,\" \",I102,\" \",J102,\" \",K102,\" \",L102,\" \",M102,\" \",N102,\" \",O102,\" \",P102,\" \",Q102,\" \",R102)","v":"Multiply by writing down a chimney sum:   29 × 3         "},{"$f":"G102*I102","v":87},null,null,null,null,null,null,null,null,{"$f":"IF(OR(ISNA(U102),ISNA(V102),ISNA(W102),ISNA(X102),ISNA(Y102),ISNA(Z102),ISNA(AA102),ISNA(AB102),ISNA(AC102)),NA(),CONCATENATE(U102,V102,W102,X102,Y102,Z102,AA102,AB102))","v":"87"},{"$f":"IF(ISNA(AD102),FALSE,IF(C102=$B$1,Worksheet!$B$3,IF(C102=$C$1,Worksheet!$B$4,IF(C102=$D$1,Worksheet!$B$5,IF(C102=$E$1,Worksheet!$B$6,IF(C102=$B$2,Worksheet!$B$7,IF(C102=$C$2,Worksheet!$D$3,IF(C102=$D$2,Worksheet!$D$4,IF(C102=$E$2,Worksheet!$D$5,IF(C102=$C$3,Worksheet!$D$6,IF(C102=$B$3,Worksheet!$D$7,FALSE)))))))))))","v":true},{"$f":"IF(AE102,D102,\"\")","v":"Hard"},{"$f":"IF(AE102,COUNTIF($AF$5:AF102,AF102),\"X\")","v":16},{"$f":"CONCATENATE(AE102,AF102)","v":"TRUEHard"}]
[{"$f":"CONCATENATE(AE103,D103,AG103)","v":"TRUEMedium46"},{"$f":"RAND()","v":0.89018141091028924},"+-","Medium",55,"What do you add on to",{"$f":"RANDBETWEEN(1,9)+RANDBETWEEN(1,9)*10","v":19},"to make 100?",null,null,null,null,null,null,null,null,null,null,null,{"$f":"CONCATENATE(F103,\" \",G103,\" \",H103,\" \",I103,\" \",J103,\" \",K103,\" \",L103,\" \",M103,\" \",N103,\" \",O103,\" \",P103,\" \",Q103,\" \",R103)","v":"What do you add on to 19 to make 100?          "},{"$f":"100-G103","v":81},null,null,null,null,null,null,null,null,{"$f":"IF(OR(ISNA(U103),ISNA(V103),ISNA(W103),ISNA(X103),ISNA(Y103),ISNA(Z103),ISNA(AA103),ISNA(AB103),ISNA(AC103)),NA(),CONCATENATE(U103,V103,W103,X103,Y103,Z103,AA103,AB103))","v":"81"},{"$f":"IF(ISNA(AD103),FALSE,IF(C103=$B$1,Worksheet!$B$3,IF(C103=$C$1,Worksheet!$B$4,IF(C103=$D$1,Worksheet!$B$5,IF(C103=$E$1,Worksheet!$B$6,IF(C103=$B$2,Worksheet!$B$7,IF(C103=$C$2,Worksheet!$D$3,IF(C103=$D$2,Worksheet!$D$4,IF(C103=$E$2,Worksheet!$D$5,IF(C103=$C$3,Worksheet!$D$6,IF(C103=$B$3,Worksheet!$D$7,FALSE)))))))))))","v":true},{"$f":"IF(AE103,D103,\"\")","v":"Medium"},{"$f":"IF(AE103,COUNTIF($AF$5:AF103,AF103),\"X\")","v":46},{"$f":"CONCATENATE(AE103,AF103)","v":"TRUEMedium"}]
[{"$f":"CONCATENATE(AE104,D104,AG104)","v":"TRUEEasy38"},{"$f":"RAND()","v":0.79897331963162888},"+-","Easy",58,"Add:   ",{"$f":"RANDBETWEEN(2,8)*10+RANDBETWEEN(1,5)","v":81},"+",{"$f":"RANDBETWEEN(5,9)","v":9},null,null,null,null,null,null,null,null,null,null,{"$f":"CONCATENATE(F104,\" \",G104,\" \",H104,\" \",I104,\" \",J104,\" \",K104,\" \",L104,\" \",M104,\" \",N104,\" \",O104,\" \",P104,\" \",Q104,\" \",R104)","v":"Add:    81 + 9         "},{"$f":"G104+I104","v":90},null,null,null,null,null,null,null,null,{"$f":"IF(OR(ISNA(U104),ISNA(V104),ISNA(W104),ISNA(X104),ISNA(Y104),ISNA(Z104),ISNA(AA104),ISNA(AB104),ISNA(AC104)),NA(),CONCATENATE(U104,V104,W104,X104,Y104,Z104,AA104,AB104))","v":"90"},{"$f":"IF(ISNA(AD104),FALSE,IF(C104=$B$1,Worksheet!$B$3,IF(C104=$C$1,Worksheet!$B$4,IF(C104=$D$1,Worksheet!$B$5,IF(C104=$E$1,Worksheet!$B$6,IF(C104=$B$2,Worksheet!$B$7,IF(C104=$C$2,Worksheet!$D$3,IF(C104=$D$2,Worksheet!$D$4,IF(C104=$E$2,Worksheet!$D$5,IF(C104=$C$3,Worksheet!$D$6,IF(C104=$B$3,Worksheet!$D$7,FALSE)))))))))))","v":true},{"$f":"IF(AE104,D104,\"\")","v":"Easy"},{"$f":"IF(AE104,COUNTIF($AF$5:AF104,AF104),\"X\")","v":38},{"$f":"CONCATENATE(AE104,AF104)","v":"TRUEEasy"}]
[{"$f":"CONCATENATE(AE105,D105,AG105)","v":"TRUEMedium47"},{"$f":"RAND()","v":0.93507463722765372},"Dec","Medium",135,"A",{"$f":"CHOOSE(RANDBETWEEN(1,3),\"chocolate bar\",\"card\",\"cake\")","v":"cake"},"costs",{"$f":"RANDBETWEEN(2,8)*10+RANDBETWEEN(1,9)","v":21},"p.  How much change do you get from £1?",null,null,null,null,null,null,null,null,null,{"$f":"CONCATENATE(F105,\" \",G105,\" \",H105,\" \",I105,\"\",J105,\"\",K105,\" \",L105,\" \",M105,\" \",N105,\" \",O105,\" \",P105,\" \",Q105,\" \",R105)","v":"A cake costs 21p.  How much change do you get from £1?       "},{"$f":"100-I105","v":79},"p",null,null,null,null,null,null,null,{"$f":"IF(OR(ISNA(U105),ISNA(V105),ISNA(W105),ISNA(X105),ISNA(Y105),ISNA(Z105),ISNA(AA105),ISNA(AB105),ISNA(AC105)),NA(),CONCATENATE(U105,V105,W105,X105,Y105,Z105,AA105,AB105))","v":"79p"},{"$f":"IF(ISNA(AD105),FALSE,IF(C105=$B$1,Worksheet!$B$3,IF(C105=$C$1,Worksheet!$B$4,IF(C105=$D$1,Worksheet!$B$5,IF(C105=$E$1,Worksheet!$B$6,IF(C105=$B$2,Worksheet!$B$7,IF(C105=$C$2,Worksheet!$D$3,IF(C105=$D$2,Worksheet!$D$4,IF(C105=$E$2,Worksheet!$D$5,IF(C105=$C$3,Worksheet!$D$6,IF(C105=$B$3,Worksheet!$D$7,FALSE)))))))))))","v":true},{"$f":"IF(AE105,D105,\"\")","v":"Medium"},{"$f":"IF(AE105,COUNTIF($AF$5:AF105,AF105),\"X\")","v":47},{"$f":"CONCATENATE(AE105,AF105)","v":"TRUEMedium"}]
[{"$f":"CONCATENATE(AE106,D106,AG106)","v":"TRUEMedium48"},{"$f":"RAND()","v":0.2639065098098845},"Choose","Medium",110,{"$f":"CHOOSE(RANDBETWEEN(1,4),\"Alice\",\"Louise\",\"Emma\",\"Caitlin\")","v":"Louise"},"earns",{"$f":"RANDBETWEEN(20,50)","v":33},"on Monday and ",{"$f":"RANDBETWEEN(20,50)","v":35},"on Tuesday.  How much does she earn in total?",null,null,null,null,null,null,null,null,{"$f":"CONCATENATE(F106,\" \",G106,\" £\",H106,\" \",I106,\" £\",J106,\" \",K106,\" \",L106,\" \",M106,\" \",N106,\" \",O106,\" \",P106,\" \",Q106,\" \",R106)","v":"Louise earns £33 on Monday and  £35 on Tuesday.  How much does she earn in total?       "},"£",{"$f":"H106+J106","v":68},null,null,null,null,null,null,null,{"$f":"IF(OR(ISNA(U106),ISNA(V106),ISNA(W106),ISNA(X106),ISNA(Y106),ISNA(Z106),ISNA(AA106),ISNA(AB106),ISNA(AC106)),NA(),CONCATENATE(U106,V106,W106,X106,Y106,Z106,AA106,AB106))","v":"£68"},{"$f":"IF(ISNA(AD106),FALSE,IF(C106=$B$1,Worksheet!$B$3,IF(C106=$C$1,Worksheet!$B$4,IF(C106=$D$1,Worksheet!$B$5,IF(C106=$E$1,Worksheet!$B$6,IF(C106=$B$2,Worksheet!$B$7,IF(C106=$C$2,Worksheet!$D$3,IF(C106=$D$2,Worksheet!$D$4,IF(C106=$E$2,Worksheet!$D$5,IF(C106=$C$3,Worksheet!$D$6,IF(C106=$B$3,Worksheet!$D$7,FALSE)))))))))))","v":true},{"$f":"IF(AE106,D106,\"\")","v":"Medium"},{"$f":"IF(AE106,COUNTIF($AF$5:AF106,AF106),\"X\")","v":48},{"$f":"CONCATENATE(AE106,AF106)","v":"TRUEMedium"}]
[{"$f":"CONCATENATE(AE107,D107,AG107)","v":"TRUEMedium49"},{"$f":"RAND()","v":0.95873233131736202},"Frac","Medium",125,"Fractions.   What is ","1/4","of",{"$f":"4*RANDBETWEEN(5,10)","v":24},"?",null,null,null,null,null,null,null,null,null,{"$f":"CONCATENATE(F107,\" \",G107,\" \",H107,\" \",I107,\" \",J107,\" \",K107,\" \",L107,\" \",M107,\" \",N107,\" \",O107,\" \",P107,\" \",Q107,\" \",R107)","v":"Fractions.   What is  1/4 of 24 ?        "},{"$f":"I107/4","v":6},null,null,null,null,null,null,null,null,{"$f":"IF(OR(ISNA(U107),ISNA(V107),ISNA(W107),ISNA(X107),ISNA(Y107),ISNA(Z107),ISNA(AA107),ISNA(AB107),ISNA(AC107)),NA(),CONCATENATE(U107,V107,W107,X107,Y107,Z107,AA107,AB107))","v":"6"},{"$f":"IF(ISNA(AD107),FALSE,IF(C107=$B$1,Worksheet!$B$3,IF(C107=$C$1,Worksheet!$B$4,IF(C107=$D$1,Worksheet!$B$5,IF(C107=$E$1,Worksheet!$B$6,IF(C107=$B$2,Worksheet!$B$7,IF(C107=$C$2,Worksheet!$D$3,IF(C107=$D$2,Worksheet!$D$4,IF(C107=$E$2,Worksheet!$D$5,IF(C107=$C$3,Worksheet!$D$6,IF(C107=$B$3,Worksheet!$D$7,FALSE)))))))))))","v":true},{"$f":"IF(AE107,D107,\"\")","v":"Medium"},{"$f":"IF(AE107,COUNTIF($AF$5:AF107,AF107),\"X\")","v":49},{"$f":"CONCATENATE(AE107,AF107)","v":"TRUEMedium"}]
[{"$f":"CONCATENATE(AE108,D108,AG108)","v":"TRUEMedium50"},{"$f":"RAND()","v":0.61106480373610239},"Divide","Medium",100,"Divide:   ",{"$f":"2*RANDBETWEEN(1,10)+1","v":21},"÷",2,", showing the remainder",null,null,null,null,null,null,null,null,null,{"$f":"CONCATENATE(F108,\" \",G108,\" \",H108,\" \",I108,\" \",J108,\" \",K108,\" \",L108,\" \",M108,\" \",N108,\" \",O108,\" \",P108,\" \",Q108,\" \",R108)","v":"Divide:    21 ÷ 2 , showing the remainder        "},{"$f":"INT(G108/I108)","v":10},"r",{"$f":"MOD(G108,I108)","v":1},null,null,null,null,null,null,{"$f":"IF(OR(ISNA(U108),ISNA(V108),ISNA(W108),ISNA(X108),ISNA(Y108),ISNA(Z108),ISNA(AA108),ISNA(AB108),ISNA(AC108)),NA(),CONCATENATE(U108,V108,W108,X108,Y108,Z108,AA108,AB108))","v":"10r1"},{"$f":"IF(ISNA(AD108),FALSE,IF(C108=$B$1,Worksheet!$B$3,IF(C108=$C$1,Worksheet!$B$4,IF(C108=$D$1,Worksheet!$B$5,IF(C108=$E$1,Worksheet!$B$6,IF(C108=$B$2,Worksheet!$B$7,IF(C108=$C$2,Worksheet!$D$3,IF(C108=$D$2,Worksheet!$D$4,IF(C108=$E$2,Worksheet!$D$5,IF(C108=$C$3,Worksheet!$D$6,IF(C108=$B$3,Worksheet!$D$7,FALSE)))))))))))","v":true},{"$f":"IF(AE108,D108,\"\")","v":"Medium"},{"$f":"IF(AE108,COUNTIF($AF$5:AF108,AF108),\"X\")","v":50},{"$f":"CONCATENATE(AE108,AF108)","v":"TRUEMedium"}]
[{"$f":"CONCATENATE(AE109,D109,AG109)","v":"TRUEEasy39"},{"$f":"RAND()","v":0.33088103341384456},"Num","Easy",7,"Fill in the missing numbers:   ",{"$f":"RANDBETWEEN(30,80)","v":73},{"$f":"G109+S109","v":77},{"$f":"H109+S109","v":81},"____","____",{"$f":"V109+S109","v":93},{"$f":"L109+S109","v":97},null,null,null,null,null,{"$f":"RANDBETWEEN(2,5)","v":4},{"$f":"CONCATENATE(F109,\" \",G109,\",   \",H109,\",   \",I109,\",   \",J109,\",   \",K109,\",   \",L109,\",   \",M109,\" \",N109,\" \",O109,\" \",P109,\" \",Q109,\" \",R109)","v":"Fill in the missing numbers:    73,   77,   81,   ____,   ____,   93,   97     "},{"$f":"I109+S109","v":85},{"$f":"U109+S109","v":89},null,null,null,null,null,null,null,{"$f":"IF(OR(ISNA(U109),ISNA(V109),ISNA(W109),ISNA(X109),ISNA(Y109),ISNA(Z109),ISNA(AA109),ISNA(AB109),ISNA(AC109)),NA(),CONCATENATE(U109,\",   \",V109,W109,X109,Y109,Z109,AA109,AB109))","v":"85,   89"},{"$f":"IF(ISNA(AD109),FALSE,IF(C109=$B$1,Worksheet!$B$3,IF(C109=$C$1,Worksheet!$B$4,IF(C109=$D$1,Worksheet!$B$5,IF(C109=$E$1,Worksheet!$B$6,IF(C109=$B$2,Worksheet!$B$7,IF(C109=$C$2,Worksheet!$D$3,IF(C109=$D$2,Worksheet!$D$4,IF(C109=$E$2,Worksheet!$D$5,IF(C109=$C$3,Worksheet!$D$6,IF(C109=$B$3,Worksheet!$D$7,FALSE)))))))))))","v":true},{"$f":"IF(AE109,D109,\"\")","v":"Easy"},{"$f":"IF(AE109,COUNTIF($AF$5:AF109,AF109),\"X\")","v":39},{"$f":"CONCATENATE(AE109,AF109)","v":"TRUEEasy"}]
[{"$f":"CONCATENATE(AE110,D110,AG110)","v":"TRUEHard17"},{"$f":"RAND()","v":0.42900980340620387},"Frac","Hard",129,"Fractions.   What is ","1/3","of",{"$f":"3*RANDBETWEEN(8,12)","v":30},"?",null,null,null,null,null,null,null,null,null,{"$f":"CONCATENATE(F110,\" \",G110,\" \",H110,\" \",I110,\" \",J110,\" \",K110,\" \",L110,\" \",M110,\" \",N110,\" \",O110,\" \",P110,\" \",Q110,\" \",R110)","v":"Fractions.   What is  1/3 of 30 ?        "},{"$f":"I110/3","v":10},null,null,null,null,null,null,null,null,{"$f":"IF(OR(ISNA(U110),ISNA(V110),ISNA(W110),ISNA(X110),ISNA(Y110),ISNA(Z110),ISNA(AA110),ISNA(AB110),ISNA(AC110)),NA(),CONCATENATE(U110,V110,W110,X110,Y110,Z110,AA110,AB110))","v":"10"},{"$f":"IF(ISNA(AD110),FALSE,IF(C110=$B$1,Worksheet!$B$3,IF(C110=$C$1,Worksheet!$B$4,IF(C110=$D$1,Worksheet!$B$5,IF(C110=$E$1,Worksheet!$B$6,IF(C110=$B$2,Worksheet!$B$7,IF(C110=$C$2,Worksheet!$D$3,IF(C110=$D$2,Worksheet!$D$4,IF(C110=$E$2,Worksheet!$D$5,IF(C110=$C$3,Worksheet!$D$6,IF(C110=$B$3,Worksheet!$D$7,FALSE)))))))))))","v":true},{"$f":"IF(AE110,D110,\"\")","v":"Hard"},{"$f":"IF(AE110,COUNTIF($AF$5:AF110,AF110),\"X\")","v":17},{"$f":"CONCATENATE(AE110,AF110)","v":"TRUEHard"}]
[{"$f":"CONCATENATE(AE111,D111,AG111)","v":"TRUEHard18"},{"$f":"RAND()","v":0.21012691142986895},"%","Hard",160,{"$f":"RANDBETWEEN(1,9)*10+RANDBETWEEN(1,9)","v":63},"of the children at a",{"$f":"CHOOSE(RANDBETWEEN(1,3),\"youth club\",\"party\",\"school trip\")","v":"youth club"},"are",{"$f":"IF(RAND()<0.5,\"girls\",\"boys\")","v":"boys"},".  What percentage are",{"$f":"IF(I111=\"girls\",\"boys\",\"girls\")","v":"girls"},"?",null,null,null,null,null,null,{"$f":"CONCATENATE(F111,\"% \",G111,\" \",H111,\" \",I111,\" \",J111,\"\",K111,\" \",L111,\"\",M111,\" \",N111,\" \",O111,\" \",P111,\" \",Q111,\" \",R111)","v":"63% of the children at a youth club are boys.  What percentage are girls?     "},{"$f":"100-F111","v":37},"%",null,null,null,null,null,null,null,{"$f":"IF(OR(ISNA(U111),ISNA(V111),ISNA(W111),ISNA(X111),ISNA(Y111),ISNA(Z111),ISNA(AA111),ISNA(AB111),ISNA(AC111)),NA(),CONCATENATE(U111,V111,W111,X111,Y111,Z111,AA111,AB111))","v":"37%"},{"$f":"IF(ISNA(AD111),FALSE,IF(C111=$B$1,Worksheet!$B$3,IF(C111=$C$1,Worksheet!$B$4,IF(C111=$D$1,Worksheet!$B$5,IF(C111=$E$1,Worksheet!$B$6,IF(C111=$B$2,Worksheet!$B$7,IF(C111=$C$2,Worksheet!$D$3,IF(C111=$D$2,Worksheet!$D$4,IF(C111=$E$2,Worksheet!$D$5,IF(C111=$C$3,Worksheet!$D$6,IF(C111=$B$3,Worksheet!$D$7,FALSE)))))))))))","v":true},{"$f":"IF(AE111,D111,\"\")","v":"Hard"},{"$f":"IF(AE111,COUNTIF($AF$5:AF111,AF111),\"X\")","v":18},{"$f":"CONCATENATE(AE111,AF111)","v":"TRUEHard"}]
[{"$f":"CONCATENATE(AE112,D112,AG112)","v":"TRUEMedium51"},{"$f":"RAND()","v":0.72634474102831936},"Num","Medium",22,"Continue the pattern for three more numbers:   ",{"$f":"RANDBETWEEN(11,95)*10+RANDBETWEEN(1,9)","v":772},{"$f":"G112+S112","v":782},{"$f":"H112+S112","v":792},{"$f":"I112+S112","v":802},"____","____","____",null,null,null,null,null,10,{"$f":"CONCATENATE(F112,\" \",G112,\",   \",H112,\",   \",I112,\",   \",J112,\",   \",K112,\",   \",L112,\",   \",M112,\" \",N112,\" \",O112,\" \",P112,\" \",Q112,\" \",R112)","v":"Continue the pattern for three more numbers:    772,   782,   792,   802,   ____,   ____,   ____     "},{"$f":"J112+S112","v":812},{"$f":"U112+S112","v":822},null,null,null,null,null,null,null,{"$f":"IF(OR(ISNA(U112),ISNA(V112),ISNA(W112),ISNA(X112),ISNA(Y112),ISNA(Z112),ISNA(AA112),ISNA(AB112),ISNA(AC112)),NA(),CONCATENATE(U112,\",   \",V112,W112,X112,Y112,Z112,AA112,AB112))","v":"812,   822"},{"$f":"IF(ISNA(AD112),FALSE,IF(C112=$B$1,Worksheet!$B$3,IF(C112=$C$1,Worksheet!$B$4,IF(C112=$D$1,Worksheet!$B$5,IF(C112=$E$1,Worksheet!$B$6,IF(C112=$B$2,Worksheet!$B$7,IF(C112=$C$2,Worksheet!$D$3,IF(C112=$D$2,Worksheet!$D$4,IF(C112=$E$2,Worksheet!$D$5,IF(C112=$C$3,Worksheet!$D$6,IF(C112=$B$3,Worksheet!$D$7,FALSE)))))))))))","v":true},{"$f":"IF(AE112,D112,\"\")","v":"Medium"},{"$f":"IF(AE112,COUNTIF($AF$5:AF112,AF112),\"X\")","v":51},{"$f":"CONCATENATE(AE112,AF112)","v":"TRUEMedium"}]
[{"$f":"CONCATENATE(AE113,D113,AG113)","v":"TRUEMedium52"},{"$f":"RAND()","v":0.3042243861003413},"Choose","Medium",108,"A girl buys three sweets costing",{"$f":"RANDBETWEEN(11,20)","v":19},{"$f":"RANDBETWEEN(11,20)","v":16},"and",{"$f":"RANDBETWEEN(11,20)","v":11},".  How much do they cost in total?",null,null,null,null,null,null,null,null,{"$f":"CONCATENATE(F113,\" \",G113,\"p, \",H113,\"p \",I113,\" \",J113,\"p. \",K113,\" \",L113,\" \",M113,\" \",N113,\" \",O113,\" \",P113,\" \",Q113,\" \",R113)","v":"A girl buys three sweets costing 19p, 16p and 11p. .  How much do they cost in total?       "},{"$f":"G113+H113+J113","v":46},"p",null,null,null,null,null,null,null,{"$f":"IF(OR(ISNA(U113),ISNA(V113),ISNA(W113),ISNA(X113),ISNA(Y113),ISNA(Z113),ISNA(AA113),ISNA(AB113),ISNA(AC113)),NA(),CONCATENATE(U113,V113,W113,X113,Y113,Z113,AA113,AB113))","v":"46p"},{"$f":"IF(ISNA(AD113),FALSE,IF(C113=$B$1,Worksheet!$B$3,IF(C113=$C$1,Worksheet!$B$4,IF(C113=$D$1,Worksheet!$B$5,IF(C113=$E$1,Worksheet!$B$6,IF(C113=$B$2,Worksheet!$B$7,IF(C113=$C$2,Worksheet!$D$3,IF(C113=$D$2,Worksheet!$D$4,IF(C113=$E$2,Worksheet!$D$5,IF(C113=$C$3,Worksheet!$D$6,IF(C113=$B$3,Worksheet!$D$7,FALSE)))))))))))","v":true},{"$f":"IF(AE113,D113,\"\")","v":"Medium"},{"$f":"IF(AE113,COUNTIF($AF$5:AF113,AF113),\"X\")","v":52},{"$f":"CONCATENATE(AE113,AF113)","v":"TRUEMedium"}]
[{"$f":"CONCATENATE(AE114,D114,AG114)","v":"TRUEHard19"},{"$f":"RAND()","v":0.71184454532054575},"Mult","Hard",71,"Circle all the ",{"$f":"IF(RAND()<0.5,\"odd\",\"even\")","v":"odd"},"numbers in this list:   ",{"$f":"RANDBETWEEN(100,999)","v":327},{"$f":"2*RANDBETWEEN(100,500)+1","v":687},{"$f":"RANDBETWEEN(100,999)","v":910},{"$f":"2*RANDBETWEEN(50,499)","v":210},{"$f":"RANDBETWEEN(100,999)","v":200},null,null,null,null,null,null,{"$f":"CONCATENATE(F114,\" \",G114,\" \",H114,\" \",I114,\",   \",J114,\",   \",K114,\",   \",L114,\",   \",M114,\" \",N114,\" \",O114,\" \",P114,\" \",Q114,\" \",R114)","v":"Circle all the  odd numbers in this list:    327,   687,   910,   210,   200     "},{"$f":"IF(ISODD(I114),IF($G114=\"odd\",I114,\"\"),IF($G114=\"odd\",\"\",I114))","v":327},{"$f":"IF(ISODD(J114),IF($G114=\"odd\",J114,\"\"),IF($G114=\"odd\",\"\",J114))","v":687},{"$f":"IF(ISODD(K114),IF($G114=\"odd\",K114,\"\"),IF($G114=\"odd\",\"\",K114))","v":""},{"$f":"IF(ISODD(L114),IF($G114=\"odd\",L114,\"\"),IF($G114=\"odd\",\"\",L114))","v":""},{"$f":"IF(ISODD(M114),IF($G114=\"odd\",M114,\"\"),IF($G114=\"odd\",\"\",M114))","v":""},null,{"$f":"IF(OR(I114=J114,I114=K114,I114=L114,I114=M114,J114=K114,J114=L114,J114=M114,K114=L114,K114=M114,L114=M114),NA(),\"\")","v":""},null,null,{"$f":"IF(OR(ISNA(U114),ISNA(V114),ISNA(W114),ISNA(X114),ISNA(Y114),ISNA(Z114),ISNA(AA114),ISNA(AB114),ISNA(AC114)),NA(),CONCATENATE(U114,\"  \",V114,\"  \",W114,\"  \",X114,\"  \",Y114,Z114,AA114,AB114))","v":"327  687      "},{"$f":"IF(ISNA(AD114),FALSE,IF(C114=$B$1,Worksheet!$B$3,IF(C114=$C$1,Worksheet!$B$4,IF(C114=$D$1,Worksheet!$B$5,IF(C114=$E$1,Worksheet!$B$6,IF(C114=$B$2,Worksheet!$B$7,IF(C114=$C$2,Worksheet!$D$3,IF(C114=$D$2,Worksheet!$D$4,IF(C114=$E$2,Worksheet!$D$5,IF(C114=$C$3,Worksheet!$D$6,IF(C114=$B$3,Worksheet!$D$7,FALSE)))))))))))","v":true},{"$f":"IF(AE114,D114,\"\")","v":"Hard"},{"$f":"IF(AE114,COUNTIF($AF$5:AF114,AF114),\"X\")","v":19},{"$f":"CONCATENATE(AE114,AF114)","v":"TRUEHard"}]
[{"$f":"CONCATENATE(AE115,D115,AG115)","v":"TRUEMedium53"},{"$f":"RAND()","v":0.61180725148931059},"Dec","Medium",143,"How many pounds are there in",{"$f":"RANDBETWEEN(10,20)*100","v":1900},"p?",null,null,null,null,null,null,null,null,null,null,null,{"$f":"CONCATENATE(F115,\" \",G115,\"\",H115,\" \",I115,\" \",J115,\" \",K115,\" \",L115,\" \",M115,\" \",N115,\" \",O115,\" \",P115,\" \",Q115,\" \",R115)","v":"How many pounds are there in 1900p?          "},"£",{"$f":"G115/100","v":19},null,null,null,null,null,null,null,{"$f":"IF(OR(ISNA(U115),ISNA(V115),ISNA(W115),ISNA(X115),ISNA(Y115),ISNA(Z115),ISNA(AA115),ISNA(AB115),ISNA(AC115)),NA(),CONCATENATE(U115,V115,W115,X115,Y115,Z115,AA115,AB115))","v":"£19"},{"$f":"IF(ISNA(AD115),FALSE,IF(C115=$B$1,Worksheet!$B$3,IF(C115=$C$1,Worksheet!$B$4,IF(C115=$D$1,Worksheet!$B$5,IF(C115=$E$1,Worksheet!$B$6,IF(C115=$B$2,Worksheet!$B$7,IF(C115=$C$2,Worksheet!$D$3,IF(C115=$D$2,Worksheet!$D$4,IF(C115=$E$2,Worksheet!$D$5,IF(C115=$C$3,Worksheet!$D$6,IF(C115=$B$3,Worksheet!$D$7,FALSE)))))))))))","v":true},{"$f":"IF(AE115,D115,\"\")","v":"Medium"},{"$f":"IF(AE115,COUNTIF($AF$5:AF115,AF115),\"X\")","v":53},{"$f":"CONCATENATE(AE115,AF115)","v":"TRUEMedium"}]
[{"$f":"CONCATENATE(AE116,D116,AG116)","v":"TRUEMedium54"},{"$f":"RAND()","v":0.42179039307761035},"Num","Medium",27,"Continue the pattern for three more numbers:   ",{"$f":"RANDBETWEEN(1,3)*100+RANDBETWEEN(1,99)","v":142},{"$f":"G116+S116","v":242},{"$f":"H116+S116","v":342},{"$f":"I116+S116","v":442},"____","____","____",null,null,null,null,null,100,{"$f":"CONCATENATE(F116,\" \",G116,\",   \",H116,\",   \",I116,\",   \",J116,\",   \",K116,\",   \",L116,\",   \",M116,\" \",N116,\" \",O116,\" \",P116,\" \",Q116,\" \",R116)","v":"Continue the pattern for three more numbers:    142,   242,   342,   442,   ____,   ____,   ____     "},{"$f":"J116+S116","v":542},{"$f":"U116+S116","v":642},null,null,null,null,null,null,null,{"$f":"IF(OR(ISNA(U116),ISNA(V116),ISNA(W116),ISNA(X116),ISNA(Y116),ISNA(Z116),ISNA(AA116),ISNA(AB116),ISNA(AC116)),NA(),CONCATENATE(U116,\",   \",V116,W116,X116,Y116,Z116,AA116,AB116))","v":"542,   642"},{"$f":"IF(ISNA(AD116),FALSE,IF(C116=$B$1,Worksheet!$B$3,IF(C116=$C$1,Worksheet!$B$4,IF(C116=$D$1,Worksheet!$B$5,IF(C116=$E$1,Worksheet!$B$6,IF(C116=$B$2,Worksheet!$B$7,IF(C116=$C$2,Worksheet!$D$3,IF(C116=$D$2,Worksheet!$D$4,IF(C116=$E$2,Worksheet!$D$5,IF(C116=$C$3,Worksheet!$D$6,IF(C116=$B$3,Worksheet!$D$7,FALSE)))))))))))","v":true},{"$f":"IF(AE116,D116,\"\")","v":"Medium"},{"$f":"IF(AE116,COUNTIF($AF$5:AF116,AF116),\"X\")","v":54},{"$f":"CONCATENATE(AE116,AF116)","v":"TRUEMedium"}]
[{"$f":"CONCATENATE(AE117,D117,AG117)","v":"TRUEHard20"},{"$f":"RAND()","v":0.36374787833719879},"Frac","Hard",132,"Fractions.   What is ","1/10","of",{"$f":"10*RANDBETWEEN(8,12)","v":80},"?",null,null,null,null,null,null,null,null,null,{"$f":"CONCATENATE(F117,\" \",G117,\" \",H117,\" \",I117,\" \",J117,\" \",K117,\" \",L117,\" \",M117,\" \",N117,\" \",O117,\" \",P117,\" \",Q117,\" \",R117)","v":"Fractions.   What is  1/10 of 80 ?        "},{"$f":"I117/10","v":8},null,null,null,null,null,null,null,null,{"$f":"IF(OR(ISNA(U117),ISNA(V117),ISNA(W117),ISNA(X117),ISNA(Y117),ISNA(Z117),ISNA(AA117),ISNA(AB117),ISNA(AC117)),NA(),CONCATENATE(U117,V117,W117,X117,Y117,Z117,AA117,AB117))","v":"8"},{"$f":"IF(ISNA(AD117),FALSE,IF(C117=$B$1,Worksheet!$B$3,IF(C117=$C$1,Worksheet!$B$4,IF(C117=$D$1,Worksheet!$B$5,IF(C117=$E$1,Worksheet!$B$6,IF(C117=$B$2,Worksheet!$B$7,IF(C117=$C$2,Worksheet!$D$3,IF(C117=$D$2,Worksheet!$D$4,IF(C117=$E$2,Worksheet!$D$5,IF(C117=$C$3,Worksheet!$D$6,IF(C117=$B$3,Worksheet!$D$7,FALSE)))))))))))","v":true},{"$f":"IF(AE117,D117,\"\")","v":"Hard"},{"$f":"IF(AE117,COUNTIF($AF$5:AF117,AF117),\"X\")","v":20},{"$f":"CONCATENATE(AE117,AF117)","v":"TRUEHard"}]
[{"$f":"CONCATENATE(AE118,D118,AG118)","v":"TRUEHard21"},{"$f":"RAND()","v":0.65788088774504772},"Dec","Hard",142,"How many pence are there in £",{"$f":"TEXT(10+RANDBETWEEN(1,99)/100,\"#.00\")","v":"10.83"},"?",null,null,null,null,null,null,null,null,null,null,null,{"$f":"CONCATENATE(F118,\"\",G118,\"\",H118,\" \",I118,\" \",J118,\" \",K118,\" \",L118,\" \",M118,\" \",N118,\" \",O118,\" \",P118,\" \",Q118,\" \",R118)","v":"How many pence are there in £10.83?          "},{"$f":"G118*100","v":1083},"p",null,null,null,null,null,null,null,{"$f":"IF(OR(ISNA(U118),ISNA(V118),ISNA(W118),ISNA(X118),ISNA(Y118),ISNA(Z118),ISNA(AA118),ISNA(AB118),ISNA(AC118)),NA(),CONCATENATE(U118,V118,W118,X118,Y118,Z118,AA118,AB118))","v":"1083p"},{"$f":"IF(ISNA(AD118),FALSE,IF(C118=$B$1,Worksheet!$B$3,IF(C118=$C$1,Worksheet!$B$4,IF(C118=$D$1,Worksheet!$B$5,IF(C118=$E$1,Worksheet!$B$6,IF(C118=$B$2,Worksheet!$B$7,IF(C118=$C$2,Worksheet!$D$3,IF(C118=$D$2,Worksheet!$D$4,IF(C118=$E$2,Worksheet!$D$5,IF(C118=$C$3,Worksheet!$D$6,IF(C118=$B$3,Worksheet!$D$7,FALSE)))))))))))","v":true},{"$f":"IF(AE118,D118,\"\")","v":"Hard"},{"$f":"IF(AE118,COUNTIF($AF$5:AF118,AF118),\"X\")","v":21},{"$f":"CONCATENATE(AE118,AF118)","v":"TRUEHard"}]
[{"$f":"CONCATENATE(AE119,D119,AG119)","v":"TRUEMedium55"},{"$f":"RAND()","v":0.2623459696910494},"Num","Medium",24,"Continue the pattern for three more numbers:   ",{"$f":"RANDBETWEEN(11,93)*10+RANDBETWEEN(1,9)","v":167},{"$f":"G119+S119","v":164},{"$f":"H119+S119","v":161},{"$f":"I119+S119","v":158},"____","____","____",null,null,null,null,null,{"$f":"RANDBETWEEN(2,5)*(-1)","v":-3},{"$f":"CONCATENATE(F119,\" \",G119,\",   \",H119,\",   \",I119,\",   \",J119,\",   \",K119,\",   \",L119,\",   \",M119,\" \",N119,\" \",O119,\" \",P119,\" \",Q119,\" \",R119)","v":"Continue the pattern for three more numbers:    167,   164,   161,   158,   ____,   ____,   ____     "},{"$f":"J119+S119","v":155},{"$f":"U119+S119","v":152},null,null,null,null,null,null,null,{"$f":"IF(OR(ISNA(U119),ISNA(V119),ISNA(W119),ISNA(X119),ISNA(Y119),ISNA(Z119),ISNA(AA119),ISNA(AB119),ISNA(AC119)),NA(),CONCATENATE(U119,\",   \",V119,W119,X119,Y119,Z119,AA119,AB119))","v":"155,   152"},{"$f":"IF(ISNA(AD119),FALSE,IF(C119=$B$1,Worksheet!$B$3,IF(C119=$C$1,Worksheet!$B$4,IF(C119=$D$1,Worksheet!$B$5,IF(C119=$E$1,Worksheet!$B$6,IF(C119=$B$2,Worksheet!$B$7,IF(C119=$C$2,Worksheet!$D$3,IF(C119=$D$2,Worksheet!$D$4,IF(C119=$E$2,Worksheet!$D$5,IF(C119=$C$3,Worksheet!$D$6,IF(C119=$B$3,Worksheet!$D$7,FALSE)))))))))))","v":true},{"$f":"IF(AE119,D119,\"\")","v":"Medium"},{"$f":"IF(AE119,COUNTIF($AF$5:AF119,AF119),\"X\")","v":55},{"$f":"CONCATENATE(AE119,AF119)","v":"TRUEMedium"}]
[{"$f":"CONCATENATE(AE120,D120,AG120)","v":"TRUEMedium56"},{"$f":"RAND()","v":0.49178839116794326},"Mult","Medium",74,"What is double",{"$f":"RANDBETWEEN(1,4)*10+RANDBETWEEN(0,4)","v":22},"?",null,null,null,null,null,null,null,null,null,null,null,{"$f":"CONCATENATE(F120,\" \",G120,\"\",H120,\" \",I120,\" \",J120,\" \",K120,\" \",L120,\" \",M120,\" \",N120,\" \",O120,\" \",P120,\" \",Q120,\" \",R120)","v":"What is double 22?          "},{"$f":"G120*2","v":44},null,null,null,null,null,null,null,null,{"$f":"IF(OR(ISNA(U120),ISNA(V120),ISNA(W120),ISNA(X120),ISNA(Y120),ISNA(Z120),ISNA(AA120),ISNA(AB120),ISNA(AC120)),NA(),CONCATENATE(U120,V120,W120,X120,Y120,Z120,AA120,AB120))","v":"44"},{"$f":"IF(ISNA(AD120),FALSE,IF(C120=$B$1,Worksheet!$B$3,IF(C120=$C$1,Worksheet!$B$4,IF(C120=$D$1,Worksheet!$B$5,IF(C120=$E$1,Worksheet!$B$6,IF(C120=$B$2,Worksheet!$B$7,IF(C120=$C$2,Worksheet!$D$3,IF(C120=$D$2,Worksheet!$D$4,IF(C120=$E$2,Worksheet!$D$5,IF(C120=$C$3,Worksheet!$D$6,IF(C120=$B$3,Worksheet!$D$7,FALSE)))))))))))","v":true},{"$f":"IF(AE120,D120,\"\")","v":"Medium"},{"$f":"IF(AE120,COUNTIF($AF$5:AF120,AF120),\"X\")","v":56},{"$f":"CONCATENATE(AE120,AF120)","v":"TRUEMedium"}]
[{"$f":"CONCATENATE(AE121,D121,AG121)","v":"TRUEMedium57"},{"$f":"RAND()","v":0.47431238897025729},"Divide","Medium",103,"Divide:   ",{"$f":"5*RANDBETWEEN(1,10)+RANDBETWEEN(1,4)","v":44},"÷",5,", showing the remainder",null,null,null,null,null,null,null,null,null,{"$f":"CONCATENATE(F121,\" \",G121,\" \",H121,\" \",I121,\" \",J121,\" \",K121,\" \",L121,\" \",M121,\" \",N121,\" \",O121,\" \",P121,\" \",Q121,\" \",R121)","v":"Divide:    44 ÷ 5 , showing the remainder        "},{"$f":"INT(G121/I121)","v":8},"r",{"$f":"MOD(G121,I121)","v":4},null,null,null,null,null,null,{"$f":"IF(OR(ISNA(U121),ISNA(V121),ISNA(W121),ISNA(X121),ISNA(Y121),ISNA(Z121),ISNA(AA121),ISNA(AB121),ISNA(AC121)),NA(),CONCATENATE(U121,V121,W121,X121,Y121,Z121,AA121,AB121))","v":"8r4"},{"$f":"IF(ISNA(AD121),FALSE,IF(C121=$B$1,Worksheet!$B$3,IF(C121=$C$1,Worksheet!$B$4,IF(C121=$D$1,Worksheet!$B$5,IF(C121=$E$1,Worksheet!$B$6,IF(C121=$B$2,Worksheet!$B$7,IF(C121=$C$2,Worksheet!$D$3,IF(C121=$D$2,Worksheet!$D$4,IF(C121=$E$2,Worksheet!$D$5,IF(C121=$C$3,Worksheet!$D$6,IF(C121=$B$3,Worksheet!$D$7,FALSE)))))))))))","v":true},{"$f":"IF(AE121,D121,\"\")","v":"Medium"},{"$f":"IF(AE121,COUNTIF($AF$5:AF121,AF121),\"X\")","v":57},{"$f":"CONCATENATE(AE121,AF121)","v":"TRUEMedium"}]
[{"$f":"CONCATENATE(AE122,D122,AG122)","v":"TRUEHard22"},{"$f":"RAND()","v":4.0658634994571896E-2},"Frac","Hard",130,"Fractions.   What is ","1/4","of",{"$f":"4*RANDBETWEEN(8,12)","v":40},"?",null,null,null,null,null,null,null,null,null,{"$f":"CONCATENATE(F122,\" \",G122,\" \",H122,\" \",I122,\" \",J122,\" \",K122,\" \",L122,\" \",M122,\" \",N122,\" \",O122,\" \",P122,\" \",Q122,\" \",R122)","v":"Fractions.   What is  1/4 of 40 ?        "},{"$f":"I122/4","v":10},null,null,null,null,null,null,null,null,{"$f":"IF(OR(ISNA(U122),ISNA(V122),ISNA(W122),ISNA(X122),ISNA(Y122),ISNA(Z122),ISNA(AA122),ISNA(AB122),ISNA(AC122)),NA(),CONCATENATE(U122,V122,W122,X122,Y122,Z122,AA122,AB122))","v":"10"},{"$f":"IF(ISNA(AD122),FALSE,IF(C122=$B$1,Worksheet!$B$3,IF(C122=$C$1,Worksheet!$B$4,IF(C122=$D$1,Worksheet!$B$5,IF(C122=$E$1,Worksheet!$B$6,IF(C122=$B$2,Worksheet!$B$7,IF(C122=$C$2,Worksheet!$D$3,IF(C122=$D$2,Worksheet!$D$4,IF(C122=$E$2,Worksheet!$D$5,IF(C122=$C$3,Worksheet!$D$6,IF(C122=$B$3,Worksheet!$D$7,FALSE)))))))))))","v":true},{"$f":"IF(AE122,D122,\"\")","v":"Hard"},{"$f":"IF(AE122,COUNTIF($AF$5:AF122,AF122),\"X\")","v":22},{"$f":"CONCATENATE(AE122,AF122)","v":"TRUEHard"}]
[{"$f":"CONCATENATE(AE123,D123,AG123)","v":"TRUEMedium58"},{"$f":"RAND()","v":3.6196549371177777E-2},"Divide","Medium",90,"What is half of ",{"$f":"RANDBETWEEN(6,9)*10","v":70},"?",null,null,null,null,null,null,null,null,null,null,null,{"$f":"CONCATENATE(F123,\" \",G123,\"\",H123,\" \",I123,\" \",J123,\" \",K123,\" \",L123,\" \",M123,\" \",N123,\" \",O123,\" \",P123,\" \",Q123,\" \",R123)","v":"What is half of  70?          "},{"$f":"G123/2","v":35},null,null,null,null,null,null,null,null,{"$f":"IF(OR(ISNA(U123),ISNA(V123),ISNA(W123),ISNA(X123),ISNA(Y123),ISNA(Z123),ISNA(AA123),ISNA(AB123),ISNA(AC123)),NA(),CONCATENATE(U123,V123,W123,X123,Y123,Z123,AA123,AB123))","v":"35"},{"$f":"IF(ISNA(AD123),FALSE,IF(C123=$B$1,Worksheet!$B$3,IF(C123=$C$1,Worksheet!$B$4,IF(C123=$D$1,Worksheet!$B$5,IF(C123=$E$1,Worksheet!$B$6,IF(C123=$B$2,Worksheet!$B$7,IF(C123=$C$2,Worksheet!$D$3,IF(C123=$D$2,Worksheet!$D$4,IF(C123=$E$2,Worksheet!$D$5,IF(C123=$C$3,Worksheet!$D$6,IF(C123=$B$3,Worksheet!$D$7,FALSE)))))))))))","v":true},{"$f":"IF(AE123,D123,\"\")","v":"Medium"},{"$f":"IF(AE123,COUNTIF($AF$5:AF123,AF123),\"X\")","v":58},{"$f":"CONCATENATE(AE123,AF123)","v":"TRUEMedium"}]
[{"$f":"CONCATENATE(AE124,D124,AG124)","v":"TRUEMedium59"},{"$f":"RAND()","v":0.31190982851223537},"+-","Medium",40,"Fill in the missing number:   ",{"$f":"RANDBETWEEN(1,8)*10+RANDBETWEEN(1,9)","v":69},"+ ____ = ",100,null,null,null,null,null,null,null,null,null,null,{"$f":"CONCATENATE(F124,\" \",G124,\" \",H124,\" \",I124,\" \",J124,\" \",K124,\" \",L124,\" \",M124,\" \",N124,\" \",O124,\" \",P124,\" \",Q124,\" \",R124)","v":"Fill in the missing number:    69 + ____ =  100         "},{"$f":"I124-G124","v":31},null,null,null,null,null,null,null,null,{"$f":"IF(OR(ISNA(U124),ISNA(V124),ISNA(W124),ISNA(X124),ISNA(Y124),ISNA(Z124),ISNA(AA124),ISNA(AB124),ISNA(AC124)),NA(),CONCATENATE(U124,V124,W124,X124,Y124,Z124,AA124,AB124))","v":"31"},{"$f":"IF(ISNA(AD124),FALSE,IF(C124=$B$1,Worksheet!$B$3,IF(C124=$C$1,Worksheet!$B$4,IF(C124=$D$1,Worksheet!$B$5,IF(C124=$E$1,Worksheet!$B$6,IF(C124=$B$2,Worksheet!$B$7,IF(C124=$C$2,Worksheet!$D$3,IF(C124=$D$2,Worksheet!$D$4,IF(C124=$E$2,Worksheet!$D$5,IF(C124=$C$3,Worksheet!$D$6,IF(C124=$B$3,Worksheet!$D$7,FALSE)))))))))))","v":true},{"$f":"IF(AE124,D124,\"\")","v":"Medium"},{"$f":"IF(AE124,COUNTIF($AF$5:AF124,AF124),\"X\")","v":59},{"$f":"CONCATENATE(AE124,AF124)","v":"TRUEMedium"}]
[{"$f":"CONCATENATE(AE125,D125,AG125)","v":"TRUEEasy40"},{"$f":"RAND()","v":0.46468133508167275},"Num","Easy",20,"Continue the pattern for three more numbers:   ",{"$f":"RANDBETWEEN(11,95)*10","v":330},{"$f":"G125+S125","v":340},{"$f":"H125+S125","v":350},{"$f":"I125+S125","v":360},"____","____","____",null,null,null,null,null,10,{"$f":"CONCATENATE(F125,\" \",G125,\",   \",H125,\",   \",I125,\",   \",J125,\",   \",K125,\",   \",L125,\",   \",M125,\" \",N125,\" \",O125,\" \",P125,\" \",Q125,\" \",R125)","v":"Continue the pattern for three more numbers:    330,   340,   350,   360,   ____,   ____,   ____     "},{"$f":"J125+S125","v":370},{"$f":"U125+S125","v":380},null,null,null,null,null,null,null,{"$f":"IF(OR(ISNA(U125),ISNA(V125),ISNA(W125),ISNA(X125),ISNA(Y125),ISNA(Z125),ISNA(AA125),ISNA(AB125),ISNA(AC125)),NA(),CONCATENATE(U125,\",   \",V125,W125,X125,Y125,Z125,AA125,AB125))","v":"370,   380"},{"$f":"IF(ISNA(AD125),FALSE,IF(C125=$B$1,Worksheet!$B$3,IF(C125=$C$1,Worksheet!$B$4,IF(C125=$D$1,Worksheet!$B$5,IF(C125=$E$1,Worksheet!$B$6,IF(C125=$B$2,Worksheet!$B$7,IF(C125=$C$2,Worksheet!$D$3,IF(C125=$D$2,Worksheet!$D$4,IF(C125=$E$2,Worksheet!$D$5,IF(C125=$C$3,Worksheet!$D$6,IF(C125=$B$3,Worksheet!$D$7,FALSE)))))))))))","v":true},{"$f":"IF(AE125,D125,\"\")","v":"Easy"},{"$f":"IF(AE125,COUNTIF($AF$5:AF125,AF125),\"X\")","v":40},{"$f":"CONCATENATE(AE125,AF125)","v":"TRUEEasy"}]
[{"$f":"CONCATENATE(AE126,D126,AG126)","v":"TRUEEasy41"},{"$f":"RAND()","v":0.8466530527651448},"Num","Easy",18,"Continue the pattern for three more numbers:   ",{"$f":"RANDBETWEEN(30,80)","v":34},{"$f":"G126+S126","v":37},{"$f":"H126+S126","v":40},{"$f":"I126+S126","v":43},"____","____","____",null,null,null,null,null,{"$f":"RANDBETWEEN(2,5)","v":3},{"$f":"CONCATENATE(F126,\" \",G126,\",   \",H126,\",   \",I126,\",   \",J126,\",   \",K126,\",   \",L126,\",   \",M126,\" \",N126,\" \",O126,\" \",P126,\" \",Q126,\" \",R126)","v":"Continue the pattern for three more numbers:    34,   37,   40,   43,   ____,   ____,   ____     "},{"$f":"J126+S126","v":46},{"$f":"U126+S126","v":49},null,null,null,null,null,null,null,{"$f":"IF(OR(ISNA(U126),ISNA(V126),ISNA(W126),ISNA(X126),ISNA(Y126),ISNA(Z126),ISNA(AA126),ISNA(AB126),ISNA(AC126)),NA(),CONCATENATE(U126,\",   \",V126,W126,X126,Y126,Z126,AA126,AB126))","v":"46,   49"},{"$f":"IF(ISNA(AD126),FALSE,IF(C126=$B$1,Worksheet!$B$3,IF(C126=$C$1,Worksheet!$B$4,IF(C126=$D$1,Worksheet!$B$5,IF(C126=$E$1,Worksheet!$B$6,IF(C126=$B$2,Worksheet!$B$7,IF(C126=$C$2,Worksheet!$D$3,IF(C126=$D$2,Worksheet!$D$4,IF(C126=$E$2,Worksheet!$D$5,IF(C126=$C$3,Worksheet!$D$6,IF(C126=$B$3,Worksheet!$D$7,FALSE)))))))))))","v":true},{"$f":"IF(AE126,D126,\"\")","v":"Easy"},{"$f":"IF(AE126,COUNTIF($AF$5:AF126,AF126),\"X\")","v":41},{"$f":"CONCATENATE(AE126,AF126)","v":"TRUEEasy"}]
[{"$f":"CONCATENATE(AE127,D127,AG127)","v":"TRUEMedium60"},{"$f":"RAND()","v":0.28778592277769177},"Num","Medium",5,"Write the number   \"",{"$f":"CHOOSE(RANDBETWEEN(1,9),\"one\",\"two\",\"three\",\"four\",\"five\",\"six\",\"seven\",\"eight\",\"nine\")","v":"three"},"thousand","and",{"$f":"IF(S127=1,\"\",CHOOSE(RANDBETWEEN(1,9),\"one\",\"two\",\"three\",\"four\",\"five\",\"six\",\"seven\",\"eight\",\"nine\"))","v":"four"},"\"   in figures",null,null,null,null,null,null,null,null,{"$f":"CONCATENATE(F127,\"\",G127,\" \",H127,\" \",I127,\" \",J127,\"\",K127,\" \",L127,\" \",M127,\" \",N127,\" \",O127,\" \",P127,\" \",Q127,\" \",R127)","v":"Write the number   \"three thousand and four\"   in figures       "},{"$f":"IF(G127=\"one\",1,IF(G127=\"two\",2,IF(G127=\"three\",3,IF(G127=\"four\",4,IF(G127=\"five\",5,IF(G127=\"six\",6,IF(G127=\"seven\",7,IF(G127=\"eight\",8,9))))))))","v":3},0,0,{"$f":"IF(S127<>1,IF(J127=\"one\",1,IF(J127=\"two\",2,IF(J127=\"three\",3,IF(J127=\"four\",4,IF(J127=\"five\",5,IF(J127=\"six\",6,IF(J127=\"seven\",7,IF(J127=\"eight\",8,9)))))))),\"\")","v":4},null,null,null,null,null,{"$f":"IF(OR(ISNA(U127),ISNA(V127),ISNA(W127),ISNA(X127),ISNA(Y127),ISNA(Z127),ISNA(AA127),ISNA(AB127),ISNA(AC127)),NA(),TEXT(CONCATENATE(U127,V127,W127,X127,Y127,Z127,AA127,AB127),\"#,###\"))","v":"3,004"},{"$f":"IF(ISNA(AD127),FALSE,IF(C127=$B$1,Worksheet!$B$3,IF(C127=$C$1,Worksheet!$B$4,IF(C127=$D$1,Worksheet!$B$5,IF(C127=$E$1,Worksheet!$B$6,IF(C127=$B$2,Worksheet!$B$7,IF(C127=$C$2,Worksheet!$D$3,IF(C127=$D$2,Worksheet!$D$4,IF(C127=$E$2,Worksheet!$D$5,IF(C127=$C$3,Worksheet!$D$6,IF(C127=$B$3,Worksheet!$D$7,FALSE)))))))))))","v":true},{"$f":"IF(AE127,D127,\"\")","v":"Medium"},{"$f":"IF(AE127,COUNTIF($AF$5:AF127,AF127),\"X\")","v":60},{"$f":"CONCATENATE(AE127,AF127)","v":"TRUEMedium"}]
[{"$f":"CONCATENATE(AE128,D128,AG128)","v":"TRUEHard23"},{"$f":"RAND()","v":0.19167391413844803},"Choose","Hard",111,{"$f":"CHOOSE(RANDBETWEEN(1,4),\"Sean\",\"Kyle\",\"Robbie\",\"Jordan\")","v":"Jordan"},"earns",{"$f":"RANDBETWEEN(20,50)","v":43},"on Wednesday,",{"$f":"RANDBETWEEN(20,50)","v":32},"on Thursday and ",null,{"$f":"RANDBETWEEN(20,50)","v":41},"on Friday.  How much does he earn in total?",null,null,null,null,null,{"$f":"CONCATENATE(F128,\" \",G128,\" £\",H128,\" \",I128,\" £\",J128,\" \",K128,\" \",L128,\" £\",M128,\" \",N128,\" \",O128,\" \",P128,\" \",Q128,\" \",R128)","v":"Jordan earns £43 on Wednesday, £32 on Thursday and   £41 on Friday.  How much does he earn in total?    "},{"$f":"H128+J128+M128","v":116},null,null,null,null,null,null,null,null,{"$f":"IF(OR(ISNA(U128),ISNA(V128),ISNA(W128),ISNA(X128),ISNA(Y128),ISNA(Z128),ISNA(AA128),ISNA(AB128),ISNA(AC128)),NA(),CONCATENATE(U128,V128,W128,X128,Y128,Z128,AA128,AB128))","v":"116"},{"$f":"IF(ISNA(AD128),FALSE,IF(C128=$B$1,Worksheet!$B$3,IF(C128=$C$1,Worksheet!$B$4,IF(C128=$D$1,Worksheet!$B$5,IF(C128=$E$1,Worksheet!$B$6,IF(C128=$B$2,Worksheet!$B$7,IF(C128=$C$2,Worksheet!$D$3,IF(C128=$D$2,Worksheet!$D$4,IF(C128=$E$2,Worksheet!$D$5,IF(C128=$C$3,Worksheet!$D$6,IF(C128=$B$3,Worksheet!$D$7,FALSE)))))))))))","v":true},{"$f":"IF(AE128,D128,\"\")","v":"Hard"},{"$f":"IF(AE128,COUNTIF($AF$5:AF128,AF128),\"X\")","v":23},{"$f":"CONCATENATE(AE128,AF128)","v":"TRUEHard"}]
[{"$f":"CONCATENATE(AE129,D129,AG129)","v":"TRUEMedium61"},{"$f":"RAND()","v":0.32260227067050451},"Frac","Medium",127,"Fractions.   What is ","1/10","of",{"$f":"10*RANDBETWEEN(5,10)","v":60},"?",null,null,null,null,null,null,null,null,null,{"$f":"CONCATENATE(F129,\" \",G129,\" \",H129,\" \",I129,\" \",J129,\" \",K129,\" \",L129,\" \",M129,\" \",N129,\" \",O129,\" \",P129,\" \",Q129,\" \",R129)","v":"Fractions.   What is  1/10 of 60 ?        "},{"$f":"I129/10","v":6},null,null,null,null,null,null,null,null,{"$f":"IF(OR(ISNA(U129),ISNA(V129),ISNA(W129),ISNA(X129),ISNA(Y129),ISNA(Z129),ISNA(AA129),ISNA(AB129),ISNA(AC129)),NA(),CONCATENATE(U129,V129,W129,X129,Y129,Z129,AA129,AB129))","v":"6"},{"$f":"IF(ISNA(AD129),FALSE,IF(C129=$B$1,Worksheet!$B$3,IF(C129=$C$1,Worksheet!$B$4,IF(C129=$D$1,Worksheet!$B$5,IF(C129=$E$1,Worksheet!$B$6,IF(C129=$B$2,Worksheet!$B$7,IF(C129=$C$2,Worksheet!$D$3,IF(C129=$D$2,Worksheet!$D$4,IF(C129=$E$2,Worksheet!$D$5,IF(C129=$C$3,Worksheet!$D$6,IF(C129=$B$3,Worksheet!$D$7,FALSE)))))))))))","v":true},{"$f":"IF(AE129,D129,\"\")","v":"Medium"},{"$f":"IF(AE129,COUNTIF($AF$5:AF129,AF129),\"X\")","v":61},{"$f":"CONCATENATE(AE129,AF129)","v":"TRUEMedium"}]
[{"$f":"CONCATENATE(AE130,D130,AG130)","v":"TRUEMedium62"},{"$f":"RAND()","v":0.27759983498118934},"Divide","Medium",88,"What is half of ",{"$f":"20*RANDBETWEEN(1,2)+2*RANDBETWEEN(0,4)","v":48},"?",null,null,null,null,null,null,null,null,null,null,null,{"$f":"CONCATENATE(F130,\" \",G130,\"\",H130,\" \",I130,\" \",J130,\" \",K130,\" \",L130,\" \",M130,\" \",N130,\" \",O130,\" \",P130,\" \",Q130,\" \",R130)","v":"What is half of  48?          "},{"$f":"G130/2","v":24},null,null,null,null,null,null,null,null,{"$f":"IF(OR(ISNA(U130),ISNA(V130),ISNA(W130),ISNA(X130),ISNA(Y130),ISNA(Z130),ISNA(AA130),ISNA(AB130),ISNA(AC130)),NA(),CONCATENATE(U130,V130,W130,X130,Y130,Z130,AA130,AB130))","v":"24"},{"$f":"IF(ISNA(AD130),FALSE,IF(C130=$B$1,Worksheet!$B$3,IF(C130=$C$1,Worksheet!$B$4,IF(C130=$D$1,Worksheet!$B$5,IF(C130=$E$1,Worksheet!$B$6,IF(C130=$B$2,Worksheet!$B$7,IF(C130=$C$2,Worksheet!$D$3,IF(C130=$D$2,Worksheet!$D$4,IF(C130=$E$2,Worksheet!$D$5,IF(C130=$C$3,Worksheet!$D$6,IF(C130=$B$3,Worksheet!$D$7,FALSE)))))))))))","v":true},{"$f":"IF(AE130,D130,\"\")","v":"Medium"},{"$f":"IF(AE130,COUNTIF($AF$5:AF130,AF130),\"X\")","v":62},{"$f":"CONCATENATE(AE130,AF130)","v":"TRUEMedium"}]
[{"$f":"CONCATENATE(AE131,D131,AG131)","v":"TRUEEasy42"},{"$f":"RAND()","v":0.49687710556586984},"+-","Easy",59,"Take away:   ",{"$f":"RANDBETWEEN(2,8)*10+RANDBETWEEN(5,9)","v":67},"–",{"$f":"RANDBETWEEN(1,5)","v":1},null,null,null,null,null,null,null,null,null,null,{"$f":"CONCATENATE(F131,\" \",G131,\" \",H131,\" \",I131,\" \",J131,\" \",K131,\" \",L131,\" \",M131,\" \",N131,\" \",O131,\" \",P131,\" \",Q131,\" \",R131)","v":"Take away:    67 – 1         "},{"$f":"G131-I131","v":66},null,null,null,null,null,null,null,null,{"$f":"IF(OR(ISNA(U131),ISNA(V131),ISNA(W131),ISNA(X131),ISNA(Y131),ISNA(Z131),ISNA(AA131),ISNA(AB131),ISNA(AC131)),NA(),CONCATENATE(U131,V131,W131,X131,Y131,Z131,AA131,AB131))","v":"66"},{"$f":"IF(ISNA(AD131),FALSE,IF(C131=$B$1,Worksheet!$B$3,IF(C131=$C$1,Worksheet!$B$4,IF(C131=$D$1,Worksheet!$B$5,IF(C131=$E$1,Worksheet!$B$6,IF(C131=$B$2,Worksheet!$B$7,IF(C131=$C$2,Worksheet!$D$3,IF(C131=$D$2,Worksheet!$D$4,IF(C131=$E$2,Worksheet!$D$5,IF(C131=$C$3,Worksheet!$D$6,IF(C131=$B$3,Worksheet!$D$7,FALSE)))))))))))","v":true},{"$f":"IF(AE131,D131,\"\")","v":"Easy"},{"$f":"IF(AE131,COUNTIF($AF$5:AF131,AF131),\"X\")","v":42},{"$f":"CONCATENATE(AE131,AF131)","v":"TRUEEasy"}]
[{"$f":"CONCATENATE(AE132,D132,AG132)","v":"TRUEHard24"},{"$f":"RAND()","v":0.16017565798132505},"Mult","Hard",73,"What is double",{"$f":"RANDBETWEEN(1,4)*10+RANDBETWEEN(5,9)","v":46},"?",null,null,null,null,null,null,null,null,null,null,null,{"$f":"CONCATENATE(F132,\" \",G132,\"\",H132,\" \",I132,\" \",J132,\" \",K132,\" \",L132,\" \",M132,\" \",N132,\" \",O132,\" \",P132,\" \",Q132,\" \",R132)","v":"What is double 46?          "},{"$f":"G132*2","v":92},null,null,null,null,null,null,null,null,{"$f":"IF(OR(ISNA(U132),ISNA(V132),ISNA(W132),ISNA(X132),ISNA(Y132),ISNA(Z132),ISNA(AA132),ISNA(AB132),ISNA(AC132)),NA(),CONCATENATE(U132,V132,W132,X132,Y132,Z132,AA132,AB132))","v":"92"},{"$f":"IF(ISNA(AD132),FALSE,IF(C132=$B$1,Worksheet!$B$3,IF(C132=$C$1,Worksheet!$B$4,IF(C132=$D$1,Worksheet!$B$5,IF(C132=$E$1,Worksheet!$B$6,IF(C132=$B$2,Worksheet!$B$7,IF(C132=$C$2,Worksheet!$D$3,IF(C132=$D$2,Worksheet!$D$4,IF(C132=$E$2,Worksheet!$D$5,IF(C132=$C$3,Worksheet!$D$6,IF(C132=$B$3,Worksheet!$D$7,FALSE)))))))))))","v":true},{"$f":"IF(AE132,D132,\"\")","v":"Hard"},{"$f":"IF(AE132,COUNTIF($AF$5:AF132,AF132),\"X\")","v":24},{"$f":"CONCATENATE(AE132,AF132)","v":"TRUEHard"}]
[{"$f":"CONCATENATE(AE133,D133,AG133)","v":"TRUEMedium63"},{"$f":"RAND()","v":0.5987104156121027},"%","Medium",151,"What does 50% mean?",null,null,null,null,null,null,null,null,null,null,null,null,null,{"$f":"CONCATENATE(F133,\" \",G133,\" \",H133,\" \",I133,\" \",J133,\" \",K133,\" \",L133,\" \",M133,\" \",N133,\" \",O133,\" \",P133,\" \",Q133,\" \",R133)","v":"What does 50% mean?            "},"half",null,null,null,null,null,null,null,null,{"$f":"IF(OR(ISNA(U133),ISNA(V133),ISNA(W133),ISNA(X133),ISNA(Y133),ISNA(Z133),ISNA(AA133),ISNA(AB133),ISNA(AC133)),NA(),CONCATENATE(U133,V133,W133,X133,Y133,Z133,AA133,AB133))","v":"half"},{"$f":"IF(ISNA(AD133),FALSE,IF(C133=$B$1,Worksheet!$B$3,IF(C133=$C$1,Worksheet!$B$4,IF(C133=$D$1,Worksheet!$B$5,IF(C133=$E$1,Worksheet!$B$6,IF(C133=$B$2,Worksheet!$B$7,IF(C133=$C$2,Worksheet!$D$3,IF(C133=$D$2,Worksheet!$D$4,IF(C133=$E$2,Worksheet!$D$5,IF(C133=$C$3,Worksheet!$D$6,IF(C133=$B$3,Worksheet!$D$7,FALSE)))))))))))","v":true},{"$f":"IF(AE133,D133,\"\")","v":"Medium"},{"$f":"IF(AE133,COUNTIF($AF$5:AF133,AF133),\"X\")","v":63},{"$f":"CONCATENATE(AE133,AF133)","v":"TRUEMedium"}]
[{"$f":"CONCATENATE(AE134,D134,AG134)","v":"TRUEMedium64"},{"$f":"RAND()","v":0.46344249767986645},"+-","Medium",48,"Take away:    100 –",{"$f":"RANDBETWEEN(1,9)*10+RANDBETWEEN(1,9)","v":67},null,null,null,null,null,null,null,null,null,null,null,null,{"$f":"CONCATENATE(F134,\" \",G134,\" \",H134,\" \",I134,\" \",J134,\" \",K134,\" \",L134,\" \",M134,\" \",N134,\" \",O134,\" \",P134,\" \",Q134,\" \",R134)","v":"Take away:    100 – 67           "},{"$f":"100-G134","v":33},null,null,null,null,null,null,null,null,{"$f":"IF(OR(ISNA(U134),ISNA(V134),ISNA(W134),ISNA(X134),ISNA(Y134),ISNA(Z134),ISNA(AA134),ISNA(AB134),ISNA(AC134)),NA(),CONCATENATE(U134,V134,W134,X134,Y134,Z134,AA134,AB134))","v":"33"},{"$f":"IF(ISNA(AD134),FALSE,IF(C134=$B$1,Worksheet!$B$3,IF(C134=$C$1,Worksheet!$B$4,IF(C134=$D$1,Worksheet!$B$5,IF(C134=$E$1,Worksheet!$B$6,IF(C134=$B$2,Worksheet!$B$7,IF(C134=$C$2,Worksheet!$D$3,IF(C134=$D$2,Worksheet!$D$4,IF(C134=$E$2,Worksheet!$D$5,IF(C134=$C$3,Worksheet!$D$6,IF(C134=$B$3,Worksheet!$D$7,FALSE)))))))))))","v":true},{"$f":"IF(AE134,D134,\"\")","v":"Medium"},{"$f":"IF(AE134,COUNTIF($AF$5:AF134,AF134),\"X\")","v":64},{"$f":"CONCATENATE(AE134,AF134)","v":"TRUEMedium"}]
[{"$f":"CONCATENATE(AE135,D135,AG135)","v":"TRUEEasy43"},{"$f":"RAND()","v":7.8000719437083643E-2},"Num","Easy",15,"Fill in the missing numbers:   ",{"$f":"RANDBETWEEN(7,9)*100","v":800},{"$f":"G135+S135","v":700},{"$f":"H135+S135","v":600},"____","____",{"$f":"V135+S135","v":300},{"$f":"L135+S135","v":200},null,null,null,null,null,-100,{"$f":"CONCATENATE(F135,\" \",G135,\",   \",H135,\",   \",I135,\",   \",J135,\",   \",K135,\",   \",L135,\",   \",M135,\" \",N135,\" \",O135,\" \",P135,\" \",Q135,\" \",R135)","v":"Fill in the missing numbers:    800,   700,   600,   ____,   ____,   300,   200     "},{"$f":"I135+S135","v":500},{"$f":"U135+S135","v":400},null,null,null,null,null,null,null,{"$f":"IF(OR(ISNA(U135),ISNA(V135),ISNA(W135),ISNA(X135),ISNA(Y135),ISNA(Z135),ISNA(AA135),ISNA(AB135),ISNA(AC135)),NA(),CONCATENATE(U135,\",   \",V135,W135,X135,Y135,Z135,AA135,AB135))","v":"500,   400"},{"$f":"IF(ISNA(AD135),FALSE,IF(C135=$B$1,Worksheet!$B$3,IF(C135=$C$1,Worksheet!$B$4,IF(C135=$D$1,Worksheet!$B$5,IF(C135=$E$1,Worksheet!$B$6,IF(C135=$B$2,Worksheet!$B$7,IF(C135=$C$2,Worksheet!$D$3,IF(C135=$D$2,Worksheet!$D$4,IF(C135=$E$2,Worksheet!$D$5,IF(C135=$C$3,Worksheet!$D$6,IF(C135=$B$3,Worksheet!$D$7,FALSE)))))))))))","v":true},{"$f":"IF(AE135,D135,\"\")","v":"Easy"},{"$f":"IF(AE135,COUNTIF($AF$5:AF135,AF135),\"X\")","v":43},{"$f":"CONCATENATE(AE135,AF135)","v":"TRUEEasy"}]
[{"$f":"CONCATENATE(AE136,D136,AG136)","v":"TRUEHard25"},{"$f":"RAND()","v":0.72582528173853189},"+-","Hard",49,"Take away:    100 –",{"$f":"RANDBETWEEN(1,9)*10+RANDBETWEEN(1,9)","v":23},null,null,null,null,null,null,null,null,null,null,null,null,{"$f":"CONCATENATE(F136,\" \",G136,\" \",H136,\" \",I136,\" \",J136,\" \",K136,\" \",L136,\" \",M136,\" \",N136,\" \",O136,\" \",P136,\" \",Q136,\" \",R136)","v":"Take away:    100 – 23           "},{"$f":"100-G136","v":77},null,null,null,null,null,null,null,null,{"$f":"IF(OR(ISNA(U136),ISNA(V136),ISNA(W136),ISNA(X136),ISNA(Y136),ISNA(Z136),ISNA(AA136),ISNA(AB136),ISNA(AC136)),NA(),CONCATENATE(U136,V136,W136,X136,Y136,Z136,AA136,AB136))","v":"77"},{"$f":"IF(ISNA(AD136),FALSE,IF(C136=$B$1,Worksheet!$B$3,IF(C136=$C$1,Worksheet!$B$4,IF(C136=$D$1,Worksheet!$B$5,IF(C136=$E$1,Worksheet!$B$6,IF(C136=$B$2,Worksheet!$B$7,IF(C136=$C$2,Worksheet!$D$3,IF(C136=$D$2,Worksheet!$D$4,IF(C136=$E$2,Worksheet!$D$5,IF(C136=$C$3,Worksheet!$D$6,IF(C136=$B$3,Worksheet!$D$7,FALSE)))))))))))","v":true},{"$f":"IF(AE136,D136,\"\")","v":"Hard"},{"$f":"IF(AE136,COUNTIF($AF$5:AF136,AF136),\"X\")","v":25},{"$f":"CONCATENATE(AE136,AF136)","v":"TRUEHard"}]
[{"$f":"CONCATENATE(AE137,D137,AG137)","v":"TRUEHard26"},{"$f":"RAND()","v":0.21610100045920166},"Num","Hard",39,"Write these numbers in order from",{"$f":"CHOOSE(RANDBETWEEN(1,2),\"smallest to biggest:\",\"biggest to smallest:\")","v":"biggest to smallest:"},{"$f":"IF($O137=1,$P137*1000,IF($O137=2,$Q137*1000,IF($O137=3,$R137*1000,$S137*1000)))+IF(RAND()<0.5,$R137,$S137)*100+IF(RAND()<0.5,$P137,$Q137)*10+CHOOSE(RANDBETWEEN(1,4),$P137,$Q137,$R137,$S137)","v":2525},{"$f":"IF($O137=1,$P137*1000,IF($O137=2,$Q137*1000,IF($O137=3,$R137*1000,$S137*1000)))+IF(RAND()<0.5,$R137,$S137)*100+IF(RAND()<0.5,$P137,$Q137)*10+CHOOSE(RANDBETWEEN(1,4),$P137,$Q137,$R137,$S137)","v":2595},{"$f":"IF($O137=1,$P137*1000,IF($O137=2,$Q137*1000,IF($O137=3,$R137*1000,$S137*1000)))+IF(RAND()<0.5,$R137,$S137)*100+IF(RAND()<0.5,$P137,$Q137)*10+CHOOSE(RANDBETWEEN(1,4),$P137,$Q137,$R137,$S137)","v":2529},{"$f":"IF($O137=1,$P137*1000,IF($O137=2,$Q137*1000,IF($O137=3,$R137*1000,$S137*1000)))+IF(RAND()<0.5,$R137,$S137)*100+IF(RAND()<0.5,$P137,$Q137)*10+CHOOSE(RANDBETWEEN(1,4),$P137,$Q137,$R137,$S137)","v":2592},null,null,null,{"$f":"RANDBETWEEN(1,4)","v":1},{"$f":"RANDBETWEEN(1,9)","v":2},{"$f":"RANDBETWEEN(1,9)","v":9},{"$f":"RANDBETWEEN(1,9)","v":5},{"$f":"RANDBETWEEN(1,9)","v":5},{"$f":"CONCATENATE(F137,\" \",G137,\"   \",H137,\",  \",I137,\",  \",J137,\",  \",K137,\" \",L137,\" \",M137,\" \",N137)","v":"Write these numbers in order from biggest to smallest:   2525,  2595,  2529,  2592   "},{"$f":"IF($G137=\"smallest to biggest:\",LARGE($H137:$K137,4),LARGE($H137:$K137,1))","v":2595},{"$f":"IF($G137=\"smallest to biggest:\",LARGE($H137:$K137,3),LARGE($H137:$K137,2))","v":2592},{"$f":"IF($G137=\"smallest to biggest:\",LARGE($H137:$K137,2),LARGE($H137:$K137,3))","v":2529},{"$f":"IF($G137=\"smallest to biggest:\",LARGE($H137:$K137,1),LARGE($H137:$K137,4))","v":2525},null,{"$f":"IF(OR(H137=I137,H137=J137,H137=K137,I137=J137,I137=K137,J137=K137),NA(),\"\")","v":""},null,null,null,{"$f":"IF(OR(ISNA(U137),ISNA(V137),ISNA(W137),ISNA(X137),ISNA(Y137),ISNA(Z137),ISNA(AA137),ISNA(AB137),ISNA(AC137)),NA(),CONCATENATE(U137,\",  \",V137,\",  \",W137,\",  \",X137,Y137,Z137,AA137,AB137))","v":"2595,  2592,  2529,  2525"},{"$f":"IF(ISNA(AD137),FALSE,IF(C137=$B$1,Worksheet!$B$3,IF(C137=$C$1,Worksheet!$B$4,IF(C137=$D$1,Worksheet!$B$5,IF(C137=$E$1,Worksheet!$B$6,IF(C137=$B$2,Worksheet!$B$7,IF(C137=$C$2,Worksheet!$D$3,IF(C137=$D$2,Worksheet!$D$4,IF(C137=$E$2,Worksheet!$D$5,IF(C137=$C$3,Worksheet!$D$6,IF(C137=$B$3,Worksheet!$D$7,FALSE)))))))))))","v":true},{"$f":"IF(AE137,D137,\"\")","v":"Hard"},{"$f":"IF(AE137,COUNTIF($AF$5:AF137,AF137),\"X\")","v":26},{"$f":"CONCATENATE(AE137,AF137)","v":"TRUEHard"}]
[{"$f":"CONCATENATE(AE138,D138,AG138)","v":"TRUEMedium65"},{"$f":"RAND()","v":9.3470435924091544E-2},"Choose","Medium",113,"One",{"$f":"CHOOSE(RANDBETWEEN(1,3),\"sweet\",\"pencil\",\"rubber\")","v":"rubber"},"costs",{"$f":"RANDBETWEEN(6,9)","v":9},"p.   How much do",{"$f":"RANDBETWEEN(2,5)","v":3},{"$f":"CONCATENATE(G138,\"s\")","v":"rubbers"},"cost?",null,null,null,null,null,null,{"$f":"CONCATENATE(F138,\" \",G138,\" \",H138,\" \",I138,\"\",J138,\" \",K138,\" \",L138,\" \",M138,\" \",N138,\" \",O138,\" \",P138,\" \",Q138,\" \",R138)","v":"One rubber costs 9p.   How much do 3 rubbers cost?     "},{"$f":"I138*K138","v":27},"p",null,null,null,null,null,null,null,{"$f":"IF(OR(ISNA(U138),ISNA(V138),ISNA(W138),ISNA(X138),ISNA(Y138),ISNA(Z138),ISNA(AA138),ISNA(AB138),ISNA(AC138)),NA(),CONCATENATE(U138,V138,W138,X138,Y138,Z138,AA138,AB138))","v":"27p"},{"$f":"IF(ISNA(AD138),FALSE,IF(C138=$B$1,Worksheet!$B$3,IF(C138=$C$1,Worksheet!$B$4,IF(C138=$D$1,Worksheet!$B$5,IF(C138=$E$1,Worksheet!$B$6,IF(C138=$B$2,Worksheet!$B$7,IF(C138=$C$2,Worksheet!$D$3,IF(C138=$D$2,Worksheet!$D$4,IF(C138=$E$2,Worksheet!$D$5,IF(C138=$C$3,Worksheet!$D$6,IF(C138=$B$3,Worksheet!$D$7,FALSE)))))))))))","v":true},{"$f":"IF(AE138,D138,\"\")","v":"Medium"},{"$f":"IF(AE138,COUNTIF($AF$5:AF138,AF138),\"X\")","v":65},{"$f":"CONCATENATE(AE138,AF138)","v":"TRUEMedium"}]
[{"$f":"CONCATENATE(AE139,D139,AG139)","v":"TRUEEasy44"},{"$f":"RAND()","v":0.78710643259396318},"+-","Easy",47,"Fill in the missing number:   ","____ +",{"$f":"RANDBETWEEN(1,9)*100","v":100},"=",1000,null,null,null,null,null,null,null,null,null,{"$f":"CONCATENATE(F139,\" \",G139,\" \",H139,\" \",I139,\" \",J139,\" \",K139,\" \",L139,\" \",M139,\" \",N139,\" \",O139,\" \",P139,\" \",Q139,\" \",R139)","v":"Fill in the missing number:    ____ + 100 = 1000        "},{"$f":"J139-H139","v":900},null,null,null,null,null,null,null,null,{"$f":"IF(OR(ISNA(U139),ISNA(V139),ISNA(W139),ISNA(X139),ISNA(Y139),ISNA(Z139),ISNA(AA139),ISNA(AB139),ISNA(AC139)),NA(),CONCATENATE(U139,V139,W139,X139,Y139,Z139,AA139,AB139))","v":"900"},{"$f":"IF(ISNA(AD139),FALSE,IF(C139=$B$1,Worksheet!$B$3,IF(C139=$C$1,Worksheet!$B$4,IF(C139=$D$1,Worksheet!$B$5,IF(C139=$E$1,Worksheet!$B$6,IF(C139=$B$2,Worksheet!$B$7,IF(C139=$C$2,Worksheet!$D$3,IF(C139=$D$2,Worksheet!$D$4,IF(C139=$E$2,Worksheet!$D$5,IF(C139=$C$3,Worksheet!$D$6,IF(C139=$B$3,Worksheet!$D$7,FALSE)))))))))))","v":true},{"$f":"IF(AE139,D139,\"\")","v":"Easy"},{"$f":"IF(AE139,COUNTIF($AF$5:AF139,AF139),\"X\")","v":44},{"$f":"CONCATENATE(AE139,AF139)","v":"TRUEEasy"}]
[{"$f":"CONCATENATE(AE140,D140,AG140)","v":"TRUEMedium66"},{"$f":"RAND()","v":0.83337226797322439},"Mult","Medium",77,"What is",{"$f":"RANDBETWEEN(2,5)","v":3},"×",{"$f":"RANDBETWEEN(5,9)","v":6},"?",null,null,null,null,null,null,null,null,null,{"$f":"CONCATENATE(F140,\" \",G140,\" \",H140,\" \",I140,\" \",J140,\" \",K140,\" \",L140,\" \",M140,\" \",N140,\" \",O140,\" \",P140,\" \",Q140,\" \",R140)","v":"What is 3 × 6 ?        "},{"$f":"G140*I140","v":18},null,null,null,null,null,null,null,null,{"$f":"IF(OR(ISNA(U140),ISNA(V140),ISNA(W140),ISNA(X140),ISNA(Y140),ISNA(Z140),ISNA(AA140),ISNA(AB140),ISNA(AC140)),NA(),CONCATENATE(U140,V140,W140,X140,Y140,Z140,AA140,AB140))","v":"18"},{"$f":"IF(ISNA(AD140),FALSE,IF(C140=$B$1,Worksheet!$B$3,IF(C140=$C$1,Worksheet!$B$4,IF(C140=$D$1,Worksheet!$B$5,IF(C140=$E$1,Worksheet!$B$6,IF(C140=$B$2,Worksheet!$B$7,IF(C140=$C$2,Worksheet!$D$3,IF(C140=$D$2,Worksheet!$D$4,IF(C140=$E$2,Worksheet!$D$5,IF(C140=$C$3,Worksheet!$D$6,IF(C140=$B$3,Worksheet!$D$7,FALSE)))))))))))","v":true},{"$f":"IF(AE140,D140,\"\")","v":"Medium"},{"$f":"IF(AE140,COUNTIF($AF$5:AF140,AF140),\"X\")","v":66},{"$f":"CONCATENATE(AE140,AF140)","v":"TRUEMedium"}]
[{"$f":"CONCATENATE(AE141,D141,AG141)","v":"TRUEMedium67"},{"$f":"RAND()","v":0.20269533222476899},"Frac","Medium",123,"Fractions.   What is ","1/2","of",{"$f":"2*RANDBETWEEN(5,10)","v":16},"?",null,null,null,null,null,null,null,null,null,{"$f":"CONCATENATE(F141,\" \",G141,\" \",H141,\" \",I141,\" \",J141,\" \",K141,\" \",L141,\" \",M141,\" \",N141,\" \",O141,\" \",P141,\" \",Q141,\" \",R141)","v":"Fractions.   What is  1/2 of 16 ?        "},{"$f":"I141/2","v":8},null,null,null,null,null,null,null,null,{"$f":"IF(OR(ISNA(U141),ISNA(V141),ISNA(W141),ISNA(X141),ISNA(Y141),ISNA(Z141),ISNA(AA141),ISNA(AB141),ISNA(AC141)),NA(),CONCATENATE(U141,V141,W141,X141,Y141,Z141,AA141,AB141))","v":"8"},{"$f":"IF(ISNA(AD141),FALSE,IF(C141=$B$1,Worksheet!$B$3,IF(C141=$C$1,Worksheet!$B$4,IF(C141=$D$1,Worksheet!$B$5,IF(C141=$E$1,Worksheet!$B$6,IF(C141=$B$2,Worksheet!$B$7,IF(C141=$C$2,Worksheet!$D$3,IF(C141=$D$2,Worksheet!$D$4,IF(C141=$E$2,Worksheet!$D$5,IF(C141=$C$3,Worksheet!$D$6,IF(C141=$B$3,Worksheet!$D$7,FALSE)))))))))))","v":true},{"$f":"IF(AE141,D141,\"\")","v":"Medium"},{"$f":"IF(AE141,COUNTIF($AF$5:AF141,AF141),\"X\")","v":67},{"$f":"CONCATENATE(AE141,AF141)","v":"TRUEMedium"}]
[{"$f":"CONCATENATE(AE142,D142,AG142)","v":"TRUEMedium68"},{"$f":"RAND()","v":0.39404916822173142},"Frac","Medium",124,"Fractions.   What is ","1/3","of",{"$f":"3*RANDBETWEEN(5,10)","v":21},"?",null,null,null,null,null,null,null,null,null,{"$f":"CONCATENATE(F142,\" \",G142,\" \",H142,\" \",I142,\" \",J142,\" \",K142,\" \",L142,\" \",M142,\" \",N142,\" \",O142,\" \",P142,\" \",Q142,\" \",R142)","v":"Fractions.   What is  1/3 of 21 ?        "},{"$f":"I142/3","v":7},null,null,null,null,null,null,null,null,{"$f":"IF(OR(ISNA(U142),ISNA(V142),ISNA(W142),ISNA(X142),ISNA(Y142),ISNA(Z142),ISNA(AA142),ISNA(AB142),ISNA(AC142)),NA(),CONCATENATE(U142,V142,W142,X142,Y142,Z142,AA142,AB142))","v":"7"},{"$f":"IF(ISNA(AD142),FALSE,IF(C142=$B$1,Worksheet!$B$3,IF(C142=$C$1,Worksheet!$B$4,IF(C142=$D$1,Worksheet!$B$5,IF(C142=$E$1,Worksheet!$B$6,IF(C142=$B$2,Worksheet!$B$7,IF(C142=$C$2,Worksheet!$D$3,IF(C142=$D$2,Worksheet!$D$4,IF(C142=$E$2,Worksheet!$D$5,IF(C142=$C$3,Worksheet!$D$6,IF(C142=$B$3,Worksheet!$D$7,FALSE)))))))))))","v":true},{"$f":"IF(AE142,D142,\"\")","v":"Medium"},{"$f":"IF(AE142,COUNTIF($AF$5:AF142,AF142),\"X\")","v":68},{"$f":"CONCATENATE(AE142,AF142)","v":"TRUEMedium"}]
[{"$f":"CONCATENATE(AE143,D143,AG143)","v":"TRUEMedium69"},{"$f":"RAND()","v":0.47941136935691453},"Mult","Medium",31,"Write out all the numbers in the",{"$f":"IF(RAND()<0.2,10,RANDBETWEEN(2,5))","v":5},"times table going backwards:   ",{"$f":"CONCATENATE(10*G143,\",  \",G143*9,\",   \",G143*8)","v":"50,  45,   40"},", ___, ___, ___, ___, ___, ___, ___",null,null,null,null,null,null,null,null,null,{"$f":"CONCATENATE(F143,\" \",G143,\" \",H143,\" \",I143,\" \",J143,\" \",K143,\" \",L143,\" \",M143,\" \",N143,\" \",O143,\" \",P143,\" \",Q143,\" \",R143)","v":"Write out all the numbers in the 5 times table going backwards:    50,  45,   40 , ___, ___, ___, ___, ___, ___, ___        "},{"$f":"CONCATENATE(G143*7,\",  \",G143*6,\",  \",G143*5,\",  \",G143*4,\",  \",G143*3,\",  \",G143*2,\",  \",G143*1)","v":"35,  30,  25,  20,  15,  10,  5"},null,null,null,null,null,null,null,null,{"$f":"IF(OR(ISNA(U143),ISNA(V143),ISNA(W143),ISNA(X143),ISNA(Y143),ISNA(Z143),ISNA(AA143),ISNA(AB143),ISNA(AC143)),NA(),CONCATENATE(U143,V143,W143,X143,Y143,Z143,AA143,AB143))","v":"35,  30,  25,  20,  15,  10,  5"},{"$f":"IF(ISNA(AD143),FALSE,IF(C143=$B$1,Worksheet!$B$3,IF(C143=$C$1,Worksheet!$B$4,IF(C143=$D$1,Worksheet!$B$5,IF(C143=$E$1,Worksheet!$B$6,IF(C143=$B$2,Worksheet!$B$7,IF(C143=$C$2,Worksheet!$D$3,IF(C143=$D$2,Worksheet!$D$4,IF(C143=$E$2,Worksheet!$D$5,IF(C143=$C$3,Worksheet!$D$6,IF(C143=$B$3,Worksheet!$D$7,FALSE)))))))))))","v":true},{"$f":"IF(AE143,D143,\"\")","v":"Medium"},{"$f":"IF(AE143,COUNTIF($AF$5:AF143,AF143),\"X\")","v":69},{"$f":"CONCATENATE(AE143,AF143)","v":"TRUEMedium"}]
[{"$f":"CONCATENATE(AE144,D144,AG144)","v":"TRUEMedium70"},{"$f":"RAND()","v":0.23380941933288779},"Mult","Medium",81,"Multiply",{"$f":"RANDBETWEEN(11,99)","v":72},"×",10,null,null,null,null,null,null,null,null,null,null,{"$f":"CONCATENATE(F144,\" \",G144,\" \",H144,\" \",I144,\" \",J144,\" \",K144,\" \",L144,\" \",M144,\" \",N144,\" \",O144,\" \",P144,\" \",Q144,\" \",R144)","v":"Multiply 72 × 10         "},{"$f":"G144*I144","v":720},null,null,null,null,null,null,null,null,{"$f":"IF(OR(ISNA(U144),ISNA(V144),ISNA(W144),ISNA(X144),ISNA(Y144),ISNA(Z144),ISNA(AA144),ISNA(AB144),ISNA(AC144)),NA(),CONCATENATE(U144,V144,W144,X144,Y144,Z144,AA144,AB144))","v":"720"},{"$f":"IF(ISNA(AD144),FALSE,IF(C144=$B$1,Worksheet!$B$3,IF(C144=$C$1,Worksheet!$B$4,IF(C144=$D$1,Worksheet!$B$5,IF(C144=$E$1,Worksheet!$B$6,IF(C144=$B$2,Worksheet!$B$7,IF(C144=$C$2,Worksheet!$D$3,IF(C144=$D$2,Worksheet!$D$4,IF(C144=$E$2,Worksheet!$D$5,IF(C144=$C$3,Worksheet!$D$6,IF(C144=$B$3,Worksheet!$D$7,FALSE)))))))))))","v":true},{"$f":"IF(AE144,D144,\"\")","v":"Medium"},{"$f":"IF(AE144,COUNTIF($AF$5:AF144,AF144),\"X\")","v":70},{"$f":"CONCATENATE(AE144,AF144)","v":"TRUEMedium"}]
[{"$f":"CONCATENATE(AE145,D145,AG145)","v":"TRUEMedium71"},{"$f":"RAND()","v":0.86655952720083784},"Dec","Medium",138,"How many pounds are there in",{"$f":"RANDBETWEEN(1,9)*100+RANDBETWEEN(1,99)","v":543},"p?",null,null,null,null,null,null,null,null,null,null,null,{"$f":"CONCATENATE(F145,\" \",G145,\"\",H145,\" \",I145,\" \",J145,\" \",K145,\" \",L145,\" \",M145,\" \",N145,\" \",O145,\" \",P145,\" \",Q145,\" \",R145)","v":"How many pounds are there in 543p?          "},"£",{"$f":"TEXT(G145/100,\"#.00\")","v":"5.43"},null,null,null,null,null,null,null,{"$f":"IF(OR(ISNA(U145),ISNA(V145),ISNA(W145),ISNA(X145),ISNA(Y145),ISNA(Z145),ISNA(AA145),ISNA(AB145),ISNA(AC145)),NA(),CONCATENATE(U145,V145,W145,X145,Y145,Z145,AA145,AB145))","v":"£5.43"},{"$f":"IF(ISNA(AD145),FALSE,IF(C145=$B$1,Worksheet!$B$3,IF(C145=$C$1,Worksheet!$B$4,IF(C145=$D$1,Worksheet!$B$5,IF(C145=$E$1,Worksheet!$B$6,IF(C145=$B$2,Worksheet!$B$7,IF(C145=$C$2,Worksheet!$D$3,IF(C145=$D$2,Worksheet!$D$4,IF(C145=$E$2,Worksheet!$D$5,IF(C145=$C$3,Worksheet!$D$6,IF(C145=$B$3,Worksheet!$D$7,FALSE)))))))))))","v":true},{"$f":"IF(AE145,D145,\"\")","v":"Medium"},{"$f":"IF(AE145,COUNTIF($AF$5:AF145,AF145),\"X\")","v":71},{"$f":"CONCATENATE(AE145,AF145)","v":"TRUEMedium"}]
[{"$f":"CONCATENATE(AE146,D146,AG146)","v":"TRUEEasy45"},{"$f":"RAND()","v":0.77880845031375134},"Frac","Easy",119,"Fractions.   What is ","1/3","of",{"$f":"3*RANDBETWEEN(2,5)","v":9},"?",null,null,null,null,null,null,null,null,null,{"$f":"CONCATENATE(F146,\" \",G146,\" \",H146,\" \",I146,\" \",J146,\" \",K146,\" \",L146,\" \",M146,\" \",N146,\" \",O146,\" \",P146,\" \",Q146,\" \",R146)","v":"Fractions.   What is  1/3 of 9 ?        "},{"$f":"I146/3","v":3},null,null,null,null,null,null,null,null,{"$f":"IF(OR(ISNA(U146),ISNA(V146),ISNA(W146),ISNA(X146),ISNA(Y146),ISNA(Z146),ISNA(AA146),ISNA(AB146),ISNA(AC146)),NA(),CONCATENATE(U146,V146,W146,X146,Y146,Z146,AA146,AB146))","v":"3"},{"$f":"IF(ISNA(AD146),FALSE,IF(C146=$B$1,Worksheet!$B$3,IF(C146=$C$1,Worksheet!$B$4,IF(C146=$D$1,Worksheet!$B$5,IF(C146=$E$1,Worksheet!$B$6,IF(C146=$B$2,Worksheet!$B$7,IF(C146=$C$2,Worksheet!$D$3,IF(C146=$D$2,Worksheet!$D$4,IF(C146=$E$2,Worksheet!$D$5,IF(C146=$C$3,Worksheet!$D$6,IF(C146=$B$3,Worksheet!$D$7,FALSE)))))))))))","v":true},{"$f":"IF(AE146,D146,\"\")","v":"Easy"},{"$f":"IF(AE146,COUNTIF($AF$5:AF146,AF146),\"X\")","v":45},{"$f":"CONCATENATE(AE146,AF146)","v":"TRUEEasy"}]
[{"$f":"CONCATENATE(AE147,D147,AG147)","v":"TRUEEasy46"},{"$f":"RAND()","v":0.52393155007893555},"Dec","Easy",136,"How many pounds are there in",{"$f":"RANDBETWEEN(1,9)*100","v":900},"p?",null,null,null,null,null,null,null,null,null,null,null,{"$f":"CONCATENATE(F147,\" \",G147,\"\",H147,\" \",I147,\" \",J147,\" \",K147,\" \",L147,\" \",M147,\" \",N147,\" \",O147,\" \",P147,\" \",Q147,\" \",R147)","v":"How many pounds are there in 900p?          "},"£",{"$f":"G147/100","v":9},null,null,null,null,null,null,null,{"$f":"IF(OR(ISNA(U147),ISNA(V147),ISNA(W147),ISNA(X147),ISNA(Y147),ISNA(Z147),ISNA(AA147),ISNA(AB147),ISNA(AC147)),NA(),CONCATENATE(U147,V147,W147,X147,Y147,Z147,AA147,AB147))","v":"£9"},{"$f":"IF(ISNA(AD147),FALSE,IF(C147=$B$1,Worksheet!$B$3,IF(C147=$C$1,Worksheet!$B$4,IF(C147=$D$1,Worksheet!$B$5,IF(C147=$E$1,Worksheet!$B$6,IF(C147=$B$2,Worksheet!$B$7,IF(C147=$C$2,Worksheet!$D$3,IF(C147=$D$2,Worksheet!$D$4,IF(C147=$E$2,Worksheet!$D$5,IF(C147=$C$3,Worksheet!$D$6,IF(C147=$B$3,Worksheet!$D$7,FALSE)))))))))))","v":true},{"$f":"IF(AE147,D147,\"\")","v":"Easy"},{"$f":"IF(AE147,COUNTIF($AF$5:AF147,AF147),\"X\")","v":46},{"$f":"CONCATENATE(AE147,AF147)","v":"TRUEEasy"}]
[{"$f":"CONCATENATE(AE148,D148,AG148)","v":"TRUEHard27"},{"$f":"RAND()","v":0.30604136420281669},"%","Hard",155,"What is","100%","of £",{"$f":"RANDBETWEEN(100,1000)","v":768},"?",null,null,null,null,null,null,null,null,null,{"$f":"CONCATENATE(F148,\" \",G148,\" \",H148,\"\",I148,\"\",J148,\" \",K148,\" \",L148,\" \",M148,\" \",N148,\" \",O148,\" \",P148,\" \",Q148,\" \",R148)","v":"What is 100% of £768?        "},"£",{"$f":"I148","v":768},null,null,null,null,null,null,null,{"$f":"IF(OR(ISNA(U148),ISNA(V148),ISNA(W148),ISNA(X148),ISNA(Y148),ISNA(Z148),ISNA(AA148),ISNA(AB148),ISNA(AC148)),NA(),CONCATENATE(U148,V148,W148,X148,Y148,Z148,AA148,AB148))","v":"£768"},{"$f":"IF(ISNA(AD148),FALSE,IF(C148=$B$1,Worksheet!$B$3,IF(C148=$C$1,Worksheet!$B$4,IF(C148=$D$1,Worksheet!$B$5,IF(C148=$E$1,Worksheet!$B$6,IF(C148=$B$2,Worksheet!$B$7,IF(C148=$C$2,Worksheet!$D$3,IF(C148=$D$2,Worksheet!$D$4,IF(C148=$E$2,Worksheet!$D$5,IF(C148=$C$3,Worksheet!$D$6,IF(C148=$B$3,Worksheet!$D$7,FALSE)))))))))))","v":true},{"$f":"IF(AE148,D148,\"\")","v":"Hard"},{"$f":"IF(AE148,COUNTIF($AF$5:AF148,AF148),\"X\")","v":27},{"$f":"CONCATENATE(AE148,AF148)","v":"TRUEHard"}]
[{"$f":"CONCATENATE(AE149,D149,AG149)","v":"TRUEEasy47"},{"$f":"RAND()","v":0.74993778639608233},"Mult","Easy",29,"Write out all the numbers in the",{"$f":"IF(RAND()<0.2,10,RANDBETWEEN(2,5))","v":5},"times table:   ",{"$f":"CONCATENATE(G149,\",  \",G149*2,\",   \",G149*3)","v":"5,  10,   15"},", ___, ___, ___, ___, ___, ___, ___",null,null,null,null,null,null,null,null,null,{"$f":"CONCATENATE(F149,\" \",G149,\" \",H149,\" \",I149,\" \",J149,\" \",K149,\" \",L149,\" \",M149,\" \",N149,\" \",O149,\" \",P149,\" \",Q149,\" \",R149)","v":"Write out all the numbers in the 5 times table:    5,  10,   15 , ___, ___, ___, ___, ___, ___, ___        "},{"$f":"CONCATENATE(G149*4,\",  \",G149*5,\",  \",G149*6,\",  \",G149*7,\",  \",G149*8,\",  \",G149*9,\",  \",G149*10)","v":"20,  25,  30,  35,  40,  45,  50"},null,null,null,null,null,null,null,null,{"$f":"IF(OR(ISNA(U149),ISNA(V149),ISNA(W149),ISNA(X149),ISNA(Y149),ISNA(Z149),ISNA(AA149),ISNA(AB149),ISNA(AC149)),NA(),CONCATENATE(U149,V149,W149,X149,Y149,Z149,AA149,AB149))","v":"20,  25,  30,  35,  40,  45,  50"},{"$f":"IF(ISNA(AD149),FALSE,IF(C149=$B$1,Worksheet!$B$3,IF(C149=$C$1,Worksheet!$B$4,IF(C149=$D$1,Worksheet!$B$5,IF(C149=$E$1,Worksheet!$B$6,IF(C149=$B$2,Worksheet!$B$7,IF(C149=$C$2,Worksheet!$D$3,IF(C149=$D$2,Worksheet!$D$4,IF(C149=$E$2,Worksheet!$D$5,IF(C149=$C$3,Worksheet!$D$6,IF(C149=$B$3,Worksheet!$D$7,FALSE)))))))))))","v":true},{"$f":"IF(AE149,D149,\"\")","v":"Easy"},{"$f":"IF(AE149,COUNTIF($AF$5:AF149,AF149),\"X\")","v":47},{"$f":"CONCATENATE(AE149,AF149)","v":"TRUEEasy"}]
[{"$f":"CONCATENATE(AE150,D150,AG150)","v":"TRUEEasy48"},{"$f":"RAND()","v":0.53249531013992324},"Choose","Easy",107,{"$f":"CHOOSE(RANDBETWEEN(1,3),\"Sara\",\"Shelby\",\"Louisa\")","v":"Sara"},"has",{"$f":"RANDBETWEEN(10,30)","v":15},"sweets.  He eats",{"$f":"RANDBETWEEN(1,5)","v":4},"of them.  How many are left?",null,null,null,null,null,null,null,null,{"$f":"CONCATENATE(F150,\" \",G150,\" \",H150,\" \",I150,\" \",J150,\" \",K150,\" \",L150,\" \",M150,\" \",N150,\" \",O150,\" \",P150,\" \",Q150,\" \",R150)","v":"Sara has 15 sweets.  He eats 4 of them.  How many are left?       "},{"$f":"H150-J150","v":11},null,null,null,null,null,null,null,null,{"$f":"IF(OR(ISNA(U150),ISNA(V150),ISNA(W150),ISNA(X150),ISNA(Y150),ISNA(Z150),ISNA(AA150),ISNA(AB150),ISNA(AC150)),NA(),CONCATENATE(U150,V150,W150,X150,Y150,Z150,AA150,AB150))","v":"11"},{"$f":"IF(ISNA(AD150),FALSE,IF(C150=$B$1,Worksheet!$B$3,IF(C150=$C$1,Worksheet!$B$4,IF(C150=$D$1,Worksheet!$B$5,IF(C150=$E$1,Worksheet!$B$6,IF(C150=$B$2,Worksheet!$B$7,IF(C150=$C$2,Worksheet!$D$3,IF(C150=$D$2,Worksheet!$D$4,IF(C150=$E$2,Worksheet!$D$5,IF(C150=$C$3,Worksheet!$D$6,IF(C150=$B$3,Worksheet!$D$7,FALSE)))))))))))","v":true},{"$f":"IF(AE150,D150,\"\")","v":"Easy"},{"$f":"IF(AE150,COUNTIF($AF$5:AF150,AF150),\"X\")","v":48},{"$f":"CONCATENATE(AE150,AF150)","v":"TRUEEasy"}]
[{"$f":"CONCATENATE(AE151,D151,AG151)","v":"TRUEMedium72"},{"$f":"RAND()","v":0.1404642304397451},"Choose","Medium",106,{"$f":"CHOOSE(RANDBETWEEN(1,3),\"Tom\",\"Steven\",\"Liam\")","v":"Liam"},"has",{"$f":"RANDBETWEEN(22,30)","v":27},"sweets.  He eats",{"$f":"RANDBETWEEN(11,H151/2)","v":12},"of them.  How many are left?",null,null,null,null,null,null,null,null,{"$f":"CONCATENATE(F151,\" \",G151,\" \",H151,\" \",I151,\" \",J151,\" \",K151,\" \",L151,\" \",M151,\" \",N151,\" \",O151,\" \",P151,\" \",Q151,\" \",R151)","v":"Liam has 27 sweets.  He eats 12 of them.  How many are left?       "},{"$f":"H151-J151","v":15},null,null,null,null,null,null,null,null,{"$f":"IF(OR(ISNA(U151),ISNA(V151),ISNA(W151),ISNA(X151),ISNA(Y151),ISNA(Z151),ISNA(AA151),ISNA(AB151),ISNA(AC151)),NA(),CONCATENATE(U151,V151,W151,X151,Y151,Z151,AA151,AB151))","v":"15"},{"$f":"IF(ISNA(AD151),FALSE,IF(C151=$B$1,Worksheet!$B$3,IF(C151=$C$1,Worksheet!$B$4,IF(C151=$D$1,Worksheet!$B$5,IF(C151=$E$1,Worksheet!$B$6,IF(C151=$B$2,Worksheet!$B$7,IF(C151=$C$2,Worksheet!$D$3,IF(C151=$D$2,Worksheet!$D$4,IF(C151=$E$2,Worksheet!$D$5,IF(C151=$C$3,Worksheet!$D$6,IF(C151=$B$3,Worksheet!$D$7,FALSE)))))))))))","v":true},{"$f":"IF(AE151,D151,\"\")","v":"Medium"},{"$f":"IF(AE151,COUNTIF($AF$5:AF151,AF151),\"X\")","v":72},{"$f":"CONCATENATE(AE151,AF151)","v":"TRUEMedium"}]
[{"$f":"CONCATENATE(AE152,D152,AG152)","v":"TRUEHard28"},{"$f":"RAND()","v":0.9647345665287379},"Round","Hard",165,"Round",{"$f":"RANDBETWEEN(10,99)*10+RANDBETWEEN(1,9)","v":312},"to the nearest ten",null,null,null,null,null,null,null,null,null,null,null,{"$f":"CONCATENATE(F152,\" \",G152,\" \",H152,\" \",I152,\" \",J152,\" \",K152,\" \",L152,\" \",M152,\" \",N152,\" \",O152,\" \",P152,\" \",Q152,\" \",R152)","v":"Round 312 to the nearest ten          "},{"$f":"MROUND(G152,10)","v":310},null,null,null,null,null,null,null,null,{"$f":"IF(OR(ISNA(U152),ISNA(V152),ISNA(W152),ISNA(X152),ISNA(Y152),ISNA(Z152),ISNA(AA152),ISNA(AB152),ISNA(AC152)),NA(),CONCATENATE(U152,V152,W152,X152,Y152,Z152,AA152,AB152))","v":"310"},{"$f":"IF(ISNA(AD152),FALSE,IF(C152=$B$1,Worksheet!$B$3,IF(C152=$C$1,Worksheet!$B$4,IF(C152=$D$1,Worksheet!$B$5,IF(C152=$E$1,Worksheet!$B$6,IF(C152=$B$2,Worksheet!$B$7,IF(C152=$C$2,Worksheet!$D$3,IF(C152=$D$2,Worksheet!$D$4,IF(C152=$E$2,Worksheet!$D$5,IF(C152=$C$3,Worksheet!$D$6,IF(C152=$B$3,Worksheet!$D$7,FALSE)))))))))))","v":true},{"$f":"IF(AE152,D152,\"\")","v":"Hard"},{"$f":"IF(AE152,COUNTIF($AF$5:AF152,AF152),\"X\")","v":28},{"$f":"CONCATENATE(AE152,AF152)","v":"TRUEHard"}]
[{"$f":"CONCATENATE(AE153,D153,AG153)","v":"TRUEEasy49"},{"$f":"RAND()","v":0.44013736927609659},"Num","Easy",34,"Write these numbers in order from",{"$f":"CHOOSE(RANDBETWEEN(1,2),\"smallest to biggest:\",\"biggest to smallest:\")","v":"biggest to smallest:"},{"$f":"RANDBETWEEN(1000,9999)","v":6308},{"$f":"RANDBETWEEN(1000,9999)","v":6630},{"$f":"RANDBETWEEN(1000,9999)","v":7858},{"$f":"RANDBETWEEN(1000,9999)","v":1044},null,null,null,null,null,null,null,null,{"$f":"CONCATENATE(F153,\" \",G153,\"   \",H153,\",  \",I153,\",  \",J153,\",  \",K153,\" \",L153,\" \",M153,\" \",N153,\" \",O153,\" \",P153,\" \",Q153,\" \",R153)","v":"Write these numbers in order from biggest to smallest:   6308,  6630,  7858,  1044       "},{"$f":"IF($G153=\"smallest to biggest:\",LARGE($H153:$K153,4),LARGE($H153:$K153,1))","v":7858},{"$f":"IF($G153=\"smallest to biggest:\",LARGE($H153:$K153,3),LARGE($H153:$K153,2))","v":6630},{"$f":"IF($G153=\"smallest to biggest:\",LARGE($H153:$K153,2),LARGE($H153:$K153,3))","v":6308},{"$f":"IF($G153=\"smallest to biggest:\",LARGE($H153:$K153,1),LARGE($H153:$K153,4))","v":1044},null,null,null,null,null,{"$f":"IF(OR(ISNA(U153),ISNA(V153),ISNA(W153),ISNA(X153),ISNA(Y153),ISNA(Z153),ISNA(AA153),ISNA(AB153),ISNA(AC153)),NA(),CONCATENATE(U153,\",  \",V153,\",  \",W153,\",  \",X153,Y153,Z153,AA153,AB153))","v":"7858,  6630,  6308,  1044"},{"$f":"IF(ISNA(AD153),FALSE,IF(C153=$B$1,Worksheet!$B$3,IF(C153=$C$1,Worksheet!$B$4,IF(C153=$D$1,Worksheet!$B$5,IF(C153=$E$1,Worksheet!$B$6,IF(C153=$B$2,Worksheet!$B$7,IF(C153=$C$2,Worksheet!$D$3,IF(C153=$D$2,Worksheet!$D$4,IF(C153=$E$2,Worksheet!$D$5,IF(C153=$C$3,Worksheet!$D$6,IF(C153=$B$3,Worksheet!$D$7,FALSE)))))))))))","v":true},{"$f":"IF(AE153,D153,\"\")","v":"Easy"},{"$f":"IF(AE153,COUNTIF($AF$5:AF153,AF153),\"X\")","v":49},{"$f":"CONCATENATE(AE153,AF153)","v":"TRUEEasy"}]
[{"$f":"CONCATENATE(AE154,D154,AG154)","v":"TRUEHard29"},{"$f":"RAND()","v":0.98896390525102673},"Frac","Hard",131,"Fractions.   What is ","1/5","of",{"$f":"5*RANDBETWEEN(8,12)","v":40},"?",null,null,null,null,null,null,null,null,null,{"$f":"CONCATENATE(F154,\" \",G154,\" \",H154,\" \",I154,\" \",J154,\" \",K154,\" \",L154,\" \",M154,\" \",N154,\" \",O154,\" \",P154,\" \",Q154,\" \",R154)","v":"Fractions.   What is  1/5 of 40 ?        "},{"$f":"I154/5","v":8},null,null,null,null,null,null,null,null,{"$f":"IF(OR(ISNA(U154),ISNA(V154),ISNA(W154),ISNA(X154),ISNA(Y154),ISNA(Z154),ISNA(AA154),ISNA(AB154),ISNA(AC154)),NA(),CONCATENATE(U154,V154,W154,X154,Y154,Z154,AA154,AB154))","v":"8"},{"$f":"IF(ISNA(AD154),FALSE,IF(C154=$B$1,Worksheet!$B$3,IF(C154=$C$1,Worksheet!$B$4,IF(C154=$D$1,Worksheet!$B$5,IF(C154=$E$1,Worksheet!$B$6,IF(C154=$B$2,Worksheet!$B$7,IF(C154=$C$2,Worksheet!$D$3,IF(C154=$D$2,Worksheet!$D$4,IF(C154=$E$2,Worksheet!$D$5,IF(C154=$C$3,Worksheet!$D$6,IF(C154=$B$3,Worksheet!$D$7,FALSE)))))))))))","v":true},{"$f":"IF(AE154,D154,\"\")","v":"Hard"},{"$f":"IF(AE154,COUNTIF($AF$5:AF154,AF154),\"X\")","v":29},{"$f":"CONCATENATE(AE154,AF154)","v":"TRUEHard"}]
[{"$f":"CONCATENATE(AE155,D155,AG155)","v":"TRUEHard30"},{"$f":"RAND()","v":0.90541284965370317},"Divide","Hard",99,"Divide:   ",{"$f":"100*RANDBETWEEN(11,99)","v":1700},"÷",10,null,null,null,null,null,null,null,null,null,null,{"$f":"CONCATENATE(F155,\" \",G155,\" \",H155,\" \",I155,\" \",J155,\" \",K155,\" \",L155,\" \",M155,\" \",N155,\" \",O155,\" \",P155,\" \",Q155,\" \",R155)","v":"Divide:    1700 ÷ 10         "},{"$f":"G155/I155","v":170},null,null,null,null,null,null,null,null,{"$f":"IF(OR(ISNA(U155),ISNA(V155),ISNA(W155),ISNA(X155),ISNA(Y155),ISNA(Z155),ISNA(AA155),ISNA(AB155),ISNA(AC155)),NA(),CONCATENATE(U155,V155,W155,X155,Y155,Z155,AA155,AB155))","v":"170"},{"$f":"IF(ISNA(AD155),FALSE,IF(C155=$B$1,Worksheet!$B$3,IF(C155=$C$1,Worksheet!$B$4,IF(C155=$D$1,Worksheet!$B$5,IF(C155=$E$1,Worksheet!$B$6,IF(C155=$B$2,Worksheet!$B$7,IF(C155=$C$2,Worksheet!$D$3,IF(C155=$D$2,Worksheet!$D$4,IF(C155=$E$2,Worksheet!$D$5,IF(C155=$C$3,Worksheet!$D$6,IF(C155=$B$3,Worksheet!$D$7,FALSE)))))))))))","v":true},{"$f":"IF(AE155,D155,\"\")","v":"Hard"},{"$f":"IF(AE155,COUNTIF($AF$5:AF155,AF155),\"X\")","v":30},{"$f":"CONCATENATE(AE155,AF155)","v":"TRUEHard"}]
[{"$f":"CONCATENATE(AE156,D156,AG156)","v":"TRUEMedium73"},{"$f":"RAND()","v":0.4505798099672701},"Divide","Medium",98,"Divide:   ",{"$f":"10*RANDBETWEEN(11,99)","v":490},"÷",10,null,null,null,null,null,null,null,null,null,null,{"$f":"CONCATENATE(F156,\" \",G156,\" \",H156,\" \",I156,\" \",J156,\" \",K156,\" \",L156,\" \",M156,\" \",N156,\" \",O156,\" \",P156,\" \",Q156,\" \",R156)","v":"Divide:    490 ÷ 10         "},{"$f":"G156/I156","v":49},null,null,null,null,null,null,null,null,{"$f":"IF(OR(ISNA(U156),ISNA(V156),ISNA(W156),ISNA(X156),ISNA(Y156),ISNA(Z156),ISNA(AA156),ISNA(AB156),ISNA(AC156)),NA(),CONCATENATE(U156,V156,W156,X156,Y156,Z156,AA156,AB156))","v":"49"},{"$f":"IF(ISNA(AD156),FALSE,IF(C156=$B$1,Worksheet!$B$3,IF(C156=$C$1,Worksheet!$B$4,IF(C156=$D$1,Worksheet!$B$5,IF(C156=$E$1,Worksheet!$B$6,IF(C156=$B$2,Worksheet!$B$7,IF(C156=$C$2,Worksheet!$D$3,IF(C156=$D$2,Worksheet!$D$4,IF(C156=$E$2,Worksheet!$D$5,IF(C156=$C$3,Worksheet!$D$6,IF(C156=$B$3,Worksheet!$D$7,FALSE)))))))))))","v":true},{"$f":"IF(AE156,D156,\"\")","v":"Medium"},{"$f":"IF(AE156,COUNTIF($AF$5:AF156,AF156),\"X\")","v":73},{"$f":"CONCATENATE(AE156,AF156)","v":"TRUEMedium"}]
[{"$f":"CONCATENATE(AE157,D157,AG157)","v":"TRUEMedium74"},{"$f":"RAND()","v":0.87565557230314595},"Num","Medium",3,"Write the number   \"",{"$f":"CHOOSE(RANDBETWEEN(1,9),\"one\",\"two\",\"three\",\"four\",\"five\",\"six\",\"seven\",\"eight\",\"nine\")","v":"four"},"thousand, and",{"$f":"CHOOSE(S157,CHOOSE(RANDBETWEEN(1,10),\"ten\",\"eleven\",\"twelve\",\"thirteen\",\"fourteen\",\"fifteen\",\"sixteen\",\"seventeen\",\"eighteen\",\"nineteen\"),\"twenty\",\"thirty\",\"forty\",\"fifty\",\"sixty\",\"seventy\",\"eighty\",\"ninety\")","v":"ninety"},{"$f":"IF(S157=1,\"\",CHOOSE(RANDBETWEEN(1,9),\"one\",\"two\",\"three\",\"four\",\"five\",\"six\",\"seven\",\"eight\",\"nine\"))","v":"nine"},"\"   in figures",null,null,null,null,null,null,null,{"$f":"RANDBETWEEN(1,9)","v":9},{"$f":"CONCATENATE(F157,\"\",G157,\" \",H157,\" \",I157,\" \",J157,\"\",K157,\" \",L157,\" \",M157,\" \",N157,\" \",O157,\" \",P157,\" \",Q157,\" \",R157)","v":"Write the number   \"four thousand, and ninety nine\"   in figures       "},{"$f":"IF(G157=\"one\",1,IF(G157=\"two\",2,IF(G157=\"three\",3,IF(G157=\"four\",4,IF(G157=\"five\",5,IF(G157=\"six\",6,IF(G157=\"seven\",7,IF(G157=\"eight\",8,9))))))))","v":4},0,{"$f":"S157","v":9},{"$f":"IF(S157=1,IF(I157=\"ten\",0,IF(I157=\"eleven\",1,IF(I157=\"twelve\",2,IF(I157=\"thirteen\",3,IF(I157=\"fourteen\",4,IF(I157=\"fifteen\",5,IF(I157=\"sixteen\",6,IF(I157=\"seventeen\",7,IF(I157=\"eighteen\",8,9))))))))),\"\")","v":""},{"$f":"IF(S157<>1,IF(J157=\"one\",1,IF(J157=\"two\",2,IF(J157=\"three\",3,IF(J157=\"four\",4,IF(J157=\"five\",5,IF(J157=\"six\",6,IF(J157=\"seven\",7,IF(J157=\"eight\",8,9)))))))),\"\")","v":9},null,null,null,null,{"$f":"IF(OR(ISNA(U157),ISNA(V157),ISNA(W157),ISNA(X157),ISNA(Y157),ISNA(Z157),ISNA(AA157),ISNA(AB157),ISNA(AC157)),NA(),TEXT(CONCATENATE(U157,V157,W157,X157,Y157,Z157,AA157,AB157),\"#,###\"))","v":"4,099"},{"$f":"IF(ISNA(AD157),FALSE,IF(C157=$B$1,Worksheet!$B$3,IF(C157=$C$1,Worksheet!$B$4,IF(C157=$D$1,Worksheet!$B$5,IF(C157=$E$1,Worksheet!$B$6,IF(C157=$B$2,Worksheet!$B$7,IF(C157=$C$2,Worksheet!$D$3,IF(C157=$D$2,Worksheet!$D$4,IF(C157=$E$2,Worksheet!$D$5,IF(C157=$C$3,Worksheet!$D$6,IF(C157=$B$3,Worksheet!$D$7,FALSE)))))))))))","v":true},{"$f":"IF(AE157,D157,\"\")","v":"Medium"},{"$f":"IF(AE157,COUNTIF($AF$5:AF157,AF157),\"X\")","v":74},{"$f":"CONCATENATE(AE157,AF157)","v":"TRUEMedium"}]
[{"$f":"CONCATENATE(AE158,D158,AG158)","v":"TRUEHard31"},{"$f":"RAND()","v":0.39289203021846031},"Choose","Hard",117,"One",{"$f":"CHOOSE(RANDBETWEEN(1,3),\"chair\",\"table\",\"desk\")","v":"desk"},"costs",{"$f":"RANDBETWEEN(6,9)*10","v":90},"How much do",{"$f":"RANDBETWEEN(2,5)","v":2},{"$f":"CONCATENATE(G158,\"s\")","v":"desks"},"cost?",null,null,null,null,null,null,{"$f":"CONCATENATE(F158,\" \",G158,\" \",H158,\" £\",I158,\".  \",J158,\" \",K158,\" \",L158,\" \",M158,\" \",N158,\" \",O158,\" \",P158,\" \",Q158,\" \",R158)","v":"One desk costs £90.  How much do 2 desks cost?     "},"£",{"$f":"I158*K158","v":180},null,null,null,null,null,null,null,{"$f":"IF(OR(ISNA(U158),ISNA(V158),ISNA(W158),ISNA(X158),ISNA(Y158),ISNA(Z158),ISNA(AA158),ISNA(AB158),ISNA(AC158)),NA(),CONCATENATE(U158,V158,W158,X158,Y158,Z158,AA158,AB158))","v":"£180"},{"$f":"IF(ISNA(AD158),FALSE,IF(C158=$B$1,Worksheet!$B$3,IF(C158=$C$1,Worksheet!$B$4,IF(C158=$D$1,Worksheet!$B$5,IF(C158=$E$1,Worksheet!$B$6,IF(C158=$B$2,Worksheet!$B$7,IF(C158=$C$2,Worksheet!$D$3,IF(C158=$D$2,Worksheet!$D$4,IF(C158=$E$2,Worksheet!$D$5,IF(C158=$C$3,Worksheet!$D$6,IF(C158=$B$3,Worksheet!$D$7,FALSE)))))))))))","v":true},{"$f":"IF(AE158,D158,\"\")","v":"Hard"},{"$f":"IF(AE158,COUNTIF($AF$5:AF158,AF158),\"X\")","v":31},{"$f":"CONCATENATE(AE158,AF158)","v":"TRUEHard"}]
[{"$f":"CONCATENATE(AE159,D159,AG159)","v":"TRUEMedium75"},{"$f":"RAND()","v":0.29910989926601106},"+-","Medium",66,"Write down a chimney sum to take away:",{"$f":"RANDBETWEEN(4,9)*10+RANDBETWEEN(0,5)","v":93},"–",{"$f":"RANDBETWEEN(1,INT(G159-10)/10-2)*10+RANDBETWEEN(6,9)","v":16},null,null,null,null,null,null,null,null,null,null,{"$f":"CONCATENATE(F159,\" \",G159,\" \",H159,\" \",I159,\" \",J159,\" \",K159,\" \",L159,\" \",M159,\" \",N159,\" \",O159,\" \",P159,\" \",Q159,\" \",R159)","v":"Write down a chimney sum to take away: 93 – 16         "},{"$f":"G159-I159","v":77},null,null,null,null,null,null,null,null,{"$f":"IF(OR(ISNA(U159),ISNA(V159),ISNA(W159),ISNA(X159),ISNA(Y159),ISNA(Z159),ISNA(AA159),ISNA(AB159),ISNA(AC159)),NA(),CONCATENATE(U159,V159,W159,X159,Y159,Z159,AA159,AB159))","v":"77"},{"$f":"IF(ISNA(AD159),FALSE,IF(C159=$B$1,Worksheet!$B$3,IF(C159=$C$1,Worksheet!$B$4,IF(C159=$D$1,Worksheet!$B$5,IF(C159=$E$1,Worksheet!$B$6,IF(C159=$B$2,Worksheet!$B$7,IF(C159=$C$2,Worksheet!$D$3,IF(C159=$D$2,Worksheet!$D$4,IF(C159=$E$2,Worksheet!$D$5,IF(C159=$C$3,Worksheet!$D$6,IF(C159=$B$3,Worksheet!$D$7,FALSE)))))))))))","v":true},{"$f":"IF(AE159,D159,\"\")","v":"Medium"},{"$f":"IF(AE159,COUNTIF($AF$5:AF159,AF159),\"X\")","v":75},{"$f":"CONCATENATE(AE159,AF159)","v":"TRUEMedium"}]
[{"$f":"CONCATENATE(AE160,D160,AG160)","v":"TRUEHard32"},{"$f":"RAND()","v":0.13428942979340941},"%","Hard",157,"What is","50%","of £",{"$f":"2*RANDBETWEEN(6,45)","v":38},"?",null,null,null,null,null,null,null,null,null,{"$f":"CONCATENATE(F160,\" \",G160,\" \",H160,\"\",I160,\"\",J160,\" \",K160,\" \",L160,\" \",M160,\" \",N160,\" \",O160,\" \",P160,\" \",Q160,\" \",R160)","v":"What is 50% of £38?        "},"£",{"$f":"I160/2","v":19},null,null,null,null,null,null,null,{"$f":"IF(OR(ISNA(U160),ISNA(V160),ISNA(W160),ISNA(X160),ISNA(Y160),ISNA(Z160),ISNA(AA160),ISNA(AB160),ISNA(AC160)),NA(),CONCATENATE(U160,V160,W160,X160,Y160,Z160,AA160,AB160))","v":"£19"},{"$f":"IF(ISNA(AD160),FALSE,IF(C160=$B$1,Worksheet!$B$3,IF(C160=$C$1,Worksheet!$B$4,IF(C160=$D$1,Worksheet!$B$5,IF(C160=$E$1,Worksheet!$B$6,IF(C160=$B$2,Worksheet!$B$7,IF(C160=$C$2,Worksheet!$D$3,IF(C160=$D$2,Worksheet!$D$4,IF(C160=$E$2,Worksheet!$D$5,IF(C160=$C$3,Worksheet!$D$6,IF(C160=$B$3,Worksheet!$D$7,FALSE)))))))))))","v":true},{"$f":"IF(AE160,D160,\"\")","v":"Hard"},{"$f":"IF(AE160,COUNTIF($AF$5:AF160,AF160),\"X\")","v":32},{"$f":"CONCATENATE(AE160,AF160)","v":"TRUEHard"}]
[{"$f":"CONCATENATE(AE161,D161,AG161)","v":"TRUEEasy50"},{"$f":"RAND()","v":0.43210285496446255},"Num","Easy",33,"Write these numbers in order from",{"$f":"CHOOSE(RANDBETWEEN(1,2),\"smallest to biggest:\",\"biggest to smallest:\")","v":"biggest to smallest:"},{"$f":"RANDBETWEEN(1,999)","v":335},{"$f":"RANDBETWEEN(1,999)","v":738},{"$f":"RANDBETWEEN(1,999)","v":474},{"$f":"RANDBETWEEN(1,999)","v":318},null,null,null,null,null,null,null,null,{"$f":"CONCATENATE(F161,\" \",G161,\"   \",H161,\",  \",I161,\",  \",J161,\",  \",K161,\" \",L161,\" \",M161,\" \",N161,\" \",O161,\" \",P161,\" \",Q161,\" \",R161)","v":"Write these numbers in order from biggest to smallest:   335,  738,  474,  318       "},{"$f":"IF($G161=\"smallest to biggest:\",LARGE($H161:$K161,4),LARGE($H161:$K161,1))","v":738},{"$f":"IF($G161=\"smallest to biggest:\",LARGE($H161:$K161,3),LARGE($H161:$K161,2))","v":474},{"$f":"IF($G161=\"smallest to biggest:\",LARGE($H161:$K161,2),LARGE($H161:$K161,3))","v":335},{"$f":"IF($G161=\"smallest to biggest:\",LARGE($H161:$K161,1),LARGE($H161:$K161,4))","v":318},null,null,null,null,null,{"$f":"IF(OR(ISNA(U161),ISNA(V161),ISNA(W161),ISNA(X161),ISNA(Y161),ISNA(Z161),ISNA(AA161),ISNA(AB161),ISNA(AC161)),NA(),CONCATENATE(U161,\",  \",V161,\",  \",W161,\",  \",X161,Y161,Z161,AA161,AB161))","v":"738,  474,  335,  318"},{"$f":"IF(ISNA(AD161),FALSE,IF(C161=$B$1,Worksheet!$B$3,IF(C161=$C$1,Worksheet!$B$4,IF(C161=$D$1,Worksheet!$B$5,IF(C161=$E$1,Worksheet!$B$6,IF(C161=$B$2,Worksheet!$B$7,IF(C161=$C$2,Worksheet!$D$3,IF(C161=$D$2,Worksheet!$D$4,IF(C161=$E$2,Worksheet!$D$5,IF(C161=$C$3,Worksheet!$D$6,IF(C161=$B$3,Worksheet!$D$7,FALSE)))))))))))","v":true},{"$f":"IF(AE161,D161,\"\")","v":"Easy"},{"$f":"IF(AE161,COUNTIF($AF$5:AF161,AF161),\"X\")","v":50},{"$f":"CONCATENATE(AE161,AF161)","v":"TRUEEasy"}]
[{"$f":"CONCATENATE(AE162,D162,AG162)","v":"TRUEEasy51"},{"$f":"RAND()","v":0.80180310722598169},"%","Easy",158,{"$f":"RANDBETWEEN(1,9)*10","v":70},"of the children at a",{"$f":"CHOOSE(RANDBETWEEN(1,3),\"youth club\",\"party\",\"school trip\")","v":"school trip"},"are",{"$f":"IF(RAND()<0.5,\"girls\",\"boys\")","v":"girls"},".  What percentage are",{"$f":"IF(I162=\"girls\",\"boys\",\"girls\")","v":"girls"},"?",null,null,null,null,null,null,{"$f":"CONCATENATE(F162,\"% \",G162,\" \",H162,\" \",I162,\" \",J162,\"\",K162,\" \",L162,\"\",M162,\" \",N162,\" \",O162,\" \",P162,\" \",Q162,\" \",R162)","v":"70% of the children at a school trip are girls.  What percentage are girls?     "},{"$f":"100-F162","v":30},"%",null,null,null,null,null,null,null,{"$f":"IF(OR(ISNA(U162),ISNA(V162),ISNA(W162),ISNA(X162),ISNA(Y162),ISNA(Z162),ISNA(AA162),ISNA(AB162),ISNA(AC162)),NA(),CONCATENATE(U162,V162,W162,X162,Y162,Z162,AA162,AB162))","v":"30%"},{"$f":"IF(ISNA(AD162),FALSE,IF(C162=$B$1,Worksheet!$B$3,IF(C162=$C$1,Worksheet!$B$4,IF(C162=$D$1,Worksheet!$B$5,IF(C162=$E$1,Worksheet!$B$6,IF(C162=$B$2,Worksheet!$B$7,IF(C162=$C$2,Worksheet!$D$3,IF(C162=$D$2,Worksheet!$D$4,IF(C162=$E$2,Worksheet!$D$5,IF(C162=$C$3,Worksheet!$D$6,IF(C162=$B$3,Worksheet!$D$7,FALSE)))))))))))","v":true},{"$f":"IF(AE162,D162,\"\")","v":"Easy"},{"$f":"IF(AE162,COUNTIF($AF$5:AF162,AF162),\"X\")","v":51},{"$f":"CONCATENATE(AE162,AF162)","v":"TRUEEasy"}]
[{"$f":"CONCATENATE(AE163,D163,AG163)","v":"TRUEHard33"},{"$f":"RAND()","v":0.92586763783905301},"Dec","Hard",145,"Fill in the blank:  ","£",{"$f":"RANDBETWEEN(1,9)","v":8},".",{"$f":"RANDBETWEEN(1,9)","v":6},null,"=","_____ pounds and ______ pence",null,null,null,null,null,null,{"$f":"CONCATENATE(F163,\" \",G163,\"\",H163,\"\",I163,\"\",J163,\"\",K163,\" \",L163,\" \",M163,\" \",N163,\" \",O163,\" \",P163,\" \",Q163,\" \",R163)","v":"Fill in the blank:   £8.6 = _____ pounds and ______ pence     "},{"$f":"H163","v":8}," pounds and ",{"$f":"J163*10","v":60}," pence",null,null,null,null,null,{"$f":"IF(OR(ISNA(U163),ISNA(V163),ISNA(W163),ISNA(X163),ISNA(Y163),ISNA(Z163),ISNA(AA163),ISNA(AB163),ISNA(AC163)),NA(),CONCATENATE(U163,V163,W163,X163,Y163,Z163,AA163,AB163))","v":"8 pounds and 60 pence"},{"$f":"IF(ISNA(AD163),FALSE,IF(C163=$B$1,Worksheet!$B$3,IF(C163=$C$1,Worksheet!$B$4,IF(C163=$D$1,Worksheet!$B$5,IF(C163=$E$1,Worksheet!$B$6,IF(C163=$B$2,Worksheet!$B$7,IF(C163=$C$2,Worksheet!$D$3,IF(C163=$D$2,Worksheet!$D$4,IF(C163=$E$2,Worksheet!$D$5,IF(C163=$C$3,Worksheet!$D$6,IF(C163=$B$3,Worksheet!$D$7,FALSE)))))))))))","v":true},{"$f":"IF(AE163,D163,\"\")","v":"Hard"},{"$f":"IF(AE163,COUNTIF($AF$5:AF163,AF163),\"X\")","v":33},{"$f":"CONCATENATE(AE163,AF163)","v":"TRUEHard"}]
[{"$f":"CONCATENATE(AE164,D164,AG164)","v":"TRUEEasy52"},{"$f":"RAND()","v":0.92684519427628564},"Neg","Easy",167,"Circle the",{"$f":"IF(RAND()<0.5,\"WARMEST\",\"COLDEST\")","v":"WARMEST"},"temperature:   ",{"$f":"RANDBETWEEN(-5,-1)","v":-2},{"$f":"RANDBETWEEN(1,5)","v":5},null,null,null,null,null,null,null,null,null,{"$f":"CONCATENATE(F164,\" \",G164,\" \",H164,\" \",I164,\"°C      \",J164,\"°C \",K164,\" \",L164,\" \",M164,\" \",N164,\" \",O164,\" \",P164,\" \",Q164,\" \",R164)","v":"Circle the WARMEST temperature:    -2°C      5°C        "},{"$f":"IF(G164=\"WARMEST\",MAX(I164:J164),MIN(I164:J164))","v":5},"°C",null,null,null,{"$f":"IF(I164=J164,NA(),\"\")","v":""},null,null,null,{"$f":"IF(OR(ISNA(U164),ISNA(V164),ISNA(W164),ISNA(X164),ISNA(Y164),ISNA(Z164),ISNA(AA164),ISNA(AB164),ISNA(AC164)),NA(),CONCATENATE(U164,V164,W164,X164,Y164,Z164,AA164,AB164))","v":"5°C"},{"$f":"IF(ISNA(AD164),FALSE,IF(C164=$B$1,Worksheet!$B$3,IF(C164=$C$1,Worksheet!$B$4,IF(C164=$D$1,Worksheet!$B$5,IF(C164=$E$1,Worksheet!$B$6,IF(C164=$B$2,Worksheet!$B$7,IF(C164=$C$2,Worksheet!$D$3,IF(C164=$D$2,Worksheet!$D$4,IF(C164=$E$2,Worksheet!$D$5,IF(C164=$C$3,Worksheet!$D$6,IF(C164=$B$3,Worksheet!$D$7,FALSE)))))))))))","v":true},{"$f":"IF(AE164,D164,\"\")","v":"Easy"},{"$f":"IF(AE164,COUNTIF($AF$5:AF164,AF164),\"X\")","v":52},{"$f":"CONCATENATE(AE164,AF164)","v":"TRUEEasy"}]
[{"$f":"CONCATENATE(AE165,D165,AG165)","v":"TRUEMedium76"},{"$f":"RAND()","v":0.86697698246425148},"%","Medium",153,"What is","100%","of £",{"$f":"RANDBETWEEN(1,100)","v":72},"?",null,null,null,null,null,null,null,null,null,{"$f":"CONCATENATE(F165,\" \",G165,\" \",H165,\"\",I165,\"\",J165,\" \",K165,\" \",L165,\" \",M165,\" \",N165,\" \",O165,\" \",P165,\" \",Q165,\" \",R165)","v":"What is 100% of £72?        "},"£",{"$f":"I165","v":72},null,null,null,null,null,null,null,{"$f":"IF(OR(ISNA(U165),ISNA(V165),ISNA(W165),ISNA(X165),ISNA(Y165),ISNA(Z165),ISNA(AA165),ISNA(AB165),ISNA(AC165)),NA(),CONCATENATE(U165,V165,W165,X165,Y165,Z165,AA165,AB165))","v":"£72"},{"$f":"IF(ISNA(AD165),FALSE,IF(C165=$B$1,Worksheet!$B$3,IF(C165=$C$1,Worksheet!$B$4,IF(C165=$D$1,Worksheet!$B$5,IF(C165=$E$1,Worksheet!$B$6,IF(C165=$B$2,Worksheet!$B$7,IF(C165=$C$2,Worksheet!$D$3,IF(C165=$D$2,Worksheet!$D$4,IF(C165=$E$2,Worksheet!$D$5,IF(C165=$C$3,Worksheet!$D$6,IF(C165=$B$3,Worksheet!$D$7,FALSE)))))))))))","v":true},{"$f":"IF(AE165,D165,\"\")","v":"Medium"},{"$f":"IF(AE165,COUNTIF($AF$5:AF165,AF165),\"X\")","v":76},{"$f":"CONCATENATE(AE165,AF165)","v":"TRUEMedium"}]
[{"$f":"CONCATENATE(AE166,D166,AG166)","v":"TRUEMedium77"},{"$f":"RAND()","v":0.3888043653055373},"Num","Medium",23,"Continue the pattern for three more numbers:   ",{"$f":"RANDBETWEEN(11,95)*10+RANDBETWEEN(1,9)","v":537},{"$f":"G166+S166","v":527},{"$f":"H166+S166","v":517},{"$f":"I166+S166","v":507},"____","____","____",null,null,null,null,null,-10,{"$f":"CONCATENATE(F166,\" \",G166,\",   \",H166,\",   \",I166,\",   \",J166,\",   \",K166,\",   \",L166,\",   \",M166,\" \",N166,\" \",O166,\" \",P166,\" \",Q166,\" \",R166)","v":"Continue the pattern for three more numbers:    537,   527,   517,   507,   ____,   ____,   ____     "},{"$f":"J166+S166","v":497},{"$f":"U166+S166","v":487},null,null,null,null,null,null,null,{"$f":"IF(OR(ISNA(U166),ISNA(V166),ISNA(W166),ISNA(X166),ISNA(Y166),ISNA(Z166),ISNA(AA166),ISNA(AB166),ISNA(AC166)),NA(),CONCATENATE(U166,\",   \",V166,W166,X166,Y166,Z166,AA166,AB166))","v":"497,   487"},{"$f":"IF(ISNA(AD166),FALSE,IF(C166=$B$1,Worksheet!$B$3,IF(C166=$C$1,Worksheet!$B$4,IF(C166=$D$1,Worksheet!$B$5,IF(C166=$E$1,Worksheet!$B$6,IF(C166=$B$2,Worksheet!$B$7,IF(C166=$C$2,Worksheet!$D$3,IF(C166=$D$2,Worksheet!$D$4,IF(C166=$E$2,Worksheet!$D$5,IF(C166=$C$3,Worksheet!$D$6,IF(C166=$B$3,Worksheet!$D$7,FALSE)))))))))))","v":true},{"$f":"IF(AE166,D166,\"\")","v":"Medium"},{"$f":"IF(AE166,COUNTIF($AF$5:AF166,AF166),\"X\")","v":77},{"$f":"CONCATENATE(AE166,AF166)","v":"TRUEMedium"}]
[{"$f":"CONCATENATE(AE167,D167,AG167)","v":"TRUEEasy53"},{"$f":"RAND()","v":8.551909678452263E-2},"Num","Easy",21,"Continue the pattern for three more numbers:   ",{"$f":"RANDBETWEEN(11,95)*10","v":600},{"$f":"G167+S167","v":590},{"$f":"H167+S167","v":580},{"$f":"I167+S167","v":570},"____","____","____",null,null,null,null,null,-10,{"$f":"CONCATENATE(F167,\" \",G167,\",   \",H167,\",   \",I167,\",   \",J167,\",   \",K167,\",   \",L167,\",   \",M167,\" \",N167,\" \",O167,\" \",P167,\" \",Q167,\" \",R167)","v":"Continue the pattern for three more numbers:    600,   590,   580,   570,   ____,   ____,   ____     "},{"$f":"J167+S167","v":560},{"$f":"U167+S167","v":550},null,null,null,null,null,null,null,{"$f":"IF(OR(ISNA(U167),ISNA(V167),ISNA(W167),ISNA(X167),ISNA(Y167),ISNA(Z167),ISNA(AA167),ISNA(AB167),ISNA(AC167)),NA(),CONCATENATE(U167,\",   \",V167,W167,X167,Y167,Z167,AA167,AB167))","v":"560,   550"},{"$f":"IF(ISNA(AD167),FALSE,IF(C167=$B$1,Worksheet!$B$3,IF(C167=$C$1,Worksheet!$B$4,IF(C167=$D$1,Worksheet!$B$5,IF(C167=$E$1,Worksheet!$B$6,IF(C167=$B$2,Worksheet!$B$7,IF(C167=$C$2,Worksheet!$D$3,IF(C167=$D$2,Worksheet!$D$4,IF(C167=$E$2,Worksheet!$D$5,IF(C167=$C$3,Worksheet!$D$6,IF(C167=$B$3,Worksheet!$D$7,FALSE)))))))))))","v":true},{"$f":"IF(AE167,D167,\"\")","v":"Easy"},{"$f":"IF(AE167,COUNTIF($AF$5:AF167,AF167),\"X\")","v":53},{"$f":"CONCATENATE(AE167,AF167)","v":"TRUEEasy"}]
[{"$f":"CONCATENATE(AE168,D168,AG168)","v":"TRUEMedium78"},{"$f":"RAND()","v":0.48409087466127543},"Neg","Medium",172,"Circle the",{"$f":"IF(RAND()<0.5,\"WARMEST\",\"COLDEST\")","v":"WARMEST"},"temperature:   ",0,{"$f":"RANDBETWEEN(-5,5)","v":4},null,null,null,null,null,null,null,null,null,{"$f":"CONCATENATE(F168,\" \",G168,\" \",H168,\" \",I168,\"°C      \",J168,\"°C \",K168,\" \",L168,\" \",M168,\" \",N168,\" \",O168,\" \",P168,\" \",Q168,\" \",R168)","v":"Circle the WARMEST temperature:    0°C      4°C        "},{"$f":"IF(G168=\"WARMEST\",MAX(I168:J168),MIN(I168:J168))","v":4},"°C",null,null,null,{"$f":"IF(I168=J168,NA(),\"\")","v":""},null,null,null,{"$f":"IF(OR(ISNA(U168),ISNA(V168),ISNA(W168),ISNA(X168),ISNA(Y168),ISNA(Z168),ISNA(AA168),ISNA(AB168),ISNA(AC168)),NA(),CONCATENATE(U168,V168,W168,X168,Y168,Z168,AA168,AB168))","v":"4°C"},{"$f":"IF(ISNA(AD168),FALSE,IF(C168=$B$1,Worksheet!$B$3,IF(C168=$C$1,Worksheet!$B$4,IF(C168=$D$1,Worksheet!$B$5,IF(C168=$E$1,Worksheet!$B$6,IF(C168=$B$2,Worksheet!$B$7,IF(C168=$C$2,Worksheet!$D$3,IF(C168=$D$2,Worksheet!$D$4,IF(C168=$E$2,Worksheet!$D$5,IF(C168=$C$3,Worksheet!$D$6,IF(C168=$B$3,Worksheet!$D$7,FALSE)))))))))))","v":true},{"$f":"IF(AE168,D168,\"\")","v":"Medium"},{"$f":"IF(AE168,COUNTIF($AF$5:AF168,AF168),\"X\")","v":78},{"$f":"CONCATENATE(AE168,AF168)","v":"TRUEMedium"}]
[{"$f":"CONCATENATE(AE169,D169,AG169)","v":"TRUEMedium79"},{"$f":"RAND()","v":0.58398698393562487},"Dec","Medium",144,"How many pence are there in £",{"$f":"RANDBETWEEN(10,20)","v":11},"?",null,null,null,null,null,null,null,null,null,null,null,{"$f":"CONCATENATE(F169,\"\",G169,\"\",H169,\" \",I169,\" \",J169,\" \",K169,\" \",L169,\" \",M169,\" \",N169,\" \",O169,\" \",P169,\" \",Q169,\" \",R169)","v":"How many pence are there in £11?          "},{"$f":"G169*100","v":1100},"p",null,null,null,null,null,null,null,{"$f":"IF(OR(ISNA(U169),ISNA(V169),ISNA(W169),ISNA(X169),ISNA(Y169),ISNA(Z169),ISNA(AA169),ISNA(AB169),ISNA(AC169)),NA(),CONCATENATE(U169,V169,W169,X169,Y169,Z169,AA169,AB169))","v":"1100p"},{"$f":"IF(ISNA(AD169),FALSE,IF(C169=$B$1,Worksheet!$B$3,IF(C169=$C$1,Worksheet!$B$4,IF(C169=$D$1,Worksheet!$B$5,IF(C169=$E$1,Worksheet!$B$6,IF(C169=$B$2,Worksheet!$B$7,IF(C169=$C$2,Worksheet!$D$3,IF(C169=$D$2,Worksheet!$D$4,IF(C169=$E$2,Worksheet!$D$5,IF(C169=$C$3,Worksheet!$D$6,IF(C169=$B$3,Worksheet!$D$7,FALSE)))))))))))","v":true},{"$f":"IF(AE169,D169,\"\")","v":"Medium"},{"$f":"IF(AE169,COUNTIF($AF$5:AF169,AF169),\"X\")","v":79},{"$f":"CONCATENATE(AE169,AF169)","v":"TRUEMedium"}]
[{"$f":"CONCATENATE(AE170,D170,AG170)","v":"TRUEHard34"},{"$f":"RAND()","v":0.31288376070550761},"Choose","Hard",115,{"$f":"RANDBETWEEN(2,5)","v":4},{"$f":"CHOOSE(RANDBETWEEN(1,3),\"apples\",\"oranges\",\"bananas\")","v":"oranges"},"cost",{"$f":"U170*F170","v":24},"p.  What does one",{"$f":"IF(G170=\"bananas\",\"banana\",IF(G170=\"apples\",\"apple\",\"orange\"))","v":"orange"},"cost?",null,null,null,null,null,null,null,{"$f":"CONCATENATE(F170,\" \",G170,\" \",H170,\" \",I170,\"\",J170,\" \",K170,\" \",L170,\" \",M170,\" \",N170,\" \",O170,\" \",P170,\" \",Q170,\" \",R170)","v":"4 oranges cost 24p.  What does one orange cost?      "},{"$f":"RANDBETWEEN(5,10)","v":6},"p",null,null,null,null,null,null,null,{"$f":"IF(OR(ISNA(U170),ISNA(V170),ISNA(W170),ISNA(X170),ISNA(Y170),ISNA(Z170),ISNA(AA170),ISNA(AB170),ISNA(AC170)),NA(),CONCATENATE(U170,V170,W170,X170,Y170,Z170,AA170,AB170))","v":"6p"},{"$f":"IF(ISNA(AD170),FALSE,IF(C170=$B$1,Worksheet!$B$3,IF(C170=$C$1,Worksheet!$B$4,IF(C170=$D$1,Worksheet!$B$5,IF(C170=$E$1,Worksheet!$B$6,IF(C170=$B$2,Worksheet!$B$7,IF(C170=$C$2,Worksheet!$D$3,IF(C170=$D$2,Worksheet!$D$4,IF(C170=$E$2,Worksheet!$D$5,IF(C170=$C$3,Worksheet!$D$6,IF(C170=$B$3,Worksheet!$D$7,FALSE)))))))))))","v":true},{"$f":"IF(AE170,D170,\"\")","v":"Hard"},{"$f":"IF(AE170,COUNTIF($AF$5:AF170,AF170),\"X\")","v":34},{"$f":"CONCATENATE(AE170,AF170)","v":"TRUEHard"}]
[{"$f":"CONCATENATE(AE171,D171,AG171)","v":"TRUEEasy54"},{"$f":"RAND()","v":0.7180894685348288},"Num","Easy",26,"Continue the pattern for three more numbers:   ",{"$f":"RANDBETWEEN(7,9)*100","v":900},{"$f":"G171+S171","v":800},{"$f":"H171+S171","v":700},{"$f":"I171+S171","v":600},"____","____","____",null,null,null,null,null,-100,{"$f":"CONCATENATE(F171,\" \",G171,\",   \",H171,\",   \",I171,\",   \",J171,\",   \",K171,\",   \",L171,\",   \",M171,\" \",N171,\" \",O171,\" \",P171,\" \",Q171,\" \",R171)","v":"Continue the pattern for three more numbers:    900,   800,   700,   600,   ____,   ____,   ____     "},{"$f":"J171+S171","v":500},{"$f":"U171+S171","v":400},null,null,null,null,null,null,null,{"$f":"IF(OR(ISNA(U171),ISNA(V171),ISNA(W171),ISNA(X171),ISNA(Y171),ISNA(Z171),ISNA(AA171),ISNA(AB171),ISNA(AC171)),NA(),CONCATENATE(U171,\",   \",V171,W171,X171,Y171,Z171,AA171,AB171))","v":"500,   400"},{"$f":"IF(ISNA(AD171),FALSE,IF(C171=$B$1,Worksheet!$B$3,IF(C171=$C$1,Worksheet!$B$4,IF(C171=$D$1,Worksheet!$B$5,IF(C171=$E$1,Worksheet!$B$6,IF(C171=$B$2,Worksheet!$B$7,IF(C171=$C$2,Worksheet!$D$3,IF(C171=$D$2,Worksheet!$D$4,IF(C171=$E$2,Worksheet!$D$5,IF(C171=$C$3,Worksheet!$D$6,IF(C171=$B$3,Worksheet!$D$7,FALSE)))))))))))","v":true},{"$f":"IF(AE171,D171,\"\")","v":"Easy"},{"$f":"IF(AE171,COUNTIF($AF$5:AF171,AF171),\"X\")","v":54},{"$f":"CONCATENATE(AE171,AF171)","v":"TRUEEasy"}]
[{"$f":"CONCATENATE(AE172,D172,AG172)","v":"TRUEEasy55"},{"$f":"RAND()","v":0.6053932048540871},"Num","Easy",25,"Continue the pattern for three more numbers:   ",{"$f":"RANDBETWEEN(1,3)*100","v":200},{"$f":"G172+S172","v":300},{"$f":"H172+S172","v":400},{"$f":"I172+S172","v":500},"____","____","____",null,null,null,null,null,100,{"$f":"CONCATENATE(F172,\" \",G172,\",   \",H172,\",   \",I172,\",   \",J172,\",   \",K172,\",   \",L172,\",   \",M172,\" \",N172,\" \",O172,\" \",P172,\" \",Q172,\" \",R172)","v":"Continue the pattern for three more numbers:    200,   300,   400,   500,   ____,   ____,   ____     "},{"$f":"J172+S172","v":600},{"$f":"U172+S172","v":700},null,null,null,null,null,null,null,{"$f":"IF(OR(ISNA(U172),ISNA(V172),ISNA(W172),ISNA(X172),ISNA(Y172),ISNA(Z172),ISNA(AA172),ISNA(AB172),ISNA(AC172)),NA(),CONCATENATE(U172,\",   \",V172,W172,X172,Y172,Z172,AA172,AB172))","v":"600,   700"},{"$f":"IF(ISNA(AD172),FALSE,IF(C172=$B$1,Worksheet!$B$3,IF(C172=$C$1,Worksheet!$B$4,IF(C172=$D$1,Worksheet!$B$5,IF(C172=$E$1,Worksheet!$B$6,IF(C172=$B$2,Worksheet!$B$7,IF(C172=$C$2,Worksheet!$D$3,IF(C172=$D$2,Worksheet!$D$4,IF(C172=$E$2,Worksheet!$D$5,IF(C172=$C$3,Worksheet!$D$6,IF(C172=$B$3,Worksheet!$D$7,FALSE)))))))))))","v":true},{"$f":"IF(AE172,D172,\"\")","v":"Easy"},{"$f":"IF(AE172,COUNTIF($AF$5:AF172,AF172),\"X\")","v":55},{"$f":"CONCATENATE(AE172,AF172)","v":"TRUEEasy"}]
[{"$f":"CONCATENATE(AE173,D173,AG173)","v":"TRUEMedium80"},{"$f":"RAND()","v":0.80929340590452914},"%","Medium",156,"What is","50%","of £",{"$f":"RANDBETWEEN(1,4)*20+RANDBETWEEN(1,4)*2","v":28},"?",null,null,null,null,null,null,null,null,null,{"$f":"CONCATENATE(F173,\" \",G173,\" \",H173,\"\",I173,\"\",J173,\" \",K173,\" \",L173,\" \",M173,\" \",N173,\" \",O173,\" \",P173,\" \",Q173,\" \",R173)","v":"What is 50% of £28?        "},"£",{"$f":"I173/2","v":14},null,null,null,null,null,null,null,{"$f":"IF(OR(ISNA(U173),ISNA(V173),ISNA(W173),ISNA(X173),ISNA(Y173),ISNA(Z173),ISNA(AA173),ISNA(AB173),ISNA(AC173)),NA(),CONCATENATE(U173,V173,W173,X173,Y173,Z173,AA173,AB173))","v":"£14"},{"$f":"IF(ISNA(AD173),FALSE,IF(C173=$B$1,Worksheet!$B$3,IF(C173=$C$1,Worksheet!$B$4,IF(C173=$D$1,Worksheet!$B$5,IF(C173=$E$1,Worksheet!$B$6,IF(C173=$B$2,Worksheet!$B$7,IF(C173=$C$2,Worksheet!$D$3,IF(C173=$D$2,Worksheet!$D$4,IF(C173=$E$2,Worksheet!$D$5,IF(C173=$C$3,Worksheet!$D$6,IF(C173=$B$3,Worksheet!$D$7,FALSE)))))))))))","v":true},{"$f":"IF(AE173,D173,\"\")","v":"Medium"},{"$f":"IF(AE173,COUNTIF($AF$5:AF173,AF173),\"X\")","v":80},{"$f":"CONCATENATE(AE173,AF173)","v":"TRUEMedium"}]
[{"$f":"CONCATENATE(AE174,D174,AG174)","v":"TRUEEasy56"},{"$f":"RAND()","v":0.75576601453897219},"Dec","Easy",133,"A",{"$f":"CHOOSE(RANDBETWEEN(1,3),\"sweet\",\"apple\",\"pen\")","v":"apple"},"costs",{"$f":"RANDBETWEEN(3,9)","v":3},"p.  How much change do you get from 10p?",null,null,null,null,null,null,null,null,null,{"$f":"CONCATENATE(F174,\" \",G174,\" \",H174,\" \",I174,\"\",J174,\"\",K174,\" \",L174,\" \",M174,\" \",N174,\" \",O174,\" \",P174,\" \",Q174,\" \",R174)","v":"A apple costs 3p.  How much change do you get from 10p?       "},{"$f":"10-I174","v":7},"p",null,null,null,null,null,null,null,{"$f":"IF(OR(ISNA(U174),ISNA(V174),ISNA(W174),ISNA(X174),ISNA(Y174),ISNA(Z174),ISNA(AA174),ISNA(AB174),ISNA(AC174)),NA(),CONCATENATE(U174,V174,W174,X174,Y174,Z174,AA174,AB174))","v":"7p"},{"$f":"IF(ISNA(AD174),FALSE,IF(C174=$B$1,Worksheet!$B$3,IF(C174=$C$1,Worksheet!$B$4,IF(C174=$D$1,Worksheet!$B$5,IF(C174=$E$1,Worksheet!$B$6,IF(C174=$B$2,Worksheet!$B$7,IF(C174=$C$2,Worksheet!$D$3,IF(C174=$D$2,Worksheet!$D$4,IF(C174=$E$2,Worksheet!$D$5,IF(C174=$C$3,Worksheet!$D$6,IF(C174=$B$3,Worksheet!$D$7,FALSE)))))))))))","v":true},{"$f":"IF(AE174,D174,\"\")","v":"Easy"},{"$f":"IF(AE174,COUNTIF($AF$5:AF174,AF174),\"X\")","v":56},{"$f":"CONCATENATE(AE174,AF174)","v":"TRUEEasy"}]
[{"$f":"CONCATENATE(AE175,D175,AG175)","v":"TRUEMedium81"},{"$f":"RAND()","v":0.43712788774195788},"Num","Medium",8,"Fill in the missing numbers:   ",{"$f":"RANDBETWEEN(30,80)","v":33},{"$f":"G175+S175","v":29},{"$f":"H175+S175","v":25},"____","____",{"$f":"V175+S175","v":13},{"$f":"L175+S175","v":9},null,null,null,null,null,{"$f":"RANDBETWEEN(2,5)*(-1)","v":-4},{"$f":"CONCATENATE(F175,\" \",G175,\",   \",H175,\",   \",I175,\",   \",J175,\",   \",K175,\",   \",L175,\",   \",M175,\" \",N175,\" \",O175,\" \",P175,\" \",Q175,\" \",R175)","v":"Fill in the missing numbers:    33,   29,   25,   ____,   ____,   13,   9     "},{"$f":"I175+S175","v":21},{"$f":"U175+S175","v":17},null,null,null,null,null,null,null,{"$f":"IF(OR(ISNA(U175),ISNA(V175),ISNA(W175),ISNA(X175),ISNA(Y175),ISNA(Z175),ISNA(AA175),ISNA(AB175),ISNA(AC175)),NA(),CONCATENATE(U175,\",   \",V175,W175,X175,Y175,Z175,AA175,AB175))","v":"21,   17"},{"$f":"IF(ISNA(AD175),FALSE,IF(C175=$B$1,Worksheet!$B$3,IF(C175=$C$1,Worksheet!$B$4,IF(C175=$D$1,Worksheet!$B$5,IF(C175=$E$1,Worksheet!$B$6,IF(C175=$B$2,Worksheet!$B$7,IF(C175=$C$2,Worksheet!$D$3,IF(C175=$D$2,Worksheet!$D$4,IF(C175=$E$2,Worksheet!$D$5,IF(C175=$C$3,Worksheet!$D$6,IF(C175=$B$3,Worksheet!$D$7,FALSE)))))))))))","v":true},{"$f":"IF(AE175,D175,\"\")","v":"Medium"},{"$f":"IF(AE175,COUNTIF($AF$5:AF175,AF175),\"X\")","v":81},{"$f":"CONCATENATE(AE175,AF175)","v":"TRUEMedium"}]
[{"$f":"CONCATENATE(AE176,D176,AG176)","v":"TRUEMedium82"},{"$f":"RAND()","v":0.19027380015710982},"Num","Medium",16,"Fill in the missing numbers:   ",{"$f":"RANDBETWEEN(1,3)*100+RANDBETWEEN(1,99)","v":188},{"$f":"G176+S176","v":288},{"$f":"H176+S176","v":388},"____","____",{"$f":"V176+S176","v":688},{"$f":"L176+S176","v":788},null,null,null,null,null,100,{"$f":"CONCATENATE(F176,\" \",G176,\",   \",H176,\",   \",I176,\",   \",J176,\",   \",K176,\",   \",L176,\",   \",M176,\" \",N176,\" \",O176,\" \",P176,\" \",Q176,\" \",R176)","v":"Fill in the missing numbers:    188,   288,   388,   ____,   ____,   688,   788     "},{"$f":"I176+S176","v":488},{"$f":"U176+S176","v":588},null,null,null,null,null,null,null,{"$f":"IF(OR(ISNA(U176),ISNA(V176),ISNA(W176),ISNA(X176),ISNA(Y176),ISNA(Z176),ISNA(AA176),ISNA(AB176),ISNA(AC176)),NA(),CONCATENATE(U176,\",   \",V176,W176,X176,Y176,Z176,AA176,AB176))","v":"488,   588"},{"$f":"IF(ISNA(AD176),FALSE,IF(C176=$B$1,Worksheet!$B$3,IF(C176=$C$1,Worksheet!$B$4,IF(C176=$D$1,Worksheet!$B$5,IF(C176=$E$1,Worksheet!$B$6,IF(C176=$B$2,Worksheet!$B$7,IF(C176=$C$2,Worksheet!$D$3,IF(C176=$D$2,Worksheet!$D$4,IF(C176=$E$2,Worksheet!$D$5,IF(C176=$C$3,Worksheet!$D$6,IF(C176=$B$3,Worksheet!$D$7,FALSE)))))))))))","v":true},{"$f":"IF(AE176,D176,\"\")","v":"Medium"},{"$f":"IF(AE176,COUNTIF($AF$5:AF176,AF176),\"X\")","v":82},{"$f":"CONCATENATE(AE176,AF176)","v":"TRUEMedium"}]
[{"$f":"CONCATENATE(AE177,D177,AG177)","v":"TRUEHard35"},{"$f":"RAND()","v":0.45622357321403506},"Divide","Hard",89,"What is half of ",{"$f":"20*RANDBETWEEN(1,2)+2*RANDBETWEEN(5,9)","v":34},"?",null,null,null,null,null,null,null,null,null,null,null,{"$f":"CONCATENATE(F177,\" \",G177,\"\",H177,\" \",I177,\" \",J177,\" \",K177,\" \",L177,\" \",M177,\" \",N177,\" \",O177,\" \",P177,\" \",Q177,\" \",R177)","v":"What is half of  34?          "},{"$f":"G177/2","v":17},null,null,null,null,null,null,null,null,{"$f":"IF(OR(ISNA(U177),ISNA(V177),ISNA(W177),ISNA(X177),ISNA(Y177),ISNA(Z177),ISNA(AA177),ISNA(AB177),ISNA(AC177)),NA(),CONCATENATE(U177,V177,W177,X177,Y177,Z177,AA177,AB177))","v":"17"},{"$f":"IF(ISNA(AD177),FALSE,IF(C177=$B$1,Worksheet!$B$3,IF(C177=$C$1,Worksheet!$B$4,IF(C177=$D$1,Worksheet!$B$5,IF(C177=$E$1,Worksheet!$B$6,IF(C177=$B$2,Worksheet!$B$7,IF(C177=$C$2,Worksheet!$D$3,IF(C177=$D$2,Worksheet!$D$4,IF(C177=$E$2,Worksheet!$D$5,IF(C177=$C$3,Worksheet!$D$6,IF(C177=$B$3,Worksheet!$D$7,FALSE)))))))))))","v":true},{"$f":"IF(AE177,D177,\"\")","v":"Hard"},{"$f":"IF(AE177,COUNTIF($AF$5:AF177,AF177),\"X\")","v":35},{"$f":"CONCATENATE(AE177,AF177)","v":"TRUEHard"}]
[{"$f":"CONCATENATE(AE178,D178,AG178)","v":"TRUEMedium83"},{"$f":"RAND()","v":0.33480382323113977},"Divide","Medium",95,"Divide:   ",{"$f":"4*RANDBETWEEN(1,10)","v":24},"÷",4,null,null,null,null,null,null,null,null,null,null,{"$f":"CONCATENATE(F178,\" \",G178,\" \",H178,\" \",I178,\" \",J178,\" \",K178,\" \",L178,\" \",M178,\" \",N178,\" \",O178,\" \",P178,\" \",Q178,\" \",R178)","v":"Divide:    24 ÷ 4         "},{"$f":"G178/I178","v":6},null,null,null,null,null,null,null,null,{"$f":"IF(OR(ISNA(U178),ISNA(V178),ISNA(W178),ISNA(X178),ISNA(Y178),ISNA(Z178),ISNA(AA178),ISNA(AB178),ISNA(AC178)),NA(),CONCATENATE(U178,V178,W178,X178,Y178,Z178,AA178,AB178))","v":"6"},{"$f":"IF(ISNA(AD178),FALSE,IF(C178=$B$1,Worksheet!$B$3,IF(C178=$C$1,Worksheet!$B$4,IF(C178=$D$1,Worksheet!$B$5,IF(C178=$E$1,Worksheet!$B$6,IF(C178=$B$2,Worksheet!$B$7,IF(C178=$C$2,Worksheet!$D$3,IF(C178=$D$2,Worksheet!$D$4,IF(C178=$E$2,Worksheet!$D$5,IF(C178=$C$3,Worksheet!$D$6,IF(C178=$B$3,Worksheet!$D$7,FALSE)))))))))))","v":true},{"$f":"IF(AE178,D178,\"\")","v":"Medium"},{"$f":"IF(AE178,COUNTIF($AF$5:AF178,AF178),\"X\")","v":83},{"$f":"CONCATENATE(AE178,AF178)","v":"TRUEMedium"}]