{"text_format":"1","workbook":"xlsx","n_sheets":2,"sheets":["Worksheet","SYSTEM FORMULAE"],"not_rendered":{"charts":0,"images":0,"macros":1,"external_links":0,"defined_names":3,"comments":0,"pivot_tables":0},"unopened":[],"bounds":{"document_bytes":16777216,"sheet_cells":100000,"rows_first":2000,"rows_last":500,"rows_between":2000,"halvings":0,"cell_chars":16384,"cell_head_chars":4096},"cells_cut":0,"cells_raw":0,"read":"whole","date_system":"1900"}

{"sheet":"Worksheet","index":0,"n_rows":28,"n_cols":20,"rows_kept":28,"cut":false,"hidden":false,"merged":[[0,4,0,18],[1,11,1,15],[1,8,1,10],[1,0,1,3],[5,0,5,3],[6,0,6,2],[2,0,2,2],[1,16,1,18],[10,0,10,3],[3,0,3,3],[4,0,4,2],[8,0,8,2],[9,0,9,2],[7,0,7,2]]}
[null,null,null,null,"How do you write these lengths with a decimal point?"]
["Variables",null,null,null,null,null,null,null,"Whole number",null,null,"Mixed units",null,null,null,null,"with Decimal point"]
["SHOW ANSWERS",null,null,false,1,65,"Molly ","high jump","106","cm","=",1,"m",6.0000000000000053,"cm","=","1.06","m","",3]
["Numbers",null,null,null,2,3,"Lydia ","long jump","564","cm","=",5,"m",63.999999999999972,"cm","=","5.64","m","",3]
["Maximum whole number in mixed units",null,null,5,3,26,"Christopher ","long jump","434","cm","=",4,"m",33.999999999999986,"cm","=","4.34","m","",3]
["Which columns are visible",null,null,null,4,51,"Louise ","high jump","408","cm","=",4,"m",8.0000000000000071,"cm","=","4.08","m","",3]
["A mixture",null,null,3,5,36,"Connor ","long jump","298","cm","=",2,"m",98,"cm","=","2.98","m","",3]
["First column",null,null,null,6,2,"Connor ","long jump","504","cm","=",5,"m",4.0000000000000036,"cm","=","5.04","m","",3]
["Middle column",null,null,null,7,8,"Patrick ","high jump","580","cm","=",5,"m",79.999999999999986,"cm","=","5.8","m","(or 5.80 m)",3]
["Final column",null,null,null,8,59,"Harriet ","shot putt","115","cm","=",1,"m",14.999999999999991,"cm","=","1.15","m","",3]
["Which unit conversions to include:",null,null,null,9,55,"Abbie ","long jump","267","cm","=",2,"m",67,"cm","=","2.67","m","",3]
["Length: cm/m",true,"Length: m/km",false,10,50,"Mitchell ","long jump","190","cm","=",1,"m",89.999999999999986,"cm","=","1.9","m","(or 1.90 m)",3]
[null,null,null,null,11,12,"Samuel ","high jump","330","cm","=",3,"m",29.999999999999982,"cm","=","3.3","m","(or 3.30 m)",3]
[null,null,null,null,12,42,"Kate ","high jump","401","cm","=",4,"m",0.99999999999997868,"cm","=","4.01","m","",3]
[null,null,null,null,13,23,"Sophia ","high jump","352","cm","=",3,"m",52,"cm","=","3.52","m","",3]
[null,null,null,null,14,77,"Naomi ","high jump","307","cm","=",3,"m",6.999999999999984,"cm","=","3.07","m","",3]
[null,null,null,null,15,22,"Leah ","long jump","430","cm","=",4,"m",29.999999999999982,"cm","=","4.3","m","(or 4.30 m)",3]
[null,null,null,null,16,72,"Gemma ","high jump","505","cm","=",5,"m",4.9999999999999822,"cm","=","5.05","m","",3]
[null,null,null,null,17,14,"Natasha ","shot putt","285","cm","=",2,"m",85.000000000000014,"cm","=","2.85","m","",3]
[null,null,null,null,18,38,"Natalie ","long jump","467","cm","=",4,"m",67,"cm","=","4.67","m","",3]
[null,null,null,null,19,79,"Luke ","shot putt","107","cm","=",1,"m",7.0000000000000062,"cm","=","1.07","m","",3]
[null,null,null,null,20,79,"Eleanor ","high jump","107","cm","=",1,"m",7.0000000000000062,"cm","=","1.07","m","",3]
[null,null,null,null,21,53,"Jacob ","long jump","520","cm","=",5,"m",20.000000000000018,"cm","=","5.2","m","(or 5.20 m)",3]
[null,null,null,null,22,9,"John ","high jump","174","cm","=",1,"m",74,"cm","=","1.74","m","",3]
[null,null,null,null,23,46,"Chloe ","high jump","206","cm","=",2,"m",6.0000000000000053,"cm","=","2.06","m","",3]
[null,null,null,null,24,21,"Abbie ","long jump","550","cm","=",5,"m",50,"cm","=","5.5","m","(or 5.50 m)",3]
[null,null,null,null,25,20,"Anna ","high jump","493","cm","=",4,"m",92.999999999999972,"cm","=","4.93","m","",3]
[null,null,null,null,26,67,"Harvey ","long jump","292","cm","=",2,"m",92,"cm","=","2.92","m","",3]

{"sheet":"SYSTEM FORMULAE","index":1,"n_rows":200,"n_cols":36,"rows_kept":200,"cut":false,"hidden":false,"merged":[]}
[null,null,null,null,null,null,null,null,null,null,null,null,null,null,null,1,{"$f":"RANDBETWEEN(1,MAX('SYSTEM FORMULAE'!$A$1:$A$161))","v":30},{"$f":"OFFSET($AJ$1,RANDBETWEEN(0,199),0)","v":"Amelia "},{"$f":"CHOOSE(RANDBETWEEN(1,3),\"long jump\",\"high jump\",\"shot putt\")","v":"shot putt"},{"$f":"IF(RIGHT(TEXT(VLOOKUP(Q1,'SYSTEM FORMULAE'!$A$1:$M$161,4),\"#,##0.###\"),1)=\".\",LEFT(TEXT(VLOOKUP(Q1,'SYSTEM FORMULAE'!$A$1:$M$161,4),\"#,##0.###\"),LEN(TEXT(VLOOKUP(Q1,'SYSTEM FORMULAE'!$A$1:$M$161,4),\"#,##0.###\"))-1),TEXT(VLOOKUP(Q1,'SYSTEM FORMULAE'!$A$1:$M$161,4),\"#,##0.###\"))","v":"190"},{"$f":"VLOOKUP(Q1,'SYSTEM FORMULAE'!$A$1:$M$161,5)","v":"cm"},"=",{"$f":"VLOOKUP($Q1,'SYSTEM FORMULAE'!$A$1:$M$161,7)","v":1},{"$f":"VLOOKUP($Q1,'SYSTEM FORMULAE'!$A$1:$M$161,8)","v":"m"},{"$f":"VLOOKUP($Q1,'SYSTEM FORMULAE'!$A$1:$M$161,9)","v":89.999999999999986},{"$f":"VLOOKUP($Q1,'SYSTEM FORMULAE'!$A$1:$M$161,10)","v":"cm"},"=",{"$f":"IF(RIGHT(TEXT(VLOOKUP(Q1,'SYSTEM FORMULAE'!$A$1:$M$161,12),\"#,##0.###\"),1)=\".\",LEFT(TEXT(VLOOKUP(Q1,'SYSTEM FORMULAE'!$A$1:$M$161,12),\"#,##0.###\"),LEN(TEXT(VLOOKUP(Q1,'SYSTEM FORMULAE'!$A$1:$M$161,12),\"#,##0.###\"))-1),TEXT(VLOOKUP(Q1,'SYSTEM FORMULAE'!$A$1:$M$161,12),\"#,##0.###\"))","v":"1.9"},{"$f":"VLOOKUP(Q1,'SYSTEM FORMULAE'!$A$1:$M$161,13)","v":"m"},{"$f":"IF(AND(U1=\"cm\",NOT(AE1=4)),IF(INT(AB1*10)=(AB1*10),CONCATENATE(\"(or \",AB1,\"0\",\" m)\"),\"\"),IF(AND(U1=\"m\",NOT(AE1=4)),IF(INT(AB1*10)=(AB1*10),CONCATENATE(\"(or \",AB1,\"00\",\" km)\"),IF(INT(AB1*100)=(AB1*100),CONCATENATE(\"(or \",AB1,\"0\",\" km)\"),\"\")),\"\"))","v":"(or 1.90 m)"},{"$f":"IF(Worksheet!$D$7=1,RANDBETWEEN(3,4),Worksheet!$D$7)","v":3},null,null,null,null,"Jack "]
[{"$f":"IF(COUNTIF($B$1:B2,TRUE)=COUNTIF($B$1:B1,TRUE),\"\",COUNTIF($B$1:B2,TRUE))","v":1},{"$f":"Worksheet!$B$12","v":true},100,{"$f":"100*L2","v":409},"cm","=",{"$f":"INT(L2)","v":4},"m",{"$f":"IF((L2-INT(L2))*C2=0,0,(L2-INT(L2))*C2)","v":8.9999999999999858},"cm","=",{"$f":"RANDBETWEEN(1,Worksheet!$D$5)+CHOOSE(RANDBETWEEN(1,LOG10(C2)),RANDBETWEEN(1,9)/10^RANDBETWEEN(1,LOG10(C2)),RANDBETWEEN(1,99)/10^RANDBETWEEN(2,LOG10(C2)),RANDBETWEEN(0,999)/10^RANDBETWEEN(3,LOG10(C2)),RANDBETWEEN(0,9999)/C2)","v":4.09},"m",null,null,{"$f":"P1+1","v":2},{"$f":"RANDBETWEEN(1,MAX('SYSTEM FORMULAE'!$A$1:$A$161))","v":77},{"$f":"OFFSET($AJ$1,RANDBETWEEN(0,199),0)","v":"Mohammad "},{"$f":"CHOOSE(RANDBETWEEN(1,3),\"long jump\",\"high jump\",\"shot putt\")","v":"high jump"},{"$f":"IF(RIGHT(TEXT(VLOOKUP(Q2,'SYSTEM FORMULAE'!$A$1:$M$161,4),\"#,##0.###\"),1)=\".\",LEFT(TEXT(VLOOKUP(Q2,'SYSTEM FORMULAE'!$A$1:$M$161,4),\"#,##0.###\"),LEN(TEXT(VLOOKUP(Q2,'SYSTEM FORMULAE'!$A$1:$M$161,4),\"#,##0.###\"))-1),TEXT(VLOOKUP(Q2,'SYSTEM FORMULAE'!$A$1:$M$161,4),\"#,##0.###\"))","v":"288"},{"$f":"VLOOKUP(Q2,'SYSTEM FORMULAE'!$A$1:$M$161,5)","v":"cm"},"=",{"$f":"VLOOKUP($Q2,'SYSTEM FORMULAE'!$A$1:$M$161,7)","v":2},{"$f":"VLOOKUP($Q2,'SYSTEM FORMULAE'!$A$1:$M$161,8)","v":"m"},{"$f":"VLOOKUP($Q2,'SYSTEM FORMULAE'!$A$1:$M$161,9)","v":87.999999999999986},{"$f":"VLOOKUP($Q2,'SYSTEM FORMULAE'!$A$1:$M$161,10)","v":"cm"},"=",{"$f":"IF(RIGHT(TEXT(VLOOKUP(Q2,'SYSTEM FORMULAE'!$A$1:$M$161,12),\"#,##0.###\"),1)=\".\",LEFT(TEXT(VLOOKUP(Q2,'SYSTEM FORMULAE'!$A$1:$M$161,12),\"#,##0.###\"),LEN(TEXT(VLOOKUP(Q2,'SYSTEM FORMULAE'!$A$1:$M$161,12),\"#,##0.###\"))-1),TEXT(VLOOKUP(Q2,'SYSTEM FORMULAE'!$A$1:$M$161,12),\"#,##0.###\"))","v":"2.88"},{"$f":"VLOOKUP(Q2,'SYSTEM FORMULAE'!$A$1:$M$161,13)","v":"m"},{"$f":"IF(AND(U2=\"cm\",NOT(AE2=4)),IF(INT(AB2*10)=(AB2*10),CONCATENATE(\"(or \",AB2,\"0\",\" m)\"),\"\"),IF(AND(U2=\"m\",NOT(AE2=4)),IF(INT(AB2*10)=(AB2*10),CONCATENATE(\"(or \",AB2,\"00\",\" km)\"),IF(INT(AB2*100)=(AB2*100),CONCATENATE(\"(or \",AB2,\"0\",\" km)\"),\"\")),\"\"))","v":""},{"$f":"IF(Worksheet!$D$7=1,RANDBETWEEN(3,4),Worksheet!$D$7)","v":3},null,null,null,null,"Thomas "]
[{"$f":"IF(COUNTIF($B$1:B3,TRUE)=COUNTIF($B$1:B2,TRUE),\"\",COUNTIF($B$1:B3,TRUE))","v":""},{"$f":"Worksheet!$D$12","v":false},1000,{"$f":"1000*L3","v":5054},"m","=",5,"km",54.00000000000027,"m","=",{"$f":"RANDBETWEEN(1,Worksheet!$D$5)+CHOOSE(RANDBETWEEN(1,LOG10(C3)),RANDBETWEEN(1,9)/10^RANDBETWEEN(1,LOG10(C3)),RANDBETWEEN(1,99)/10^RANDBETWEEN(2,LOG10(C3)),RANDBETWEEN(0,999)/10^RANDBETWEEN(3,LOG10(C3)),RANDBETWEEN(0,9999)/C3)","v":5.0540000000000003},"km",null,null,{"$f":"P2+1","v":3},{"$f":"RANDBETWEEN(1,MAX('SYSTEM FORMULAE'!$A$1:$A$161))","v":77},"Ross ","shot putt",{"$f":"IF(RIGHT(TEXT(VLOOKUP(Q3,'SYSTEM FORMULAE'!$A$1:$M$161,4),\"#,##0.###\"),1)=\".\",LEFT(TEXT(VLOOKUP(Q3,'SYSTEM FORMULAE'!$A$1:$M$161,4),\"#,##0.###\"),LEN(TEXT(VLOOKUP(Q3,'SYSTEM FORMULAE'!$A$1:$M$161,4),\"#,##0.###\"))-1),TEXT(VLOOKUP(Q3,'SYSTEM FORMULAE'!$A$1:$M$161,4),\"#,##0.###\"))","v":"288"},{"$f":"VLOOKUP(Q3,'SYSTEM FORMULAE'!$A$1:$M$161,5)","v":"cm"},"=",{"$f":"VLOOKUP($Q3,'SYSTEM FORMULAE'!$A$1:$M$161,7)","v":2},{"$f":"VLOOKUP($Q3,'SYSTEM FORMULAE'!$A$1:$M$161,8)","v":"m"},{"$f":"VLOOKUP($Q3,'SYSTEM FORMULAE'!$A$1:$M$161,9)","v":87.999999999999986},{"$f":"VLOOKUP($Q3,'SYSTEM FORMULAE'!$A$1:$M$161,10)","v":"cm"},"=",{"$f":"IF(RIGHT(TEXT(VLOOKUP(Q3,'SYSTEM FORMULAE'!$A$1:$M$161,12),\"#,##0.###\"),1)=\".\",LEFT(TEXT(VLOOKUP(Q3,'SYSTEM FORMULAE'!$A$1:$M$161,12),\"#,##0.###\"),LEN(TEXT(VLOOKUP(Q3,'SYSTEM FORMULAE'!$A$1:$M$161,12),\"#,##0.###\"))-1),TEXT(VLOOKUP(Q3,'SYSTEM FORMULAE'!$A$1:$M$161,12),\"#,##0.###\"))","v":"2.88"},{"$f":"VLOOKUP(Q3,'SYSTEM FORMULAE'!$A$1:$M$161,13)","v":"m"},"",{"$f":"IF(Worksheet!$D$7=1,RANDBETWEEN(3,4),Worksheet!$D$7)","v":3},null,null,null,null,"James "]
[{"$f":"IF(COUNTIF($B$1:B4,TRUE)=COUNTIF($B$1:B3,TRUE),\"\",COUNTIF($B$1:B4,TRUE))","v":2},{"$f":"Worksheet!$B$12","v":true},100,{"$f":"100*L4","v":208},"cm","=",{"$f":"INT(L4)","v":2},"m",{"$f":"IF((L4-INT(L4))*C4=0,0,(L4-INT(L4))*C4)","v":8.0000000000000071},"cm","=",{"$f":"RANDBETWEEN(1,Worksheet!$D$5)+CHOOSE(RANDBETWEEN(1,LOG10(C4)),RANDBETWEEN(1,9)/10^RANDBETWEEN(1,LOG10(C4)),RANDBETWEEN(1,99)/10^RANDBETWEEN(2,LOG10(C4)),RANDBETWEEN(0,999)/10^RANDBETWEEN(3,LOG10(C4)),RANDBETWEEN(0,9999)/C4)","v":2.08},"m",null,null,4,{"$f":"RANDBETWEEN(1,MAX('SYSTEM FORMULAE'!$A$1:$A$161))","v":25},"Jodie ","long jump",{"$f":"IF(RIGHT(TEXT(VLOOKUP(Q4,'SYSTEM FORMULAE'!$A$1:$M$161,4),\"#,##0.###\"),1)=\".\",LEFT(TEXT(VLOOKUP(Q4,'SYSTEM FORMULAE'!$A$1:$M$161,4),\"#,##0.###\"),LEN(TEXT(VLOOKUP(Q4,'SYSTEM FORMULAE'!$A$1:$M$161,4),\"#,##0.###\"))-1),TEXT(VLOOKUP(Q4,'SYSTEM FORMULAE'!$A$1:$M$161,4),\"#,##0.###\"))","v":"140"},{"$f":"VLOOKUP(Q4,'SYSTEM FORMULAE'!$A$1:$M$161,5)","v":"cm"},"=",{"$f":"VLOOKUP($Q4,'SYSTEM FORMULAE'!$A$1:$M$161,7)","v":1},{"$f":"VLOOKUP($Q4,'SYSTEM FORMULAE'!$A$1:$M$161,8)","v":"m"},{"$f":"VLOOKUP($Q4,'SYSTEM FORMULAE'!$A$1:$M$161,9)","v":39.999999999999993},{"$f":"VLOOKUP($Q4,'SYSTEM FORMULAE'!$A$1:$M$161,10)","v":"cm"},"=",{"$f":"IF(RIGHT(TEXT(VLOOKUP(Q4,'SYSTEM FORMULAE'!$A$1:$M$161,12),\"#,##0.###\"),1)=\".\",LEFT(TEXT(VLOOKUP(Q4,'SYSTEM FORMULAE'!$A$1:$M$161,12),\"#,##0.###\"),LEN(TEXT(VLOOKUP(Q4,'SYSTEM FORMULAE'!$A$1:$M$161,12),\"#,##0.###\"))-1),TEXT(VLOOKUP(Q4,'SYSTEM FORMULAE'!$A$1:$M$161,12),\"#,##0.###\"))","v":"1.4"},{"$f":"VLOOKUP(Q4,'SYSTEM FORMULAE'!$A$1:$M$161,13)","v":"m"},"(or 1.40 m)",{"$f":"IF(Worksheet!$D$7=1,RANDBETWEEN(3,4),Worksheet!$D$7)","v":3},null,null,null,null,"Daniel "]
[{"$f":"IF(COUNTIF($B$1:B5,TRUE)=COUNTIF($B$1:B4,TRUE),\"\",COUNTIF($B$1:B5,TRUE))","v":""},{"$f":"Worksheet!$D$12","v":false},1000,{"$f":"1000*L5","v":3617},"m","=",3,"km",617,"m","=",{"$f":"RANDBETWEEN(1,Worksheet!$D$5)+CHOOSE(RANDBETWEEN(1,LOG10(C5)),RANDBETWEEN(1,9)/10^RANDBETWEEN(1,LOG10(C5)),RANDBETWEEN(1,99)/10^RANDBETWEEN(2,LOG10(C5)),RANDBETWEEN(0,999)/10^RANDBETWEEN(3,LOG10(C5)),RANDBETWEEN(0,9999)/C5)","v":3.617},"km",null,null,5,{"$f":"RANDBETWEEN(1,MAX('SYSTEM FORMULAE'!$A$1:$A$161))","v":53},"Paige ","shot putt",{"$f":"IF(RIGHT(TEXT(VLOOKUP(Q5,'SYSTEM FORMULAE'!$A$1:$M$161,4),\"#,##0.###\"),1)=\".\",LEFT(TEXT(VLOOKUP(Q5,'SYSTEM FORMULAE'!$A$1:$M$161,4),\"#,##0.###\"),LEN(TEXT(VLOOKUP(Q5,'SYSTEM FORMULAE'!$A$1:$M$161,4),\"#,##0.###\"))-1),TEXT(VLOOKUP(Q5,'SYSTEM FORMULAE'!$A$1:$M$161,4),\"#,##0.###\"))","v":"270"},{"$f":"VLOOKUP(Q5,'SYSTEM FORMULAE'!$A$1:$M$161,5)","v":"cm"},"=",{"$f":"VLOOKUP($Q5,'SYSTEM FORMULAE'!$A$1:$M$161,7)","v":2},{"$f":"VLOOKUP($Q5,'SYSTEM FORMULAE'!$A$1:$M$161,8)","v":"m"},{"$f":"VLOOKUP($Q5,'SYSTEM FORMULAE'!$A$1:$M$161,9)","v":70.000000000000014},{"$f":"VLOOKUP($Q5,'SYSTEM FORMULAE'!$A$1:$M$161,10)","v":"cm"},"=",{"$f":"IF(RIGHT(TEXT(VLOOKUP(Q5,'SYSTEM FORMULAE'!$A$1:$M$161,12),\"#,##0.###\"),1)=\".\",LEFT(TEXT(VLOOKUP(Q5,'SYSTEM FORMULAE'!$A$1:$M$161,12),\"#,##0.###\"),LEN(TEXT(VLOOKUP(Q5,'SYSTEM FORMULAE'!$A$1:$M$161,12),\"#,##0.###\"))-1),TEXT(VLOOKUP(Q5,'SYSTEM FORMULAE'!$A$1:$M$161,12),\"#,##0.###\"))","v":"2.7"},{"$f":"VLOOKUP(Q5,'SYSTEM FORMULAE'!$A$1:$M$161,13)","v":"m"},"(or 2.70 m)",{"$f":"IF(Worksheet!$D$7=1,RANDBETWEEN(3,4),Worksheet!$D$7)","v":3},null,null,null,null,"Josh "]
[{"$f":"IF(COUNTIF($B$1:B6,TRUE)=COUNTIF($B$1:B5,TRUE),\"\",COUNTIF($B$1:B6,TRUE))","v":3},{"$f":"Worksheet!$B$12","v":true},100,{"$f":"100*L6","v":580},"cm","=",5,"m",79.999999999999986,"cm","=",{"$f":"RANDBETWEEN(1,Worksheet!$D$5)+CHOOSE(RANDBETWEEN(1,LOG10(C6)),RANDBETWEEN(1,9)/10^RANDBETWEEN(1,LOG10(C6)),RANDBETWEEN(1,99)/10^RANDBETWEEN(2,LOG10(C6)),RANDBETWEEN(0,999)/10^RANDBETWEEN(3,LOG10(C6)),RANDBETWEEN(0,9999)/C6)","v":5.8},"m",null,null,6,{"$f":"RANDBETWEEN(1,MAX('SYSTEM FORMULAE'!$A$1:$A$161))","v":37},"Madeleine ","high jump",{"$f":"IF(RIGHT(TEXT(VLOOKUP(Q6,'SYSTEM FORMULAE'!$A$1:$M$161,4),\"#,##0.###\"),1)=\".\",LEFT(TEXT(VLOOKUP(Q6,'SYSTEM FORMULAE'!$A$1:$M$161,4),\"#,##0.###\"),LEN(TEXT(VLOOKUP(Q6,'SYSTEM FORMULAE'!$A$1:$M$161,4),\"#,##0.###\"))-1),TEXT(VLOOKUP(Q6,'SYSTEM FORMULAE'!$A$1:$M$161,4),\"#,##0.###\"))","v":"537"},{"$f":"VLOOKUP(Q6,'SYSTEM FORMULAE'!$A$1:$M$161,5)","v":"cm"},"=",{"$f":"VLOOKUP($Q6,'SYSTEM FORMULAE'!$A$1:$M$161,7)","v":5},{"$f":"VLOOKUP($Q6,'SYSTEM FORMULAE'!$A$1:$M$161,8)","v":"m"},{"$f":"VLOOKUP($Q6,'SYSTEM FORMULAE'!$A$1:$M$161,9)","v":37.000000000000014},{"$f":"VLOOKUP($Q6,'SYSTEM FORMULAE'!$A$1:$M$161,10)","v":"cm"},"=",{"$f":"IF(RIGHT(TEXT(VLOOKUP(Q6,'SYSTEM FORMULAE'!$A$1:$M$161,12),\"#,##0.###\"),1)=\".\",LEFT(TEXT(VLOOKUP(Q6,'SYSTEM FORMULAE'!$A$1:$M$161,12),\"#,##0.###\"),LEN(TEXT(VLOOKUP(Q6,'SYSTEM FORMULAE'!$A$1:$M$161,12),\"#,##0.###\"))-1),TEXT(VLOOKUP(Q6,'SYSTEM FORMULAE'!$A$1:$M$161,12),\"#,##0.###\"))","v":"5.37"},{"$f":"VLOOKUP(Q6,'SYSTEM FORMULAE'!$A$1:$M$161,13)","v":"m"},"",{"$f":"IF(Worksheet!$D$7=1,RANDBETWEEN(3,4),Worksheet!$D$7)","v":3},null,null,null,null,"Matthew "]
[{"$f":"IF(COUNTIF($B$1:B7,TRUE)=COUNTIF($B$1:B6,TRUE),\"\",COUNTIF($B$1:B7,TRUE))","v":""},{"$f":"Worksheet!$D$12","v":false},1000,{"$f":"1000*L7","v":2073},"m","=",2,"km",72.999999999999957,"m","=",{"$f":"RANDBETWEEN(1,Worksheet!$D$5)+CHOOSE(RANDBETWEEN(1,LOG10(C7)),RANDBETWEEN(1,9)/10^RANDBETWEEN(1,LOG10(C7)),RANDBETWEEN(1,99)/10^RANDBETWEEN(2,LOG10(C7)),RANDBETWEEN(0,999)/10^RANDBETWEEN(3,LOG10(C7)),RANDBETWEEN(0,9999)/C7)","v":2.073},"km",null,null,7,{"$f":"RANDBETWEEN(1,MAX('SYSTEM FORMULAE'!$A$1:$A$161))","v":63},"Emily ","high jump",{"$f":"IF(RIGHT(TEXT(VLOOKUP(Q7,'SYSTEM FORMULAE'!$A$1:$M$161,4),\"#,##0.###\"),1)=\".\",LEFT(TEXT(VLOOKUP(Q7,'SYSTEM FORMULAE'!$A$1:$M$161,4),\"#,##0.###\"),LEN(TEXT(VLOOKUP(Q7,'SYSTEM FORMULAE'!$A$1:$M$161,4),\"#,##0.###\"))-1),TEXT(VLOOKUP(Q7,'SYSTEM FORMULAE'!$A$1:$M$161,4),\"#,##0.###\"))","v":"397"},{"$f":"VLOOKUP(Q7,'SYSTEM FORMULAE'!$A$1:$M$161,5)","v":"cm"},"=",{"$f":"VLOOKUP($Q7,'SYSTEM FORMULAE'!$A$1:$M$161,7)","v":3},{"$f":"VLOOKUP($Q7,'SYSTEM FORMULAE'!$A$1:$M$161,8)","v":"m"},{"$f":"VLOOKUP($Q7,'SYSTEM FORMULAE'!$A$1:$M$161,9)","v":96.999999999999972},{"$f":"VLOOKUP($Q7,'SYSTEM FORMULAE'!$A$1:$M$161,10)","v":"cm"},"=",{"$f":"IF(RIGHT(TEXT(VLOOKUP(Q7,'SYSTEM FORMULAE'!$A$1:$M$161,12),\"#,##0.###\"),1)=\".\",LEFT(TEXT(VLOOKUP(Q7,'SYSTEM FORMULAE'!$A$1:$M$161,12),\"#,##0.###\"),LEN(TEXT(VLOOKUP(Q7,'SYSTEM FORMULAE'!$A$1:$M$161,12),\"#,##0.###\"))-1),TEXT(VLOOKUP(Q7,'SYSTEM FORMULAE'!$A$1:$M$161,12),\"#,##0.###\"))","v":"3.97"},{"$f":"VLOOKUP(Q7,'SYSTEM FORMULAE'!$A$1:$M$161,13)","v":"m"},"",{"$f":"IF(Worksheet!$D$7=1,RANDBETWEEN(3,4),Worksheet!$D$7)","v":3},null,null,null,null,"Samuel "]
[{"$f":"IF(COUNTIF($B$1:B8,TRUE)=COUNTIF($B$1:B7,TRUE),\"\",COUNTIF($B$1:B8,TRUE))","v":4},{"$f":"Worksheet!$B$12","v":true},100,{"$f":"100*L8","v":409},"cm","=",4,"m",8.9999999999999858,"cm","=",{"$f":"RANDBETWEEN(1,Worksheet!$D$5)+CHOOSE(RANDBETWEEN(1,LOG10(C8)),RANDBETWEEN(1,9)/10^RANDBETWEEN(1,LOG10(C8)),RANDBETWEEN(1,99)/10^RANDBETWEEN(2,LOG10(C8)),RANDBETWEEN(0,999)/10^RANDBETWEEN(3,LOG10(C8)),RANDBETWEEN(0,9999)/C8)","v":4.09},"m",null,null,8,{"$f":"RANDBETWEEN(1,MAX('SYSTEM FORMULAE'!$A$1:$A$161))","v":34},"Jacob ","shot putt",{"$f":"IF(RIGHT(TEXT(VLOOKUP(Q8,'SYSTEM FORMULAE'!$A$1:$M$161,4),\"#,##0.###\"),1)=\".\",LEFT(TEXT(VLOOKUP(Q8,'SYSTEM FORMULAE'!$A$1:$M$161,4),\"#,##0.###\"),LEN(TEXT(VLOOKUP(Q8,'SYSTEM FORMULAE'!$A$1:$M$161,4),\"#,##0.###\"))-1),TEXT(VLOOKUP(Q8,'SYSTEM FORMULAE'!$A$1:$M$161,4),\"#,##0.###\"))","v":"201"},{"$f":"VLOOKUP(Q8,'SYSTEM FORMULAE'!$A$1:$M$161,5)","v":"cm"},"=",{"$f":"VLOOKUP($Q8,'SYSTEM FORMULAE'!$A$1:$M$161,7)","v":2},{"$f":"VLOOKUP($Q8,'SYSTEM FORMULAE'!$A$1:$M$161,8)","v":"m"},{"$f":"VLOOKUP($Q8,'SYSTEM FORMULAE'!$A$1:$M$161,9)","v":0.99999999999997868},{"$f":"VLOOKUP($Q8,'SYSTEM FORMULAE'!$A$1:$M$161,10)","v":"cm"},"=",{"$f":"IF(RIGHT(TEXT(VLOOKUP(Q8,'SYSTEM FORMULAE'!$A$1:$M$161,12),\"#,##0.###\"),1)=\".\",LEFT(TEXT(VLOOKUP(Q8,'SYSTEM FORMULAE'!$A$1:$M$161,12),\"#,##0.###\"),LEN(TEXT(VLOOKUP(Q8,'SYSTEM FORMULAE'!$A$1:$M$161,12),\"#,##0.###\"))-1),TEXT(VLOOKUP(Q8,'SYSTEM FORMULAE'!$A$1:$M$161,12),\"#,##0.###\"))","v":"2.01"},{"$f":"VLOOKUP(Q8,'SYSTEM FORMULAE'!$A$1:$M$161,13)","v":"m"},"",{"$f":"IF(Worksheet!$D$7=1,RANDBETWEEN(3,4),Worksheet!$D$7)","v":3},null,null,null,null,"Callum "]
[{"$f":"IF(COUNTIF($B$1:B9,TRUE)=COUNTIF($B$1:B8,TRUE),\"\",COUNTIF($B$1:B9,TRUE))","v":""},{"$f":"Worksheet!$D$12","v":false},1000,{"$f":"1000*L9","v":4490},"m","=",4,"km",490.00000000000023,"m","=",{"$f":"RANDBETWEEN(1,Worksheet!$D$5)+CHOOSE(RANDBETWEEN(1,LOG10(C9)),RANDBETWEEN(1,9)/10^RANDBETWEEN(1,LOG10(C9)),RANDBETWEEN(1,99)/10^RANDBETWEEN(2,LOG10(C9)),RANDBETWEEN(0,999)/10^RANDBETWEEN(3,LOG10(C9)),RANDBETWEEN(0,9999)/C9)","v":4.49},"km",null,null,9,{"$f":"RANDBETWEEN(1,MAX('SYSTEM FORMULAE'!$A$1:$A$161))","v":64},"Kieran ","long jump",{"$f":"IF(RIGHT(TEXT(VLOOKUP(Q9,'SYSTEM FORMULAE'!$A$1:$M$161,4),\"#,##0.###\"),1)=\".\",LEFT(TEXT(VLOOKUP(Q9,'SYSTEM FORMULAE'!$A$1:$M$161,4),\"#,##0.###\"),LEN(TEXT(VLOOKUP(Q9,'SYSTEM FORMULAE'!$A$1:$M$161,4),\"#,##0.###\"))-1),TEXT(VLOOKUP(Q9,'SYSTEM FORMULAE'!$A$1:$M$161,4),\"#,##0.###\"))","v":"277"},{"$f":"VLOOKUP(Q9,'SYSTEM FORMULAE'!$A$1:$M$161,5)","v":"cm"},"=",{"$f":"VLOOKUP($Q9,'SYSTEM FORMULAE'!$A$1:$M$161,7)","v":2},{"$f":"VLOOKUP($Q9,'SYSTEM FORMULAE'!$A$1:$M$161,8)","v":"m"},{"$f":"VLOOKUP($Q9,'SYSTEM FORMULAE'!$A$1:$M$161,9)","v":77},{"$f":"VLOOKUP($Q9,'SYSTEM FORMULAE'!$A$1:$M$161,10)","v":"cm"},"=",{"$f":"IF(RIGHT(TEXT(VLOOKUP(Q9,'SYSTEM FORMULAE'!$A$1:$M$161,12),\"#,##0.###\"),1)=\".\",LEFT(TEXT(VLOOKUP(Q9,'SYSTEM FORMULAE'!$A$1:$M$161,12),\"#,##0.###\"),LEN(TEXT(VLOOKUP(Q9,'SYSTEM FORMULAE'!$A$1:$M$161,12),\"#,##0.###\"))-1),TEXT(VLOOKUP(Q9,'SYSTEM FORMULAE'!$A$1:$M$161,12),\"#,##0.###\"))","v":"2.77"},{"$f":"VLOOKUP(Q9,'SYSTEM FORMULAE'!$A$1:$M$161,13)","v":"m"},"",{"$f":"IF(Worksheet!$D$7=1,RANDBETWEEN(3,4),Worksheet!$D$7)","v":3},null,null,null,null,"Joseph "]
[{"$f":"IF(COUNTIF($B$1:B10,TRUE)=COUNTIF($B$1:B9,TRUE),\"\",COUNTIF($B$1:B10,TRUE))","v":5},{"$f":"Worksheet!$B$12","v":true},100,{"$f":"100*L10","v":409.99999999999994},"cm","=",4,"m",9.9999999999999645,"cm","=",{"$f":"RANDBETWEEN(1,Worksheet!$D$5)+CHOOSE(RANDBETWEEN(1,LOG10(C10)),RANDBETWEEN(1,9)/10^RANDBETWEEN(1,LOG10(C10)),RANDBETWEEN(1,99)/10^RANDBETWEEN(2,LOG10(C10)),RANDBETWEEN(0,999)/10^RANDBETWEEN(3,LOG10(C10)),RANDBETWEEN(0,9999)/C10)","v":4.0999999999999996},"m",null,null,10,{"$f":"RANDBETWEEN(1,MAX('SYSTEM FORMULAE'!$A$1:$A$161))","v":27},"Isaac ","high jump",{"$f":"IF(RIGHT(TEXT(VLOOKUP(Q10,'SYSTEM FORMULAE'!$A$1:$M$161,4),\"#,##0.###\"),1)=\".\",LEFT(TEXT(VLOOKUP(Q10,'SYSTEM FORMULAE'!$A$1:$M$161,4),\"#,##0.###\"),LEN(TEXT(VLOOKUP(Q10,'SYSTEM FORMULAE'!$A$1:$M$161,4),\"#,##0.###\"))-1),TEXT(VLOOKUP(Q10,'SYSTEM FORMULAE'!$A$1:$M$161,4),\"#,##0.###\"))","v":"107"},{"$f":"VLOOKUP(Q10,'SYSTEM FORMULAE'!$A$1:$M$161,5)","v":"cm"},"=",{"$f":"VLOOKUP($Q10,'SYSTEM FORMULAE'!$A$1:$M$161,7)","v":1},{"$f":"VLOOKUP($Q10,'SYSTEM FORMULAE'!$A$1:$M$161,8)","v":"m"},{"$f":"VLOOKUP($Q10,'SYSTEM FORMULAE'!$A$1:$M$161,9)","v":7.0000000000000062},{"$f":"VLOOKUP($Q10,'SYSTEM FORMULAE'!$A$1:$M$161,10)","v":"cm"},"=",{"$f":"IF(RIGHT(TEXT(VLOOKUP(Q10,'SYSTEM FORMULAE'!$A$1:$M$161,12),\"#,##0.###\"),1)=\".\",LEFT(TEXT(VLOOKUP(Q10,'SYSTEM FORMULAE'!$A$1:$M$161,12),\"#,##0.###\"),LEN(TEXT(VLOOKUP(Q10,'SYSTEM FORMULAE'!$A$1:$M$161,12),\"#,##0.###\"))-1),TEXT(VLOOKUP(Q10,'SYSTEM FORMULAE'!$A$1:$M$161,12),\"#,##0.###\"))","v":"1.07"},{"$f":"VLOOKUP(Q10,'SYSTEM FORMULAE'!$A$1:$M$161,13)","v":"m"},"",{"$f":"IF(Worksheet!$D$7=1,RANDBETWEEN(3,4),Worksheet!$D$7)","v":3},null,null,null,null,"Jordan "]
[{"$f":"IF(COUNTIF($B$1:B11,TRUE)=COUNTIF($B$1:B10,TRUE),\"\",COUNTIF($B$1:B11,TRUE))","v":""},{"$f":"Worksheet!$D$12","v":false},1000,{"$f":"1000*L11","v":1000.9999999999999},"m","=",1,"km",0.99999999999988987,"m","=",{"$f":"RANDBETWEEN(1,Worksheet!$D$5)+CHOOSE(RANDBETWEEN(1,LOG10(C11)),RANDBETWEEN(1,9)/10^RANDBETWEEN(1,LOG10(C11)),RANDBETWEEN(1,99)/10^RANDBETWEEN(2,LOG10(C11)),RANDBETWEEN(0,999)/10^RANDBETWEEN(3,LOG10(C11)),RANDBETWEEN(0,9999)/C11)","v":1.0009999999999999},"km",null,null,11,{"$f":"RANDBETWEEN(1,MAX('SYSTEM FORMULAE'!$A$1:$A$161))","v":68},"Poppy ","high jump",{"$f":"IF(RIGHT(TEXT(VLOOKUP(Q11,'SYSTEM FORMULAE'!$A$1:$M$161,4),\"#,##0.###\"),1)=\".\",LEFT(TEXT(VLOOKUP(Q11,'SYSTEM FORMULAE'!$A$1:$M$161,4),\"#,##0.###\"),LEN(TEXT(VLOOKUP(Q11,'SYSTEM FORMULAE'!$A$1:$M$161,4),\"#,##0.###\"))-1),TEXT(VLOOKUP(Q11,'SYSTEM FORMULAE'!$A$1:$M$161,4),\"#,##0.###\"))","v":"460"},{"$f":"VLOOKUP(Q11,'SYSTEM FORMULAE'!$A$1:$M$161,5)","v":"cm"},"=",{"$f":"VLOOKUP($Q11,'SYSTEM FORMULAE'!$A$1:$M$161,7)","v":4},{"$f":"VLOOKUP($Q11,'SYSTEM FORMULAE'!$A$1:$M$161,8)","v":"m"},{"$f":"VLOOKUP($Q11,'SYSTEM FORMULAE'!$A$1:$M$161,9)","v":59.999999999999964},{"$f":"VLOOKUP($Q11,'SYSTEM FORMULAE'!$A$1:$M$161,10)","v":"cm"},"=",{"$f":"IF(RIGHT(TEXT(VLOOKUP(Q11,'SYSTEM FORMULAE'!$A$1:$M$161,12),\"#,##0.###\"),1)=\".\",LEFT(TEXT(VLOOKUP(Q11,'SYSTEM FORMULAE'!$A$1:$M$161,12),\"#,##0.###\"),LEN(TEXT(VLOOKUP(Q11,'SYSTEM FORMULAE'!$A$1:$M$161,12),\"#,##0.###\"))-1),TEXT(VLOOKUP(Q11,'SYSTEM FORMULAE'!$A$1:$M$161,12),\"#,##0.###\"))","v":"4.6"},{"$f":"VLOOKUP(Q11,'SYSTEM FORMULAE'!$A$1:$M$161,13)","v":"m"},"(or 4.60 m)",{"$f":"IF(Worksheet!$D$7=1,RANDBETWEEN(3,4),Worksheet!$D$7)","v":3},null,null,null,null,"Connor "]
[{"$f":"IF(COUNTIF($B$1:B12,TRUE)=COUNTIF($B$1:B11,TRUE),\"\",COUNTIF($B$1:B12,TRUE))","v":6},{"$f":"Worksheet!$B$12","v":true},100,{"$f":"100*L12","v":270},"cm","=",{"$f":"INT(L12)","v":2},"m",70.000000000000014,"cm","=",{"$f":"RANDBETWEEN(1,Worksheet!$D$5)+CHOOSE(RANDBETWEEN(1,LOG10(C12)),RANDBETWEEN(1,9)/10^RANDBETWEEN(1,LOG10(C12)),RANDBETWEEN(1,99)/10^RANDBETWEEN(2,LOG10(C12)),RANDBETWEEN(0,999)/10^RANDBETWEEN(3,LOG10(C12)),RANDBETWEEN(0,9999)/C12)","v":2.7},"m",null,null,12,{"$f":"RANDBETWEEN(1,MAX('SYSTEM FORMULAE'!$A$1:$A$161))","v":70},"Jake ","shot putt",{"$f":"IF(RIGHT(TEXT(VLOOKUP(Q12,'SYSTEM FORMULAE'!$A$1:$M$161,4),\"#,##0.###\"),1)=\".\",LEFT(TEXT(VLOOKUP(Q12,'SYSTEM FORMULAE'!$A$1:$M$161,4),\"#,##0.###\"),LEN(TEXT(VLOOKUP(Q12,'SYSTEM FORMULAE'!$A$1:$M$161,4),\"#,##0.###\"))-1),TEXT(VLOOKUP(Q12,'SYSTEM FORMULAE'!$A$1:$M$161,4),\"#,##0.###\"))","v":"246"},{"$f":"VLOOKUP(Q12,'SYSTEM FORMULAE'!$A$1:$M$161,5)","v":"cm"},"=",{"$f":"VLOOKUP($Q12,'SYSTEM FORMULAE'!$A$1:$M$161,7)","v":2},{"$f":"VLOOKUP($Q12,'SYSTEM FORMULAE'!$A$1:$M$161,8)","v":"m"},{"$f":"VLOOKUP($Q12,'SYSTEM FORMULAE'!$A$1:$M$161,9)","v":46},{"$f":"VLOOKUP($Q12,'SYSTEM FORMULAE'!$A$1:$M$161,10)","v":"cm"},"=",{"$f":"IF(RIGHT(TEXT(VLOOKUP(Q12,'SYSTEM FORMULAE'!$A$1:$M$161,12),\"#,##0.###\"),1)=\".\",LEFT(TEXT(VLOOKUP(Q12,'SYSTEM FORMULAE'!$A$1:$M$161,12),\"#,##0.###\"),LEN(TEXT(VLOOKUP(Q12,'SYSTEM FORMULAE'!$A$1:$M$161,12),\"#,##0.###\"))-1),TEXT(VLOOKUP(Q12,'SYSTEM FORMULAE'!$A$1:$M$161,12),\"#,##0.###\"))","v":"2.46"},{"$f":"VLOOKUP(Q12,'SYSTEM FORMULAE'!$A$1:$M$161,13)","v":"m"},"",{"$f":"IF(Worksheet!$D$7=1,RANDBETWEEN(3,4),Worksheet!$D$7)","v":3},null,null,null,null,"Ryan "]
[{"$f":"IF(COUNTIF($B$1:B13,TRUE)=COUNTIF($B$1:B12,TRUE),\"\",COUNTIF($B$1:B13,TRUE))","v":""},{"$f":"Worksheet!$D$12","v":false},1000,{"$f":"1000*L13","v":4990},"m","=",4,"km",990.00000000000023,"m","=",{"$f":"RANDBETWEEN(1,Worksheet!$D$5)+CHOOSE(RANDBETWEEN(1,LOG10(C13)),RANDBETWEEN(1,9)/10^RANDBETWEEN(1,LOG10(C13)),RANDBETWEEN(1,99)/10^RANDBETWEEN(2,LOG10(C13)),RANDBETWEEN(0,999)/10^RANDBETWEEN(3,LOG10(C13)),RANDBETWEEN(0,9999)/C13)","v":4.99},"km",null,null,13,{"$f":"RANDBETWEEN(1,MAX('SYSTEM FORMULAE'!$A$1:$A$161))","v":61},"Marcus ","high jump",{"$f":"IF(RIGHT(TEXT(VLOOKUP(Q13,'SYSTEM FORMULAE'!$A$1:$M$161,4),\"#,##0.###\"),1)=\".\",LEFT(TEXT(VLOOKUP(Q13,'SYSTEM FORMULAE'!$A$1:$M$161,4),\"#,##0.###\"),LEN(TEXT(VLOOKUP(Q13,'SYSTEM FORMULAE'!$A$1:$M$161,4),\"#,##0.###\"))-1),TEXT(VLOOKUP(Q13,'SYSTEM FORMULAE'!$A$1:$M$161,4),\"#,##0.###\"))","v":"270"},{"$f":"VLOOKUP(Q13,'SYSTEM FORMULAE'!$A$1:$M$161,5)","v":"cm"},"=",{"$f":"VLOOKUP($Q13,'SYSTEM FORMULAE'!$A$1:$M$161,7)","v":2},{"$f":"VLOOKUP($Q13,'SYSTEM FORMULAE'!$A$1:$M$161,8)","v":"m"},{"$f":"VLOOKUP($Q13,'SYSTEM FORMULAE'!$A$1:$M$161,9)","v":70.000000000000014},{"$f":"VLOOKUP($Q13,'SYSTEM FORMULAE'!$A$1:$M$161,10)","v":"cm"},"=",{"$f":"IF(RIGHT(TEXT(VLOOKUP(Q13,'SYSTEM FORMULAE'!$A$1:$M$161,12),\"#,##0.###\"),1)=\".\",LEFT(TEXT(VLOOKUP(Q13,'SYSTEM FORMULAE'!$A$1:$M$161,12),\"#,##0.###\"),LEN(TEXT(VLOOKUP(Q13,'SYSTEM FORMULAE'!$A$1:$M$161,12),\"#,##0.###\"))-1),TEXT(VLOOKUP(Q13,'SYSTEM FORMULAE'!$A$1:$M$161,12),\"#,##0.###\"))","v":"2.7"},{"$f":"VLOOKUP(Q13,'SYSTEM FORMULAE'!$A$1:$M$161,13)","v":"m"},"(or 2.70 m)",{"$f":"IF(Worksheet!$D$7=1,RANDBETWEEN(3,4),Worksheet!$D$7)","v":3},null,null,null,null,"Luke "]
[{"$f":"IF(COUNTIF($B$1:B14,TRUE)=COUNTIF($B$1:B13,TRUE),\"\",COUNTIF($B$1:B14,TRUE))","v":7},{"$f":"Worksheet!$B$12","v":true},100,{"$f":"100*L14","v":560},"cm","=",5,"m",{"$f":"IF((L14-INT(L14))*C14=0,0,(L14-INT(L14))*C14)","v":59.999999999999964},"cm","=",{"$f":"RANDBETWEEN(1,Worksheet!$D$5)+CHOOSE(RANDBETWEEN(1,LOG10(C14)),RANDBETWEEN(1,9)/10^RANDBETWEEN(1,LOG10(C14)),RANDBETWEEN(1,99)/10^RANDBETWEEN(2,LOG10(C14)),RANDBETWEEN(0,999)/10^RANDBETWEEN(3,LOG10(C14)),RANDBETWEEN(0,9999)/C14)","v":5.6},"m",null,null,14,{"$f":"RANDBETWEEN(1,MAX('SYSTEM FORMULAE'!$A$1:$A$161))","v":23},"Mohammad ","high jump",{"$f":"IF(RIGHT(TEXT(VLOOKUP(Q14,'SYSTEM FORMULAE'!$A$1:$M$161,4),\"#,##0.###\"),1)=\".\",LEFT(TEXT(VLOOKUP(Q14,'SYSTEM FORMULAE'!$A$1:$M$161,4),\"#,##0.###\"),LEN(TEXT(VLOOKUP(Q14,'SYSTEM FORMULAE'!$A$1:$M$161,4),\"#,##0.###\"))-1),TEXT(VLOOKUP(Q14,'SYSTEM FORMULAE'!$A$1:$M$161,4),\"#,##0.###\"))","v":"290"},{"$f":"VLOOKUP(Q14,'SYSTEM FORMULAE'!$A$1:$M$161,5)","v":"cm"},"=",{"$f":"VLOOKUP($Q14,'SYSTEM FORMULAE'!$A$1:$M$161,7)","v":2},{"$f":"VLOOKUP($Q14,'SYSTEM FORMULAE'!$A$1:$M$161,8)","v":"m"},{"$f":"VLOOKUP($Q14,'SYSTEM FORMULAE'!$A$1:$M$161,9)","v":89.999999999999986},{"$f":"VLOOKUP($Q14,'SYSTEM FORMULAE'!$A$1:$M$161,10)","v":"cm"},"=",{"$f":"IF(RIGHT(TEXT(VLOOKUP(Q14,'SYSTEM FORMULAE'!$A$1:$M$161,12),\"#,##0.###\"),1)=\".\",LEFT(TEXT(VLOOKUP(Q14,'SYSTEM FORMULAE'!$A$1:$M$161,12),\"#,##0.###\"),LEN(TEXT(VLOOKUP(Q14,'SYSTEM FORMULAE'!$A$1:$M$161,12),\"#,##0.###\"))-1),TEXT(VLOOKUP(Q14,'SYSTEM FORMULAE'!$A$1:$M$161,12),\"#,##0.###\"))","v":"2.9"},{"$f":"VLOOKUP(Q14,'SYSTEM FORMULAE'!$A$1:$M$161,13)","v":"m"},"(or 2.90 m)",{"$f":"IF(Worksheet!$D$7=1,RANDBETWEEN(3,4),Worksheet!$D$7)","v":3},null,null,null,null,"William "]
[{"$f":"IF(COUNTIF($B$1:B15,TRUE)=COUNTIF($B$1:B14,TRUE),\"\",COUNTIF($B$1:B15,TRUE))","v":""},{"$f":"Worksheet!$D$12","v":false},1000,{"$f":"1000*L15","v":5010},"m","=",5,"km",9.9999999999997868,"m","=",{"$f":"RANDBETWEEN(1,Worksheet!$D$5)+CHOOSE(RANDBETWEEN(1,LOG10(C15)),RANDBETWEEN(1,9)/10^RANDBETWEEN(1,LOG10(C15)),RANDBETWEEN(1,99)/10^RANDBETWEEN(2,LOG10(C15)),RANDBETWEEN(0,999)/10^RANDBETWEEN(3,LOG10(C15)),RANDBETWEEN(0,9999)/C15)","v":5.01},"km",null,null,15,{"$f":"RANDBETWEEN(1,MAX('SYSTEM FORMULAE'!$A$1:$A$161))","v":1},"Jordan ","shot putt",{"$f":"IF(RIGHT(TEXT(VLOOKUP(Q15,'SYSTEM FORMULAE'!$A$1:$M$161,4),\"#,##0.###\"),1)=\".\",LEFT(TEXT(VLOOKUP(Q15,'SYSTEM FORMULAE'!$A$1:$M$161,4),\"#,##0.###\"),LEN(TEXT(VLOOKUP(Q15,'SYSTEM FORMULAE'!$A$1:$M$161,4),\"#,##0.###\"))-1),TEXT(VLOOKUP(Q15,'SYSTEM FORMULAE'!$A$1:$M$161,4),\"#,##0.###\"))","v":"409"},{"$f":"VLOOKUP(Q15,'SYSTEM FORMULAE'!$A$1:$M$161,5)","v":"cm"},"=",{"$f":"VLOOKUP($Q15,'SYSTEM FORMULAE'!$A$1:$M$161,7)","v":4},{"$f":"VLOOKUP($Q15,'SYSTEM FORMULAE'!$A$1:$M$161,8)","v":"m"},{"$f":"VLOOKUP($Q15,'SYSTEM FORMULAE'!$A$1:$M$161,9)","v":8.9999999999999858},{"$f":"VLOOKUP($Q15,'SYSTEM FORMULAE'!$A$1:$M$161,10)","v":"cm"},"=",{"$f":"IF(RIGHT(TEXT(VLOOKUP(Q15,'SYSTEM FORMULAE'!$A$1:$M$161,12),\"#,##0.###\"),1)=\".\",LEFT(TEXT(VLOOKUP(Q15,'SYSTEM FORMULAE'!$A$1:$M$161,12),\"#,##0.###\"),LEN(TEXT(VLOOKUP(Q15,'SYSTEM FORMULAE'!$A$1:$M$161,12),\"#,##0.###\"))-1),TEXT(VLOOKUP(Q15,'SYSTEM FORMULAE'!$A$1:$M$161,12),\"#,##0.###\"))","v":"4.09"},{"$f":"VLOOKUP(Q15,'SYSTEM FORMULAE'!$A$1:$M$161,13)","v":"m"},"",{"$f":"IF(Worksheet!$D$7=1,RANDBETWEEN(3,4),Worksheet!$D$7)","v":3},null,null,null,null,"Harry "]
[{"$f":"IF(COUNTIF($B$1:B16,TRUE)=COUNTIF($B$1:B15,TRUE),\"\",COUNTIF($B$1:B16,TRUE))","v":8},{"$f":"Worksheet!$B$12","v":true},100,{"$f":"100*L16","v":114.00000000000001},"cm","=",1,"m",14.000000000000012,"cm","=",{"$f":"RANDBETWEEN(1,Worksheet!$D$5)+CHOOSE(RANDBETWEEN(1,LOG10(C16)),RANDBETWEEN(1,9)/10^RANDBETWEEN(1,LOG10(C16)),RANDBETWEEN(1,99)/10^RANDBETWEEN(2,LOG10(C16)),RANDBETWEEN(0,999)/10^RANDBETWEEN(3,LOG10(C16)),RANDBETWEEN(0,9999)/C16)","v":1.1400000000000001},"m",null,null,16,{"$f":"RANDBETWEEN(1,MAX('SYSTEM FORMULAE'!$A$1:$A$161))","v":43},"Jonathan ","long jump",{"$f":"IF(RIGHT(TEXT(VLOOKUP(Q16,'SYSTEM FORMULAE'!$A$1:$M$161,4),\"#,##0.###\"),1)=\".\",LEFT(TEXT(VLOOKUP(Q16,'SYSTEM FORMULAE'!$A$1:$M$161,4),\"#,##0.###\"),LEN(TEXT(VLOOKUP(Q16,'SYSTEM FORMULAE'!$A$1:$M$161,4),\"#,##0.###\"))-1),TEXT(VLOOKUP(Q16,'SYSTEM FORMULAE'!$A$1:$M$161,4),\"#,##0.###\"))","v":"469"},{"$f":"VLOOKUP(Q16,'SYSTEM FORMULAE'!$A$1:$M$161,5)","v":"cm"},"=",{"$f":"VLOOKUP($Q16,'SYSTEM FORMULAE'!$A$1:$M$161,7)","v":4},{"$f":"VLOOKUP($Q16,'SYSTEM FORMULAE'!$A$1:$M$161,8)","v":"m"},{"$f":"VLOOKUP($Q16,'SYSTEM FORMULAE'!$A$1:$M$161,9)","v":68.999999999999943},{"$f":"VLOOKUP($Q16,'SYSTEM FORMULAE'!$A$1:$M$161,10)","v":"cm"},"=",{"$f":"IF(RIGHT(TEXT(VLOOKUP(Q16,'SYSTEM FORMULAE'!$A$1:$M$161,12),\"#,##0.###\"),1)=\".\",LEFT(TEXT(VLOOKUP(Q16,'SYSTEM FORMULAE'!$A$1:$M$161,12),\"#,##0.###\"),LEN(TEXT(VLOOKUP(Q16,'SYSTEM FORMULAE'!$A$1:$M$161,12),\"#,##0.###\"))-1),TEXT(VLOOKUP(Q16,'SYSTEM FORMULAE'!$A$1:$M$161,12),\"#,##0.###\"))","v":"4.69"},{"$f":"VLOOKUP(Q16,'SYSTEM FORMULAE'!$A$1:$M$161,13)","v":"m"},"",{"$f":"IF(Worksheet!$D$7=1,RANDBETWEEN(3,4),Worksheet!$D$7)","v":3},null,null,null,null,"Ben "]
[{"$f":"IF(COUNTIF($B$1:B17,TRUE)=COUNTIF($B$1:B16,TRUE),\"\",COUNTIF($B$1:B17,TRUE))","v":""},{"$f":"Worksheet!$D$12","v":false},1000,{"$f":"1000*L17","v":5071},"m","=",5,"km",70.99999999999973,"m","=",{"$f":"RANDBETWEEN(1,Worksheet!$D$5)+CHOOSE(RANDBETWEEN(1,LOG10(C17)),RANDBETWEEN(1,9)/10^RANDBETWEEN(1,LOG10(C17)),RANDBETWEEN(1,99)/10^RANDBETWEEN(2,LOG10(C17)),RANDBETWEEN(0,999)/10^RANDBETWEEN(3,LOG10(C17)),RANDBETWEEN(0,9999)/C17)","v":5.0709999999999997},"km",null,null,17,{"$f":"RANDBETWEEN(1,MAX('SYSTEM FORMULAE'!$A$1:$A$161))","v":18},"Leah ","shot putt",{"$f":"IF(RIGHT(TEXT(VLOOKUP(Q17,'SYSTEM FORMULAE'!$A$1:$M$161,4),\"#,##0.###\"),1)=\".\",LEFT(TEXT(VLOOKUP(Q17,'SYSTEM FORMULAE'!$A$1:$M$161,4),\"#,##0.###\"),LEN(TEXT(VLOOKUP(Q17,'SYSTEM FORMULAE'!$A$1:$M$161,4),\"#,##0.###\"))-1),TEXT(VLOOKUP(Q17,'SYSTEM FORMULAE'!$A$1:$M$161,4),\"#,##0.###\"))","v":"190"},{"$f":"VLOOKUP(Q17,'SYSTEM FORMULAE'!$A$1:$M$161,5)","v":"cm"},"=",{"$f":"VLOOKUP($Q17,'SYSTEM FORMULAE'!$A$1:$M$161,7)","v":1},{"$f":"VLOOKUP($Q17,'SYSTEM FORMULAE'!$A$1:$M$161,8)","v":"m"},{"$f":"VLOOKUP($Q17,'SYSTEM FORMULAE'!$A$1:$M$161,9)","v":89.999999999999986},{"$f":"VLOOKUP($Q17,'SYSTEM FORMULAE'!$A$1:$M$161,10)","v":"cm"},"=",{"$f":"IF(RIGHT(TEXT(VLOOKUP(Q17,'SYSTEM FORMULAE'!$A$1:$M$161,12),\"#,##0.###\"),1)=\".\",LEFT(TEXT(VLOOKUP(Q17,'SYSTEM FORMULAE'!$A$1:$M$161,12),\"#,##0.###\"),LEN(TEXT(VLOOKUP(Q17,'SYSTEM FORMULAE'!$A$1:$M$161,12),\"#,##0.###\"))-1),TEXT(VLOOKUP(Q17,'SYSTEM FORMULAE'!$A$1:$M$161,12),\"#,##0.###\"))","v":"1.9"},{"$f":"VLOOKUP(Q17,'SYSTEM FORMULAE'!$A$1:$M$161,13)","v":"m"},"(or 1.90 m)",{"$f":"IF(Worksheet!$D$7=1,RANDBETWEEN(3,4),Worksheet!$D$7)","v":3},null,null,null,null,"George "]
[{"$f":"IF(COUNTIF($B$1:B18,TRUE)=COUNTIF($B$1:B17,TRUE),\"\",COUNTIF($B$1:B18,TRUE))","v":9},{"$f":"Worksheet!$B$12","v":true},100,{"$f":"100*L18","v":104},"cm","=",1,"m",4.0000000000000036,"cm","=",{"$f":"RANDBETWEEN(1,Worksheet!$D$5)+CHOOSE(RANDBETWEEN(1,LOG10(C18)),RANDBETWEEN(1,9)/10^RANDBETWEEN(1,LOG10(C18)),RANDBETWEEN(1,99)/10^RANDBETWEEN(2,LOG10(C18)),RANDBETWEEN(0,999)/10^RANDBETWEEN(3,LOG10(C18)),RANDBETWEEN(0,9999)/C18)","v":1.04},"m",null,null,18,{"$f":"RANDBETWEEN(1,MAX('SYSTEM FORMULAE'!$A$1:$A$161))","v":38},"Isabelle ","high jump",{"$f":"IF(RIGHT(TEXT(VLOOKUP(Q18,'SYSTEM FORMULAE'!$A$1:$M$161,4),\"#,##0.###\"),1)=\".\",LEFT(TEXT(VLOOKUP(Q18,'SYSTEM FORMULAE'!$A$1:$M$161,4),\"#,##0.###\"),LEN(TEXT(VLOOKUP(Q18,'SYSTEM FORMULAE'!$A$1:$M$161,4),\"#,##0.###\"))-1),TEXT(VLOOKUP(Q18,'SYSTEM FORMULAE'!$A$1:$M$161,4),\"#,##0.###\"))","v":"101"},{"$f":"VLOOKUP(Q18,'SYSTEM FORMULAE'!$A$1:$M$161,5)","v":"cm"},"=",{"$f":"VLOOKUP($Q18,'SYSTEM FORMULAE'!$A$1:$M$161,7)","v":1},{"$f":"VLOOKUP($Q18,'SYSTEM FORMULAE'!$A$1:$M$161,8)","v":"m"},{"$f":"VLOOKUP($Q18,'SYSTEM FORMULAE'!$A$1:$M$161,9)","v":1.0000000000000009},{"$f":"VLOOKUP($Q18,'SYSTEM FORMULAE'!$A$1:$M$161,10)","v":"cm"},"=",{"$f":"IF(RIGHT(TEXT(VLOOKUP(Q18,'SYSTEM FORMULAE'!$A$1:$M$161,12),\"#,##0.###\"),1)=\".\",LEFT(TEXT(VLOOKUP(Q18,'SYSTEM FORMULAE'!$A$1:$M$161,12),\"#,##0.###\"),LEN(TEXT(VLOOKUP(Q18,'SYSTEM FORMULAE'!$A$1:$M$161,12),\"#,##0.###\"))-1),TEXT(VLOOKUP(Q18,'SYSTEM FORMULAE'!$A$1:$M$161,12),\"#,##0.###\"))","v":"1.01"},{"$f":"VLOOKUP(Q18,'SYSTEM FORMULAE'!$A$1:$M$161,13)","v":"m"},"",{"$f":"IF(Worksheet!$D$7=1,RANDBETWEEN(3,4),Worksheet!$D$7)","v":3},null,null,null,null,"Lewis "]
[{"$f":"IF(COUNTIF($B$1:B19,TRUE)=COUNTIF($B$1:B18,TRUE),\"\",COUNTIF($B$1:B19,TRUE))","v":""},{"$f":"Worksheet!$D$12","v":false},1000,{"$f":"1000*L19","v":4900},"m","=",4,"km",900.00000000000034,"m","=",{"$f":"RANDBETWEEN(1,Worksheet!$D$5)+CHOOSE(RANDBETWEEN(1,LOG10(C19)),RANDBETWEEN(1,9)/10^RANDBETWEEN(1,LOG10(C19)),RANDBETWEEN(1,99)/10^RANDBETWEEN(2,LOG10(C19)),RANDBETWEEN(0,999)/10^RANDBETWEEN(3,LOG10(C19)),RANDBETWEEN(0,9999)/C19)","v":4.9000000000000004},"km",null,null,19,{"$f":"RANDBETWEEN(1,MAX('SYSTEM FORMULAE'!$A$1:$A$161))","v":33},"Isaac ","high jump",{"$f":"IF(RIGHT(TEXT(VLOOKUP(Q19,'SYSTEM FORMULAE'!$A$1:$M$161,4),\"#,##0.###\"),1)=\".\",LEFT(TEXT(VLOOKUP(Q19,'SYSTEM FORMULAE'!$A$1:$M$161,4),\"#,##0.###\"),LEN(TEXT(VLOOKUP(Q19,'SYSTEM FORMULAE'!$A$1:$M$161,4),\"#,##0.###\"))-1),TEXT(VLOOKUP(Q19,'SYSTEM FORMULAE'!$A$1:$M$161,4),\"#,##0.###\"))","v":"351"},{"$f":"VLOOKUP(Q19,'SYSTEM FORMULAE'!$A$1:$M$161,5)","v":"cm"},"=",{"$f":"VLOOKUP($Q19,'SYSTEM FORMULAE'!$A$1:$M$161,7)","v":3},{"$f":"VLOOKUP($Q19,'SYSTEM FORMULAE'!$A$1:$M$161,8)","v":"m"},{"$f":"VLOOKUP($Q19,'SYSTEM FORMULAE'!$A$1:$M$161,9)","v":50.999999999999979},{"$f":"VLOOKUP($Q19,'SYSTEM FORMULAE'!$A$1:$M$161,10)","v":"cm"},"=",{"$f":"IF(RIGHT(TEXT(VLOOKUP(Q19,'SYSTEM FORMULAE'!$A$1:$M$161,12),\"#,##0.###\"),1)=\".\",LEFT(TEXT(VLOOKUP(Q19,'SYSTEM FORMULAE'!$A$1:$M$161,12),\"#,##0.###\"),LEN(TEXT(VLOOKUP(Q19,'SYSTEM FORMULAE'!$A$1:$M$161,12),\"#,##0.###\"))-1),TEXT(VLOOKUP(Q19,'SYSTEM FORMULAE'!$A$1:$M$161,12),\"#,##0.###\"))","v":"3.51"},{"$f":"VLOOKUP(Q19,'SYSTEM FORMULAE'!$A$1:$M$161,13)","v":"m"},"",{"$f":"IF(Worksheet!$D$7=1,RANDBETWEEN(3,4),Worksheet!$D$7)","v":3},null,null,null,null,"Alexander "]
[{"$f":"IF(COUNTIF($B$1:B20,TRUE)=COUNTIF($B$1:B19,TRUE),\"\",COUNTIF($B$1:B20,TRUE))","v":10},{"$f":"Worksheet!$B$12","v":true},100,{"$f":"100*L20","v":505},"cm","=",5,"m",4.9999999999999822,"cm","=",{"$f":"RANDBETWEEN(1,Worksheet!$D$5)+CHOOSE(RANDBETWEEN(1,LOG10(C20)),RANDBETWEEN(1,9)/10^RANDBETWEEN(1,LOG10(C20)),RANDBETWEEN(1,99)/10^RANDBETWEEN(2,LOG10(C20)),RANDBETWEEN(0,999)/10^RANDBETWEEN(3,LOG10(C20)),RANDBETWEEN(0,9999)/C20)","v":5.05},"m",null,null,20,{"$f":"RANDBETWEEN(1,MAX('SYSTEM FORMULAE'!$A$1:$A$161))","v":76},"Chloe ","long jump",{"$f":"IF(RIGHT(TEXT(VLOOKUP(Q20,'SYSTEM FORMULAE'!$A$1:$M$161,4),\"#,##0.###\"),1)=\".\",LEFT(TEXT(VLOOKUP(Q20,'SYSTEM FORMULAE'!$A$1:$M$161,4),\"#,##0.###\"),LEN(TEXT(VLOOKUP(Q20,'SYSTEM FORMULAE'!$A$1:$M$161,4),\"#,##0.###\"))-1),TEXT(VLOOKUP(Q20,'SYSTEM FORMULAE'!$A$1:$M$161,4),\"#,##0.###\"))","v":"407"},{"$f":"VLOOKUP(Q20,'SYSTEM FORMULAE'!$A$1:$M$161,5)","v":"cm"},"=",{"$f":"VLOOKUP($Q20,'SYSTEM FORMULAE'!$A$1:$M$161,7)","v":4},{"$f":"VLOOKUP($Q20,'SYSTEM FORMULAE'!$A$1:$M$161,8)","v":"m"},{"$f":"VLOOKUP($Q20,'SYSTEM FORMULAE'!$A$1:$M$161,9)","v":7.0000000000000284},{"$f":"VLOOKUP($Q20,'SYSTEM FORMULAE'!$A$1:$M$161,10)","v":"cm"},"=",{"$f":"IF(RIGHT(TEXT(VLOOKUP(Q20,'SYSTEM FORMULAE'!$A$1:$M$161,12),\"#,##0.###\"),1)=\".\",LEFT(TEXT(VLOOKUP(Q20,'SYSTEM FORMULAE'!$A$1:$M$161,12),\"#,##0.###\"),LEN(TEXT(VLOOKUP(Q20,'SYSTEM FORMULAE'!$A$1:$M$161,12),\"#,##0.###\"))-1),TEXT(VLOOKUP(Q20,'SYSTEM FORMULAE'!$A$1:$M$161,12),\"#,##0.###\"))","v":"4.07"},{"$f":"VLOOKUP(Q20,'SYSTEM FORMULAE'!$A$1:$M$161,13)","v":"m"},"",{"$f":"IF(Worksheet!$D$7=1,RANDBETWEEN(3,4),Worksheet!$D$7)","v":3},null,null,null,null,"Oliver "]
[{"$f":"IF(COUNTIF($B$1:B21,TRUE)=COUNTIF($B$1:B20,TRUE),\"\",COUNTIF($B$1:B21,TRUE))","v":""},{"$f":"Worksheet!$D$12","v":false},1000,{"$f":"1000*L21","v":2980},"m","=",2,"km",980,"m","=",{"$f":"RANDBETWEEN(1,Worksheet!$D$5)+CHOOSE(RANDBETWEEN(1,LOG10(C21)),RANDBETWEEN(1,9)/10^RANDBETWEEN(1,LOG10(C21)),RANDBETWEEN(1,99)/10^RANDBETWEEN(2,LOG10(C21)),RANDBETWEEN(0,999)/10^RANDBETWEEN(3,LOG10(C21)),RANDBETWEEN(0,9999)/C21)","v":2.98},"km",null,null,21,{"$f":"RANDBETWEEN(1,MAX('SYSTEM FORMULAE'!$A$1:$A$161))","v":35},"Jacob ","shot putt",{"$f":"IF(RIGHT(TEXT(VLOOKUP(Q21,'SYSTEM FORMULAE'!$A$1:$M$161,4),\"#,##0.###\"),1)=\".\",LEFT(TEXT(VLOOKUP(Q21,'SYSTEM FORMULAE'!$A$1:$M$161,4),\"#,##0.###\"),LEN(TEXT(VLOOKUP(Q21,'SYSTEM FORMULAE'!$A$1:$M$161,4),\"#,##0.###\"))-1),TEXT(VLOOKUP(Q21,'SYSTEM FORMULAE'!$A$1:$M$161,4),\"#,##0.###\"))","v":"360"},{"$f":"VLOOKUP(Q21,'SYSTEM FORMULAE'!$A$1:$M$161,5)","v":"cm"},"=",{"$f":"VLOOKUP($Q21,'SYSTEM FORMULAE'!$A$1:$M$161,7)","v":3},{"$f":"VLOOKUP($Q21,'SYSTEM FORMULAE'!$A$1:$M$161,8)","v":"m"},{"$f":"VLOOKUP($Q21,'SYSTEM FORMULAE'!$A$1:$M$161,9)","v":60.000000000000007},{"$f":"VLOOKUP($Q21,'SYSTEM FORMULAE'!$A$1:$M$161,10)","v":"cm"},"=",{"$f":"IF(RIGHT(TEXT(VLOOKUP(Q21,'SYSTEM FORMULAE'!$A$1:$M$161,12),\"#,##0.###\"),1)=\".\",LEFT(TEXT(VLOOKUP(Q21,'SYSTEM FORMULAE'!$A$1:$M$161,12),\"#,##0.###\"),LEN(TEXT(VLOOKUP(Q21,'SYSTEM FORMULAE'!$A$1:$M$161,12),\"#,##0.###\"))-1),TEXT(VLOOKUP(Q21,'SYSTEM FORMULAE'!$A$1:$M$161,12),\"#,##0.###\"))","v":"3.6"},{"$f":"VLOOKUP(Q21,'SYSTEM FORMULAE'!$A$1:$M$161,13)","v":"m"},"(or 3.60 m)",{"$f":"IF(Worksheet!$D$7=1,RANDBETWEEN(3,4),Worksheet!$D$7)","v":3},null,null,null,null,"Adam "]
[{"$f":"IF(COUNTIF($B$1:B22,TRUE)=COUNTIF($B$1:B21,TRUE),\"\",COUNTIF($B$1:B22,TRUE))","v":11},{"$f":"Worksheet!$B$12","v":true},100,{"$f":"100*L22","v":103},"cm","=",{"$f":"INT(L22)","v":1},"m",3.0000000000000027,"cm","=",{"$f":"RANDBETWEEN(1,Worksheet!$D$5)+CHOOSE(RANDBETWEEN(1,LOG10(C22)),RANDBETWEEN(1,9)/10^RANDBETWEEN(1,LOG10(C22)),RANDBETWEEN(1,99)/10^RANDBETWEEN(2,LOG10(C22)),RANDBETWEEN(0,999)/10^RANDBETWEEN(3,LOG10(C22)),RANDBETWEEN(0,9999)/C22)","v":1.03},"m",null,null,22,{"$f":"RANDBETWEEN(1,MAX('SYSTEM FORMULAE'!$A$1:$A$161))","v":33},"Mitchell ","shot putt",{"$f":"IF(RIGHT(TEXT(VLOOKUP(Q22,'SYSTEM FORMULAE'!$A$1:$M$161,4),\"#,##0.###\"),1)=\".\",LEFT(TEXT(VLOOKUP(Q22,'SYSTEM FORMULAE'!$A$1:$M$161,4),\"#,##0.###\"),LEN(TEXT(VLOOKUP(Q22,'SYSTEM FORMULAE'!$A$1:$M$161,4),\"#,##0.###\"))-1),TEXT(VLOOKUP(Q22,'SYSTEM FORMULAE'!$A$1:$M$161,4),\"#,##0.###\"))","v":"351"},{"$f":"VLOOKUP(Q22,'SYSTEM FORMULAE'!$A$1:$M$161,5)","v":"cm"},"=",{"$f":"VLOOKUP($Q22,'SYSTEM FORMULAE'!$A$1:$M$161,7)","v":3},{"$f":"VLOOKUP($Q22,'SYSTEM FORMULAE'!$A$1:$M$161,8)","v":"m"},{"$f":"VLOOKUP($Q22,'SYSTEM FORMULAE'!$A$1:$M$161,9)","v":50.999999999999979},{"$f":"VLOOKUP($Q22,'SYSTEM FORMULAE'!$A$1:$M$161,10)","v":"cm"},"=",{"$f":"IF(RIGHT(TEXT(VLOOKUP(Q22,'SYSTEM FORMULAE'!$A$1:$M$161,12),\"#,##0.###\"),1)=\".\",LEFT(TEXT(VLOOKUP(Q22,'SYSTEM FORMULAE'!$A$1:$M$161,12),\"#,##0.###\"),LEN(TEXT(VLOOKUP(Q22,'SYSTEM FORMULAE'!$A$1:$M$161,12),\"#,##0.###\"))-1),TEXT(VLOOKUP(Q22,'SYSTEM FORMULAE'!$A$1:$M$161,12),\"#,##0.###\"))","v":"3.51"},{"$f":"VLOOKUP(Q22,'SYSTEM FORMULAE'!$A$1:$M$161,13)","v":"m"},"",{"$f":"IF(Worksheet!$D$7=1,RANDBETWEEN(3,4),Worksheet!$D$7)","v":3},null,null,null,null,"Jake "]
[{"$f":"IF(COUNTIF($B$1:B23,TRUE)=COUNTIF($B$1:B22,TRUE),\"\",COUNTIF($B$1:B23,TRUE))","v":""},{"$f":"Worksheet!$D$12","v":false},1000,{"$f":"1000*L23","v":2001},"m","=",2,"km",0.99999999999988987,"m","=",{"$f":"RANDBETWEEN(1,Worksheet!$D$5)+CHOOSE(RANDBETWEEN(1,LOG10(C23)),RANDBETWEEN(1,9)/10^RANDBETWEEN(1,LOG10(C23)),RANDBETWEEN(1,99)/10^RANDBETWEEN(2,LOG10(C23)),RANDBETWEEN(0,999)/10^RANDBETWEEN(3,LOG10(C23)),RANDBETWEEN(0,9999)/C23)","v":2.0009999999999999},"km",null,null,23,{"$f":"RANDBETWEEN(1,MAX('SYSTEM FORMULAE'!$A$1:$A$161))","v":55},"Jacob ","shot putt",{"$f":"IF(RIGHT(TEXT(VLOOKUP(Q23,'SYSTEM FORMULAE'!$A$1:$M$161,4),\"#,##0.###\"),1)=\".\",LEFT(TEXT(VLOOKUP(Q23,'SYSTEM FORMULAE'!$A$1:$M$161,4),\"#,##0.###\"),LEN(TEXT(VLOOKUP(Q23,'SYSTEM FORMULAE'!$A$1:$M$161,4),\"#,##0.###\"))-1),TEXT(VLOOKUP(Q23,'SYSTEM FORMULAE'!$A$1:$M$161,4),\"#,##0.###\"))","v":"427"},{"$f":"VLOOKUP(Q23,'SYSTEM FORMULAE'!$A$1:$M$161,5)","v":"cm"},"=",{"$f":"VLOOKUP($Q23,'SYSTEM FORMULAE'!$A$1:$M$161,7)","v":4},{"$f":"VLOOKUP($Q23,'SYSTEM FORMULAE'!$A$1:$M$161,8)","v":"m"},{"$f":"VLOOKUP($Q23,'SYSTEM FORMULAE'!$A$1:$M$161,9)","v":26.999999999999957},{"$f":"VLOOKUP($Q23,'SYSTEM FORMULAE'!$A$1:$M$161,10)","v":"cm"},"=",{"$f":"IF(RIGHT(TEXT(VLOOKUP(Q23,'SYSTEM FORMULAE'!$A$1:$M$161,12),\"#,##0.###\"),1)=\".\",LEFT(TEXT(VLOOKUP(Q23,'SYSTEM FORMULAE'!$A$1:$M$161,12),\"#,##0.###\"),LEN(TEXT(VLOOKUP(Q23,'SYSTEM FORMULAE'!$A$1:$M$161,12),\"#,##0.###\"))-1),TEXT(VLOOKUP(Q23,'SYSTEM FORMULAE'!$A$1:$M$161,12),\"#,##0.###\"))","v":"4.27"},{"$f":"VLOOKUP(Q23,'SYSTEM FORMULAE'!$A$1:$M$161,13)","v":"m"},"",{"$f":"IF(Worksheet!$D$7=1,RANDBETWEEN(3,4),Worksheet!$D$7)","v":3},null,null,null,null,"Michael "]
[{"$f":"IF(COUNTIF($B$1:B24,TRUE)=COUNTIF($B$1:B23,TRUE),\"\",COUNTIF($B$1:B24,TRUE))","v":12},{"$f":"Worksheet!$B$12","v":true},100,{"$f":"100*L24","v":509.99999999999994},"cm","=",5,"m",{"$f":"IF((L24-INT(L24))*C24=0,0,(L24-INT(L24))*C24)","v":9.9999999999999645},"cm","=",{"$f":"RANDBETWEEN(1,Worksheet!$D$5)+CHOOSE(RANDBETWEEN(1,LOG10(C24)),RANDBETWEEN(1,9)/10^RANDBETWEEN(1,LOG10(C24)),RANDBETWEEN(1,99)/10^RANDBETWEEN(2,LOG10(C24)),RANDBETWEEN(0,999)/10^RANDBETWEEN(3,LOG10(C24)),RANDBETWEEN(0,9999)/C24)","v":5.0999999999999996},"m",null,null,24,{"$f":"RANDBETWEEN(1,MAX('SYSTEM FORMULAE'!$A$1:$A$161))","v":27},"Rhys ","long jump",{"$f":"IF(RIGHT(TEXT(VLOOKUP(Q24,'SYSTEM FORMULAE'!$A$1:$M$161,4),\"#,##0.###\"),1)=\".\",LEFT(TEXT(VLOOKUP(Q24,'SYSTEM FORMULAE'!$A$1:$M$161,4),\"#,##0.###\"),LEN(TEXT(VLOOKUP(Q24,'SYSTEM FORMULAE'!$A$1:$M$161,4),\"#,##0.###\"))-1),TEXT(VLOOKUP(Q24,'SYSTEM FORMULAE'!$A$1:$M$161,4),\"#,##0.###\"))","v":"107"},{"$f":"VLOOKUP(Q24,'SYSTEM FORMULAE'!$A$1:$M$161,5)","v":"cm"},"=",{"$f":"VLOOKUP($Q24,'SYSTEM FORMULAE'!$A$1:$M$161,7)","v":1},{"$f":"VLOOKUP($Q24,'SYSTEM FORMULAE'!$A$1:$M$161,8)","v":"m"},{"$f":"VLOOKUP($Q24,'SYSTEM FORMULAE'!$A$1:$M$161,9)","v":7.0000000000000062},{"$f":"VLOOKUP($Q24,'SYSTEM FORMULAE'!$A$1:$M$161,10)","v":"cm"},"=",{"$f":"IF(RIGHT(TEXT(VLOOKUP(Q24,'SYSTEM FORMULAE'!$A$1:$M$161,12),\"#,##0.###\"),1)=\".\",LEFT(TEXT(VLOOKUP(Q24,'SYSTEM FORMULAE'!$A$1:$M$161,12),\"#,##0.###\"),LEN(TEXT(VLOOKUP(Q24,'SYSTEM FORMULAE'!$A$1:$M$161,12),\"#,##0.###\"))-1),TEXT(VLOOKUP(Q24,'SYSTEM FORMULAE'!$A$1:$M$161,12),\"#,##0.###\"))","v":"1.07"},{"$f":"VLOOKUP(Q24,'SYSTEM FORMULAE'!$A$1:$M$161,13)","v":"m"},"",{"$f":"IF(Worksheet!$D$7=1,RANDBETWEEN(3,4),Worksheet!$D$7)","v":3},null,null,null,null,"Liam "]
[{"$f":"IF(COUNTIF($B$1:B25,TRUE)=COUNTIF($B$1:B24,TRUE),\"\",COUNTIF($B$1:B25,TRUE))","v":""},{"$f":"Worksheet!$D$12","v":false},1000,{"$f":"1000*L25","v":3500},"m","=",3,"km",500,"m","=",{"$f":"RANDBETWEEN(1,Worksheet!$D$5)+CHOOSE(RANDBETWEEN(1,LOG10(C25)),RANDBETWEEN(1,9)/10^RANDBETWEEN(1,LOG10(C25)),RANDBETWEEN(1,99)/10^RANDBETWEEN(2,LOG10(C25)),RANDBETWEEN(0,999)/10^RANDBETWEEN(3,LOG10(C25)),RANDBETWEEN(0,9999)/C25)","v":3.5},"km",null,null,25,{"$f":"RANDBETWEEN(1,MAX('SYSTEM FORMULAE'!$A$1:$A$161))","v":71},"Leon ","long jump",{"$f":"IF(RIGHT(TEXT(VLOOKUP(Q25,'SYSTEM FORMULAE'!$A$1:$M$161,4),\"#,##0.###\"),1)=\".\",LEFT(TEXT(VLOOKUP(Q25,'SYSTEM FORMULAE'!$A$1:$M$161,4),\"#,##0.###\"),LEN(TEXT(VLOOKUP(Q25,'SYSTEM FORMULAE'!$A$1:$M$161,4),\"#,##0.###\"))-1),TEXT(VLOOKUP(Q25,'SYSTEM FORMULAE'!$A$1:$M$161,4),\"#,##0.###\"))","v":"507"},{"$f":"VLOOKUP(Q25,'SYSTEM FORMULAE'!$A$1:$M$161,5)","v":"cm"},"=",{"$f":"VLOOKUP($Q25,'SYSTEM FORMULAE'!$A$1:$M$161,7)","v":5},{"$f":"VLOOKUP($Q25,'SYSTEM FORMULAE'!$A$1:$M$161,8)","v":"m"},{"$f":"VLOOKUP($Q25,'SYSTEM FORMULAE'!$A$1:$M$161,9)","v":7.0000000000000284},{"$f":"VLOOKUP($Q25,'SYSTEM FORMULAE'!$A$1:$M$161,10)","v":"cm"},"=",{"$f":"IF(RIGHT(TEXT(VLOOKUP(Q25,'SYSTEM FORMULAE'!$A$1:$M$161,12),\"#,##0.###\"),1)=\".\",LEFT(TEXT(VLOOKUP(Q25,'SYSTEM FORMULAE'!$A$1:$M$161,12),\"#,##0.###\"),LEN(TEXT(VLOOKUP(Q25,'SYSTEM FORMULAE'!$A$1:$M$161,12),\"#,##0.###\"))-1),TEXT(VLOOKUP(Q25,'SYSTEM FORMULAE'!$A$1:$M$161,12),\"#,##0.###\"))","v":"5.07"},{"$f":"VLOOKUP(Q25,'SYSTEM FORMULAE'!$A$1:$M$161,13)","v":"m"},"",{"$f":"IF(Worksheet!$D$7=1,RANDBETWEEN(3,4),Worksheet!$D$7)","v":3},null,null,null,null,"Nathan "]
[{"$f":"IF(COUNTIF($B$1:B26,TRUE)=COUNTIF($B$1:B25,TRUE),\"\",COUNTIF($B$1:B26,TRUE))","v":13},{"$f":"Worksheet!$B$12","v":true},100,{"$f":"100*L26","v":350},"cm","=",3,"m",50,"cm","=",{"$f":"RANDBETWEEN(1,Worksheet!$D$5)+CHOOSE(RANDBETWEEN(1,LOG10(C26)),RANDBETWEEN(1,9)/10^RANDBETWEEN(1,LOG10(C26)),RANDBETWEEN(1,99)/10^RANDBETWEEN(2,LOG10(C26)),RANDBETWEEN(0,999)/10^RANDBETWEEN(3,LOG10(C26)),RANDBETWEEN(0,9999)/C26)","v":3.5},"m",null,null,26,{"$f":"RANDBETWEEN(1,MAX('SYSTEM FORMULAE'!$A$1:$A$161))","v":5},"Mohammad ","shot putt",{"$f":"IF(RIGHT(TEXT(VLOOKUP(Q26,'SYSTEM FORMULAE'!$A$1:$M$161,4),\"#,##0.###\"),1)=\".\",LEFT(TEXT(VLOOKUP(Q26,'SYSTEM FORMULAE'!$A$1:$M$161,4),\"#,##0.###\"),LEN(TEXT(VLOOKUP(Q26,'SYSTEM FORMULAE'!$A$1:$M$161,4),\"#,##0.###\"))-1),TEXT(VLOOKUP(Q26,'SYSTEM FORMULAE'!$A$1:$M$161,4),\"#,##0.###\"))","v":"410"},{"$f":"VLOOKUP(Q26,'SYSTEM FORMULAE'!$A$1:$M$161,5)","v":"cm"},"=",{"$f":"VLOOKUP($Q26,'SYSTEM FORMULAE'!$A$1:$M$161,7)","v":4},{"$f":"VLOOKUP($Q26,'SYSTEM FORMULAE'!$A$1:$M$161,8)","v":"m"},{"$f":"VLOOKUP($Q26,'SYSTEM FORMULAE'!$A$1:$M$161,9)","v":9.9999999999999645},{"$f":"VLOOKUP($Q26,'SYSTEM FORMULAE'!$A$1:$M$161,10)","v":"cm"},"=",{"$f":"IF(RIGHT(TEXT(VLOOKUP(Q26,'SYSTEM FORMULAE'!$A$1:$M$161,12),\"#,##0.###\"),1)=\".\",LEFT(TEXT(VLOOKUP(Q26,'SYSTEM FORMULAE'!$A$1:$M$161,12),\"#,##0.###\"),LEN(TEXT(VLOOKUP(Q26,'SYSTEM FORMULAE'!$A$1:$M$161,12),\"#,##0.###\"))-1),TEXT(VLOOKUP(Q26,'SYSTEM FORMULAE'!$A$1:$M$161,12),\"#,##0.###\"))","v":"4.1"},{"$f":"VLOOKUP(Q26,'SYSTEM FORMULAE'!$A$1:$M$161,13)","v":"m"},"(or 4.10 m)",{"$f":"IF(Worksheet!$D$7=1,RANDBETWEEN(3,4),Worksheet!$D$7)","v":3},null,null,null,null,"Kieran "]
[{"$f":"IF(COUNTIF($B$1:B27,TRUE)=COUNTIF($B$1:B26,TRUE),\"\",COUNTIF($B$1:B27,TRUE))","v":""},{"$f":"Worksheet!$D$12","v":false},1000,{"$f":"1000*L27","v":2530.0000000000005},"m","=",2,"km",530.00000000000023,"m","=",{"$f":"RANDBETWEEN(1,Worksheet!$D$5)+CHOOSE(RANDBETWEEN(1,LOG10(C27)),RANDBETWEEN(1,9)/10^RANDBETWEEN(1,LOG10(C27)),RANDBETWEEN(1,99)/10^RANDBETWEEN(2,LOG10(C27)),RANDBETWEEN(0,999)/10^RANDBETWEEN(3,LOG10(C27)),RANDBETWEEN(0,9999)/C27)","v":2.5300000000000002},"km",null,null,null,null,null,null,null,null,null,null,null,null,null,null,null,null,null,null,null,null,null,null,"Jacob "]
[{"$f":"IF(COUNTIF($B$1:B28,TRUE)=COUNTIF($B$1:B27,TRUE),\"\",COUNTIF($B$1:B28,TRUE))","v":14},{"$f":"Worksheet!$B$12","v":true},100,{"$f":"100*L28","v":110.00000000000001},"cm","=",{"$f":"INT(L28)","v":1},"m",10.000000000000009,"cm","=",{"$f":"RANDBETWEEN(1,Worksheet!$D$5)+CHOOSE(RANDBETWEEN(1,LOG10(C28)),RANDBETWEEN(1,9)/10^RANDBETWEEN(1,LOG10(C28)),RANDBETWEEN(1,99)/10^RANDBETWEEN(2,LOG10(C28)),RANDBETWEEN(0,999)/10^RANDBETWEEN(3,LOG10(C28)),RANDBETWEEN(0,9999)/C28)","v":1.1000000000000001},"m",null,null,null,null,null,null,null,null,null,null,null,null,null,null,null,null,null,null,null,null,null,null,"Cameron "]
[{"$f":"IF(COUNTIF($B$1:B29,TRUE)=COUNTIF($B$1:B28,TRUE),\"\",COUNTIF($B$1:B29,TRUE))","v":""},{"$f":"Worksheet!$D$12","v":false},1000,{"$f":"1000*L29","v":3050},"m","=",3,"km",49.999999999999822,"m","=",{"$f":"RANDBETWEEN(1,Worksheet!$D$5)+CHOOSE(RANDBETWEEN(1,LOG10(C29)),RANDBETWEEN(1,9)/10^RANDBETWEEN(1,LOG10(C29)),RANDBETWEEN(1,99)/10^RANDBETWEEN(2,LOG10(C29)),RANDBETWEEN(0,999)/10^RANDBETWEEN(3,LOG10(C29)),RANDBETWEEN(0,9999)/C29)","v":3.05},"km",null,null,null,null,null,null,null,null,null,null,null,null,null,null,null,null,null,null,null,null,null,null,"Ben "]
[{"$f":"IF(COUNTIF($B$1:B30,TRUE)=COUNTIF($B$1:B29,TRUE),\"\",COUNTIF($B$1:B30,TRUE))","v":15},{"$f":"Worksheet!$B$12","v":true},100,{"$f":"100*L30","v":409},"cm","=",{"$f":"INT(L30)","v":4},"m",8.9999999999999858,"cm","=",{"$f":"RANDBETWEEN(1,Worksheet!$D$5)+CHOOSE(RANDBETWEEN(1,LOG10(C30)),RANDBETWEEN(1,9)/10^RANDBETWEEN(1,LOG10(C30)),RANDBETWEEN(1,99)/10^RANDBETWEEN(2,LOG10(C30)),RANDBETWEEN(0,999)/10^RANDBETWEEN(3,LOG10(C30)),RANDBETWEEN(0,9999)/C30)","v":4.09},"m",null,null,null,null,null,null,null,null,null,null,null,null,null,null,null,null,null,null,null,null,null,null,"Mohammed "]
[{"$f":"IF(COUNTIF($B$1:B31,TRUE)=COUNTIF($B$1:B30,TRUE),\"\",COUNTIF($B$1:B31,TRUE))","v":""},{"$f":"Worksheet!$D$12","v":false},1000,{"$f":"1000*L31","v":1280},"m","=",1,"km",280,"m","=",{"$f":"RANDBETWEEN(1,Worksheet!$D$5)+CHOOSE(RANDBETWEEN(1,LOG10(C31)),RANDBETWEEN(1,9)/10^RANDBETWEEN(1,LOG10(C31)),RANDBETWEEN(1,99)/10^RANDBETWEEN(2,LOG10(C31)),RANDBETWEEN(0,999)/10^RANDBETWEEN(3,LOG10(C31)),RANDBETWEEN(0,9999)/C31)","v":1.28},"km",null,null,null,null,null,null,null,null,null,null,null,null,null,null,null,null,null,null,null,null,null,null,"Aaron "]
[{"$f":"IF(COUNTIF($B$1:B32,TRUE)=COUNTIF($B$1:B31,TRUE),\"\",COUNTIF($B$1:B32,TRUE))","v":16},{"$f":"Worksheet!$B$12","v":true},100,{"$f":"100*L32","v":434},"cm","=",{"$f":"INT(L32)","v":4},"m",33.999999999999986,"cm","=",{"$f":"RANDBETWEEN(1,Worksheet!$D$5)+CHOOSE(RANDBETWEEN(1,LOG10(C32)),RANDBETWEEN(1,9)/10^RANDBETWEEN(1,LOG10(C32)),RANDBETWEEN(1,99)/10^RANDBETWEEN(2,LOG10(C32)),RANDBETWEEN(0,999)/10^RANDBETWEEN(3,LOG10(C32)),RANDBETWEEN(0,9999)/C32)","v":4.34},"m",null,null,null,null,null,null,null,null,null,null,null,null,null,null,null,null,null,null,null,null,null,null,"Christopher "]
[{"$f":"IF(COUNTIF($B$1:B33,TRUE)=COUNTIF($B$1:B32,TRUE),\"\",COUNTIF($B$1:B33,TRUE))","v":""},{"$f":"Worksheet!$D$12","v":false},1000,{"$f":"1000*L33","v":4515},"m","=",4,"km",514.99999999999966,"m","=",{"$f":"RANDBETWEEN(1,Worksheet!$D$5)+CHOOSE(RANDBETWEEN(1,LOG10(C33)),RANDBETWEEN(1,9)/10^RANDBETWEEN(1,LOG10(C33)),RANDBETWEEN(1,99)/10^RANDBETWEEN(2,LOG10(C33)),RANDBETWEEN(0,999)/10^RANDBETWEEN(3,LOG10(C33)),RANDBETWEEN(0,9999)/C33)","v":4.5149999999999997},"km",null,null,null,null,null,null,null,null,null,null,null,null,null,null,null,null,null,null,null,null,null,null,"Bradley "]
[{"$f":"IF(COUNTIF($B$1:B34,TRUE)=COUNTIF($B$1:B33,TRUE),\"\",COUNTIF($B$1:B34,TRUE))","v":17},{"$f":"Worksheet!$B$12","v":true},100,{"$f":"100*L34","v":290},"cm","=",{"$f":"INT(L34)","v":2},"m",89.999999999999986,"cm","=",{"$f":"RANDBETWEEN(1,Worksheet!$D$5)+CHOOSE(RANDBETWEEN(1,LOG10(C34)),RANDBETWEEN(1,9)/10^RANDBETWEEN(1,LOG10(C34)),RANDBETWEEN(1,99)/10^RANDBETWEEN(2,LOG10(C34)),RANDBETWEEN(0,999)/10^RANDBETWEEN(3,LOG10(C34)),RANDBETWEEN(0,9999)/C34)","v":2.9},"m",null,null,null,null,null,null,null,null,null,null,null,null,null,null,null,null,null,null,null,null,null,null,"Jamie "]
[{"$f":"IF(COUNTIF($B$1:B35,TRUE)=COUNTIF($B$1:B34,TRUE),\"\",COUNTIF($B$1:B35,TRUE))","v":""},{"$f":"Worksheet!$D$12","v":false},1000,{"$f":"1000*L35","v":5353},"m","=",5,"km",352.99999999999977,"m","=",{"$f":"RANDBETWEEN(1,Worksheet!$D$5)+CHOOSE(RANDBETWEEN(1,LOG10(C35)),RANDBETWEEN(1,9)/10^RANDBETWEEN(1,LOG10(C35)),RANDBETWEEN(1,99)/10^RANDBETWEEN(2,LOG10(C35)),RANDBETWEEN(0,999)/10^RANDBETWEEN(3,LOG10(C35)),RANDBETWEEN(0,9999)/C35)","v":5.3529999999999998},"km",null,null,null,null,null,null,null,null,null,null,null,null,null,null,null,null,null,null,null,null,null,null,"Charlie "]
[{"$f":"IF(COUNTIF($B$1:B36,TRUE)=COUNTIF($B$1:B35,TRUE),\"\",COUNTIF($B$1:B36,TRUE))","v":18},{"$f":"Worksheet!$B$12","v":true},100,{"$f":"100*L36","v":190},"cm","=",{"$f":"INT(L36)","v":1},"m",{"$f":"IF((L36-INT(L36))*C36=0,0,(L36-INT(L36))*C36)","v":89.999999999999986},"cm","=",{"$f":"RANDBETWEEN(1,Worksheet!$D$5)+CHOOSE(RANDBETWEEN(1,LOG10(C36)),RANDBETWEEN(1,9)/10^RANDBETWEEN(1,LOG10(C36)),RANDBETWEEN(1,99)/10^RANDBETWEEN(2,LOG10(C36)),RANDBETWEEN(0,999)/10^RANDBETWEEN(3,LOG10(C36)),RANDBETWEEN(0,9999)/C36)","v":1.9},"m",null,null,null,null,null,null,null,null,null,null,null,null,null,null,null,null,null,null,null,null,null,null,"Brandon "]
[{"$f":"IF(COUNTIF($B$1:B37,TRUE)=COUNTIF($B$1:B36,TRUE),\"\",COUNTIF($B$1:B37,TRUE))","v":""},{"$f":"Worksheet!$D$12","v":false},1000,{"$f":"1000*L37","v":1032},"m","=",1,"km",32.000000000000028,"m","=",{"$f":"RANDBETWEEN(1,Worksheet!$D$5)+CHOOSE(RANDBETWEEN(1,LOG10(C37)),RANDBETWEEN(1,9)/10^RANDBETWEEN(1,LOG10(C37)),RANDBETWEEN(1,99)/10^RANDBETWEEN(2,LOG10(C37)),RANDBETWEEN(0,999)/10^RANDBETWEEN(3,LOG10(C37)),RANDBETWEEN(0,9999)/C37)","v":1.032},"km",null,null,null,null,null,null,null,null,null,null,null,null,null,null,null,null,null,null,null,null,null,null,"Robert "]
[{"$f":"IF(COUNTIF($B$1:B38,TRUE)=COUNTIF($B$1:B37,TRUE),\"\",COUNTIF($B$1:B38,TRUE))","v":19},{"$f":"Worksheet!$B$12","v":true},100,{"$f":"100*L38","v":378},"cm","=",{"$f":"INT(L38)","v":3},"m",78.000000000000028,"cm","=",{"$f":"RANDBETWEEN(1,Worksheet!$D$5)+CHOOSE(RANDBETWEEN(1,LOG10(C38)),RANDBETWEEN(1,9)/10^RANDBETWEEN(1,LOG10(C38)),RANDBETWEEN(1,99)/10^RANDBETWEEN(2,LOG10(C38)),RANDBETWEEN(0,999)/10^RANDBETWEEN(3,LOG10(C38)),RANDBETWEEN(0,9999)/C38)","v":3.7800000000000002},"m",null,null,null,null,null,null,null,null,null,null,null,null,null,null,null,null,null,null,null,null,null,null,"Kyle "]
[{"$f":"IF(COUNTIF($B$1:B39,TRUE)=COUNTIF($B$1:B38,TRUE),\"\",COUNTIF($B$1:B39,TRUE))","v":""},{"$f":"Worksheet!$D$12","v":false},1000,{"$f":"1000*L39","v":5900},"m","=",5,"km",900.00000000000034,"m","=",{"$f":"RANDBETWEEN(1,Worksheet!$D$5)+CHOOSE(RANDBETWEEN(1,LOG10(C39)),RANDBETWEEN(1,9)/10^RANDBETWEEN(1,LOG10(C39)),RANDBETWEEN(1,99)/10^RANDBETWEEN(2,LOG10(C39)),RANDBETWEEN(0,999)/10^RANDBETWEEN(3,LOG10(C39)),RANDBETWEEN(0,9999)/C39)","v":5.9},"km",null,null,null,null,null,null,null,null,null,null,null,null,null,null,null,null,null,null,null,null,null,null,"David "]
[{"$f":"IF(COUNTIF($B$1:B40,TRUE)=COUNTIF($B$1:B39,TRUE),\"\",COUNTIF($B$1:B40,TRUE))","v":20},{"$f":"Worksheet!$B$12","v":true},100,{"$f":"100*L40","v":258},"cm","=",{"$f":"INT(L40)","v":2},"m",58.000000000000007,"cm","=",{"$f":"RANDBETWEEN(1,Worksheet!$D$5)+CHOOSE(RANDBETWEEN(1,LOG10(C40)),RANDBETWEEN(1,9)/10^RANDBETWEEN(1,LOG10(C40)),RANDBETWEEN(1,99)/10^RANDBETWEEN(2,LOG10(C40)),RANDBETWEEN(0,999)/10^RANDBETWEEN(3,LOG10(C40)),RANDBETWEEN(0,9999)/C40)","v":2.58},"m",null,null,null,null,null,null,null,null,null,null,null,null,null,null,null,null,null,null,null,null,null,null,"Owen "]
[{"$f":"IF(COUNTIF($B$1:B41,TRUE)=COUNTIF($B$1:B40,TRUE),\"\",COUNTIF($B$1:B41,TRUE))","v":""},{"$f":"Worksheet!$D$12","v":false},1000,{"$f":"1000*L41","v":1110},"m","=",1,"km",110.0000000000001,"m","=",{"$f":"RANDBETWEEN(1,Worksheet!$D$5)+CHOOSE(RANDBETWEEN(1,LOG10(C41)),RANDBETWEEN(1,9)/10^RANDBETWEEN(1,LOG10(C41)),RANDBETWEEN(1,99)/10^RANDBETWEEN(2,LOG10(C41)),RANDBETWEEN(0,999)/10^RANDBETWEEN(3,LOG10(C41)),RANDBETWEEN(0,9999)/C41)","v":1.1100000000000001},"km",null,null,null,null,null,null,null,null,null,null,null,null,null,null,null,null,null,null,null,null,null,null,"Charles "]
[{"$f":"IF(COUNTIF($B$1:B42,TRUE)=COUNTIF($B$1:B41,TRUE),\"\",COUNTIF($B$1:B42,TRUE))","v":21},{"$f":"Worksheet!$B$12","v":true},100,{"$f":"100*L42","v":209},"cm","=",{"$f":"INT(L42)","v":2},"m",8.9999999999999858,"cm","=",{"$f":"RANDBETWEEN(1,Worksheet!$D$5)+CHOOSE(RANDBETWEEN(1,LOG10(C42)),RANDBETWEEN(1,9)/10^RANDBETWEEN(1,LOG10(C42)),RANDBETWEEN(1,99)/10^RANDBETWEEN(2,LOG10(C42)),RANDBETWEEN(0,999)/10^RANDBETWEEN(3,LOG10(C42)),RANDBETWEEN(0,9999)/C42)","v":2.09},"m",null,null,null,null,null,null,null,null,null,null,null,null,null,null,null,null,null,null,null,null,null,null,"Andrew "]
[{"$f":"IF(COUNTIF($B$1:B43,TRUE)=COUNTIF($B$1:B42,TRUE),\"\",COUNTIF($B$1:B43,TRUE))","v":""},{"$f":"Worksheet!$D$12","v":false},1000,{"$f":"1000*L43","v":3004},"m","=",3,"km",4.0000000000000036,"m","=",{"$f":"RANDBETWEEN(1,Worksheet!$D$5)+CHOOSE(RANDBETWEEN(1,LOG10(C43)),RANDBETWEEN(1,9)/10^RANDBETWEEN(1,LOG10(C43)),RANDBETWEEN(1,99)/10^RANDBETWEEN(2,LOG10(C43)),RANDBETWEEN(0,999)/10^RANDBETWEEN(3,LOG10(C43)),RANDBETWEEN(0,9999)/C43)","v":3.004},"km",null,null,null,null,null,null,null,null,null,null,null,null,null,null,null,null,null,null,null,null,null,null,"Reece "]
[{"$f":"IF(COUNTIF($B$1:B44,TRUE)=COUNTIF($B$1:B43,TRUE),\"\",COUNTIF($B$1:B44,TRUE))","v":22},{"$f":"Worksheet!$B$12","v":true},100,{"$f":"100*L44","v":200.99999999999997},"cm","=",{"$f":"INT(L44)","v":2},"m",0.99999999999997868,"cm","=",{"$f":"RANDBETWEEN(1,Worksheet!$D$5)+CHOOSE(RANDBETWEEN(1,LOG10(C44)),RANDBETWEEN(1,9)/10^RANDBETWEEN(1,LOG10(C44)),RANDBETWEEN(1,99)/10^RANDBETWEEN(2,LOG10(C44)),RANDBETWEEN(0,999)/10^RANDBETWEEN(3,LOG10(C44)),RANDBETWEEN(0,9999)/C44)","v":2.0099999999999998},"m",null,null,null,null,null,null,null,null,null,null,null,null,null,null,null,null,null,null,null,null,null,null,"Edward "]
[{"$f":"IF(COUNTIF($B$1:B45,TRUE)=COUNTIF($B$1:B44,TRUE),\"\",COUNTIF($B$1:B45,TRUE))","v":""},{"$f":"Worksheet!$D$12","v":false},1000,{"$f":"1000*L45","v":4245},"m","=",4,"km",245.00000000000011,"m","=",{"$f":"RANDBETWEEN(1,Worksheet!$D$5)+CHOOSE(RANDBETWEEN(1,LOG10(C45)),RANDBETWEEN(1,9)/10^RANDBETWEEN(1,LOG10(C45)),RANDBETWEEN(1,99)/10^RANDBETWEEN(2,LOG10(C45)),RANDBETWEEN(0,999)/10^RANDBETWEEN(3,LOG10(C45)),RANDBETWEEN(0,9999)/C45)","v":4.2450000000000001},"km",null,null,null,null,null,null,null,null,null,null,null,null,null,null,null,null,null,null,null,null,null,null,"Dylan "]
[{"$f":"IF(COUNTIF($B$1:B46,TRUE)=COUNTIF($B$1:B45,TRUE),\"\",COUNTIF($B$1:B46,TRUE))","v":23},{"$f":"Worksheet!$B$12","v":true},100,{"$f":"100*L46","v":290},"cm","=",{"$f":"INT(L46)","v":2},"m",89.999999999999986,"cm","=",{"$f":"RANDBETWEEN(1,Worksheet!$D$5)+CHOOSE(RANDBETWEEN(1,LOG10(C46)),RANDBETWEEN(1,9)/10^RANDBETWEEN(1,LOG10(C46)),RANDBETWEEN(1,99)/10^RANDBETWEEN(2,LOG10(C46)),RANDBETWEEN(0,999)/10^RANDBETWEEN(3,LOG10(C46)),RANDBETWEEN(0,9999)/C46)","v":2.9},"m",null,null,null,null,null,null,null,null,null,null,null,null,null,null,null,null,null,null,null,null,null,null,"Alex "]
[{"$f":"IF(COUNTIF($B$1:B47,TRUE)=COUNTIF($B$1:B46,TRUE),\"\",COUNTIF($B$1:B47,TRUE))","v":""},{"$f":"Worksheet!$D$12","v":false},1000,{"$f":"1000*L47","v":4001.0000000000005},"m","=",4,"km",1.000000000000334,"m","=",{"$f":"RANDBETWEEN(1,Worksheet!$D$5)+CHOOSE(RANDBETWEEN(1,LOG10(C47)),RANDBETWEEN(1,9)/10^RANDBETWEEN(1,LOG10(C47)),RANDBETWEEN(1,99)/10^RANDBETWEEN(2,LOG10(C47)),RANDBETWEEN(0,999)/10^RANDBETWEEN(3,LOG10(C47)),RANDBETWEEN(0,9999)/C47)","v":4.0010000000000003},"km",null,null,null,null,null,null,null,null,null,null,null,null,null,null,null,null,null,null,null,null,null,null,"Ethan "]
[{"$f":"IF(COUNTIF($B$1:B48,TRUE)=COUNTIF($B$1:B47,TRUE),\"\",COUNTIF($B$1:B48,TRUE))","v":24},{"$f":"Worksheet!$B$12","v":true},100,{"$f":"100*L48","v":470},"cm","=",{"$f":"INT(L48)","v":4},"m",{"$f":"IF((L48-INT(L48))*C48=0,0,(L48-INT(L48))*C48)","v":70.000000000000014},"cm","=",{"$f":"RANDBETWEEN(1,Worksheet!$D$5)+CHOOSE(RANDBETWEEN(1,LOG10(C48)),RANDBETWEEN(1,9)/10^RANDBETWEEN(1,LOG10(C48)),RANDBETWEEN(1,99)/10^RANDBETWEEN(2,LOG10(C48)),RANDBETWEEN(0,999)/10^RANDBETWEEN(3,LOG10(C48)),RANDBETWEEN(0,9999)/C48)","v":4.7},"m",null,null,null,null,null,null,null,null,null,null,null,null,null,null,null,null,null,null,null,null,null,null,"Jonathan "]
[{"$f":"IF(COUNTIF($B$1:B49,TRUE)=COUNTIF($B$1:B48,TRUE),\"\",COUNTIF($B$1:B49,TRUE))","v":""},{"$f":"Worksheet!$D$12","v":false},1000,{"$f":"1000*L49","v":5127},"m","=",5,"km",126.99999999999977,"m","=",{"$f":"RANDBETWEEN(1,Worksheet!$D$5)+CHOOSE(RANDBETWEEN(1,LOG10(C49)),RANDBETWEEN(1,9)/10^RANDBETWEEN(1,LOG10(C49)),RANDBETWEEN(1,99)/10^RANDBETWEEN(2,LOG10(C49)),RANDBETWEEN(0,999)/10^RANDBETWEEN(3,LOG10(C49)),RANDBETWEEN(0,9999)/C49)","v":5.1269999999999998},"km",null,null,null,null,null,null,null,null,null,null,null,null,null,null,null,null,null,null,null,null,null,null,"Sam "]
[{"$f":"IF(COUNTIF($B$1:B50,TRUE)=COUNTIF($B$1:B49,TRUE),\"\",COUNTIF($B$1:B50,TRUE))","v":25},{"$f":"Worksheet!$B$12","v":true},100,{"$f":"100*L50","v":140},"cm","=",{"$f":"INT(L50)","v":1},"m",39.999999999999993,"cm","=",{"$f":"RANDBETWEEN(1,Worksheet!$D$5)+CHOOSE(RANDBETWEEN(1,LOG10(C50)),RANDBETWEEN(1,9)/10^RANDBETWEEN(1,LOG10(C50)),RANDBETWEEN(1,99)/10^RANDBETWEEN(2,LOG10(C50)),RANDBETWEEN(0,999)/10^RANDBETWEEN(3,LOG10(C50)),RANDBETWEEN(0,9999)/C50)","v":1.4},"m",null,null,null,null,null,null,null,null,null,null,null,null,null,null,null,null,null,null,null,null,null,null,"Louis "]
[{"$f":"IF(COUNTIF($B$1:B51,TRUE)=COUNTIF($B$1:B50,TRUE),\"\",COUNTIF($B$1:B51,TRUE))","v":""},{"$f":"Worksheet!$D$12","v":false},1000,{"$f":"1000*L51","v":3037},"m","=",3,"km",36.999999999999922,"m","=",{"$f":"RANDBETWEEN(1,Worksheet!$D$5)+CHOOSE(RANDBETWEEN(1,LOG10(C51)),RANDBETWEEN(1,9)/10^RANDBETWEEN(1,LOG10(C51)),RANDBETWEEN(1,99)/10^RANDBETWEEN(2,LOG10(C51)),RANDBETWEEN(0,999)/10^RANDBETWEEN(3,LOG10(C51)),RANDBETWEEN(0,9999)/C51)","v":3.0369999999999999},"km",null,null,null,null,null,null,null,null,null,null,null,null,null,null,null,null,null,null,null,null,null,null,"Max "]
[{"$f":"IF(COUNTIF($B$1:B52,TRUE)=COUNTIF($B$1:B51,TRUE),\"\",COUNTIF($B$1:B52,TRUE))","v":26},{"$f":"Worksheet!$B$12","v":true},100,{"$f":"100*L52","v":434.99999999999994},"cm","=",{"$f":"INT(L52)","v":4},"m",34.999999999999964,"cm","=",{"$f":"RANDBETWEEN(1,Worksheet!$D$5)+CHOOSE(RANDBETWEEN(1,LOG10(C52)),RANDBETWEEN(1,9)/10^RANDBETWEEN(1,LOG10(C52)),RANDBETWEEN(1,99)/10^RANDBETWEEN(2,LOG10(C52)),RANDBETWEEN(0,999)/10^RANDBETWEEN(3,LOG10(C52)),RANDBETWEEN(0,9999)/C52)","v":4.3499999999999996},"m",null,null,null,null,null,null,null,null,null,null,null,null,null,null,null,null,null,null,null,null,null,null,"Dominic "]
[{"$f":"IF(COUNTIF($B$1:B53,TRUE)=COUNTIF($B$1:B52,TRUE),\"\",COUNTIF($B$1:B53,TRUE))","v":""},{"$f":"Worksheet!$D$12","v":false},1000,{"$f":"1000*L53","v":5032},"m","=",5,"km",32.000000000000028,"m","=",{"$f":"RANDBETWEEN(1,Worksheet!$D$5)+CHOOSE(RANDBETWEEN(1,LOG10(C53)),RANDBETWEEN(1,9)/10^RANDBETWEEN(1,LOG10(C53)),RANDBETWEEN(1,99)/10^RANDBETWEEN(2,LOG10(C53)),RANDBETWEEN(0,999)/10^RANDBETWEEN(3,LOG10(C53)),RANDBETWEEN(0,9999)/C53)","v":5.032},"km",null,null,null,null,null,null,null,null,null,null,null,null,null,null,null,null,null,null,null,null,null,null,"John "]
[{"$f":"IF(COUNTIF($B$1:B54,TRUE)=COUNTIF($B$1:B53,TRUE),\"\",COUNTIF($B$1:B54,TRUE))","v":27},{"$f":"Worksheet!$B$12","v":true},100,{"$f":"100*L54","v":107},"cm","=",{"$f":"INT(L54)","v":1},"m",7.0000000000000062,"cm","=",{"$f":"RANDBETWEEN(1,Worksheet!$D$5)+CHOOSE(RANDBETWEEN(1,LOG10(C54)),RANDBETWEEN(1,9)/10^RANDBETWEEN(1,LOG10(C54)),RANDBETWEEN(1,99)/10^RANDBETWEEN(2,LOG10(C54)),RANDBETWEEN(0,999)/10^RANDBETWEEN(3,LOG10(C54)),RANDBETWEEN(0,9999)/C54)","v":1.07},"m",null,null,null,null,null,null,null,null,null,null,null,null,null,null,null,null,null,null,null,null,null,null,"Ashley "]
[{"$f":"IF(COUNTIF($B$1:B55,TRUE)=COUNTIF($B$1:B54,TRUE),\"\",COUNTIF($B$1:B55,TRUE))","v":""},{"$f":"Worksheet!$D$12","v":false},1000,{"$f":"1000*L55","v":4110},"m","=",4,"km",110.00000000000031,"m","=",{"$f":"RANDBETWEEN(1,Worksheet!$D$5)+CHOOSE(RANDBETWEEN(1,LOG10(C55)),RANDBETWEEN(1,9)/10^RANDBETWEEN(1,LOG10(C55)),RANDBETWEEN(1,99)/10^RANDBETWEEN(2,LOG10(C55)),RANDBETWEEN(0,999)/10^RANDBETWEEN(3,LOG10(C55)),RANDBETWEEN(0,9999)/C55)","v":4.1100000000000003},"km",null,null,null,null,null,null,null,null,null,null,null,null,null,null,null,null,null,null,null,null,null,null,"Rhys "]
[{"$f":"IF(COUNTIF($B$1:B56,TRUE)=COUNTIF($B$1:B55,TRUE),\"\",COUNTIF($B$1:B56,TRUE))","v":28},{"$f":"Worksheet!$B$12","v":true},100,{"$f":"100*L56","v":450},"cm","=",{"$f":"INT(L56)","v":4},"m",50,"cm","=",{"$f":"RANDBETWEEN(1,Worksheet!$D$5)+CHOOSE(RANDBETWEEN(1,LOG10(C56)),RANDBETWEEN(1,9)/10^RANDBETWEEN(1,LOG10(C56)),RANDBETWEEN(1,99)/10^RANDBETWEEN(2,LOG10(C56)),RANDBETWEEN(0,999)/10^RANDBETWEEN(3,LOG10(C56)),RANDBETWEEN(0,9999)/C56)","v":4.5},"m",null,null,null,null,null,null,null,null,null,null,null,null,null,null,null,null,null,null,null,null,null,null,"Henry "]
[{"$f":"IF(COUNTIF($B$1:B57,TRUE)=COUNTIF($B$1:B56,TRUE),\"\",COUNTIF($B$1:B57,TRUE))","v":""},{"$f":"Worksheet!$D$12","v":false},1000,{"$f":"1000*L57","v":5007},"m","=",5,"km",6.9999999999996732,"m","=",{"$f":"RANDBETWEEN(1,Worksheet!$D$5)+CHOOSE(RANDBETWEEN(1,LOG10(C57)),RANDBETWEEN(1,9)/10^RANDBETWEEN(1,LOG10(C57)),RANDBETWEEN(1,99)/10^RANDBETWEEN(2,LOG10(C57)),RANDBETWEEN(0,999)/10^RANDBETWEEN(3,LOG10(C57)),RANDBETWEEN(0,9999)/C57)","v":5.0069999999999997},"km",null,null,null,null,null,null,null,null,null,null,null,null,null,null,null,null,null,null,null,null,null,null,"Conor "]
[{"$f":"IF(COUNTIF($B$1:B58,TRUE)=COUNTIF($B$1:B57,TRUE),\"\",COUNTIF($B$1:B58,TRUE))","v":29},{"$f":"Worksheet!$B$12","v":true},100,{"$f":"100*L58","v":587},"cm","=",{"$f":"INT(L58)","v":5},"m",87.000000000000014,"cm","=",{"$f":"RANDBETWEEN(1,Worksheet!$D$5)+CHOOSE(RANDBETWEEN(1,LOG10(C58)),RANDBETWEEN(1,9)/10^RANDBETWEEN(1,LOG10(C58)),RANDBETWEEN(1,99)/10^RANDBETWEEN(2,LOG10(C58)),RANDBETWEEN(0,999)/10^RANDBETWEEN(3,LOG10(C58)),RANDBETWEEN(0,9999)/C58)","v":5.87},"m",null,null,null,null,null,null,null,null,null,null,null,null,null,null,null,null,null,null,null,null,null,null,"Joe "]
[{"$f":"IF(COUNTIF($B$1:B59,TRUE)=COUNTIF($B$1:B58,TRUE),\"\",COUNTIF($B$1:B59,TRUE))","v":""},{"$f":"Worksheet!$D$12","v":false},1000,{"$f":"1000*L59","v":1082},"m","=",1,"km",82.000000000000071,"m","=",{"$f":"RANDBETWEEN(1,Worksheet!$D$5)+CHOOSE(RANDBETWEEN(1,LOG10(C59)),RANDBETWEEN(1,9)/10^RANDBETWEEN(1,LOG10(C59)),RANDBETWEEN(1,99)/10^RANDBETWEEN(2,LOG10(C59)),RANDBETWEEN(0,999)/10^RANDBETWEEN(3,LOG10(C59)),RANDBETWEEN(0,9999)/C59)","v":1.0820000000000001},"km",null,null,null,null,null,null,null,null,null,null,null,null,null,null,null,null,null,null,null,null,null,null,"Tyler "]
[{"$f":"IF(COUNTIF($B$1:B60,TRUE)=COUNTIF($B$1:B59,TRUE),\"\",COUNTIF($B$1:B60,TRUE))","v":30},{"$f":"Worksheet!$B$12","v":true},100,{"$f":"100*L60","v":190},"cm","=",{"$f":"INT(L60)","v":1},"m",89.999999999999986,"cm","=",{"$f":"RANDBETWEEN(1,Worksheet!$D$5)+CHOOSE(RANDBETWEEN(1,LOG10(C60)),RANDBETWEEN(1,9)/10^RANDBETWEEN(1,LOG10(C60)),RANDBETWEEN(1,99)/10^RANDBETWEEN(2,LOG10(C60)),RANDBETWEEN(0,999)/10^RANDBETWEEN(3,LOG10(C60)),RANDBETWEEN(0,9999)/C60)","v":1.9},"m",null,null,null,null,null,null,null,null,null,null,null,null,null,null,null,null,null,null,null,null,null,null,"Scott "]
[{"$f":"IF(COUNTIF($B$1:B61,TRUE)=COUNTIF($B$1:B60,TRUE),\"\",COUNTIF($B$1:B61,TRUE))","v":""},{"$f":"Worksheet!$D$12","v":false},1000,{"$f":"1000*L61","v":5050},"m","=",5,"km",{"$f":"IF((L61-INT(L61))*C61=0,0,(L61-INT(L61))*C61)","v":49.999999999999822},"m","=",{"$f":"RANDBETWEEN(1,Worksheet!$D$5)+CHOOSE(RANDBETWEEN(1,LOG10(C61)),RANDBETWEEN(1,9)/10^RANDBETWEEN(1,LOG10(C61)),RANDBETWEEN(1,99)/10^RANDBETWEEN(2,LOG10(C61)),RANDBETWEEN(0,999)/10^RANDBETWEEN(3,LOG10(C61)),RANDBETWEEN(0,9999)/C61)","v":5.05},"km",null,null,null,null,null,null,null,null,null,null,null,null,null,null,null,null,null,null,null,null,null,null,"Sean "]
[{"$f":"IF(COUNTIF($B$1:B62,TRUE)=COUNTIF($B$1:B61,TRUE),\"\",COUNTIF($B$1:B62,TRUE))","v":31},{"$f":"Worksheet!$B$12","v":true},100,{"$f":"100*L62","v":210},"cm","=",{"$f":"INT(L62)","v":2},"m",10.000000000000009,"cm","=",{"$f":"RANDBETWEEN(1,Worksheet!$D$5)+CHOOSE(RANDBETWEEN(1,LOG10(C62)),RANDBETWEEN(1,9)/10^RANDBETWEEN(1,LOG10(C62)),RANDBETWEEN(1,99)/10^RANDBETWEEN(2,LOG10(C62)),RANDBETWEEN(0,999)/10^RANDBETWEEN(3,LOG10(C62)),RANDBETWEEN(0,9999)/C62)","v":2.1},"m",null,null,null,null,null,null,null,null,null,null,null,null,null,null,null,null,null,null,null,null,null,null,"Nick "]
[{"$f":"IF(COUNTIF($B$1:B63,TRUE)=COUNTIF($B$1:B62,TRUE),\"\",COUNTIF($B$1:B63,TRUE))","v":""},{"$f":"Worksheet!$D$12","v":false},1000,{"$f":"1000*L63","v":2279},"m","=",2,"km",278.99999999999989,"m","=",{"$f":"RANDBETWEEN(1,Worksheet!$D$5)+CHOOSE(RANDBETWEEN(1,LOG10(C63)),RANDBETWEEN(1,9)/10^RANDBETWEEN(1,LOG10(C63)),RANDBETWEEN(1,99)/10^RANDBETWEEN(2,LOG10(C63)),RANDBETWEEN(0,999)/10^RANDBETWEEN(3,LOG10(C63)),RANDBETWEEN(0,9999)/C63)","v":2.2789999999999999},"km",null,null,null,null,null,null,null,null,null,null,null,null,null,null,null,null,null,null,null,null,null,null,"Ross "]
[{"$f":"IF(COUNTIF($B$1:B64,TRUE)=COUNTIF($B$1:B63,TRUE),\"\",COUNTIF($B$1:B64,TRUE))","v":32},{"$f":"Worksheet!$B$12","v":true},100,{"$f":"100*L64","v":107},"cm","=",{"$f":"INT(L64)","v":1},"m",7.0000000000000062,"cm","=",{"$f":"RANDBETWEEN(1,Worksheet!$D$5)+CHOOSE(RANDBETWEEN(1,LOG10(C64)),RANDBETWEEN(1,9)/10^RANDBETWEEN(1,LOG10(C64)),RANDBETWEEN(1,99)/10^RANDBETWEEN(2,LOG10(C64)),RANDBETWEEN(0,999)/10^RANDBETWEEN(3,LOG10(C64)),RANDBETWEEN(0,9999)/C64)","v":1.07},"m",null,null,null,null,null,null,null,null,null,null,null,null,null,null,null,null,null,null,null,null,null,null,"Morgan "]
[{"$f":"IF(COUNTIF($B$1:B65,TRUE)=COUNTIF($B$1:B64,TRUE),\"\",COUNTIF($B$1:B65,TRUE))","v":""},{"$f":"Worksheet!$D$12","v":false},1000,{"$f":"1000*L65","v":1000.9999999999999},"m","=",1,"km",0.99999999999988987,"m","=",{"$f":"RANDBETWEEN(1,Worksheet!$D$5)+CHOOSE(RANDBETWEEN(1,LOG10(C65)),RANDBETWEEN(1,9)/10^RANDBETWEEN(1,LOG10(C65)),RANDBETWEEN(1,99)/10^RANDBETWEEN(2,LOG10(C65)),RANDBETWEEN(0,999)/10^RANDBETWEEN(3,LOG10(C65)),RANDBETWEEN(0,9999)/C65)","v":1.0009999999999999},"km",null,null,null,null,null,null,null,null,null,null,null,null,null,null,null,null,null,null,null,null,null,null,"Elliot "]
[{"$f":"IF(COUNTIF($B$1:B66,TRUE)=COUNTIF($B$1:B65,TRUE),\"\",COUNTIF($B$1:B66,TRUE))","v":33},{"$f":"Worksheet!$B$12","v":true},100,{"$f":"100*L66","v":351},"cm","=",{"$f":"INT(L66)","v":3},"m",50.999999999999979,"cm","=",{"$f":"RANDBETWEEN(1,Worksheet!$D$5)+CHOOSE(RANDBETWEEN(1,LOG10(C66)),RANDBETWEEN(1,9)/10^RANDBETWEEN(1,LOG10(C66)),RANDBETWEEN(1,99)/10^RANDBETWEEN(2,LOG10(C66)),RANDBETWEEN(0,999)/10^RANDBETWEEN(3,LOG10(C66)),RANDBETWEEN(0,9999)/C66)","v":3.51},"m",null,null,null,null,null,null,null,null,null,null,null,null,null,null,null,null,null,null,null,null,null,null,"Patrick "]
[{"$f":"IF(COUNTIF($B$1:B67,TRUE)=COUNTIF($B$1:B66,TRUE),\"\",COUNTIF($B$1:B67,TRUE))","v":""},{"$f":"Worksheet!$D$12","v":false},1000,{"$f":"1000*L67","v":5440},"m","=",5,"km",440.0000000000004,"m","=",{"$f":"RANDBETWEEN(1,Worksheet!$D$5)+CHOOSE(RANDBETWEEN(1,LOG10(C67)),RANDBETWEEN(1,9)/10^RANDBETWEEN(1,LOG10(C67)),RANDBETWEEN(1,99)/10^RANDBETWEEN(2,LOG10(C67)),RANDBETWEEN(0,999)/10^RANDBETWEEN(3,LOG10(C67)),RANDBETWEEN(0,9999)/C67)","v":5.44},"km",null,null,null,null,null,null,null,null,null,null,null,null,null,null,null,null,null,null,null,null,null,null,"Peter "]
[{"$f":"IF(COUNTIF($B$1:B68,TRUE)=COUNTIF($B$1:B67,TRUE),\"\",COUNTIF($B$1:B68,TRUE))","v":34},{"$f":"Worksheet!$B$12","v":true},100,{"$f":"100*L68","v":200.99999999999997},"cm","=",{"$f":"INT(L68)","v":2},"m",0.99999999999997868,"cm","=",{"$f":"RANDBETWEEN(1,Worksheet!$D$5)+CHOOSE(RANDBETWEEN(1,LOG10(C68)),RANDBETWEEN(1,9)/10^RANDBETWEEN(1,LOG10(C68)),RANDBETWEEN(1,99)/10^RANDBETWEEN(2,LOG10(C68)),RANDBETWEEN(0,999)/10^RANDBETWEEN(3,LOG10(C68)),RANDBETWEEN(0,9999)/C68)","v":2.0099999999999998},"m",null,null,null,null,null,null,null,null,null,null,null,null,null,null,null,null,null,null,null,null,null,null,"Billy "]
[{"$f":"IF(COUNTIF($B$1:B69,TRUE)=COUNTIF($B$1:B68,TRUE),\"\",COUNTIF($B$1:B69,TRUE))","v":""},{"$f":"Worksheet!$D$12","v":false},1000,{"$f":"1000*L69","v":3093},"m","=",3,"km",92.999999999999972,"m","=",{"$f":"RANDBETWEEN(1,Worksheet!$D$5)+CHOOSE(RANDBETWEEN(1,LOG10(C69)),RANDBETWEEN(1,9)/10^RANDBETWEEN(1,LOG10(C69)),RANDBETWEEN(1,99)/10^RANDBETWEEN(2,LOG10(C69)),RANDBETWEEN(0,999)/10^RANDBETWEEN(3,LOG10(C69)),RANDBETWEEN(0,9999)/C69)","v":3.093},"km",null,null,null,null,null,null,null,null,null,null,null,null,null,null,null,null,null,null,null,null,null,null,"Mark "]
[{"$f":"IF(COUNTIF($B$1:B70,TRUE)=COUNTIF($B$1:B69,TRUE),\"\",COUNTIF($B$1:B70,TRUE))","v":35},{"$f":"Worksheet!$B$12","v":true},100,{"$f":"100*L70","v":360},"cm","=",{"$f":"INT(L70)","v":3},"m",60.000000000000007,"cm","=",{"$f":"RANDBETWEEN(1,Worksheet!$D$5)+CHOOSE(RANDBETWEEN(1,LOG10(C70)),RANDBETWEEN(1,9)/10^RANDBETWEEN(1,LOG10(C70)),RANDBETWEEN(1,99)/10^RANDBETWEEN(2,LOG10(C70)),RANDBETWEEN(0,999)/10^RANDBETWEEN(3,LOG10(C70)),RANDBETWEEN(0,9999)/C70)","v":3.6},"m",null,null,null,null,null,null,null,null,null,null,null,null,null,null,null,null,null,null,null,null,null,null,"Stephen "]
[{"$f":"IF(COUNTIF($B$1:B71,TRUE)=COUNTIF($B$1:B70,TRUE),\"\",COUNTIF($B$1:B71,TRUE))","v":""},{"$f":"Worksheet!$D$12","v":false},1000,{"$f":"1000*L71","v":2063},"m","=",2,"km",63.000000000000171,"m","=",{"$f":"RANDBETWEEN(1,Worksheet!$D$5)+CHOOSE(RANDBETWEEN(1,LOG10(C71)),RANDBETWEEN(1,9)/10^RANDBETWEEN(1,LOG10(C71)),RANDBETWEEN(1,99)/10^RANDBETWEEN(2,LOG10(C71)),RANDBETWEEN(0,999)/10^RANDBETWEEN(3,LOG10(C71)),RANDBETWEEN(0,9999)/C71)","v":2.0630000000000002},"km",null,null,null,null,null,null,null,null,null,null,null,null,null,null,null,null,null,null,null,null,null,null,"Alfie "]
[{"$f":"IF(COUNTIF($B$1:B72,TRUE)=COUNTIF($B$1:B71,TRUE),\"\",COUNTIF($B$1:B72,TRUE))","v":36},{"$f":"Worksheet!$B$12","v":true},100,{"$f":"100*L72","v":260},"cm","=",{"$f":"INT(L72)","v":2},"m",60.000000000000007,"cm","=",{"$f":"RANDBETWEEN(1,Worksheet!$D$5)+CHOOSE(RANDBETWEEN(1,LOG10(C72)),RANDBETWEEN(1,9)/10^RANDBETWEEN(1,LOG10(C72)),RANDBETWEEN(1,99)/10^RANDBETWEEN(2,LOG10(C72)),RANDBETWEEN(0,999)/10^RANDBETWEEN(3,LOG10(C72)),RANDBETWEEN(0,9999)/C72)","v":2.6},"m",null,null,null,null,null,null,null,null,null,null,null,null,null,null,null,null,null,null,null,null,null,null,"Harrison "]
[{"$f":"IF(COUNTIF($B$1:B73,TRUE)=COUNTIF($B$1:B72,TRUE),\"\",COUNTIF($B$1:B73,TRUE))","v":""},{"$f":"Worksheet!$D$12","v":false},1000,{"$f":"1000*L73","v":3080},"m","=",3,"km",80.000000000000071,"m","=",{"$f":"RANDBETWEEN(1,Worksheet!$D$5)+CHOOSE(RANDBETWEEN(1,LOG10(C73)),RANDBETWEEN(1,9)/10^RANDBETWEEN(1,LOG10(C73)),RANDBETWEEN(1,99)/10^RANDBETWEEN(2,LOG10(C73)),RANDBETWEEN(0,999)/10^RANDBETWEEN(3,LOG10(C73)),RANDBETWEEN(0,9999)/C73)","v":3.08},"km",null,null,null,null,null,null,null,null,null,null,null,null,null,null,null,null,null,null,null,null,null,null,"Lee "]
[{"$f":"IF(COUNTIF($B$1:B74,TRUE)=COUNTIF($B$1:B73,TRUE),\"\",COUNTIF($B$1:B74,TRUE))","v":37},{"$f":"Worksheet!$B$12","v":true},100,{"$f":"100*L74","v":537},"cm","=",{"$f":"INT(L74)","v":5},"m",{"$f":"IF((L74-INT(L74))*C74=0,0,(L74-INT(L74))*C74)","v":37.000000000000014},"cm","=",{"$f":"RANDBETWEEN(1,Worksheet!$D$5)+CHOOSE(RANDBETWEEN(1,LOG10(C74)),RANDBETWEEN(1,9)/10^RANDBETWEEN(1,LOG10(C74)),RANDBETWEEN(1,99)/10^RANDBETWEEN(2,LOG10(C74)),RANDBETWEEN(0,999)/10^RANDBETWEEN(3,LOG10(C74)),RANDBETWEEN(0,9999)/C74)","v":5.37},"m",null,null,null,null,null,null,null,null,null,null,null,null,null,null,null,null,null,null,null,null,null,null,"Anthony "]
[{"$f":"IF(COUNTIF($B$1:B75,TRUE)=COUNTIF($B$1:B74,TRUE),\"\",COUNTIF($B$1:B75,TRUE))","v":""},{"$f":"Worksheet!$D$12","v":false},1000,{"$f":"1000*L75","v":2820},"m","=",2,"km",819.99999999999989,"m","=",{"$f":"RANDBETWEEN(1,Worksheet!$D$5)+CHOOSE(RANDBETWEEN(1,LOG10(C75)),RANDBETWEEN(1,9)/10^RANDBETWEEN(1,LOG10(C75)),RANDBETWEEN(1,99)/10^RANDBETWEEN(2,LOG10(C75)),RANDBETWEEN(0,999)/10^RANDBETWEEN(3,LOG10(C75)),RANDBETWEEN(0,9999)/C75)","v":2.82},"km",null,null,null,null,null,null,null,null,null,null,null,null,null,null,null,null,null,null,null,null,null,null,"Mitchell "]
[{"$f":"IF(COUNTIF($B$1:B76,TRUE)=COUNTIF($B$1:B75,TRUE),\"\",COUNTIF($B$1:B76,TRUE))","v":38},{"$f":"Worksheet!$B$12","v":true},100,{"$f":"100*L76","v":101},"cm","=",{"$f":"INT(L76)","v":1},"m",1.0000000000000009,"cm","=",{"$f":"RANDBETWEEN(1,Worksheet!$D$5)+CHOOSE(RANDBETWEEN(1,LOG10(C76)),RANDBETWEEN(1,9)/10^RANDBETWEEN(1,LOG10(C76)),RANDBETWEEN(1,99)/10^RANDBETWEEN(2,LOG10(C76)),RANDBETWEEN(0,999)/10^RANDBETWEEN(3,LOG10(C76)),RANDBETWEEN(0,9999)/C76)","v":1.01},"m",null,null,null,null,null,null,null,null,null,null,null,null,null,null,null,null,null,null,null,null,null,null,"Joel "]
[{"$f":"IF(COUNTIF($B$1:B77,TRUE)=COUNTIF($B$1:B76,TRUE),\"\",COUNTIF($B$1:B77,TRUE))","v":""},{"$f":"Worksheet!$D$12","v":false},1000,{"$f":"1000*L77","v":1451},"m","=",1,"km",451.00000000000006,"m","=",{"$f":"RANDBETWEEN(1,Worksheet!$D$5)+CHOOSE(RANDBETWEEN(1,LOG10(C77)),RANDBETWEEN(1,9)/10^RANDBETWEEN(1,LOG10(C77)),RANDBETWEEN(1,99)/10^RANDBETWEEN(2,LOG10(C77)),RANDBETWEEN(0,999)/10^RANDBETWEEN(3,LOG10(C77)),RANDBETWEEN(0,9999)/C77)","v":1.4510000000000001},"km",null,null,null,null,null,null,null,null,null,null,null,null,null,null,null,null,null,null,null,null,null,null,"Toby "]
[{"$f":"IF(COUNTIF($B$1:B78,TRUE)=COUNTIF($B$1:B77,TRUE),\"\",COUNTIF($B$1:B78,TRUE))","v":39},{"$f":"Worksheet!$B$12","v":true},100,{"$f":"100*L78","v":321},"cm","=",{"$f":"INT(L78)","v":3},"m",20.999999999999996,"cm","=",{"$f":"RANDBETWEEN(1,Worksheet!$D$5)+CHOOSE(RANDBETWEEN(1,LOG10(C78)),RANDBETWEEN(1,9)/10^RANDBETWEEN(1,LOG10(C78)),RANDBETWEEN(1,99)/10^RANDBETWEEN(2,LOG10(C78)),RANDBETWEEN(0,999)/10^RANDBETWEEN(3,LOG10(C78)),RANDBETWEEN(0,9999)/C78)","v":3.21},"m",null,null,null,null,null,null,null,null,null,null,null,null,null,null,null,null,null,null,null,null,null,null,"Paul "]
[{"$f":"IF(COUNTIF($B$1:B79,TRUE)=COUNTIF($B$1:B78,TRUE),\"\",COUNTIF($B$1:B79,TRUE))","v":""},{"$f":"Worksheet!$D$12","v":false},1000,{"$f":"1000*L79","v":1084},"m","=",1,"km",84.000000000000071,"m","=",{"$f":"RANDBETWEEN(1,Worksheet!$D$5)+CHOOSE(RANDBETWEEN(1,LOG10(C79)),RANDBETWEEN(1,9)/10^RANDBETWEEN(1,LOG10(C79)),RANDBETWEEN(1,99)/10^RANDBETWEEN(2,LOG10(C79)),RANDBETWEEN(0,999)/10^RANDBETWEEN(3,LOG10(C79)),RANDBETWEEN(0,9999)/C79)","v":1.0840000000000001},"km",null,null,null,null,null,null,null,null,null,null,null,null,null,null,null,null,null,null,null,null,null,null,"Jay "]
[{"$f":"IF(COUNTIF($B$1:B80,TRUE)=COUNTIF($B$1:B79,TRUE),\"\",COUNTIF($B$1:B80,TRUE))","v":40},{"$f":"Worksheet!$B$12","v":true},100,{"$f":"100*L80","v":537},"cm","=",{"$f":"INT(L80)","v":5},"m",37.000000000000014,"cm","=",{"$f":"RANDBETWEEN(1,Worksheet!$D$5)+CHOOSE(RANDBETWEEN(1,LOG10(C80)),RANDBETWEEN(1,9)/10^RANDBETWEEN(1,LOG10(C80)),RANDBETWEEN(1,99)/10^RANDBETWEEN(2,LOG10(C80)),RANDBETWEEN(0,999)/10^RANDBETWEEN(3,LOG10(C80)),RANDBETWEEN(0,9999)/C80)","v":5.37},"m",null,null,null,null,null,null,null,null,null,null,null,null,null,null,null,null,null,null,null,null,null,null,"Jason "]
[{"$f":"IF(COUNTIF($B$1:B81,TRUE)=COUNTIF($B$1:B80,TRUE),\"\",COUNTIF($B$1:B81,TRUE))","v":""},{"$f":"Worksheet!$D$12","v":false},1000,{"$f":"1000*L81","v":1002.9999999999999},"m","=",1,"km",2.9999999999998916,"m","=",{"$f":"RANDBETWEEN(1,Worksheet!$D$5)+CHOOSE(RANDBETWEEN(1,LOG10(C81)),RANDBETWEEN(1,9)/10^RANDBETWEEN(1,LOG10(C81)),RANDBETWEEN(1,99)/10^RANDBETWEEN(2,LOG10(C81)),RANDBETWEEN(0,999)/10^RANDBETWEEN(3,LOG10(C81)),RANDBETWEEN(0,9999)/C81)","v":1.0029999999999999},"km",null,null,null,null,null,null,null,null,null,null,null,null,null,null,null,null,null,null,null,null,null,null,"Aidan "]
[{"$f":"IF(COUNTIF($B$1:B82,TRUE)=COUNTIF($B$1:B81,TRUE),\"\",COUNTIF($B$1:B82,TRUE))","v":41},{"$f":"Worksheet!$B$12","v":true},100,{"$f":"100*L82","v":470},"cm","=",{"$f":"INT(L82)","v":4},"m",70.000000000000014,"cm","=",{"$f":"RANDBETWEEN(1,Worksheet!$D$5)+CHOOSE(RANDBETWEEN(1,LOG10(C82)),RANDBETWEEN(1,9)/10^RANDBETWEEN(1,LOG10(C82)),RANDBETWEEN(1,99)/10^RANDBETWEEN(2,LOG10(C82)),RANDBETWEEN(0,999)/10^RANDBETWEEN(3,LOG10(C82)),RANDBETWEEN(0,9999)/C82)","v":4.7},"m",null,null,null,null,null,null,null,null,null,null,null,null,null,null,null,null,null,null,null,null,null,null,"Richard "]
[{"$f":"IF(COUNTIF($B$1:B83,TRUE)=COUNTIF($B$1:B82,TRUE),\"\",COUNTIF($B$1:B83,TRUE))","v":""},{"$f":"Worksheet!$D$12","v":false},1000,{"$f":"1000*L83","v":3025},"m","=",3,"km",24.999999999999911,"m","=",{"$f":"RANDBETWEEN(1,Worksheet!$D$5)+CHOOSE(RANDBETWEEN(1,LOG10(C83)),RANDBETWEEN(1,9)/10^RANDBETWEEN(1,LOG10(C83)),RANDBETWEEN(1,99)/10^RANDBETWEEN(2,LOG10(C83)),RANDBETWEEN(0,999)/10^RANDBETWEEN(3,LOG10(C83)),RANDBETWEEN(0,9999)/C83)","v":3.0249999999999999},"km",null,null,null,null,null,null,null,null,null,null,null,null,null,null,null,null,null,null,null,null,null,null,"Mohammad "]
[{"$f":"IF(COUNTIF($B$1:B84,TRUE)=COUNTIF($B$1:B83,TRUE),\"\",COUNTIF($B$1:B84,TRUE))","v":42},{"$f":"Worksheet!$B$12","v":true},100,{"$f":"100*L84","v":503},"cm","=",{"$f":"INT(L84)","v":5},"m",3.0000000000000249,"cm","=",{"$f":"RANDBETWEEN(1,Worksheet!$D$5)+CHOOSE(RANDBETWEEN(1,LOG10(C84)),RANDBETWEEN(1,9)/10^RANDBETWEEN(1,LOG10(C84)),RANDBETWEEN(1,99)/10^RANDBETWEEN(2,LOG10(C84)),RANDBETWEEN(0,999)/10^RANDBETWEEN(3,LOG10(C84)),RANDBETWEEN(0,9999)/C84)","v":5.03},"m",null,null,null,null,null,null,null,null,null,null,null,null,null,null,null,null,null,null,null,null,null,null,"Isaac "]
[{"$f":"IF(COUNTIF($B$1:B85,TRUE)=COUNTIF($B$1:B84,TRUE),\"\",COUNTIF($B$1:B85,TRUE))","v":""},{"$f":"Worksheet!$D$12","v":false},1000,{"$f":"1000*L85","v":4380},"m","=",4,"km",379.99999999999989,"m","=",{"$f":"RANDBETWEEN(1,Worksheet!$D$5)+CHOOSE(RANDBETWEEN(1,LOG10(C85)),RANDBETWEEN(1,9)/10^RANDBETWEEN(1,LOG10(C85)),RANDBETWEEN(1,99)/10^RANDBETWEEN(2,LOG10(C85)),RANDBETWEEN(0,999)/10^RANDBETWEEN(3,LOG10(C85)),RANDBETWEEN(0,9999)/C85)","v":4.38},"km",null,null,null,null,null,null,null,null,null,null,null,null,null,null,null,null,null,null,null,null,null,null,"Declan "]
[{"$f":"IF(COUNTIF($B$1:B86,TRUE)=COUNTIF($B$1:B85,TRUE),\"\",COUNTIF($B$1:B86,TRUE))","v":43},{"$f":"Worksheet!$B$12","v":true},100,{"$f":"100*L86","v":468.99999999999994},"cm","=",{"$f":"INT(L86)","v":4},"m",{"$f":"IF((L86-INT(L86))*C86=0,0,(L86-INT(L86))*C86)","v":68.999999999999943},"cm","=",{"$f":"RANDBETWEEN(1,Worksheet!$D$5)+CHOOSE(RANDBETWEEN(1,LOG10(C86)),RANDBETWEEN(1,9)/10^RANDBETWEEN(1,LOG10(C86)),RANDBETWEEN(1,99)/10^RANDBETWEEN(2,LOG10(C86)),RANDBETWEEN(0,999)/10^RANDBETWEEN(3,LOG10(C86)),RANDBETWEEN(0,9999)/C86)","v":4.6899999999999995},"m",null,null,null,null,null,null,null,null,null,null,null,null,null,null,null,null,null,null,null,null,null,null,"Josh "]
[{"$f":"IF(COUNTIF($B$1:B87,TRUE)=COUNTIF($B$1:B86,TRUE),\"\",COUNTIF($B$1:B87,TRUE))","v":""},{"$f":"Worksheet!$D$12","v":false},1000,{"$f":"1000*L87","v":3070},"m","=",3,"km",69.999999999999844,"m","=",{"$f":"RANDBETWEEN(1,Worksheet!$D$5)+CHOOSE(RANDBETWEEN(1,LOG10(C87)),RANDBETWEEN(1,9)/10^RANDBETWEEN(1,LOG10(C87)),RANDBETWEEN(1,99)/10^RANDBETWEEN(2,LOG10(C87)),RANDBETWEEN(0,999)/10^RANDBETWEEN(3,LOG10(C87)),RANDBETWEEN(0,9999)/C87)","v":3.07},"km",null,null,null,null,null,null,null,null,null,null,null,null,null,null,null,null,null,null,null,null,null,null,"Steven "]
[{"$f":"IF(COUNTIF($B$1:B88,TRUE)=COUNTIF($B$1:B87,TRUE),\"\",COUNTIF($B$1:B88,TRUE))","v":44},{"$f":"Worksheet!$B$12","v":true},100,{"$f":"100*L88","v":408},"cm","=",{"$f":"INT(L88)","v":4},"m",8.0000000000000071,"cm","=",{"$f":"RANDBETWEEN(1,Worksheet!$D$5)+CHOOSE(RANDBETWEEN(1,LOG10(C88)),RANDBETWEEN(1,9)/10^RANDBETWEEN(1,LOG10(C88)),RANDBETWEEN(1,99)/10^RANDBETWEEN(2,LOG10(C88)),RANDBETWEEN(0,999)/10^RANDBETWEEN(3,LOG10(C88)),RANDBETWEEN(0,9999)/C88)","v":4.08},"m",null,null,null,null,null,null,null,null,null,null,null,null,null,null,null,null,null,null,null,null,null,null,"Marcus "]
[{"$f":"IF(COUNTIF($B$1:B89,TRUE)=COUNTIF($B$1:B88,TRUE),\"\",COUNTIF($B$1:B89,TRUE))","v":""},{"$f":"Worksheet!$D$12","v":false},1000,{"$f":"1000*L89","v":1039},"m","=",1,"km",38.999999999999922,"m","=",{"$f":"RANDBETWEEN(1,Worksheet!$D$5)+CHOOSE(RANDBETWEEN(1,LOG10(C89)),RANDBETWEEN(1,9)/10^RANDBETWEEN(1,LOG10(C89)),RANDBETWEEN(1,99)/10^RANDBETWEEN(2,LOG10(C89)),RANDBETWEEN(0,999)/10^RANDBETWEEN(3,LOG10(C89)),RANDBETWEEN(0,9999)/C89)","v":1.0389999999999999},"km",null,null,null,null,null,null,null,null,null,null,null,null,null,null,null,null,null,null,null,null,null,null,"Muhammad "]
[{"$f":"IF(COUNTIF($B$1:B90,TRUE)=COUNTIF($B$1:B89,TRUE),\"\",COUNTIF($B$1:B90,TRUE))","v":45},{"$f":"Worksheet!$B$12","v":true},100,{"$f":"100*L90","v":370},"cm","=",{"$f":"INT(L90)","v":3},"m",70.000000000000014,"cm","=",{"$f":"RANDBETWEEN(1,Worksheet!$D$5)+CHOOSE(RANDBETWEEN(1,LOG10(C90)),RANDBETWEEN(1,9)/10^RANDBETWEEN(1,LOG10(C90)),RANDBETWEEN(1,99)/10^RANDBETWEEN(2,LOG10(C90)),RANDBETWEEN(0,999)/10^RANDBETWEEN(3,LOG10(C90)),RANDBETWEEN(0,9999)/C90)","v":3.7},"m",null,null,null,null,null,null,null,null,null,null,null,null,null,null,null,null,null,null,null,null,null,null,"Elliott "]
[{"$f":"IF(COUNTIF($B$1:B91,TRUE)=COUNTIF($B$1:B90,TRUE),\"\",COUNTIF($B$1:B91,TRUE))","v":""},{"$f":"Worksheet!$D$12","v":false},1000,{"$f":"1000*L91","v":4400},"m","=",4,"km",400.00000000000034,"m","=",{"$f":"RANDBETWEEN(1,Worksheet!$D$5)+CHOOSE(RANDBETWEEN(1,LOG10(C91)),RANDBETWEEN(1,9)/10^RANDBETWEEN(1,LOG10(C91)),RANDBETWEEN(1,99)/10^RANDBETWEEN(2,LOG10(C91)),RANDBETWEEN(0,999)/10^RANDBETWEEN(3,LOG10(C91)),RANDBETWEEN(0,9999)/C91)","v":4.4000000000000004},"km",null,null,null,null,null,null,null,null,null,null,null,null,null,null,null,null,null,null,null,null,null,null,"Harvey "]
[{"$f":"IF(COUNTIF($B$1:B92,TRUE)=COUNTIF($B$1:B91,TRUE),\"\",COUNTIF($B$1:B92,TRUE))","v":46},{"$f":"Worksheet!$B$12","v":true},100,{"$f":"100*L92","v":504},"cm","=",{"$f":"INT(L92)","v":5},"m",4.0000000000000036,"cm","=",{"$f":"RANDBETWEEN(1,Worksheet!$D$5)+CHOOSE(RANDBETWEEN(1,LOG10(C92)),RANDBETWEEN(1,9)/10^RANDBETWEEN(1,LOG10(C92)),RANDBETWEEN(1,99)/10^RANDBETWEEN(2,LOG10(C92)),RANDBETWEEN(0,999)/10^RANDBETWEEN(3,LOG10(C92)),RANDBETWEEN(0,9999)/C92)","v":5.04},"m",null,null,null,null,null,null,null,null,null,null,null,null,null,null,null,null,null,null,null,null,null,null,"Tom "]
[{"$f":"IF(COUNTIF($B$1:B93,TRUE)=COUNTIF($B$1:B92,TRUE),\"\",COUNTIF($B$1:B93,TRUE))","v":""},{"$f":"Worksheet!$D$12","v":false},1000,{"$f":"1000*L93","v":2100},"m","=",2,"km",100.00000000000009,"m","=",{"$f":"RANDBETWEEN(1,Worksheet!$D$5)+CHOOSE(RANDBETWEEN(1,LOG10(C93)),RANDBETWEEN(1,9)/10^RANDBETWEEN(1,LOG10(C93)),RANDBETWEEN(1,99)/10^RANDBETWEEN(2,LOG10(C93)),RANDBETWEEN(0,999)/10^RANDBETWEEN(3,LOG10(C93)),RANDBETWEEN(0,9999)/C93)","v":2.1},"km",null,null,null,null,null,null,null,null,null,null,null,null,null,null,null,null,null,null,null,null,null,null,"Christian "]
[{"$f":"IF(COUNTIF($B$1:B94,TRUE)=COUNTIF($B$1:B93,TRUE),\"\",COUNTIF($B$1:B94,TRUE))","v":47},{"$f":"Worksheet!$B$12","v":true},100,{"$f":"100*L94","v":107},"cm","=",{"$f":"INT(L94)","v":1},"m",7.0000000000000062,"cm","=",{"$f":"RANDBETWEEN(1,Worksheet!$D$5)+CHOOSE(RANDBETWEEN(1,LOG10(C94)),RANDBETWEEN(1,9)/10^RANDBETWEEN(1,LOG10(C94)),RANDBETWEEN(1,99)/10^RANDBETWEEN(2,LOG10(C94)),RANDBETWEEN(0,999)/10^RANDBETWEEN(3,LOG10(C94)),RANDBETWEEN(0,9999)/C94)","v":1.07},"m",null,null,null,null,null,null,null,null,null,null,null,null,null,null,null,null,null,null,null,null,null,null,"Kane "]
[{"$f":"IF(COUNTIF($B$1:B95,TRUE)=COUNTIF($B$1:B94,TRUE),\"\",COUNTIF($B$1:B95,TRUE))","v":""},{"$f":"Worksheet!$D$12","v":false},1000,{"$f":"1000*L95","v":5800},"m","=",5,"km",799.99999999999977,"m","=",{"$f":"RANDBETWEEN(1,Worksheet!$D$5)+CHOOSE(RANDBETWEEN(1,LOG10(C95)),RANDBETWEEN(1,9)/10^RANDBETWEEN(1,LOG10(C95)),RANDBETWEEN(1,99)/10^RANDBETWEEN(2,LOG10(C95)),RANDBETWEEN(0,999)/10^RANDBETWEEN(3,LOG10(C95)),RANDBETWEEN(0,9999)/C95)","v":5.8},"km",null,null,null,null,null,null,null,null,null,null,null,null,null,null,null,null,null,null,null,null,null,null,"Shane "]
[{"$f":"IF(COUNTIF($B$1:B96,TRUE)=COUNTIF($B$1:B95,TRUE),\"\",COUNTIF($B$1:B96,TRUE))","v":48},{"$f":"Worksheet!$B$12","v":true},100,{"$f":"100*L96","v":504},"cm","=",{"$f":"INT(L96)","v":5},"m",4.0000000000000036,"cm","=",{"$f":"RANDBETWEEN(1,Worksheet!$D$5)+CHOOSE(RANDBETWEEN(1,LOG10(C96)),RANDBETWEEN(1,9)/10^RANDBETWEEN(1,LOG10(C96)),RANDBETWEEN(1,99)/10^RANDBETWEEN(2,LOG10(C96)),RANDBETWEEN(0,999)/10^RANDBETWEEN(3,LOG10(C96)),RANDBETWEEN(0,9999)/C96)","v":5.04},"m",null,null,null,null,null,null,null,null,null,null,null,null,null,null,null,null,null,null,null,null,null,null,"Leon "]
[{"$f":"IF(COUNTIF($B$1:B97,TRUE)=COUNTIF($B$1:B96,TRUE),\"\",COUNTIF($B$1:B97,TRUE))","v":""},{"$f":"Worksheet!$D$12","v":false},1000,{"$f":"1000*L97","v":2040},"m","=",2,"km",40.000000000000036,"m","=",{"$f":"RANDBETWEEN(1,Worksheet!$D$5)+CHOOSE(RANDBETWEEN(1,LOG10(C97)),RANDBETWEEN(1,9)/10^RANDBETWEEN(1,LOG10(C97)),RANDBETWEEN(1,99)/10^RANDBETWEEN(2,LOG10(C97)),RANDBETWEEN(0,999)/10^RANDBETWEEN(3,LOG10(C97)),RANDBETWEEN(0,9999)/C97)","v":2.04},"km",null,null,null,null,null,null,null,null,null,null,null,null,null,null,null,null,null,null,null,null,null,null,"Shaun "]
[{"$f":"IF(COUNTIF($B$1:B98,TRUE)=COUNTIF($B$1:B97,TRUE),\"\",COUNTIF($B$1:B98,TRUE))","v":49},{"$f":"Worksheet!$B$12","v":true},100,{"$f":"100*L98","v":524},"cm","=",{"$f":"INT(L98)","v":5},"m",24.000000000000021,"cm","=",{"$f":"RANDBETWEEN(1,Worksheet!$D$5)+CHOOSE(RANDBETWEEN(1,LOG10(C98)),RANDBETWEEN(1,9)/10^RANDBETWEEN(1,LOG10(C98)),RANDBETWEEN(1,99)/10^RANDBETWEEN(2,LOG10(C98)),RANDBETWEEN(0,999)/10^RANDBETWEEN(3,LOG10(C98)),RANDBETWEEN(0,9999)/C98)","v":5.24},"m",null,null,null,null,null,null,null,null,null,null,null,null,null,null,null,null,null,null,null,null,null,null,"Corey "]
[{"$f":"IF(COUNTIF($B$1:B99,TRUE)=COUNTIF($B$1:B98,TRUE),\"\",COUNTIF($B$1:B99,TRUE))","v":""},{"$f":"Worksheet!$D$12","v":false},1000,{"$f":"1000*L99","v":5026},"m","=",5,"km",25.999999999999801,"m","=",{"$f":"RANDBETWEEN(1,Worksheet!$D$5)+CHOOSE(RANDBETWEEN(1,LOG10(C99)),RANDBETWEEN(1,9)/10^RANDBETWEEN(1,LOG10(C99)),RANDBETWEEN(1,99)/10^RANDBETWEEN(2,LOG10(C99)),RANDBETWEEN(0,999)/10^RANDBETWEEN(3,LOG10(C99)),RANDBETWEEN(0,9999)/C99)","v":5.0259999999999998},"km",null,null,null,null,null,null,null,null,null,null,null,null,null,null,null,null,null,null,null,null,null,null,"Ellis "]
[{"$f":"IF(COUNTIF($B$1:B100,TRUE)=COUNTIF($B$1:B99,TRUE),\"\",COUNTIF($B$1:B100,TRUE))","v":50},{"$f":"Worksheet!$B$12","v":true},100,{"$f":"100*L100","v":209},"cm","=",{"$f":"INT(L100)","v":2},"m",{"$f":"IF((L100-INT(L100))*C100=0,0,(L100-INT(L100))*C100)","v":8.9999999999999858},"cm","=",{"$f":"RANDBETWEEN(1,Worksheet!$D$5)+CHOOSE(RANDBETWEEN(1,LOG10(C100)),RANDBETWEEN(1,9)/10^RANDBETWEEN(1,LOG10(C100)),RANDBETWEEN(1,99)/10^RANDBETWEEN(2,LOG10(C100)),RANDBETWEEN(0,999)/10^RANDBETWEEN(3,LOG10(C100)),RANDBETWEEN(0,9999)/C100)","v":2.09},"m",null,null,null,null,null,null,null,null,null,null,null,null,null,null,null,null,null,null,null,null,null,null,"Kai "]
[{"$f":"IF(COUNTIF($B$1:B101,TRUE)=COUNTIF($B$1:B100,TRUE),\"\",COUNTIF($B$1:B101,TRUE))","v":""},{"$f":"Worksheet!$D$12","v":false},1000,{"$f":"1000*L101","v":4761},"m","=",4,"km",761.00000000000011,"m","=",{"$f":"RANDBETWEEN(1,Worksheet!$D$5)+CHOOSE(RANDBETWEEN(1,LOG10(C101)),RANDBETWEEN(1,9)/10^RANDBETWEEN(1,LOG10(C101)),RANDBETWEEN(1,99)/10^RANDBETWEEN(2,LOG10(C101)),RANDBETWEEN(0,999)/10^RANDBETWEEN(3,LOG10(C101)),RANDBETWEEN(0,9999)/C101)","v":4.7610000000000001},"km",null,null,null,null,null,null,null,null,null,null,null,null,null,null,null,null,null,null,null,null,null,null,"Natalie "]
[{"$f":"IF(COUNTIF($B$1:B102,TRUE)=COUNTIF($B$1:B101,TRUE),\"\",COUNTIF($B$1:B102,TRUE))","v":51},{"$f":"Worksheet!$B$12","v":true},100,{"$f":"100*L102","v":530},"cm","=",{"$f":"INT(L102)","v":5},"m",29.999999999999982,"cm","=",{"$f":"RANDBETWEEN(1,Worksheet!$D$5)+CHOOSE(RANDBETWEEN(1,LOG10(C102)),RANDBETWEEN(1,9)/10^RANDBETWEEN(1,LOG10(C102)),RANDBETWEEN(1,99)/10^RANDBETWEEN(2,LOG10(C102)),RANDBETWEEN(0,999)/10^RANDBETWEEN(3,LOG10(C102)),RANDBETWEEN(0,9999)/C102)","v":5.3},"m",null,null,null,null,null,null,null,null,null,null,null,null,null,null,null,null,null,null,null,null,null,null,"Abbie "]
[{"$f":"IF(COUNTIF($B$1:B103,TRUE)=COUNTIF($B$1:B102,TRUE),\"\",COUNTIF($B$1:B103,TRUE))","v":""},{"$f":"Worksheet!$D$12","v":false},1000,{"$f":"1000*L103","v":2020},"m","=",2,"km",20.000000000000018,"m","=",{"$f":"RANDBETWEEN(1,Worksheet!$D$5)+CHOOSE(RANDBETWEEN(1,LOG10(C103)),RANDBETWEEN(1,9)/10^RANDBETWEEN(1,LOG10(C103)),RANDBETWEEN(1,99)/10^RANDBETWEEN(2,LOG10(C103)),RANDBETWEEN(0,999)/10^RANDBETWEEN(3,LOG10(C103)),RANDBETWEEN(0,9999)/C103)","v":2.02},"km",null,null,null,null,null,null,null,null,null,null,null,null,null,null,null,null,null,null,null,null,null,null,"Francesca "]
[{"$f":"IF(COUNTIF($B$1:B104,TRUE)=COUNTIF($B$1:B103,TRUE),\"\",COUNTIF($B$1:B104,TRUE))","v":52},{"$f":"Worksheet!$B$12","v":true},100,{"$f":"100*L104","v":204.99999999999997},"cm","=",{"$f":"INT(L104)","v":2},"m",4.9999999999999822,"cm","=",{"$f":"RANDBETWEEN(1,Worksheet!$D$5)+CHOOSE(RANDBETWEEN(1,LOG10(C104)),RANDBETWEEN(1,9)/10^RANDBETWEEN(1,LOG10(C104)),RANDBETWEEN(1,99)/10^RANDBETWEEN(2,LOG10(C104)),RANDBETWEEN(0,999)/10^RANDBETWEEN(3,LOG10(C104)),RANDBETWEEN(0,9999)/C104)","v":2.0499999999999998},"m",null,null,null,null,null,null,null,null,null,null,null,null,null,null,null,null,null,null,null,null,null,null,"Melissa "]
[{"$f":"IF(COUNTIF($B$1:B105,TRUE)=COUNTIF($B$1:B104,TRUE),\"\",COUNTIF($B$1:B105,TRUE))","v":""},{"$f":"Worksheet!$D$12","v":false},1000,{"$f":"1000*L105","v":1690},"m","=",1,"km",690,"m","=",{"$f":"RANDBETWEEN(1,Worksheet!$D$5)+CHOOSE(RANDBETWEEN(1,LOG10(C105)),RANDBETWEEN(1,9)/10^RANDBETWEEN(1,LOG10(C105)),RANDBETWEEN(1,99)/10^RANDBETWEEN(2,LOG10(C105)),RANDBETWEEN(0,999)/10^RANDBETWEEN(3,LOG10(C105)),RANDBETWEEN(0,9999)/C105)","v":1.69},"km",null,null,null,null,null,null,null,null,null,null,null,null,null,null,null,null,null,null,null,null,null,null,"Katherine "]
[{"$f":"IF(COUNTIF($B$1:B106,TRUE)=COUNTIF($B$1:B105,TRUE),\"\",COUNTIF($B$1:B106,TRUE))","v":53},{"$f":"Worksheet!$B$12","v":true},100,{"$f":"100*L106","v":270},"cm","=",{"$f":"INT(L106)","v":2},"m",70.000000000000014,"cm","=",{"$f":"RANDBETWEEN(1,Worksheet!$D$5)+CHOOSE(RANDBETWEEN(1,LOG10(C106)),RANDBETWEEN(1,9)/10^RANDBETWEEN(1,LOG10(C106)),RANDBETWEEN(1,99)/10^RANDBETWEEN(2,LOG10(C106)),RANDBETWEEN(0,999)/10^RANDBETWEEN(3,LOG10(C106)),RANDBETWEEN(0,9999)/C106)","v":2.7},"m",null,null,null,null,null,null,null,null,null,null,null,null,null,null,null,null,null,null,null,null,null,null,"Harriet "]
[{"$f":"IF(COUNTIF($B$1:B107,TRUE)=COUNTIF($B$1:B106,TRUE),\"\",COUNTIF($B$1:B107,TRUE))","v":""},{"$f":"Worksheet!$D$12","v":false},1000,{"$f":"1000*L107","v":5310},"m","=",5,"km",309.9999999999996,"m","=",{"$f":"RANDBETWEEN(1,Worksheet!$D$5)+CHOOSE(RANDBETWEEN(1,LOG10(C107)),RANDBETWEEN(1,9)/10^RANDBETWEEN(1,LOG10(C107)),RANDBETWEEN(1,99)/10^RANDBETWEEN(2,LOG10(C107)),RANDBETWEEN(0,999)/10^RANDBETWEEN(3,LOG10(C107)),RANDBETWEEN(0,9999)/C107)","v":5.31},"km",null,null,null,null,null,null,null,null,null,null,null,null,null,null,null,null,null,null,null,null,null,null,"Imogen "]
[{"$f":"IF(COUNTIF($B$1:B108,TRUE)=COUNTIF($B$1:B107,TRUE),\"\",COUNTIF($B$1:B108,TRUE))","v":54},{"$f":"Worksheet!$B$12","v":true},100,{"$f":"100*L108","v":191},"cm","=",{"$f":"INT(L108)","v":1},"m",91.000000000000014,"cm","=",{"$f":"RANDBETWEEN(1,Worksheet!$D$5)+CHOOSE(RANDBETWEEN(1,LOG10(C108)),RANDBETWEEN(1,9)/10^RANDBETWEEN(1,LOG10(C108)),RANDBETWEEN(1,99)/10^RANDBETWEEN(2,LOG10(C108)),RANDBETWEEN(0,999)/10^RANDBETWEEN(3,LOG10(C108)),RANDBETWEEN(0,9999)/C108)","v":1.9100000000000001},"m",null,null,null,null,null,null,null,null,null,null,null,null,null,null,null,null,null,null,null,null,null,null,"Jodie "]
[{"$f":"IF(COUNTIF($B$1:B109,TRUE)=COUNTIF($B$1:B108,TRUE),\"\",COUNTIF($B$1:B109,TRUE))","v":""},{"$f":"Worksheet!$D$12","v":false},1000,{"$f":"1000*L109","v":4189},"m","=",4,"km",189.00000000000006,"m","=",{"$f":"RANDBETWEEN(1,Worksheet!$D$5)+CHOOSE(RANDBETWEEN(1,LOG10(C109)),RANDBETWEEN(1,9)/10^RANDBETWEEN(1,LOG10(C109)),RANDBETWEEN(1,99)/10^RANDBETWEEN(2,LOG10(C109)),RANDBETWEEN(0,999)/10^RANDBETWEEN(3,LOG10(C109)),RANDBETWEEN(0,9999)/C109)","v":4.1890000000000001},"km",null,null,null,null,null,null,null,null,null,null,null,null,null,null,null,null,null,null,null,null,null,null,"Gemma "]
[{"$f":"IF(COUNTIF($B$1:B110,TRUE)=COUNTIF($B$1:B109,TRUE),\"\",COUNTIF($B$1:B110,TRUE))","v":55},{"$f":"Worksheet!$B$12","v":true},100,{"$f":"100*L110","v":426.99999999999994},"cm","=",{"$f":"INT(L110)","v":4},"m",26.999999999999957,"cm","=",{"$f":"RANDBETWEEN(1,Worksheet!$D$5)+CHOOSE(RANDBETWEEN(1,LOG10(C110)),RANDBETWEEN(1,9)/10^RANDBETWEEN(1,LOG10(C110)),RANDBETWEEN(1,99)/10^RANDBETWEEN(2,LOG10(C110)),RANDBETWEEN(0,999)/10^RANDBETWEEN(3,LOG10(C110)),RANDBETWEEN(0,9999)/C110)","v":4.2699999999999996},"m",null,null,null,null,null,null,null,null,null,null,null,null,null,null,null,null,null,null,null,null,null,null,"Kayleigh "]
[{"$f":"IF(COUNTIF($B$1:B111,TRUE)=COUNTIF($B$1:B110,TRUE),\"\",COUNTIF($B$1:B111,TRUE))","v":""},{"$f":"Worksheet!$D$12","v":false},1000,{"$f":"1000*L111","v":3200},"m","=",3,"km",200.00000000000017,"m","=",{"$f":"RANDBETWEEN(1,Worksheet!$D$5)+CHOOSE(RANDBETWEEN(1,LOG10(C111)),RANDBETWEEN(1,9)/10^RANDBETWEEN(1,LOG10(C111)),RANDBETWEEN(1,99)/10^RANDBETWEEN(2,LOG10(C111)),RANDBETWEEN(0,999)/10^RANDBETWEEN(3,LOG10(C111)),RANDBETWEEN(0,9999)/C111)","v":3.2},"km",null,null,null,null,null,null,null,null,null,null,null,null,null,null,null,null,null,null,null,null,null,null,"Lily "]
[{"$f":"IF(COUNTIF($B$1:B112,TRUE)=COUNTIF($B$1:B111,TRUE),\"\",COUNTIF($B$1:B112,TRUE))","v":56},{"$f":"Worksheet!$B$12","v":true},100,{"$f":"100*L112","v":577},"cm","=",{"$f":"INT(L112)","v":5},"m",{"$f":"IF((L112-INT(L112))*C112=0,0,(L112-INT(L112))*C112)","v":76.999999999999957},"cm","=",{"$f":"RANDBETWEEN(1,Worksheet!$D$5)+CHOOSE(RANDBETWEEN(1,LOG10(C112)),RANDBETWEEN(1,9)/10^RANDBETWEEN(1,LOG10(C112)),RANDBETWEEN(1,99)/10^RANDBETWEEN(2,LOG10(C112)),RANDBETWEEN(0,999)/10^RANDBETWEEN(3,LOG10(C112)),RANDBETWEEN(0,9999)/C112)","v":5.77},"m",null,null,null,null,null,null,null,null,null,null,null,null,null,null,null,null,null,null,null,null,null,null,"Jennifer "]
[{"$f":"IF(COUNTIF($B$1:B113,TRUE)=COUNTIF($B$1:B112,TRUE),\"\",COUNTIF($B$1:B113,TRUE))","v":""},{"$f":"Worksheet!$D$12","v":false},1000,{"$f":"1000*L113","v":2200},"m","=",2,"km",200.00000000000017,"m","=",{"$f":"RANDBETWEEN(1,Worksheet!$D$5)+CHOOSE(RANDBETWEEN(1,LOG10(C113)),RANDBETWEEN(1,9)/10^RANDBETWEEN(1,LOG10(C113)),RANDBETWEEN(1,99)/10^RANDBETWEEN(2,LOG10(C113)),RANDBETWEEN(0,999)/10^RANDBETWEEN(3,LOG10(C113)),RANDBETWEEN(0,9999)/C113)","v":2.2000000000000002},"km",null,null,null,null,null,null,null,null,null,null,null,null,null,null,null,null,null,null,null,null,null,null,"Kate "]
[{"$f":"IF(COUNTIF($B$1:B114,TRUE)=COUNTIF($B$1:B113,TRUE),\"\",COUNTIF($B$1:B114,TRUE))","v":57},{"$f":"Worksheet!$B$12","v":true},100,{"$f":"100*L114","v":330},"cm","=",{"$f":"INT(L114)","v":3},"m",29.999999999999982,"cm","=",{"$f":"RANDBETWEEN(1,Worksheet!$D$5)+CHOOSE(RANDBETWEEN(1,LOG10(C114)),RANDBETWEEN(1,9)/10^RANDBETWEEN(1,LOG10(C114)),RANDBETWEEN(1,99)/10^RANDBETWEEN(2,LOG10(C114)),RANDBETWEEN(0,999)/10^RANDBETWEEN(3,LOG10(C114)),RANDBETWEEN(0,9999)/C114)","v":3.3},"m",null,null,null,null,null,null,null,null,null,null,null,null,null,null,null,null,null,null,null,null,null,null,"Stephanie "]
[{"$f":"IF(COUNTIF($B$1:B115,TRUE)=COUNTIF($B$1:B114,TRUE),\"\",COUNTIF($B$1:B115,TRUE))","v":""},{"$f":"Worksheet!$D$12","v":false},1000,{"$f":"1000*L115","v":1056},"m","=",1,"km",56.00000000000005,"m","=",{"$f":"RANDBETWEEN(1,Worksheet!$D$5)+CHOOSE(RANDBETWEEN(1,LOG10(C115)),RANDBETWEEN(1,9)/10^RANDBETWEEN(1,LOG10(C115)),RANDBETWEEN(1,99)/10^RANDBETWEEN(2,LOG10(C115)),RANDBETWEEN(0,999)/10^RANDBETWEEN(3,LOG10(C115)),RANDBETWEEN(0,9999)/C115)","v":1.056},"km",null,null,null,null,null,null,null,null,null,null,null,null,null,null,null,null,null,null,null,null,null,null,"Daisy "]
[{"$f":"IF(COUNTIF($B$1:B116,TRUE)=COUNTIF($B$1:B115,TRUE),\"\",COUNTIF($B$1:B116,TRUE))","v":58},{"$f":"Worksheet!$B$12","v":true},100,{"$f":"100*L116","v":340},"cm","=",{"$f":"INT(L116)","v":3},"m",39.999999999999993,"cm","=",{"$f":"RANDBETWEEN(1,Worksheet!$D$5)+CHOOSE(RANDBETWEEN(1,LOG10(C116)),RANDBETWEEN(1,9)/10^RANDBETWEEN(1,LOG10(C116)),RANDBETWEEN(1,99)/10^RANDBETWEEN(2,LOG10(C116)),RANDBETWEEN(0,999)/10^RANDBETWEEN(3,LOG10(C116)),RANDBETWEEN(0,9999)/C116)","v":3.4},"m",null,null,null,null,null,null,null,null,null,null,null,null,null,null,null,null,null,null,null,null,null,null,"Niamh "]
[{"$f":"IF(COUNTIF($B$1:B117,TRUE)=COUNTIF($B$1:B116,TRUE),\"\",COUNTIF($B$1:B117,TRUE))","v":""},{"$f":"Worksheet!$D$12","v":false},1000,{"$f":"1000*L117","v":3700},"m","=",3,"km",700.00000000000023,"m","=",{"$f":"RANDBETWEEN(1,Worksheet!$D$5)+CHOOSE(RANDBETWEEN(1,LOG10(C117)),RANDBETWEEN(1,9)/10^RANDBETWEEN(1,LOG10(C117)),RANDBETWEEN(1,99)/10^RANDBETWEEN(2,LOG10(C117)),RANDBETWEEN(0,999)/10^RANDBETWEEN(3,LOG10(C117)),RANDBETWEEN(0,9999)/C117)","v":3.7},"km",null,null,null,null,null,null,null,null,null,null,null,null,null,null,null,null,null,null,null,null,null,null,"Millie "]
[{"$f":"IF(COUNTIF($B$1:B118,TRUE)=COUNTIF($B$1:B117,TRUE),\"\",COUNTIF($B$1:B118,TRUE))","v":59},{"$f":"Worksheet!$B$12","v":true},100,{"$f":"100*L118","v":303},"cm","=",{"$f":"INT(L118)","v":3},"m",2.9999999999999805,"cm","=",{"$f":"RANDBETWEEN(1,Worksheet!$D$5)+CHOOSE(RANDBETWEEN(1,LOG10(C118)),RANDBETWEEN(1,9)/10^RANDBETWEEN(1,LOG10(C118)),RANDBETWEEN(1,99)/10^RANDBETWEEN(2,LOG10(C118)),RANDBETWEEN(0,999)/10^RANDBETWEEN(3,LOG10(C118)),RANDBETWEEN(0,9999)/C118)","v":3.03},"m",null,null,null,null,null,null,null,null,null,null,null,null,null,null,null,null,null,null,null,null,null,null,"Aimee "]
[{"$f":"IF(COUNTIF($B$1:B119,TRUE)=COUNTIF($B$1:B118,TRUE),\"\",COUNTIF($B$1:B119,TRUE))","v":""},{"$f":"Worksheet!$D$12","v":false},1000,{"$f":"1000*L119","v":4527},"m","=",4,"km",527.00000000000011,"m","=",{"$f":"RANDBETWEEN(1,Worksheet!$D$5)+CHOOSE(RANDBETWEEN(1,LOG10(C119)),RANDBETWEEN(1,9)/10^RANDBETWEEN(1,LOG10(C119)),RANDBETWEEN(1,99)/10^RANDBETWEEN(2,LOG10(C119)),RANDBETWEEN(0,999)/10^RANDBETWEEN(3,LOG10(C119)),RANDBETWEEN(0,9999)/C119)","v":4.5270000000000001},"km",null,null,null,null,null,null,null,null,null,null,null,null,null,null,null,null,null,null,null,null,null,null,"Kirsty "]
[{"$f":"IF(COUNTIF($B$1:B120,TRUE)=COUNTIF($B$1:B119,TRUE),\"\",COUNTIF($B$1:B120,TRUE))","v":60},{"$f":"Worksheet!$B$12","v":true},100,{"$f":"100*L120","v":350},"cm","=",{"$f":"INT(L120)","v":3},"m",50,"cm","=",{"$f":"RANDBETWEEN(1,Worksheet!$D$5)+CHOOSE(RANDBETWEEN(1,LOG10(C120)),RANDBETWEEN(1,9)/10^RANDBETWEEN(1,LOG10(C120)),RANDBETWEEN(1,99)/10^RANDBETWEEN(2,LOG10(C120)),RANDBETWEEN(0,999)/10^RANDBETWEEN(3,LOG10(C120)),RANDBETWEEN(0,9999)/C120)","v":3.5},"m",null,null,null,null,null,null,null,null,null,null,null,null,null,null,null,null,null,null,null,null,null,null,"Hollie "]
[{"$f":"IF(COUNTIF($B$1:B121,TRUE)=COUNTIF($B$1:B120,TRUE),\"\",COUNTIF($B$1:B121,TRUE))","v":""},{"$f":"Worksheet!$D$12","v":false},1000,{"$f":"1000*L121","v":4088},"m","=",4,"km",88.000000000000085,"m","=",{"$f":"RANDBETWEEN(1,Worksheet!$D$5)+CHOOSE(RANDBETWEEN(1,LOG10(C121)),RANDBETWEEN(1,9)/10^RANDBETWEEN(1,LOG10(C121)),RANDBETWEEN(1,99)/10^RANDBETWEEN(2,LOG10(C121)),RANDBETWEEN(0,999)/10^RANDBETWEEN(3,LOG10(C121)),RANDBETWEEN(0,9999)/C121)","v":4.0880000000000001},"km",null,null,null,null,null,null,null,null,null,null,null,null,null,null,null,null,null,null,null,null,null,null,"Rosie "]
[{"$f":"IF(COUNTIF($B$1:B122,TRUE)=COUNTIF($B$1:B121,TRUE),\"\",COUNTIF($B$1:B122,TRUE))","v":61},{"$f":"Worksheet!$B$12","v":true},100,{"$f":"100*L122","v":270},"cm","=",{"$f":"INT(L122)","v":2},"m",70.000000000000014,"cm","=",{"$f":"RANDBETWEEN(1,Worksheet!$D$5)+CHOOSE(RANDBETWEEN(1,LOG10(C122)),RANDBETWEEN(1,9)/10^RANDBETWEEN(1,LOG10(C122)),RANDBETWEEN(1,99)/10^RANDBETWEEN(2,LOG10(C122)),RANDBETWEEN(0,999)/10^RANDBETWEEN(3,LOG10(C122)),RANDBETWEEN(0,9999)/C122)","v":2.7},"m",null,null,null,null,null,null,null,null,null,null,null,null,null,null,null,null,null,null,null,null,null,null,"Jordan "]
[{"$f":"IF(COUNTIF($B$1:B123,TRUE)=COUNTIF($B$1:B122,TRUE),\"\",COUNTIF($B$1:B123,TRUE))","v":""},{"$f":"Worksheet!$D$12","v":false},1000,{"$f":"1000*L123","v":2500},"m","=",2,"km",500,"m","=",{"$f":"RANDBETWEEN(1,Worksheet!$D$5)+CHOOSE(RANDBETWEEN(1,LOG10(C123)),RANDBETWEEN(1,9)/10^RANDBETWEEN(1,LOG10(C123)),RANDBETWEEN(1,99)/10^RANDBETWEEN(2,LOG10(C123)),RANDBETWEEN(0,999)/10^RANDBETWEEN(3,LOG10(C123)),RANDBETWEEN(0,9999)/C123)","v":2.5},"km",null,null,null,null,null,null,null,null,null,null,null,null,null,null,null,null,null,null,null,null,null,null,"Mollie "]
[{"$f":"IF(COUNTIF($B$1:B124,TRUE)=COUNTIF($B$1:B123,TRUE),\"\",COUNTIF($B$1:B124,TRUE))","v":62},{"$f":"Worksheet!$B$12","v":true},100,{"$f":"100*L124","v":279},"cm","=",{"$f":"INT(L124)","v":2},"m",79,"cm","=",{"$f":"RANDBETWEEN(1,Worksheet!$D$5)+CHOOSE(RANDBETWEEN(1,LOG10(C124)),RANDBETWEEN(1,9)/10^RANDBETWEEN(1,LOG10(C124)),RANDBETWEEN(1,99)/10^RANDBETWEEN(2,LOG10(C124)),RANDBETWEEN(0,999)/10^RANDBETWEEN(3,LOG10(C124)),RANDBETWEEN(0,9999)/C124)","v":2.79},"m",null,null,null,null,null,null,null,null,null,null,null,null,null,null,null,null,null,null,null,null,null,null,"Alisha "]
[{"$f":"IF(COUNTIF($B$1:B125,TRUE)=COUNTIF($B$1:B124,TRUE),\"\",COUNTIF($B$1:B125,TRUE))","v":""},{"$f":"Worksheet!$D$12","v":false},1000,{"$f":"1000*L125","v":2041},"m","=",2,"km",{"$f":"IF((L125-INT(L125))*C125=0,0,(L125-INT(L125))*C125)","v":40.999999999999929},"m","=",{"$f":"RANDBETWEEN(1,Worksheet!$D$5)+CHOOSE(RANDBETWEEN(1,LOG10(C125)),RANDBETWEEN(1,9)/10^RANDBETWEEN(1,LOG10(C125)),RANDBETWEEN(1,99)/10^RANDBETWEEN(2,LOG10(C125)),RANDBETWEEN(0,999)/10^RANDBETWEEN(3,LOG10(C125)),RANDBETWEEN(0,9999)/C125)","v":2.0409999999999999},"km",null,null,null,null,null,null,null,null,null,null,null,null,null,null,null,null,null,null,null,null,null,null,"Mia "]
[{"$f":"IF(COUNTIF($B$1:B126,TRUE)=COUNTIF($B$1:B125,TRUE),\"\",COUNTIF($B$1:B126,TRUE))","v":63},{"$f":"Worksheet!$B$12","v":true},100,{"$f":"100*L126","v":397},"cm","=",{"$f":"INT(L126)","v":3},"m",96.999999999999972,"cm","=",{"$f":"RANDBETWEEN(1,Worksheet!$D$5)+CHOOSE(RANDBETWEEN(1,LOG10(C126)),RANDBETWEEN(1,9)/10^RANDBETWEEN(1,LOG10(C126)),RANDBETWEEN(1,99)/10^RANDBETWEEN(2,LOG10(C126)),RANDBETWEEN(0,999)/10^RANDBETWEEN(3,LOG10(C126)),RANDBETWEEN(0,9999)/C126)","v":3.9699999999999998},"m",null,null,null,null,null,null,null,null,null,null,null,null,null,null,null,null,null,null,null,null,null,null,"Isobel "]
[{"$f":"IF(COUNTIF($B$1:B127,TRUE)=COUNTIF($B$1:B126,TRUE),\"\",COUNTIF($B$1:B127,TRUE))","v":""},{"$f":"Worksheet!$D$12","v":false},1000,{"$f":"1000*L127","v":3008},"m","=",3,"km",8.0000000000000071,"m","=",{"$f":"RANDBETWEEN(1,Worksheet!$D$5)+CHOOSE(RANDBETWEEN(1,LOG10(C127)),RANDBETWEEN(1,9)/10^RANDBETWEEN(1,LOG10(C127)),RANDBETWEEN(1,99)/10^RANDBETWEEN(2,LOG10(C127)),RANDBETWEEN(0,999)/10^RANDBETWEEN(3,LOG10(C127)),RANDBETWEEN(0,9999)/C127)","v":3.008},"km",null,null,null,null,null,null,null,null,null,null,null,null,null,null,null,null,null,null,null,null,null,null,"Tia "]
[{"$f":"IF(COUNTIF($B$1:B128,TRUE)=COUNTIF($B$1:B127,TRUE),\"\",COUNTIF($B$1:B128,TRUE))","v":64},{"$f":"Worksheet!$B$12","v":true},100,{"$f":"100*L128","v":277},"cm","=",{"$f":"INT(L128)","v":2},"m",77,"cm","=",{"$f":"RANDBETWEEN(1,Worksheet!$D$5)+CHOOSE(RANDBETWEEN(1,LOG10(C128)),RANDBETWEEN(1,9)/10^RANDBETWEEN(1,LOG10(C128)),RANDBETWEEN(1,99)/10^RANDBETWEEN(2,LOG10(C128)),RANDBETWEEN(0,999)/10^RANDBETWEEN(3,LOG10(C128)),RANDBETWEEN(0,9999)/C128)","v":2.77},"m",null,null,null,null,null,null,null,null,null,null,null,null,null,null,null,null,null,null,null,null,null,null,"Ellen "]
[{"$f":"IF(COUNTIF($B$1:B129,TRUE)=COUNTIF($B$1:B128,TRUE),\"\",COUNTIF($B$1:B129,TRUE))","v":""},{"$f":"Worksheet!$D$12","v":false},1000,{"$f":"1000*L129","v":2300},"m","=",2,"km",299.99999999999983,"m","=",{"$f":"RANDBETWEEN(1,Worksheet!$D$5)+CHOOSE(RANDBETWEEN(1,LOG10(C129)),RANDBETWEEN(1,9)/10^RANDBETWEEN(1,LOG10(C129)),RANDBETWEEN(1,99)/10^RANDBETWEEN(2,LOG10(C129)),RANDBETWEEN(0,999)/10^RANDBETWEEN(3,LOG10(C129)),RANDBETWEEN(0,9999)/C129)","v":2.2999999999999998},"km",null,null,null,null,null,null,null,null,null,null,null,null,null,null,null,null,null,null,null,null,null,null,"Erin "]
[{"$f":"IF(COUNTIF($B$1:B130,TRUE)=COUNTIF($B$1:B129,TRUE),\"\",COUNTIF($B$1:B130,TRUE))","v":65},{"$f":"Worksheet!$B$12","v":true},100,{"$f":"100*L130","v":409.99999999999994},"cm","=",{"$f":"INT(L130)","v":4},"m",9.9999999999999645,"cm","=",{"$f":"RANDBETWEEN(1,Worksheet!$D$5)+CHOOSE(RANDBETWEEN(1,LOG10(C130)),RANDBETWEEN(1,9)/10^RANDBETWEEN(1,LOG10(C130)),RANDBETWEEN(1,99)/10^RANDBETWEEN(2,LOG10(C130)),RANDBETWEEN(0,999)/10^RANDBETWEEN(3,LOG10(C130)),RANDBETWEEN(0,9999)/C130)","v":4.0999999999999996},"m",null,null,null,null,null,null,null,null,null,null,null,null,null,null,null,null,null,null,null,null,null,null,"Bethan "]
[{"$f":"IF(COUNTIF($B$1:B131,TRUE)=COUNTIF($B$1:B130,TRUE),\"\",COUNTIF($B$1:B131,TRUE))","v":""},{"$f":"Worksheet!$D$12","v":false},1000,{"$f":"1000*L131","v":1517},"m","=",1,"km",516.99999999999989,"m","=",{"$f":"RANDBETWEEN(1,Worksheet!$D$5)+CHOOSE(RANDBETWEEN(1,LOG10(C131)),RANDBETWEEN(1,9)/10^RANDBETWEEN(1,LOG10(C131)),RANDBETWEEN(1,99)/10^RANDBETWEEN(2,LOG10(C131)),RANDBETWEEN(0,999)/10^RANDBETWEEN(3,LOG10(C131)),RANDBETWEEN(0,9999)/C131)","v":1.5169999999999999},"km",null,null,null,null,null,null,null,null,null,null,null,null,null,null,null,null,null,null,null,null,null,null,"Sian "]
[{"$f":"IF(COUNTIF($B$1:B132,TRUE)=COUNTIF($B$1:B131,TRUE),\"\",COUNTIF($B$1:B132,TRUE))","v":66},{"$f":"Worksheet!$B$12","v":true},100,{"$f":"100*L132","v":570},"cm","=",{"$f":"INT(L132)","v":5},"m",70.000000000000014,"cm","=",{"$f":"RANDBETWEEN(1,Worksheet!$D$5)+CHOOSE(RANDBETWEEN(1,LOG10(C132)),RANDBETWEEN(1,9)/10^RANDBETWEEN(1,LOG10(C132)),RANDBETWEEN(1,99)/10^RANDBETWEEN(2,LOG10(C132)),RANDBETWEEN(0,999)/10^RANDBETWEEN(3,LOG10(C132)),RANDBETWEEN(0,9999)/C132)","v":5.7},"m",null,null,null,null,null,null,null,null,null,null,null,null,null,null,null,null,null,null,null,null,null,null,"Alicia "]
[{"$f":"IF(COUNTIF($B$1:B133,TRUE)=COUNTIF($B$1:B132,TRUE),\"\",COUNTIF($B$1:B133,TRUE))","v":""},{"$f":"Worksheet!$D$12","v":false},1000,{"$f":"1000*L133","v":4400},"m","=",4,"km",400.00000000000034,"m","=",{"$f":"RANDBETWEEN(1,Worksheet!$D$5)+CHOOSE(RANDBETWEEN(1,LOG10(C133)),RANDBETWEEN(1,9)/10^RANDBETWEEN(1,LOG10(C133)),RANDBETWEEN(1,99)/10^RANDBETWEEN(2,LOG10(C133)),RANDBETWEEN(0,999)/10^RANDBETWEEN(3,LOG10(C133)),RANDBETWEEN(0,9999)/C133)","v":4.4000000000000004},"km",null,null,null,null,null,null,null,null,null,null,null,null,null,null,null,null,null,null,null,null,null,null,"Rhiannon "]
[{"$f":"IF(COUNTIF($B$1:B134,TRUE)=COUNTIF($B$1:B133,TRUE),\"\",COUNTIF($B$1:B134,TRUE))","v":67},{"$f":"Worksheet!$B$12","v":true},100,{"$f":"100*L134","v":511.00000000000006},"cm","=",{"$f":"INT(L134)","v":5},"m",11.000000000000032,"cm","=",{"$f":"RANDBETWEEN(1,Worksheet!$D$5)+CHOOSE(RANDBETWEEN(1,LOG10(C134)),RANDBETWEEN(1,9)/10^RANDBETWEEN(1,LOG10(C134)),RANDBETWEEN(1,99)/10^RANDBETWEEN(2,LOG10(C134)),RANDBETWEEN(0,999)/10^RANDBETWEEN(3,LOG10(C134)),RANDBETWEEN(0,9999)/C134)","v":5.1100000000000003},"m",null,null,null,null,null,null,null,null,null,null,null,null,null,null,null,null,null,null,null,null,null,null,"Ashleigh "]
[{"$f":"IF(COUNTIF($B$1:B135,TRUE)=COUNTIF($B$1:B134,TRUE),\"\",COUNTIF($B$1:B135,TRUE))","v":""},{"$f":"Worksheet!$D$12","v":false},1000,{"$f":"1000*L135","v":3500},"m","=",3,"km",500,"m","=",{"$f":"RANDBETWEEN(1,Worksheet!$D$5)+CHOOSE(RANDBETWEEN(1,LOG10(C135)),RANDBETWEEN(1,9)/10^RANDBETWEEN(1,LOG10(C135)),RANDBETWEEN(1,99)/10^RANDBETWEEN(2,LOG10(C135)),RANDBETWEEN(0,999)/10^RANDBETWEEN(3,LOG10(C135)),RANDBETWEEN(0,9999)/C135)","v":3.5},"km",null,null,null,null,null,null,null,null,null,null,null,null,null,null,null,null,null,null,null,null,null,null,"Catherine "]
[{"$f":"IF(COUNTIF($B$1:B136,TRUE)=COUNTIF($B$1:B135,TRUE),\"\",COUNTIF($B$1:B136,TRUE))","v":68},{"$f":"Worksheet!$B$12","v":true},100,{"$f":"100*L136","v":459.99999999999994},"cm","=",{"$f":"INT(L136)","v":4},"m",59.999999999999964,"cm","=",{"$f":"RANDBETWEEN(1,Worksheet!$D$5)+CHOOSE(RANDBETWEEN(1,LOG10(C136)),RANDBETWEEN(1,9)/10^RANDBETWEEN(1,LOG10(C136)),RANDBETWEEN(1,99)/10^RANDBETWEEN(2,LOG10(C136)),RANDBETWEEN(0,999)/10^RANDBETWEEN(3,LOG10(C136)),RANDBETWEEN(0,9999)/C136)","v":4.5999999999999996},"m",null,null,null,null,null,null,null,null,null,null,null,null,null,null,null,null,null,null,null,null,null,null,"Madeleine "]
[{"$f":"IF(COUNTIF($B$1:B137,TRUE)=COUNTIF($B$1:B136,TRUE),\"\",COUNTIF($B$1:B137,TRUE))","v":""},{"$f":"Worksheet!$D$12","v":false},1000,{"$f":"1000*L137","v":1200},"m","=",1,"km",199.99999999999994,"m","=",{"$f":"RANDBETWEEN(1,Worksheet!$D$5)+CHOOSE(RANDBETWEEN(1,LOG10(C137)),RANDBETWEEN(1,9)/10^RANDBETWEEN(1,LOG10(C137)),RANDBETWEEN(1,99)/10^RANDBETWEEN(2,LOG10(C137)),RANDBETWEEN(0,999)/10^RANDBETWEEN(3,LOG10(C137)),RANDBETWEEN(0,9999)/C137)","v":1.2},"km",null,null,null,null,null,null,null,null,null,null,null,null,null,null,null,null,null,null,null,null,null,null,"Isabelle "]
[{"$f":"IF(COUNTIF($B$1:B138,TRUE)=COUNTIF($B$1:B137,TRUE),\"\",COUNTIF($B$1:B138,TRUE))","v":69},{"$f":"Worksheet!$B$12","v":true},100,{"$f":"100*L138","v":419.00000000000006},"cm","=",{"$f":"INT(L138)","v":4},"m",{"$f":"IF((L138-INT(L138))*C138=0,0,(L138-INT(L138))*C138)","v":19.000000000000039},"cm","=",{"$f":"RANDBETWEEN(1,Worksheet!$D$5)+CHOOSE(RANDBETWEEN(1,LOG10(C138)),RANDBETWEEN(1,9)/10^RANDBETWEEN(1,LOG10(C138)),RANDBETWEEN(1,99)/10^RANDBETWEEN(2,LOG10(C138)),RANDBETWEEN(0,999)/10^RANDBETWEEN(3,LOG10(C138)),RANDBETWEEN(0,9999)/C138)","v":4.1900000000000004},"m",null,null,null,null,null,null,null,null,null,null,null,null,null,null,null,null,null,null,null,null,null,null,"Kelsey "]
[{"$f":"IF(COUNTIF($B$1:B139,TRUE)=COUNTIF($B$1:B138,TRUE),\"\",COUNTIF($B$1:B139,TRUE))","v":""},{"$f":"Worksheet!$D$12","v":false},1000,{"$f":"1000*L139","v":3900},"m","=",3,"km",899.99999999999989,"m","=",{"$f":"RANDBETWEEN(1,Worksheet!$D$5)+CHOOSE(RANDBETWEEN(1,LOG10(C139)),RANDBETWEEN(1,9)/10^RANDBETWEEN(1,LOG10(C139)),RANDBETWEEN(1,99)/10^RANDBETWEEN(2,LOG10(C139)),RANDBETWEEN(0,999)/10^RANDBETWEEN(3,LOG10(C139)),RANDBETWEEN(0,9999)/C139)","v":3.9},"km",null,null,null,null,null,null,null,null,null,null,null,null,null,null,null,null,null,null,null,null,null,null,"Sophia "]
[{"$f":"IF(COUNTIF($B$1:B140,TRUE)=COUNTIF($B$1:B139,TRUE),\"\",COUNTIF($B$1:B140,TRUE))","v":70},{"$f":"Worksheet!$B$12","v":true},100,{"$f":"100*L140","v":246},"cm","=",{"$f":"INT(L140)","v":2},"m",46,"cm","=",{"$f":"RANDBETWEEN(1,Worksheet!$D$5)+CHOOSE(RANDBETWEEN(1,LOG10(C140)),RANDBETWEEN(1,9)/10^RANDBETWEEN(1,LOG10(C140)),RANDBETWEEN(1,99)/10^RANDBETWEEN(2,LOG10(C140)),RANDBETWEEN(0,999)/10^RANDBETWEEN(3,LOG10(C140)),RANDBETWEEN(0,9999)/C140)","v":2.46},"m",null,null,null,null,null,null,null,null,null,null,null,null,null,null,null,null,null,null,null,null,null,null,"Isabella "]
[{"$f":"IF(COUNTIF($B$1:B141,TRUE)=COUNTIF($B$1:B140,TRUE),\"\",COUNTIF($B$1:B141,TRUE))","v":""},{"$f":"Worksheet!$D$12","v":false},1000,{"$f":"1000*L141","v":2097},"m","=",2,"km",96.999999999999972,"m","=",{"$f":"RANDBETWEEN(1,Worksheet!$D$5)+CHOOSE(RANDBETWEEN(1,LOG10(C141)),RANDBETWEEN(1,9)/10^RANDBETWEEN(1,LOG10(C141)),RANDBETWEEN(1,99)/10^RANDBETWEEN(2,LOG10(C141)),RANDBETWEEN(0,999)/10^RANDBETWEEN(3,LOG10(C141)),RANDBETWEEN(0,9999)/C141)","v":2.097},"km",null,null,null,null,null,null,null,null,null,null,null,null,null,null,null,null,null,null,null,null,null,null,"Naomi "]
[{"$f":"IF(COUNTIF($B$1:B142,TRUE)=COUNTIF($B$1:B141,TRUE),\"\",COUNTIF($B$1:B142,TRUE))","v":71},{"$f":"Worksheet!$B$12","v":true},100,{"$f":"100*L142","v":507},"cm","=",{"$f":"INT(L142)","v":5},"m",7.0000000000000284,"cm","=",{"$f":"RANDBETWEEN(1,Worksheet!$D$5)+CHOOSE(RANDBETWEEN(1,LOG10(C142)),RANDBETWEEN(1,9)/10^RANDBETWEEN(1,LOG10(C142)),RANDBETWEEN(1,99)/10^RANDBETWEEN(2,LOG10(C142)),RANDBETWEEN(0,999)/10^RANDBETWEEN(3,LOG10(C142)),RANDBETWEEN(0,9999)/C142)","v":5.07},"m",null,null,null,null,null,null,null,null,null,null,null,null,null,null,null,null,null,null,null,null,null,null,"Yasmin "]
[{"$f":"IF(COUNTIF($B$1:B143,TRUE)=COUNTIF($B$1:B142,TRUE),\"\",COUNTIF($B$1:B143,TRUE))","v":""},{"$f":"Worksheet!$D$12","v":false},1000,{"$f":"1000*L143","v":1944.9999999999998},"m","=",1,"km",944.99999999999989,"m","=",{"$f":"RANDBETWEEN(1,Worksheet!$D$5)+CHOOSE(RANDBETWEEN(1,LOG10(C143)),RANDBETWEEN(1,9)/10^RANDBETWEEN(1,LOG10(C143)),RANDBETWEEN(1,99)/10^RANDBETWEEN(2,LOG10(C143)),RANDBETWEEN(0,999)/10^RANDBETWEEN(3,LOG10(C143)),RANDBETWEEN(0,9999)/C143)","v":1.9449999999999998},"km",null,null,null,null,null,null,null,null,null,null,null,null,null,null,null,null,null,null,null,null,null,null,"Freya "]
[{"$f":"IF(COUNTIF($B$1:B144,TRUE)=COUNTIF($B$1:B143,TRUE),\"\",COUNTIF($B$1:B144,TRUE))","v":72},{"$f":"Worksheet!$B$12","v":true},100,{"$f":"100*L144","v":486.00000000000006},"cm","=",{"$f":"INT(L144)","v":4},"m",86.000000000000028,"cm","=",{"$f":"RANDBETWEEN(1,Worksheet!$D$5)+CHOOSE(RANDBETWEEN(1,LOG10(C144)),RANDBETWEEN(1,9)/10^RANDBETWEEN(1,LOG10(C144)),RANDBETWEEN(1,99)/10^RANDBETWEEN(2,LOG10(C144)),RANDBETWEEN(0,999)/10^RANDBETWEEN(3,LOG10(C144)),RANDBETWEEN(0,9999)/C144)","v":4.8600000000000003},"m",null,null,null,null,null,null,null,null,null,null,null,null,null,null,null,null,null,null,null,null,null,null,"Morgan "]
[{"$f":"IF(COUNTIF($B$1:B145,TRUE)=COUNTIF($B$1:B144,TRUE),\"\",COUNTIF($B$1:B145,TRUE))","v":""},{"$f":"Worksheet!$D$12","v":false},1000,{"$f":"1000*L145","v":2110},"m","=",2,"km",109.99999999999987,"m","=",{"$f":"RANDBETWEEN(1,Worksheet!$D$5)+CHOOSE(RANDBETWEEN(1,LOG10(C145)),RANDBETWEEN(1,9)/10^RANDBETWEEN(1,LOG10(C145)),RANDBETWEEN(1,99)/10^RANDBETWEEN(2,LOG10(C145)),RANDBETWEEN(0,999)/10^RANDBETWEEN(3,LOG10(C145)),RANDBETWEEN(0,9999)/C145)","v":2.11},"km",null,null,null,null,null,null,null,null,null,null,null,null,null,null,null,null,null,null,null,null,null,null,"Robyn "]
[{"$f":"IF(COUNTIF($B$1:B146,TRUE)=COUNTIF($B$1:B145,TRUE),\"\",COUNTIF($B$1:B146,TRUE))","v":73},{"$f":"Worksheet!$B$12","v":true},100,{"$f":"100*L146","v":224.00000000000003},"cm","=",{"$f":"INT(L146)","v":2},"m",24.000000000000021,"cm","=",{"$f":"RANDBETWEEN(1,Worksheet!$D$5)+CHOOSE(RANDBETWEEN(1,LOG10(C146)),RANDBETWEEN(1,9)/10^RANDBETWEEN(1,LOG10(C146)),RANDBETWEEN(1,99)/10^RANDBETWEEN(2,LOG10(C146)),RANDBETWEEN(0,999)/10^RANDBETWEEN(3,LOG10(C146)),RANDBETWEEN(0,9999)/C146)","v":2.2400000000000002},"m",null,null,null,null,null,null,null,null,null,null,null,null,null,null,null,null,null,null,null,null,null,null,"Isabel "]
[{"$f":"IF(COUNTIF($B$1:B147,TRUE)=COUNTIF($B$1:B146,TRUE),\"\",COUNTIF($B$1:B147,TRUE))","v":""},{"$f":"Worksheet!$D$12","v":false},1000,{"$f":"1000*L147","v":3010},"m","=",3,"km",9.9999999999997868,"m","=",{"$f":"RANDBETWEEN(1,Worksheet!$D$5)+CHOOSE(RANDBETWEEN(1,LOG10(C147)),RANDBETWEEN(1,9)/10^RANDBETWEEN(1,LOG10(C147)),RANDBETWEEN(1,99)/10^RANDBETWEEN(2,LOG10(C147)),RANDBETWEEN(0,999)/10^RANDBETWEEN(3,LOG10(C147)),RANDBETWEEN(0,9999)/C147)","v":3.01},"km",null,null,null,null,null,null,null,null,null,null,null,null,null,null,null,null,null,null,null,null,null,null,"Maisie "]
[{"$f":"IF(COUNTIF($B$1:B148,TRUE)=COUNTIF($B$1:B147,TRUE),\"\",COUNTIF($B$1:B148,TRUE))","v":74},{"$f":"Worksheet!$B$12","v":true},100,{"$f":"100*L148","v":509.99999999999994},"cm","=",{"$f":"INT(L148)","v":5},"m",9.9999999999999645,"cm","=",{"$f":"RANDBETWEEN(1,Worksheet!$D$5)+CHOOSE(RANDBETWEEN(1,LOG10(C148)),RANDBETWEEN(1,9)/10^RANDBETWEEN(1,LOG10(C148)),RANDBETWEEN(1,99)/10^RANDBETWEEN(2,LOG10(C148)),RANDBETWEEN(0,999)/10^RANDBETWEEN(3,LOG10(C148)),RANDBETWEEN(0,9999)/C148)","v":5.0999999999999996},"m",null,null,null,null,null,null,null,null,null,null,null,null,null,null,null,null,null,null,null,null,null,null,"Poppy "]
[{"$f":"IF(COUNTIF($B$1:B149,TRUE)=COUNTIF($B$1:B148,TRUE),\"\",COUNTIF($B$1:B149,TRUE))","v":""},{"$f":"Worksheet!$D$12","v":false},1000,{"$f":"1000*L149","v":4400},"m","=",4,"km",400.00000000000034,"m","=",{"$f":"RANDBETWEEN(1,Worksheet!$D$5)+CHOOSE(RANDBETWEEN(1,LOG10(C149)),RANDBETWEEN(1,9)/10^RANDBETWEEN(1,LOG10(C149)),RANDBETWEEN(1,99)/10^RANDBETWEEN(2,LOG10(C149)),RANDBETWEEN(0,999)/10^RANDBETWEEN(3,LOG10(C149)),RANDBETWEEN(0,9999)/C149)","v":4.4000000000000004},"km",null,null,null,null,null,null,null,null,null,null,null,null,null,null,null,null,null,null,null,null,null,null,"Rachael "]
[{"$f":"IF(COUNTIF($B$1:B150,TRUE)=COUNTIF($B$1:B149,TRUE),\"\",COUNTIF($B$1:B150,TRUE))","v":75},{"$f":"Worksheet!$B$12","v":true},100,{"$f":"100*L150","v":505.99999999999994},"cm","=",{"$f":"INT(L150)","v":5},"m",{"$f":"IF((L150-INT(L150))*C150=0,0,(L150-INT(L150))*C150)","v":5.9999999999999609},"cm","=",{"$f":"RANDBETWEEN(1,Worksheet!$D$5)+CHOOSE(RANDBETWEEN(1,LOG10(C150)),RANDBETWEEN(1,9)/10^RANDBETWEEN(1,LOG10(C150)),RANDBETWEEN(1,99)/10^RANDBETWEEN(2,LOG10(C150)),RANDBETWEEN(0,999)/10^RANDBETWEEN(3,LOG10(C150)),RANDBETWEEN(0,9999)/C150)","v":5.0599999999999996},"m",null,null,null,null,null,null,null,null,null,null,null,null,null,null,null,null,null,null,null,null,null,null,"Chantelle "]
[{"$f":"IF(COUNTIF($B$1:B151,TRUE)=COUNTIF($B$1:B150,TRUE),\"\",COUNTIF($B$1:B151,TRUE))","v":""},{"$f":"Worksheet!$D$12","v":false},1000,{"$f":"1000*L151","v":3011},"m","=",3,"km",11.000000000000121,"m","=",{"$f":"RANDBETWEEN(1,Worksheet!$D$5)+CHOOSE(RANDBETWEEN(1,LOG10(C151)),RANDBETWEEN(1,9)/10^RANDBETWEEN(1,LOG10(C151)),RANDBETWEEN(1,99)/10^RANDBETWEEN(2,LOG10(C151)),RANDBETWEEN(0,999)/10^RANDBETWEEN(3,LOG10(C151)),RANDBETWEEN(0,9999)/C151)","v":3.0110000000000001},"km",null,null,null,null,null,null,null,null,null,null,null,null,null,null,null,null,null,null,null,null,null,null,"Chloe "]
[{"$f":"IF(COUNTIF($B$1:B152,TRUE)=COUNTIF($B$1:B151,TRUE),\"\",COUNTIF($B$1:B152,TRUE))","v":76},{"$f":"Worksheet!$B$12","v":true},100,{"$f":"100*L152","v":407},"cm","=",{"$f":"INT(L152)","v":4},"m",7.0000000000000284,"cm","=",{"$f":"RANDBETWEEN(1,Worksheet!$D$5)+CHOOSE(RANDBETWEEN(1,LOG10(C152)),RANDBETWEEN(1,9)/10^RANDBETWEEN(1,LOG10(C152)),RANDBETWEEN(1,99)/10^RANDBETWEEN(2,LOG10(C152)),RANDBETWEEN(0,999)/10^RANDBETWEEN(3,LOG10(C152)),RANDBETWEEN(0,9999)/C152)","v":4.07},"m",null,null,null,null,null,null,null,null,null,null,null,null,null,null,null,null,null,null,null,null,null,null,"Emily "]
[{"$f":"IF(COUNTIF($B$1:B153,TRUE)=COUNTIF($B$1:B152,TRUE),\"\",COUNTIF($B$1:B153,TRUE))","v":""},{"$f":"Worksheet!$D$12","v":false},1000,{"$f":"1000*L153","v":2900},"m","=",2,"km",899.99999999999989,"m","=",{"$f":"RANDBETWEEN(1,Worksheet!$D$5)+CHOOSE(RANDBETWEEN(1,LOG10(C153)),RANDBETWEEN(1,9)/10^RANDBETWEEN(1,LOG10(C153)),RANDBETWEEN(1,99)/10^RANDBETWEEN(2,LOG10(C153)),RANDBETWEEN(0,999)/10^RANDBETWEEN(3,LOG10(C153)),RANDBETWEEN(0,9999)/C153)","v":2.9},"km",null,null,null,null,null,null,null,null,null,null,null,null,null,null,null,null,null,null,null,null,null,null,"Megan "]
[{"$f":"IF(COUNTIF($B$1:B154,TRUE)=COUNTIF($B$1:B153,TRUE),\"\",COUNTIF($B$1:B154,TRUE))","v":77},{"$f":"Worksheet!$B$12","v":true},100,{"$f":"100*L154","v":288},"cm","=",{"$f":"INT(L154)","v":2},"m",87.999999999999986,"cm","=",{"$f":"RANDBETWEEN(1,Worksheet!$D$5)+CHOOSE(RANDBETWEEN(1,LOG10(C154)),RANDBETWEEN(1,9)/10^RANDBETWEEN(1,LOG10(C154)),RANDBETWEEN(1,99)/10^RANDBETWEEN(2,LOG10(C154)),RANDBETWEEN(0,999)/10^RANDBETWEEN(3,LOG10(C154)),RANDBETWEEN(0,9999)/C154)","v":2.88},"m",null,null,null,null,null,null,null,null,null,null,null,null,null,null,null,null,null,null,null,null,null,null,"Jessica "]
[{"$f":"IF(COUNTIF($B$1:B155,TRUE)=COUNTIF($B$1:B154,TRUE),\"\",COUNTIF($B$1:B155,TRUE))","v":""},{"$f":"Worksheet!$D$12","v":false},1000,{"$f":"1000*L155","v":4008},"m","=",4,"km",8.0000000000000071,"m","=",{"$f":"RANDBETWEEN(1,Worksheet!$D$5)+CHOOSE(RANDBETWEEN(1,LOG10(C155)),RANDBETWEEN(1,9)/10^RANDBETWEEN(1,LOG10(C155)),RANDBETWEEN(1,99)/10^RANDBETWEEN(2,LOG10(C155)),RANDBETWEEN(0,999)/10^RANDBETWEEN(3,LOG10(C155)),RANDBETWEEN(0,9999)/C155)","v":4.008},"km",null,null,null,null,null,null,null,null,null,null,null,null,null,null,null,null,null,null,null,null,null,null,"Sophie "]
[{"$f":"IF(COUNTIF($B$1:B156,TRUE)=COUNTIF($B$1:B155,TRUE),\"\",COUNTIF($B$1:B156,TRUE))","v":78},{"$f":"Worksheet!$B$12","v":true},100,{"$f":"100*L156","v":501},"cm","=",{"$f":"INT(L156)","v":5},"m",0.99999999999997868,"cm","=",{"$f":"RANDBETWEEN(1,Worksheet!$D$5)+CHOOSE(RANDBETWEEN(1,LOG10(C156)),RANDBETWEEN(1,9)/10^RANDBETWEEN(1,LOG10(C156)),RANDBETWEEN(1,99)/10^RANDBETWEEN(2,LOG10(C156)),RANDBETWEEN(0,999)/10^RANDBETWEEN(3,LOG10(C156)),RANDBETWEEN(0,9999)/C156)","v":5.01},"m",null,null,null,null,null,null,null,null,null,null,null,null,null,null,null,null,null,null,null,null,null,null,"Charlotte "]
[{"$f":"IF(COUNTIF($B$1:B157,TRUE)=COUNTIF($B$1:B156,TRUE),\"\",COUNTIF($B$1:B157,TRUE))","v":""},{"$f":"Worksheet!$D$12","v":false},1000,{"$f":"1000*L157","v":5089},"m","=",5,"km",89.000000000000412,"m","=",{"$f":"RANDBETWEEN(1,Worksheet!$D$5)+CHOOSE(RANDBETWEEN(1,LOG10(C157)),RANDBETWEEN(1,9)/10^RANDBETWEEN(1,LOG10(C157)),RANDBETWEEN(1,99)/10^RANDBETWEEN(2,LOG10(C157)),RANDBETWEEN(0,999)/10^RANDBETWEEN(3,LOG10(C157)),RANDBETWEEN(0,9999)/C157)","v":5.0890000000000004},"km",null,null,null,null,null,null,null,null,null,null,null,null,null,null,null,null,null,null,null,null,null,null,"Hannah "]
[{"$f":"IF(COUNTIF($B$1:B158,TRUE)=COUNTIF($B$1:B157,TRUE),\"\",COUNTIF($B$1:B158,TRUE))","v":79},{"$f":"Worksheet!$B$12","v":true},100,{"$f":"100*L158","v":237},"cm","=",{"$f":"INT(L158)","v":2},"m",37.000000000000014,"cm","=",{"$f":"RANDBETWEEN(1,Worksheet!$D$5)+CHOOSE(RANDBETWEEN(1,LOG10(C158)),RANDBETWEEN(1,9)/10^RANDBETWEEN(1,LOG10(C158)),RANDBETWEEN(1,99)/10^RANDBETWEEN(2,LOG10(C158)),RANDBETWEEN(0,999)/10^RANDBETWEEN(3,LOG10(C158)),RANDBETWEEN(0,9999)/C158)","v":2.37},"m",null,null,null,null,null,null,null,null,null,null,null,null,null,null,null,null,null,null,null,null,null,null,"Lauren "]
[{"$f":"IF(COUNTIF($B$1:B159,TRUE)=COUNTIF($B$1:B158,TRUE),\"\",COUNTIF($B$1:B159,TRUE))","v":""},{"$f":"Worksheet!$D$12","v":false},1000,{"$f":"1000*L159","v":5002},"m","=",5,"km",1.9999999999997797,"m","=",{"$f":"RANDBETWEEN(1,Worksheet!$D$5)+CHOOSE(RANDBETWEEN(1,LOG10(C159)),RANDBETWEEN(1,9)/10^RANDBETWEEN(1,LOG10(C159)),RANDBETWEEN(1,99)/10^RANDBETWEEN(2,LOG10(C159)),RANDBETWEEN(0,999)/10^RANDBETWEEN(3,LOG10(C159)),RANDBETWEEN(0,9999)/C159)","v":5.0019999999999998},"km",null,null,null,null,null,null,null,null,null,null,null,null,null,null,null,null,null,null,null,null,null,null,"Rebecca "]
[{"$f":"IF(COUNTIF($B$1:B160,TRUE)=COUNTIF($B$1:B159,TRUE),\"\",COUNTIF($B$1:B160,TRUE))","v":80},{"$f":"Worksheet!$B$12","v":true},100,{"$f":"100*L160","v":103},"cm","=",{"$f":"INT(L160)","v":1},"m",3.0000000000000027,"cm","=",{"$f":"RANDBETWEEN(1,Worksheet!$D$5)+CHOOSE(RANDBETWEEN(1,LOG10(C160)),RANDBETWEEN(1,9)/10^RANDBETWEEN(1,LOG10(C160)),RANDBETWEEN(1,99)/10^RANDBETWEEN(2,LOG10(C160)),RANDBETWEEN(0,999)/10^RANDBETWEEN(3,LOG10(C160)),RANDBETWEEN(0,9999)/C160)","v":1.03},"m",null,null,null,null,null,null,null,null,null,null,null,null,null,null,null,null,null,null,null,null,null,null,"Lucy "]
[{"$f":"IF(COUNTIF($B$1:B161,TRUE)=COUNTIF($B$1:B160,TRUE),\"\",COUNTIF($B$1:B161,TRUE))","v":""},{"$f":"Worksheet!$D$12","v":false},1000,{"$f":"1000*L161","v":2440},"m","=",2,"km",439.99999999999994,"m","=",{"$f":"RANDBETWEEN(1,Worksheet!$D$5)+CHOOSE(RANDBETWEEN(1,LOG10(C161)),RANDBETWEEN(1,9)/10^RANDBETWEEN(1,LOG10(C161)),RANDBETWEEN(1,99)/10^RANDBETWEEN(2,LOG10(C161)),RANDBETWEEN(0,999)/10^RANDBETWEEN(3,LOG10(C161)),RANDBETWEEN(0,9999)/C161)","v":2.44},"km",null,null,null,null,null,null,null,null,null,null,null,null,null,null,null,null,null,null,null,null,null,null,"Amy "]
[{"$f":"IF(COUNTIF($B$1:B162,TRUE)=COUNTIF($B$1:B161,TRUE),\"\",COUNTIF($B$1:B162,TRUE))","v":81},{"$f":"Worksheet!$B$12","v":true},100,{"$f":"100*L162","v":514},"cm","=",5,"m",13.999999999999968,"cm","=",{"$f":"RANDBETWEEN(1,Worksheet!$D$5)+CHOOSE(RANDBETWEEN(1,LOG10(C162)),RANDBETWEEN(1,9)/10^RANDBETWEEN(1,LOG10(C162)),RANDBETWEEN(1,99)/10^RANDBETWEEN(2,LOG10(C162)),RANDBETWEEN(0,999)/10^RANDBETWEEN(3,LOG10(C162)),RANDBETWEEN(0,9999)/C162)","v":5.14},"m",null,null,null,null,null,null,null,null,null,null,null,null,null,null,null,null,null,null,null,null,null,null,"Georgia "]
[{"$f":"IF(COUNTIF($B$1:B163,TRUE)=COUNTIF($B$1:B162,TRUE),\"\",COUNTIF($B$1:B163,TRUE))","v":""},{"$f":"Worksheet!$D$12","v":false},1000,{"$f":"1000*L163","v":2050},"m","=",2,"km",49.999999999999822,"m","=",{"$f":"RANDBETWEEN(1,Worksheet!$D$5)+CHOOSE(RANDBETWEEN(1,LOG10(C163)),RANDBETWEEN(1,9)/10^RANDBETWEEN(1,LOG10(C163)),RANDBETWEEN(1,99)/10^RANDBETWEEN(2,LOG10(C163)),RANDBETWEEN(0,999)/10^RANDBETWEEN(3,LOG10(C163)),RANDBETWEEN(0,9999)/C163)","v":2.0499999999999998},"km",null,null,null,null,null,null,null,null,null,null,null,null,null,null,null,null,null,null,null,null,null,null,"Katie "]
[{"$f":"IF(COUNTIF($B$1:B164,TRUE)=COUNTIF($B$1:B163,TRUE),\"\",COUNTIF($B$1:B164,TRUE))","v":82},{"$f":"Worksheet!$B$12","v":true},100,{"$f":"100*L164","v":409},"cm","=",4,"m",8.9999999999999858,"cm","=",{"$f":"RANDBETWEEN(1,Worksheet!$D$5)+CHOOSE(RANDBETWEEN(1,LOG10(C164)),RANDBETWEEN(1,9)/10^RANDBETWEEN(1,LOG10(C164)),RANDBETWEEN(1,99)/10^RANDBETWEEN(2,LOG10(C164)),RANDBETWEEN(0,999)/10^RANDBETWEEN(3,LOG10(C164)),RANDBETWEEN(0,9999)/C164)","v":4.09},"m",null,null,null,null,null,null,null,null,null,null,null,null,null,null,null,null,null,null,null,null,null,null,"Bethany "]
[{"$f":"IF(COUNTIF($B$1:B165,TRUE)=COUNTIF($B$1:B164,TRUE),\"\",COUNTIF($B$1:B165,TRUE))","v":""},{"$f":"Worksheet!$D$12","v":false},1000,{"$f":"1000*L165","v":5314},"m","=",5,"km",314.00000000000006,"m","=",{"$f":"RANDBETWEEN(1,Worksheet!$D$5)+CHOOSE(RANDBETWEEN(1,LOG10(C165)),RANDBETWEEN(1,9)/10^RANDBETWEEN(1,LOG10(C165)),RANDBETWEEN(1,99)/10^RANDBETWEEN(2,LOG10(C165)),RANDBETWEEN(0,999)/10^RANDBETWEEN(3,LOG10(C165)),RANDBETWEEN(0,9999)/C165)","v":5.3140000000000001},"km",null,null,null,null,null,null,null,null,null,null,null,null,null,null,null,null,null,null,null,null,null,null,"Emma "]
[{"$f":"IF(COUNTIF($B$1:B166,TRUE)=COUNTIF($B$1:B165,TRUE),\"\",COUNTIF($B$1:B166,TRUE))","v":83},{"$f":"Worksheet!$B$12","v":true},100,{"$f":"100*L166","v":594},"cm","=",5,"m",93.999999999999943,"cm","=",{"$f":"RANDBETWEEN(1,Worksheet!$D$5)+CHOOSE(RANDBETWEEN(1,LOG10(C166)),RANDBETWEEN(1,9)/10^RANDBETWEEN(1,LOG10(C166)),RANDBETWEEN(1,99)/10^RANDBETWEEN(2,LOG10(C166)),RANDBETWEEN(0,999)/10^RANDBETWEEN(3,LOG10(C166)),RANDBETWEEN(0,9999)/C166)","v":5.9399999999999995},"m",null,null,null,null,null,null,null,null,null,null,null,null,null,null,null,null,null,null,null,null,null,null,"Olivia "]
[{"$f":"IF(COUNTIF($B$1:B167,TRUE)=COUNTIF($B$1:B166,TRUE),\"\",COUNTIF($B$1:B167,TRUE))","v":""},{"$f":"Worksheet!$D$12","v":false},1000,{"$f":"1000*L167","v":3090},"m","=",3,"km",89.999999999999858,"m","=",{"$f":"RANDBETWEEN(1,Worksheet!$D$5)+CHOOSE(RANDBETWEEN(1,LOG10(C167)),RANDBETWEEN(1,9)/10^RANDBETWEEN(1,LOG10(C167)),RANDBETWEEN(1,99)/10^RANDBETWEEN(2,LOG10(C167)),RANDBETWEEN(0,999)/10^RANDBETWEEN(3,LOG10(C167)),RANDBETWEEN(0,9999)/C167)","v":3.09},"km",null,null,null,null,null,null,null,null,null,null,null,null,null,null,null,null,null,null,null,null,null,null,"Courtney "]
[{"$f":"IF(COUNTIF($B$1:B168,TRUE)=COUNTIF($B$1:B167,TRUE),\"\",COUNTIF($B$1:B168,TRUE))","v":84},{"$f":"Worksheet!$B$12","v":true},100,{"$f":"100*L168","v":501.99999999999994},"cm","=",5,"m",1.9999999999999574,"cm","=",{"$f":"RANDBETWEEN(1,Worksheet!$D$5)+CHOOSE(RANDBETWEEN(1,LOG10(C168)),RANDBETWEEN(1,9)/10^RANDBETWEEN(1,LOG10(C168)),RANDBETWEEN(1,99)/10^RANDBETWEEN(2,LOG10(C168)),RANDBETWEEN(0,999)/10^RANDBETWEEN(3,LOG10(C168)),RANDBETWEEN(0,9999)/C168)","v":5.0199999999999996},"m",null,null,null,null,null,null,null,null,null,null,null,null,null,null,null,null,null,null,null,null,null,null,"Shannon "]
[{"$f":"IF(COUNTIF($B$1:B169,TRUE)=COUNTIF($B$1:B168,TRUE),\"\",COUNTIF($B$1:B169,TRUE))","v":""},{"$f":"Worksheet!$D$12","v":false},1000,{"$f":"1000*L169","v":5003},"m","=",5,"km",3.0000000000001137,"m","=",{"$f":"RANDBETWEEN(1,Worksheet!$D$5)+CHOOSE(RANDBETWEEN(1,LOG10(C169)),RANDBETWEEN(1,9)/10^RANDBETWEEN(1,LOG10(C169)),RANDBETWEEN(1,99)/10^RANDBETWEEN(2,LOG10(C169)),RANDBETWEEN(0,999)/10^RANDBETWEEN(3,LOG10(C169)),RANDBETWEEN(0,9999)/C169)","v":5.0030000000000001},"km",null,null,null,null,null,null,null,null,null,null,null,null,null,null,null,null,null,null,null,null,null,null,"Eleanor "]
[{"$f":"IF(COUNTIF($B$1:B170,TRUE)=COUNTIF($B$1:B169,TRUE),\"\",COUNTIF($B$1:B170,TRUE))","v":85},{"$f":"Worksheet!$B$12","v":true},100,{"$f":"100*L170","v":147},"cm","=",1,"m",47,"cm","=",{"$f":"RANDBETWEEN(1,Worksheet!$D$5)+CHOOSE(RANDBETWEEN(1,LOG10(C170)),RANDBETWEEN(1,9)/10^RANDBETWEEN(1,LOG10(C170)),RANDBETWEEN(1,99)/10^RANDBETWEEN(2,LOG10(C170)),RANDBETWEEN(0,999)/10^RANDBETWEEN(3,LOG10(C170)),RANDBETWEEN(0,9999)/C170)","v":1.47},"m",null,null,null,null,null,null,null,null,null,null,null,null,null,null,null,null,null,null,null,null,null,null,"Jade "]
[{"$f":"IF(COUNTIF($B$1:B171,TRUE)=COUNTIF($B$1:B170,TRUE),\"\",COUNTIF($B$1:B171,TRUE))","v":""},{"$f":"Worksheet!$D$12","v":false},1000,{"$f":"1000*L171","v":1040},"m","=",1,"km",40.000000000000036,"m","=",{"$f":"RANDBETWEEN(1,Worksheet!$D$5)+CHOOSE(RANDBETWEEN(1,LOG10(C171)),RANDBETWEEN(1,9)/10^RANDBETWEEN(1,LOG10(C171)),RANDBETWEEN(1,99)/10^RANDBETWEEN(2,LOG10(C171)),RANDBETWEEN(0,999)/10^RANDBETWEEN(3,LOG10(C171)),RANDBETWEEN(0,9999)/C171)","v":1.04},"km",null,null,null,null,null,null,null,null,null,null,null,null,null,null,null,null,null,null,null,null,null,null,"Ellie "]
[{"$f":"IF(COUNTIF($B$1:B172,TRUE)=COUNTIF($B$1:B171,TRUE),\"\",COUNTIF($B$1:B172,TRUE))","v":86},{"$f":"Worksheet!$B$12","v":true},100,{"$f":"100*L172","v":210},"cm","=",2,"m",10.000000000000009,"cm","=",{"$f":"RANDBETWEEN(1,Worksheet!$D$5)+CHOOSE(RANDBETWEEN(1,LOG10(C172)),RANDBETWEEN(1,9)/10^RANDBETWEEN(1,LOG10(C172)),RANDBETWEEN(1,99)/10^RANDBETWEEN(2,LOG10(C172)),RANDBETWEEN(0,999)/10^RANDBETWEEN(3,LOG10(C172)),RANDBETWEEN(0,9999)/C172)","v":2.1},"m",null,null,null,null,null,null,null,null,null,null,null,null,null,null,null,null,null,null,null,null,null,null,"Abigail "]
[{"$f":"IF(COUNTIF($B$1:B173,TRUE)=COUNTIF($B$1:B172,TRUE),\"\",COUNTIF($B$1:B173,TRUE))","v":""},{"$f":"Worksheet!$D$12","v":false},1000,{"$f":"1000*L173","v":5473},"m","=",5,"km",472.99999999999989,"m","=",{"$f":"RANDBETWEEN(1,Worksheet!$D$5)+CHOOSE(RANDBETWEEN(1,LOG10(C173)),RANDBETWEEN(1,9)/10^RANDBETWEEN(1,LOG10(C173)),RANDBETWEEN(1,99)/10^RANDBETWEEN(2,LOG10(C173)),RANDBETWEEN(0,999)/10^RANDBETWEEN(3,LOG10(C173)),RANDBETWEEN(0,9999)/C173)","v":5.4729999999999999},"km",null,null,null,null,null,null,null,null,null,null,null,null,null,null,null,null,null,null,null,null,null,null,"Holly "]
[{"$f":"IF(COUNTIF($B$1:B174,TRUE)=COUNTIF($B$1:B173,TRUE),\"\",COUNTIF($B$1:B174,TRUE))","v":87},{"$f":"Worksheet!$B$12","v":true},100,{"$f":"100*L174","v":398},"cm","=",3,"m",98,"cm","=",{"$f":"RANDBETWEEN(1,Worksheet!$D$5)+CHOOSE(RANDBETWEEN(1,LOG10(C174)),RANDBETWEEN(1,9)/10^RANDBETWEEN(1,LOG10(C174)),RANDBETWEEN(1,99)/10^RANDBETWEEN(2,LOG10(C174)),RANDBETWEEN(0,999)/10^RANDBETWEEN(3,LOG10(C174)),RANDBETWEEN(0,9999)/C174)","v":3.98},"m",null,null,null,null,null,null,null,null,null,null,null,null,null,null,null,null,null,null,null,null,null,null,"Molly "]
[{"$f":"IF(COUNTIF($B$1:B175,TRUE)=COUNTIF($B$1:B174,TRUE),\"\",COUNTIF($B$1:B175,TRUE))","v":""},{"$f":"Worksheet!$D$12","v":false},1000,{"$f":"1000*L175","v":3005},"m","=",3,"km",4.9999999999998934,"m","=",{"$f":"RANDBETWEEN(1,Worksheet!$D$5)+CHOOSE(RANDBETWEEN(1,LOG10(C175)),RANDBETWEEN(1,9)/10^RANDBETWEEN(1,LOG10(C175)),RANDBETWEEN(1,99)/10^RANDBETWEEN(2,LOG10(C175)),RANDBETWEEN(0,999)/10^RANDBETWEEN(3,LOG10(C175)),RANDBETWEEN(0,9999)/C175)","v":3.0049999999999999},"km",null,null,null,null,null,null,null,null,null,null,null,null,null,null,null,null,null,null,null,null,null,null,"Laura "]
[null,null,null,null,null,null,null,null,null,null,null,null,null,null,null,null,null,null,null,null,null,null,null,null,null,null,null,null,null,null,null,null,null,null,null,"Alice "]
[null,null,null,null,null,null,null,null,null,null,null,null,null,null,null,null,null,null,null,null,null,null,null,null,null,null,null,null,null,null,null,null,null,null,null,"Sarah "]
[null,null,null,null,null,null,null,null,null,null,null,null,null,null,null,null,null,null,null,null,null,null,null,null,null,null,null,null,null,null,null,null,null,null,null,"Caitlin "]
[null,null,null,null,null,null,null,null,null,null,null,null,null,null,null,null,null,null,null,null,null,null,null,null,null,null,null,null,null,null,null,null,null,null,null,"Rachel "]
[null,null,null,null,null,null,null,null,null,null,null,null,null,null,null,null,null,null,null,null,null,null,null,null,null,null,null,null,null,null,null,null,null,null,null,"Elizabeth "]
[null,null,null,null,null,null,null,null,null,null,null,null,null,null,null,null,null,null,null,null,null,null,null,null,null,null,null,null,null,null,null,null,null,null,null,"Amber "]
[null,null,null,null,null,null,null,null,null,null,null,null,null,null,null,null,null,null,null,null,null,null,null,null,null,null,null,null,null,null,null,null,null,null,null,"Paige "]
[null,null,null,null,null,null,null,null,null,null,null,null,null,null,null,null,null,null,null,null,null,null,null,null,null,null,null,null,null,null,null,null,null,null,null,"Georgina "]
[null,null,null,null,null,null,null,null,null,null,null,null,null,null,null,null,null,null,null,null,null,null,null,null,null,null,null,null,null,null,null,null,null,null,null,"Danielle "]
[null,null,null,null,null,null,null,null,null,null,null,null,null,null,null,null,null,null,null,null,null,null,null,null,null,null,null,null,null,null,null,null,null,null,null,"Grace "]
[null,null,null,null,null,null,null,null,null,null,null,null,null,null,null,null,null,null,null,null,null,null,null,null,null,null,null,null,null,null,null,null,null,null,null,"Nicole "]
[null,null,null,null,null,null,null,null,null,null,null,null,null,null,null,null,null,null,null,null,null,null,null,null,null,null,null,null,null,null,null,null,null,null,null,"Natasha "]
[null,null,null,null,null,null,null,null,null,null,null,null,null,null,null,null,null,null,null,null,null,null,null,null,null,null,null,null,null,null,null,null,null,null,null,"Ella "]
[null,null,null,null,null,null,null,null,null,null,null,null,null,null,null,null,null,null,null,null,null,null,null,null,null,null,null,null,null,null,null,null,null,null,null,"Chelsea "]
[null,null,null,null,null,null,null,null,null,null,null,null,null,null,null,null,null,null,null,null,null,null,null,null,null,null,null,null,null,null,null,null,null,null,null,"Leah "]
[null,null,null,null,null,null,null,null,null,null,null,null,null,null,null,null,null,null,null,null,null,null,null,null,null,null,null,null,null,null,null,null,null,null,null,"Victoria "]
[null,null,null,null,null,null,null,null,null,null,null,null,null,null,null,null,null,null,null,null,null,null,null,null,null,null,null,null,null,null,null,null,null,null,null,"Anna "]
[null,null,null,null,null,null,null,null,null,null,null,null,null,null,null,null,null,null,null,null,null,null,null,null,null,null,null,null,null,null,null,null,null,null,null,"Phoebe "]
[null,null,null,null,null,null,null,null,null,null,null,null,null,null,null,null,null,null,null,null,null,null,null,null,null,null,null,null,null,null,null,null,null,null,null,"Samantha "]
[null,null,null,null,null,null,null,null,null,null,null,null,null,null,null,null,null,null,null,null,null,null,null,null,null,null,null,null,null,null,null,null,null,null,null,"Zoe "]
[null,null,null,null,null,null,null,null,null,null,null,null,null,null,null,null,null,null,null,null,null,null,null,null,null,null,null,null,null,null,null,null,null,null,null,"Alexandra "]
[null,null,null,null,null,null,null,null,null,null,null,null,null,null,null,null,null,null,null,null,null,null,null,null,null,null,null,null,null,null,null,null,null,null,null,"Jasmine "]
[null,null,null,null,null,null,null,null,null,null,null,null,null,null,null,null,null,null,null,null,null,null,null,null,null,null,null,null,null,null,null,null,null,null,null,"Amelia "]
[null,null,null,null,null,null,null,null,null,null,null,null,null,null,null,null,null,null,null,null,null,null,null,null,null,null,null,null,null,null,null,null,null,null,null,"Louise "]
[null,null,null,null,null,null,null,null,null,null,null,null,null,null,null,null,null,null,null,null,null,null,null,null,null,null,null,null,null,null,null,null,null,null,null,"Lydia "]