{"text_format":"1","workbook":"xlsx","n_sheets":2,"sheets":["Worksheet","SYSTEM FORMULAE"],"not_rendered":{"charts":0,"images":0,"macros":1,"external_links":0,"defined_names":2,"comments":0,"pivot_tables":0},"unopened":[],"bounds":{"document_bytes":16777216,"sheet_cells":100000,"rows_first":2000,"rows_last":500,"rows_between":2000,"halvings":0,"cell_chars":16384,"cell_head_chars":4096},"cells_cut":0,"cells_raw":0,"read":"whole","date_system":"1900"}

{"sheet":"Worksheet","index":0,"n_rows":21,"n_cols":28,"rows_kept":21,"cut":false,"hidden":false,"merged":[[1,0,1,1],[5,0,5,1],[0,2,0,27]]}
[null,null,{"$f":"IF(B7=1,\"Multiply\",IF(B7=2,\"Divide\",\"Multiply or Divide\"))","v":"Multiply or Divide"}]
["Variables",null,1,333,333," × ",100,"=",33300,33300,null,16,120,120," × ",1000,"=",120000,120000,null,31,132,132," × ",1000,"=",132000,132000]
["SHOW ANSWERS",false,2,4510,4510," ÷ ",10,"=",451,451,null,17,95800,95800," × ",10,"=",958000,958000,null,32,248,248," × ",1000,"=",248000,248000]
["Number of questions (minimum 24, maximum 60)",45,3,133,133," × ",10,"=",1330,1330,null,18,473000,473000," ÷ ",1000,"=",473,473,null,33,220000,220000," ÷ ",1000,"=",220,220]
["Show commas to separate thousands and units?",false,4,970,970," × ",100,"=",97000,97000,null,19,174,174," × ",10,"=",1740,1740,null,34,970,970," × ",100,"=",97000,97000]
["Type of question",null,5,31100,31100," ÷ ",10,"=",3110,3110,null,20,1900,1900," × ",1000,"=",1900000,1900000,null,35,9980,9980," × ",10,"=",99800,99800]
["Multiply",3,6,2910,2910," ÷ ",10,"=",291,291,null,21,436,436," × ",10,"=",4360,4360,null,36,93,93," × ",1000,"=",93000,93000]
["Divide",0,7,45,45," × ",100,"=",4500,4500,null,22,305,305," × ",1000,"=",305000,305000,null,37,4230,4230," × ",100,"=",423000,423000]
["Multiply and Divide",0,8,206000,206000," ÷ ",1000,"=",206,206,null,23,10800,10800," ÷ ",100,"=",108,108,null,38,3000,3000," ÷ ",100,"=",30,30]
["Level of Difficulty",null,9,341,341," × ",1000,"=",341000,341000,null,24,7500000,7500000," ÷ ",1000,"=",7500,7500,null,39,987,987," × ",10,"=",9870,9870]
["Maximum number to multiply/divide by",{"$f":"10^B12","v":1000},10,5650,5650," × ",10,"=",56500,56500,null,25,8720,8720," × ",1000,"=",8720000,8720000,null,40,585,585," × ",10,"=",5850,5850]
[null,3,11,5330,5330," ÷ ",10,"=",533,533,null,26,5760,5760," ÷ ",10,"=",576,576,null,41,4400000,4400000," ÷ ",100,"=",44000,44000]
[null,null,12,6520,6520," ÷ ",10,"=",652,652,null,27,50300,50300," ÷ ",100,"=",503,503,null,42,61400000,61400000," ÷ ",1000,"=",61400,61400]
[null,null,13,699,699," × ",1000,"=",699000,699000,null,28,24300,24300," ÷ ",10,"=",2430,2430,null,43,14,14," × ",100,"=",1400,1400]
[null,null,14,80800,80800," × ",100,"=",8080000,8080000,null,29,6660,6660," ÷ ",10,"=",666,666,null,44,743,743," × ",100,"=",74300,74300]
[null,null,15,628,628," × ",100,"=",62800,62800,null,30,61600,61600," × ",1000,"=",61600000,61600000,null,45,4030,4030," × ",1000,"=",4030000,4030000]
[null,null,"",75600,75600," ÷ ",10,"=",7560,7560,null,"",978000,978000," ÷ ",100,"=",9780,9780,null,"",573,573," × ",10,"=",5730,5730]
[null,null,"",2100,2100," × ",1000,"=",2100000,2100000,null,"",869,869," × ",100,"=",86900,86900,null,"",3480,3480," × ",10,"=",34800,34800]
[null,null,"",801,801," × ",10,"=",8010,8010,null,"",36200,36200," ÷ ",100,"=",362,362,null,"",7600,7600," ÷ ",10,"=",760,760]
[null,null,"",7840,7840," ÷ ",10,"=",784,784,null,"",880,880," ÷ ",10,"=",88,88,null,"",6080,6080," × ",100,"=",608000,608000]
[null,null,"",22600,22600," × ",100,"=",2260000,2260000,null,"",6710,6710," ÷ ",10,"=",671,671,null,"",50,50," × ",1000,"=",50000,50000]

{"sheet":"SYSTEM FORMULAE","index":1,"n_rows":20,"n_cols":26,"rows_kept":20,"cut":false,"hidden":false,"merged":[]}
[{"$f":"IF(ROW()<=Worksheet!$B$4/3,ROW(),\"\")","v":1},{"$f":"IF(D1=\" × \",RANDBETWEEN(11,999)*10^RANDBETWEEN(0,RANDBETWEEN(0,2)),RANDBETWEEN(11,999)*10^RANDBETWEEN(LOG10(E1),RANDBETWEEN(LOG10(E1),LOG10(E1)+2)))","v":83600},{"$f":"IF(Worksheet!$B$5,TEXT(B1,\"###,###,###\"),B1)","v":83600},{"$f":"IF(Worksheet!$B$7=1,\" × \",IF(Worksheet!$B$7=2,\" ÷ \",CHOOSE(RANDBETWEEN(1,2),\" × \",\" ÷ \")))","v":" ÷ "},{"$f":"10^RANDBETWEEN(1,Worksheet!$B$12)","v":10},"=",{"$f":"IF(D1=\" × \",B1*E1,B1/E1)","v":8360},{"$f":"IF(Worksheet!$B$5,TEXT(G1,\"###,###,###\"),G1)","v":8360},null,{"$f":"MAX(A1:A36)+1","v":16},{"$f":"IF(M1=\" × \",RANDBETWEEN(11,999)*10^RANDBETWEEN(0,RANDBETWEEN(0,2)),RANDBETWEEN(11,999)*10^RANDBETWEEN(LOG10(N1),RANDBETWEEN(LOG10(N1),LOG10(N1)+2)))","v":425000},{"$f":"IF(Worksheet!$B$5,TEXT(K1,\"###,###,###\"),K1)","v":425000},{"$f":"IF(Worksheet!$B$7=1,\" × \",IF(Worksheet!$B$7=2,\" ÷ \",CHOOSE(RANDBETWEEN(1,2),\" × \",\" ÷ \")))","v":" ÷ "},{"$f":"10^RANDBETWEEN(1,Worksheet!$B$12)","v":1000},"=",{"$f":"IF(M1=\" × \",K1*N1,K1/N1)","v":425},{"$f":"IF(Worksheet!$B$5,TEXT(P1,\"###,###,###\"),P1)","v":425},null,{"$f":"MAX(J1:J36)+1","v":31},{"$f":"IF(V1=\" × \",RANDBETWEEN(11,999)*10^RANDBETWEEN(0,RANDBETWEEN(0,2)),RANDBETWEEN(11,999)*10^RANDBETWEEN(LOG10(W1),RANDBETWEEN(LOG10(W1),LOG10(W1)+2)))","v":9530},{"$f":"IF(Worksheet!$B$5,TEXT(T1,\"###,###,###\"),T1)","v":9530},{"$f":"IF(Worksheet!$B$7=1,\" × \",IF(Worksheet!$B$7=2,\" ÷ \",CHOOSE(RANDBETWEEN(1,2),\" × \",\" ÷ \")))","v":" ÷ "},{"$f":"10^RANDBETWEEN(1,Worksheet!$B$12)","v":10},"=",{"$f":"IF(V1=\" × \",T1*W1,T1/W1)","v":953},{"$f":"IF(Worksheet!$B$5,TEXT(Y1,\"###,###,###\"),Y1)","v":953}]
[{"$f":"IF(ROW()<=Worksheet!$B$4/3,ROW(),\"\")","v":2},{"$f":"IF(D2=\" × \",RANDBETWEEN(11,999)*10^RANDBETWEEN(0,RANDBETWEEN(0,2)),RANDBETWEEN(11,999)*10^RANDBETWEEN(LOG10(E2),RANDBETWEEN(LOG10(E2),LOG10(E2)+2)))","v":907},{"$f":"IF(Worksheet!$B$5,TEXT(B2,\"###,###,###\"),B2)","v":907},{"$f":"IF(Worksheet!$B$7=1,\" × \",IF(Worksheet!$B$7=2,\" ÷ \",CHOOSE(RANDBETWEEN(1,2),\" × \",\" ÷ \")))","v":" × "},{"$f":"10^RANDBETWEEN(1,Worksheet!$B$12)","v":10},"=",{"$f":"IF(D2=\" × \",B2*E2,B2/E2)","v":9070},{"$f":"IF(Worksheet!$B$5,TEXT(G2,\"###,###,###\"),G2)","v":9070},null,{"$f":"IF(ROW()<=Worksheet!$B$4/3,J1+1,\"\")","v":17},{"$f":"IF(M2=\" × \",RANDBETWEEN(11,999)*10^RANDBETWEEN(0,RANDBETWEEN(0,2)),RANDBETWEEN(11,999)*10^RANDBETWEEN(LOG10(N2),RANDBETWEEN(LOG10(N2),LOG10(N2)+2)))","v":7410000},{"$f":"IF(Worksheet!$B$5,TEXT(K2,\"###,###,###\"),K2)","v":7410000},{"$f":"IF(Worksheet!$B$7=1,\" × \",IF(Worksheet!$B$7=2,\" ÷ \",CHOOSE(RANDBETWEEN(1,2),\" × \",\" ÷ \")))","v":" ÷ "},{"$f":"10^RANDBETWEEN(1,Worksheet!$B$12)","v":1000},"=",{"$f":"IF(M2=\" × \",K2*N2,K2/N2)","v":7410},{"$f":"IF(Worksheet!$B$5,TEXT(P2,\"###,###,###\"),P2)","v":7410},null,{"$f":"IF(ROW()<=Worksheet!$B$4/3,S1+1,\"\")","v":32},{"$f":"IF(V2=\" × \",RANDBETWEEN(11,999)*10^RANDBETWEEN(0,RANDBETWEEN(0,2)),RANDBETWEEN(11,999)*10^RANDBETWEEN(LOG10(W2),RANDBETWEEN(LOG10(W2),LOG10(W2)+2)))","v":50200},{"$f":"IF(Worksheet!$B$5,TEXT(T2,\"###,###,###\"),T2)","v":50200},{"$f":"IF(Worksheet!$B$7=1,\" × \",IF(Worksheet!$B$7=2,\" ÷ \",CHOOSE(RANDBETWEEN(1,2),\" × \",\" ÷ \")))","v":" ÷ "},{"$f":"10^RANDBETWEEN(1,Worksheet!$B$12)","v":100},"=",{"$f":"IF(V2=\" × \",T2*W2,T2/W2)","v":502},{"$f":"IF(Worksheet!$B$5,TEXT(Y2,\"###,###,###\"),Y2)","v":502}]
[{"$f":"IF(ROW()<=Worksheet!$B$4/3,ROW(),\"\")","v":3},80200,{"$f":"IF(Worksheet!$B$5,TEXT(B3,\"###,###,###\"),B3)","v":80200},{"$f":"IF(Worksheet!$B$7=1,\" × \",IF(Worksheet!$B$7=2,\" ÷ \",CHOOSE(RANDBETWEEN(1,2),\" × \",\" ÷ \")))","v":" ÷ "},{"$f":"10^RANDBETWEEN(1,Worksheet!$B$12)","v":100},"=",802,{"$f":"IF(Worksheet!$B$5,TEXT(G3,\"###,###,###\"),G3)","v":802},null,{"$f":"IF(ROW()<=Worksheet!$B$4/3,J2+1,\"\")","v":18},30100,{"$f":"IF(Worksheet!$B$5,TEXT(K3,\"###,###,###\"),K3)","v":30100},{"$f":"IF(Worksheet!$B$7=1,\" × \",IF(Worksheet!$B$7=2,\" ÷ \",CHOOSE(RANDBETWEEN(1,2),\" × \",\" ÷ \")))","v":" ÷ "},{"$f":"10^RANDBETWEEN(1,Worksheet!$B$12)","v":10},"=",3010,{"$f":"IF(Worksheet!$B$5,TEXT(P3,\"###,###,###\"),P3)","v":3010},null,{"$f":"IF(ROW()<=Worksheet!$B$4/3,S2+1,\"\")","v":33},956000,{"$f":"IF(Worksheet!$B$5,TEXT(T3,\"###,###,###\"),T3)","v":956000},{"$f":"IF(Worksheet!$B$7=1,\" × \",IF(Worksheet!$B$7=2,\" ÷ \",CHOOSE(RANDBETWEEN(1,2),\" × \",\" ÷ \")))","v":" ÷ "},{"$f":"10^RANDBETWEEN(1,Worksheet!$B$12)","v":1000},"=",956,{"$f":"IF(Worksheet!$B$5,TEXT(Y3,\"###,###,###\"),Y3)","v":956}]
[{"$f":"IF(ROW()<=Worksheet!$B$4/3,ROW(),\"\")","v":4},309,{"$f":"IF(Worksheet!$B$5,TEXT(B4,\"###,###,###\"),B4)","v":309},{"$f":"IF(Worksheet!$B$7=1,\" × \",IF(Worksheet!$B$7=2,\" ÷ \",CHOOSE(RANDBETWEEN(1,2),\" × \",\" ÷ \")))","v":" × "},{"$f":"10^RANDBETWEEN(1,Worksheet!$B$12)","v":1000},"=",309000,{"$f":"IF(Worksheet!$B$5,TEXT(G4,\"###,###,###\"),G4)","v":309000},null,{"$f":"IF(ROW()<=Worksheet!$B$4/3,J3+1,\"\")","v":19},485000,{"$f":"IF(Worksheet!$B$5,TEXT(K4,\"###,###,###\"),K4)","v":485000},{"$f":"IF(Worksheet!$B$7=1,\" × \",IF(Worksheet!$B$7=2,\" ÷ \",CHOOSE(RANDBETWEEN(1,2),\" × \",\" ÷ \")))","v":" ÷ "},{"$f":"10^RANDBETWEEN(1,Worksheet!$B$12)","v":1000},"=",485,{"$f":"IF(Worksheet!$B$5,TEXT(P4,\"###,###,###\"),P4)","v":485},null,{"$f":"IF(ROW()<=Worksheet!$B$4/3,S3+1,\"\")","v":34},8890000,{"$f":"IF(Worksheet!$B$5,TEXT(T4,\"###,###,###\"),T4)","v":8890000},{"$f":"IF(Worksheet!$B$7=1,\" × \",IF(Worksheet!$B$7=2,\" ÷ \",CHOOSE(RANDBETWEEN(1,2),\" × \",\" ÷ \")))","v":" ÷ "},{"$f":"10^RANDBETWEEN(1,Worksheet!$B$12)","v":1000},"=",8890,{"$f":"IF(Worksheet!$B$5,TEXT(Y4,\"###,###,###\"),Y4)","v":8890}]
[{"$f":"IF(ROW()<=Worksheet!$B$4/3,ROW(),\"\")","v":5},2430000,{"$f":"IF(Worksheet!$B$5,TEXT(B5,\"###,###,###\"),B5)","v":2430000},{"$f":"IF(Worksheet!$B$7=1,\" × \",IF(Worksheet!$B$7=2,\" ÷ \",CHOOSE(RANDBETWEEN(1,2),\" × \",\" ÷ \")))","v":" ÷ "},{"$f":"10^RANDBETWEEN(1,Worksheet!$B$12)","v":100},"=",24300,{"$f":"IF(Worksheet!$B$5,TEXT(G5,\"###,###,###\"),G5)","v":24300},null,{"$f":"IF(ROW()<=Worksheet!$B$4/3,J4+1,\"\")","v":20},171000,{"$f":"IF(Worksheet!$B$5,TEXT(K5,\"###,###,###\"),K5)","v":171000},{"$f":"IF(Worksheet!$B$7=1,\" × \",IF(Worksheet!$B$7=2,\" ÷ \",CHOOSE(RANDBETWEEN(1,2),\" × \",\" ÷ \")))","v":" ÷ "},{"$f":"10^RANDBETWEEN(1,Worksheet!$B$12)","v":100},"=",1710,{"$f":"IF(Worksheet!$B$5,TEXT(P5,\"###,###,###\"),P5)","v":1710},null,{"$f":"IF(ROW()<=Worksheet!$B$4/3,S4+1,\"\")","v":35},43100,{"$f":"IF(Worksheet!$B$5,TEXT(T5,\"###,###,###\"),T5)","v":43100},{"$f":"IF(Worksheet!$B$7=1,\" × \",IF(Worksheet!$B$7=2,\" ÷ \",CHOOSE(RANDBETWEEN(1,2),\" × \",\" ÷ \")))","v":" ÷ "},{"$f":"10^RANDBETWEEN(1,Worksheet!$B$12)","v":100},"=",431,{"$f":"IF(Worksheet!$B$5,TEXT(Y5,\"###,###,###\"),Y5)","v":431}]
[{"$f":"IF(ROW()<=Worksheet!$B$4/3,ROW(),\"\")","v":6},65900,{"$f":"IF(Worksheet!$B$5,TEXT(B6,\"###,###,###\"),B6)","v":65900},{"$f":"IF(Worksheet!$B$7=1,\" × \",IF(Worksheet!$B$7=2,\" ÷ \",CHOOSE(RANDBETWEEN(1,2),\" × \",\" ÷ \")))","v":" × "},{"$f":"10^RANDBETWEEN(1,Worksheet!$B$12)","v":1000},"=",65900000,{"$f":"IF(Worksheet!$B$5,TEXT(G6,\"###,###,###\"),G6)","v":65900000},null,{"$f":"IF(ROW()<=Worksheet!$B$4/3,J5+1,\"\")","v":21},1630,{"$f":"IF(Worksheet!$B$5,TEXT(K6,\"###,###,###\"),K6)","v":1630},{"$f":"IF(Worksheet!$B$7=1,\" × \",IF(Worksheet!$B$7=2,\" ÷ \",CHOOSE(RANDBETWEEN(1,2),\" × \",\" ÷ \")))","v":" × "},{"$f":"10^RANDBETWEEN(1,Worksheet!$B$12)","v":1000},"=",1630000,{"$f":"IF(Worksheet!$B$5,TEXT(P6,\"###,###,###\"),P6)","v":1630000},null,{"$f":"IF(ROW()<=Worksheet!$B$4/3,S5+1,\"\")","v":36},3290,{"$f":"IF(Worksheet!$B$5,TEXT(T6,\"###,###,###\"),T6)","v":3290},{"$f":"IF(Worksheet!$B$7=1,\" × \",IF(Worksheet!$B$7=2,\" ÷ \",CHOOSE(RANDBETWEEN(1,2),\" × \",\" ÷ \")))","v":" ÷ "},{"$f":"10^RANDBETWEEN(1,Worksheet!$B$12)","v":10},"=",329,{"$f":"IF(Worksheet!$B$5,TEXT(Y6,\"###,###,###\"),Y6)","v":329}]
[{"$f":"IF(ROW()<=Worksheet!$B$4/3,ROW(),\"\")","v":7},1880000,{"$f":"IF(Worksheet!$B$5,TEXT(B7,\"###,###,###\"),B7)","v":1880000},{"$f":"IF(Worksheet!$B$7=1,\" × \",IF(Worksheet!$B$7=2,\" ÷ \",CHOOSE(RANDBETWEEN(1,2),\" × \",\" ÷ \")))","v":" ÷ "},{"$f":"10^RANDBETWEEN(1,Worksheet!$B$12)","v":1000},"=",1880,{"$f":"IF(Worksheet!$B$5,TEXT(G7,\"###,###,###\"),G7)","v":1880},null,{"$f":"IF(ROW()<=Worksheet!$B$4/3,J6+1,\"\")","v":22},2180000,{"$f":"IF(Worksheet!$B$5,TEXT(K7,\"###,###,###\"),K7)","v":2180000},{"$f":"IF(Worksheet!$B$7=1,\" × \",IF(Worksheet!$B$7=2,\" ÷ \",CHOOSE(RANDBETWEEN(1,2),\" × \",\" ÷ \")))","v":" ÷ "},{"$f":"10^RANDBETWEEN(1,Worksheet!$B$12)","v":1000},"=",2180,{"$f":"IF(Worksheet!$B$5,TEXT(P7,\"###,###,###\"),P7)","v":2180},null,{"$f":"IF(ROW()<=Worksheet!$B$4/3,S6+1,\"\")","v":37},7580,{"$f":"IF(Worksheet!$B$5,TEXT(T7,\"###,###,###\"),T7)","v":7580},{"$f":"IF(Worksheet!$B$7=1,\" × \",IF(Worksheet!$B$7=2,\" ÷ \",CHOOSE(RANDBETWEEN(1,2),\" × \",\" ÷ \")))","v":" ÷ "},{"$f":"10^RANDBETWEEN(1,Worksheet!$B$12)","v":10},"=",758,{"$f":"IF(Worksheet!$B$5,TEXT(Y7,\"###,###,###\"),Y7)","v":758}]
[{"$f":"IF(ROW()<=Worksheet!$B$4/3,ROW(),\"\")","v":8},914,{"$f":"IF(Worksheet!$B$5,TEXT(B8,\"###,###,###\"),B8)","v":914},{"$f":"IF(Worksheet!$B$7=1,\" × \",IF(Worksheet!$B$7=2,\" ÷ \",CHOOSE(RANDBETWEEN(1,2),\" × \",\" ÷ \")))","v":" × "},{"$f":"10^RANDBETWEEN(1,Worksheet!$B$12)","v":10},"=",9140,{"$f":"IF(Worksheet!$B$5,TEXT(G8,\"###,###,###\"),G8)","v":9140},null,{"$f":"IF(ROW()<=Worksheet!$B$4/3,J7+1,\"\")","v":23},575,{"$f":"IF(Worksheet!$B$5,TEXT(K8,\"###,###,###\"),K8)","v":575},{"$f":"IF(Worksheet!$B$7=1,\" × \",IF(Worksheet!$B$7=2,\" ÷ \",CHOOSE(RANDBETWEEN(1,2),\" × \",\" ÷ \")))","v":" × "},{"$f":"10^RANDBETWEEN(1,Worksheet!$B$12)","v":1000},"=",575000,{"$f":"IF(Worksheet!$B$5,TEXT(P8,\"###,###,###\"),P8)","v":575000},null,{"$f":"IF(ROW()<=Worksheet!$B$4/3,S7+1,\"\")","v":38},227,{"$f":"IF(Worksheet!$B$5,TEXT(T8,\"###,###,###\"),T8)","v":227},{"$f":"IF(Worksheet!$B$7=1,\" × \",IF(Worksheet!$B$7=2,\" ÷ \",CHOOSE(RANDBETWEEN(1,2),\" × \",\" ÷ \")))","v":" × "},{"$f":"10^RANDBETWEEN(1,Worksheet!$B$12)","v":1000},"=",227000,{"$f":"IF(Worksheet!$B$5,TEXT(Y8,\"###,###,###\"),Y8)","v":227000}]
[{"$f":"IF(ROW()<=Worksheet!$B$4/3,ROW(),\"\")","v":9},646000,{"$f":"IF(Worksheet!$B$5,TEXT(B9,\"###,###,###\"),B9)","v":646000},{"$f":"IF(Worksheet!$B$7=1,\" × \",IF(Worksheet!$B$7=2,\" ÷ \",CHOOSE(RANDBETWEEN(1,2),\" × \",\" ÷ \")))","v":" ÷ "},{"$f":"10^RANDBETWEEN(1,Worksheet!$B$12)","v":1000},"=",646,{"$f":"IF(Worksheet!$B$5,TEXT(G9,\"###,###,###\"),G9)","v":646},null,{"$f":"IF(ROW()<=Worksheet!$B$4/3,J8+1,\"\")","v":24},514,{"$f":"IF(Worksheet!$B$5,TEXT(K9,\"###,###,###\"),K9)","v":514},{"$f":"IF(Worksheet!$B$7=1,\" × \",IF(Worksheet!$B$7=2,\" ÷ \",CHOOSE(RANDBETWEEN(1,2),\" × \",\" ÷ \")))","v":" × "},{"$f":"10^RANDBETWEEN(1,Worksheet!$B$12)","v":100},"=",51400,{"$f":"IF(Worksheet!$B$5,TEXT(P9,\"###,###,###\"),P9)","v":51400},null,{"$f":"IF(ROW()<=Worksheet!$B$4/3,S8+1,\"\")","v":39},780000,{"$f":"IF(Worksheet!$B$5,TEXT(T9,\"###,###,###\"),T9)","v":780000},{"$f":"IF(Worksheet!$B$7=1,\" × \",IF(Worksheet!$B$7=2,\" ÷ \",CHOOSE(RANDBETWEEN(1,2),\" × \",\" ÷ \")))","v":" ÷ "},{"$f":"10^RANDBETWEEN(1,Worksheet!$B$12)","v":1000},"=",780,{"$f":"IF(Worksheet!$B$5,TEXT(Y9,\"###,###,###\"),Y9)","v":780}]
[{"$f":"IF(ROW()<=Worksheet!$B$4/3,ROW(),\"\")","v":10},7770,{"$f":"IF(Worksheet!$B$5,TEXT(B10,\"###,###,###\"),B10)","v":7770},{"$f":"IF(Worksheet!$B$7=1,\" × \",IF(Worksheet!$B$7=2,\" ÷ \",CHOOSE(RANDBETWEEN(1,2),\" × \",\" ÷ \")))","v":" ÷ "},{"$f":"10^RANDBETWEEN(1,Worksheet!$B$12)","v":10},"=",777,{"$f":"IF(Worksheet!$B$5,TEXT(G10,\"###,###,###\"),G10)","v":777},null,{"$f":"IF(ROW()<=Worksheet!$B$4/3,J9+1,\"\")","v":25},660,{"$f":"IF(Worksheet!$B$5,TEXT(K10,\"###,###,###\"),K10)","v":660},{"$f":"IF(Worksheet!$B$7=1,\" × \",IF(Worksheet!$B$7=2,\" ÷ \",CHOOSE(RANDBETWEEN(1,2),\" × \",\" ÷ \")))","v":" × "},{"$f":"10^RANDBETWEEN(1,Worksheet!$B$12)","v":1000},"=",660000,{"$f":"IF(Worksheet!$B$5,TEXT(P10,\"###,###,###\"),P10)","v":660000},null,{"$f":"IF(ROW()<=Worksheet!$B$4/3,S9+1,\"\")","v":40},150000,{"$f":"IF(Worksheet!$B$5,TEXT(T10,\"###,###,###\"),T10)","v":150000},{"$f":"IF(Worksheet!$B$7=1,\" × \",IF(Worksheet!$B$7=2,\" ÷ \",CHOOSE(RANDBETWEEN(1,2),\" × \",\" ÷ \")))","v":" ÷ "},{"$f":"10^RANDBETWEEN(1,Worksheet!$B$12)","v":100},"=",1500,{"$f":"IF(Worksheet!$B$5,TEXT(Y10,\"###,###,###\"),Y10)","v":1500}]
[{"$f":"IF(ROW()<=Worksheet!$B$4/3,ROW(),\"\")","v":11},2240,{"$f":"IF(Worksheet!$B$5,TEXT(B11,\"###,###,###\"),B11)","v":2240},{"$f":"IF(Worksheet!$B$7=1,\" × \",IF(Worksheet!$B$7=2,\" ÷ \",CHOOSE(RANDBETWEEN(1,2),\" × \",\" ÷ \")))","v":" ÷ "},{"$f":"10^RANDBETWEEN(1,Worksheet!$B$12)","v":10},"=",224,{"$f":"IF(Worksheet!$B$5,TEXT(G11,\"###,###,###\"),G11)","v":224},null,{"$f":"IF(ROW()<=Worksheet!$B$4/3,J10+1,\"\")","v":26},9010,{"$f":"IF(Worksheet!$B$5,TEXT(K11,\"###,###,###\"),K11)","v":9010},{"$f":"IF(Worksheet!$B$7=1,\" × \",IF(Worksheet!$B$7=2,\" ÷ \",CHOOSE(RANDBETWEEN(1,2),\" × \",\" ÷ \")))","v":" × "},{"$f":"10^RANDBETWEEN(1,Worksheet!$B$12)","v":100},"=",901000,{"$f":"IF(Worksheet!$B$5,TEXT(P11,\"###,###,###\"),P11)","v":901000},null,{"$f":"IF(ROW()<=Worksheet!$B$4/3,S10+1,\"\")","v":41},5870000,{"$f":"IF(Worksheet!$B$5,TEXT(T11,\"###,###,###\"),T11)","v":5870000},{"$f":"IF(Worksheet!$B$7=1,\" × \",IF(Worksheet!$B$7=2,\" ÷ \",CHOOSE(RANDBETWEEN(1,2),\" × \",\" ÷ \")))","v":" ÷ "},{"$f":"10^RANDBETWEEN(1,Worksheet!$B$12)","v":100},"=",58700,{"$f":"IF(Worksheet!$B$5,TEXT(Y11,\"###,###,###\"),Y11)","v":58700}]
[{"$f":"IF(ROW()<=Worksheet!$B$4/3,ROW(),\"\")","v":12},531,{"$f":"IF(Worksheet!$B$5,TEXT(B12,\"###,###,###\"),B12)","v":531},{"$f":"IF(Worksheet!$B$7=1,\" × \",IF(Worksheet!$B$7=2,\" ÷ \",CHOOSE(RANDBETWEEN(1,2),\" × \",\" ÷ \")))","v":" × "},{"$f":"10^RANDBETWEEN(1,Worksheet!$B$12)","v":100},"=",53100,{"$f":"IF(Worksheet!$B$5,TEXT(G12,\"###,###,###\"),G12)","v":53100},null,{"$f":"IF(ROW()<=Worksheet!$B$4/3,J11+1,\"\")","v":27},337,{"$f":"IF(Worksheet!$B$5,TEXT(K12,\"###,###,###\"),K12)","v":337},{"$f":"IF(Worksheet!$B$7=1,\" × \",IF(Worksheet!$B$7=2,\" ÷ \",CHOOSE(RANDBETWEEN(1,2),\" × \",\" ÷ \")))","v":" × "},{"$f":"10^RANDBETWEEN(1,Worksheet!$B$12)","v":100},"=",33700,{"$f":"IF(Worksheet!$B$5,TEXT(P12,\"###,###,###\"),P12)","v":33700},null,{"$f":"IF(ROW()<=Worksheet!$B$4/3,S11+1,\"\")","v":42},770,{"$f":"IF(Worksheet!$B$5,TEXT(T12,\"###,###,###\"),T12)","v":770},{"$f":"IF(Worksheet!$B$7=1,\" × \",IF(Worksheet!$B$7=2,\" ÷ \",CHOOSE(RANDBETWEEN(1,2),\" × \",\" ÷ \")))","v":" × "},{"$f":"10^RANDBETWEEN(1,Worksheet!$B$12)","v":1000},"=",770000,{"$f":"IF(Worksheet!$B$5,TEXT(Y12,\"###,###,###\"),Y12)","v":770000}]
[{"$f":"IF(ROW()<=Worksheet!$B$4/3,ROW(),\"\")","v":13},3100,{"$f":"IF(Worksheet!$B$5,TEXT(B13,\"###,###,###\"),B13)","v":3100},{"$f":"IF(Worksheet!$B$7=1,\" × \",IF(Worksheet!$B$7=2,\" ÷ \",CHOOSE(RANDBETWEEN(1,2),\" × \",\" ÷ \")))","v":" × "},{"$f":"10^RANDBETWEEN(1,Worksheet!$B$12)","v":1000},"=",3100000,{"$f":"IF(Worksheet!$B$5,TEXT(G13,\"###,###,###\"),G13)","v":3100000},null,{"$f":"IF(ROW()<=Worksheet!$B$4/3,J12+1,\"\")","v":28},9850,{"$f":"IF(Worksheet!$B$5,TEXT(K13,\"###,###,###\"),K13)","v":9850},{"$f":"IF(Worksheet!$B$7=1,\" × \",IF(Worksheet!$B$7=2,\" ÷ \",CHOOSE(RANDBETWEEN(1,2),\" × \",\" ÷ \")))","v":" × "},{"$f":"10^RANDBETWEEN(1,Worksheet!$B$12)","v":100},"=",985000,{"$f":"IF(Worksheet!$B$5,TEXT(P13,\"###,###,###\"),P13)","v":985000},null,{"$f":"IF(ROW()<=Worksheet!$B$4/3,S12+1,\"\")","v":43},743,{"$f":"IF(Worksheet!$B$5,TEXT(T13,\"###,###,###\"),T13)","v":743},{"$f":"IF(Worksheet!$B$7=1,\" × \",IF(Worksheet!$B$7=2,\" ÷ \",CHOOSE(RANDBETWEEN(1,2),\" × \",\" ÷ \")))","v":" × "},{"$f":"10^RANDBETWEEN(1,Worksheet!$B$12)","v":10},"=",7430,{"$f":"IF(Worksheet!$B$5,TEXT(Y13,\"###,###,###\"),Y13)","v":7430}]
[{"$f":"IF(ROW()<=Worksheet!$B$4/3,ROW(),\"\")","v":14},6050,{"$f":"IF(Worksheet!$B$5,TEXT(B14,\"###,###,###\"),B14)","v":6050},{"$f":"IF(Worksheet!$B$7=1,\" × \",IF(Worksheet!$B$7=2,\" ÷ \",CHOOSE(RANDBETWEEN(1,2),\" × \",\" ÷ \")))","v":" × "},{"$f":"10^RANDBETWEEN(1,Worksheet!$B$12)","v":100},"=",605000,{"$f":"IF(Worksheet!$B$5,TEXT(G14,\"###,###,###\"),G14)","v":605000},null,{"$f":"IF(ROW()<=Worksheet!$B$4/3,J13+1,\"\")","v":29},2990,{"$f":"IF(Worksheet!$B$5,TEXT(K14,\"###,###,###\"),K14)","v":2990},{"$f":"IF(Worksheet!$B$7=1,\" × \",IF(Worksheet!$B$7=2,\" ÷ \",CHOOSE(RANDBETWEEN(1,2),\" × \",\" ÷ \")))","v":" ÷ "},{"$f":"10^RANDBETWEEN(1,Worksheet!$B$12)","v":10},"=",299,{"$f":"IF(Worksheet!$B$5,TEXT(P14,\"###,###,###\"),P14)","v":299},null,{"$f":"IF(ROW()<=Worksheet!$B$4/3,S13+1,\"\")","v":44},9500,{"$f":"IF(Worksheet!$B$5,TEXT(T14,\"###,###,###\"),T14)","v":9500},{"$f":"IF(Worksheet!$B$7=1,\" × \",IF(Worksheet!$B$7=2,\" ÷ \",CHOOSE(RANDBETWEEN(1,2),\" × \",\" ÷ \")))","v":" × "},{"$f":"10^RANDBETWEEN(1,Worksheet!$B$12)","v":100},"=",950000,{"$f":"IF(Worksheet!$B$5,TEXT(Y14,\"###,###,###\"),Y14)","v":950000}]
[{"$f":"IF(ROW()<=Worksheet!$B$4/3,ROW(),\"\")","v":15},299,{"$f":"IF(Worksheet!$B$5,TEXT(B15,\"###,###,###\"),B15)","v":299},{"$f":"IF(Worksheet!$B$7=1,\" × \",IF(Worksheet!$B$7=2,\" ÷ \",CHOOSE(RANDBETWEEN(1,2),\" × \",\" ÷ \")))","v":" × "},{"$f":"10^RANDBETWEEN(1,Worksheet!$B$12)","v":100},"=",29900,{"$f":"IF(Worksheet!$B$5,TEXT(G15,\"###,###,###\"),G15)","v":29900},null,{"$f":"IF(ROW()<=Worksheet!$B$4/3,J14+1,\"\")","v":30},87900,{"$f":"IF(Worksheet!$B$5,TEXT(K15,\"###,###,###\"),K15)","v":87900},{"$f":"IF(Worksheet!$B$7=1,\" × \",IF(Worksheet!$B$7=2,\" ÷ \",CHOOSE(RANDBETWEEN(1,2),\" × \",\" ÷ \")))","v":" ÷ "},{"$f":"10^RANDBETWEEN(1,Worksheet!$B$12)","v":100},"=",879,{"$f":"IF(Worksheet!$B$5,TEXT(P15,\"###,###,###\"),P15)","v":879},null,{"$f":"IF(ROW()<=Worksheet!$B$4/3,S14+1,\"\")","v":45},823,{"$f":"IF(Worksheet!$B$5,TEXT(T15,\"###,###,###\"),T15)","v":823},{"$f":"IF(Worksheet!$B$7=1,\" × \",IF(Worksheet!$B$7=2,\" ÷ \",CHOOSE(RANDBETWEEN(1,2),\" × \",\" ÷ \")))","v":" × "},{"$f":"10^RANDBETWEEN(1,Worksheet!$B$12)","v":10},"=",8230,{"$f":"IF(Worksheet!$B$5,TEXT(Y15,\"###,###,###\"),Y15)","v":8230}]
[{"$f":"IF(ROW()<=Worksheet!$B$4/3,ROW(),\"\")","v":""},{"$f":"IF(D16=\" × \",RANDBETWEEN(11,999)*10^RANDBETWEEN(0,RANDBETWEEN(0,2)),RANDBETWEEN(11,999)*10^RANDBETWEEN(LOG10(E16),RANDBETWEEN(LOG10(E16),LOG10(E16)+2)))","v":17100},{"$f":"IF(Worksheet!$B$5,TEXT(B16,\"###,###,###\"),B16)","v":17100},{"$f":"IF(Worksheet!$B$7=1,\" × \",IF(Worksheet!$B$7=2,\" ÷ \",CHOOSE(RANDBETWEEN(1,2),\" × \",\" ÷ \")))","v":" × "},{"$f":"10^RANDBETWEEN(1,Worksheet!$B$12)","v":100},"=",{"$f":"IF(D16=\" × \",B16*E16,B16/E16)","v":1710000},{"$f":"IF(Worksheet!$B$5,TEXT(G16,\"###,###,###\"),G16)","v":1710000},null,{"$f":"IF(ROW()<=Worksheet!$B$4/3,J15+1,\"\")","v":""},430000,{"$f":"IF(Worksheet!$B$5,TEXT(K16,\"###,###,###\"),K16)","v":430000},{"$f":"IF(Worksheet!$B$7=1,\" × \",IF(Worksheet!$B$7=2,\" ÷ \",CHOOSE(RANDBETWEEN(1,2),\" × \",\" ÷ \")))","v":" ÷ "},{"$f":"10^RANDBETWEEN(1,Worksheet!$B$12)","v":100},"=",4300,{"$f":"IF(Worksheet!$B$5,TEXT(P16,\"###,###,###\"),P16)","v":4300},null,{"$f":"IF(ROW()<=Worksheet!$B$4/3,S15+1,\"\")","v":""},809000,{"$f":"IF(Worksheet!$B$5,TEXT(T16,\"###,###,###\"),T16)","v":809000},{"$f":"IF(Worksheet!$B$7=1,\" × \",IF(Worksheet!$B$7=2,\" ÷ \",CHOOSE(RANDBETWEEN(1,2),\" × \",\" ÷ \")))","v":" ÷ "},{"$f":"10^RANDBETWEEN(1,Worksheet!$B$12)","v":100},"=",8090,{"$f":"IF(Worksheet!$B$5,TEXT(Y16,\"###,###,###\"),Y16)","v":8090}]
[{"$f":"IF(ROW()<=Worksheet!$B$4/3,ROW(),\"\")","v":""},727,{"$f":"IF(Worksheet!$B$5,TEXT(B17,\"###,###,###\"),B17)","v":727},{"$f":"IF(Worksheet!$B$7=1,\" × \",IF(Worksheet!$B$7=2,\" ÷ \",CHOOSE(RANDBETWEEN(1,2),\" × \",\" ÷ \")))","v":" × "},{"$f":"10^RANDBETWEEN(1,Worksheet!$B$12)","v":100},"=",72700,{"$f":"IF(Worksheet!$B$5,TEXT(G17,\"###,###,###\"),G17)","v":72700},null,{"$f":"IF(ROW()<=Worksheet!$B$4/3,J16+1,\"\")","v":""},892000,{"$f":"IF(Worksheet!$B$5,TEXT(K17,\"###,###,###\"),K17)","v":892000},{"$f":"IF(Worksheet!$B$7=1,\" × \",IF(Worksheet!$B$7=2,\" ÷ \",CHOOSE(RANDBETWEEN(1,2),\" × \",\" ÷ \")))","v":" ÷ "},{"$f":"10^RANDBETWEEN(1,Worksheet!$B$12)","v":100},"=",8920,{"$f":"IF(Worksheet!$B$5,TEXT(P17,\"###,###,###\"),P17)","v":8920},null,{"$f":"IF(ROW()<=Worksheet!$B$4/3,S16+1,\"\")","v":""},160,{"$f":"IF(Worksheet!$B$5,TEXT(T17,\"###,###,###\"),T17)","v":160},{"$f":"IF(Worksheet!$B$7=1,\" × \",IF(Worksheet!$B$7=2,\" ÷ \",CHOOSE(RANDBETWEEN(1,2),\" × \",\" ÷ \")))","v":" × "},{"$f":"10^RANDBETWEEN(1,Worksheet!$B$12)","v":1000},"=",160000,{"$f":"IF(Worksheet!$B$5,TEXT(Y17,\"###,###,###\"),Y17)","v":160000}]
[{"$f":"IF(ROW()<=Worksheet!$B$4/3,ROW(),\"\")","v":""},7570,{"$f":"IF(Worksheet!$B$5,TEXT(B18,\"###,###,###\"),B18)","v":7570},{"$f":"IF(Worksheet!$B$7=1,\" × \",IF(Worksheet!$B$7=2,\" ÷ \",CHOOSE(RANDBETWEEN(1,2),\" × \",\" ÷ \")))","v":" ÷ "},{"$f":"10^RANDBETWEEN(1,Worksheet!$B$12)","v":10},"=",757,{"$f":"IF(Worksheet!$B$5,TEXT(G18,\"###,###,###\"),G18)","v":757},null,{"$f":"IF(ROW()<=Worksheet!$B$4/3,J17+1,\"\")","v":""},272,{"$f":"IF(Worksheet!$B$5,TEXT(K18,\"###,###,###\"),K18)","v":272},{"$f":"IF(Worksheet!$B$7=1,\" × \",IF(Worksheet!$B$7=2,\" ÷ \",CHOOSE(RANDBETWEEN(1,2),\" × \",\" ÷ \")))","v":" × "},{"$f":"10^RANDBETWEEN(1,Worksheet!$B$12)","v":1000},"=",272000,{"$f":"IF(Worksheet!$B$5,TEXT(P18,\"###,###,###\"),P18)","v":272000},null,{"$f":"IF(ROW()<=Worksheet!$B$4/3,S17+1,\"\")","v":""},64200,{"$f":"IF(Worksheet!$B$5,TEXT(T18,\"###,###,###\"),T18)","v":64200},{"$f":"IF(Worksheet!$B$7=1,\" × \",IF(Worksheet!$B$7=2,\" ÷ \",CHOOSE(RANDBETWEEN(1,2),\" × \",\" ÷ \")))","v":" ÷ "},{"$f":"10^RANDBETWEEN(1,Worksheet!$B$12)","v":100},"=",642,{"$f":"IF(Worksheet!$B$5,TEXT(Y18,\"###,###,###\"),Y18)","v":642}]
[{"$f":"IF(ROW()<=Worksheet!$B$4/3,ROW(),\"\")","v":""},74500,{"$f":"IF(Worksheet!$B$5,TEXT(B19,\"###,###,###\"),B19)","v":74500},{"$f":"IF(Worksheet!$B$7=1,\" × \",IF(Worksheet!$B$7=2,\" ÷ \",CHOOSE(RANDBETWEEN(1,2),\" × \",\" ÷ \")))","v":" ÷ "},{"$f":"10^RANDBETWEEN(1,Worksheet!$B$12)","v":100},"=",745,{"$f":"IF(Worksheet!$B$5,TEXT(G19,\"###,###,###\"),G19)","v":745},null,{"$f":"IF(ROW()<=Worksheet!$B$4/3,J18+1,\"\")","v":""},62800,{"$f":"IF(Worksheet!$B$5,TEXT(K19,\"###,###,###\"),K19)","v":62800},{"$f":"IF(Worksheet!$B$7=1,\" × \",IF(Worksheet!$B$7=2,\" ÷ \",CHOOSE(RANDBETWEEN(1,2),\" × \",\" ÷ \")))","v":" ÷ "},{"$f":"10^RANDBETWEEN(1,Worksheet!$B$12)","v":10},"=",6280,{"$f":"IF(Worksheet!$B$5,TEXT(P19,\"###,###,###\"),P19)","v":6280},null,{"$f":"IF(ROW()<=Worksheet!$B$4/3,S18+1,\"\")","v":""},81,{"$f":"IF(Worksheet!$B$5,TEXT(T19,\"###,###,###\"),T19)","v":81},{"$f":"IF(Worksheet!$B$7=1,\" × \",IF(Worksheet!$B$7=2,\" ÷ \",CHOOSE(RANDBETWEEN(1,2),\" × \",\" ÷ \")))","v":" × "},{"$f":"10^RANDBETWEEN(1,Worksheet!$B$12)","v":10},"=",810,{"$f":"IF(Worksheet!$B$5,TEXT(Y19,\"###,###,###\"),Y19)","v":810}]
[{"$f":"IF(ROW()<=Worksheet!$B$4/3,ROW(),\"\")","v":""},7190000,{"$f":"IF(Worksheet!$B$5,TEXT(B20,\"###,###,###\"),B20)","v":7190000},{"$f":"IF(Worksheet!$B$7=1,\" × \",IF(Worksheet!$B$7=2,\" ÷ \",CHOOSE(RANDBETWEEN(1,2),\" × \",\" ÷ \")))","v":" ÷ "},{"$f":"10^RANDBETWEEN(1,Worksheet!$B$12)","v":100},"=",71900,{"$f":"IF(Worksheet!$B$5,TEXT(G20,\"###,###,###\"),G20)","v":71900},null,{"$f":"IF(ROW()<=Worksheet!$B$4/3,J19+1,\"\")","v":""},643000,{"$f":"IF(Worksheet!$B$5,TEXT(K20,\"###,###,###\"),K20)","v":643000},{"$f":"IF(Worksheet!$B$7=1,\" × \",IF(Worksheet!$B$7=2,\" ÷ \",CHOOSE(RANDBETWEEN(1,2),\" × \",\" ÷ \")))","v":" ÷ "},{"$f":"10^RANDBETWEEN(1,Worksheet!$B$12)","v":1000},"=",643,{"$f":"IF(Worksheet!$B$5,TEXT(P20,\"###,###,###\"),P20)","v":643},null,{"$f":"IF(ROW()<=Worksheet!$B$4/3,S19+1,\"\")","v":""},203,{"$f":"IF(Worksheet!$B$5,TEXT(T20,\"###,###,###\"),T20)","v":203},{"$f":"IF(Worksheet!$B$7=1,\" × \",IF(Worksheet!$B$7=2,\" ÷ \",CHOOSE(RANDBETWEEN(1,2),\" × \",\" ÷ \")))","v":" × "},{"$f":"10^RANDBETWEEN(1,Worksheet!$B$12)","v":10},"=",2030,{"$f":"IF(Worksheet!$B$5,TEXT(Y20,\"###,###,###\"),Y20)","v":2030}]