{"text_format":"1","workbook":"xlsx","n_sheets":2,"sheets":["Worksheet","SYSTEM FORMULAE"],"not_rendered":{"charts":0,"images":0,"macros":1,"external_links":0,"defined_names":3,"comments":0,"pivot_tables":0},"unopened":[],"bounds":{"document_bytes":16777216,"sheet_cells":100000,"rows_first":2000,"rows_last":500,"rows_between":2000,"halvings":0,"cell_chars":16384,"cell_head_chars":4096},"cells_cut":0,"cells_raw":0,"read":"whole","date_system":"1900"}

{"sheet":"Worksheet","index":0,"n_rows":18,"n_cols":22,"rows_kept":18,"cut":false,"hidden":false,"merged":[[0,2,0,21],[2,0,2,1],[5,0,5,1]]}
[null,null,"Work out without using a calculator:"]
[]
["Variables",null,1,"Half of",56,"=",28,17,"Half of",27,"=",13.5,33,"Double",45,"=",90,49,"Double",38,"=",76]
["Show answers?",false,2,"Double",16,"=",32,18,"Double",50,"=",100,34,"Half of",75,"=",37.5,50,"Half of",67,"=",33.5]
["Number of questions (minimum 20, maximum 64)",64,3,"Double",43,"=",86,19,"Half of",60,"=",30,35,"Half of",20,"=",10,51,"Double",18,"=",36]
["Options",null,4,"Double",28,"=",56,20,"Half of",70,"=",35,36,"Double",21,"=",42,52,"Double",5,"=",10]
["Doubles",3,5,"Double",47,"=",94,21,"Double",29,"=",58,37,"Half of",20,"=",10,53,"Half of",10,"=",5]
["Halves",1,6,"Half of",45,"=",22.5,22,"Half of",28,"=",14,38,"Double",21,"=",42,54,"Half of",2,"=",1]
["Mixed",1,7,"Double",22,"=",44,23,"Double",33,"=",66,39,"Half of",97,"=",48.5,55,"Half of",27,"=",13.5]
["Allow odd numbers for halving questions",true,8,"Half of",70,"=",35,24,"Half of",21,"=",10.5,40,"Half of",3,"=",1.5,56,"Half of",56,"=",28]
["Maximum number in question",100,9,"Half of",57,"=",28.5,25,"Half of",32,"=",16,41,"Double",41,"=",82,57,"Double",32,"=",64]
[null,null,10,"Half of",96,"=",48,26,"Half of",44,"=",22,42,"Half of",47,"=",23.5,58,"Half of",2,"=",1]
[null,null,11,"Half of",40,"=",20,27,"Double",48,"=",96,43,"Half of",41,"=",20.5,59,"Half of",92,"=",46]
[null,null,12,"Double",37,"=",74,28,"Half of",82,"=",41,44,"Double",22,"=",44,60,"Half of",62,"=",31]
[null,null,13,"Double",47,"=",94,29,"Double",48,"=",96,45,"Half of",77,"=",38.5,61,"Double",48,"=",96]
[null,null,14,"Double",1,"=",2,30,"Double",20,"=",40,46,"Half of",88,"=",44,62,"Half of",43,"=",21.5]
[null,null,15,"Double",36,"=",72,31,"Double",14,"=",28,47,"Half of",70,"=",35,63,"Half of",18,"=",9]
[null,null,16,"Double",3,"=",6,32,"Half of",70,"=",35,48,"Double",9,"=",18,64,"Half of",60,"=",30]

{"sheet":"SYSTEM FORMULAE","index":1,"n_rows":16,"n_cols":20,"rows_kept":16,"cut":false,"hidden":false,"merged":[]}
[{"$f":"IF(ROW()<=Worksheet!$B$5/4,ROW(),\"\")","v":1},{"$f":"IF(Worksheet!$B$7=1,\"Double\",IF(Worksheet!$B$7=2,\"Half of\",IF(RAND()<0.5,\"Double\",\"Half of\")))","v":"Double"},{"$f":"IF('SYSTEM FORMULAE'!B1=\"Double\",RANDBETWEEN(1,Worksheet!$B$11/2),IF(Worksheet!$B$10,RANDBETWEEN(1,Worksheet!$B$11),2*RANDBETWEEN(1,Worksheet!$B$11/2)))","v":38},"=",{"$f":"IF(B1=\"Half of\",C1/2,2*C1)","v":76},{"$f":"MAX(A1:A17)+1","v":17},{"$f":"IF(Worksheet!$B$7=1,\"Double\",IF(Worksheet!$B$7=2,\"Half of\",IF(RAND()<0.5,\"Double\",\"Half of\")))","v":"Half of"},{"$f":"IF('SYSTEM FORMULAE'!G1=\"Double\",RANDBETWEEN(1,Worksheet!$B$11/2),IF(Worksheet!$B$10,RANDBETWEEN(1,Worksheet!$B$11),2*RANDBETWEEN(1,Worksheet!$B$11/2)))","v":73},"=",{"$f":"IF(G1=\"Half of\",H1/2,2*H1)","v":36.5},{"$f":"MAX(F1:F17)+1","v":33},{"$f":"IF(Worksheet!$B$7=1,\"Double\",IF(Worksheet!$B$7=2,\"Half of\",IF(RAND()<0.5,\"Double\",\"Half of\")))","v":"Half of"},{"$f":"IF('SYSTEM FORMULAE'!L1=\"Double\",RANDBETWEEN(1,Worksheet!$B$11/2),IF(Worksheet!$B$10,RANDBETWEEN(1,Worksheet!$B$11),2*RANDBETWEEN(1,Worksheet!$B$11/2)))","v":86},"=",{"$f":"IF(L1=\"Half of\",M1/2,2*M1)","v":43},{"$f":"MAX(K1:K17)+1","v":49},{"$f":"IF(Worksheet!$B$7=1,\"Double\",IF(Worksheet!$B$7=2,\"Half of\",IF(RAND()<0.5,\"Double\",\"Half of\")))","v":"Double"},{"$f":"IF('SYSTEM FORMULAE'!Q1=\"Double\",RANDBETWEEN(1,Worksheet!$B$11/2),IF(Worksheet!$B$10,RANDBETWEEN(1,Worksheet!$B$11),2*RANDBETWEEN(1,Worksheet!$B$11/2)))","v":41},"=",{"$f":"IF(Q1=\"Half of\",R1/2,2*R1)","v":82}]
[{"$f":"IF(ROW()<=Worksheet!$B$5/4,ROW(),\"\")","v":2},{"$f":"IF(Worksheet!$B$7=1,\"Double\",IF(Worksheet!$B$7=2,\"Half of\",IF(RAND()<0.5,\"Double\",\"Half of\")))","v":"Half of"},{"$f":"IF('SYSTEM FORMULAE'!B2=\"Double\",RANDBETWEEN(1,Worksheet!$B$11/2),IF(Worksheet!$B$10,RANDBETWEEN(1,Worksheet!$B$11),2*RANDBETWEEN(1,Worksheet!$B$11/2)))","v":71},"=",{"$f":"IF(B2=\"Half of\",C2/2,2*C2)","v":35.5},{"$f":"IF(ROW()<=Worksheet!$B$5/4,F1+1,\"\")","v":18},{"$f":"IF(Worksheet!$B$7=1,\"Double\",IF(Worksheet!$B$7=2,\"Half of\",IF(RAND()<0.5,\"Double\",\"Half of\")))","v":"Half of"},{"$f":"IF('SYSTEM FORMULAE'!G2=\"Double\",RANDBETWEEN(1,Worksheet!$B$11/2),IF(Worksheet!$B$10,RANDBETWEEN(1,Worksheet!$B$11),2*RANDBETWEEN(1,Worksheet!$B$11/2)))","v":25},"=",{"$f":"IF(G2=\"Half of\",H2/2,2*H2)","v":12.5},{"$f":"IF(ROW()<=Worksheet!$B$5/4,K1+1,\"\")","v":34},{"$f":"IF(Worksheet!$B$7=1,\"Double\",IF(Worksheet!$B$7=2,\"Half of\",IF(RAND()<0.5,\"Double\",\"Half of\")))","v":"Half of"},{"$f":"IF('SYSTEM FORMULAE'!L2=\"Double\",RANDBETWEEN(1,Worksheet!$B$11/2),IF(Worksheet!$B$10,RANDBETWEEN(1,Worksheet!$B$11),2*RANDBETWEEN(1,Worksheet!$B$11/2)))","v":88},"=",44,{"$f":"IF(ROW()<=Worksheet!$B$5/4,P1+1,\"\")","v":50},{"$f":"IF(Worksheet!$B$7=1,\"Double\",IF(Worksheet!$B$7=2,\"Half of\",IF(RAND()<0.5,\"Double\",\"Half of\")))","v":"Double"},{"$f":"IF('SYSTEM FORMULAE'!Q2=\"Double\",RANDBETWEEN(1,Worksheet!$B$11/2),IF(Worksheet!$B$10,RANDBETWEEN(1,Worksheet!$B$11),2*RANDBETWEEN(1,Worksheet!$B$11/2)))","v":35},"=",70]
[{"$f":"IF(ROW()<=Worksheet!$B$5/4,ROW(),\"\")","v":3},{"$f":"IF(Worksheet!$B$7=1,\"Double\",IF(Worksheet!$B$7=2,\"Half of\",IF(RAND()<0.5,\"Double\",\"Half of\")))","v":"Double"},{"$f":"IF('SYSTEM FORMULAE'!B3=\"Double\",RANDBETWEEN(1,Worksheet!$B$11/2),IF(Worksheet!$B$10,RANDBETWEEN(1,Worksheet!$B$11),2*RANDBETWEEN(1,Worksheet!$B$11/2)))","v":28},"=",56,{"$f":"IF(ROW()<=Worksheet!$B$5/4,F2+1,\"\")","v":19},{"$f":"IF(Worksheet!$B$7=1,\"Double\",IF(Worksheet!$B$7=2,\"Half of\",IF(RAND()<0.5,\"Double\",\"Half of\")))","v":"Half of"},{"$f":"IF('SYSTEM FORMULAE'!G3=\"Double\",RANDBETWEEN(1,Worksheet!$B$11/2),IF(Worksheet!$B$10,RANDBETWEEN(1,Worksheet!$B$11),2*RANDBETWEEN(1,Worksheet!$B$11/2)))","v":57},"=",28.5,{"$f":"IF(ROW()<=Worksheet!$B$5/4,K2+1,\"\")","v":35},{"$f":"IF(Worksheet!$B$7=1,\"Double\",IF(Worksheet!$B$7=2,\"Half of\",IF(RAND()<0.5,\"Double\",\"Half of\")))","v":"Half of"},{"$f":"IF('SYSTEM FORMULAE'!L3=\"Double\",RANDBETWEEN(1,Worksheet!$B$11/2),IF(Worksheet!$B$10,RANDBETWEEN(1,Worksheet!$B$11),2*RANDBETWEEN(1,Worksheet!$B$11/2)))","v":64},"=",32,{"$f":"IF(ROW()<=Worksheet!$B$5/4,P2+1,\"\")","v":51},{"$f":"IF(Worksheet!$B$7=1,\"Double\",IF(Worksheet!$B$7=2,\"Half of\",IF(RAND()<0.5,\"Double\",\"Half of\")))","v":"Double"},{"$f":"IF('SYSTEM FORMULAE'!Q3=\"Double\",RANDBETWEEN(1,Worksheet!$B$11/2),IF(Worksheet!$B$10,RANDBETWEEN(1,Worksheet!$B$11),2*RANDBETWEEN(1,Worksheet!$B$11/2)))","v":25},"=",50]
[{"$f":"IF(ROW()<=Worksheet!$B$5/4,ROW(),\"\")","v":4},{"$f":"IF(Worksheet!$B$7=1,\"Double\",IF(Worksheet!$B$7=2,\"Half of\",IF(RAND()<0.5,\"Double\",\"Half of\")))","v":"Half of"},{"$f":"IF('SYSTEM FORMULAE'!B4=\"Double\",RANDBETWEEN(1,Worksheet!$B$11/2),IF(Worksheet!$B$10,RANDBETWEEN(1,Worksheet!$B$11),2*RANDBETWEEN(1,Worksheet!$B$11/2)))","v":29},"=",14.5,{"$f":"IF(ROW()<=Worksheet!$B$5/4,F3+1,\"\")","v":20},{"$f":"IF(Worksheet!$B$7=1,\"Double\",IF(Worksheet!$B$7=2,\"Half of\",IF(RAND()<0.5,\"Double\",\"Half of\")))","v":"Half of"},{"$f":"IF('SYSTEM FORMULAE'!G4=\"Double\",RANDBETWEEN(1,Worksheet!$B$11/2),IF(Worksheet!$B$10,RANDBETWEEN(1,Worksheet!$B$11),2*RANDBETWEEN(1,Worksheet!$B$11/2)))","v":90},"=",45,{"$f":"IF(ROW()<=Worksheet!$B$5/4,K3+1,\"\")","v":36},{"$f":"IF(Worksheet!$B$7=1,\"Double\",IF(Worksheet!$B$7=2,\"Half of\",IF(RAND()<0.5,\"Double\",\"Half of\")))","v":"Half of"},{"$f":"IF('SYSTEM FORMULAE'!L4=\"Double\",RANDBETWEEN(1,Worksheet!$B$11/2),IF(Worksheet!$B$10,RANDBETWEEN(1,Worksheet!$B$11),2*RANDBETWEEN(1,Worksheet!$B$11/2)))","v":49},"=",24.5,{"$f":"IF(ROW()<=Worksheet!$B$5/4,P3+1,\"\")","v":52},{"$f":"IF(Worksheet!$B$7=1,\"Double\",IF(Worksheet!$B$7=2,\"Half of\",IF(RAND()<0.5,\"Double\",\"Half of\")))","v":"Double"},{"$f":"IF('SYSTEM FORMULAE'!Q4=\"Double\",RANDBETWEEN(1,Worksheet!$B$11/2),IF(Worksheet!$B$10,RANDBETWEEN(1,Worksheet!$B$11),2*RANDBETWEEN(1,Worksheet!$B$11/2)))","v":38},"=",76]
[{"$f":"IF(ROW()<=Worksheet!$B$5/4,ROW(),\"\")","v":5},{"$f":"IF(Worksheet!$B$7=1,\"Double\",IF(Worksheet!$B$7=2,\"Half of\",IF(RAND()<0.5,\"Double\",\"Half of\")))","v":"Half of"},{"$f":"IF('SYSTEM FORMULAE'!B5=\"Double\",RANDBETWEEN(1,Worksheet!$B$11/2),IF(Worksheet!$B$10,RANDBETWEEN(1,Worksheet!$B$11),2*RANDBETWEEN(1,Worksheet!$B$11/2)))","v":8},"=",4,{"$f":"IF(ROW()<=Worksheet!$B$5/4,F4+1,\"\")","v":21},{"$f":"IF(Worksheet!$B$7=1,\"Double\",IF(Worksheet!$B$7=2,\"Half of\",IF(RAND()<0.5,\"Double\",\"Half of\")))","v":"Half of"},{"$f":"IF('SYSTEM FORMULAE'!G5=\"Double\",RANDBETWEEN(1,Worksheet!$B$11/2),IF(Worksheet!$B$10,RANDBETWEEN(1,Worksheet!$B$11),2*RANDBETWEEN(1,Worksheet!$B$11/2)))","v":23},"=",11.5,{"$f":"IF(ROW()<=Worksheet!$B$5/4,K4+1,\"\")","v":37},{"$f":"IF(Worksheet!$B$7=1,\"Double\",IF(Worksheet!$B$7=2,\"Half of\",IF(RAND()<0.5,\"Double\",\"Half of\")))","v":"Half of"},{"$f":"IF('SYSTEM FORMULAE'!L5=\"Double\",RANDBETWEEN(1,Worksheet!$B$11/2),IF(Worksheet!$B$10,RANDBETWEEN(1,Worksheet!$B$11),2*RANDBETWEEN(1,Worksheet!$B$11/2)))","v":8},"=",4,{"$f":"IF(ROW()<=Worksheet!$B$5/4,P4+1,\"\")","v":53},{"$f":"IF(Worksheet!$B$7=1,\"Double\",IF(Worksheet!$B$7=2,\"Half of\",IF(RAND()<0.5,\"Double\",\"Half of\")))","v":"Half of"},{"$f":"IF('SYSTEM FORMULAE'!Q5=\"Double\",RANDBETWEEN(1,Worksheet!$B$11/2),IF(Worksheet!$B$10,RANDBETWEEN(1,Worksheet!$B$11),2*RANDBETWEEN(1,Worksheet!$B$11/2)))","v":83},"=",41.5]
[{"$f":"IF(ROW()<=Worksheet!$B$5/4,ROW(),\"\")","v":6},{"$f":"IF(Worksheet!$B$7=1,\"Double\",IF(Worksheet!$B$7=2,\"Half of\",IF(RAND()<0.5,\"Double\",\"Half of\")))","v":"Half of"},{"$f":"IF('SYSTEM FORMULAE'!B6=\"Double\",RANDBETWEEN(1,Worksheet!$B$11/2),IF(Worksheet!$B$10,RANDBETWEEN(1,Worksheet!$B$11),2*RANDBETWEEN(1,Worksheet!$B$11/2)))","v":44},"=",22,{"$f":"IF(ROW()<=Worksheet!$B$5/4,F5+1,\"\")","v":22},{"$f":"IF(Worksheet!$B$7=1,\"Double\",IF(Worksheet!$B$7=2,\"Half of\",IF(RAND()<0.5,\"Double\",\"Half of\")))","v":"Double"},{"$f":"IF('SYSTEM FORMULAE'!G6=\"Double\",RANDBETWEEN(1,Worksheet!$B$11/2),IF(Worksheet!$B$10,RANDBETWEEN(1,Worksheet!$B$11),2*RANDBETWEEN(1,Worksheet!$B$11/2)))","v":24},"=",48,{"$f":"IF(ROW()<=Worksheet!$B$5/4,K5+1,\"\")","v":38},{"$f":"IF(Worksheet!$B$7=1,\"Double\",IF(Worksheet!$B$7=2,\"Half of\",IF(RAND()<0.5,\"Double\",\"Half of\")))","v":"Half of"},{"$f":"IF('SYSTEM FORMULAE'!L6=\"Double\",RANDBETWEEN(1,Worksheet!$B$11/2),IF(Worksheet!$B$10,RANDBETWEEN(1,Worksheet!$B$11),2*RANDBETWEEN(1,Worksheet!$B$11/2)))","v":71},"=",35.5,{"$f":"IF(ROW()<=Worksheet!$B$5/4,P5+1,\"\")","v":54},{"$f":"IF(Worksheet!$B$7=1,\"Double\",IF(Worksheet!$B$7=2,\"Half of\",IF(RAND()<0.5,\"Double\",\"Half of\")))","v":"Double"},{"$f":"IF('SYSTEM FORMULAE'!Q6=\"Double\",RANDBETWEEN(1,Worksheet!$B$11/2),IF(Worksheet!$B$10,RANDBETWEEN(1,Worksheet!$B$11),2*RANDBETWEEN(1,Worksheet!$B$11/2)))","v":20},"=",40]
[{"$f":"IF(ROW()<=Worksheet!$B$5/4,ROW(),\"\")","v":7},{"$f":"IF(Worksheet!$B$7=1,\"Double\",IF(Worksheet!$B$7=2,\"Half of\",IF(RAND()<0.5,\"Double\",\"Half of\")))","v":"Double"},{"$f":"IF('SYSTEM FORMULAE'!B7=\"Double\",RANDBETWEEN(1,Worksheet!$B$11/2),IF(Worksheet!$B$10,RANDBETWEEN(1,Worksheet!$B$11),2*RANDBETWEEN(1,Worksheet!$B$11/2)))","v":40},"=",80,{"$f":"IF(ROW()<=Worksheet!$B$5/4,F6+1,\"\")","v":23},{"$f":"IF(Worksheet!$B$7=1,\"Double\",IF(Worksheet!$B$7=2,\"Half of\",IF(RAND()<0.5,\"Double\",\"Half of\")))","v":"Half of"},{"$f":"IF('SYSTEM FORMULAE'!G7=\"Double\",RANDBETWEEN(1,Worksheet!$B$11/2),IF(Worksheet!$B$10,RANDBETWEEN(1,Worksheet!$B$11),2*RANDBETWEEN(1,Worksheet!$B$11/2)))","v":84},"=",42,{"$f":"IF(ROW()<=Worksheet!$B$5/4,K6+1,\"\")","v":39},{"$f":"IF(Worksheet!$B$7=1,\"Double\",IF(Worksheet!$B$7=2,\"Half of\",IF(RAND()<0.5,\"Double\",\"Half of\")))","v":"Half of"},{"$f":"IF('SYSTEM FORMULAE'!L7=\"Double\",RANDBETWEEN(1,Worksheet!$B$11/2),IF(Worksheet!$B$10,RANDBETWEEN(1,Worksheet!$B$11),2*RANDBETWEEN(1,Worksheet!$B$11/2)))","v":78},"=",39,{"$f":"IF(ROW()<=Worksheet!$B$5/4,P6+1,\"\")","v":55},{"$f":"IF(Worksheet!$B$7=1,\"Double\",IF(Worksheet!$B$7=2,\"Half of\",IF(RAND()<0.5,\"Double\",\"Half of\")))","v":"Double"},{"$f":"IF('SYSTEM FORMULAE'!Q7=\"Double\",RANDBETWEEN(1,Worksheet!$B$11/2),IF(Worksheet!$B$10,RANDBETWEEN(1,Worksheet!$B$11),2*RANDBETWEEN(1,Worksheet!$B$11/2)))","v":50},"=",100]
[{"$f":"IF(ROW()<=Worksheet!$B$5/4,ROW(),\"\")","v":8},{"$f":"IF(Worksheet!$B$7=1,\"Double\",IF(Worksheet!$B$7=2,\"Half of\",IF(RAND()<0.5,\"Double\",\"Half of\")))","v":"Half of"},{"$f":"IF('SYSTEM FORMULAE'!B8=\"Double\",RANDBETWEEN(1,Worksheet!$B$11/2),IF(Worksheet!$B$10,RANDBETWEEN(1,Worksheet!$B$11),2*RANDBETWEEN(1,Worksheet!$B$11/2)))","v":95},"=",47.5,{"$f":"IF(ROW()<=Worksheet!$B$5/4,F7+1,\"\")","v":24},{"$f":"IF(Worksheet!$B$7=1,\"Double\",IF(Worksheet!$B$7=2,\"Half of\",IF(RAND()<0.5,\"Double\",\"Half of\")))","v":"Half of"},{"$f":"IF('SYSTEM FORMULAE'!G8=\"Double\",RANDBETWEEN(1,Worksheet!$B$11/2),IF(Worksheet!$B$10,RANDBETWEEN(1,Worksheet!$B$11),2*RANDBETWEEN(1,Worksheet!$B$11/2)))","v":55},"=",27.5,{"$f":"IF(ROW()<=Worksheet!$B$5/4,K7+1,\"\")","v":40},{"$f":"IF(Worksheet!$B$7=1,\"Double\",IF(Worksheet!$B$7=2,\"Half of\",IF(RAND()<0.5,\"Double\",\"Half of\")))","v":"Half of"},{"$f":"IF('SYSTEM FORMULAE'!L8=\"Double\",RANDBETWEEN(1,Worksheet!$B$11/2),IF(Worksheet!$B$10,RANDBETWEEN(1,Worksheet!$B$11),2*RANDBETWEEN(1,Worksheet!$B$11/2)))","v":47},"=",23.5,{"$f":"IF(ROW()<=Worksheet!$B$5/4,P7+1,\"\")","v":56},{"$f":"IF(Worksheet!$B$7=1,\"Double\",IF(Worksheet!$B$7=2,\"Half of\",IF(RAND()<0.5,\"Double\",\"Half of\")))","v":"Half of"},{"$f":"IF('SYSTEM FORMULAE'!Q8=\"Double\",RANDBETWEEN(1,Worksheet!$B$11/2),IF(Worksheet!$B$10,RANDBETWEEN(1,Worksheet!$B$11),2*RANDBETWEEN(1,Worksheet!$B$11/2)))","v":94},"=",47]
[{"$f":"IF(ROW()<=Worksheet!$B$5/4,ROW(),\"\")","v":9},{"$f":"IF(Worksheet!$B$7=1,\"Double\",IF(Worksheet!$B$7=2,\"Half of\",IF(RAND()<0.5,\"Double\",\"Half of\")))","v":"Half of"},{"$f":"IF('SYSTEM FORMULAE'!B9=\"Double\",RANDBETWEEN(1,Worksheet!$B$11/2),IF(Worksheet!$B$10,RANDBETWEEN(1,Worksheet!$B$11),2*RANDBETWEEN(1,Worksheet!$B$11/2)))","v":18},"=",9,{"$f":"IF(ROW()<=Worksheet!$B$5/4,F8+1,\"\")","v":25},{"$f":"IF(Worksheet!$B$7=1,\"Double\",IF(Worksheet!$B$7=2,\"Half of\",IF(RAND()<0.5,\"Double\",\"Half of\")))","v":"Double"},{"$f":"IF('SYSTEM FORMULAE'!G9=\"Double\",RANDBETWEEN(1,Worksheet!$B$11/2),IF(Worksheet!$B$10,RANDBETWEEN(1,Worksheet!$B$11),2*RANDBETWEEN(1,Worksheet!$B$11/2)))","v":14},"=",28,{"$f":"IF(ROW()<=Worksheet!$B$5/4,K8+1,\"\")","v":41},{"$f":"IF(Worksheet!$B$7=1,\"Double\",IF(Worksheet!$B$7=2,\"Half of\",IF(RAND()<0.5,\"Double\",\"Half of\")))","v":"Half of"},{"$f":"IF('SYSTEM FORMULAE'!L9=\"Double\",RANDBETWEEN(1,Worksheet!$B$11/2),IF(Worksheet!$B$10,RANDBETWEEN(1,Worksheet!$B$11),2*RANDBETWEEN(1,Worksheet!$B$11/2)))","v":4},"=",2,{"$f":"IF(ROW()<=Worksheet!$B$5/4,P8+1,\"\")","v":57},{"$f":"IF(Worksheet!$B$7=1,\"Double\",IF(Worksheet!$B$7=2,\"Half of\",IF(RAND()<0.5,\"Double\",\"Half of\")))","v":"Half of"},{"$f":"IF('SYSTEM FORMULAE'!Q9=\"Double\",RANDBETWEEN(1,Worksheet!$B$11/2),IF(Worksheet!$B$10,RANDBETWEEN(1,Worksheet!$B$11),2*RANDBETWEEN(1,Worksheet!$B$11/2)))","v":40},"=",20]
[{"$f":"IF(ROW()<=Worksheet!$B$5/4,ROW(),\"\")","v":10},{"$f":"IF(Worksheet!$B$7=1,\"Double\",IF(Worksheet!$B$7=2,\"Half of\",IF(RAND()<0.5,\"Double\",\"Half of\")))","v":"Half of"},{"$f":"IF('SYSTEM FORMULAE'!B10=\"Double\",RANDBETWEEN(1,Worksheet!$B$11/2),IF(Worksheet!$B$10,RANDBETWEEN(1,Worksheet!$B$11),2*RANDBETWEEN(1,Worksheet!$B$11/2)))","v":57},"=",28.5,{"$f":"IF(ROW()<=Worksheet!$B$5/4,F9+1,\"\")","v":26},{"$f":"IF(Worksheet!$B$7=1,\"Double\",IF(Worksheet!$B$7=2,\"Half of\",IF(RAND()<0.5,\"Double\",\"Half of\")))","v":"Double"},{"$f":"IF('SYSTEM FORMULAE'!G10=\"Double\",RANDBETWEEN(1,Worksheet!$B$11/2),IF(Worksheet!$B$10,RANDBETWEEN(1,Worksheet!$B$11),2*RANDBETWEEN(1,Worksheet!$B$11/2)))","v":47},"=",94,{"$f":"IF(ROW()<=Worksheet!$B$5/4,K9+1,\"\")","v":42},{"$f":"IF(Worksheet!$B$7=1,\"Double\",IF(Worksheet!$B$7=2,\"Half of\",IF(RAND()<0.5,\"Double\",\"Half of\")))","v":"Double"},{"$f":"IF('SYSTEM FORMULAE'!L10=\"Double\",RANDBETWEEN(1,Worksheet!$B$11/2),IF(Worksheet!$B$10,RANDBETWEEN(1,Worksheet!$B$11),2*RANDBETWEEN(1,Worksheet!$B$11/2)))","v":38},"=",76,{"$f":"IF(ROW()<=Worksheet!$B$5/4,P9+1,\"\")","v":58},{"$f":"IF(Worksheet!$B$7=1,\"Double\",IF(Worksheet!$B$7=2,\"Half of\",IF(RAND()<0.5,\"Double\",\"Half of\")))","v":"Half of"},{"$f":"IF('SYSTEM FORMULAE'!Q10=\"Double\",RANDBETWEEN(1,Worksheet!$B$11/2),IF(Worksheet!$B$10,RANDBETWEEN(1,Worksheet!$B$11),2*RANDBETWEEN(1,Worksheet!$B$11/2)))","v":43},"=",21.5]
[{"$f":"IF(ROW()<=Worksheet!$B$5/4,ROW(),\"\")","v":11},{"$f":"IF(Worksheet!$B$7=1,\"Double\",IF(Worksheet!$B$7=2,\"Half of\",IF(RAND()<0.5,\"Double\",\"Half of\")))","v":"Half of"},{"$f":"IF('SYSTEM FORMULAE'!B11=\"Double\",RANDBETWEEN(1,Worksheet!$B$11/2),IF(Worksheet!$B$10,RANDBETWEEN(1,Worksheet!$B$11),2*RANDBETWEEN(1,Worksheet!$B$11/2)))","v":38},"=",19,{"$f":"IF(ROW()<=Worksheet!$B$5/4,F10+1,\"\")","v":27},{"$f":"IF(Worksheet!$B$7=1,\"Double\",IF(Worksheet!$B$7=2,\"Half of\",IF(RAND()<0.5,\"Double\",\"Half of\")))","v":"Half of"},{"$f":"IF('SYSTEM FORMULAE'!G11=\"Double\",RANDBETWEEN(1,Worksheet!$B$11/2),IF(Worksheet!$B$10,RANDBETWEEN(1,Worksheet!$B$11),2*RANDBETWEEN(1,Worksheet!$B$11/2)))","v":50},"=",25,{"$f":"IF(ROW()<=Worksheet!$B$5/4,K10+1,\"\")","v":43},{"$f":"IF(Worksheet!$B$7=1,\"Double\",IF(Worksheet!$B$7=2,\"Half of\",IF(RAND()<0.5,\"Double\",\"Half of\")))","v":"Double"},{"$f":"IF('SYSTEM FORMULAE'!L11=\"Double\",RANDBETWEEN(1,Worksheet!$B$11/2),IF(Worksheet!$B$10,RANDBETWEEN(1,Worksheet!$B$11),2*RANDBETWEEN(1,Worksheet!$B$11/2)))","v":34},"=",68,{"$f":"IF(ROW()<=Worksheet!$B$5/4,P10+1,\"\")","v":59},{"$f":"IF(Worksheet!$B$7=1,\"Double\",IF(Worksheet!$B$7=2,\"Half of\",IF(RAND()<0.5,\"Double\",\"Half of\")))","v":"Double"},{"$f":"IF('SYSTEM FORMULAE'!Q11=\"Double\",RANDBETWEEN(1,Worksheet!$B$11/2),IF(Worksheet!$B$10,RANDBETWEEN(1,Worksheet!$B$11),2*RANDBETWEEN(1,Worksheet!$B$11/2)))","v":41},"=",82]
[{"$f":"IF(ROW()<=Worksheet!$B$5/4,ROW(),\"\")","v":12},{"$f":"IF(Worksheet!$B$7=1,\"Double\",IF(Worksheet!$B$7=2,\"Half of\",IF(RAND()<0.5,\"Double\",\"Half of\")))","v":"Half of"},{"$f":"IF('SYSTEM FORMULAE'!B12=\"Double\",RANDBETWEEN(1,Worksheet!$B$11/2),IF(Worksheet!$B$10,RANDBETWEEN(1,Worksheet!$B$11),2*RANDBETWEEN(1,Worksheet!$B$11/2)))","v":25},"=",12.5,{"$f":"IF(ROW()<=Worksheet!$B$5/4,F11+1,\"\")","v":28},{"$f":"IF(Worksheet!$B$7=1,\"Double\",IF(Worksheet!$B$7=2,\"Half of\",IF(RAND()<0.5,\"Double\",\"Half of\")))","v":"Double"},{"$f":"IF('SYSTEM FORMULAE'!G12=\"Double\",RANDBETWEEN(1,Worksheet!$B$11/2),IF(Worksheet!$B$10,RANDBETWEEN(1,Worksheet!$B$11),2*RANDBETWEEN(1,Worksheet!$B$11/2)))","v":33},"=",66,{"$f":"IF(ROW()<=Worksheet!$B$5/4,K11+1,\"\")","v":44},{"$f":"IF(Worksheet!$B$7=1,\"Double\",IF(Worksheet!$B$7=2,\"Half of\",IF(RAND()<0.5,\"Double\",\"Half of\")))","v":"Half of"},{"$f":"IF('SYSTEM FORMULAE'!L12=\"Double\",RANDBETWEEN(1,Worksheet!$B$11/2),IF(Worksheet!$B$10,RANDBETWEEN(1,Worksheet!$B$11),2*RANDBETWEEN(1,Worksheet!$B$11/2)))","v":48},"=",24,{"$f":"IF(ROW()<=Worksheet!$B$5/4,P11+1,\"\")","v":60},{"$f":"IF(Worksheet!$B$7=1,\"Double\",IF(Worksheet!$B$7=2,\"Half of\",IF(RAND()<0.5,\"Double\",\"Half of\")))","v":"Half of"},{"$f":"IF('SYSTEM FORMULAE'!Q12=\"Double\",RANDBETWEEN(1,Worksheet!$B$11/2),IF(Worksheet!$B$10,RANDBETWEEN(1,Worksheet!$B$11),2*RANDBETWEEN(1,Worksheet!$B$11/2)))","v":95},"=",47.5]
[{"$f":"IF(ROW()<=Worksheet!$B$5/4,ROW(),\"\")","v":13},{"$f":"IF(Worksheet!$B$7=1,\"Double\",IF(Worksheet!$B$7=2,\"Half of\",IF(RAND()<0.5,\"Double\",\"Half of\")))","v":"Double"},{"$f":"IF('SYSTEM FORMULAE'!B13=\"Double\",RANDBETWEEN(1,Worksheet!$B$11/2),IF(Worksheet!$B$10,RANDBETWEEN(1,Worksheet!$B$11),2*RANDBETWEEN(1,Worksheet!$B$11/2)))","v":46},"=",92,{"$f":"IF(ROW()<=Worksheet!$B$5/4,F12+1,\"\")","v":29},{"$f":"IF(Worksheet!$B$7=1,\"Double\",IF(Worksheet!$B$7=2,\"Half of\",IF(RAND()<0.5,\"Double\",\"Half of\")))","v":"Half of"},{"$f":"IF('SYSTEM FORMULAE'!G13=\"Double\",RANDBETWEEN(1,Worksheet!$B$11/2),IF(Worksheet!$B$10,RANDBETWEEN(1,Worksheet!$B$11),2*RANDBETWEEN(1,Worksheet!$B$11/2)))","v":72},"=",36,{"$f":"IF(ROW()<=Worksheet!$B$5/4,K12+1,\"\")","v":45},{"$f":"IF(Worksheet!$B$7=1,\"Double\",IF(Worksheet!$B$7=2,\"Half of\",IF(RAND()<0.5,\"Double\",\"Half of\")))","v":"Double"},{"$f":"IF('SYSTEM FORMULAE'!L13=\"Double\",RANDBETWEEN(1,Worksheet!$B$11/2),IF(Worksheet!$B$10,RANDBETWEEN(1,Worksheet!$B$11),2*RANDBETWEEN(1,Worksheet!$B$11/2)))","v":23},"=",46,{"$f":"IF(ROW()<=Worksheet!$B$5/4,P12+1,\"\")","v":61},{"$f":"IF(Worksheet!$B$7=1,\"Double\",IF(Worksheet!$B$7=2,\"Half of\",IF(RAND()<0.5,\"Double\",\"Half of\")))","v":"Half of"},{"$f":"IF('SYSTEM FORMULAE'!Q13=\"Double\",RANDBETWEEN(1,Worksheet!$B$11/2),IF(Worksheet!$B$10,RANDBETWEEN(1,Worksheet!$B$11),2*RANDBETWEEN(1,Worksheet!$B$11/2)))","v":62},"=",31]
[{"$f":"IF(ROW()<=Worksheet!$B$5/4,ROW(),\"\")","v":14},{"$f":"IF(Worksheet!$B$7=1,\"Double\",IF(Worksheet!$B$7=2,\"Half of\",IF(RAND()<0.5,\"Double\",\"Half of\")))","v":"Double"},{"$f":"IF('SYSTEM FORMULAE'!B14=\"Double\",RANDBETWEEN(1,Worksheet!$B$11/2),IF(Worksheet!$B$10,RANDBETWEEN(1,Worksheet!$B$11),2*RANDBETWEEN(1,Worksheet!$B$11/2)))","v":5},"=",10,{"$f":"IF(ROW()<=Worksheet!$B$5/4,F13+1,\"\")","v":30},{"$f":"IF(Worksheet!$B$7=1,\"Double\",IF(Worksheet!$B$7=2,\"Half of\",IF(RAND()<0.5,\"Double\",\"Half of\")))","v":"Half of"},{"$f":"IF('SYSTEM FORMULAE'!G14=\"Double\",RANDBETWEEN(1,Worksheet!$B$11/2),IF(Worksheet!$B$10,RANDBETWEEN(1,Worksheet!$B$11),2*RANDBETWEEN(1,Worksheet!$B$11/2)))","v":45},"=",22.5,{"$f":"IF(ROW()<=Worksheet!$B$5/4,K13+1,\"\")","v":46},{"$f":"IF(Worksheet!$B$7=1,\"Double\",IF(Worksheet!$B$7=2,\"Half of\",IF(RAND()<0.5,\"Double\",\"Half of\")))","v":"Double"},{"$f":"IF('SYSTEM FORMULAE'!L14=\"Double\",RANDBETWEEN(1,Worksheet!$B$11/2),IF(Worksheet!$B$10,RANDBETWEEN(1,Worksheet!$B$11),2*RANDBETWEEN(1,Worksheet!$B$11/2)))","v":47},"=",94,{"$f":"IF(ROW()<=Worksheet!$B$5/4,P13+1,\"\")","v":62},{"$f":"IF(Worksheet!$B$7=1,\"Double\",IF(Worksheet!$B$7=2,\"Half of\",IF(RAND()<0.5,\"Double\",\"Half of\")))","v":"Half of"},{"$f":"IF('SYSTEM FORMULAE'!Q14=\"Double\",RANDBETWEEN(1,Worksheet!$B$11/2),IF(Worksheet!$B$10,RANDBETWEEN(1,Worksheet!$B$11),2*RANDBETWEEN(1,Worksheet!$B$11/2)))","v":9},"=",4.5]
[{"$f":"IF(ROW()<=Worksheet!$B$5/4,ROW(),\"\")","v":15},{"$f":"IF(Worksheet!$B$7=1,\"Double\",IF(Worksheet!$B$7=2,\"Half of\",IF(RAND()<0.5,\"Double\",\"Half of\")))","v":"Double"},{"$f":"IF('SYSTEM FORMULAE'!B15=\"Double\",RANDBETWEEN(1,Worksheet!$B$11/2),IF(Worksheet!$B$10,RANDBETWEEN(1,Worksheet!$B$11),2*RANDBETWEEN(1,Worksheet!$B$11/2)))","v":11},"=",22,{"$f":"IF(ROW()<=Worksheet!$B$5/4,F14+1,\"\")","v":31},{"$f":"IF(Worksheet!$B$7=1,\"Double\",IF(Worksheet!$B$7=2,\"Half of\",IF(RAND()<0.5,\"Double\",\"Half of\")))","v":"Half of"},{"$f":"IF('SYSTEM FORMULAE'!G15=\"Double\",RANDBETWEEN(1,Worksheet!$B$11/2),IF(Worksheet!$B$10,RANDBETWEEN(1,Worksheet!$B$11),2*RANDBETWEEN(1,Worksheet!$B$11/2)))","v":37},"=",18.5,{"$f":"IF(ROW()<=Worksheet!$B$5/4,K14+1,\"\")","v":47},{"$f":"IF(Worksheet!$B$7=1,\"Double\",IF(Worksheet!$B$7=2,\"Half of\",IF(RAND()<0.5,\"Double\",\"Half of\")))","v":"Half of"},{"$f":"IF('SYSTEM FORMULAE'!L15=\"Double\",RANDBETWEEN(1,Worksheet!$B$11/2),IF(Worksheet!$B$10,RANDBETWEEN(1,Worksheet!$B$11),2*RANDBETWEEN(1,Worksheet!$B$11/2)))","v":63},"=",31.5,{"$f":"IF(ROW()<=Worksheet!$B$5/4,P14+1,\"\")","v":63},{"$f":"IF(Worksheet!$B$7=1,\"Double\",IF(Worksheet!$B$7=2,\"Half of\",IF(RAND()<0.5,\"Double\",\"Half of\")))","v":"Double"},{"$f":"IF('SYSTEM FORMULAE'!Q15=\"Double\",RANDBETWEEN(1,Worksheet!$B$11/2),IF(Worksheet!$B$10,RANDBETWEEN(1,Worksheet!$B$11),2*RANDBETWEEN(1,Worksheet!$B$11/2)))","v":7},"=",14]
[{"$f":"IF(ROW()<=Worksheet!$B$5/4,ROW(),\"\")","v":16},{"$f":"IF(Worksheet!$B$7=1,\"Double\",IF(Worksheet!$B$7=2,\"Half of\",IF(RAND()<0.5,\"Double\",\"Half of\")))","v":"Half of"},{"$f":"IF('SYSTEM FORMULAE'!B16=\"Double\",RANDBETWEEN(1,Worksheet!$B$11/2),IF(Worksheet!$B$10,RANDBETWEEN(1,Worksheet!$B$11),2*RANDBETWEEN(1,Worksheet!$B$11/2)))","v":6},"=",3,{"$f":"IF(ROW()<=Worksheet!$B$5/4,F15+1,\"\")","v":32},{"$f":"IF(Worksheet!$B$7=1,\"Double\",IF(Worksheet!$B$7=2,\"Half of\",IF(RAND()<0.5,\"Double\",\"Half of\")))","v":"Half of"},{"$f":"IF('SYSTEM FORMULAE'!G16=\"Double\",RANDBETWEEN(1,Worksheet!$B$11/2),IF(Worksheet!$B$10,RANDBETWEEN(1,Worksheet!$B$11),2*RANDBETWEEN(1,Worksheet!$B$11/2)))","v":26},"=",13,{"$f":"IF(ROW()<=Worksheet!$B$5/4,K15+1,\"\")","v":48},{"$f":"IF(Worksheet!$B$7=1,\"Double\",IF(Worksheet!$B$7=2,\"Half of\",IF(RAND()<0.5,\"Double\",\"Half of\")))","v":"Half of"},{"$f":"IF('SYSTEM FORMULAE'!L16=\"Double\",RANDBETWEEN(1,Worksheet!$B$11/2),IF(Worksheet!$B$10,RANDBETWEEN(1,Worksheet!$B$11),2*RANDBETWEEN(1,Worksheet!$B$11/2)))","v":12},"=",6,{"$f":"IF(ROW()<=Worksheet!$B$5/4,P15+1,\"\")","v":64},{"$f":"IF(Worksheet!$B$7=1,\"Double\",IF(Worksheet!$B$7=2,\"Half of\",IF(RAND()<0.5,\"Double\",\"Half of\")))","v":"Half of"},{"$f":"IF('SYSTEM FORMULAE'!Q16=\"Double\",RANDBETWEEN(1,Worksheet!$B$11/2),IF(Worksheet!$B$10,RANDBETWEEN(1,Worksheet!$B$11),2*RANDBETWEEN(1,Worksheet!$B$11/2)))","v":43},"=",21.5]