{"text_format":"1","workbook":"xlsx","n_sheets":2,"sheets":["Worksheet","SYSTEM FORMULAE"],"not_rendered":{"charts":0,"images":0,"macros":1,"external_links":0,"defined_names":2,"comments":0,"pivot_tables":0},"unopened":[],"bounds":{"document_bytes":16777216,"sheet_cells":100000,"rows_first":2000,"rows_last":500,"rows_between":2000,"halvings":0,"cell_chars":16384,"cell_head_chars":4096},"cells_cut":0,"cells_raw":0,"read":"whole","date_system":"1900"}

{"sheet":"Worksheet","index":0,"n_rows":31,"n_cols":22,"rows_kept":31,"cut":false,"hidden":false,"merged":[[1,0,1,1],[4,0,4,1],[0,2,0,21]]}
[null,null,{"$f":"IF(B8,\"Divide, showing the remainders\",\"Divide.  There will be no remainders\")","v":"Divide, showing the remainders"}]
["Variables",null,1,77,"÷",10,"=","7r7",null,26,16,"÷",2,"=","8",null,51,59,"÷",9,"=","6r5"]
["SHOW ANSWERS",false,2,4,"÷",2,"=","2",null,27,5,"÷",7,"=","0r5",null,52,5,"÷",9,"=","0r5"]
["Number of questions (min 30, max 90)",75,3,20,"÷",8,"=","2r4",null,28,3,"÷",2,"=","1r1",null,53,16,"÷",10,"=","1r6"]
["Level of difficulty",null,4,43,"÷",8,"=","5r3",null,29,24,"÷",8,"=","3",null,54,49,"÷",9,"=","5r4"]
["2, 3, 4, 5, 10 tables only",2,5,50,"÷",10,"=","5",null,30,31,"÷",3,"=","10r1",null,55,95,"÷",9,"=","10r5"]
["All tables",null,6,78,"÷",8,"=","9r6",null,31,70,"÷",9,"=","7r7",null,56,60,"÷",9,"=","6r6"]
["Tick to allow remainders",true,7,33,"÷",6,"=","5r3",null,32,4,"÷",4,"=","1",null,57,29,"÷",8,"=","3r5"]
[null,null,8,5,"÷",5,"=","1",null,33,50,"÷",5,"=","10",null,58,61,"÷",10,"=","6r1"]
[null,null,9,25,"÷",7,"=","3r4",null,34,22,"÷",4,"=","5r2",null,59,29,"÷",8,"=","3r5"]
[null,null,10,76,"÷",8,"=","9r4",null,35,40,"÷",4,"=","10",null,60,6,"÷",5,"=","1r1"]
[null,null,11,29,"÷",5,"=","5r4",null,36,9,"÷",8,"=","1r1",null,61,24,"÷",7,"=","3r3"]
[null,null,12,11,"÷",9,"=","1r2",null,37,15,"÷",5,"=","3",null,62,83,"÷",10,"=","8r3"]
[null,null,13,82,"÷",9,"=","9r1",null,38,2,"÷",2,"=","1",null,63,8,"÷",5,"=","1r3"]
[null,null,14,13,"÷",2,"=","6r1",null,39,1,"÷",3,"=","0r1",null,64,20,"÷",7,"=","2r6"]
[null,null,15,49,"÷",9,"=","5r4",null,40,66,"÷",7,"=","9r3",null,65,16,"÷",5,"=","3r1"]
[null,null,16,24,"÷",3,"=","8",null,41,55,"÷",8,"=","6r7",null,66,30,"÷",3,"=","10"]
[null,null,17,23,"÷",3,"=","7r2",null,42,17,"÷",8,"=","2r1",null,67,3,"÷",4,"=","0r3"]
[null,null,18,63,"÷",9,"=","7",null,43,0,"÷",2,"=","0",null,68,6,"÷",4,"=","1r2"]
[null,null,19,74,"÷",9,"=","8r2",null,44,11,"÷",5,"=","2r1",null,69,32,"÷",3,"=","10r2"]
[null,null,20,31,"÷",4,"=","7r3",null,45,66,"÷",7,"=","9r3",null,70,13,"÷",5,"=","2r3"]
[null,null,21,22,"÷",3,"=","7r1",null,46,37,"÷",5,"=","7r2",null,71,84,"÷",9,"=","9r3"]
[null,null,22,20,"÷",5,"=","4",null,47,42,"÷",7,"=","6",null,72,74,"÷",8,"=","9r2"]
[null,null,23,41,"÷",8,"=","5r1",null,48,59,"÷",6,"=","9r5",null,73,19,"÷",4,"=","4r3"]
[null,null,24,1,"÷",6,"=","0r1",null,49,2,"÷",4,"=","0r2",null,74,54,"÷",6,"=","9"]
[null,null,25,23,"÷",4,"=","5r3",null,50,47,"÷",8,"=","5r7",null,75,39,"÷",4,"=","9r3"]
[null,null,"",35,"÷",6,"=","5r5",null,"",57,"÷",8,"=","7r1",null,"",23,"÷",7,"=","3r2"]
[null,null,"",50,"÷",10,"=","5",null,"",8,"÷",2,"=","4",null,"",50,"÷",6,"=","8r2"]
[null,null,"",8,"÷",8,"=","1",null,"",29,"÷",3,"=","9r2",null,"",75,"÷",7,"=","10r5"]
[null,null,"",11,"÷",8,"=","1r3",null,"",6,"÷",3,"=","2",null,"",52,"÷",5,"=","10r2"]
[null,null,"",5,"÷",7,"=","0r5",null,"",4,"÷",2,"=","2",null,"",20,"÷",4,"=","5"]

{"sheet":"SYSTEM FORMULAE","index":1,"n_rows":30,"n_cols":20,"rows_kept":30,"cut":false,"hidden":false,"merged":[]}
[{"$f":"IF(ROW()<=Worksheet!$B$4/3,ROW(),\"\")","v":1},{"$f":"IF(Worksheet!$B$8,D1*RANDBETWEEN(0,10)+RANDBETWEEN(0,D1-1),D1*RANDBETWEEN(1,10))","v":51},"÷",{"$f":"IF(Worksheet!$B$6=1,CHOOSE(RANDBETWEEN(1,5),10,2,3,4,5),RANDBETWEEN(2,10))","v":7},"=",{"$f":"IF(Worksheet!$B$8,CONCATENATE(INT(B1/D1),IF(MOD(B1,D1)=0,\"\",\"r\"),IF(MOD(B1,D1)=0,\"\",MOD(B1,D1))),B1/D1)","v":"7r2"},null,{"$f":"IF(NOT(A1=\"\"),MAX(A1:A40)+1,\"\")","v":26},{"$f":"IF(Worksheet!$B$8,K1*RANDBETWEEN(0,10)+RANDBETWEEN(0,K1-1),K1*RANDBETWEEN(1,10))","v":41},"÷",{"$f":"IF(Worksheet!$B$6=1,CHOOSE(RANDBETWEEN(1,5),10,2,3,4,5),RANDBETWEEN(2,10))","v":5},"=",{"$f":"IF(Worksheet!$B$8,CONCATENATE(INT(I1/K1),IF(MOD(I1,K1)=0,\"\",\"r\"),IF(MOD(I1,K1)=0,\"\",MOD(I1,K1))),I1/K1)","v":"8r1"},null,{"$f":"IF(NOT(H1=\"\"),MAX(H1:H40)+1,\"\")","v":51},{"$f":"IF(Worksheet!$B$8,R1*RANDBETWEEN(0,10)+RANDBETWEEN(0,R1-1),R1*RANDBETWEEN(1,10))","v":26},"÷",{"$f":"IF(Worksheet!$B$6=1,CHOOSE(RANDBETWEEN(1,5),10,2,3,4,5),RANDBETWEEN(2,10))","v":4},"=",{"$f":"IF(Worksheet!$B$8,CONCATENATE(INT(P1/R1),IF(MOD(P1,R1)=0,\"\",\"r\"),IF(MOD(P1,R1)=0,\"\",MOD(P1,R1))),P1/R1)","v":"6r2"}]
[{"$f":"IF(ROW()<=Worksheet!$B$4/3,ROW(),\"\")","v":2},{"$f":"IF(Worksheet!$B$8,D2*RANDBETWEEN(0,10)+RANDBETWEEN(0,D2-1),D2*RANDBETWEEN(1,10))","v":9},"÷",{"$f":"IF(Worksheet!$B$6=1,CHOOSE(RANDBETWEEN(1,5),10,2,3,4,5),RANDBETWEEN(2,10))","v":2},"=",{"$f":"IF(Worksheet!$B$8,CONCATENATE(INT(B2/D2),IF(MOD(B2,D2)=0,\"\",\"r\"),IF(MOD(B2,D2)=0,\"\",MOD(B2,D2))),B2/D2)","v":"4r1"},null,{"$f":"IF(NOT(A2=\"\"),H1+1,\"\")","v":27},{"$f":"IF(Worksheet!$B$8,K2*RANDBETWEEN(0,10)+RANDBETWEEN(0,K2-1),K2*RANDBETWEEN(1,10))","v":80},"÷",{"$f":"IF(Worksheet!$B$6=1,CHOOSE(RANDBETWEEN(1,5),10,2,3,4,5),RANDBETWEEN(2,10))","v":8},"=",{"$f":"IF(Worksheet!$B$8,CONCATENATE(INT(I2/K2),IF(MOD(I2,K2)=0,\"\",\"r\"),IF(MOD(I2,K2)=0,\"\",MOD(I2,K2))),I2/K2)","v":"10"},null,{"$f":"IF(NOT(H2=\"\"),O1+1,\"\")","v":52},{"$f":"IF(Worksheet!$B$8,R2*RANDBETWEEN(0,10)+RANDBETWEEN(0,R2-1),R2*RANDBETWEEN(1,10))","v":4},"÷",{"$f":"IF(Worksheet!$B$6=1,CHOOSE(RANDBETWEEN(1,5),10,2,3,4,5),RANDBETWEEN(2,10))","v":9},"=",{"$f":"IF(Worksheet!$B$8,CONCATENATE(INT(P2/R2),IF(MOD(P2,R2)=0,\"\",\"r\"),IF(MOD(P2,R2)=0,\"\",MOD(P2,R2))),P2/R2)","v":"0r4"}]
[{"$f":"IF(ROW()<=Worksheet!$B$4/3,ROW(),\"\")","v":3},{"$f":"IF(Worksheet!$B$8,D3*RANDBETWEEN(0,10)+RANDBETWEEN(0,D3-1),D3*RANDBETWEEN(1,10))","v":1},"÷",{"$f":"IF(Worksheet!$B$6=1,CHOOSE(RANDBETWEEN(1,5),10,2,3,4,5),RANDBETWEEN(2,10))","v":10},"=",{"$f":"IF(Worksheet!$B$8,CONCATENATE(INT(B3/D3),IF(MOD(B3,D3)=0,\"\",\"r\"),IF(MOD(B3,D3)=0,\"\",MOD(B3,D3))),B3/D3)","v":"0r1"},null,{"$f":"IF(NOT(A3=\"\"),H2+1,\"\")","v":28},{"$f":"IF(Worksheet!$B$8,K3*RANDBETWEEN(0,10)+RANDBETWEEN(0,K3-1),K3*RANDBETWEEN(1,10))","v":46},"÷",{"$f":"IF(Worksheet!$B$6=1,CHOOSE(RANDBETWEEN(1,5),10,2,3,4,5),RANDBETWEEN(2,10))","v":6},"=",{"$f":"IF(Worksheet!$B$8,CONCATENATE(INT(I3/K3),IF(MOD(I3,K3)=0,\"\",\"r\"),IF(MOD(I3,K3)=0,\"\",MOD(I3,K3))),I3/K3)","v":"7r4"},null,{"$f":"IF(NOT(H3=\"\"),O2+1,\"\")","v":53},{"$f":"IF(Worksheet!$B$8,R3*RANDBETWEEN(0,10)+RANDBETWEEN(0,R3-1),R3*RANDBETWEEN(1,10))","v":23},"÷",{"$f":"IF(Worksheet!$B$6=1,CHOOSE(RANDBETWEEN(1,5),10,2,3,4,5),RANDBETWEEN(2,10))","v":10},"=",{"$f":"IF(Worksheet!$B$8,CONCATENATE(INT(P3/R3),IF(MOD(P3,R3)=0,\"\",\"r\"),IF(MOD(P3,R3)=0,\"\",MOD(P3,R3))),P3/R3)","v":"2r3"}]
[{"$f":"IF(ROW()<=Worksheet!$B$4/3,ROW(),\"\")","v":4},{"$f":"IF(Worksheet!$B$8,D4*RANDBETWEEN(0,10)+RANDBETWEEN(0,D4-1),D4*RANDBETWEEN(1,10))","v":19},"÷",{"$f":"IF(Worksheet!$B$6=1,CHOOSE(RANDBETWEEN(1,5),10,2,3,4,5),RANDBETWEEN(2,10))","v":3},"=",{"$f":"IF(Worksheet!$B$8,CONCATENATE(INT(B4/D4),IF(MOD(B4,D4)=0,\"\",\"r\"),IF(MOD(B4,D4)=0,\"\",MOD(B4,D4))),B4/D4)","v":"6r1"},null,29,{"$f":"IF(Worksheet!$B$8,K4*RANDBETWEEN(0,10)+RANDBETWEEN(0,K4-1),K4*RANDBETWEEN(1,10))","v":8},"÷",{"$f":"IF(Worksheet!$B$6=1,CHOOSE(RANDBETWEEN(1,5),10,2,3,4,5),RANDBETWEEN(2,10))","v":2},"=",{"$f":"IF(Worksheet!$B$8,CONCATENATE(INT(I4/K4),IF(MOD(I4,K4)=0,\"\",\"r\"),IF(MOD(I4,K4)=0,\"\",MOD(I4,K4))),I4/K4)","v":"4"},null,54,{"$f":"IF(Worksheet!$B$8,R4*RANDBETWEEN(0,10)+RANDBETWEEN(0,R4-1),R4*RANDBETWEEN(1,10))","v":44},"÷",{"$f":"IF(Worksheet!$B$6=1,CHOOSE(RANDBETWEEN(1,5),10,2,3,4,5),RANDBETWEEN(2,10))","v":8},"=",{"$f":"IF(Worksheet!$B$8,CONCATENATE(INT(P4/R4),IF(MOD(P4,R4)=0,\"\",\"r\"),IF(MOD(P4,R4)=0,\"\",MOD(P4,R4))),P4/R4)","v":"5r4"}]
[{"$f":"IF(ROW()<=Worksheet!$B$4/3,ROW(),\"\")","v":5},{"$f":"IF(Worksheet!$B$8,D5*RANDBETWEEN(0,10)+RANDBETWEEN(0,D5-1),D5*RANDBETWEEN(1,10))","v":26},"÷",{"$f":"IF(Worksheet!$B$6=1,CHOOSE(RANDBETWEEN(1,5),10,2,3,4,5),RANDBETWEEN(2,10))","v":4},"=",{"$f":"IF(Worksheet!$B$8,CONCATENATE(INT(B5/D5),IF(MOD(B5,D5)=0,\"\",\"r\"),IF(MOD(B5,D5)=0,\"\",MOD(B5,D5))),B5/D5)","v":"6r2"},null,30,{"$f":"IF(Worksheet!$B$8,K5*RANDBETWEEN(0,10)+RANDBETWEEN(0,K5-1),K5*RANDBETWEEN(1,10))","v":75},"÷",{"$f":"IF(Worksheet!$B$6=1,CHOOSE(RANDBETWEEN(1,5),10,2,3,4,5),RANDBETWEEN(2,10))","v":7},"=",{"$f":"IF(Worksheet!$B$8,CONCATENATE(INT(I5/K5),IF(MOD(I5,K5)=0,\"\",\"r\"),IF(MOD(I5,K5)=0,\"\",MOD(I5,K5))),I5/K5)","v":"10r5"},null,55,{"$f":"IF(Worksheet!$B$8,R5*RANDBETWEEN(0,10)+RANDBETWEEN(0,R5-1),R5*RANDBETWEEN(1,10))","v":48},"÷",{"$f":"IF(Worksheet!$B$6=1,CHOOSE(RANDBETWEEN(1,5),10,2,3,4,5),RANDBETWEEN(2,10))","v":7},"=",{"$f":"IF(Worksheet!$B$8,CONCATENATE(INT(P5/R5),IF(MOD(P5,R5)=0,\"\",\"r\"),IF(MOD(P5,R5)=0,\"\",MOD(P5,R5))),P5/R5)","v":"6r6"}]
[{"$f":"IF(ROW()<=Worksheet!$B$4/3,ROW(),\"\")","v":6},{"$f":"IF(Worksheet!$B$8,D6*RANDBETWEEN(0,10)+RANDBETWEEN(0,D6-1),D6*RANDBETWEEN(1,10))","v":34},"÷",{"$f":"IF(Worksheet!$B$6=1,CHOOSE(RANDBETWEEN(1,5),10,2,3,4,5),RANDBETWEEN(2,10))","v":5},"=",{"$f":"IF(Worksheet!$B$8,CONCATENATE(INT(B6/D6),IF(MOD(B6,D6)=0,\"\",\"r\"),IF(MOD(B6,D6)=0,\"\",MOD(B6,D6))),B6/D6)","v":"6r4"},null,31,{"$f":"IF(Worksheet!$B$8,K6*RANDBETWEEN(0,10)+RANDBETWEEN(0,K6-1),K6*RANDBETWEEN(1,10))","v":59},"÷",{"$f":"IF(Worksheet!$B$6=1,CHOOSE(RANDBETWEEN(1,5),10,2,3,4,5),RANDBETWEEN(2,10))","v":6},"=",{"$f":"IF(Worksheet!$B$8,CONCATENATE(INT(I6/K6),IF(MOD(I6,K6)=0,\"\",\"r\"),IF(MOD(I6,K6)=0,\"\",MOD(I6,K6))),I6/K6)","v":"9r5"},null,56,{"$f":"IF(Worksheet!$B$8,R6*RANDBETWEEN(0,10)+RANDBETWEEN(0,R6-1),R6*RANDBETWEEN(1,10))","v":17},"÷",{"$f":"IF(Worksheet!$B$6=1,CHOOSE(RANDBETWEEN(1,5),10,2,3,4,5),RANDBETWEEN(2,10))","v":2},"=",{"$f":"IF(Worksheet!$B$8,CONCATENATE(INT(P6/R6),IF(MOD(P6,R6)=0,\"\",\"r\"),IF(MOD(P6,R6)=0,\"\",MOD(P6,R6))),P6/R6)","v":"8r1"}]
[{"$f":"IF(ROW()<=Worksheet!$B$4/3,ROW(),\"\")","v":7},{"$f":"IF(Worksheet!$B$8,D7*RANDBETWEEN(0,10)+RANDBETWEEN(0,D7-1),D7*RANDBETWEEN(1,10))","v":27},"÷",{"$f":"IF(Worksheet!$B$6=1,CHOOSE(RANDBETWEEN(1,5),10,2,3,4,5),RANDBETWEEN(2,10))","v":4},"=",{"$f":"IF(Worksheet!$B$8,CONCATENATE(INT(B7/D7),IF(MOD(B7,D7)=0,\"\",\"r\"),IF(MOD(B7,D7)=0,\"\",MOD(B7,D7))),B7/D7)","v":"6r3"},null,32,{"$f":"IF(Worksheet!$B$8,K7*RANDBETWEEN(0,10)+RANDBETWEEN(0,K7-1),K7*RANDBETWEEN(1,10))","v":39},"÷",{"$f":"IF(Worksheet!$B$6=1,CHOOSE(RANDBETWEEN(1,5),10,2,3,4,5),RANDBETWEEN(2,10))","v":10},"=",{"$f":"IF(Worksheet!$B$8,CONCATENATE(INT(I7/K7),IF(MOD(I7,K7)=0,\"\",\"r\"),IF(MOD(I7,K7)=0,\"\",MOD(I7,K7))),I7/K7)","v":"3r9"},null,57,{"$f":"IF(Worksheet!$B$8,R7*RANDBETWEEN(0,10)+RANDBETWEEN(0,R7-1),R7*RANDBETWEEN(1,10))","v":21},"÷",{"$f":"IF(Worksheet!$B$6=1,CHOOSE(RANDBETWEEN(1,5),10,2,3,4,5),RANDBETWEEN(2,10))","v":4},"=",{"$f":"IF(Worksheet!$B$8,CONCATENATE(INT(P7/R7),IF(MOD(P7,R7)=0,\"\",\"r\"),IF(MOD(P7,R7)=0,\"\",MOD(P7,R7))),P7/R7)","v":"5r1"}]
[{"$f":"IF(ROW()<=Worksheet!$B$4/3,ROW(),\"\")","v":8},{"$f":"IF(Worksheet!$B$8,D8*RANDBETWEEN(0,10)+RANDBETWEEN(0,D8-1),D8*RANDBETWEEN(1,10))","v":33},"÷",{"$f":"IF(Worksheet!$B$6=1,CHOOSE(RANDBETWEEN(1,5),10,2,3,4,5),RANDBETWEEN(2,10))","v":6},"=",{"$f":"IF(Worksheet!$B$8,CONCATENATE(INT(B8/D8),IF(MOD(B8,D8)=0,\"\",\"r\"),IF(MOD(B8,D8)=0,\"\",MOD(B8,D8))),B8/D8)","v":"5r3"},null,33,{"$f":"IF(Worksheet!$B$8,K8*RANDBETWEEN(0,10)+RANDBETWEEN(0,K8-1),K8*RANDBETWEEN(1,10))","v":36},"÷",{"$f":"IF(Worksheet!$B$6=1,CHOOSE(RANDBETWEEN(1,5),10,2,3,4,5),RANDBETWEEN(2,10))","v":10},"=",{"$f":"IF(Worksheet!$B$8,CONCATENATE(INT(I8/K8),IF(MOD(I8,K8)=0,\"\",\"r\"),IF(MOD(I8,K8)=0,\"\",MOD(I8,K8))),I8/K8)","v":"3r6"},null,58,{"$f":"IF(Worksheet!$B$8,R8*RANDBETWEEN(0,10)+RANDBETWEEN(0,R8-1),R8*RANDBETWEEN(1,10))","v":2},"÷",{"$f":"IF(Worksheet!$B$6=1,CHOOSE(RANDBETWEEN(1,5),10,2,3,4,5),RANDBETWEEN(2,10))","v":2},"=",{"$f":"IF(Worksheet!$B$8,CONCATENATE(INT(P8/R8),IF(MOD(P8,R8)=0,\"\",\"r\"),IF(MOD(P8,R8)=0,\"\",MOD(P8,R8))),P8/R8)","v":"1"}]
[{"$f":"IF(ROW()<=Worksheet!$B$4/3,ROW(),\"\")","v":9},{"$f":"IF(Worksheet!$B$8,D9*RANDBETWEEN(0,10)+RANDBETWEEN(0,D9-1),D9*RANDBETWEEN(1,10))","v":0},"÷",{"$f":"IF(Worksheet!$B$6=1,CHOOSE(RANDBETWEEN(1,5),10,2,3,4,5),RANDBETWEEN(2,10))","v":5},"=",{"$f":"IF(Worksheet!$B$8,CONCATENATE(INT(B9/D9),IF(MOD(B9,D9)=0,\"\",\"r\"),IF(MOD(B9,D9)=0,\"\",MOD(B9,D9))),B9/D9)","v":"0"},null,34,{"$f":"IF(Worksheet!$B$8,K9*RANDBETWEEN(0,10)+RANDBETWEEN(0,K9-1),K9*RANDBETWEEN(1,10))","v":17},"÷",{"$f":"IF(Worksheet!$B$6=1,CHOOSE(RANDBETWEEN(1,5),10,2,3,4,5),RANDBETWEEN(2,10))","v":3},"=",{"$f":"IF(Worksheet!$B$8,CONCATENATE(INT(I9/K9),IF(MOD(I9,K9)=0,\"\",\"r\"),IF(MOD(I9,K9)=0,\"\",MOD(I9,K9))),I9/K9)","v":"5r2"},null,59,{"$f":"IF(Worksheet!$B$8,R9*RANDBETWEEN(0,10)+RANDBETWEEN(0,R9-1),R9*RANDBETWEEN(1,10))","v":51},"÷",{"$f":"IF(Worksheet!$B$6=1,CHOOSE(RANDBETWEEN(1,5),10,2,3,4,5),RANDBETWEEN(2,10))","v":7},"=",{"$f":"IF(Worksheet!$B$8,CONCATENATE(INT(P9/R9),IF(MOD(P9,R9)=0,\"\",\"r\"),IF(MOD(P9,R9)=0,\"\",MOD(P9,R9))),P9/R9)","v":"7r2"}]
[{"$f":"IF(ROW()<=Worksheet!$B$4/3,ROW(),\"\")","v":10},{"$f":"IF(Worksheet!$B$8,D10*RANDBETWEEN(0,10)+RANDBETWEEN(0,D10-1),D10*RANDBETWEEN(1,10))","v":24},"÷",{"$f":"IF(Worksheet!$B$6=1,CHOOSE(RANDBETWEEN(1,5),10,2,3,4,5),RANDBETWEEN(2,10))","v":3},"=",{"$f":"IF(Worksheet!$B$8,CONCATENATE(INT(B10/D10),IF(MOD(B10,D10)=0,\"\",\"r\"),IF(MOD(B10,D10)=0,\"\",MOD(B10,D10))),B10/D10)","v":"8"},null,35,{"$f":"IF(Worksheet!$B$8,K10*RANDBETWEEN(0,10)+RANDBETWEEN(0,K10-1),K10*RANDBETWEEN(1,10))","v":15},"÷",{"$f":"IF(Worksheet!$B$6=1,CHOOSE(RANDBETWEEN(1,5),10,2,3,4,5),RANDBETWEEN(2,10))","v":4},"=",{"$f":"IF(Worksheet!$B$8,CONCATENATE(INT(I10/K10),IF(MOD(I10,K10)=0,\"\",\"r\"),IF(MOD(I10,K10)=0,\"\",MOD(I10,K10))),I10/K10)","v":"3r3"},null,60,{"$f":"IF(Worksheet!$B$8,R10*RANDBETWEEN(0,10)+RANDBETWEEN(0,R10-1),R10*RANDBETWEEN(1,10))","v":10},"÷",{"$f":"IF(Worksheet!$B$6=1,CHOOSE(RANDBETWEEN(1,5),10,2,3,4,5),RANDBETWEEN(2,10))","v":2},"=",{"$f":"IF(Worksheet!$B$8,CONCATENATE(INT(P10/R10),IF(MOD(P10,R10)=0,\"\",\"r\"),IF(MOD(P10,R10)=0,\"\",MOD(P10,R10))),P10/R10)","v":"5"}]
[{"$f":"IF(ROW()<=Worksheet!$B$4/3,ROW(),\"\")","v":11},{"$f":"IF(Worksheet!$B$8,D11*RANDBETWEEN(0,10)+RANDBETWEEN(0,D11-1),D11*RANDBETWEEN(1,10))","v":0},"÷",{"$f":"IF(Worksheet!$B$6=1,CHOOSE(RANDBETWEEN(1,5),10,2,3,4,5),RANDBETWEEN(2,10))","v":9},"=",{"$f":"IF(Worksheet!$B$8,CONCATENATE(INT(B11/D11),IF(MOD(B11,D11)=0,\"\",\"r\"),IF(MOD(B11,D11)=0,\"\",MOD(B11,D11))),B11/D11)","v":"0"},null,36,{"$f":"IF(Worksheet!$B$8,K11*RANDBETWEEN(0,10)+RANDBETWEEN(0,K11-1),K11*RANDBETWEEN(1,10))","v":35},"÷",{"$f":"IF(Worksheet!$B$6=1,CHOOSE(RANDBETWEEN(1,5),10,2,3,4,5),RANDBETWEEN(2,10))","v":4},"=",{"$f":"IF(Worksheet!$B$8,CONCATENATE(INT(I11/K11),IF(MOD(I11,K11)=0,\"\",\"r\"),IF(MOD(I11,K11)=0,\"\",MOD(I11,K11))),I11/K11)","v":"8r3"},null,61,{"$f":"IF(Worksheet!$B$8,R11*RANDBETWEEN(0,10)+RANDBETWEEN(0,R11-1),R11*RANDBETWEEN(1,10))","v":26},"÷",{"$f":"IF(Worksheet!$B$6=1,CHOOSE(RANDBETWEEN(1,5),10,2,3,4,5),RANDBETWEEN(2,10))","v":10},"=",{"$f":"IF(Worksheet!$B$8,CONCATENATE(INT(P11/R11),IF(MOD(P11,R11)=0,\"\",\"r\"),IF(MOD(P11,R11)=0,\"\",MOD(P11,R11))),P11/R11)","v":"2r6"}]
[{"$f":"IF(ROW()<=Worksheet!$B$4/3,ROW(),\"\")","v":12},{"$f":"IF(Worksheet!$B$8,D12*RANDBETWEEN(0,10)+RANDBETWEEN(0,D12-1),D12*RANDBETWEEN(1,10))","v":8},"÷",{"$f":"IF(Worksheet!$B$6=1,CHOOSE(RANDBETWEEN(1,5),10,2,3,4,5),RANDBETWEEN(2,10))","v":3},"=",{"$f":"IF(Worksheet!$B$8,CONCATENATE(INT(B12/D12),IF(MOD(B12,D12)=0,\"\",\"r\"),IF(MOD(B12,D12)=0,\"\",MOD(B12,D12))),B12/D12)","v":"2r2"},null,37,{"$f":"IF(Worksheet!$B$8,K12*RANDBETWEEN(0,10)+RANDBETWEEN(0,K12-1),K12*RANDBETWEEN(1,10))","v":86},"÷",{"$f":"IF(Worksheet!$B$6=1,CHOOSE(RANDBETWEEN(1,5),10,2,3,4,5),RANDBETWEEN(2,10))","v":8},"=",{"$f":"IF(Worksheet!$B$8,CONCATENATE(INT(I12/K12),IF(MOD(I12,K12)=0,\"\",\"r\"),IF(MOD(I12,K12)=0,\"\",MOD(I12,K12))),I12/K12)","v":"10r6"},null,62,{"$f":"IF(Worksheet!$B$8,R12*RANDBETWEEN(0,10)+RANDBETWEEN(0,R12-1),R12*RANDBETWEEN(1,10))","v":17},"÷",{"$f":"IF(Worksheet!$B$6=1,CHOOSE(RANDBETWEEN(1,5),10,2,3,4,5),RANDBETWEEN(2,10))","v":3},"=",{"$f":"IF(Worksheet!$B$8,CONCATENATE(INT(P12/R12),IF(MOD(P12,R12)=0,\"\",\"r\"),IF(MOD(P12,R12)=0,\"\",MOD(P12,R12))),P12/R12)","v":"5r2"}]
[{"$f":"IF(ROW()<=Worksheet!$B$4/3,ROW(),\"\")","v":13},{"$f":"IF(Worksheet!$B$8,D13*RANDBETWEEN(0,10)+RANDBETWEEN(0,D13-1),D13*RANDBETWEEN(1,10))","v":21},"÷",{"$f":"IF(Worksheet!$B$6=1,CHOOSE(RANDBETWEEN(1,5),10,2,3,4,5),RANDBETWEEN(2,10))","v":6},"=",{"$f":"IF(Worksheet!$B$8,CONCATENATE(INT(B13/D13),IF(MOD(B13,D13)=0,\"\",\"r\"),IF(MOD(B13,D13)=0,\"\",MOD(B13,D13))),B13/D13)","v":"3r3"},null,38,{"$f":"IF(Worksheet!$B$8,K13*RANDBETWEEN(0,10)+RANDBETWEEN(0,K13-1),K13*RANDBETWEEN(1,10))","v":34},"÷",{"$f":"IF(Worksheet!$B$6=1,CHOOSE(RANDBETWEEN(1,5),10,2,3,4,5),RANDBETWEEN(2,10))","v":7},"=",{"$f":"IF(Worksheet!$B$8,CONCATENATE(INT(I13/K13),IF(MOD(I13,K13)=0,\"\",\"r\"),IF(MOD(I13,K13)=0,\"\",MOD(I13,K13))),I13/K13)","v":"4r6"},null,63,{"$f":"IF(Worksheet!$B$8,R13*RANDBETWEEN(0,10)+RANDBETWEEN(0,R13-1),R13*RANDBETWEEN(1,10))","v":21},"÷",{"$f":"IF(Worksheet!$B$6=1,CHOOSE(RANDBETWEEN(1,5),10,2,3,4,5),RANDBETWEEN(2,10))","v":6},"=",{"$f":"IF(Worksheet!$B$8,CONCATENATE(INT(P13/R13),IF(MOD(P13,R13)=0,\"\",\"r\"),IF(MOD(P13,R13)=0,\"\",MOD(P13,R13))),P13/R13)","v":"3r3"}]
[{"$f":"IF(ROW()<=Worksheet!$B$4/3,ROW(),\"\")","v":14},{"$f":"IF(Worksheet!$B$8,D14*RANDBETWEEN(0,10)+RANDBETWEEN(0,D14-1),D14*RANDBETWEEN(1,10))","v":10},"÷",{"$f":"IF(Worksheet!$B$6=1,CHOOSE(RANDBETWEEN(1,5),10,2,3,4,5),RANDBETWEEN(2,10))","v":5},"=",{"$f":"IF(Worksheet!$B$8,CONCATENATE(INT(B14/D14),IF(MOD(B14,D14)=0,\"\",\"r\"),IF(MOD(B14,D14)=0,\"\",MOD(B14,D14))),B14/D14)","v":"2"},null,39,{"$f":"IF(Worksheet!$B$8,K14*RANDBETWEEN(0,10)+RANDBETWEEN(0,K14-1),K14*RANDBETWEEN(1,10))","v":8},"÷",{"$f":"IF(Worksheet!$B$6=1,CHOOSE(RANDBETWEEN(1,5),10,2,3,4,5),RANDBETWEEN(2,10))","v":3},"=",{"$f":"IF(Worksheet!$B$8,CONCATENATE(INT(I14/K14),IF(MOD(I14,K14)=0,\"\",\"r\"),IF(MOD(I14,K14)=0,\"\",MOD(I14,K14))),I14/K14)","v":"2r2"},null,64,{"$f":"IF(Worksheet!$B$8,R14*RANDBETWEEN(0,10)+RANDBETWEEN(0,R14-1),R14*RANDBETWEEN(1,10))","v":20},"÷",{"$f":"IF(Worksheet!$B$6=1,CHOOSE(RANDBETWEEN(1,5),10,2,3,4,5),RANDBETWEEN(2,10))","v":2},"=",{"$f":"IF(Worksheet!$B$8,CONCATENATE(INT(P14/R14),IF(MOD(P14,R14)=0,\"\",\"r\"),IF(MOD(P14,R14)=0,\"\",MOD(P14,R14))),P14/R14)","v":"10"}]
[{"$f":"IF(ROW()<=Worksheet!$B$4/3,ROW(),\"\")","v":15},{"$f":"IF(Worksheet!$B$8,D15*RANDBETWEEN(0,10)+RANDBETWEEN(0,D15-1),D15*RANDBETWEEN(1,10))","v":20},"÷",{"$f":"IF(Worksheet!$B$6=1,CHOOSE(RANDBETWEEN(1,5),10,2,3,4,5),RANDBETWEEN(2,10))","v":5},"=",{"$f":"IF(Worksheet!$B$8,CONCATENATE(INT(B15/D15),IF(MOD(B15,D15)=0,\"\",\"r\"),IF(MOD(B15,D15)=0,\"\",MOD(B15,D15))),B15/D15)","v":"4"},null,40,{"$f":"IF(Worksheet!$B$8,K15*RANDBETWEEN(0,10)+RANDBETWEEN(0,K15-1),K15*RANDBETWEEN(1,10))","v":6},"÷",{"$f":"IF(Worksheet!$B$6=1,CHOOSE(RANDBETWEEN(1,5),10,2,3,4,5),RANDBETWEEN(2,10))","v":3},"=",{"$f":"IF(Worksheet!$B$8,CONCATENATE(INT(I15/K15),IF(MOD(I15,K15)=0,\"\",\"r\"),IF(MOD(I15,K15)=0,\"\",MOD(I15,K15))),I15/K15)","v":"2"},null,65,{"$f":"IF(Worksheet!$B$8,R15*RANDBETWEEN(0,10)+RANDBETWEEN(0,R15-1),R15*RANDBETWEEN(1,10))","v":25},"÷",{"$f":"IF(Worksheet!$B$6=1,CHOOSE(RANDBETWEEN(1,5),10,2,3,4,5),RANDBETWEEN(2,10))","v":4},"=",{"$f":"IF(Worksheet!$B$8,CONCATENATE(INT(P15/R15),IF(MOD(P15,R15)=0,\"\",\"r\"),IF(MOD(P15,R15)=0,\"\",MOD(P15,R15))),P15/R15)","v":"6r1"}]
[{"$f":"IF(ROW()<=Worksheet!$B$4/3,ROW(),\"\")","v":16},{"$f":"IF(Worksheet!$B$8,D16*RANDBETWEEN(0,10)+RANDBETWEEN(0,D16-1),D16*RANDBETWEEN(1,10))","v":54},"÷",{"$f":"IF(Worksheet!$B$6=1,CHOOSE(RANDBETWEEN(1,5),10,2,3,4,5),RANDBETWEEN(2,10))","v":8},"=",{"$f":"IF(Worksheet!$B$8,CONCATENATE(INT(B16/D16),IF(MOD(B16,D16)=0,\"\",\"r\"),IF(MOD(B16,D16)=0,\"\",MOD(B16,D16))),B16/D16)","v":"6r6"},null,41,{"$f":"IF(Worksheet!$B$8,K16*RANDBETWEEN(0,10)+RANDBETWEEN(0,K16-1),K16*RANDBETWEEN(1,10))","v":39},"÷",{"$f":"IF(Worksheet!$B$6=1,CHOOSE(RANDBETWEEN(1,5),10,2,3,4,5),RANDBETWEEN(2,10))","v":5},"=",{"$f":"IF(Worksheet!$B$8,CONCATENATE(INT(I16/K16),IF(MOD(I16,K16)=0,\"\",\"r\"),IF(MOD(I16,K16)=0,\"\",MOD(I16,K16))),I16/K16)","v":"7r4"},null,66,{"$f":"IF(Worksheet!$B$8,R16*RANDBETWEEN(0,10)+RANDBETWEEN(0,R16-1),R16*RANDBETWEEN(1,10))","v":45},"÷",{"$f":"IF(Worksheet!$B$6=1,CHOOSE(RANDBETWEEN(1,5),10,2,3,4,5),RANDBETWEEN(2,10))","v":6},"=",{"$f":"IF(Worksheet!$B$8,CONCATENATE(INT(P16/R16),IF(MOD(P16,R16)=0,\"\",\"r\"),IF(MOD(P16,R16)=0,\"\",MOD(P16,R16))),P16/R16)","v":"7r3"}]
[{"$f":"IF(ROW()<=Worksheet!$B$4/3,ROW(),\"\")","v":17},{"$f":"IF(Worksheet!$B$8,D17*RANDBETWEEN(0,10)+RANDBETWEEN(0,D17-1),D17*RANDBETWEEN(1,10))","v":31},"÷",{"$f":"IF(Worksheet!$B$6=1,CHOOSE(RANDBETWEEN(1,5),10,2,3,4,5),RANDBETWEEN(2,10))","v":7},"=",{"$f":"IF(Worksheet!$B$8,CONCATENATE(INT(B17/D17),IF(MOD(B17,D17)=0,\"\",\"r\"),IF(MOD(B17,D17)=0,\"\",MOD(B17,D17))),B17/D17)","v":"4r3"},null,42,{"$f":"IF(Worksheet!$B$8,K17*RANDBETWEEN(0,10)+RANDBETWEEN(0,K17-1),K17*RANDBETWEEN(1,10))","v":67},"÷",{"$f":"IF(Worksheet!$B$6=1,CHOOSE(RANDBETWEEN(1,5),10,2,3,4,5),RANDBETWEEN(2,10))","v":9},"=",{"$f":"IF(Worksheet!$B$8,CONCATENATE(INT(I17/K17),IF(MOD(I17,K17)=0,\"\",\"r\"),IF(MOD(I17,K17)=0,\"\",MOD(I17,K17))),I17/K17)","v":"7r4"},null,67,{"$f":"IF(Worksheet!$B$8,R17*RANDBETWEEN(0,10)+RANDBETWEEN(0,R17-1),R17*RANDBETWEEN(1,10))","v":76},"÷",{"$f":"IF(Worksheet!$B$6=1,CHOOSE(RANDBETWEEN(1,5),10,2,3,4,5),RANDBETWEEN(2,10))","v":9},"=",{"$f":"IF(Worksheet!$B$8,CONCATENATE(INT(P17/R17),IF(MOD(P17,R17)=0,\"\",\"r\"),IF(MOD(P17,R17)=0,\"\",MOD(P17,R17))),P17/R17)","v":"8r4"}]
[{"$f":"IF(ROW()<=Worksheet!$B$4/3,ROW(),\"\")","v":18},{"$f":"IF(Worksheet!$B$8,D18*RANDBETWEEN(0,10)+RANDBETWEEN(0,D18-1),D18*RANDBETWEEN(1,10))","v":75},"÷",{"$f":"IF(Worksheet!$B$6=1,CHOOSE(RANDBETWEEN(1,5),10,2,3,4,5),RANDBETWEEN(2,10))","v":9},"=",{"$f":"IF(Worksheet!$B$8,CONCATENATE(INT(B18/D18),IF(MOD(B18,D18)=0,\"\",\"r\"),IF(MOD(B18,D18)=0,\"\",MOD(B18,D18))),B18/D18)","v":"8r3"},null,43,{"$f":"IF(Worksheet!$B$8,K18*RANDBETWEEN(0,10)+RANDBETWEEN(0,K18-1),K18*RANDBETWEEN(1,10))","v":32},"÷",{"$f":"IF(Worksheet!$B$6=1,CHOOSE(RANDBETWEEN(1,5),10,2,3,4,5),RANDBETWEEN(2,10))","v":5},"=",{"$f":"IF(Worksheet!$B$8,CONCATENATE(INT(I18/K18),IF(MOD(I18,K18)=0,\"\",\"r\"),IF(MOD(I18,K18)=0,\"\",MOD(I18,K18))),I18/K18)","v":"6r2"},null,68,{"$f":"IF(Worksheet!$B$8,R18*RANDBETWEEN(0,10)+RANDBETWEEN(0,R18-1),R18*RANDBETWEEN(1,10))","v":25},"÷",{"$f":"IF(Worksheet!$B$6=1,CHOOSE(RANDBETWEEN(1,5),10,2,3,4,5),RANDBETWEEN(2,10))","v":6},"=",{"$f":"IF(Worksheet!$B$8,CONCATENATE(INT(P18/R18),IF(MOD(P18,R18)=0,\"\",\"r\"),IF(MOD(P18,R18)=0,\"\",MOD(P18,R18))),P18/R18)","v":"4r1"}]
[{"$f":"IF(ROW()<=Worksheet!$B$4/3,ROW(),\"\")","v":19},{"$f":"IF(Worksheet!$B$8,D19*RANDBETWEEN(0,10)+RANDBETWEEN(0,D19-1),D19*RANDBETWEEN(1,10))","v":37},"÷",{"$f":"IF(Worksheet!$B$6=1,CHOOSE(RANDBETWEEN(1,5),10,2,3,4,5),RANDBETWEEN(2,10))","v":4},"=",{"$f":"IF(Worksheet!$B$8,CONCATENATE(INT(B19/D19),IF(MOD(B19,D19)=0,\"\",\"r\"),IF(MOD(B19,D19)=0,\"\",MOD(B19,D19))),B19/D19)","v":"9r1"},null,44,{"$f":"IF(Worksheet!$B$8,K19*RANDBETWEEN(0,10)+RANDBETWEEN(0,K19-1),K19*RANDBETWEEN(1,10))","v":45},"÷",{"$f":"IF(Worksheet!$B$6=1,CHOOSE(RANDBETWEEN(1,5),10,2,3,4,5),RANDBETWEEN(2,10))","v":6},"=",{"$f":"IF(Worksheet!$B$8,CONCATENATE(INT(I19/K19),IF(MOD(I19,K19)=0,\"\",\"r\"),IF(MOD(I19,K19)=0,\"\",MOD(I19,K19))),I19/K19)","v":"7r3"},null,69,{"$f":"IF(Worksheet!$B$8,R19*RANDBETWEEN(0,10)+RANDBETWEEN(0,R19-1),R19*RANDBETWEEN(1,10))","v":8},"÷",{"$f":"IF(Worksheet!$B$6=1,CHOOSE(RANDBETWEEN(1,5),10,2,3,4,5),RANDBETWEEN(2,10))","v":6},"=",{"$f":"IF(Worksheet!$B$8,CONCATENATE(INT(P19/R19),IF(MOD(P19,R19)=0,\"\",\"r\"),IF(MOD(P19,R19)=0,\"\",MOD(P19,R19))),P19/R19)","v":"1r2"}]
[{"$f":"IF(ROW()<=Worksheet!$B$4/3,ROW(),\"\")","v":20},{"$f":"IF(Worksheet!$B$8,D20*RANDBETWEEN(0,10)+RANDBETWEEN(0,D20-1),D20*RANDBETWEEN(1,10))","v":48},"÷",{"$f":"IF(Worksheet!$B$6=1,CHOOSE(RANDBETWEEN(1,5),10,2,3,4,5),RANDBETWEEN(2,10))","v":8},"=",{"$f":"IF(Worksheet!$B$8,CONCATENATE(INT(B20/D20),IF(MOD(B20,D20)=0,\"\",\"r\"),IF(MOD(B20,D20)=0,\"\",MOD(B20,D20))),B20/D20)","v":"6"},null,45,{"$f":"IF(Worksheet!$B$8,K20*RANDBETWEEN(0,10)+RANDBETWEEN(0,K20-1),K20*RANDBETWEEN(1,10))","v":29},"÷",{"$f":"IF(Worksheet!$B$6=1,CHOOSE(RANDBETWEEN(1,5),10,2,3,4,5),RANDBETWEEN(2,10))","v":4},"=",{"$f":"IF(Worksheet!$B$8,CONCATENATE(INT(I20/K20),IF(MOD(I20,K20)=0,\"\",\"r\"),IF(MOD(I20,K20)=0,\"\",MOD(I20,K20))),I20/K20)","v":"7r1"},null,70,{"$f":"IF(Worksheet!$B$8,R20*RANDBETWEEN(0,10)+RANDBETWEEN(0,R20-1),R20*RANDBETWEEN(1,10))","v":27},"÷",{"$f":"IF(Worksheet!$B$6=1,CHOOSE(RANDBETWEEN(1,5),10,2,3,4,5),RANDBETWEEN(2,10))","v":9},"=",{"$f":"IF(Worksheet!$B$8,CONCATENATE(INT(P20/R20),IF(MOD(P20,R20)=0,\"\",\"r\"),IF(MOD(P20,R20)=0,\"\",MOD(P20,R20))),P20/R20)","v":"3"}]
[{"$f":"IF(ROW()<=Worksheet!$B$4/3,ROW(),\"\")","v":21},{"$f":"IF(Worksheet!$B$8,D21*RANDBETWEEN(0,10)+RANDBETWEEN(0,D21-1),D21*RANDBETWEEN(1,10))","v":80},"÷",{"$f":"IF(Worksheet!$B$6=1,CHOOSE(RANDBETWEEN(1,5),10,2,3,4,5),RANDBETWEEN(2,10))","v":8},"=",{"$f":"IF(Worksheet!$B$8,CONCATENATE(INT(B21/D21),IF(MOD(B21,D21)=0,\"\",\"r\"),IF(MOD(B21,D21)=0,\"\",MOD(B21,D21))),B21/D21)","v":"10"},null,46,{"$f":"IF(Worksheet!$B$8,K21*RANDBETWEEN(0,10)+RANDBETWEEN(0,K21-1),K21*RANDBETWEEN(1,10))","v":26},"÷",{"$f":"IF(Worksheet!$B$6=1,CHOOSE(RANDBETWEEN(1,5),10,2,3,4,5),RANDBETWEEN(2,10))","v":3},"=",{"$f":"IF(Worksheet!$B$8,CONCATENATE(INT(I21/K21),IF(MOD(I21,K21)=0,\"\",\"r\"),IF(MOD(I21,K21)=0,\"\",MOD(I21,K21))),I21/K21)","v":"8r2"},null,71,{"$f":"IF(Worksheet!$B$8,R21*RANDBETWEEN(0,10)+RANDBETWEEN(0,R21-1),R21*RANDBETWEEN(1,10))","v":25},"÷",{"$f":"IF(Worksheet!$B$6=1,CHOOSE(RANDBETWEEN(1,5),10,2,3,4,5),RANDBETWEEN(2,10))","v":10},"=",{"$f":"IF(Worksheet!$B$8,CONCATENATE(INT(P21/R21),IF(MOD(P21,R21)=0,\"\",\"r\"),IF(MOD(P21,R21)=0,\"\",MOD(P21,R21))),P21/R21)","v":"2r5"}]
[{"$f":"IF(ROW()<=Worksheet!$B$4/3,ROW(),\"\")","v":22},{"$f":"IF(Worksheet!$B$8,D22*RANDBETWEEN(0,10)+RANDBETWEEN(0,D22-1),D22*RANDBETWEEN(1,10))","v":41},"÷",{"$f":"IF(Worksheet!$B$6=1,CHOOSE(RANDBETWEEN(1,5),10,2,3,4,5),RANDBETWEEN(2,10))","v":7},"=",{"$f":"IF(Worksheet!$B$8,CONCATENATE(INT(B22/D22),IF(MOD(B22,D22)=0,\"\",\"r\"),IF(MOD(B22,D22)=0,\"\",MOD(B22,D22))),B22/D22)","v":"5r6"},null,47,{"$f":"IF(Worksheet!$B$8,K22*RANDBETWEEN(0,10)+RANDBETWEEN(0,K22-1),K22*RANDBETWEEN(1,10))","v":13},"÷",{"$f":"IF(Worksheet!$B$6=1,CHOOSE(RANDBETWEEN(1,5),10,2,3,4,5),RANDBETWEEN(2,10))","v":6},"=",{"$f":"IF(Worksheet!$B$8,CONCATENATE(INT(I22/K22),IF(MOD(I22,K22)=0,\"\",\"r\"),IF(MOD(I22,K22)=0,\"\",MOD(I22,K22))),I22/K22)","v":"2r1"},null,72,{"$f":"IF(Worksheet!$B$8,R22*RANDBETWEEN(0,10)+RANDBETWEEN(0,R22-1),R22*RANDBETWEEN(1,10))","v":41},"÷",{"$f":"IF(Worksheet!$B$6=1,CHOOSE(RANDBETWEEN(1,5),10,2,3,4,5),RANDBETWEEN(2,10))","v":10},"=",{"$f":"IF(Worksheet!$B$8,CONCATENATE(INT(P22/R22),IF(MOD(P22,R22)=0,\"\",\"r\"),IF(MOD(P22,R22)=0,\"\",MOD(P22,R22))),P22/R22)","v":"4r1"}]
[{"$f":"IF(ROW()<=Worksheet!$B$4/3,ROW(),\"\")","v":23},{"$f":"IF(Worksheet!$B$8,D23*RANDBETWEEN(0,10)+RANDBETWEEN(0,D23-1),D23*RANDBETWEEN(1,10))","v":3},"÷",{"$f":"IF(Worksheet!$B$6=1,CHOOSE(RANDBETWEEN(1,5),10,2,3,4,5),RANDBETWEEN(2,10))","v":2},"=",{"$f":"IF(Worksheet!$B$8,CONCATENATE(INT(B23/D23),IF(MOD(B23,D23)=0,\"\",\"r\"),IF(MOD(B23,D23)=0,\"\",MOD(B23,D23))),B23/D23)","v":"1r1"},null,48,{"$f":"IF(Worksheet!$B$8,K23*RANDBETWEEN(0,10)+RANDBETWEEN(0,K23-1),K23*RANDBETWEEN(1,10))","v":56},"÷",{"$f":"IF(Worksheet!$B$6=1,CHOOSE(RANDBETWEEN(1,5),10,2,3,4,5),RANDBETWEEN(2,10))","v":9},"=",{"$f":"IF(Worksheet!$B$8,CONCATENATE(INT(I23/K23),IF(MOD(I23,K23)=0,\"\",\"r\"),IF(MOD(I23,K23)=0,\"\",MOD(I23,K23))),I23/K23)","v":"6r2"},null,73,{"$f":"IF(Worksheet!$B$8,R23*RANDBETWEEN(0,10)+RANDBETWEEN(0,R23-1),R23*RANDBETWEEN(1,10))","v":37},"÷",{"$f":"IF(Worksheet!$B$6=1,CHOOSE(RANDBETWEEN(1,5),10,2,3,4,5),RANDBETWEEN(2,10))","v":4},"=",{"$f":"IF(Worksheet!$B$8,CONCATENATE(INT(P23/R23),IF(MOD(P23,R23)=0,\"\",\"r\"),IF(MOD(P23,R23)=0,\"\",MOD(P23,R23))),P23/R23)","v":"9r1"}]
[{"$f":"IF(ROW()<=Worksheet!$B$4/3,ROW(),\"\")","v":24},{"$f":"IF(Worksheet!$B$8,D24*RANDBETWEEN(0,10)+RANDBETWEEN(0,D24-1),D24*RANDBETWEEN(1,10))","v":49},"÷",{"$f":"IF(Worksheet!$B$6=1,CHOOSE(RANDBETWEEN(1,5),10,2,3,4,5),RANDBETWEEN(2,10))","v":7},"=",{"$f":"IF(Worksheet!$B$8,CONCATENATE(INT(B24/D24),IF(MOD(B24,D24)=0,\"\",\"r\"),IF(MOD(B24,D24)=0,\"\",MOD(B24,D24))),B24/D24)","v":"7"},null,49,{"$f":"IF(Worksheet!$B$8,K24*RANDBETWEEN(0,10)+RANDBETWEEN(0,K24-1),K24*RANDBETWEEN(1,10))","v":18},"÷",{"$f":"IF(Worksheet!$B$6=1,CHOOSE(RANDBETWEEN(1,5),10,2,3,4,5),RANDBETWEEN(2,10))","v":4},"=",{"$f":"IF(Worksheet!$B$8,CONCATENATE(INT(I24/K24),IF(MOD(I24,K24)=0,\"\",\"r\"),IF(MOD(I24,K24)=0,\"\",MOD(I24,K24))),I24/K24)","v":"4r2"},null,74,{"$f":"IF(Worksheet!$B$8,R24*RANDBETWEEN(0,10)+RANDBETWEEN(0,R24-1),R24*RANDBETWEEN(1,10))","v":4},"÷",{"$f":"IF(Worksheet!$B$6=1,CHOOSE(RANDBETWEEN(1,5),10,2,3,4,5),RANDBETWEEN(2,10))","v":6},"=",{"$f":"IF(Worksheet!$B$8,CONCATENATE(INT(P24/R24),IF(MOD(P24,R24)=0,\"\",\"r\"),IF(MOD(P24,R24)=0,\"\",MOD(P24,R24))),P24/R24)","v":"0r4"}]
[{"$f":"IF(ROW()<=Worksheet!$B$4/3,ROW(),\"\")","v":25},{"$f":"IF(Worksheet!$B$8,D25*RANDBETWEEN(0,10)+RANDBETWEEN(0,D25-1),D25*RANDBETWEEN(1,10))","v":13},"÷",{"$f":"IF(Worksheet!$B$6=1,CHOOSE(RANDBETWEEN(1,5),10,2,3,4,5),RANDBETWEEN(2,10))","v":2},"=",{"$f":"IF(Worksheet!$B$8,CONCATENATE(INT(B25/D25),IF(MOD(B25,D25)=0,\"\",\"r\"),IF(MOD(B25,D25)=0,\"\",MOD(B25,D25))),B25/D25)","v":"6r1"},null,50,{"$f":"IF(Worksheet!$B$8,K25*RANDBETWEEN(0,10)+RANDBETWEEN(0,K25-1),K25*RANDBETWEEN(1,10))","v":49},"÷",{"$f":"IF(Worksheet!$B$6=1,CHOOSE(RANDBETWEEN(1,5),10,2,3,4,5),RANDBETWEEN(2,10))","v":5},"=",{"$f":"IF(Worksheet!$B$8,CONCATENATE(INT(I25/K25),IF(MOD(I25,K25)=0,\"\",\"r\"),IF(MOD(I25,K25)=0,\"\",MOD(I25,K25))),I25/K25)","v":"9r4"},null,75,{"$f":"IF(Worksheet!$B$8,R25*RANDBETWEEN(0,10)+RANDBETWEEN(0,R25-1),R25*RANDBETWEEN(1,10))","v":15},"÷",{"$f":"IF(Worksheet!$B$6=1,CHOOSE(RANDBETWEEN(1,5),10,2,3,4,5),RANDBETWEEN(2,10))","v":4},"=",{"$f":"IF(Worksheet!$B$8,CONCATENATE(INT(P25/R25),IF(MOD(P25,R25)=0,\"\",\"r\"),IF(MOD(P25,R25)=0,\"\",MOD(P25,R25))),P25/R25)","v":"3r3"}]
[{"$f":"IF(ROW()<=Worksheet!$B$4/3,ROW(),\"\")","v":""},{"$f":"IF(Worksheet!$B$8,D26*RANDBETWEEN(0,10)+RANDBETWEEN(0,D26-1),D26*RANDBETWEEN(1,10))","v":93},"÷",{"$f":"IF(Worksheet!$B$6=1,CHOOSE(RANDBETWEEN(1,5),10,2,3,4,5),RANDBETWEEN(2,10))","v":10},"=",{"$f":"IF(Worksheet!$B$8,CONCATENATE(INT(B26/D26),IF(MOD(B26,D26)=0,\"\",\"r\"),IF(MOD(B26,D26)=0,\"\",MOD(B26,D26))),B26/D26)","v":"9r3"},null,"",{"$f":"IF(Worksheet!$B$8,K26*RANDBETWEEN(0,10)+RANDBETWEEN(0,K26-1),K26*RANDBETWEEN(1,10))","v":51},"÷",{"$f":"IF(Worksheet!$B$6=1,CHOOSE(RANDBETWEEN(1,5),10,2,3,4,5),RANDBETWEEN(2,10))","v":9},"=",{"$f":"IF(Worksheet!$B$8,CONCATENATE(INT(I26/K26),IF(MOD(I26,K26)=0,\"\",\"r\"),IF(MOD(I26,K26)=0,\"\",MOD(I26,K26))),I26/K26)","v":"5r6"},null,"",{"$f":"IF(Worksheet!$B$8,R26*RANDBETWEEN(0,10)+RANDBETWEEN(0,R26-1),R26*RANDBETWEEN(1,10))","v":46},"÷",{"$f":"IF(Worksheet!$B$6=1,CHOOSE(RANDBETWEEN(1,5),10,2,3,4,5),RANDBETWEEN(2,10))","v":5},"=",{"$f":"IF(Worksheet!$B$8,CONCATENATE(INT(P26/R26),IF(MOD(P26,R26)=0,\"\",\"r\"),IF(MOD(P26,R26)=0,\"\",MOD(P26,R26))),P26/R26)","v":"9r1"}]
[{"$f":"IF(ROW()<=Worksheet!$B$4/3,ROW(),\"\")","v":""},{"$f":"IF(Worksheet!$B$8,D27*RANDBETWEEN(0,10)+RANDBETWEEN(0,D27-1),D27*RANDBETWEEN(1,10))","v":24},"÷",{"$f":"IF(Worksheet!$B$6=1,CHOOSE(RANDBETWEEN(1,5),10,2,3,4,5),RANDBETWEEN(2,10))","v":5},"=",{"$f":"IF(Worksheet!$B$8,CONCATENATE(INT(B27/D27),IF(MOD(B27,D27)=0,\"\",\"r\"),IF(MOD(B27,D27)=0,\"\",MOD(B27,D27))),B27/D27)","v":"4r4"},null,"",{"$f":"IF(Worksheet!$B$8,K27*RANDBETWEEN(0,10)+RANDBETWEEN(0,K27-1),K27*RANDBETWEEN(1,10))","v":55},"÷",{"$f":"IF(Worksheet!$B$6=1,CHOOSE(RANDBETWEEN(1,5),10,2,3,4,5),RANDBETWEEN(2,10))","v":10},"=",{"$f":"IF(Worksheet!$B$8,CONCATENATE(INT(I27/K27),IF(MOD(I27,K27)=0,\"\",\"r\"),IF(MOD(I27,K27)=0,\"\",MOD(I27,K27))),I27/K27)","v":"5r5"},null,"",{"$f":"IF(Worksheet!$B$8,R27*RANDBETWEEN(0,10)+RANDBETWEEN(0,R27-1),R27*RANDBETWEEN(1,10))","v":30},"÷",{"$f":"IF(Worksheet!$B$6=1,CHOOSE(RANDBETWEEN(1,5),10,2,3,4,5),RANDBETWEEN(2,10))","v":5},"=",{"$f":"IF(Worksheet!$B$8,CONCATENATE(INT(P27/R27),IF(MOD(P27,R27)=0,\"\",\"r\"),IF(MOD(P27,R27)=0,\"\",MOD(P27,R27))),P27/R27)","v":"6"}]
[{"$f":"IF(ROW()<=Worksheet!$B$4/3,ROW(),\"\")","v":""},{"$f":"IF(Worksheet!$B$8,D28*RANDBETWEEN(0,10)+RANDBETWEEN(0,D28-1),D28*RANDBETWEEN(1,10))","v":4},"÷",{"$f":"IF(Worksheet!$B$6=1,CHOOSE(RANDBETWEEN(1,5),10,2,3,4,5),RANDBETWEEN(2,10))","v":10},"=",{"$f":"IF(Worksheet!$B$8,CONCATENATE(INT(B28/D28),IF(MOD(B28,D28)=0,\"\",\"r\"),IF(MOD(B28,D28)=0,\"\",MOD(B28,D28))),B28/D28)","v":"0r4"},null,"",{"$f":"IF(Worksheet!$B$8,K28*RANDBETWEEN(0,10)+RANDBETWEEN(0,K28-1),K28*RANDBETWEEN(1,10))","v":13},"÷",{"$f":"IF(Worksheet!$B$6=1,CHOOSE(RANDBETWEEN(1,5),10,2,3,4,5),RANDBETWEEN(2,10))","v":3},"=",{"$f":"IF(Worksheet!$B$8,CONCATENATE(INT(I28/K28),IF(MOD(I28,K28)=0,\"\",\"r\"),IF(MOD(I28,K28)=0,\"\",MOD(I28,K28))),I28/K28)","v":"4r1"},null,"",{"$f":"IF(Worksheet!$B$8,R28*RANDBETWEEN(0,10)+RANDBETWEEN(0,R28-1),R28*RANDBETWEEN(1,10))","v":24},"÷",{"$f":"IF(Worksheet!$B$6=1,CHOOSE(RANDBETWEEN(1,5),10,2,3,4,5),RANDBETWEEN(2,10))","v":3},"=",{"$f":"IF(Worksheet!$B$8,CONCATENATE(INT(P28/R28),IF(MOD(P28,R28)=0,\"\",\"r\"),IF(MOD(P28,R28)=0,\"\",MOD(P28,R28))),P28/R28)","v":"8"}]
[{"$f":"IF(ROW()<=Worksheet!$B$4/3,ROW(),\"\")","v":""},{"$f":"IF(Worksheet!$B$8,D29*RANDBETWEEN(0,10)+RANDBETWEEN(0,D29-1),D29*RANDBETWEEN(1,10))","v":33},"÷",{"$f":"IF(Worksheet!$B$6=1,CHOOSE(RANDBETWEEN(1,5),10,2,3,4,5),RANDBETWEEN(2,10))","v":7},"=",{"$f":"IF(Worksheet!$B$8,CONCATENATE(INT(B29/D29),IF(MOD(B29,D29)=0,\"\",\"r\"),IF(MOD(B29,D29)=0,\"\",MOD(B29,D29))),B29/D29)","v":"4r5"},null,"",{"$f":"IF(Worksheet!$B$8,K29*RANDBETWEEN(0,10)+RANDBETWEEN(0,K29-1),K29*RANDBETWEEN(1,10))","v":46},"÷",{"$f":"IF(Worksheet!$B$6=1,CHOOSE(RANDBETWEEN(1,5),10,2,3,4,5),RANDBETWEEN(2,10))","v":5},"=",{"$f":"IF(Worksheet!$B$8,CONCATENATE(INT(I29/K29),IF(MOD(I29,K29)=0,\"\",\"r\"),IF(MOD(I29,K29)=0,\"\",MOD(I29,K29))),I29/K29)","v":"9r1"},null,"",{"$f":"IF(Worksheet!$B$8,R29*RANDBETWEEN(0,10)+RANDBETWEEN(0,R29-1),R29*RANDBETWEEN(1,10))","v":39},"÷",{"$f":"IF(Worksheet!$B$6=1,CHOOSE(RANDBETWEEN(1,5),10,2,3,4,5),RANDBETWEEN(2,10))","v":6},"=",{"$f":"IF(Worksheet!$B$8,CONCATENATE(INT(P29/R29),IF(MOD(P29,R29)=0,\"\",\"r\"),IF(MOD(P29,R29)=0,\"\",MOD(P29,R29))),P29/R29)","v":"6r3"}]
[{"$f":"IF(ROW()<=Worksheet!$B$4/3,ROW(),\"\")","v":""},{"$f":"IF(Worksheet!$B$8,D30*RANDBETWEEN(0,10)+RANDBETWEEN(0,D30-1),D30*RANDBETWEEN(1,10))","v":12},"÷",{"$f":"IF(Worksheet!$B$6=1,CHOOSE(RANDBETWEEN(1,5),10,2,3,4,5),RANDBETWEEN(2,10))","v":5},"=",{"$f":"IF(Worksheet!$B$8,CONCATENATE(INT(B30/D30),IF(MOD(B30,D30)=0,\"\",\"r\"),IF(MOD(B30,D30)=0,\"\",MOD(B30,D30))),B30/D30)","v":"2r2"},null,"",{"$f":"IF(Worksheet!$B$8,K30*RANDBETWEEN(0,10)+RANDBETWEEN(0,K30-1),K30*RANDBETWEEN(1,10))","v":18},"÷",{"$f":"IF(Worksheet!$B$6=1,CHOOSE(RANDBETWEEN(1,5),10,2,3,4,5),RANDBETWEEN(2,10))","v":5},"=",{"$f":"IF(Worksheet!$B$8,CONCATENATE(INT(I30/K30),IF(MOD(I30,K30)=0,\"\",\"r\"),IF(MOD(I30,K30)=0,\"\",MOD(I30,K30))),I30/K30)","v":"3r3"},null,"",{"$f":"IF(Worksheet!$B$8,R30*RANDBETWEEN(0,10)+RANDBETWEEN(0,R30-1),R30*RANDBETWEEN(1,10))","v":50},"÷",{"$f":"IF(Worksheet!$B$6=1,CHOOSE(RANDBETWEEN(1,5),10,2,3,4,5),RANDBETWEEN(2,10))","v":5},"=",{"$f":"IF(Worksheet!$B$8,CONCATENATE(INT(P30/R30),IF(MOD(P30,R30)=0,\"\",\"r\"),IF(MOD(P30,R30)=0,\"\",MOD(P30,R30))),P30/R30)","v":"10"}]