{"text_format":"1","workbook":"xlsx","n_sheets":2,"sheets":["Worksheet","SYSTEM FORMULAE"],"not_rendered":{"charts":0,"images":0,"macros":1,"external_links":0,"defined_names":2,"comments":0,"pivot_tables":0},"unopened":[],"bounds":{"document_bytes":16777216,"sheet_cells":100000,"rows_first":2000,"rows_last":500,"rows_between":2000,"halvings":0,"cell_chars":16384,"cell_head_chars":4096},"cells_cut":0,"cells_raw":0,"read":"whole","date_system":"1900"}

{"sheet":"Worksheet","index":0,"n_rows":20,"n_cols":13,"rows_kept":20,"cut":false,"hidden":false,"merged":[[9,0,10,0],[9,1,10,1],[1,0,1,1],[0,2,0,12],[6,0,7,0],[6,1,7,1],[4,0,5,0],[4,1,5,1]]}
[null,null,"Divide.  There will be no remainders left at the end of any questions."]
["Variables",null,1,342,"÷",4," = 85•5",null,11,"79•4","÷",2," = 39•7"]
["SHOW ANSWERS",false]
[null,null,2,"399•6","÷",4," = 99•9",null,12,1240,"÷",4," = 310"]
["Divide by 2, 3, 4, 5 only",1]
[null,null,3,"117•6","÷",2," = 58•8",null,13,780,"÷",3," = 260"]
["Divide within all tables"]
[null,null,4,131,"÷",5," = 26•2",null,14,"159•6","÷",3," = 53•2"]
["Maximum number of digits in quotient",3]
["Maximum number of decimal places in dividend",1,5,"396•5","÷",5," = 79•3",null,15,117,"÷",3," = 39"]
[]
[null,null,6,"139•2","÷",2," = 69•6",null,16,"87•5","÷",5," = 17•5"]
[]
[null,null,7,"92•4","÷",4," = 23•1",null,17,311,"÷",5," = 62•2"]
[]
[null,null,8,1302,"÷",3," = 434",null,18,2499,"÷",3," = 833"]
[]
[null,null,9,176,"÷",5," = 35•2",null,19,4535,"÷",5," = 907"]
[]
[null,null,10,1869,"÷",3," = 623",null,20,"103•2","÷",3," = 34•4"]

{"sheet":"SYSTEM FORMULAE","index":1,"n_rows":19,"n_cols":11,"rows_kept":19,"cut":false,"hidden":false,"merged":[]}
[1,{"$f":"(RANDBETWEEN(11,10^Worksheet!$B$9-1)*D1)/10^RANDBETWEEN(0,Worksheet!$B$10)","v":1776},"÷",{"$f":"IF(Worksheet!$B$5=1,RANDBETWEEN(2,5),RANDBETWEEN(2,9))","v":3},{"$f":"CONCATENATE(\" = \",B1/D1)","v":" = 592"},null,11,{"$f":"(RANDBETWEEN(11,10^Worksheet!$B$9-1)*J1)/10^RANDBETWEEN(0,Worksheet!$B$10)","v":104.4},"÷",{"$f":"IF(Worksheet!$B$5=1,RANDBETWEEN(2,5),RANDBETWEEN(2,9))","v":4},{"$f":"CONCATENATE(\" = \",H1/J1)","v":" = 26.1"}]
[]
[2,{"$f":"(RANDBETWEEN(11,10^Worksheet!$B$9-1)*D3)/10^RANDBETWEEN(0,Worksheet!$B$10)","v":4285},"÷",{"$f":"IF(Worksheet!$B$5=1,RANDBETWEEN(2,5),RANDBETWEEN(2,9))","v":5},{"$f":"CONCATENATE(\" = \",B3/D3)","v":" = 857"},null,12,{"$f":"(RANDBETWEEN(11,10^Worksheet!$B$9-1)*J3)/10^RANDBETWEEN(0,Worksheet!$B$10)","v":76.8},"÷",{"$f":"IF(Worksheet!$B$5=1,RANDBETWEEN(2,5),RANDBETWEEN(2,9))","v":2},{"$f":"CONCATENATE(\" = \",H3/J3)","v":" = 38.4"}]
[]
[3,{"$f":"(RANDBETWEEN(11,10^Worksheet!$B$9-1)*D5)/10^RANDBETWEEN(0,Worksheet!$B$10)","v":12.5},"÷",{"$f":"IF(Worksheet!$B$5=1,RANDBETWEEN(2,5),RANDBETWEEN(2,9))","v":5},{"$f":"CONCATENATE(\" = \",B5/D5)","v":" = 2.5"},null,13,{"$f":"(RANDBETWEEN(11,10^Worksheet!$B$9-1)*J5)/10^RANDBETWEEN(0,Worksheet!$B$10)","v":3820},"÷",{"$f":"IF(Worksheet!$B$5=1,RANDBETWEEN(2,5),RANDBETWEEN(2,9))","v":4},{"$f":"CONCATENATE(\" = \",H5/J5)","v":" = 955"}]
[]
[4,{"$f":"(RANDBETWEEN(11,10^Worksheet!$B$9-1)*D7)/10^RANDBETWEEN(0,Worksheet!$B$10)","v":2904},"÷",{"$f":"IF(Worksheet!$B$5=1,RANDBETWEEN(2,5),RANDBETWEEN(2,9))","v":4},{"$f":"CONCATENATE(\" = \",B7/D7)","v":" = 726"},null,14,{"$f":"(RANDBETWEEN(11,10^Worksheet!$B$9-1)*J7)/10^RANDBETWEEN(0,Worksheet!$B$10)","v":2763},"÷",{"$f":"IF(Worksheet!$B$5=1,RANDBETWEEN(2,5),RANDBETWEEN(2,9))","v":3},{"$f":"CONCATENATE(\" = \",H7/J7)","v":" = 921"}]
[]
[5,{"$f":"(RANDBETWEEN(11,10^Worksheet!$B$9-1)*D9)/10^RANDBETWEEN(0,Worksheet!$B$10)","v":365},"÷",{"$f":"IF(Worksheet!$B$5=1,RANDBETWEEN(2,5),RANDBETWEEN(2,9))","v":5},{"$f":"CONCATENATE(\" = \",B9/D9)","v":" = 73"},null,15,{"$f":"(RANDBETWEEN(11,10^Worksheet!$B$9-1)*J9)/10^RANDBETWEEN(0,Worksheet!$B$10)","v":63.6},"÷",{"$f":"IF(Worksheet!$B$5=1,RANDBETWEEN(2,5),RANDBETWEEN(2,9))","v":4},{"$f":"CONCATENATE(\" = \",H9/J9)","v":" = 15.9"}]
[]
[6,{"$f":"(RANDBETWEEN(11,10^Worksheet!$B$9-1)*D11)/10^RANDBETWEEN(0,Worksheet!$B$10)","v":247.8},"÷",{"$f":"IF(Worksheet!$B$5=1,RANDBETWEEN(2,5),RANDBETWEEN(2,9))","v":3},{"$f":"CONCATENATE(\" = \",B11/D11)","v":" = 82.6"},null,16,{"$f":"(RANDBETWEEN(11,10^Worksheet!$B$9-1)*J11)/10^RANDBETWEEN(0,Worksheet!$B$10)","v":30.4},"÷",{"$f":"IF(Worksheet!$B$5=1,RANDBETWEEN(2,5),RANDBETWEEN(2,9))","v":2},{"$f":"CONCATENATE(\" = \",H11/J11)","v":" = 15.2"}]
[]
[7,{"$f":"(RANDBETWEEN(11,10^Worksheet!$B$9-1)*D13)/10^RANDBETWEEN(0,Worksheet!$B$10)","v":392.5},"÷",{"$f":"IF(Worksheet!$B$5=1,RANDBETWEEN(2,5),RANDBETWEEN(2,9))","v":5},{"$f":"CONCATENATE(\" = \",B13/D13)","v":" = 78.5"},null,17,{"$f":"(RANDBETWEEN(11,10^Worksheet!$B$9-1)*J13)/10^RANDBETWEEN(0,Worksheet!$B$10)","v":29.5},"÷",{"$f":"IF(Worksheet!$B$5=1,RANDBETWEEN(2,5),RANDBETWEEN(2,9))","v":5},{"$f":"CONCATENATE(\" = \",H13/J13)","v":" = 5.9"}]
[]
[8,{"$f":"(RANDBETWEEN(11,10^Worksheet!$B$9-1)*D15)/10^RANDBETWEEN(0,Worksheet!$B$10)","v":2435},"÷",{"$f":"IF(Worksheet!$B$5=1,RANDBETWEEN(2,5),RANDBETWEEN(2,9))","v":5},{"$f":"CONCATENATE(\" = \",B15/D15)","v":" = 487"},null,18,{"$f":"(RANDBETWEEN(11,10^Worksheet!$B$9-1)*J15)/10^RANDBETWEEN(0,Worksheet!$B$10)","v":8.1},"÷",{"$f":"IF(Worksheet!$B$5=1,RANDBETWEEN(2,5),RANDBETWEEN(2,9))","v":3},{"$f":"CONCATENATE(\" = \",H15/J15)","v":" = 2.7"}]
[]
[9,{"$f":"(RANDBETWEEN(11,10^Worksheet!$B$9-1)*D17)/10^RANDBETWEEN(0,Worksheet!$B$10)","v":2832},"÷",{"$f":"IF(Worksheet!$B$5=1,RANDBETWEEN(2,5),RANDBETWEEN(2,9))","v":3},{"$f":"CONCATENATE(\" = \",B17/D17)","v":" = 944"},null,19,{"$f":"(RANDBETWEEN(11,10^Worksheet!$B$9-1)*J17)/10^RANDBETWEEN(0,Worksheet!$B$10)","v":396.5},"÷",{"$f":"IF(Worksheet!$B$5=1,RANDBETWEEN(2,5),RANDBETWEEN(2,9))","v":5},{"$f":"CONCATENATE(\" = \",H17/J17)","v":" = 79.3"}]
[]
[10,{"$f":"(RANDBETWEEN(11,10^Worksheet!$B$9-1)*D19)/10^RANDBETWEEN(0,Worksheet!$B$10)","v":1420},"÷",{"$f":"IF(Worksheet!$B$5=1,RANDBETWEEN(2,5),RANDBETWEEN(2,9))","v":2},{"$f":"CONCATENATE(\" = \",B19/D19)","v":" = 710"},null,20,{"$f":"(RANDBETWEEN(11,10^Worksheet!$B$9-1)*J19)/10^RANDBETWEEN(0,Worksheet!$B$10)","v":36.6},"÷",{"$f":"IF(Worksheet!$B$5=1,RANDBETWEEN(2,5),RANDBETWEEN(2,9))","v":3},{"$f":"CONCATENATE(\" = \",H19/J19)","v":" = 12.2"}]