{"text_format":"1","workbook":"xlsx","n_sheets":2,"sheets":["Worksheet","SYSTEM FORMULAE"],"not_rendered":{"charts":0,"images":0,"macros":1,"external_links":0,"defined_names":2,"comments":0,"pivot_tables":0},"unopened":[],"bounds":{"document_bytes":16777216,"sheet_cells":100000,"rows_first":2000,"rows_last":500,"rows_between":2000,"halvings":0,"cell_chars":16384,"cell_head_chars":4096},"cells_cut":0,"cells_raw":0,"read":"whole","date_system":"1900"}

{"sheet":"Worksheet","index":0,"n_rows":31,"n_cols":26,"rows_kept":31,"cut":false,"hidden":false,"merged":[[1,0,1,1],[4,0,4,1],[0,2,0,25]]}
[null,null,{"$f":"CONCATENATE(CHOOSE(B6,\"Multiply\",\"Divide\",\"Multiply or Divide\"),\" without a calculator\")","v":"Multiply or Divide without a calculator"}]
["Variables",null,1,1,6,"79•16","×",60,"="," 4 750",16,2,2,"145•68","÷",200,"=","0•7284",31,2,3,252,"÷",3000,"=","0•084"]
["SHOW ANSWERS",false,2,2,8,"261•76","÷",8000,"=","0•03272",17,2,5,"464•75","÷",50,"=","9•295",32,1,4,"63•07","×",40,"="," 2 523"]
["Number of questions (minimum 15, maximum 45)",45,3,1,5,"47•34","×",5000,"="," 236 700",18,1,9,"87•36","×",90,"="," 7 862",33,2,9,"868•32","÷",900,"=","0•9648"]
["Types of Question",null,4,1,8,"7•88","×",8000,"="," 63 040",19,2,4,"83•2","÷",400,"=","0•208",34,1,9,"14•5","×",9000,"="," 130 500"]
["Multiply",3,5,2,5,110,"÷",500,"=","0•22",20,2,6,"547•2","÷",600,"=","0•912",35,1,9,"88•6","×",9000,"="," 797 400"]
["Divide",30,6,2,8,512,"÷",8000,"=","0•064",21,2,7,"230•79","÷",7000,"=","0•03297",36,1,2,"33•66","×",200,"="," 6 732"]
["Multiply and Divide",30,7,2,2,"11•72","÷",2000,"=","0•00586",22,1,2,"17•9","×",20,"=","  358",37,2,8,512,"÷",80,"=","6•4"]
["Level of Difficulty",null,8,2,2,160,"÷",200,"=","0•8",23,1,8,"77•8","×",80,"="," 6 224",38,1,7,"88•3","×",7000,"="," 618 100"]
["Maximum decimal places in question (min 0, max 4)",2,9,2,5,450,"÷",5000,"=","0•09",24,1,5,"45•03","×",50,"="," 2 252",39,2,6,"87•84","÷",6000,"=","0•01464"]
["Maximum power of 10 to multiple or divide by (min 1, max 4)",3,10,1,8,"32•4","×",80,"="," 2 592",25,1,4,"19•2","×",40,"=","  768",40,1,4,"37•89","×",400,"="," 15 156"]
["Maximum integer part of number (min 10, max 1000)",{"$f":"10^B18","v":100},11,1,6,"86•78","×",60,"="," 5 207",26,1,6,"52•8","×",60,"="," 3 168",41,1,6,"94•86","×",6000,"="," 569 160"]
[null,null,12,2,7,"711•97","÷",700,"=","1•0171",27,1,2,"56•86","×",2000,"="," 113 720",42,2,6,"565•2","÷",6000,"=","0•0942"]
[null,null,13,2,2,"188•4","÷",2000,"=","0•0942",28,2,8,"172•8","÷",800,"=","0•216",43,1,5,"10•23","×",500,"="," 5 115"]
[null,null,14,2,6,"86•04","÷",600,"=","0•1434",29,2,9,"514•35","÷",90,"=","5•715",44,1,3,"2•9","×",3000,"="," 8 700"]
[null,null,15,1,3,"61•3","×",3000,"="," 183 900",30,2,2,"196•4","÷",20,"=","9•82",45,1,6,"66•25","×",6000,"="," 397 500"]
[null,null,"",null,null,null,null,""]
[null,2,"",null,null,null,null,""]
[null,null,"",null,null,null,null,""]
[null,null,"",null,null,null,null,""]
[null,null,"",null,null,null,null,""]
[null,null,"",null,null,null,null,""]
[null,null,"",null,null,null,null,""]
[null,null,"",null,null,null,null,""]
[null,null,"",null,null,null,null,""]
[null,null,"",null,null,null,null,""]
[null,null,"",null,null,null,null,""]
[null,null,"",null,null,null,null,""]
[null,null,"",null,null,null,null,""]
[null,null,"",null,null,null,null,""]
[null,null,"",null,null,null,null,""]

{"sheet":"SYSTEM FORMULAE","index":1,"n_rows":30,"n_cols":24,"rows_kept":30,"cut":false,"hidden":false,"merged":[]}
[{"$f":"IF(ROW()<=Worksheet!$B$4/3,ROW(),\"\")","v":1},{"$f":"IF(Worksheet!$B$6=1,1,IF(Worksheet!$B$6=2,2,IF(Worksheet!$B$6=3,RANDBETWEEN(1,2))))","v":1},{"$f":"RANDBETWEEN(2,9)","v":6},{"$f":"IF(B1=1,CHOOSE(RANDBETWEEN(2,Worksheet!$B$10+1),RANDBETWEEN(1,Worksheet!$B$12-1),RANDBETWEEN(1,Worksheet!$B$12-1)+RANDBETWEEN(1,9)/10,RANDBETWEEN(1,Worksheet!$B$12-1)+RANDBETWEEN(1,99)/100,RANDBETWEEN(1,Worksheet!$B$12-1)+RANDBETWEEN(1,999)/1000,RANDBETWEEN(1,Worksheet!$B$12-1)+RANDBETWEEN(1,9999)/10000),CHOOSE(RANDBETWEEN(1,Worksheet!$B$10+1),RANDBETWEEN(1,(Worksheet!$B$12-1)/C1)*C1,(RANDBETWEEN(1,(Worksheet!$B$12-1)/C1)+RANDBETWEEN(1,9)/10)*C1,(RANDBETWEEN(1,(Worksheet!$B$12-1)/C1)+RANDBETWEEN(1,99)/100)*C1,(RANDBETWEEN(1,(Worksheet!$B$12-1)/C1)+RANDBETWEEN(1,999)/1000)*C1,(RANDBETWEEN(1,(Worksheet!$B$12-1)/C1)+RANDBETWEEN(1,9999)/10000))*C1)","v":71.400000000000006},{"$f":"IF(B1=2,\"÷\",\"×\")","v":"×"},{"$f":"C1*10^RANDBETWEEN(1,Worksheet!$B$11)","v":60},"=",{"$f":"IF(E1=\"×\",TEXT(D1*F1,\"### ### ###\"),D1/F1)","v":" 4 284"},{"$f":"MAX(A1:A50)+1","v":16},{"$f":"IF(Worksheet!$B$6=1,1,IF(Worksheet!$B$6=2,2,IF(Worksheet!$B$6=3,RANDBETWEEN(1,2))))","v":2},{"$f":"RANDBETWEEN(2,9)","v":3},{"$f":"IF(J1=1,CHOOSE(RANDBETWEEN(2,Worksheet!$B$10+1),RANDBETWEEN(1,Worksheet!$B$12-1),RANDBETWEEN(1,Worksheet!$B$12-1)+RANDBETWEEN(1,9)/10,RANDBETWEEN(1,Worksheet!$B$12-1)+RANDBETWEEN(1,99)/100,RANDBETWEEN(1,Worksheet!$B$12-1)+RANDBETWEEN(1,999)/1000,RANDBETWEEN(1,Worksheet!$B$12-1)+RANDBETWEEN(1,9999)/10000),CHOOSE(RANDBETWEEN(1,Worksheet!$B$10+1),RANDBETWEEN(1,(Worksheet!$B$12-1)/K1)*K1,(RANDBETWEEN(1,(Worksheet!$B$12-1)/K1)+RANDBETWEEN(1,9)/10)*K1,(RANDBETWEEN(1,(Worksheet!$B$12-1)/K1)+RANDBETWEEN(1,99)/100)*K1,(RANDBETWEEN(1,(Worksheet!$B$12-1)/K1)+RANDBETWEEN(1,999)/1000)*K1,(RANDBETWEEN(1,(Worksheet!$B$12-1)/K1)+RANDBETWEEN(1,9999)/10000))*K1)","v":117},{"$f":"IF(J1=2,\"÷\",\"×\")","v":"÷"},{"$f":"K1*10^RANDBETWEEN(1,Worksheet!$B$11)","v":30},"=",{"$f":"IF(M1=\"×\",TEXT(L1*N1,\"### ### ###\"),L1/N1)","v":3.9},{"$f":"MAX(I1:I50)+1","v":31},{"$f":"IF(Worksheet!$B$6=1,1,IF(Worksheet!$B$6=2,2,IF(Worksheet!$B$6=3,RANDBETWEEN(1,2))))","v":2},{"$f":"RANDBETWEEN(2,9)","v":5},{"$f":"IF(R1=1,CHOOSE(RANDBETWEEN(2,Worksheet!$B$10+1),RANDBETWEEN(1,Worksheet!$B$12-1),RANDBETWEEN(1,Worksheet!$B$12-1)+RANDBETWEEN(1,9)/10,RANDBETWEEN(1,Worksheet!$B$12-1)+RANDBETWEEN(1,99)/100,RANDBETWEEN(1,Worksheet!$B$12-1)+RANDBETWEEN(1,999)/1000,RANDBETWEEN(1,Worksheet!$B$12-1)+RANDBETWEEN(1,9999)/10000),CHOOSE(RANDBETWEEN(1,Worksheet!$B$10+1),RANDBETWEEN(1,(Worksheet!$B$12-1)/S1)*S1,(RANDBETWEEN(1,(Worksheet!$B$12-1)/S1)+RANDBETWEEN(1,9)/10)*S1,(RANDBETWEEN(1,(Worksheet!$B$12-1)/S1)+RANDBETWEEN(1,99)/100)*S1,(RANDBETWEEN(1,(Worksheet!$B$12-1)/S1)+RANDBETWEEN(1,999)/1000)*S1,(RANDBETWEEN(1,(Worksheet!$B$12-1)/S1)+RANDBETWEEN(1,9999)/10000))*S1)","v":260},{"$f":"IF(R1=2,\"÷\",\"×\")","v":"÷"},{"$f":"S1*10^RANDBETWEEN(1,Worksheet!$B$11)","v":50},"=",{"$f":"IF(U1=\"×\",TEXT(T1*V1,\"### ### ###\"),T1/V1)","v":5.2}]
[{"$f":"IF(ROW()<=Worksheet!$B$4/3,ROW(),\"\")","v":2},{"$f":"IF(Worksheet!$B$6=1,1,IF(Worksheet!$B$6=2,2,IF(Worksheet!$B$6=3,RANDBETWEEN(1,2))))","v":1},{"$f":"RANDBETWEEN(2,9)","v":9},{"$f":"IF(B2=1,CHOOSE(RANDBETWEEN(2,Worksheet!$B$10+1),RANDBETWEEN(1,Worksheet!$B$12-1),RANDBETWEEN(1,Worksheet!$B$12-1)+RANDBETWEEN(1,9)/10,RANDBETWEEN(1,Worksheet!$B$12-1)+RANDBETWEEN(1,99)/100,RANDBETWEEN(1,Worksheet!$B$12-1)+RANDBETWEEN(1,999)/1000,RANDBETWEEN(1,Worksheet!$B$12-1)+RANDBETWEEN(1,9999)/10000),CHOOSE(RANDBETWEEN(1,Worksheet!$B$10+1),RANDBETWEEN(1,(Worksheet!$B$12-1)/C2)*C2,(RANDBETWEEN(1,(Worksheet!$B$12-1)/C2)+RANDBETWEEN(1,9)/10)*C2,(RANDBETWEEN(1,(Worksheet!$B$12-1)/C2)+RANDBETWEEN(1,99)/100)*C2,(RANDBETWEEN(1,(Worksheet!$B$12-1)/C2)+RANDBETWEEN(1,999)/1000)*C2,(RANDBETWEEN(1,(Worksheet!$B$12-1)/C2)+RANDBETWEEN(1,9999)/10000))*C2)","v":89.44},{"$f":"IF(B2=2,\"÷\",\"×\")","v":"×"},{"$f":"C2*10^RANDBETWEEN(1,Worksheet!$B$11)","v":90},"=",{"$f":"IF(E2=\"×\",TEXT(D2*F2,\"### ### ###\"),D2/F2)","v":" 8 050"},{"$f":"IF(ROW()<=Worksheet!$B$4/3,I1+1,\"\")","v":17},{"$f":"IF(Worksheet!$B$6=1,1,IF(Worksheet!$B$6=2,2,IF(Worksheet!$B$6=3,RANDBETWEEN(1,2))))","v":1},{"$f":"RANDBETWEEN(2,9)","v":3},{"$f":"IF(J2=1,CHOOSE(RANDBETWEEN(2,Worksheet!$B$10+1),RANDBETWEEN(1,Worksheet!$B$12-1),RANDBETWEEN(1,Worksheet!$B$12-1)+RANDBETWEEN(1,9)/10,RANDBETWEEN(1,Worksheet!$B$12-1)+RANDBETWEEN(1,99)/100,RANDBETWEEN(1,Worksheet!$B$12-1)+RANDBETWEEN(1,999)/1000,RANDBETWEEN(1,Worksheet!$B$12-1)+RANDBETWEEN(1,9999)/10000),CHOOSE(RANDBETWEEN(1,Worksheet!$B$10+1),RANDBETWEEN(1,(Worksheet!$B$12-1)/K2)*K2,(RANDBETWEEN(1,(Worksheet!$B$12-1)/K2)+RANDBETWEEN(1,9)/10)*K2,(RANDBETWEEN(1,(Worksheet!$B$12-1)/K2)+RANDBETWEEN(1,99)/100)*K2,(RANDBETWEEN(1,(Worksheet!$B$12-1)/K2)+RANDBETWEEN(1,999)/1000)*K2,(RANDBETWEEN(1,(Worksheet!$B$12-1)/K2)+RANDBETWEEN(1,9999)/10000))*K2)","v":32.549999999999997},{"$f":"IF(J2=2,\"÷\",\"×\")","v":"×"},{"$f":"K2*10^RANDBETWEEN(1,Worksheet!$B$11)","v":30},"=",{"$f":"IF(M2=\"×\",TEXT(L2*N2,\"### ### ###\"),L2/N2)","v":"  977"},{"$f":"IF(ROW()<=Worksheet!$B$4/3,Q1+1,\"\")","v":32},{"$f":"IF(Worksheet!$B$6=1,1,IF(Worksheet!$B$6=2,2,IF(Worksheet!$B$6=3,RANDBETWEEN(1,2))))","v":1},{"$f":"RANDBETWEEN(2,9)","v":8},{"$f":"IF(R2=1,CHOOSE(RANDBETWEEN(2,Worksheet!$B$10+1),RANDBETWEEN(1,Worksheet!$B$12-1),RANDBETWEEN(1,Worksheet!$B$12-1)+RANDBETWEEN(1,9)/10,RANDBETWEEN(1,Worksheet!$B$12-1)+RANDBETWEEN(1,99)/100,RANDBETWEEN(1,Worksheet!$B$12-1)+RANDBETWEEN(1,999)/1000,RANDBETWEEN(1,Worksheet!$B$12-1)+RANDBETWEEN(1,9999)/10000),CHOOSE(RANDBETWEEN(1,Worksheet!$B$10+1),RANDBETWEEN(1,(Worksheet!$B$12-1)/S2)*S2,(RANDBETWEEN(1,(Worksheet!$B$12-1)/S2)+RANDBETWEEN(1,9)/10)*S2,(RANDBETWEEN(1,(Worksheet!$B$12-1)/S2)+RANDBETWEEN(1,99)/100)*S2,(RANDBETWEEN(1,(Worksheet!$B$12-1)/S2)+RANDBETWEEN(1,999)/1000)*S2,(RANDBETWEEN(1,(Worksheet!$B$12-1)/S2)+RANDBETWEEN(1,9999)/10000))*S2)","v":48.48},{"$f":"IF(R2=2,\"÷\",\"×\")","v":"×"},{"$f":"S2*10^RANDBETWEEN(1,Worksheet!$B$11)","v":80},"=",{"$f":"IF(U2=\"×\",TEXT(T2*V2,\"### ### ###\"),T2/V2)","v":" 3 878"}]
[{"$f":"IF(ROW()<=Worksheet!$B$4/3,ROW(),\"\")","v":3},{"$f":"IF(Worksheet!$B$6=1,1,IF(Worksheet!$B$6=2,2,IF(Worksheet!$B$6=3,RANDBETWEEN(1,2))))","v":2},2,{"$f":"IF(B3=1,CHOOSE(RANDBETWEEN(2,Worksheet!$B$10+1),RANDBETWEEN(1,Worksheet!$B$12-1),RANDBETWEEN(1,Worksheet!$B$12-1)+RANDBETWEEN(1,9)/10,RANDBETWEEN(1,Worksheet!$B$12-1)+RANDBETWEEN(1,99)/100,RANDBETWEEN(1,Worksheet!$B$12-1)+RANDBETWEEN(1,999)/1000,RANDBETWEEN(1,Worksheet!$B$12-1)+RANDBETWEEN(1,9999)/10000),CHOOSE(RANDBETWEEN(1,Worksheet!$B$10+1),RANDBETWEEN(1,(Worksheet!$B$12-1)/C3)*C3,(RANDBETWEEN(1,(Worksheet!$B$12-1)/C3)+RANDBETWEEN(1,9)/10)*C3,(RANDBETWEEN(1,(Worksheet!$B$12-1)/C3)+RANDBETWEEN(1,99)/100)*C3,(RANDBETWEEN(1,(Worksheet!$B$12-1)/C3)+RANDBETWEEN(1,999)/1000)*C3,(RANDBETWEEN(1,(Worksheet!$B$12-1)/C3)+RANDBETWEEN(1,9999)/10000))*C3)","v":108},"÷",{"$f":"C3*10^RANDBETWEEN(1,Worksheet!$B$11)","v":20},"=",5.4,{"$f":"IF(ROW()<=Worksheet!$B$4/3,I2+1,\"\")","v":18},{"$f":"IF(Worksheet!$B$6=1,1,IF(Worksheet!$B$6=2,2,IF(Worksheet!$B$6=3,RANDBETWEEN(1,2))))","v":2},2,{"$f":"IF(J3=1,CHOOSE(RANDBETWEEN(2,Worksheet!$B$10+1),RANDBETWEEN(1,Worksheet!$B$12-1),RANDBETWEEN(1,Worksheet!$B$12-1)+RANDBETWEEN(1,9)/10,RANDBETWEEN(1,Worksheet!$B$12-1)+RANDBETWEEN(1,99)/100,RANDBETWEEN(1,Worksheet!$B$12-1)+RANDBETWEEN(1,999)/1000,RANDBETWEEN(1,Worksheet!$B$12-1)+RANDBETWEEN(1,9999)/10000),CHOOSE(RANDBETWEEN(1,Worksheet!$B$10+1),RANDBETWEEN(1,(Worksheet!$B$12-1)/K3)*K3,(RANDBETWEEN(1,(Worksheet!$B$12-1)/K3)+RANDBETWEEN(1,9)/10)*K3,(RANDBETWEEN(1,(Worksheet!$B$12-1)/K3)+RANDBETWEEN(1,99)/100)*K3,(RANDBETWEEN(1,(Worksheet!$B$12-1)/K3)+RANDBETWEEN(1,999)/1000)*K3,(RANDBETWEEN(1,(Worksheet!$B$12-1)/K3)+RANDBETWEEN(1,9999)/10000))*K3)","v":196.92},"÷",{"$f":"K3*10^RANDBETWEEN(1,Worksheet!$B$11)","v":200},"=",0.98459999999999992,{"$f":"IF(ROW()<=Worksheet!$B$4/3,Q2+1,\"\")","v":33},{"$f":"IF(Worksheet!$B$6=1,1,IF(Worksheet!$B$6=2,2,IF(Worksheet!$B$6=3,RANDBETWEEN(1,2))))","v":1},4,{"$f":"IF(R3=1,CHOOSE(RANDBETWEEN(2,Worksheet!$B$10+1),RANDBETWEEN(1,Worksheet!$B$12-1),RANDBETWEEN(1,Worksheet!$B$12-1)+RANDBETWEEN(1,9)/10,RANDBETWEEN(1,Worksheet!$B$12-1)+RANDBETWEEN(1,99)/100,RANDBETWEEN(1,Worksheet!$B$12-1)+RANDBETWEEN(1,999)/1000,RANDBETWEEN(1,Worksheet!$B$12-1)+RANDBETWEEN(1,9999)/10000),CHOOSE(RANDBETWEEN(1,Worksheet!$B$10+1),RANDBETWEEN(1,(Worksheet!$B$12-1)/S3)*S3,(RANDBETWEEN(1,(Worksheet!$B$12-1)/S3)+RANDBETWEEN(1,9)/10)*S3,(RANDBETWEEN(1,(Worksheet!$B$12-1)/S3)+RANDBETWEEN(1,99)/100)*S3,(RANDBETWEEN(1,(Worksheet!$B$12-1)/S3)+RANDBETWEEN(1,999)/1000)*S3,(RANDBETWEEN(1,(Worksheet!$B$12-1)/S3)+RANDBETWEEN(1,9999)/10000))*S3)","v":90.9},"×",{"$f":"S3*10^RANDBETWEEN(1,Worksheet!$B$11)","v":400},"="," 36 360"]
[{"$f":"IF(ROW()<=Worksheet!$B$4/3,ROW(),\"\")","v":4},{"$f":"IF(Worksheet!$B$6=1,1,IF(Worksheet!$B$6=2,2,IF(Worksheet!$B$6=3,RANDBETWEEN(1,2))))","v":1},2,{"$f":"IF(B4=1,CHOOSE(RANDBETWEEN(2,Worksheet!$B$10+1),RANDBETWEEN(1,Worksheet!$B$12-1),RANDBETWEEN(1,Worksheet!$B$12-1)+RANDBETWEEN(1,9)/10,RANDBETWEEN(1,Worksheet!$B$12-1)+RANDBETWEEN(1,99)/100,RANDBETWEEN(1,Worksheet!$B$12-1)+RANDBETWEEN(1,999)/1000,RANDBETWEEN(1,Worksheet!$B$12-1)+RANDBETWEEN(1,9999)/10000),CHOOSE(RANDBETWEEN(1,Worksheet!$B$10+1),RANDBETWEEN(1,(Worksheet!$B$12-1)/C4)*C4,(RANDBETWEEN(1,(Worksheet!$B$12-1)/C4)+RANDBETWEEN(1,9)/10)*C4,(RANDBETWEEN(1,(Worksheet!$B$12-1)/C4)+RANDBETWEEN(1,99)/100)*C4,(RANDBETWEEN(1,(Worksheet!$B$12-1)/C4)+RANDBETWEEN(1,999)/1000)*C4,(RANDBETWEEN(1,(Worksheet!$B$12-1)/C4)+RANDBETWEEN(1,9999)/10000))*C4)","v":89.3},"×",{"$f":"C4*10^RANDBETWEEN(1,Worksheet!$B$11)","v":200},"="," 17 860",{"$f":"IF(ROW()<=Worksheet!$B$4/3,I3+1,\"\")","v":19},{"$f":"IF(Worksheet!$B$6=1,1,IF(Worksheet!$B$6=2,2,IF(Worksheet!$B$6=3,RANDBETWEEN(1,2))))","v":2},8,{"$f":"IF(J4=1,CHOOSE(RANDBETWEEN(2,Worksheet!$B$10+1),RANDBETWEEN(1,Worksheet!$B$12-1),RANDBETWEEN(1,Worksheet!$B$12-1)+RANDBETWEEN(1,9)/10,RANDBETWEEN(1,Worksheet!$B$12-1)+RANDBETWEEN(1,99)/100,RANDBETWEEN(1,Worksheet!$B$12-1)+RANDBETWEEN(1,999)/1000,RANDBETWEEN(1,Worksheet!$B$12-1)+RANDBETWEEN(1,9999)/10000),CHOOSE(RANDBETWEEN(1,Worksheet!$B$10+1),RANDBETWEEN(1,(Worksheet!$B$12-1)/K4)*K4,(RANDBETWEEN(1,(Worksheet!$B$12-1)/K4)+RANDBETWEEN(1,9)/10)*K4,(RANDBETWEEN(1,(Worksheet!$B$12-1)/K4)+RANDBETWEEN(1,99)/100)*K4,(RANDBETWEEN(1,(Worksheet!$B$12-1)/K4)+RANDBETWEEN(1,999)/1000)*K4,(RANDBETWEEN(1,(Worksheet!$B$12-1)/K4)+RANDBETWEEN(1,9999)/10000))*K4)","v":524.79999999999995},"÷",{"$f":"K4*10^RANDBETWEEN(1,Worksheet!$B$11)","v":800},"=",0.65599999999999992,{"$f":"IF(ROW()<=Worksheet!$B$4/3,Q3+1,\"\")","v":34},{"$f":"IF(Worksheet!$B$6=1,1,IF(Worksheet!$B$6=2,2,IF(Worksheet!$B$6=3,RANDBETWEEN(1,2))))","v":2},9,{"$f":"IF(R4=1,CHOOSE(RANDBETWEEN(2,Worksheet!$B$10+1),RANDBETWEEN(1,Worksheet!$B$12-1),RANDBETWEEN(1,Worksheet!$B$12-1)+RANDBETWEEN(1,9)/10,RANDBETWEEN(1,Worksheet!$B$12-1)+RANDBETWEEN(1,99)/100,RANDBETWEEN(1,Worksheet!$B$12-1)+RANDBETWEEN(1,999)/1000,RANDBETWEEN(1,Worksheet!$B$12-1)+RANDBETWEEN(1,9999)/10000),CHOOSE(RANDBETWEEN(1,Worksheet!$B$10+1),RANDBETWEEN(1,(Worksheet!$B$12-1)/S4)*S4,(RANDBETWEEN(1,(Worksheet!$B$12-1)/S4)+RANDBETWEEN(1,9)/10)*S4,(RANDBETWEEN(1,(Worksheet!$B$12-1)/S4)+RANDBETWEEN(1,99)/100)*S4,(RANDBETWEEN(1,(Worksheet!$B$12-1)/S4)+RANDBETWEEN(1,999)/1000)*S4,(RANDBETWEEN(1,(Worksheet!$B$12-1)/S4)+RANDBETWEEN(1,9999)/10000))*S4)","v":931.5},"÷",{"$f":"S4*10^RANDBETWEEN(1,Worksheet!$B$11)","v":900},"=",1.0349999999999999]
[{"$f":"IF(ROW()<=Worksheet!$B$4/3,ROW(),\"\")","v":5},{"$f":"IF(Worksheet!$B$6=1,1,IF(Worksheet!$B$6=2,2,IF(Worksheet!$B$6=3,RANDBETWEEN(1,2))))","v":2},3,{"$f":"IF(B5=1,CHOOSE(RANDBETWEEN(2,Worksheet!$B$10+1),RANDBETWEEN(1,Worksheet!$B$12-1),RANDBETWEEN(1,Worksheet!$B$12-1)+RANDBETWEEN(1,9)/10,RANDBETWEEN(1,Worksheet!$B$12-1)+RANDBETWEEN(1,99)/100,RANDBETWEEN(1,Worksheet!$B$12-1)+RANDBETWEEN(1,999)/1000,RANDBETWEEN(1,Worksheet!$B$12-1)+RANDBETWEEN(1,9999)/10000),CHOOSE(RANDBETWEEN(1,Worksheet!$B$10+1),RANDBETWEEN(1,(Worksheet!$B$12-1)/C5)*C5,(RANDBETWEEN(1,(Worksheet!$B$12-1)/C5)+RANDBETWEEN(1,9)/10)*C5,(RANDBETWEEN(1,(Worksheet!$B$12-1)/C5)+RANDBETWEEN(1,99)/100)*C5,(RANDBETWEEN(1,(Worksheet!$B$12-1)/C5)+RANDBETWEEN(1,999)/1000)*C5,(RANDBETWEEN(1,(Worksheet!$B$12-1)/C5)+RANDBETWEEN(1,9999)/10000))*C5)","v":9},"÷",{"$f":"C5*10^RANDBETWEEN(1,Worksheet!$B$11)","v":30},"=",0.3,{"$f":"IF(ROW()<=Worksheet!$B$4/3,I4+1,\"\")","v":20},{"$f":"IF(Worksheet!$B$6=1,1,IF(Worksheet!$B$6=2,2,IF(Worksheet!$B$6=3,RANDBETWEEN(1,2))))","v":1},4,{"$f":"IF(J5=1,CHOOSE(RANDBETWEEN(2,Worksheet!$B$10+1),RANDBETWEEN(1,Worksheet!$B$12-1),RANDBETWEEN(1,Worksheet!$B$12-1)+RANDBETWEEN(1,9)/10,RANDBETWEEN(1,Worksheet!$B$12-1)+RANDBETWEEN(1,99)/100,RANDBETWEEN(1,Worksheet!$B$12-1)+RANDBETWEEN(1,999)/1000,RANDBETWEEN(1,Worksheet!$B$12-1)+RANDBETWEEN(1,9999)/10000),CHOOSE(RANDBETWEEN(1,Worksheet!$B$10+1),RANDBETWEEN(1,(Worksheet!$B$12-1)/K5)*K5,(RANDBETWEEN(1,(Worksheet!$B$12-1)/K5)+RANDBETWEEN(1,9)/10)*K5,(RANDBETWEEN(1,(Worksheet!$B$12-1)/K5)+RANDBETWEEN(1,99)/100)*K5,(RANDBETWEEN(1,(Worksheet!$B$12-1)/K5)+RANDBETWEEN(1,999)/1000)*K5,(RANDBETWEEN(1,(Worksheet!$B$12-1)/K5)+RANDBETWEEN(1,9999)/10000))*K5)","v":94.5},"×",{"$f":"K5*10^RANDBETWEEN(1,Worksheet!$B$11)","v":400},"="," 37 800",{"$f":"IF(ROW()<=Worksheet!$B$4/3,Q4+1,\"\")","v":35},{"$f":"IF(Worksheet!$B$6=1,1,IF(Worksheet!$B$6=2,2,IF(Worksheet!$B$6=3,RANDBETWEEN(1,2))))","v":1},4,{"$f":"IF(R5=1,CHOOSE(RANDBETWEEN(2,Worksheet!$B$10+1),RANDBETWEEN(1,Worksheet!$B$12-1),RANDBETWEEN(1,Worksheet!$B$12-1)+RANDBETWEEN(1,9)/10,RANDBETWEEN(1,Worksheet!$B$12-1)+RANDBETWEEN(1,99)/100,RANDBETWEEN(1,Worksheet!$B$12-1)+RANDBETWEEN(1,999)/1000,RANDBETWEEN(1,Worksheet!$B$12-1)+RANDBETWEEN(1,9999)/10000),CHOOSE(RANDBETWEEN(1,Worksheet!$B$10+1),RANDBETWEEN(1,(Worksheet!$B$12-1)/S5)*S5,(RANDBETWEEN(1,(Worksheet!$B$12-1)/S5)+RANDBETWEEN(1,9)/10)*S5,(RANDBETWEEN(1,(Worksheet!$B$12-1)/S5)+RANDBETWEEN(1,99)/100)*S5,(RANDBETWEEN(1,(Worksheet!$B$12-1)/S5)+RANDBETWEEN(1,999)/1000)*S5,(RANDBETWEEN(1,(Worksheet!$B$12-1)/S5)+RANDBETWEEN(1,9999)/10000))*S5)","v":80.099999999999994},"×",{"$f":"S5*10^RANDBETWEEN(1,Worksheet!$B$11)","v":4000},"="," 320 400"]
[{"$f":"IF(ROW()<=Worksheet!$B$4/3,ROW(),\"\")","v":6},{"$f":"IF(Worksheet!$B$6=1,1,IF(Worksheet!$B$6=2,2,IF(Worksheet!$B$6=3,RANDBETWEEN(1,2))))","v":1},3,{"$f":"IF(B6=1,CHOOSE(RANDBETWEEN(2,Worksheet!$B$10+1),RANDBETWEEN(1,Worksheet!$B$12-1),RANDBETWEEN(1,Worksheet!$B$12-1)+RANDBETWEEN(1,9)/10,RANDBETWEEN(1,Worksheet!$B$12-1)+RANDBETWEEN(1,99)/100,RANDBETWEEN(1,Worksheet!$B$12-1)+RANDBETWEEN(1,999)/1000,RANDBETWEEN(1,Worksheet!$B$12-1)+RANDBETWEEN(1,9999)/10000),CHOOSE(RANDBETWEEN(1,Worksheet!$B$10+1),RANDBETWEEN(1,(Worksheet!$B$12-1)/C6)*C6,(RANDBETWEEN(1,(Worksheet!$B$12-1)/C6)+RANDBETWEEN(1,9)/10)*C6,(RANDBETWEEN(1,(Worksheet!$B$12-1)/C6)+RANDBETWEEN(1,99)/100)*C6,(RANDBETWEEN(1,(Worksheet!$B$12-1)/C6)+RANDBETWEEN(1,999)/1000)*C6,(RANDBETWEEN(1,(Worksheet!$B$12-1)/C6)+RANDBETWEEN(1,9999)/10000))*C6)","v":50.5},"×",{"$f":"C6*10^RANDBETWEEN(1,Worksheet!$B$11)","v":30},"="," 1 515",{"$f":"IF(ROW()<=Worksheet!$B$4/3,I5+1,\"\")","v":21},{"$f":"IF(Worksheet!$B$6=1,1,IF(Worksheet!$B$6=2,2,IF(Worksheet!$B$6=3,RANDBETWEEN(1,2))))","v":2},8,{"$f":"IF(J6=1,CHOOSE(RANDBETWEEN(2,Worksheet!$B$10+1),RANDBETWEEN(1,Worksheet!$B$12-1),RANDBETWEEN(1,Worksheet!$B$12-1)+RANDBETWEEN(1,9)/10,RANDBETWEEN(1,Worksheet!$B$12-1)+RANDBETWEEN(1,99)/100,RANDBETWEEN(1,Worksheet!$B$12-1)+RANDBETWEEN(1,999)/1000,RANDBETWEEN(1,Worksheet!$B$12-1)+RANDBETWEEN(1,9999)/10000),CHOOSE(RANDBETWEEN(1,Worksheet!$B$10+1),RANDBETWEEN(1,(Worksheet!$B$12-1)/K6)*K6,(RANDBETWEEN(1,(Worksheet!$B$12-1)/K6)+RANDBETWEEN(1,9)/10)*K6,(RANDBETWEEN(1,(Worksheet!$B$12-1)/K6)+RANDBETWEEN(1,99)/100)*K6,(RANDBETWEEN(1,(Worksheet!$B$12-1)/K6)+RANDBETWEEN(1,999)/1000)*K6,(RANDBETWEEN(1,(Worksheet!$B$12-1)/K6)+RANDBETWEEN(1,9999)/10000))*K6)","v":128},"÷",{"$f":"K6*10^RANDBETWEEN(1,Worksheet!$B$11)","v":8000},"=",1.6E-2,{"$f":"IF(ROW()<=Worksheet!$B$4/3,Q5+1,\"\")","v":36},{"$f":"IF(Worksheet!$B$6=1,1,IF(Worksheet!$B$6=2,2,IF(Worksheet!$B$6=3,RANDBETWEEN(1,2))))","v":1},4,{"$f":"IF(R6=1,CHOOSE(RANDBETWEEN(2,Worksheet!$B$10+1),RANDBETWEEN(1,Worksheet!$B$12-1),RANDBETWEEN(1,Worksheet!$B$12-1)+RANDBETWEEN(1,9)/10,RANDBETWEEN(1,Worksheet!$B$12-1)+RANDBETWEEN(1,99)/100,RANDBETWEEN(1,Worksheet!$B$12-1)+RANDBETWEEN(1,999)/1000,RANDBETWEEN(1,Worksheet!$B$12-1)+RANDBETWEEN(1,9999)/10000),CHOOSE(RANDBETWEEN(1,Worksheet!$B$10+1),RANDBETWEEN(1,(Worksheet!$B$12-1)/S6)*S6,(RANDBETWEEN(1,(Worksheet!$B$12-1)/S6)+RANDBETWEEN(1,9)/10)*S6,(RANDBETWEEN(1,(Worksheet!$B$12-1)/S6)+RANDBETWEEN(1,99)/100)*S6,(RANDBETWEEN(1,(Worksheet!$B$12-1)/S6)+RANDBETWEEN(1,999)/1000)*S6,(RANDBETWEEN(1,(Worksheet!$B$12-1)/S6)+RANDBETWEEN(1,9999)/10000))*S6)","v":3.2},"×",{"$f":"S6*10^RANDBETWEEN(1,Worksheet!$B$11)","v":40},"=","  128"]
[{"$f":"IF(ROW()<=Worksheet!$B$4/3,ROW(),\"\")","v":7},{"$f":"IF(Worksheet!$B$6=1,1,IF(Worksheet!$B$6=2,2,IF(Worksheet!$B$6=3,RANDBETWEEN(1,2))))","v":1},6,{"$f":"IF(B7=1,CHOOSE(RANDBETWEEN(2,Worksheet!$B$10+1),RANDBETWEEN(1,Worksheet!$B$12-1),RANDBETWEEN(1,Worksheet!$B$12-1)+RANDBETWEEN(1,9)/10,RANDBETWEEN(1,Worksheet!$B$12-1)+RANDBETWEEN(1,99)/100,RANDBETWEEN(1,Worksheet!$B$12-1)+RANDBETWEEN(1,999)/1000,RANDBETWEEN(1,Worksheet!$B$12-1)+RANDBETWEEN(1,9999)/10000),CHOOSE(RANDBETWEEN(1,Worksheet!$B$10+1),RANDBETWEEN(1,(Worksheet!$B$12-1)/C7)*C7,(RANDBETWEEN(1,(Worksheet!$B$12-1)/C7)+RANDBETWEEN(1,9)/10)*C7,(RANDBETWEEN(1,(Worksheet!$B$12-1)/C7)+RANDBETWEEN(1,99)/100)*C7,(RANDBETWEEN(1,(Worksheet!$B$12-1)/C7)+RANDBETWEEN(1,999)/1000)*C7,(RANDBETWEEN(1,(Worksheet!$B$12-1)/C7)+RANDBETWEEN(1,9999)/10000))*C7)","v":65.7},"×",{"$f":"C7*10^RANDBETWEEN(1,Worksheet!$B$11)","v":60},"="," 3 942",{"$f":"IF(ROW()<=Worksheet!$B$4/3,I6+1,\"\")","v":22},{"$f":"IF(Worksheet!$B$6=1,1,IF(Worksheet!$B$6=2,2,IF(Worksheet!$B$6=3,RANDBETWEEN(1,2))))","v":1},5,{"$f":"IF(J7=1,CHOOSE(RANDBETWEEN(2,Worksheet!$B$10+1),RANDBETWEEN(1,Worksheet!$B$12-1),RANDBETWEEN(1,Worksheet!$B$12-1)+RANDBETWEEN(1,9)/10,RANDBETWEEN(1,Worksheet!$B$12-1)+RANDBETWEEN(1,99)/100,RANDBETWEEN(1,Worksheet!$B$12-1)+RANDBETWEEN(1,999)/1000,RANDBETWEEN(1,Worksheet!$B$12-1)+RANDBETWEEN(1,9999)/10000),CHOOSE(RANDBETWEEN(1,Worksheet!$B$10+1),RANDBETWEEN(1,(Worksheet!$B$12-1)/K7)*K7,(RANDBETWEEN(1,(Worksheet!$B$12-1)/K7)+RANDBETWEEN(1,9)/10)*K7,(RANDBETWEEN(1,(Worksheet!$B$12-1)/K7)+RANDBETWEEN(1,99)/100)*K7,(RANDBETWEEN(1,(Worksheet!$B$12-1)/K7)+RANDBETWEEN(1,999)/1000)*K7,(RANDBETWEEN(1,(Worksheet!$B$12-1)/K7)+RANDBETWEEN(1,9999)/10000))*K7)","v":54.4},"×",{"$f":"K7*10^RANDBETWEEN(1,Worksheet!$B$11)","v":5000},"="," 272 000",{"$f":"IF(ROW()<=Worksheet!$B$4/3,Q6+1,\"\")","v":37},{"$f":"IF(Worksheet!$B$6=1,1,IF(Worksheet!$B$6=2,2,IF(Worksheet!$B$6=3,RANDBETWEEN(1,2))))","v":2},2,{"$f":"IF(R7=1,CHOOSE(RANDBETWEEN(2,Worksheet!$B$10+1),RANDBETWEEN(1,Worksheet!$B$12-1),RANDBETWEEN(1,Worksheet!$B$12-1)+RANDBETWEEN(1,9)/10,RANDBETWEEN(1,Worksheet!$B$12-1)+RANDBETWEEN(1,99)/100,RANDBETWEEN(1,Worksheet!$B$12-1)+RANDBETWEEN(1,999)/1000,RANDBETWEEN(1,Worksheet!$B$12-1)+RANDBETWEEN(1,9999)/10000),CHOOSE(RANDBETWEEN(1,Worksheet!$B$10+1),RANDBETWEEN(1,(Worksheet!$B$12-1)/S7)*S7,(RANDBETWEEN(1,(Worksheet!$B$12-1)/S7)+RANDBETWEEN(1,9)/10)*S7,(RANDBETWEEN(1,(Worksheet!$B$12-1)/S7)+RANDBETWEEN(1,99)/100)*S7,(RANDBETWEEN(1,(Worksheet!$B$12-1)/S7)+RANDBETWEEN(1,999)/1000)*S7,(RANDBETWEEN(1,(Worksheet!$B$12-1)/S7)+RANDBETWEEN(1,9999)/10000))*S7)","v":22.8},"÷",{"$f":"S7*10^RANDBETWEEN(1,Worksheet!$B$11)","v":200},"=",0.114]
[{"$f":"IF(ROW()<=Worksheet!$B$4/3,ROW(),\"\")","v":8},{"$f":"IF(Worksheet!$B$6=1,1,IF(Worksheet!$B$6=2,2,IF(Worksheet!$B$6=3,RANDBETWEEN(1,2))))","v":1},6,{"$f":"IF(B8=1,CHOOSE(RANDBETWEEN(2,Worksheet!$B$10+1),RANDBETWEEN(1,Worksheet!$B$12-1),RANDBETWEEN(1,Worksheet!$B$12-1)+RANDBETWEEN(1,9)/10,RANDBETWEEN(1,Worksheet!$B$12-1)+RANDBETWEEN(1,99)/100,RANDBETWEEN(1,Worksheet!$B$12-1)+RANDBETWEEN(1,999)/1000,RANDBETWEEN(1,Worksheet!$B$12-1)+RANDBETWEEN(1,9999)/10000),CHOOSE(RANDBETWEEN(1,Worksheet!$B$10+1),RANDBETWEEN(1,(Worksheet!$B$12-1)/C8)*C8,(RANDBETWEEN(1,(Worksheet!$B$12-1)/C8)+RANDBETWEEN(1,9)/10)*C8,(RANDBETWEEN(1,(Worksheet!$B$12-1)/C8)+RANDBETWEEN(1,99)/100)*C8,(RANDBETWEEN(1,(Worksheet!$B$12-1)/C8)+RANDBETWEEN(1,999)/1000)*C8,(RANDBETWEEN(1,(Worksheet!$B$12-1)/C8)+RANDBETWEEN(1,9999)/10000))*C8)","v":50.6},"×",{"$f":"C8*10^RANDBETWEEN(1,Worksheet!$B$11)","v":600},"="," 30 360",{"$f":"IF(ROW()<=Worksheet!$B$4/3,I7+1,\"\")","v":23},{"$f":"IF(Worksheet!$B$6=1,1,IF(Worksheet!$B$6=2,2,IF(Worksheet!$B$6=3,RANDBETWEEN(1,2))))","v":2},6,{"$f":"IF(J8=1,CHOOSE(RANDBETWEEN(2,Worksheet!$B$10+1),RANDBETWEEN(1,Worksheet!$B$12-1),RANDBETWEEN(1,Worksheet!$B$12-1)+RANDBETWEEN(1,9)/10,RANDBETWEEN(1,Worksheet!$B$12-1)+RANDBETWEEN(1,99)/100,RANDBETWEEN(1,Worksheet!$B$12-1)+RANDBETWEEN(1,999)/1000,RANDBETWEEN(1,Worksheet!$B$12-1)+RANDBETWEEN(1,9999)/10000),CHOOSE(RANDBETWEEN(1,Worksheet!$B$10+1),RANDBETWEEN(1,(Worksheet!$B$12-1)/K8)*K8,(RANDBETWEEN(1,(Worksheet!$B$12-1)/K8)+RANDBETWEEN(1,9)/10)*K8,(RANDBETWEEN(1,(Worksheet!$B$12-1)/K8)+RANDBETWEEN(1,99)/100)*K8,(RANDBETWEEN(1,(Worksheet!$B$12-1)/K8)+RANDBETWEEN(1,999)/1000)*K8,(RANDBETWEEN(1,(Worksheet!$B$12-1)/K8)+RANDBETWEEN(1,9999)/10000))*K8)","v":252},"÷",{"$f":"K8*10^RANDBETWEEN(1,Worksheet!$B$11)","v":600},"=",0.42,{"$f":"IF(ROW()<=Worksheet!$B$4/3,Q7+1,\"\")","v":38},{"$f":"IF(Worksheet!$B$6=1,1,IF(Worksheet!$B$6=2,2,IF(Worksheet!$B$6=3,RANDBETWEEN(1,2))))","v":1},5,{"$f":"IF(R8=1,CHOOSE(RANDBETWEEN(2,Worksheet!$B$10+1),RANDBETWEEN(1,Worksheet!$B$12-1),RANDBETWEEN(1,Worksheet!$B$12-1)+RANDBETWEEN(1,9)/10,RANDBETWEEN(1,Worksheet!$B$12-1)+RANDBETWEEN(1,99)/100,RANDBETWEEN(1,Worksheet!$B$12-1)+RANDBETWEEN(1,999)/1000,RANDBETWEEN(1,Worksheet!$B$12-1)+RANDBETWEEN(1,9999)/10000),CHOOSE(RANDBETWEEN(1,Worksheet!$B$10+1),RANDBETWEEN(1,(Worksheet!$B$12-1)/S8)*S8,(RANDBETWEEN(1,(Worksheet!$B$12-1)/S8)+RANDBETWEEN(1,9)/10)*S8,(RANDBETWEEN(1,(Worksheet!$B$12-1)/S8)+RANDBETWEEN(1,99)/100)*S8,(RANDBETWEEN(1,(Worksheet!$B$12-1)/S8)+RANDBETWEEN(1,999)/1000)*S8,(RANDBETWEEN(1,(Worksheet!$B$12-1)/S8)+RANDBETWEEN(1,9999)/10000))*S8)","v":72.2},"×",{"$f":"S8*10^RANDBETWEEN(1,Worksheet!$B$11)","v":50},"="," 3 610"]
[{"$f":"IF(ROW()<=Worksheet!$B$4/3,ROW(),\"\")","v":9},{"$f":"IF(Worksheet!$B$6=1,1,IF(Worksheet!$B$6=2,2,IF(Worksheet!$B$6=3,RANDBETWEEN(1,2))))","v":1},8,{"$f":"IF(B9=1,CHOOSE(RANDBETWEEN(2,Worksheet!$B$10+1),RANDBETWEEN(1,Worksheet!$B$12-1),RANDBETWEEN(1,Worksheet!$B$12-1)+RANDBETWEEN(1,9)/10,RANDBETWEEN(1,Worksheet!$B$12-1)+RANDBETWEEN(1,99)/100,RANDBETWEEN(1,Worksheet!$B$12-1)+RANDBETWEEN(1,999)/1000,RANDBETWEEN(1,Worksheet!$B$12-1)+RANDBETWEEN(1,9999)/10000),CHOOSE(RANDBETWEEN(1,Worksheet!$B$10+1),RANDBETWEEN(1,(Worksheet!$B$12-1)/C9)*C9,(RANDBETWEEN(1,(Worksheet!$B$12-1)/C9)+RANDBETWEEN(1,9)/10)*C9,(RANDBETWEEN(1,(Worksheet!$B$12-1)/C9)+RANDBETWEEN(1,99)/100)*C9,(RANDBETWEEN(1,(Worksheet!$B$12-1)/C9)+RANDBETWEEN(1,999)/1000)*C9,(RANDBETWEEN(1,(Worksheet!$B$12-1)/C9)+RANDBETWEEN(1,9999)/10000))*C9)","v":27.9},"×",{"$f":"C9*10^RANDBETWEEN(1,Worksheet!$B$11)","v":80},"="," 2 232",{"$f":"IF(ROW()<=Worksheet!$B$4/3,I8+1,\"\")","v":24},{"$f":"IF(Worksheet!$B$6=1,1,IF(Worksheet!$B$6=2,2,IF(Worksheet!$B$6=3,RANDBETWEEN(1,2))))","v":2},4,{"$f":"IF(J9=1,CHOOSE(RANDBETWEEN(2,Worksheet!$B$10+1),RANDBETWEEN(1,Worksheet!$B$12-1),RANDBETWEEN(1,Worksheet!$B$12-1)+RANDBETWEEN(1,9)/10,RANDBETWEEN(1,Worksheet!$B$12-1)+RANDBETWEEN(1,99)/100,RANDBETWEEN(1,Worksheet!$B$12-1)+RANDBETWEEN(1,999)/1000,RANDBETWEEN(1,Worksheet!$B$12-1)+RANDBETWEEN(1,9999)/10000),CHOOSE(RANDBETWEEN(1,Worksheet!$B$10+1),RANDBETWEEN(1,(Worksheet!$B$12-1)/K9)*K9,(RANDBETWEEN(1,(Worksheet!$B$12-1)/K9)+RANDBETWEEN(1,9)/10)*K9,(RANDBETWEEN(1,(Worksheet!$B$12-1)/K9)+RANDBETWEEN(1,99)/100)*K9,(RANDBETWEEN(1,(Worksheet!$B$12-1)/K9)+RANDBETWEEN(1,999)/1000)*K9,(RANDBETWEEN(1,(Worksheet!$B$12-1)/K9)+RANDBETWEEN(1,9999)/10000))*K9)","v":256},"÷",{"$f":"K9*10^RANDBETWEEN(1,Worksheet!$B$11)","v":4000},"=",6.4000000000000001E-2,{"$f":"IF(ROW()<=Worksheet!$B$4/3,Q8+1,\"\")","v":39},{"$f":"IF(Worksheet!$B$6=1,1,IF(Worksheet!$B$6=2,2,IF(Worksheet!$B$6=3,RANDBETWEEN(1,2))))","v":2},8,{"$f":"IF(R9=1,CHOOSE(RANDBETWEEN(2,Worksheet!$B$10+1),RANDBETWEEN(1,Worksheet!$B$12-1),RANDBETWEEN(1,Worksheet!$B$12-1)+RANDBETWEEN(1,9)/10,RANDBETWEEN(1,Worksheet!$B$12-1)+RANDBETWEEN(1,99)/100,RANDBETWEEN(1,Worksheet!$B$12-1)+RANDBETWEEN(1,999)/1000,RANDBETWEEN(1,Worksheet!$B$12-1)+RANDBETWEEN(1,9999)/10000),CHOOSE(RANDBETWEEN(1,Worksheet!$B$10+1),RANDBETWEEN(1,(Worksheet!$B$12-1)/S9)*S9,(RANDBETWEEN(1,(Worksheet!$B$12-1)/S9)+RANDBETWEEN(1,9)/10)*S9,(RANDBETWEEN(1,(Worksheet!$B$12-1)/S9)+RANDBETWEEN(1,99)/100)*S9,(RANDBETWEEN(1,(Worksheet!$B$12-1)/S9)+RANDBETWEEN(1,999)/1000)*S9,(RANDBETWEEN(1,(Worksheet!$B$12-1)/S9)+RANDBETWEEN(1,9999)/10000))*S9)","v":147.19999999999999},"÷",{"$f":"S9*10^RANDBETWEEN(1,Worksheet!$B$11)","v":8000},"=",1.84E-2]
[{"$f":"IF(ROW()<=Worksheet!$B$4/3,ROW(),\"\")","v":10},{"$f":"IF(Worksheet!$B$6=1,1,IF(Worksheet!$B$6=2,2,IF(Worksheet!$B$6=3,RANDBETWEEN(1,2))))","v":2},8,{"$f":"IF(B10=1,CHOOSE(RANDBETWEEN(2,Worksheet!$B$10+1),RANDBETWEEN(1,Worksheet!$B$12-1),RANDBETWEEN(1,Worksheet!$B$12-1)+RANDBETWEEN(1,9)/10,RANDBETWEEN(1,Worksheet!$B$12-1)+RANDBETWEEN(1,99)/100,RANDBETWEEN(1,Worksheet!$B$12-1)+RANDBETWEEN(1,999)/1000,RANDBETWEEN(1,Worksheet!$B$12-1)+RANDBETWEEN(1,9999)/10000),CHOOSE(RANDBETWEEN(1,Worksheet!$B$10+1),RANDBETWEEN(1,(Worksheet!$B$12-1)/C10)*C10,(RANDBETWEEN(1,(Worksheet!$B$12-1)/C10)+RANDBETWEEN(1,9)/10)*C10,(RANDBETWEEN(1,(Worksheet!$B$12-1)/C10)+RANDBETWEEN(1,99)/100)*C10,(RANDBETWEEN(1,(Worksheet!$B$12-1)/C10)+RANDBETWEEN(1,999)/1000)*C10,(RANDBETWEEN(1,(Worksheet!$B$12-1)/C10)+RANDBETWEEN(1,9999)/10000))*C10)","v":512},"÷",{"$f":"C10*10^RANDBETWEEN(1,Worksheet!$B$11)","v":8000},"=",6.4000000000000001E-2,{"$f":"IF(ROW()<=Worksheet!$B$4/3,I9+1,\"\")","v":25},{"$f":"IF(Worksheet!$B$6=1,1,IF(Worksheet!$B$6=2,2,IF(Worksheet!$B$6=3,RANDBETWEEN(1,2))))","v":1},7,{"$f":"IF(J10=1,CHOOSE(RANDBETWEEN(2,Worksheet!$B$10+1),RANDBETWEEN(1,Worksheet!$B$12-1),RANDBETWEEN(1,Worksheet!$B$12-1)+RANDBETWEEN(1,9)/10,RANDBETWEEN(1,Worksheet!$B$12-1)+RANDBETWEEN(1,99)/100,RANDBETWEEN(1,Worksheet!$B$12-1)+RANDBETWEEN(1,999)/1000,RANDBETWEEN(1,Worksheet!$B$12-1)+RANDBETWEEN(1,9999)/10000),CHOOSE(RANDBETWEEN(1,Worksheet!$B$10+1),RANDBETWEEN(1,(Worksheet!$B$12-1)/K10)*K10,(RANDBETWEEN(1,(Worksheet!$B$12-1)/K10)+RANDBETWEEN(1,9)/10)*K10,(RANDBETWEEN(1,(Worksheet!$B$12-1)/K10)+RANDBETWEEN(1,99)/100)*K10,(RANDBETWEEN(1,(Worksheet!$B$12-1)/K10)+RANDBETWEEN(1,999)/1000)*K10,(RANDBETWEEN(1,(Worksheet!$B$12-1)/K10)+RANDBETWEEN(1,9999)/10000))*K10)","v":67.11},"×",{"$f":"K10*10^RANDBETWEEN(1,Worksheet!$B$11)","v":70},"="," 4 698",{"$f":"IF(ROW()<=Worksheet!$B$4/3,Q9+1,\"\")","v":40},{"$f":"IF(Worksheet!$B$6=1,1,IF(Worksheet!$B$6=2,2,IF(Worksheet!$B$6=3,RANDBETWEEN(1,2))))","v":2},2,{"$f":"IF(R10=1,CHOOSE(RANDBETWEEN(2,Worksheet!$B$10+1),RANDBETWEEN(1,Worksheet!$B$12-1),RANDBETWEEN(1,Worksheet!$B$12-1)+RANDBETWEEN(1,9)/10,RANDBETWEEN(1,Worksheet!$B$12-1)+RANDBETWEEN(1,99)/100,RANDBETWEEN(1,Worksheet!$B$12-1)+RANDBETWEEN(1,999)/1000,RANDBETWEEN(1,Worksheet!$B$12-1)+RANDBETWEEN(1,9999)/10000),CHOOSE(RANDBETWEEN(1,Worksheet!$B$10+1),RANDBETWEEN(1,(Worksheet!$B$12-1)/S10)*S10,(RANDBETWEEN(1,(Worksheet!$B$12-1)/S10)+RANDBETWEEN(1,9)/10)*S10,(RANDBETWEEN(1,(Worksheet!$B$12-1)/S10)+RANDBETWEEN(1,99)/100)*S10,(RANDBETWEEN(1,(Worksheet!$B$12-1)/S10)+RANDBETWEEN(1,999)/1000)*S10,(RANDBETWEEN(1,(Worksheet!$B$12-1)/S10)+RANDBETWEEN(1,9999)/10000))*S10)","v":197.6},"÷",{"$f":"S10*10^RANDBETWEEN(1,Worksheet!$B$11)","v":200},"=",0.98799999999999999]
[{"$f":"IF(ROW()<=Worksheet!$B$4/3,ROW(),\"\")","v":11},{"$f":"IF(Worksheet!$B$6=1,1,IF(Worksheet!$B$6=2,2,IF(Worksheet!$B$6=3,RANDBETWEEN(1,2))))","v":2},4,{"$f":"IF(B11=1,CHOOSE(RANDBETWEEN(2,Worksheet!$B$10+1),RANDBETWEEN(1,Worksheet!$B$12-1),RANDBETWEEN(1,Worksheet!$B$12-1)+RANDBETWEEN(1,9)/10,RANDBETWEEN(1,Worksheet!$B$12-1)+RANDBETWEEN(1,99)/100,RANDBETWEEN(1,Worksheet!$B$12-1)+RANDBETWEEN(1,999)/1000,RANDBETWEEN(1,Worksheet!$B$12-1)+RANDBETWEEN(1,9999)/10000),CHOOSE(RANDBETWEEN(1,Worksheet!$B$10+1),RANDBETWEEN(1,(Worksheet!$B$12-1)/C11)*C11,(RANDBETWEEN(1,(Worksheet!$B$12-1)/C11)+RANDBETWEEN(1,9)/10)*C11,(RANDBETWEEN(1,(Worksheet!$B$12-1)/C11)+RANDBETWEEN(1,99)/100)*C11,(RANDBETWEEN(1,(Worksheet!$B$12-1)/C11)+RANDBETWEEN(1,999)/1000)*C11,(RANDBETWEEN(1,(Worksheet!$B$12-1)/C11)+RANDBETWEEN(1,9999)/10000))*C11)","v":64},"÷",{"$f":"C11*10^RANDBETWEEN(1,Worksheet!$B$11)","v":4000},"=",1.6E-2,{"$f":"IF(ROW()<=Worksheet!$B$4/3,I10+1,\"\")","v":26},{"$f":"IF(Worksheet!$B$6=1,1,IF(Worksheet!$B$6=2,2,IF(Worksheet!$B$6=3,RANDBETWEEN(1,2))))","v":2},6,{"$f":"IF(J11=1,CHOOSE(RANDBETWEEN(2,Worksheet!$B$10+1),RANDBETWEEN(1,Worksheet!$B$12-1),RANDBETWEEN(1,Worksheet!$B$12-1)+RANDBETWEEN(1,9)/10,RANDBETWEEN(1,Worksheet!$B$12-1)+RANDBETWEEN(1,99)/100,RANDBETWEEN(1,Worksheet!$B$12-1)+RANDBETWEEN(1,999)/1000,RANDBETWEEN(1,Worksheet!$B$12-1)+RANDBETWEEN(1,9999)/10000),CHOOSE(RANDBETWEEN(1,Worksheet!$B$10+1),RANDBETWEEN(1,(Worksheet!$B$12-1)/K11)*K11,(RANDBETWEEN(1,(Worksheet!$B$12-1)/K11)+RANDBETWEEN(1,9)/10)*K11,(RANDBETWEEN(1,(Worksheet!$B$12-1)/K11)+RANDBETWEEN(1,99)/100)*K11,(RANDBETWEEN(1,(Worksheet!$B$12-1)/K11)+RANDBETWEEN(1,999)/1000)*K11,(RANDBETWEEN(1,(Worksheet!$B$12-1)/K11)+RANDBETWEEN(1,9999)/10000))*K11)","v":519.48},"÷",{"$f":"K11*10^RANDBETWEEN(1,Worksheet!$B$11)","v":6000},"=",8.6580000000000004E-2,{"$f":"IF(ROW()<=Worksheet!$B$4/3,Q10+1,\"\")","v":41},{"$f":"IF(Worksheet!$B$6=1,1,IF(Worksheet!$B$6=2,2,IF(Worksheet!$B$6=3,RANDBETWEEN(1,2))))","v":1},8,{"$f":"IF(R11=1,CHOOSE(RANDBETWEEN(2,Worksheet!$B$10+1),RANDBETWEEN(1,Worksheet!$B$12-1),RANDBETWEEN(1,Worksheet!$B$12-1)+RANDBETWEEN(1,9)/10,RANDBETWEEN(1,Worksheet!$B$12-1)+RANDBETWEEN(1,99)/100,RANDBETWEEN(1,Worksheet!$B$12-1)+RANDBETWEEN(1,999)/1000,RANDBETWEEN(1,Worksheet!$B$12-1)+RANDBETWEEN(1,9999)/10000),CHOOSE(RANDBETWEEN(1,Worksheet!$B$10+1),RANDBETWEEN(1,(Worksheet!$B$12-1)/S11)*S11,(RANDBETWEEN(1,(Worksheet!$B$12-1)/S11)+RANDBETWEEN(1,9)/10)*S11,(RANDBETWEEN(1,(Worksheet!$B$12-1)/S11)+RANDBETWEEN(1,99)/100)*S11,(RANDBETWEEN(1,(Worksheet!$B$12-1)/S11)+RANDBETWEEN(1,999)/1000)*S11,(RANDBETWEEN(1,(Worksheet!$B$12-1)/S11)+RANDBETWEEN(1,9999)/10000))*S11)","v":16.97},"×",{"$f":"S11*10^RANDBETWEEN(1,Worksheet!$B$11)","v":800},"="," 13 576"]
[{"$f":"IF(ROW()<=Worksheet!$B$4/3,ROW(),\"\")","v":12},{"$f":"IF(Worksheet!$B$6=1,1,IF(Worksheet!$B$6=2,2,IF(Worksheet!$B$6=3,RANDBETWEEN(1,2))))","v":1},4,{"$f":"IF(B12=1,CHOOSE(RANDBETWEEN(2,Worksheet!$B$10+1),RANDBETWEEN(1,Worksheet!$B$12-1),RANDBETWEEN(1,Worksheet!$B$12-1)+RANDBETWEEN(1,9)/10,RANDBETWEEN(1,Worksheet!$B$12-1)+RANDBETWEEN(1,99)/100,RANDBETWEEN(1,Worksheet!$B$12-1)+RANDBETWEEN(1,999)/1000,RANDBETWEEN(1,Worksheet!$B$12-1)+RANDBETWEEN(1,9999)/10000),CHOOSE(RANDBETWEEN(1,Worksheet!$B$10+1),RANDBETWEEN(1,(Worksheet!$B$12-1)/C12)*C12,(RANDBETWEEN(1,(Worksheet!$B$12-1)/C12)+RANDBETWEEN(1,9)/10)*C12,(RANDBETWEEN(1,(Worksheet!$B$12-1)/C12)+RANDBETWEEN(1,99)/100)*C12,(RANDBETWEEN(1,(Worksheet!$B$12-1)/C12)+RANDBETWEEN(1,999)/1000)*C12,(RANDBETWEEN(1,(Worksheet!$B$12-1)/C12)+RANDBETWEEN(1,9999)/10000))*C12)","v":57.62},"×",{"$f":"C12*10^RANDBETWEEN(1,Worksheet!$B$11)","v":400},"="," 23 048",{"$f":"IF(ROW()<=Worksheet!$B$4/3,I11+1,\"\")","v":27},{"$f":"IF(Worksheet!$B$6=1,1,IF(Worksheet!$B$6=2,2,IF(Worksheet!$B$6=3,RANDBETWEEN(1,2))))","v":2},3,{"$f":"IF(J12=1,CHOOSE(RANDBETWEEN(2,Worksheet!$B$10+1),RANDBETWEEN(1,Worksheet!$B$12-1),RANDBETWEEN(1,Worksheet!$B$12-1)+RANDBETWEEN(1,9)/10,RANDBETWEEN(1,Worksheet!$B$12-1)+RANDBETWEEN(1,99)/100,RANDBETWEEN(1,Worksheet!$B$12-1)+RANDBETWEEN(1,999)/1000,RANDBETWEEN(1,Worksheet!$B$12-1)+RANDBETWEEN(1,9999)/10000),CHOOSE(RANDBETWEEN(1,Worksheet!$B$10+1),RANDBETWEEN(1,(Worksheet!$B$12-1)/K12)*K12,(RANDBETWEEN(1,(Worksheet!$B$12-1)/K12)+RANDBETWEEN(1,9)/10)*K12,(RANDBETWEEN(1,(Worksheet!$B$12-1)/K12)+RANDBETWEEN(1,99)/100)*K12,(RANDBETWEEN(1,(Worksheet!$B$12-1)/K12)+RANDBETWEEN(1,999)/1000)*K12,(RANDBETWEEN(1,(Worksheet!$B$12-1)/K12)+RANDBETWEEN(1,9999)/10000))*K12)","v":242.09999999999997},"÷",{"$f":"K12*10^RANDBETWEEN(1,Worksheet!$B$11)","v":3000},"=",8.0699999999999994E-2,{"$f":"IF(ROW()<=Worksheet!$B$4/3,Q11+1,\"\")","v":42},{"$f":"IF(Worksheet!$B$6=1,1,IF(Worksheet!$B$6=2,2,IF(Worksheet!$B$6=3,RANDBETWEEN(1,2))))","v":1},5,{"$f":"IF(R12=1,CHOOSE(RANDBETWEEN(2,Worksheet!$B$10+1),RANDBETWEEN(1,Worksheet!$B$12-1),RANDBETWEEN(1,Worksheet!$B$12-1)+RANDBETWEEN(1,9)/10,RANDBETWEEN(1,Worksheet!$B$12-1)+RANDBETWEEN(1,99)/100,RANDBETWEEN(1,Worksheet!$B$12-1)+RANDBETWEEN(1,999)/1000,RANDBETWEEN(1,Worksheet!$B$12-1)+RANDBETWEEN(1,9999)/10000),CHOOSE(RANDBETWEEN(1,Worksheet!$B$10+1),RANDBETWEEN(1,(Worksheet!$B$12-1)/S12)*S12,(RANDBETWEEN(1,(Worksheet!$B$12-1)/S12)+RANDBETWEEN(1,9)/10)*S12,(RANDBETWEEN(1,(Worksheet!$B$12-1)/S12)+RANDBETWEEN(1,99)/100)*S12,(RANDBETWEEN(1,(Worksheet!$B$12-1)/S12)+RANDBETWEEN(1,999)/1000)*S12,(RANDBETWEEN(1,(Worksheet!$B$12-1)/S12)+RANDBETWEEN(1,9999)/10000))*S12)","v":50.6},"×",{"$f":"S12*10^RANDBETWEEN(1,Worksheet!$B$11)","v":50},"="," 2 530"]
[{"$f":"IF(ROW()<=Worksheet!$B$4/3,ROW(),\"\")","v":13},{"$f":"IF(Worksheet!$B$6=1,1,IF(Worksheet!$B$6=2,2,IF(Worksheet!$B$6=3,RANDBETWEEN(1,2))))","v":2},2,{"$f":"IF(B13=1,CHOOSE(RANDBETWEEN(2,Worksheet!$B$10+1),RANDBETWEEN(1,Worksheet!$B$12-1),RANDBETWEEN(1,Worksheet!$B$12-1)+RANDBETWEEN(1,9)/10,RANDBETWEEN(1,Worksheet!$B$12-1)+RANDBETWEEN(1,99)/100,RANDBETWEEN(1,Worksheet!$B$12-1)+RANDBETWEEN(1,999)/1000,RANDBETWEEN(1,Worksheet!$B$12-1)+RANDBETWEEN(1,9999)/10000),CHOOSE(RANDBETWEEN(1,Worksheet!$B$10+1),RANDBETWEEN(1,(Worksheet!$B$12-1)/C13)*C13,(RANDBETWEEN(1,(Worksheet!$B$12-1)/C13)+RANDBETWEEN(1,9)/10)*C13,(RANDBETWEEN(1,(Worksheet!$B$12-1)/C13)+RANDBETWEEN(1,99)/100)*C13,(RANDBETWEEN(1,(Worksheet!$B$12-1)/C13)+RANDBETWEEN(1,999)/1000)*C13,(RANDBETWEEN(1,(Worksheet!$B$12-1)/C13)+RANDBETWEEN(1,9999)/10000))*C13)","v":11.44},"÷",{"$f":"C13*10^RANDBETWEEN(1,Worksheet!$B$11)","v":200},"=",5.7200000000000001E-2,{"$f":"IF(ROW()<=Worksheet!$B$4/3,I12+1,\"\")","v":28},{"$f":"IF(Worksheet!$B$6=1,1,IF(Worksheet!$B$6=2,2,IF(Worksheet!$B$6=3,RANDBETWEEN(1,2))))","v":2},2,{"$f":"IF(J13=1,CHOOSE(RANDBETWEEN(2,Worksheet!$B$10+1),RANDBETWEEN(1,Worksheet!$B$12-1),RANDBETWEEN(1,Worksheet!$B$12-1)+RANDBETWEEN(1,9)/10,RANDBETWEEN(1,Worksheet!$B$12-1)+RANDBETWEEN(1,99)/100,RANDBETWEEN(1,Worksheet!$B$12-1)+RANDBETWEEN(1,999)/1000,RANDBETWEEN(1,Worksheet!$B$12-1)+RANDBETWEEN(1,9999)/10000),CHOOSE(RANDBETWEEN(1,Worksheet!$B$10+1),RANDBETWEEN(1,(Worksheet!$B$12-1)/K13)*K13,(RANDBETWEEN(1,(Worksheet!$B$12-1)/K13)+RANDBETWEEN(1,9)/10)*K13,(RANDBETWEEN(1,(Worksheet!$B$12-1)/K13)+RANDBETWEEN(1,99)/100)*K13,(RANDBETWEEN(1,(Worksheet!$B$12-1)/K13)+RANDBETWEEN(1,999)/1000)*K13,(RANDBETWEEN(1,(Worksheet!$B$12-1)/K13)+RANDBETWEEN(1,9999)/10000))*K13)","v":101.04},"÷",{"$f":"K13*10^RANDBETWEEN(1,Worksheet!$B$11)","v":2000},"=",5.0520000000000002E-2,{"$f":"IF(ROW()<=Worksheet!$B$4/3,Q12+1,\"\")","v":43},{"$f":"IF(Worksheet!$B$6=1,1,IF(Worksheet!$B$6=2,2,IF(Worksheet!$B$6=3,RANDBETWEEN(1,2))))","v":1},3,{"$f":"IF(R13=1,CHOOSE(RANDBETWEEN(2,Worksheet!$B$10+1),RANDBETWEEN(1,Worksheet!$B$12-1),RANDBETWEEN(1,Worksheet!$B$12-1)+RANDBETWEEN(1,9)/10,RANDBETWEEN(1,Worksheet!$B$12-1)+RANDBETWEEN(1,99)/100,RANDBETWEEN(1,Worksheet!$B$12-1)+RANDBETWEEN(1,999)/1000,RANDBETWEEN(1,Worksheet!$B$12-1)+RANDBETWEEN(1,9999)/10000),CHOOSE(RANDBETWEEN(1,Worksheet!$B$10+1),RANDBETWEEN(1,(Worksheet!$B$12-1)/S13)*S13,(RANDBETWEEN(1,(Worksheet!$B$12-1)/S13)+RANDBETWEEN(1,9)/10)*S13,(RANDBETWEEN(1,(Worksheet!$B$12-1)/S13)+RANDBETWEEN(1,99)/100)*S13,(RANDBETWEEN(1,(Worksheet!$B$12-1)/S13)+RANDBETWEEN(1,999)/1000)*S13,(RANDBETWEEN(1,(Worksheet!$B$12-1)/S13)+RANDBETWEEN(1,9999)/10000))*S13)","v":67.599999999999994},"×",{"$f":"S13*10^RANDBETWEEN(1,Worksheet!$B$11)","v":3000},"="," 202 800"]
[{"$f":"IF(ROW()<=Worksheet!$B$4/3,ROW(),\"\")","v":14},{"$f":"IF(Worksheet!$B$6=1,1,IF(Worksheet!$B$6=2,2,IF(Worksheet!$B$6=3,RANDBETWEEN(1,2))))","v":2},6,{"$f":"IF(B14=1,CHOOSE(RANDBETWEEN(2,Worksheet!$B$10+1),RANDBETWEEN(1,Worksheet!$B$12-1),RANDBETWEEN(1,Worksheet!$B$12-1)+RANDBETWEEN(1,9)/10,RANDBETWEEN(1,Worksheet!$B$12-1)+RANDBETWEEN(1,99)/100,RANDBETWEEN(1,Worksheet!$B$12-1)+RANDBETWEEN(1,999)/1000,RANDBETWEEN(1,Worksheet!$B$12-1)+RANDBETWEEN(1,9999)/10000),CHOOSE(RANDBETWEEN(1,Worksheet!$B$10+1),RANDBETWEEN(1,(Worksheet!$B$12-1)/C14)*C14,(RANDBETWEEN(1,(Worksheet!$B$12-1)/C14)+RANDBETWEEN(1,9)/10)*C14,(RANDBETWEEN(1,(Worksheet!$B$12-1)/C14)+RANDBETWEEN(1,99)/100)*C14,(RANDBETWEEN(1,(Worksheet!$B$12-1)/C14)+RANDBETWEEN(1,999)/1000)*C14,(RANDBETWEEN(1,(Worksheet!$B$12-1)/C14)+RANDBETWEEN(1,9999)/10000))*C14)","v":554.40000000000009},"÷",{"$f":"C14*10^RANDBETWEEN(1,Worksheet!$B$11)","v":6000},"=",9.240000000000001E-2,{"$f":"IF(ROW()<=Worksheet!$B$4/3,I13+1,\"\")","v":29},{"$f":"IF(Worksheet!$B$6=1,1,IF(Worksheet!$B$6=2,2,IF(Worksheet!$B$6=3,RANDBETWEEN(1,2))))","v":2},4,{"$f":"IF(J14=1,CHOOSE(RANDBETWEEN(2,Worksheet!$B$10+1),RANDBETWEEN(1,Worksheet!$B$12-1),RANDBETWEEN(1,Worksheet!$B$12-1)+RANDBETWEEN(1,9)/10,RANDBETWEEN(1,Worksheet!$B$12-1)+RANDBETWEEN(1,99)/100,RANDBETWEEN(1,Worksheet!$B$12-1)+RANDBETWEEN(1,999)/1000,RANDBETWEEN(1,Worksheet!$B$12-1)+RANDBETWEEN(1,9999)/10000),CHOOSE(RANDBETWEEN(1,Worksheet!$B$10+1),RANDBETWEEN(1,(Worksheet!$B$12-1)/K14)*K14,(RANDBETWEEN(1,(Worksheet!$B$12-1)/K14)+RANDBETWEEN(1,9)/10)*K14,(RANDBETWEEN(1,(Worksheet!$B$12-1)/K14)+RANDBETWEEN(1,99)/100)*K14,(RANDBETWEEN(1,(Worksheet!$B$12-1)/K14)+RANDBETWEEN(1,999)/1000)*K14,(RANDBETWEEN(1,(Worksheet!$B$12-1)/K14)+RANDBETWEEN(1,9999)/10000))*K14)","v":56.16},"÷",{"$f":"K14*10^RANDBETWEEN(1,Worksheet!$B$11)","v":400},"=",0.1404,{"$f":"IF(ROW()<=Worksheet!$B$4/3,Q13+1,\"\")","v":44},{"$f":"IF(Worksheet!$B$6=1,1,IF(Worksheet!$B$6=2,2,IF(Worksheet!$B$6=3,RANDBETWEEN(1,2))))","v":1},6,{"$f":"IF(R14=1,CHOOSE(RANDBETWEEN(2,Worksheet!$B$10+1),RANDBETWEEN(1,Worksheet!$B$12-1),RANDBETWEEN(1,Worksheet!$B$12-1)+RANDBETWEEN(1,9)/10,RANDBETWEEN(1,Worksheet!$B$12-1)+RANDBETWEEN(1,99)/100,RANDBETWEEN(1,Worksheet!$B$12-1)+RANDBETWEEN(1,999)/1000,RANDBETWEEN(1,Worksheet!$B$12-1)+RANDBETWEEN(1,9999)/10000),CHOOSE(RANDBETWEEN(1,Worksheet!$B$10+1),RANDBETWEEN(1,(Worksheet!$B$12-1)/S14)*S14,(RANDBETWEEN(1,(Worksheet!$B$12-1)/S14)+RANDBETWEEN(1,9)/10)*S14,(RANDBETWEEN(1,(Worksheet!$B$12-1)/S14)+RANDBETWEEN(1,99)/100)*S14,(RANDBETWEEN(1,(Worksheet!$B$12-1)/S14)+RANDBETWEEN(1,999)/1000)*S14,(RANDBETWEEN(1,(Worksheet!$B$12-1)/S14)+RANDBETWEEN(1,9999)/10000))*S14)","v":54.4},"×",{"$f":"S14*10^RANDBETWEEN(1,Worksheet!$B$11)","v":6000},"="," 326 400"]
[{"$f":"IF(ROW()<=Worksheet!$B$4/3,ROW(),\"\")","v":15},{"$f":"IF(Worksheet!$B$6=1,1,IF(Worksheet!$B$6=2,2,IF(Worksheet!$B$6=3,RANDBETWEEN(1,2))))","v":2},4,{"$f":"IF(B15=1,CHOOSE(RANDBETWEEN(2,Worksheet!$B$10+1),RANDBETWEEN(1,Worksheet!$B$12-1),RANDBETWEEN(1,Worksheet!$B$12-1)+RANDBETWEEN(1,9)/10,RANDBETWEEN(1,Worksheet!$B$12-1)+RANDBETWEEN(1,99)/100,RANDBETWEEN(1,Worksheet!$B$12-1)+RANDBETWEEN(1,999)/1000,RANDBETWEEN(1,Worksheet!$B$12-1)+RANDBETWEEN(1,9999)/10000),CHOOSE(RANDBETWEEN(1,Worksheet!$B$10+1),RANDBETWEEN(1,(Worksheet!$B$12-1)/C15)*C15,(RANDBETWEEN(1,(Worksheet!$B$12-1)/C15)+RANDBETWEEN(1,9)/10)*C15,(RANDBETWEEN(1,(Worksheet!$B$12-1)/C15)+RANDBETWEEN(1,99)/100)*C15,(RANDBETWEEN(1,(Worksheet!$B$12-1)/C15)+RANDBETWEEN(1,999)/1000)*C15,(RANDBETWEEN(1,(Worksheet!$B$12-1)/C15)+RANDBETWEEN(1,9999)/10000))*C15)","v":399.36},"÷",{"$f":"C15*10^RANDBETWEEN(1,Worksheet!$B$11)","v":400},"=",0.99840000000000007,{"$f":"IF(ROW()<=Worksheet!$B$4/3,I14+1,\"\")","v":30},{"$f":"IF(Worksheet!$B$6=1,1,IF(Worksheet!$B$6=2,2,IF(Worksheet!$B$6=3,RANDBETWEEN(1,2))))","v":2},3,{"$f":"IF(J15=1,CHOOSE(RANDBETWEEN(2,Worksheet!$B$10+1),RANDBETWEEN(1,Worksheet!$B$12-1),RANDBETWEEN(1,Worksheet!$B$12-1)+RANDBETWEEN(1,9)/10,RANDBETWEEN(1,Worksheet!$B$12-1)+RANDBETWEEN(1,99)/100,RANDBETWEEN(1,Worksheet!$B$12-1)+RANDBETWEEN(1,999)/1000,RANDBETWEEN(1,Worksheet!$B$12-1)+RANDBETWEEN(1,9999)/10000),CHOOSE(RANDBETWEEN(1,Worksheet!$B$10+1),RANDBETWEEN(1,(Worksheet!$B$12-1)/K15)*K15,(RANDBETWEEN(1,(Worksheet!$B$12-1)/K15)+RANDBETWEEN(1,9)/10)*K15,(RANDBETWEEN(1,(Worksheet!$B$12-1)/K15)+RANDBETWEEN(1,99)/100)*K15,(RANDBETWEEN(1,(Worksheet!$B$12-1)/K15)+RANDBETWEEN(1,999)/1000)*K15,(RANDBETWEEN(1,(Worksheet!$B$12-1)/K15)+RANDBETWEEN(1,9999)/10000))*K15)","v":234},"÷",{"$f":"K15*10^RANDBETWEEN(1,Worksheet!$B$11)","v":30},"=",7.8,{"$f":"IF(ROW()<=Worksheet!$B$4/3,Q14+1,\"\")","v":45},{"$f":"IF(Worksheet!$B$6=1,1,IF(Worksheet!$B$6=2,2,IF(Worksheet!$B$6=3,RANDBETWEEN(1,2))))","v":1},9,{"$f":"IF(R15=1,CHOOSE(RANDBETWEEN(2,Worksheet!$B$10+1),RANDBETWEEN(1,Worksheet!$B$12-1),RANDBETWEEN(1,Worksheet!$B$12-1)+RANDBETWEEN(1,9)/10,RANDBETWEEN(1,Worksheet!$B$12-1)+RANDBETWEEN(1,99)/100,RANDBETWEEN(1,Worksheet!$B$12-1)+RANDBETWEEN(1,999)/1000,RANDBETWEEN(1,Worksheet!$B$12-1)+RANDBETWEEN(1,9999)/10000),CHOOSE(RANDBETWEEN(1,Worksheet!$B$10+1),RANDBETWEEN(1,(Worksheet!$B$12-1)/S15)*S15,(RANDBETWEEN(1,(Worksheet!$B$12-1)/S15)+RANDBETWEEN(1,9)/10)*S15,(RANDBETWEEN(1,(Worksheet!$B$12-1)/S15)+RANDBETWEEN(1,99)/100)*S15,(RANDBETWEEN(1,(Worksheet!$B$12-1)/S15)+RANDBETWEEN(1,999)/1000)*S15,(RANDBETWEEN(1,(Worksheet!$B$12-1)/S15)+RANDBETWEEN(1,9999)/10000))*S15)","v":6.92},"×",{"$f":"S15*10^RANDBETWEEN(1,Worksheet!$B$11)","v":90},"=","  623"]
[]
[]
[]
[]
[]
[]
[]
[{"$f":"IF(ROW()<=Worksheet!$B$4/2,ROW(),\"\")","v":""},null,null,null,null,null,null,null,{"$f":"IF(ROW()<=Worksheet!$B$4/2,I22+1,\"\")","v":""},null,null,null,null,null,null,null,{"$f":"IF(ROW()<=Worksheet!$B$4/2,Q22+1,\"\")","v":""}]
[{"$f":"IF(ROW()<=Worksheet!$B$4/2,ROW(),\"\")","v":""},null,null,null,null,null,null,null,{"$f":"IF(ROW()<=Worksheet!$B$4/2,I23+1,\"\")","v":""},null,null,null,null,null,null,null,{"$f":"IF(ROW()<=Worksheet!$B$4/2,Q23+1,\"\")","v":""}]
[{"$f":"IF(ROW()<=Worksheet!$B$4/2,ROW(),\"\")","v":""},null,null,null,null,null,null,null,{"$f":"IF(ROW()<=Worksheet!$B$4/2,I24+1,\"\")","v":""},null,null,null,null,null,null,null,{"$f":"IF(ROW()<=Worksheet!$B$4/2,Q24+1,\"\")","v":""}]
[{"$f":"IF(ROW()<=Worksheet!$B$4/2,ROW(),\"\")","v":""},null,null,null,null,null,null,null,{"$f":"IF(ROW()<=Worksheet!$B$4/2,I25+1,\"\")","v":""},null,null,null,null,null,null,null,{"$f":"IF(ROW()<=Worksheet!$B$4/2,Q25+1,\"\")","v":""}]
[{"$f":"IF(ROW()<=Worksheet!$B$4/2,ROW(),\"\")","v":""},null,null,null,null,null,null,null,{"$f":"IF(ROW()<=Worksheet!$B$4/2,I26+1,\"\")","v":""},null,null,null,null,null,null,null,{"$f":"IF(ROW()<=Worksheet!$B$4/2,Q26+1,\"\")","v":""}]
[{"$f":"IF(ROW()<=Worksheet!$B$4/2,ROW(),\"\")","v":""},null,null,null,null,null,null,null,{"$f":"IF(ROW()<=Worksheet!$B$4/2,I27+1,\"\")","v":""},null,null,null,null,null,null,null,{"$f":"IF(ROW()<=Worksheet!$B$4/2,Q27+1,\"\")","v":""}]
[{"$f":"IF(ROW()<=Worksheet!$B$4/2,ROW(),\"\")","v":""},null,null,null,null,null,null,null,{"$f":"IF(ROW()<=Worksheet!$B$4/2,I28+1,\"\")","v":""},null,null,null,null,null,null,null,{"$f":"IF(ROW()<=Worksheet!$B$4/2,Q28+1,\"\")","v":""}]
[{"$f":"IF(ROW()<=Worksheet!$B$4/2,ROW(),\"\")","v":""},null,null,null,null,null,null,null,{"$f":"IF(ROW()<=Worksheet!$B$4/2,I29+1,\"\")","v":""},null,null,null,null,null,null,null,{"$f":"IF(ROW()<=Worksheet!$B$4/2,Q29+1,\"\")","v":""}]