{"text_format":"1","workbook":"xlsx","n_sheets":2,"sheets":["Worksheet","SYSTEM FORMULAE"],"not_rendered":{"charts":0,"images":0,"macros":1,"external_links":0,"defined_names":2,"comments":0,"pivot_tables":0},"unopened":[],"bounds":{"document_bytes":16777216,"sheet_cells":100000,"rows_first":2000,"rows_last":500,"rows_between":2000,"halvings":0,"cell_chars":16384,"cell_head_chars":4096},"cells_cut":0,"cells_raw":0,"read":"whole","date_system":"1900"}

{"sheet":"Worksheet","index":0,"n_rows":31,"n_cols":26,"rows_kept":31,"cut":false,"hidden":false,"merged":[[1,0,1,1],[4,0,4,1],[0,2,0,25]]}
[null,null,{"$f":"CONCATENATE(IF(B6<4,\"Multiply\",IF(B6=4,\"Divide\",\"Multiply or divide\")),\" without a calculator\")","v":"Multiply without a calculator"}]
["Variables",null,1,1,4,"4•6","×",40,"=",184,16,1,9,"8•8","×",90,"=",792.00000000000011,31,1,4,"4•6","×",4000,"=",18400]
["SHOW ANSWERS",false,2,1,2,"9•7","×",2000,"=",19400,17,1,8,"1•8","×",80,"=",144,32,1,8,7,"×",800,"=",5600]
["Number of questions (minimum 15, maximum 45)",45,3,1,3,"8•1","×",30,"=",243,18,1,8,9,"×",80,"=",720,33,1,2,"3•8","×",2000,"=",7600]
["Types of Question",null,4,1,3,"7•4","×",300,"=",2220,19,1,9,"5•5","×",90,"=",495,34,1,2,"4•2","×",200,"=",840]
["Multiply by positive powers of 10 (e.g. 32 × 100,   4·56 × 1000)",1,5,1,5,"2•2","×",50,"=",110.00000000000001,20,1,7,"6•6","×",700,"=",4620,35,1,9,"9•2","×",9000,"=",82800]
["Multiply by negative powers of 10 (e.g. 32 × 0.·1,    4·56 × 0·01)",30,6,1,1,"1•3","×",10,"=",13,21,1,1,"8•6","×",10,"=",86,36,1,7,"9•7","×",70,"=",679]
["Multiply by positive and negative powers",30,7,1,5,"3•6","×",5000,"=",18000,22,1,3,"6•1","×",3000,"=",18300,37,1,8,"1•4","×",8000,"=",11200]
["Divide by negative powers of 10 (e.g. 30 ÷ 0·01,  420 ÷ 0·1)",30,8,1,7,"1•1","×",7000,"=",7700.0000000000009,23,1,6,7,"×",6000,"=",42000,38,1,5,"8•3","×",5000,"=",41500]
["All of the above (Divide and Multiply)",30,9,1,7,"4•1","×",700,"=",2869.9999999999995,24,1,9,8,"×",90,"=",720,39,1,6,"3•6","×",6000,"=",21600]
["Level of Difficulty",null,10,1,8,"2•1","×",8000,"=",16800,25,1,9,8,"×",9000,"=",72000,40,1,5,"2•9","×",500,"=",1450]
["Multiply or divide by multiples of powers of ten (e.g. by 300, 0·02 or 7000)",true,11,1,6,"9•2","×",6000,"=",55199.999999999993,26,1,6,"8•7","×",600,"=",5220,41,1,9,9,"×",900,"=",8100]
["Maximum decimal places in question (min 0, max 4)",1,12,1,1,"7•4","×",1000,"=",7400,27,1,6,"5•3","×",60,"=",318,42,1,9,"6•5","×",9000,"=",58500]
["Maximum power of 10 to multiple or divide by (min 1, max 4)",3,13,1,4,"2•9","×",40,"=",116,28,1,7,"9•5","×",70,"=",665,43,1,7,"6•7","×",70,"=",469]
[null,null,14,1,9,1,"×",9000,"=",9000,29,1,9,"1•6","×",90,"=",144,44,1,4,"4•2","×",400,"=",1680]
[null,null,15,1,1,"3•2","×",100,"=",320,30,1,8,"2•6","×",80,"=",208,45,1,9,9,"×",90,"=",810]
[null,null,"",null,null,null,null,""]
[null,null,"",null,null,null,null,""]
[null,null,"",null,null,null,null,""]
[null,null,"",null,null,null,null,""]
[null,null,"",null,null,null,null,""]
[null,null,"",null,null,null,null,""]
[null,null,"",null,null,null,null,""]
[null,null,"",null,null,null,null,""]
[null,null,"",null,null,null,null,""]
[null,null,"",null,null,null,null,""]
[null,null,"",null,null,null,null,""]
[null,null,"",null,null,null,null,""]
[null,null,"",null,null,null,null,""]
[null,null,"",null,null,null,null,""]
[null,null,"",null,null,null,null,""]

{"sheet":"SYSTEM FORMULAE","index":1,"n_rows":30,"n_cols":24,"rows_kept":30,"cut":false,"hidden":false,"merged":[]}
[{"$f":"IF(ROW()<=Worksheet!$B$4/3,ROW(),\"\")","v":1},{"$f":"IF(Worksheet!$B$6=1,1,IF(Worksheet!$B$6=2,2,IF(Worksheet!$B$6=3,RANDBETWEEN(1,2),IF(Worksheet!$B$6=4,3,RANDBETWEEN(1,3)))))","v":1},{"$f":"RANDBETWEEN(1,9)","v":7},{"$f":"IF(B1=3,C1*RANDBETWEEN(1,9)*10^RANDBETWEEN(0,3),IF(B1=1,RANDBETWEEN(1,9)+CHOOSE(Worksheet!$B$13+1,0,RANDBETWEEN(0,9)/10,RANDBETWEEN(0,99)/100,RANDBETWEEN(0,999)/1000,RANDBETWEEN(0,9999)/10000),C1*10^RANDBETWEEN(INT(1-1*LOG10(F1)),4)))","v":4.7},{"$f":"IF(B1=3,\"÷\",\"×\")","v":"×"},{"$f":"IF(B1=3,10^RANDBETWEEN(-1*Worksheet!$B$14,-1)*IF(Worksheet!$B$12,C1,1),IF(B1=1,10^RANDBETWEEN(1,Worksheet!$B$14)*IF(Worksheet!$B$12,C1,1),10^RANDBETWEEN(-1*Worksheet!$B$14,-1)*IF(Worksheet!$B$12,C1,1)))","v":700},"=",{"$f":"IF(B1=3,TEXT(D1/F1,\"### ###\"),D1*F1)","v":3290},{"$f":"MAX(A1:A50)+1","v":16},{"$f":"IF(Worksheet!$B$6=1,1,IF(Worksheet!$B$6=2,2,IF(Worksheet!$B$6=3,RANDBETWEEN(1,2),IF(Worksheet!$B$6=4,3,RANDBETWEEN(1,3)))))","v":1},{"$f":"RANDBETWEEN(1,9)","v":7},{"$f":"IF(J1=3,K1*RANDBETWEEN(1,9)*10^RANDBETWEEN(0,3),IF(J1=1,RANDBETWEEN(1,9)+CHOOSE(Worksheet!$B$13+1,0,RANDBETWEEN(0,9)/10,RANDBETWEEN(0,99)/100,RANDBETWEEN(0,999)/1000,RANDBETWEEN(0,9999)/10000),K1*10^RANDBETWEEN(INT(1-1*LOG10(N1)),4)))","v":1},{"$f":"IF(J1=3,\"÷\",\"×\")","v":"×"},{"$f":"IF(J1=3,10^RANDBETWEEN(-1*Worksheet!$B$14,-1)*IF(Worksheet!$B$12,K1,1),IF(J1=1,10^RANDBETWEEN(1,Worksheet!$B$14)*IF(Worksheet!$B$12,K1,1),10^RANDBETWEEN(-1*Worksheet!$B$14,-1)*IF(Worksheet!$B$12,K1,1)))","v":70},"=",{"$f":"IF(J1=3,TEXT(L1/N1,\"### ###\"),L1*N1)","v":70},{"$f":"MAX(I1:I50)+1","v":31},{"$f":"IF(Worksheet!$B$6=1,1,IF(Worksheet!$B$6=2,2,IF(Worksheet!$B$6=3,RANDBETWEEN(1,2),IF(Worksheet!$B$6=4,3,RANDBETWEEN(1,3)))))","v":1},{"$f":"RANDBETWEEN(1,9)","v":8},{"$f":"IF(R1=3,S1*RANDBETWEEN(1,9)*10^RANDBETWEEN(0,3),IF(R1=1,RANDBETWEEN(1,9)+CHOOSE(Worksheet!$B$13+1,0,RANDBETWEEN(0,9)/10,RANDBETWEEN(0,99)/100,RANDBETWEEN(0,999)/1000,RANDBETWEEN(0,9999)/10000),S1*10^RANDBETWEEN(INT(1-1*LOG10(V1)),4)))","v":4.4000000000000004},{"$f":"IF(R1=3,\"÷\",\"×\")","v":"×"},{"$f":"IF(R1=3,10^RANDBETWEEN(-1*Worksheet!$B$14,-1)*IF(Worksheet!$B$12,S1,1),IF(R1=1,10^RANDBETWEEN(1,Worksheet!$B$14)*IF(Worksheet!$B$12,S1,1),10^RANDBETWEEN(-1*Worksheet!$B$14,-1)*IF(Worksheet!$B$12,S1,1)))","v":800},"=",{"$f":"IF(R1=3,TEXT(T1/V1,\"### ###\"),T1*V1)","v":3520.0000000000005}]
[{"$f":"IF(ROW()<=Worksheet!$B$4/3,ROW(),\"\")","v":2},{"$f":"IF(Worksheet!$B$6=1,1,IF(Worksheet!$B$6=2,2,IF(Worksheet!$B$6=3,RANDBETWEEN(1,2),IF(Worksheet!$B$6=4,3,RANDBETWEEN(1,3)))))","v":1},{"$f":"RANDBETWEEN(1,9)","v":5},{"$f":"IF(B2=3,C2*RANDBETWEEN(1,9)*10^RANDBETWEEN(0,3),IF(B2=1,RANDBETWEEN(1,9)+CHOOSE(Worksheet!$B$13+1,0,RANDBETWEEN(0,9)/10,RANDBETWEEN(0,99)/100,RANDBETWEEN(0,999)/1000,RANDBETWEEN(0,9999)/10000),C2*10^RANDBETWEEN(INT(1-1*LOG10(F2)),4)))","v":2.6},{"$f":"IF(B2=3,\"÷\",\"×\")","v":"×"},{"$f":"IF(B2=3,10^RANDBETWEEN(-1*Worksheet!$B$14,-1)*IF(Worksheet!$B$12,C2,1),IF(B2=1,10^RANDBETWEEN(1,Worksheet!$B$14)*IF(Worksheet!$B$12,C2,1),10^RANDBETWEEN(-1*Worksheet!$B$14,-1)*IF(Worksheet!$B$12,C2,1)))","v":50},"=",{"$f":"IF(B2=3,TEXT(D2/F2,\"### ###\"),D2*F2)","v":130},{"$f":"IF(ROW()<=Worksheet!$B$4/3,I1+1,\"\")","v":17},{"$f":"IF(Worksheet!$B$6=1,1,IF(Worksheet!$B$6=2,2,IF(Worksheet!$B$6=3,RANDBETWEEN(1,2),IF(Worksheet!$B$6=4,3,RANDBETWEEN(1,3)))))","v":1},{"$f":"RANDBETWEEN(1,9)","v":7},{"$f":"IF(J2=3,K2*RANDBETWEEN(1,9)*10^RANDBETWEEN(0,3),IF(J2=1,RANDBETWEEN(1,9)+CHOOSE(Worksheet!$B$13+1,0,RANDBETWEEN(0,9)/10,RANDBETWEEN(0,99)/100,RANDBETWEEN(0,999)/1000,RANDBETWEEN(0,9999)/10000),K2*10^RANDBETWEEN(INT(1-1*LOG10(N2)),4)))","v":6},{"$f":"IF(J2=3,\"÷\",\"×\")","v":"×"},{"$f":"IF(J2=3,10^RANDBETWEEN(-1*Worksheet!$B$14,-1)*IF(Worksheet!$B$12,K2,1),IF(J2=1,10^RANDBETWEEN(1,Worksheet!$B$14)*IF(Worksheet!$B$12,K2,1),10^RANDBETWEEN(-1*Worksheet!$B$14,-1)*IF(Worksheet!$B$12,K2,1)))","v":700},"=",{"$f":"IF(J2=3,TEXT(L2/N2,\"### ###\"),L2*N2)","v":4200},{"$f":"IF(ROW()<=Worksheet!$B$4/3,Q1+1,\"\")","v":32},{"$f":"IF(Worksheet!$B$6=1,1,IF(Worksheet!$B$6=2,2,IF(Worksheet!$B$6=3,RANDBETWEEN(1,2),IF(Worksheet!$B$6=4,3,RANDBETWEEN(1,3)))))","v":1},{"$f":"RANDBETWEEN(1,9)","v":1},{"$f":"IF(R2=3,S2*RANDBETWEEN(1,9)*10^RANDBETWEEN(0,3),IF(R2=1,RANDBETWEEN(1,9)+CHOOSE(Worksheet!$B$13+1,0,RANDBETWEEN(0,9)/10,RANDBETWEEN(0,99)/100,RANDBETWEEN(0,999)/1000,RANDBETWEEN(0,9999)/10000),S2*10^RANDBETWEEN(INT(1-1*LOG10(V2)),4)))","v":5.3},{"$f":"IF(R2=3,\"÷\",\"×\")","v":"×"},{"$f":"IF(R2=3,10^RANDBETWEEN(-1*Worksheet!$B$14,-1)*IF(Worksheet!$B$12,S2,1),IF(R2=1,10^RANDBETWEEN(1,Worksheet!$B$14)*IF(Worksheet!$B$12,S2,1),10^RANDBETWEEN(-1*Worksheet!$B$14,-1)*IF(Worksheet!$B$12,S2,1)))","v":10},"=",{"$f":"IF(R2=3,TEXT(T2/V2,\"### ###\"),T2*V2)","v":53}]
[{"$f":"IF(ROW()<=Worksheet!$B$4/3,ROW(),\"\")","v":3},{"$f":"IF(Worksheet!$B$6=1,1,IF(Worksheet!$B$6=2,2,IF(Worksheet!$B$6=3,RANDBETWEEN(1,2),IF(Worksheet!$B$6=4,3,RANDBETWEEN(1,3)))))","v":1},8,{"$f":"IF(B3=3,C3*RANDBETWEEN(1,9)*10^RANDBETWEEN(0,3),IF(B3=1,RANDBETWEEN(1,9)+CHOOSE(Worksheet!$B$13+1,0,RANDBETWEEN(0,9)/10,RANDBETWEEN(0,99)/100,RANDBETWEEN(0,999)/1000,RANDBETWEEN(0,9999)/10000),C3*10^RANDBETWEEN(INT(1-1*LOG10(F3)),4)))","v":9},"×",{"$f":"IF(B3=3,10^RANDBETWEEN(-1*Worksheet!$B$14,-1)*IF(Worksheet!$B$12,C3,1),IF(B3=1,10^RANDBETWEEN(1,Worksheet!$B$14)*IF(Worksheet!$B$12,C3,1),10^RANDBETWEEN(-1*Worksheet!$B$14,-1)*IF(Worksheet!$B$12,C3,1)))","v":80},"=",720,{"$f":"IF(ROW()<=Worksheet!$B$4/3,I2+1,\"\")","v":18},{"$f":"IF(Worksheet!$B$6=1,1,IF(Worksheet!$B$6=2,2,IF(Worksheet!$B$6=3,RANDBETWEEN(1,2),IF(Worksheet!$B$6=4,3,RANDBETWEEN(1,3)))))","v":1},6,{"$f":"IF(J3=3,K3*RANDBETWEEN(1,9)*10^RANDBETWEEN(0,3),IF(J3=1,RANDBETWEEN(1,9)+CHOOSE(Worksheet!$B$13+1,0,RANDBETWEEN(0,9)/10,RANDBETWEEN(0,99)/100,RANDBETWEEN(0,999)/1000,RANDBETWEEN(0,9999)/10000),K3*10^RANDBETWEEN(INT(1-1*LOG10(N3)),4)))","v":4},"×",{"$f":"IF(J3=3,10^RANDBETWEEN(-1*Worksheet!$B$14,-1)*IF(Worksheet!$B$12,K3,1),IF(J3=1,10^RANDBETWEEN(1,Worksheet!$B$14)*IF(Worksheet!$B$12,K3,1),10^RANDBETWEEN(-1*Worksheet!$B$14,-1)*IF(Worksheet!$B$12,K3,1)))","v":60},"=",240,{"$f":"IF(ROW()<=Worksheet!$B$4/3,Q2+1,\"\")","v":33},{"$f":"IF(Worksheet!$B$6=1,1,IF(Worksheet!$B$6=2,2,IF(Worksheet!$B$6=3,RANDBETWEEN(1,2),IF(Worksheet!$B$6=4,3,RANDBETWEEN(1,3)))))","v":1},9,{"$f":"IF(R3=3,S3*RANDBETWEEN(1,9)*10^RANDBETWEEN(0,3),IF(R3=1,RANDBETWEEN(1,9)+CHOOSE(Worksheet!$B$13+1,0,RANDBETWEEN(0,9)/10,RANDBETWEEN(0,99)/100,RANDBETWEEN(0,999)/1000,RANDBETWEEN(0,9999)/10000),S3*10^RANDBETWEEN(INT(1-1*LOG10(V3)),4)))","v":1.8},"×",{"$f":"IF(R3=3,10^RANDBETWEEN(-1*Worksheet!$B$14,-1)*IF(Worksheet!$B$12,S3,1),IF(R3=1,10^RANDBETWEEN(1,Worksheet!$B$14)*IF(Worksheet!$B$12,S3,1),10^RANDBETWEEN(-1*Worksheet!$B$14,-1)*IF(Worksheet!$B$12,S3,1)))","v":90},"=",162]
[{"$f":"IF(ROW()<=Worksheet!$B$4/3,ROW(),\"\")","v":4},{"$f":"IF(Worksheet!$B$6=1,1,IF(Worksheet!$B$6=2,2,IF(Worksheet!$B$6=3,RANDBETWEEN(1,2),IF(Worksheet!$B$6=4,3,RANDBETWEEN(1,3)))))","v":1},6,{"$f":"IF(B4=3,C4*RANDBETWEEN(1,9)*10^RANDBETWEEN(0,3),IF(B4=1,RANDBETWEEN(1,9)+CHOOSE(Worksheet!$B$13+1,0,RANDBETWEEN(0,9)/10,RANDBETWEEN(0,99)/100,RANDBETWEEN(0,999)/1000,RANDBETWEEN(0,9999)/10000),C4*10^RANDBETWEEN(INT(1-1*LOG10(F4)),4)))","v":4.9000000000000004},"×",{"$f":"IF(B4=3,10^RANDBETWEEN(-1*Worksheet!$B$14,-1)*IF(Worksheet!$B$12,C4,1),IF(B4=1,10^RANDBETWEEN(1,Worksheet!$B$14)*IF(Worksheet!$B$12,C4,1),10^RANDBETWEEN(-1*Worksheet!$B$14,-1)*IF(Worksheet!$B$12,C4,1)))","v":60},"=",294,{"$f":"IF(ROW()<=Worksheet!$B$4/3,I3+1,\"\")","v":19},{"$f":"IF(Worksheet!$B$6=1,1,IF(Worksheet!$B$6=2,2,IF(Worksheet!$B$6=3,RANDBETWEEN(1,2),IF(Worksheet!$B$6=4,3,RANDBETWEEN(1,3)))))","v":1},9,{"$f":"IF(J4=3,K4*RANDBETWEEN(1,9)*10^RANDBETWEEN(0,3),IF(J4=1,RANDBETWEEN(1,9)+CHOOSE(Worksheet!$B$13+1,0,RANDBETWEEN(0,9)/10,RANDBETWEEN(0,99)/100,RANDBETWEEN(0,999)/1000,RANDBETWEEN(0,9999)/10000),K4*10^RANDBETWEEN(INT(1-1*LOG10(N4)),4)))","v":9},"×",{"$f":"IF(J4=3,10^RANDBETWEEN(-1*Worksheet!$B$14,-1)*IF(Worksheet!$B$12,K4,1),IF(J4=1,10^RANDBETWEEN(1,Worksheet!$B$14)*IF(Worksheet!$B$12,K4,1),10^RANDBETWEEN(-1*Worksheet!$B$14,-1)*IF(Worksheet!$B$12,K4,1)))","v":9000},"=",81000,{"$f":"IF(ROW()<=Worksheet!$B$4/3,Q3+1,\"\")","v":34},{"$f":"IF(Worksheet!$B$6=1,1,IF(Worksheet!$B$6=2,2,IF(Worksheet!$B$6=3,RANDBETWEEN(1,2),IF(Worksheet!$B$6=4,3,RANDBETWEEN(1,3)))))","v":1},8,{"$f":"IF(R4=3,S4*RANDBETWEEN(1,9)*10^RANDBETWEEN(0,3),IF(R4=1,RANDBETWEEN(1,9)+CHOOSE(Worksheet!$B$13+1,0,RANDBETWEEN(0,9)/10,RANDBETWEEN(0,99)/100,RANDBETWEEN(0,999)/1000,RANDBETWEEN(0,9999)/10000),S4*10^RANDBETWEEN(INT(1-1*LOG10(V4)),4)))","v":2.8},"×",{"$f":"IF(R4=3,10^RANDBETWEEN(-1*Worksheet!$B$14,-1)*IF(Worksheet!$B$12,S4,1),IF(R4=1,10^RANDBETWEEN(1,Worksheet!$B$14)*IF(Worksheet!$B$12,S4,1),10^RANDBETWEEN(-1*Worksheet!$B$14,-1)*IF(Worksheet!$B$12,S4,1)))","v":80},"=",224]
[{"$f":"IF(ROW()<=Worksheet!$B$4/3,ROW(),\"\")","v":5},{"$f":"IF(Worksheet!$B$6=1,1,IF(Worksheet!$B$6=2,2,IF(Worksheet!$B$6=3,RANDBETWEEN(1,2),IF(Worksheet!$B$6=4,3,RANDBETWEEN(1,3)))))","v":1},5,{"$f":"IF(B5=3,C5*RANDBETWEEN(1,9)*10^RANDBETWEEN(0,3),IF(B5=1,RANDBETWEEN(1,9)+CHOOSE(Worksheet!$B$13+1,0,RANDBETWEEN(0,9)/10,RANDBETWEEN(0,99)/100,RANDBETWEEN(0,999)/1000,RANDBETWEEN(0,9999)/10000),C5*10^RANDBETWEEN(INT(1-1*LOG10(F5)),4)))","v":2.2999999999999998},"×",{"$f":"IF(B5=3,10^RANDBETWEEN(-1*Worksheet!$B$14,-1)*IF(Worksheet!$B$12,C5,1),IF(B5=1,10^RANDBETWEEN(1,Worksheet!$B$14)*IF(Worksheet!$B$12,C5,1),10^RANDBETWEEN(-1*Worksheet!$B$14,-1)*IF(Worksheet!$B$12,C5,1)))","v":50},"=",114.99999999999999,{"$f":"IF(ROW()<=Worksheet!$B$4/3,I4+1,\"\")","v":20},{"$f":"IF(Worksheet!$B$6=1,1,IF(Worksheet!$B$6=2,2,IF(Worksheet!$B$6=3,RANDBETWEEN(1,2),IF(Worksheet!$B$6=4,3,RANDBETWEEN(1,3)))))","v":1},8,{"$f":"IF(J5=3,K5*RANDBETWEEN(1,9)*10^RANDBETWEEN(0,3),IF(J5=1,RANDBETWEEN(1,9)+CHOOSE(Worksheet!$B$13+1,0,RANDBETWEEN(0,9)/10,RANDBETWEEN(0,99)/100,RANDBETWEEN(0,999)/1000,RANDBETWEEN(0,9999)/10000),K5*10^RANDBETWEEN(INT(1-1*LOG10(N5)),4)))","v":7.3},"×",{"$f":"IF(J5=3,10^RANDBETWEEN(-1*Worksheet!$B$14,-1)*IF(Worksheet!$B$12,K5,1),IF(J5=1,10^RANDBETWEEN(1,Worksheet!$B$14)*IF(Worksheet!$B$12,K5,1),10^RANDBETWEEN(-1*Worksheet!$B$14,-1)*IF(Worksheet!$B$12,K5,1)))","v":800},"=",5840,{"$f":"IF(ROW()<=Worksheet!$B$4/3,Q4+1,\"\")","v":35},{"$f":"IF(Worksheet!$B$6=1,1,IF(Worksheet!$B$6=2,2,IF(Worksheet!$B$6=3,RANDBETWEEN(1,2),IF(Worksheet!$B$6=4,3,RANDBETWEEN(1,3)))))","v":1},2,{"$f":"IF(R5=3,S5*RANDBETWEEN(1,9)*10^RANDBETWEEN(0,3),IF(R5=1,RANDBETWEEN(1,9)+CHOOSE(Worksheet!$B$13+1,0,RANDBETWEEN(0,9)/10,RANDBETWEEN(0,99)/100,RANDBETWEEN(0,999)/1000,RANDBETWEEN(0,9999)/10000),S5*10^RANDBETWEEN(INT(1-1*LOG10(V5)),4)))","v":3.8},"×",{"$f":"IF(R5=3,10^RANDBETWEEN(-1*Worksheet!$B$14,-1)*IF(Worksheet!$B$12,S5,1),IF(R5=1,10^RANDBETWEEN(1,Worksheet!$B$14)*IF(Worksheet!$B$12,S5,1),10^RANDBETWEEN(-1*Worksheet!$B$14,-1)*IF(Worksheet!$B$12,S5,1)))","v":200},"=",760]
[{"$f":"IF(ROW()<=Worksheet!$B$4/3,ROW(),\"\")","v":6},{"$f":"IF(Worksheet!$B$6=1,1,IF(Worksheet!$B$6=2,2,IF(Worksheet!$B$6=3,RANDBETWEEN(1,2),IF(Worksheet!$B$6=4,3,RANDBETWEEN(1,3)))))","v":1},9,{"$f":"IF(B6=3,C6*RANDBETWEEN(1,9)*10^RANDBETWEEN(0,3),IF(B6=1,RANDBETWEEN(1,9)+CHOOSE(Worksheet!$B$13+1,0,RANDBETWEEN(0,9)/10,RANDBETWEEN(0,99)/100,RANDBETWEEN(0,999)/1000,RANDBETWEEN(0,9999)/10000),C6*10^RANDBETWEEN(INT(1-1*LOG10(F6)),4)))","v":1.8},"×",{"$f":"IF(B6=3,10^RANDBETWEEN(-1*Worksheet!$B$14,-1)*IF(Worksheet!$B$12,C6,1),IF(B6=1,10^RANDBETWEEN(1,Worksheet!$B$14)*IF(Worksheet!$B$12,C6,1),10^RANDBETWEEN(-1*Worksheet!$B$14,-1)*IF(Worksheet!$B$12,C6,1)))","v":9000},"=",16200,{"$f":"IF(ROW()<=Worksheet!$B$4/3,I5+1,\"\")","v":21},{"$f":"IF(Worksheet!$B$6=1,1,IF(Worksheet!$B$6=2,2,IF(Worksheet!$B$6=3,RANDBETWEEN(1,2),IF(Worksheet!$B$6=4,3,RANDBETWEEN(1,3)))))","v":1},4,{"$f":"IF(J6=3,K6*RANDBETWEEN(1,9)*10^RANDBETWEEN(0,3),IF(J6=1,RANDBETWEEN(1,9)+CHOOSE(Worksheet!$B$13+1,0,RANDBETWEEN(0,9)/10,RANDBETWEEN(0,99)/100,RANDBETWEEN(0,999)/1000,RANDBETWEEN(0,9999)/10000),K6*10^RANDBETWEEN(INT(1-1*LOG10(N6)),4)))","v":9.1},"×",{"$f":"IF(J6=3,10^RANDBETWEEN(-1*Worksheet!$B$14,-1)*IF(Worksheet!$B$12,K6,1),IF(J6=1,10^RANDBETWEEN(1,Worksheet!$B$14)*IF(Worksheet!$B$12,K6,1),10^RANDBETWEEN(-1*Worksheet!$B$14,-1)*IF(Worksheet!$B$12,K6,1)))","v":40},"=",364,{"$f":"IF(ROW()<=Worksheet!$B$4/3,Q5+1,\"\")","v":36},{"$f":"IF(Worksheet!$B$6=1,1,IF(Worksheet!$B$6=2,2,IF(Worksheet!$B$6=3,RANDBETWEEN(1,2),IF(Worksheet!$B$6=4,3,RANDBETWEEN(1,3)))))","v":1},3,{"$f":"IF(R6=3,S6*RANDBETWEEN(1,9)*10^RANDBETWEEN(0,3),IF(R6=1,RANDBETWEEN(1,9)+CHOOSE(Worksheet!$B$13+1,0,RANDBETWEEN(0,9)/10,RANDBETWEEN(0,99)/100,RANDBETWEEN(0,999)/1000,RANDBETWEEN(0,9999)/10000),S6*10^RANDBETWEEN(INT(1-1*LOG10(V6)),4)))","v":7.4},"×",{"$f":"IF(R6=3,10^RANDBETWEEN(-1*Worksheet!$B$14,-1)*IF(Worksheet!$B$12,S6,1),IF(R6=1,10^RANDBETWEEN(1,Worksheet!$B$14)*IF(Worksheet!$B$12,S6,1),10^RANDBETWEEN(-1*Worksheet!$B$14,-1)*IF(Worksheet!$B$12,S6,1)))","v":30},"=",222]
[{"$f":"IF(ROW()<=Worksheet!$B$4/3,ROW(),\"\")","v":7},{"$f":"IF(Worksheet!$B$6=1,1,IF(Worksheet!$B$6=2,2,IF(Worksheet!$B$6=3,RANDBETWEEN(1,2),IF(Worksheet!$B$6=4,3,RANDBETWEEN(1,3)))))","v":1},2,{"$f":"IF(B7=3,C7*RANDBETWEEN(1,9)*10^RANDBETWEEN(0,3),IF(B7=1,RANDBETWEEN(1,9)+CHOOSE(Worksheet!$B$13+1,0,RANDBETWEEN(0,9)/10,RANDBETWEEN(0,99)/100,RANDBETWEEN(0,999)/1000,RANDBETWEEN(0,9999)/10000),C7*10^RANDBETWEEN(INT(1-1*LOG10(F7)),4)))","v":9.6999999999999993},"×",{"$f":"IF(B7=3,10^RANDBETWEEN(-1*Worksheet!$B$14,-1)*IF(Worksheet!$B$12,C7,1),IF(B7=1,10^RANDBETWEEN(1,Worksheet!$B$14)*IF(Worksheet!$B$12,C7,1),10^RANDBETWEEN(-1*Worksheet!$B$14,-1)*IF(Worksheet!$B$12,C7,1)))","v":2000},"=",19400,{"$f":"IF(ROW()<=Worksheet!$B$4/3,I6+1,\"\")","v":22},{"$f":"IF(Worksheet!$B$6=1,1,IF(Worksheet!$B$6=2,2,IF(Worksheet!$B$6=3,RANDBETWEEN(1,2),IF(Worksheet!$B$6=4,3,RANDBETWEEN(1,3)))))","v":1},4,{"$f":"IF(J7=3,K7*RANDBETWEEN(1,9)*10^RANDBETWEEN(0,3),IF(J7=1,RANDBETWEEN(1,9)+CHOOSE(Worksheet!$B$13+1,0,RANDBETWEEN(0,9)/10,RANDBETWEEN(0,99)/100,RANDBETWEEN(0,999)/1000,RANDBETWEEN(0,9999)/10000),K7*10^RANDBETWEEN(INT(1-1*LOG10(N7)),4)))","v":9.8000000000000007},"×",{"$f":"IF(J7=3,10^RANDBETWEEN(-1*Worksheet!$B$14,-1)*IF(Worksheet!$B$12,K7,1),IF(J7=1,10^RANDBETWEEN(1,Worksheet!$B$14)*IF(Worksheet!$B$12,K7,1),10^RANDBETWEEN(-1*Worksheet!$B$14,-1)*IF(Worksheet!$B$12,K7,1)))","v":40},"=",392,{"$f":"IF(ROW()<=Worksheet!$B$4/3,Q6+1,\"\")","v":37},{"$f":"IF(Worksheet!$B$6=1,1,IF(Worksheet!$B$6=2,2,IF(Worksheet!$B$6=3,RANDBETWEEN(1,2),IF(Worksheet!$B$6=4,3,RANDBETWEEN(1,3)))))","v":1},8,{"$f":"IF(R7=3,S7*RANDBETWEEN(1,9)*10^RANDBETWEEN(0,3),IF(R7=1,RANDBETWEEN(1,9)+CHOOSE(Worksheet!$B$13+1,0,RANDBETWEEN(0,9)/10,RANDBETWEEN(0,99)/100,RANDBETWEEN(0,999)/1000,RANDBETWEEN(0,9999)/10000),S7*10^RANDBETWEEN(INT(1-1*LOG10(V7)),4)))","v":3.5},"×",{"$f":"IF(R7=3,10^RANDBETWEEN(-1*Worksheet!$B$14,-1)*IF(Worksheet!$B$12,S7,1),IF(R7=1,10^RANDBETWEEN(1,Worksheet!$B$14)*IF(Worksheet!$B$12,S7,1),10^RANDBETWEEN(-1*Worksheet!$B$14,-1)*IF(Worksheet!$B$12,S7,1)))","v":8000},"=",28000]
[{"$f":"IF(ROW()<=Worksheet!$B$4/3,ROW(),\"\")","v":8},{"$f":"IF(Worksheet!$B$6=1,1,IF(Worksheet!$B$6=2,2,IF(Worksheet!$B$6=3,RANDBETWEEN(1,2),IF(Worksheet!$B$6=4,3,RANDBETWEEN(1,3)))))","v":1},3,{"$f":"IF(B8=3,C8*RANDBETWEEN(1,9)*10^RANDBETWEEN(0,3),IF(B8=1,RANDBETWEEN(1,9)+CHOOSE(Worksheet!$B$13+1,0,RANDBETWEEN(0,9)/10,RANDBETWEEN(0,99)/100,RANDBETWEEN(0,999)/1000,RANDBETWEEN(0,9999)/10000),C8*10^RANDBETWEEN(INT(1-1*LOG10(F8)),4)))","v":4.3},"×",{"$f":"IF(B8=3,10^RANDBETWEEN(-1*Worksheet!$B$14,-1)*IF(Worksheet!$B$12,C8,1),IF(B8=1,10^RANDBETWEEN(1,Worksheet!$B$14)*IF(Worksheet!$B$12,C8,1),10^RANDBETWEEN(-1*Worksheet!$B$14,-1)*IF(Worksheet!$B$12,C8,1)))","v":3000},"=",12900,{"$f":"IF(ROW()<=Worksheet!$B$4/3,I7+1,\"\")","v":23},{"$f":"IF(Worksheet!$B$6=1,1,IF(Worksheet!$B$6=2,2,IF(Worksheet!$B$6=3,RANDBETWEEN(1,2),IF(Worksheet!$B$6=4,3,RANDBETWEEN(1,3)))))","v":1},1,{"$f":"IF(J8=3,K8*RANDBETWEEN(1,9)*10^RANDBETWEEN(0,3),IF(J8=1,RANDBETWEEN(1,9)+CHOOSE(Worksheet!$B$13+1,0,RANDBETWEEN(0,9)/10,RANDBETWEEN(0,99)/100,RANDBETWEEN(0,999)/1000,RANDBETWEEN(0,9999)/10000),K8*10^RANDBETWEEN(INT(1-1*LOG10(N8)),4)))","v":2.7},"×",{"$f":"IF(J8=3,10^RANDBETWEEN(-1*Worksheet!$B$14,-1)*IF(Worksheet!$B$12,K8,1),IF(J8=1,10^RANDBETWEEN(1,Worksheet!$B$14)*IF(Worksheet!$B$12,K8,1),10^RANDBETWEEN(-1*Worksheet!$B$14,-1)*IF(Worksheet!$B$12,K8,1)))","v":10},"=",27,{"$f":"IF(ROW()<=Worksheet!$B$4/3,Q7+1,\"\")","v":38},{"$f":"IF(Worksheet!$B$6=1,1,IF(Worksheet!$B$6=2,2,IF(Worksheet!$B$6=3,RANDBETWEEN(1,2),IF(Worksheet!$B$6=4,3,RANDBETWEEN(1,3)))))","v":1},4,{"$f":"IF(R8=3,S8*RANDBETWEEN(1,9)*10^RANDBETWEEN(0,3),IF(R8=1,RANDBETWEEN(1,9)+CHOOSE(Worksheet!$B$13+1,0,RANDBETWEEN(0,9)/10,RANDBETWEEN(0,99)/100,RANDBETWEEN(0,999)/1000,RANDBETWEEN(0,9999)/10000),S8*10^RANDBETWEEN(INT(1-1*LOG10(V8)),4)))","v":8.1999999999999993},"×",{"$f":"IF(R8=3,10^RANDBETWEEN(-1*Worksheet!$B$14,-1)*IF(Worksheet!$B$12,S8,1),IF(R8=1,10^RANDBETWEEN(1,Worksheet!$B$14)*IF(Worksheet!$B$12,S8,1),10^RANDBETWEEN(-1*Worksheet!$B$14,-1)*IF(Worksheet!$B$12,S8,1)))","v":40},"=",328]
[{"$f":"IF(ROW()<=Worksheet!$B$4/3,ROW(),\"\")","v":9},{"$f":"IF(Worksheet!$B$6=1,1,IF(Worksheet!$B$6=2,2,IF(Worksheet!$B$6=3,RANDBETWEEN(1,2),IF(Worksheet!$B$6=4,3,RANDBETWEEN(1,3)))))","v":1},4,{"$f":"IF(B9=3,C9*RANDBETWEEN(1,9)*10^RANDBETWEEN(0,3),IF(B9=1,RANDBETWEEN(1,9)+CHOOSE(Worksheet!$B$13+1,0,RANDBETWEEN(0,9)/10,RANDBETWEEN(0,99)/100,RANDBETWEEN(0,999)/1000,RANDBETWEEN(0,9999)/10000),C9*10^RANDBETWEEN(INT(1-1*LOG10(F9)),4)))","v":1.6},"×",{"$f":"IF(B9=3,10^RANDBETWEEN(-1*Worksheet!$B$14,-1)*IF(Worksheet!$B$12,C9,1),IF(B9=1,10^RANDBETWEEN(1,Worksheet!$B$14)*IF(Worksheet!$B$12,C9,1),10^RANDBETWEEN(-1*Worksheet!$B$14,-1)*IF(Worksheet!$B$12,C9,1)))","v":400},"=",640,{"$f":"IF(ROW()<=Worksheet!$B$4/3,I8+1,\"\")","v":24},{"$f":"IF(Worksheet!$B$6=1,1,IF(Worksheet!$B$6=2,2,IF(Worksheet!$B$6=3,RANDBETWEEN(1,2),IF(Worksheet!$B$6=4,3,RANDBETWEEN(1,3)))))","v":1},8,{"$f":"IF(J9=3,K9*RANDBETWEEN(1,9)*10^RANDBETWEEN(0,3),IF(J9=1,RANDBETWEEN(1,9)+CHOOSE(Worksheet!$B$13+1,0,RANDBETWEEN(0,9)/10,RANDBETWEEN(0,99)/100,RANDBETWEEN(0,999)/1000,RANDBETWEEN(0,9999)/10000),K9*10^RANDBETWEEN(INT(1-1*LOG10(N9)),4)))","v":7.9},"×",{"$f":"IF(J9=3,10^RANDBETWEEN(-1*Worksheet!$B$14,-1)*IF(Worksheet!$B$12,K9,1),IF(J9=1,10^RANDBETWEEN(1,Worksheet!$B$14)*IF(Worksheet!$B$12,K9,1),10^RANDBETWEEN(-1*Worksheet!$B$14,-1)*IF(Worksheet!$B$12,K9,1)))","v":80},"=",632,{"$f":"IF(ROW()<=Worksheet!$B$4/3,Q8+1,\"\")","v":39},{"$f":"IF(Worksheet!$B$6=1,1,IF(Worksheet!$B$6=2,2,IF(Worksheet!$B$6=3,RANDBETWEEN(1,2),IF(Worksheet!$B$6=4,3,RANDBETWEEN(1,3)))))","v":1},9,{"$f":"IF(R9=3,S9*RANDBETWEEN(1,9)*10^RANDBETWEEN(0,3),IF(R9=1,RANDBETWEEN(1,9)+CHOOSE(Worksheet!$B$13+1,0,RANDBETWEEN(0,9)/10,RANDBETWEEN(0,99)/100,RANDBETWEEN(0,999)/1000,RANDBETWEEN(0,9999)/10000),S9*10^RANDBETWEEN(INT(1-1*LOG10(V9)),4)))","v":6.9},"×",{"$f":"IF(R9=3,10^RANDBETWEEN(-1*Worksheet!$B$14,-1)*IF(Worksheet!$B$12,S9,1),IF(R9=1,10^RANDBETWEEN(1,Worksheet!$B$14)*IF(Worksheet!$B$12,S9,1),10^RANDBETWEEN(-1*Worksheet!$B$14,-1)*IF(Worksheet!$B$12,S9,1)))","v":9000},"=",62100]
[{"$f":"IF(ROW()<=Worksheet!$B$4/3,ROW(),\"\")","v":10},{"$f":"IF(Worksheet!$B$6=1,1,IF(Worksheet!$B$6=2,2,IF(Worksheet!$B$6=3,RANDBETWEEN(1,2),IF(Worksheet!$B$6=4,3,RANDBETWEEN(1,3)))))","v":1},2,{"$f":"IF(B10=3,C10*RANDBETWEEN(1,9)*10^RANDBETWEEN(0,3),IF(B10=1,RANDBETWEEN(1,9)+CHOOSE(Worksheet!$B$13+1,0,RANDBETWEEN(0,9)/10,RANDBETWEEN(0,99)/100,RANDBETWEEN(0,999)/1000,RANDBETWEEN(0,9999)/10000),C10*10^RANDBETWEEN(INT(1-1*LOG10(F10)),4)))","v":4.4000000000000004},"×",{"$f":"IF(B10=3,10^RANDBETWEEN(-1*Worksheet!$B$14,-1)*IF(Worksheet!$B$12,C10,1),IF(B10=1,10^RANDBETWEEN(1,Worksheet!$B$14)*IF(Worksheet!$B$12,C10,1),10^RANDBETWEEN(-1*Worksheet!$B$14,-1)*IF(Worksheet!$B$12,C10,1)))","v":20},"=",88,{"$f":"IF(ROW()<=Worksheet!$B$4/3,I9+1,\"\")","v":25},{"$f":"IF(Worksheet!$B$6=1,1,IF(Worksheet!$B$6=2,2,IF(Worksheet!$B$6=3,RANDBETWEEN(1,2),IF(Worksheet!$B$6=4,3,RANDBETWEEN(1,3)))))","v":1},9,{"$f":"IF(J10=3,K10*RANDBETWEEN(1,9)*10^RANDBETWEEN(0,3),IF(J10=1,RANDBETWEEN(1,9)+CHOOSE(Worksheet!$B$13+1,0,RANDBETWEEN(0,9)/10,RANDBETWEEN(0,99)/100,RANDBETWEEN(0,999)/1000,RANDBETWEEN(0,9999)/10000),K10*10^RANDBETWEEN(INT(1-1*LOG10(N10)),4)))","v":2.7},"×",{"$f":"IF(J10=3,10^RANDBETWEEN(-1*Worksheet!$B$14,-1)*IF(Worksheet!$B$12,K10,1),IF(J10=1,10^RANDBETWEEN(1,Worksheet!$B$14)*IF(Worksheet!$B$12,K10,1),10^RANDBETWEEN(-1*Worksheet!$B$14,-1)*IF(Worksheet!$B$12,K10,1)))","v":90},"=",243.00000000000003,{"$f":"IF(ROW()<=Worksheet!$B$4/3,Q9+1,\"\")","v":40},{"$f":"IF(Worksheet!$B$6=1,1,IF(Worksheet!$B$6=2,2,IF(Worksheet!$B$6=3,RANDBETWEEN(1,2),IF(Worksheet!$B$6=4,3,RANDBETWEEN(1,3)))))","v":1},5,{"$f":"IF(R10=3,S10*RANDBETWEEN(1,9)*10^RANDBETWEEN(0,3),IF(R10=1,RANDBETWEEN(1,9)+CHOOSE(Worksheet!$B$13+1,0,RANDBETWEEN(0,9)/10,RANDBETWEEN(0,99)/100,RANDBETWEEN(0,999)/1000,RANDBETWEEN(0,9999)/10000),S10*10^RANDBETWEEN(INT(1-1*LOG10(V10)),4)))","v":7.8},"×",{"$f":"IF(R10=3,10^RANDBETWEEN(-1*Worksheet!$B$14,-1)*IF(Worksheet!$B$12,S10,1),IF(R10=1,10^RANDBETWEEN(1,Worksheet!$B$14)*IF(Worksheet!$B$12,S10,1),10^RANDBETWEEN(-1*Worksheet!$B$14,-1)*IF(Worksheet!$B$12,S10,1)))","v":50},"=",390]
[{"$f":"IF(ROW()<=Worksheet!$B$4/3,ROW(),\"\")","v":11},{"$f":"IF(Worksheet!$B$6=1,1,IF(Worksheet!$B$6=2,2,IF(Worksheet!$B$6=3,RANDBETWEEN(1,2),IF(Worksheet!$B$6=4,3,RANDBETWEEN(1,3)))))","v":1},6,{"$f":"IF(B11=3,C11*RANDBETWEEN(1,9)*10^RANDBETWEEN(0,3),IF(B11=1,RANDBETWEEN(1,9)+CHOOSE(Worksheet!$B$13+1,0,RANDBETWEEN(0,9)/10,RANDBETWEEN(0,99)/100,RANDBETWEEN(0,999)/1000,RANDBETWEEN(0,9999)/10000),C11*10^RANDBETWEEN(INT(1-1*LOG10(F11)),4)))","v":4.5},"×",{"$f":"IF(B11=3,10^RANDBETWEEN(-1*Worksheet!$B$14,-1)*IF(Worksheet!$B$12,C11,1),IF(B11=1,10^RANDBETWEEN(1,Worksheet!$B$14)*IF(Worksheet!$B$12,C11,1),10^RANDBETWEEN(-1*Worksheet!$B$14,-1)*IF(Worksheet!$B$12,C11,1)))","v":600},"=",2700,{"$f":"IF(ROW()<=Worksheet!$B$4/3,I10+1,\"\")","v":26},{"$f":"IF(Worksheet!$B$6=1,1,IF(Worksheet!$B$6=2,2,IF(Worksheet!$B$6=3,RANDBETWEEN(1,2),IF(Worksheet!$B$6=4,3,RANDBETWEEN(1,3)))))","v":1},8,{"$f":"IF(J11=3,K11*RANDBETWEEN(1,9)*10^RANDBETWEEN(0,3),IF(J11=1,RANDBETWEEN(1,9)+CHOOSE(Worksheet!$B$13+1,0,RANDBETWEEN(0,9)/10,RANDBETWEEN(0,99)/100,RANDBETWEEN(0,999)/1000,RANDBETWEEN(0,9999)/10000),K11*10^RANDBETWEEN(INT(1-1*LOG10(N11)),4)))","v":8.5},"×",{"$f":"IF(J11=3,10^RANDBETWEEN(-1*Worksheet!$B$14,-1)*IF(Worksheet!$B$12,K11,1),IF(J11=1,10^RANDBETWEEN(1,Worksheet!$B$14)*IF(Worksheet!$B$12,K11,1),10^RANDBETWEEN(-1*Worksheet!$B$14,-1)*IF(Worksheet!$B$12,K11,1)))","v":80},"=",680,{"$f":"IF(ROW()<=Worksheet!$B$4/3,Q10+1,\"\")","v":41},{"$f":"IF(Worksheet!$B$6=1,1,IF(Worksheet!$B$6=2,2,IF(Worksheet!$B$6=3,RANDBETWEEN(1,2),IF(Worksheet!$B$6=4,3,RANDBETWEEN(1,3)))))","v":1},4,{"$f":"IF(R11=3,S11*RANDBETWEEN(1,9)*10^RANDBETWEEN(0,3),IF(R11=1,RANDBETWEEN(1,9)+CHOOSE(Worksheet!$B$13+1,0,RANDBETWEEN(0,9)/10,RANDBETWEEN(0,99)/100,RANDBETWEEN(0,999)/1000,RANDBETWEEN(0,9999)/10000),S11*10^RANDBETWEEN(INT(1-1*LOG10(V11)),4)))","v":5.5},"×",{"$f":"IF(R11=3,10^RANDBETWEEN(-1*Worksheet!$B$14,-1)*IF(Worksheet!$B$12,S11,1),IF(R11=1,10^RANDBETWEEN(1,Worksheet!$B$14)*IF(Worksheet!$B$12,S11,1),10^RANDBETWEEN(-1*Worksheet!$B$14,-1)*IF(Worksheet!$B$12,S11,1)))","v":40},"=",220]
[{"$f":"IF(ROW()<=Worksheet!$B$4/3,ROW(),\"\")","v":12},{"$f":"IF(Worksheet!$B$6=1,1,IF(Worksheet!$B$6=2,2,IF(Worksheet!$B$6=3,RANDBETWEEN(1,2),IF(Worksheet!$B$6=4,3,RANDBETWEEN(1,3)))))","v":1},9,{"$f":"IF(B12=3,C12*RANDBETWEEN(1,9)*10^RANDBETWEEN(0,3),IF(B12=1,RANDBETWEEN(1,9)+CHOOSE(Worksheet!$B$13+1,0,RANDBETWEEN(0,9)/10,RANDBETWEEN(0,99)/100,RANDBETWEEN(0,999)/1000,RANDBETWEEN(0,9999)/10000),C12*10^RANDBETWEEN(INT(1-1*LOG10(F12)),4)))","v":2.4},"×",{"$f":"IF(B12=3,10^RANDBETWEEN(-1*Worksheet!$B$14,-1)*IF(Worksheet!$B$12,C12,1),IF(B12=1,10^RANDBETWEEN(1,Worksheet!$B$14)*IF(Worksheet!$B$12,C12,1),10^RANDBETWEEN(-1*Worksheet!$B$14,-1)*IF(Worksheet!$B$12,C12,1)))","v":90},"=",216,{"$f":"IF(ROW()<=Worksheet!$B$4/3,I11+1,\"\")","v":27},{"$f":"IF(Worksheet!$B$6=1,1,IF(Worksheet!$B$6=2,2,IF(Worksheet!$B$6=3,RANDBETWEEN(1,2),IF(Worksheet!$B$6=4,3,RANDBETWEEN(1,3)))))","v":1},6,{"$f":"IF(J12=3,K12*RANDBETWEEN(1,9)*10^RANDBETWEEN(0,3),IF(J12=1,RANDBETWEEN(1,9)+CHOOSE(Worksheet!$B$13+1,0,RANDBETWEEN(0,9)/10,RANDBETWEEN(0,99)/100,RANDBETWEEN(0,999)/1000,RANDBETWEEN(0,9999)/10000),K12*10^RANDBETWEEN(INT(1-1*LOG10(N12)),4)))","v":2.6},"×",{"$f":"IF(J12=3,10^RANDBETWEEN(-1*Worksheet!$B$14,-1)*IF(Worksheet!$B$12,K12,1),IF(J12=1,10^RANDBETWEEN(1,Worksheet!$B$14)*IF(Worksheet!$B$12,K12,1),10^RANDBETWEEN(-1*Worksheet!$B$14,-1)*IF(Worksheet!$B$12,K12,1)))","v":6000},"=",15600,{"$f":"IF(ROW()<=Worksheet!$B$4/3,Q11+1,\"\")","v":42},{"$f":"IF(Worksheet!$B$6=1,1,IF(Worksheet!$B$6=2,2,IF(Worksheet!$B$6=3,RANDBETWEEN(1,2),IF(Worksheet!$B$6=4,3,RANDBETWEEN(1,3)))))","v":1},2,{"$f":"IF(R12=3,S12*RANDBETWEEN(1,9)*10^RANDBETWEEN(0,3),IF(R12=1,RANDBETWEEN(1,9)+CHOOSE(Worksheet!$B$13+1,0,RANDBETWEEN(0,9)/10,RANDBETWEEN(0,99)/100,RANDBETWEEN(0,999)/1000,RANDBETWEEN(0,9999)/10000),S12*10^RANDBETWEEN(INT(1-1*LOG10(V12)),4)))","v":8.6},"×",{"$f":"IF(R12=3,10^RANDBETWEEN(-1*Worksheet!$B$14,-1)*IF(Worksheet!$B$12,S12,1),IF(R12=1,10^RANDBETWEEN(1,Worksheet!$B$14)*IF(Worksheet!$B$12,S12,1),10^RANDBETWEEN(-1*Worksheet!$B$14,-1)*IF(Worksheet!$B$12,S12,1)))","v":200},"=",1720]
[{"$f":"IF(ROW()<=Worksheet!$B$4/3,ROW(),\"\")","v":13},{"$f":"IF(Worksheet!$B$6=1,1,IF(Worksheet!$B$6=2,2,IF(Worksheet!$B$6=3,RANDBETWEEN(1,2),IF(Worksheet!$B$6=4,3,RANDBETWEEN(1,3)))))","v":1},8,{"$f":"IF(B13=3,C13*RANDBETWEEN(1,9)*10^RANDBETWEEN(0,3),IF(B13=1,RANDBETWEEN(1,9)+CHOOSE(Worksheet!$B$13+1,0,RANDBETWEEN(0,9)/10,RANDBETWEEN(0,99)/100,RANDBETWEEN(0,999)/1000,RANDBETWEEN(0,9999)/10000),C13*10^RANDBETWEEN(INT(1-1*LOG10(F13)),4)))","v":5.4},"×",{"$f":"IF(B13=3,10^RANDBETWEEN(-1*Worksheet!$B$14,-1)*IF(Worksheet!$B$12,C13,1),IF(B13=1,10^RANDBETWEEN(1,Worksheet!$B$14)*IF(Worksheet!$B$12,C13,1),10^RANDBETWEEN(-1*Worksheet!$B$14,-1)*IF(Worksheet!$B$12,C13,1)))","v":80},"=",432,{"$f":"IF(ROW()<=Worksheet!$B$4/3,I12+1,\"\")","v":28},{"$f":"IF(Worksheet!$B$6=1,1,IF(Worksheet!$B$6=2,2,IF(Worksheet!$B$6=3,RANDBETWEEN(1,2),IF(Worksheet!$B$6=4,3,RANDBETWEEN(1,3)))))","v":1},6,{"$f":"IF(J13=3,K13*RANDBETWEEN(1,9)*10^RANDBETWEEN(0,3),IF(J13=1,RANDBETWEEN(1,9)+CHOOSE(Worksheet!$B$13+1,0,RANDBETWEEN(0,9)/10,RANDBETWEEN(0,99)/100,RANDBETWEEN(0,999)/1000,RANDBETWEEN(0,9999)/10000),K13*10^RANDBETWEEN(INT(1-1*LOG10(N13)),4)))","v":6.1},"×",{"$f":"IF(J13=3,10^RANDBETWEEN(-1*Worksheet!$B$14,-1)*IF(Worksheet!$B$12,K13,1),IF(J13=1,10^RANDBETWEEN(1,Worksheet!$B$14)*IF(Worksheet!$B$12,K13,1),10^RANDBETWEEN(-1*Worksheet!$B$14,-1)*IF(Worksheet!$B$12,K13,1)))","v":60},"=",366,{"$f":"IF(ROW()<=Worksheet!$B$4/3,Q12+1,\"\")","v":43},{"$f":"IF(Worksheet!$B$6=1,1,IF(Worksheet!$B$6=2,2,IF(Worksheet!$B$6=3,RANDBETWEEN(1,2),IF(Worksheet!$B$6=4,3,RANDBETWEEN(1,3)))))","v":1},6,{"$f":"IF(R13=3,S13*RANDBETWEEN(1,9)*10^RANDBETWEEN(0,3),IF(R13=1,RANDBETWEEN(1,9)+CHOOSE(Worksheet!$B$13+1,0,RANDBETWEEN(0,9)/10,RANDBETWEEN(0,99)/100,RANDBETWEEN(0,999)/1000,RANDBETWEEN(0,9999)/10000),S13*10^RANDBETWEEN(INT(1-1*LOG10(V13)),4)))","v":3.3},"×",{"$f":"IF(R13=3,10^RANDBETWEEN(-1*Worksheet!$B$14,-1)*IF(Worksheet!$B$12,S13,1),IF(R13=1,10^RANDBETWEEN(1,Worksheet!$B$14)*IF(Worksheet!$B$12,S13,1),10^RANDBETWEEN(-1*Worksheet!$B$14,-1)*IF(Worksheet!$B$12,S13,1)))","v":60},"=",198]
[{"$f":"IF(ROW()<=Worksheet!$B$4/3,ROW(),\"\")","v":14},{"$f":"IF(Worksheet!$B$6=1,1,IF(Worksheet!$B$6=2,2,IF(Worksheet!$B$6=3,RANDBETWEEN(1,2),IF(Worksheet!$B$6=4,3,RANDBETWEEN(1,3)))))","v":1},4,{"$f":"IF(B14=3,C14*RANDBETWEEN(1,9)*10^RANDBETWEEN(0,3),IF(B14=1,RANDBETWEEN(1,9)+CHOOSE(Worksheet!$B$13+1,0,RANDBETWEEN(0,9)/10,RANDBETWEEN(0,99)/100,RANDBETWEEN(0,999)/1000,RANDBETWEEN(0,9999)/10000),C14*10^RANDBETWEEN(INT(1-1*LOG10(F14)),4)))","v":2},{"$f":"IF(B14=3,\"÷\",\"×\")","v":"×"},{"$f":"IF(B14=3,10^RANDBETWEEN(-1*Worksheet!$B$14,-1)*IF(Worksheet!$B$12,C14,1),IF(B14=1,10^RANDBETWEEN(1,Worksheet!$B$14)*IF(Worksheet!$B$12,C14,1),10^RANDBETWEEN(-1*Worksheet!$B$14,-1)*IF(Worksheet!$B$12,C14,1)))","v":40},"=",{"$f":"IF(B14=3,TEXT(D14/F14,\"### ###\"),D14*F14)","v":80},{"$f":"IF(ROW()<=Worksheet!$B$4/3,I13+1,\"\")","v":29},{"$f":"IF(Worksheet!$B$6=1,1,IF(Worksheet!$B$6=2,2,IF(Worksheet!$B$6=3,RANDBETWEEN(1,2),IF(Worksheet!$B$6=4,3,RANDBETWEEN(1,3)))))","v":1},3,{"$f":"IF(J14=3,K14*RANDBETWEEN(1,9)*10^RANDBETWEEN(0,3),IF(J14=1,RANDBETWEEN(1,9)+CHOOSE(Worksheet!$B$13+1,0,RANDBETWEEN(0,9)/10,RANDBETWEEN(0,99)/100,RANDBETWEEN(0,999)/1000,RANDBETWEEN(0,9999)/10000),K14*10^RANDBETWEEN(INT(1-1*LOG10(N14)),4)))","v":6.9},"×",{"$f":"IF(J14=3,10^RANDBETWEEN(-1*Worksheet!$B$14,-1)*IF(Worksheet!$B$12,K14,1),IF(J14=1,10^RANDBETWEEN(1,Worksheet!$B$14)*IF(Worksheet!$B$12,K14,1),10^RANDBETWEEN(-1*Worksheet!$B$14,-1)*IF(Worksheet!$B$12,K14,1)))","v":300},"=",2070,{"$f":"IF(ROW()<=Worksheet!$B$4/3,Q13+1,\"\")","v":44},{"$f":"IF(Worksheet!$B$6=1,1,IF(Worksheet!$B$6=2,2,IF(Worksheet!$B$6=3,RANDBETWEEN(1,2),IF(Worksheet!$B$6=4,3,RANDBETWEEN(1,3)))))","v":1},1,{"$f":"IF(R14=3,S14*RANDBETWEEN(1,9)*10^RANDBETWEEN(0,3),IF(R14=1,RANDBETWEEN(1,9)+CHOOSE(Worksheet!$B$13+1,0,RANDBETWEEN(0,9)/10,RANDBETWEEN(0,99)/100,RANDBETWEEN(0,999)/1000,RANDBETWEEN(0,9999)/10000),S14*10^RANDBETWEEN(INT(1-1*LOG10(V14)),4)))","v":5},"×",{"$f":"IF(R14=3,10^RANDBETWEEN(-1*Worksheet!$B$14,-1)*IF(Worksheet!$B$12,S14,1),IF(R14=1,10^RANDBETWEEN(1,Worksheet!$B$14)*IF(Worksheet!$B$12,S14,1),10^RANDBETWEEN(-1*Worksheet!$B$14,-1)*IF(Worksheet!$B$12,S14,1)))","v":10},"=",50]
[{"$f":"IF(ROW()<=Worksheet!$B$4/3,ROW(),\"\")","v":15},{"$f":"IF(Worksheet!$B$6=1,1,IF(Worksheet!$B$6=2,2,IF(Worksheet!$B$6=3,RANDBETWEEN(1,2),IF(Worksheet!$B$6=4,3,RANDBETWEEN(1,3)))))","v":1},7,{"$f":"IF(B15=3,C15*RANDBETWEEN(1,9)*10^RANDBETWEEN(0,3),IF(B15=1,RANDBETWEEN(1,9)+CHOOSE(Worksheet!$B$13+1,0,RANDBETWEEN(0,9)/10,RANDBETWEEN(0,99)/100,RANDBETWEEN(0,999)/1000,RANDBETWEEN(0,9999)/10000),C15*10^RANDBETWEEN(INT(1-1*LOG10(F15)),4)))","v":8.1999999999999993},"×",{"$f":"IF(B15=3,10^RANDBETWEEN(-1*Worksheet!$B$14,-1)*IF(Worksheet!$B$12,C15,1),IF(B15=1,10^RANDBETWEEN(1,Worksheet!$B$14)*IF(Worksheet!$B$12,C15,1),10^RANDBETWEEN(-1*Worksheet!$B$14,-1)*IF(Worksheet!$B$12,C15,1)))","v":7000},"=",57399.999999999993,{"$f":"IF(ROW()<=Worksheet!$B$4/3,I14+1,\"\")","v":30},{"$f":"IF(Worksheet!$B$6=1,1,IF(Worksheet!$B$6=2,2,IF(Worksheet!$B$6=3,RANDBETWEEN(1,2),IF(Worksheet!$B$6=4,3,RANDBETWEEN(1,3)))))","v":1},9,{"$f":"IF(J15=3,K15*RANDBETWEEN(1,9)*10^RANDBETWEEN(0,3),IF(J15=1,RANDBETWEEN(1,9)+CHOOSE(Worksheet!$B$13+1,0,RANDBETWEEN(0,9)/10,RANDBETWEEN(0,99)/100,RANDBETWEEN(0,999)/1000,RANDBETWEEN(0,9999)/10000),K15*10^RANDBETWEEN(INT(1-1*LOG10(N15)),4)))","v":4.9000000000000004},"×",{"$f":"IF(J15=3,10^RANDBETWEEN(-1*Worksheet!$B$14,-1)*IF(Worksheet!$B$12,K15,1),IF(J15=1,10^RANDBETWEEN(1,Worksheet!$B$14)*IF(Worksheet!$B$12,K15,1),10^RANDBETWEEN(-1*Worksheet!$B$14,-1)*IF(Worksheet!$B$12,K15,1)))","v":900},"=",4410,{"$f":"IF(ROW()<=Worksheet!$B$4/3,Q14+1,\"\")","v":45},{"$f":"IF(Worksheet!$B$6=1,1,IF(Worksheet!$B$6=2,2,IF(Worksheet!$B$6=3,RANDBETWEEN(1,2),IF(Worksheet!$B$6=4,3,RANDBETWEEN(1,3)))))","v":1},3,{"$f":"IF(R15=3,S15*RANDBETWEEN(1,9)*10^RANDBETWEEN(0,3),IF(R15=1,RANDBETWEEN(1,9)+CHOOSE(Worksheet!$B$13+1,0,RANDBETWEEN(0,9)/10,RANDBETWEEN(0,99)/100,RANDBETWEEN(0,999)/1000,RANDBETWEEN(0,9999)/10000),S15*10^RANDBETWEEN(INT(1-1*LOG10(V15)),4)))","v":1.3},"×",{"$f":"IF(R15=3,10^RANDBETWEEN(-1*Worksheet!$B$14,-1)*IF(Worksheet!$B$12,S15,1),IF(R15=1,10^RANDBETWEEN(1,Worksheet!$B$14)*IF(Worksheet!$B$12,S15,1),10^RANDBETWEEN(-1*Worksheet!$B$14,-1)*IF(Worksheet!$B$12,S15,1)))","v":3000},"=",3900]
[]
[]
[]
[]
[]
[]
[]
[{"$f":"IF(ROW()<=Worksheet!$B$4/2,ROW(),\"\")","v":""},null,null,null,null,null,null,null,{"$f":"IF(ROW()<=Worksheet!$B$4/2,I22+1,\"\")","v":""},null,null,null,null,null,null,null,{"$f":"IF(ROW()<=Worksheet!$B$4/2,Q22+1,\"\")","v":""}]
[{"$f":"IF(ROW()<=Worksheet!$B$4/2,ROW(),\"\")","v":""},null,null,null,null,null,null,null,{"$f":"IF(ROW()<=Worksheet!$B$4/2,I23+1,\"\")","v":""},null,null,null,null,null,null,null,{"$f":"IF(ROW()<=Worksheet!$B$4/2,Q23+1,\"\")","v":""}]
[{"$f":"IF(ROW()<=Worksheet!$B$4/2,ROW(),\"\")","v":""},null,null,null,null,null,null,null,{"$f":"IF(ROW()<=Worksheet!$B$4/2,I24+1,\"\")","v":""},null,null,null,null,null,null,null,{"$f":"IF(ROW()<=Worksheet!$B$4/2,Q24+1,\"\")","v":""}]
[{"$f":"IF(ROW()<=Worksheet!$B$4/2,ROW(),\"\")","v":""},null,null,null,null,null,null,null,{"$f":"IF(ROW()<=Worksheet!$B$4/2,I25+1,\"\")","v":""},null,null,null,null,null,null,null,{"$f":"IF(ROW()<=Worksheet!$B$4/2,Q25+1,\"\")","v":""}]
[{"$f":"IF(ROW()<=Worksheet!$B$4/2,ROW(),\"\")","v":""},null,null,null,null,null,null,null,{"$f":"IF(ROW()<=Worksheet!$B$4/2,I26+1,\"\")","v":""},null,null,null,null,null,null,null,{"$f":"IF(ROW()<=Worksheet!$B$4/2,Q26+1,\"\")","v":""}]
[{"$f":"IF(ROW()<=Worksheet!$B$4/2,ROW(),\"\")","v":""},null,null,null,null,null,null,null,{"$f":"IF(ROW()<=Worksheet!$B$4/2,I27+1,\"\")","v":""},null,null,null,null,null,null,null,{"$f":"IF(ROW()<=Worksheet!$B$4/2,Q27+1,\"\")","v":""}]
[{"$f":"IF(ROW()<=Worksheet!$B$4/2,ROW(),\"\")","v":""},null,null,null,null,null,null,null,{"$f":"IF(ROW()<=Worksheet!$B$4/2,I28+1,\"\")","v":""},null,null,null,null,null,null,null,{"$f":"IF(ROW()<=Worksheet!$B$4/2,Q28+1,\"\")","v":""}]
[{"$f":"IF(ROW()<=Worksheet!$B$4/2,ROW(),\"\")","v":""},null,null,null,null,null,null,null,{"$f":"IF(ROW()<=Worksheet!$B$4/2,I29+1,\"\")","v":""},null,null,null,null,null,null,null,{"$f":"IF(ROW()<=Worksheet!$B$4/2,Q29+1,\"\")","v":""}]