{"text_format":"1","workbook":"xlsx","n_sheets":2,"sheets":["Worksheet","SYSTEM FORMULAE"],"not_rendered":{"charts":0,"images":0,"macros":1,"external_links":0,"defined_names":2,"comments":0,"pivot_tables":0},"unopened":[],"bounds":{"document_bytes":16777216,"sheet_cells":100000,"rows_first":2000,"rows_last":500,"rows_between":2000,"halvings":0,"cell_chars":16384,"cell_head_chars":4096},"cells_cut":0,"cells_raw":0,"read":"whole","date_system":"1900"}

{"sheet":"Worksheet","index":0,"n_rows":31,"n_cols":24,"rows_kept":31,"cut":false,"hidden":false,"merged":[[1,0,1,1],[4,0,4,1],[0,2,0,23]]}
[null,null,"Multiply without a calculator"]
["Variables",null,1,51,4,null,38,2,"0•0051 × 0•38",1.9380000000000001E-3,16,347,2,76,2,"3•47 × 0•76",2.6372,31,206,2,63,1,"2•06 × 6•3",12.978]
["SHOW ANSWERS",false,2,22,1,null,72,1,"2•2 × 7•2",15.84,17,961,1,15,1,"96•1 × 1•5",144.15,32,925,1,34,2,"92•5 × 0•34",31.45]
["Number of questions (minimum 12, maximum 45)",45,3,614,2,null,3,1,"6•14 × 0•3",1.8420000000000001,18,738,3,77,1,"0•738 × 7•7",5.6825999999999999,33,441,3,83,2,"0•441 × 0•83",0.36603000000000002]
["Level of Difficulty",null,4,157,2,null,28,4,"1•57 × 0•0028",4.3959999999999997E-3,19,632,2,51,2,"6•32 × 0•51",3.2231999999999998,34,525,4,62,1,"0•0525 × 6•2",0.32550000000000001]
["Maximum significant figures for first number  (min 1, max 3)",3,5,21,2,null,77,4,"0•21 × 0•0077",1.6169999999999999E-3,20,56,4,43,3,"0•0056 × 0•043",2.408E-4,35,312,2,29,3,"3•12 × 0•029",9.0480000000000005E-2]
["Maximum significant figures for second number (min 1, max 3)",2,6,459,3,null,77,2,"0•459 × 0•77",0.35343000000000002,21,835,3,42,1,"0•835 × 4•2",3.5070000000000001,36,131,4,82,1,"0•0131 × 8•2",0.10742]
["Maximum number of decimal places in both numbers (min 1, max 4)",4,7,872,3,null,29,1,"0•872 × 2•9",2.5287999999999999,22,675,1,64,2,"67•5 × 0•64",43.2,37,318,4,66,3,"0•0318 × 0•066",2.0988000000000001E-3]
[null,null,8,185,3,null,58,4,"0•185 × 0•0058",1.073E-3,23,8,1,67,4,"0•8 × 0•0067",5.3600000000000002E-3,38,353,2,57,2,"3•53 × 0•57",2.0121000000000002]
[null,null,9,231,3,null,1,3,"0•231 × 0•001",2.31E-4,24,342,3,87,2,"0•342 × 0•87",0.29754000000000003,39,666,2,55,1,"6•66 × 5•5",36.630000000000003]
[null,null,10,998,1,null,12,1,"99•8 × 1•2",119.76,25,814,4,13,3,"0•0814 × 0•013",1.0582E-3,40,363,3,14,4,"0•363 × 0•0014",5.0819999999999999E-4]
[null,null,11,732,2,null,58,2,"7•32 × 0•58",4.2455999999999996,26,459,2,62,4,"4•59 × 0•0062",2.8458000000000001E-2,41,821,3,4,3,"0•821 × 0•004",3.284E-3]
[null,null,12,88,3,null,55,4,"0•088 × 0•0055",4.84E-4,27,696,4,25,3,"0•0696 × 0•025",1.74E-3,42,676,2,9,4,"6•76 × 0•0009",6.084E-3]
[null,null,13,971,2,null,41,4,"9•71 × 0•0041",3.9810999999999999E-2,28,134,1,1,1,"13•4 × 0•1",1.34,43,986,1,84,3,"98•6 × 0•084",8.2824000000000009]
[null,null,14,171,2,null,64,4,"1•71 × 0•0064",1.0944000000000001E-2,29,647,2,58,4,"6•47 × 0•0058",3.7525999999999997E-2,44,411,3,66,3,"0•411 × 0•066",2.7126000000000001E-2]
[null,null,15,957,3,null,2,4,"0•957 × 0•0002",1.9139999999999999E-4,30,467,3,39,1,"0•467 × 3•9",1.8212999999999999,45,572,4,15,4,"0•0572 × 0•0015",8.5799999999999998E-5]
[null,null,"",null,null,null,null,""]
[null,null,"",null,null,null,null,""]
[null,null,"",null,null,null,null,""]
[null,null,"",null,null,null,null,""]
[null,null,"",null,null,null,null,""]
[null,null,"",null,null,null,null,""]
[null,null,"",null,null,null,null,""]
[null,null,"",null,null,null,null,""]
[null,null,"",null,null,null,null,""]
[null,null,"",null,null,null,null,""]
[null,null,"",null,null,null,null,""]
[null,null,"",null,null,null,null,""]
[null,null,"",null,null,null,null,""]
[null,null,"",null,null,null,null,""]
[null,null,"",null,null,null,null,""]

{"sheet":"SYSTEM FORMULAE","index":1,"n_rows":30,"n_cols":22,"rows_kept":30,"cut":false,"hidden":false,"merged":[]}
[{"$f":"IF(ROW()<=Worksheet!$B$4/3,ROW(),\"\")","v":1},{"$f":"IF(Worksheet!$B$6=1,RANDBETWEEN(1,9),IF(Worksheet!$B$6=2,RANDBETWEEN(0,9)*10+RANDBETWEEN(1,9),IF(Worksheet!$B$6=3,RANDBETWEEN(0,99)*10+RANDBETWEEN(1,9))))","v":556},{"$f":"RANDBETWEEN(1,Worksheet!$B$8)","v":2},null,{"$f":"IF(Worksheet!$B$7=1,RANDBETWEEN(1,9),IF(Worksheet!$B$7=2,RANDBETWEEN(0,9)*10+RANDBETWEEN(1,9),IF(Worksheet!$B$7=3,RANDBETWEEN(0,99)*10+RANDBETWEEN(1,9))))","v":98},{"$f":"RANDBETWEEN(1,Worksheet!$B$8)","v":1},{"$f":"CONCATENATE(INT(B1/10^C1),\"•\",RIGHT(CONCATENATE(\"00000\",B1),C1),\" × \",INT(E1/10^F1),\"•\",RIGHT(CONCATENATE(\"00000\",E1),F1))","v":"5•56 × 9•8"},{"$f":"B1*E1/(10^(C1+F1))","v":54.488},{"$f":"MAX(A1:A15)+1","v":16},{"$f":"IF(Worksheet!$B$6=1,RANDBETWEEN(1,9),IF(Worksheet!$B$6=2,RANDBETWEEN(0,9)*10+RANDBETWEEN(1,9),IF(Worksheet!$B$6=3,RANDBETWEEN(0,99)*10+RANDBETWEEN(1,9))))","v":563},{"$f":"RANDBETWEEN(1,Worksheet!$B$8)","v":4},{"$f":"IF(Worksheet!$B$7=1,RANDBETWEEN(1,9),IF(Worksheet!$B$7=2,RANDBETWEEN(0,9)*10+RANDBETWEEN(1,9),IF(Worksheet!$B$7=3,RANDBETWEEN(0,99)*10+RANDBETWEEN(1,9))))","v":6},{"$f":"RANDBETWEEN(1,Worksheet!$B$8)","v":4},{"$f":"CONCATENATE(INT(J1/10^K1),\"•\",RIGHT(CONCATENATE(\"00000\",J1),K1),\" × \",INT(L1/10^M1),\"•\",RIGHT(CONCATENATE(\"00000\",L1),M1))","v":"0•0563 × 0•0006"},{"$f":"J1*L1/10^(K1+M1)","v":3.3779999999999998E-5},{"$f":"MAX(I1:I15)+1","v":31},{"$f":"IF(Worksheet!$B$6=1,RANDBETWEEN(1,9),IF(Worksheet!$B$6=2,RANDBETWEEN(0,9)*10+RANDBETWEEN(1,9),IF(Worksheet!$B$6=3,RANDBETWEEN(0,99)*10+RANDBETWEEN(1,9))))","v":385},{"$f":"RANDBETWEEN(1,Worksheet!$B$8)","v":2},{"$f":"IF(Worksheet!$B$7=1,RANDBETWEEN(1,9),IF(Worksheet!$B$7=2,RANDBETWEEN(0,9)*10+RANDBETWEEN(1,9),IF(Worksheet!$B$7=3,RANDBETWEEN(0,99)*10+RANDBETWEEN(1,9))))","v":58},{"$f":"RANDBETWEEN(1,Worksheet!$B$8)","v":2},{"$f":"CONCATENATE(INT(Q1/10^R1),\"•\",RIGHT(CONCATENATE(\"00000\",Q1),R1),\" × \",INT(S1/10^T1),\"•\",RIGHT(CONCATENATE(\"00000\",S1),T1))","v":"3•85 × 0•58"},{"$f":"Q1*S1/10^(R1+T1)","v":2.2330000000000001}]
[{"$f":"IF(ROW()<=Worksheet!$B$4/3,ROW(),\"\")","v":2},{"$f":"IF(Worksheet!$B$6=1,RANDBETWEEN(1,9),IF(Worksheet!$B$6=2,RANDBETWEEN(0,9)*10+RANDBETWEEN(1,9),IF(Worksheet!$B$6=3,RANDBETWEEN(0,99)*10+RANDBETWEEN(1,9))))","v":195},{"$f":"RANDBETWEEN(1,Worksheet!$B$8)","v":3},null,{"$f":"IF(Worksheet!$B$7=1,RANDBETWEEN(1,9),IF(Worksheet!$B$7=2,RANDBETWEEN(0,9)*10+RANDBETWEEN(1,9),IF(Worksheet!$B$7=3,RANDBETWEEN(0,99)*10+RANDBETWEEN(1,9))))","v":6},{"$f":"RANDBETWEEN(1,Worksheet!$B$8)","v":3},{"$f":"CONCATENATE(INT(B2/10^C2),\"•\",RIGHT(CONCATENATE(\"00000\",B2),C2),\" × \",INT(E2/10^F2),\"•\",RIGHT(CONCATENATE(\"00000\",E2),F2))","v":"0•195 × 0•006"},{"$f":"B2*E2/(10^(C2+F2))","v":1.17E-3},{"$f":"IF(ROW()<=Worksheet!$B$4/3,I1+1,\"\")","v":17},{"$f":"IF(Worksheet!$B$6=1,RANDBETWEEN(1,9),IF(Worksheet!$B$6=2,RANDBETWEEN(0,9)*10+RANDBETWEEN(1,9),IF(Worksheet!$B$6=3,RANDBETWEEN(0,99)*10+RANDBETWEEN(1,9))))","v":332},{"$f":"RANDBETWEEN(1,Worksheet!$B$8)","v":3},{"$f":"IF(Worksheet!$B$7=1,RANDBETWEEN(1,9),IF(Worksheet!$B$7=2,RANDBETWEEN(0,9)*10+RANDBETWEEN(1,9),IF(Worksheet!$B$7=3,RANDBETWEEN(0,99)*10+RANDBETWEEN(1,9))))","v":15},{"$f":"RANDBETWEEN(1,Worksheet!$B$8)","v":3},{"$f":"CONCATENATE(INT(J2/10^K2),\"•\",RIGHT(CONCATENATE(\"00000\",J2),K2),\" × \",INT(L2/10^M2),\"•\",RIGHT(CONCATENATE(\"00000\",L2),M2))","v":"0•332 × 0•015"},{"$f":"J2*L2/10^(K2+M2)","v":4.9800000000000001E-3},{"$f":"IF(ROW()<=Worksheet!$B$4/3,P1+1,\"\")","v":32},{"$f":"IF(Worksheet!$B$6=1,RANDBETWEEN(1,9),IF(Worksheet!$B$6=2,RANDBETWEEN(0,9)*10+RANDBETWEEN(1,9),IF(Worksheet!$B$6=3,RANDBETWEEN(0,99)*10+RANDBETWEEN(1,9))))","v":337},{"$f":"RANDBETWEEN(1,Worksheet!$B$8)","v":1},{"$f":"IF(Worksheet!$B$7=1,RANDBETWEEN(1,9),IF(Worksheet!$B$7=2,RANDBETWEEN(0,9)*10+RANDBETWEEN(1,9),IF(Worksheet!$B$7=3,RANDBETWEEN(0,99)*10+RANDBETWEEN(1,9))))","v":23},{"$f":"RANDBETWEEN(1,Worksheet!$B$8)","v":2},{"$f":"CONCATENATE(INT(Q2/10^R2),\"•\",RIGHT(CONCATENATE(\"00000\",Q2),R2),\" × \",INT(S2/10^T2),\"•\",RIGHT(CONCATENATE(\"00000\",S2),T2))","v":"33•7 × 0•23"},{"$f":"Q2*S2/10^(R2+T2)","v":7.7510000000000003}]
[{"$f":"IF(ROW()<=Worksheet!$B$4/3,ROW(),\"\")","v":3},{"$f":"IF(Worksheet!$B$6=1,RANDBETWEEN(1,9),IF(Worksheet!$B$6=2,RANDBETWEEN(0,9)*10+RANDBETWEEN(1,9),IF(Worksheet!$B$6=3,RANDBETWEEN(0,99)*10+RANDBETWEEN(1,9))))","v":476},{"$f":"RANDBETWEEN(1,Worksheet!$B$8)","v":1},null,{"$f":"IF(Worksheet!$B$7=1,RANDBETWEEN(1,9),IF(Worksheet!$B$7=2,RANDBETWEEN(0,9)*10+RANDBETWEEN(1,9),IF(Worksheet!$B$7=3,RANDBETWEEN(0,99)*10+RANDBETWEEN(1,9))))","v":99},{"$f":"RANDBETWEEN(1,Worksheet!$B$8)","v":1},"47•6 × 9•9",471.24,{"$f":"IF(ROW()<=Worksheet!$B$4/3,I2+1,\"\")","v":18},{"$f":"IF(Worksheet!$B$6=1,RANDBETWEEN(1,9),IF(Worksheet!$B$6=2,RANDBETWEEN(0,9)*10+RANDBETWEEN(1,9),IF(Worksheet!$B$6=3,RANDBETWEEN(0,99)*10+RANDBETWEEN(1,9))))","v":129},{"$f":"RANDBETWEEN(1,Worksheet!$B$8)","v":4},{"$f":"IF(Worksheet!$B$7=1,RANDBETWEEN(1,9),IF(Worksheet!$B$7=2,RANDBETWEEN(0,9)*10+RANDBETWEEN(1,9),IF(Worksheet!$B$7=3,RANDBETWEEN(0,99)*10+RANDBETWEEN(1,9))))","v":33},{"$f":"RANDBETWEEN(1,Worksheet!$B$8)","v":1},"0•0129 × 3•3",4.2569999999999997E-2,{"$f":"IF(ROW()<=Worksheet!$B$4/3,P2+1,\"\")","v":33},{"$f":"IF(Worksheet!$B$6=1,RANDBETWEEN(1,9),IF(Worksheet!$B$6=2,RANDBETWEEN(0,9)*10+RANDBETWEEN(1,9),IF(Worksheet!$B$6=3,RANDBETWEEN(0,99)*10+RANDBETWEEN(1,9))))","v":364},{"$f":"RANDBETWEEN(1,Worksheet!$B$8)","v":1},{"$f":"IF(Worksheet!$B$7=1,RANDBETWEEN(1,9),IF(Worksheet!$B$7=2,RANDBETWEEN(0,9)*10+RANDBETWEEN(1,9),IF(Worksheet!$B$7=3,RANDBETWEEN(0,99)*10+RANDBETWEEN(1,9))))","v":31},{"$f":"RANDBETWEEN(1,Worksheet!$B$8)","v":3},"36•4 × 0•031",1.1284000000000001]
[{"$f":"IF(ROW()<=Worksheet!$B$4/3,ROW(),\"\")","v":4},{"$f":"IF(Worksheet!$B$6=1,RANDBETWEEN(1,9),IF(Worksheet!$B$6=2,RANDBETWEEN(0,9)*10+RANDBETWEEN(1,9),IF(Worksheet!$B$6=3,RANDBETWEEN(0,99)*10+RANDBETWEEN(1,9))))","v":503},{"$f":"RANDBETWEEN(1,Worksheet!$B$8)","v":2},null,{"$f":"IF(Worksheet!$B$7=1,RANDBETWEEN(1,9),IF(Worksheet!$B$7=2,RANDBETWEEN(0,9)*10+RANDBETWEEN(1,9),IF(Worksheet!$B$7=3,RANDBETWEEN(0,99)*10+RANDBETWEEN(1,9))))","v":58},{"$f":"RANDBETWEEN(1,Worksheet!$B$8)","v":4},"5•03 × 0•0058",2.9173999999999999E-2,{"$f":"IF(ROW()<=Worksheet!$B$4/3,I3+1,\"\")","v":19},{"$f":"IF(Worksheet!$B$6=1,RANDBETWEEN(1,9),IF(Worksheet!$B$6=2,RANDBETWEEN(0,9)*10+RANDBETWEEN(1,9),IF(Worksheet!$B$6=3,RANDBETWEEN(0,99)*10+RANDBETWEEN(1,9))))","v":693},{"$f":"RANDBETWEEN(1,Worksheet!$B$8)","v":2},{"$f":"IF(Worksheet!$B$7=1,RANDBETWEEN(1,9),IF(Worksheet!$B$7=2,RANDBETWEEN(0,9)*10+RANDBETWEEN(1,9),IF(Worksheet!$B$7=3,RANDBETWEEN(0,99)*10+RANDBETWEEN(1,9))))","v":79},{"$f":"RANDBETWEEN(1,Worksheet!$B$8)","v":3},"6•93 × 0•079",0.54747000000000001,{"$f":"IF(ROW()<=Worksheet!$B$4/3,P3+1,\"\")","v":34},{"$f":"IF(Worksheet!$B$6=1,RANDBETWEEN(1,9),IF(Worksheet!$B$6=2,RANDBETWEEN(0,9)*10+RANDBETWEEN(1,9),IF(Worksheet!$B$6=3,RANDBETWEEN(0,99)*10+RANDBETWEEN(1,9))))","v":763},{"$f":"RANDBETWEEN(1,Worksheet!$B$8)","v":3},{"$f":"IF(Worksheet!$B$7=1,RANDBETWEEN(1,9),IF(Worksheet!$B$7=2,RANDBETWEEN(0,9)*10+RANDBETWEEN(1,9),IF(Worksheet!$B$7=3,RANDBETWEEN(0,99)*10+RANDBETWEEN(1,9))))","v":19},{"$f":"RANDBETWEEN(1,Worksheet!$B$8)","v":2},"0•763 × 0•19",0.14496999999999999]
[{"$f":"IF(ROW()<=Worksheet!$B$4/3,ROW(),\"\")","v":5},{"$f":"IF(Worksheet!$B$6=1,RANDBETWEEN(1,9),IF(Worksheet!$B$6=2,RANDBETWEEN(0,9)*10+RANDBETWEEN(1,9),IF(Worksheet!$B$6=3,RANDBETWEEN(0,99)*10+RANDBETWEEN(1,9))))","v":233},{"$f":"RANDBETWEEN(1,Worksheet!$B$8)","v":1},null,{"$f":"IF(Worksheet!$B$7=1,RANDBETWEEN(1,9),IF(Worksheet!$B$7=2,RANDBETWEEN(0,9)*10+RANDBETWEEN(1,9),IF(Worksheet!$B$7=3,RANDBETWEEN(0,99)*10+RANDBETWEEN(1,9))))","v":63},{"$f":"RANDBETWEEN(1,Worksheet!$B$8)","v":2},"23•3 × 0•63",14.679,{"$f":"IF(ROW()<=Worksheet!$B$4/3,I4+1,\"\")","v":20},{"$f":"IF(Worksheet!$B$6=1,RANDBETWEEN(1,9),IF(Worksheet!$B$6=2,RANDBETWEEN(0,9)*10+RANDBETWEEN(1,9),IF(Worksheet!$B$6=3,RANDBETWEEN(0,99)*10+RANDBETWEEN(1,9))))","v":613},{"$f":"RANDBETWEEN(1,Worksheet!$B$8)","v":4},{"$f":"IF(Worksheet!$B$7=1,RANDBETWEEN(1,9),IF(Worksheet!$B$7=2,RANDBETWEEN(0,9)*10+RANDBETWEEN(1,9),IF(Worksheet!$B$7=3,RANDBETWEEN(0,99)*10+RANDBETWEEN(1,9))))","v":74},{"$f":"RANDBETWEEN(1,Worksheet!$B$8)","v":4},"0•0613 × 0•0074",4.5362000000000001E-4,{"$f":"IF(ROW()<=Worksheet!$B$4/3,P4+1,\"\")","v":35},{"$f":"IF(Worksheet!$B$6=1,RANDBETWEEN(1,9),IF(Worksheet!$B$6=2,RANDBETWEEN(0,9)*10+RANDBETWEEN(1,9),IF(Worksheet!$B$6=3,RANDBETWEEN(0,99)*10+RANDBETWEEN(1,9))))","v":954},{"$f":"RANDBETWEEN(1,Worksheet!$B$8)","v":3},{"$f":"IF(Worksheet!$B$7=1,RANDBETWEEN(1,9),IF(Worksheet!$B$7=2,RANDBETWEEN(0,9)*10+RANDBETWEEN(1,9),IF(Worksheet!$B$7=3,RANDBETWEEN(0,99)*10+RANDBETWEEN(1,9))))","v":2},{"$f":"RANDBETWEEN(1,Worksheet!$B$8)","v":2},"0•954 × 0•02",1.908E-2]
[{"$f":"IF(ROW()<=Worksheet!$B$4/3,ROW(),\"\")","v":6},{"$f":"IF(Worksheet!$B$6=1,RANDBETWEEN(1,9),IF(Worksheet!$B$6=2,RANDBETWEEN(0,9)*10+RANDBETWEEN(1,9),IF(Worksheet!$B$6=3,RANDBETWEEN(0,99)*10+RANDBETWEEN(1,9))))","v":628},{"$f":"RANDBETWEEN(1,Worksheet!$B$8)","v":4},null,{"$f":"IF(Worksheet!$B$7=1,RANDBETWEEN(1,9),IF(Worksheet!$B$7=2,RANDBETWEEN(0,9)*10+RANDBETWEEN(1,9),IF(Worksheet!$B$7=3,RANDBETWEEN(0,99)*10+RANDBETWEEN(1,9))))","v":17},{"$f":"RANDBETWEEN(1,Worksheet!$B$8)","v":4},"0•0628 × 0•0017",1.0676E-4,{"$f":"IF(ROW()<=Worksheet!$B$4/3,I5+1,\"\")","v":21},{"$f":"IF(Worksheet!$B$6=1,RANDBETWEEN(1,9),IF(Worksheet!$B$6=2,RANDBETWEEN(0,9)*10+RANDBETWEEN(1,9),IF(Worksheet!$B$6=3,RANDBETWEEN(0,99)*10+RANDBETWEEN(1,9))))","v":631},{"$f":"RANDBETWEEN(1,Worksheet!$B$8)","v":1},{"$f":"IF(Worksheet!$B$7=1,RANDBETWEEN(1,9),IF(Worksheet!$B$7=2,RANDBETWEEN(0,9)*10+RANDBETWEEN(1,9),IF(Worksheet!$B$7=3,RANDBETWEEN(0,99)*10+RANDBETWEEN(1,9))))","v":34},{"$f":"RANDBETWEEN(1,Worksheet!$B$8)","v":1},"63•1 × 3•4",214.54,{"$f":"IF(ROW()<=Worksheet!$B$4/3,P5+1,\"\")","v":36},{"$f":"IF(Worksheet!$B$6=1,RANDBETWEEN(1,9),IF(Worksheet!$B$6=2,RANDBETWEEN(0,9)*10+RANDBETWEEN(1,9),IF(Worksheet!$B$6=3,RANDBETWEEN(0,99)*10+RANDBETWEEN(1,9))))","v":254},{"$f":"RANDBETWEEN(1,Worksheet!$B$8)","v":4},{"$f":"IF(Worksheet!$B$7=1,RANDBETWEEN(1,9),IF(Worksheet!$B$7=2,RANDBETWEEN(0,9)*10+RANDBETWEEN(1,9),IF(Worksheet!$B$7=3,RANDBETWEEN(0,99)*10+RANDBETWEEN(1,9))))","v":37},{"$f":"RANDBETWEEN(1,Worksheet!$B$8)","v":4},"0•0254 × 0•0037",9.3980000000000005E-5]
[{"$f":"IF(ROW()<=Worksheet!$B$4/3,ROW(),\"\")","v":7},{"$f":"IF(Worksheet!$B$6=1,RANDBETWEEN(1,9),IF(Worksheet!$B$6=2,RANDBETWEEN(0,9)*10+RANDBETWEEN(1,9),IF(Worksheet!$B$6=3,RANDBETWEEN(0,99)*10+RANDBETWEEN(1,9))))","v":909},{"$f":"RANDBETWEEN(1,Worksheet!$B$8)","v":1},null,{"$f":"IF(Worksheet!$B$7=1,RANDBETWEEN(1,9),IF(Worksheet!$B$7=2,RANDBETWEEN(0,9)*10+RANDBETWEEN(1,9),IF(Worksheet!$B$7=3,RANDBETWEEN(0,99)*10+RANDBETWEEN(1,9))))","v":2},{"$f":"RANDBETWEEN(1,Worksheet!$B$8)","v":1},"90•9 × 0•2",18.18,{"$f":"IF(ROW()<=Worksheet!$B$4/3,I6+1,\"\")","v":22},{"$f":"IF(Worksheet!$B$6=1,RANDBETWEEN(1,9),IF(Worksheet!$B$6=2,RANDBETWEEN(0,9)*10+RANDBETWEEN(1,9),IF(Worksheet!$B$6=3,RANDBETWEEN(0,99)*10+RANDBETWEEN(1,9))))","v":655},{"$f":"RANDBETWEEN(1,Worksheet!$B$8)","v":2},{"$f":"IF(Worksheet!$B$7=1,RANDBETWEEN(1,9),IF(Worksheet!$B$7=2,RANDBETWEEN(0,9)*10+RANDBETWEEN(1,9),IF(Worksheet!$B$7=3,RANDBETWEEN(0,99)*10+RANDBETWEEN(1,9))))","v":23},{"$f":"RANDBETWEEN(1,Worksheet!$B$8)","v":3},"6•55 × 0•023",0.15065000000000001,{"$f":"IF(ROW()<=Worksheet!$B$4/3,P6+1,\"\")","v":37},{"$f":"IF(Worksheet!$B$6=1,RANDBETWEEN(1,9),IF(Worksheet!$B$6=2,RANDBETWEEN(0,9)*10+RANDBETWEEN(1,9),IF(Worksheet!$B$6=3,RANDBETWEEN(0,99)*10+RANDBETWEEN(1,9))))","v":118},{"$f":"RANDBETWEEN(1,Worksheet!$B$8)","v":3},{"$f":"IF(Worksheet!$B$7=1,RANDBETWEEN(1,9),IF(Worksheet!$B$7=2,RANDBETWEEN(0,9)*10+RANDBETWEEN(1,9),IF(Worksheet!$B$7=3,RANDBETWEEN(0,99)*10+RANDBETWEEN(1,9))))","v":19},{"$f":"RANDBETWEEN(1,Worksheet!$B$8)","v":2},"0•118 × 0•19",2.2419999999999999E-2]
[{"$f":"IF(ROW()<=Worksheet!$B$4/3,ROW(),\"\")","v":8},{"$f":"IF(Worksheet!$B$6=1,RANDBETWEEN(1,9),IF(Worksheet!$B$6=2,RANDBETWEEN(0,9)*10+RANDBETWEEN(1,9),IF(Worksheet!$B$6=3,RANDBETWEEN(0,99)*10+RANDBETWEEN(1,9))))","v":995},{"$f":"RANDBETWEEN(1,Worksheet!$B$8)","v":3},null,{"$f":"IF(Worksheet!$B$7=1,RANDBETWEEN(1,9),IF(Worksheet!$B$7=2,RANDBETWEEN(0,9)*10+RANDBETWEEN(1,9),IF(Worksheet!$B$7=3,RANDBETWEEN(0,99)*10+RANDBETWEEN(1,9))))","v":98},{"$f":"RANDBETWEEN(1,Worksheet!$B$8)","v":2},"0•995 × 0•98",0.97509999999999997,{"$f":"IF(ROW()<=Worksheet!$B$4/3,I7+1,\"\")","v":23},{"$f":"IF(Worksheet!$B$6=1,RANDBETWEEN(1,9),IF(Worksheet!$B$6=2,RANDBETWEEN(0,9)*10+RANDBETWEEN(1,9),IF(Worksheet!$B$6=3,RANDBETWEEN(0,99)*10+RANDBETWEEN(1,9))))","v":924},{"$f":"RANDBETWEEN(1,Worksheet!$B$8)","v":4},{"$f":"IF(Worksheet!$B$7=1,RANDBETWEEN(1,9),IF(Worksheet!$B$7=2,RANDBETWEEN(0,9)*10+RANDBETWEEN(1,9),IF(Worksheet!$B$7=3,RANDBETWEEN(0,99)*10+RANDBETWEEN(1,9))))","v":66},{"$f":"RANDBETWEEN(1,Worksheet!$B$8)","v":3},"0•0924 × 0•066",6.0984000000000003E-3,{"$f":"IF(ROW()<=Worksheet!$B$4/3,P7+1,\"\")","v":38},{"$f":"IF(Worksheet!$B$6=1,RANDBETWEEN(1,9),IF(Worksheet!$B$6=2,RANDBETWEEN(0,9)*10+RANDBETWEEN(1,9),IF(Worksheet!$B$6=3,RANDBETWEEN(0,99)*10+RANDBETWEEN(1,9))))","v":627},{"$f":"RANDBETWEEN(1,Worksheet!$B$8)","v":4},{"$f":"IF(Worksheet!$B$7=1,RANDBETWEEN(1,9),IF(Worksheet!$B$7=2,RANDBETWEEN(0,9)*10+RANDBETWEEN(1,9),IF(Worksheet!$B$7=3,RANDBETWEEN(0,99)*10+RANDBETWEEN(1,9))))","v":48},{"$f":"RANDBETWEEN(1,Worksheet!$B$8)","v":3},"0•0627 × 0•048",3.0095999999999999E-3]
[{"$f":"IF(ROW()<=Worksheet!$B$4/3,ROW(),\"\")","v":9},{"$f":"IF(Worksheet!$B$6=1,RANDBETWEEN(1,9),IF(Worksheet!$B$6=2,RANDBETWEEN(0,9)*10+RANDBETWEEN(1,9),IF(Worksheet!$B$6=3,RANDBETWEEN(0,99)*10+RANDBETWEEN(1,9))))","v":387},{"$f":"RANDBETWEEN(1,Worksheet!$B$8)","v":3},null,{"$f":"IF(Worksheet!$B$7=1,RANDBETWEEN(1,9),IF(Worksheet!$B$7=2,RANDBETWEEN(0,9)*10+RANDBETWEEN(1,9),IF(Worksheet!$B$7=3,RANDBETWEEN(0,99)*10+RANDBETWEEN(1,9))))","v":11},{"$f":"RANDBETWEEN(1,Worksheet!$B$8)","v":3},"0•387 × 0•011",4.2570000000000004E-3,{"$f":"IF(ROW()<=Worksheet!$B$4/3,I8+1,\"\")","v":24},{"$f":"IF(Worksheet!$B$6=1,RANDBETWEEN(1,9),IF(Worksheet!$B$6=2,RANDBETWEEN(0,9)*10+RANDBETWEEN(1,9),IF(Worksheet!$B$6=3,RANDBETWEEN(0,99)*10+RANDBETWEEN(1,9))))","v":223},{"$f":"RANDBETWEEN(1,Worksheet!$B$8)","v":3},{"$f":"IF(Worksheet!$B$7=1,RANDBETWEEN(1,9),IF(Worksheet!$B$7=2,RANDBETWEEN(0,9)*10+RANDBETWEEN(1,9),IF(Worksheet!$B$7=3,RANDBETWEEN(0,99)*10+RANDBETWEEN(1,9))))","v":97},{"$f":"RANDBETWEEN(1,Worksheet!$B$8)","v":2},"0•223 × 0•97",0.21631,{"$f":"IF(ROW()<=Worksheet!$B$4/3,P8+1,\"\")","v":39},{"$f":"IF(Worksheet!$B$6=1,RANDBETWEEN(1,9),IF(Worksheet!$B$6=2,RANDBETWEEN(0,9)*10+RANDBETWEEN(1,9),IF(Worksheet!$B$6=3,RANDBETWEEN(0,99)*10+RANDBETWEEN(1,9))))","v":458},{"$f":"RANDBETWEEN(1,Worksheet!$B$8)","v":1},{"$f":"IF(Worksheet!$B$7=1,RANDBETWEEN(1,9),IF(Worksheet!$B$7=2,RANDBETWEEN(0,9)*10+RANDBETWEEN(1,9),IF(Worksheet!$B$7=3,RANDBETWEEN(0,99)*10+RANDBETWEEN(1,9))))","v":59},{"$f":"RANDBETWEEN(1,Worksheet!$B$8)","v":3},"45•8 × 0•059",2.7021999999999999]
[{"$f":"IF(ROW()<=Worksheet!$B$4/3,ROW(),\"\")","v":10},{"$f":"IF(Worksheet!$B$6=1,RANDBETWEEN(1,9),IF(Worksheet!$B$6=2,RANDBETWEEN(0,9)*10+RANDBETWEEN(1,9),IF(Worksheet!$B$6=3,RANDBETWEEN(0,99)*10+RANDBETWEEN(1,9))))","v":798},{"$f":"RANDBETWEEN(1,Worksheet!$B$8)","v":3},null,{"$f":"IF(Worksheet!$B$7=1,RANDBETWEEN(1,9),IF(Worksheet!$B$7=2,RANDBETWEEN(0,9)*10+RANDBETWEEN(1,9),IF(Worksheet!$B$7=3,RANDBETWEEN(0,99)*10+RANDBETWEEN(1,9))))","v":79},{"$f":"RANDBETWEEN(1,Worksheet!$B$8)","v":3},"0•798 × 0•079",6.3042000000000001E-2,{"$f":"IF(ROW()<=Worksheet!$B$4/3,I9+1,\"\")","v":25},{"$f":"IF(Worksheet!$B$6=1,RANDBETWEEN(1,9),IF(Worksheet!$B$6=2,RANDBETWEEN(0,9)*10+RANDBETWEEN(1,9),IF(Worksheet!$B$6=3,RANDBETWEEN(0,99)*10+RANDBETWEEN(1,9))))","v":182},{"$f":"RANDBETWEEN(1,Worksheet!$B$8)","v":4},{"$f":"IF(Worksheet!$B$7=1,RANDBETWEEN(1,9),IF(Worksheet!$B$7=2,RANDBETWEEN(0,9)*10+RANDBETWEEN(1,9),IF(Worksheet!$B$7=3,RANDBETWEEN(0,99)*10+RANDBETWEEN(1,9))))","v":71},{"$f":"RANDBETWEEN(1,Worksheet!$B$8)","v":4},"0•0182 × 0•0071",1.2922000000000001E-4,{"$f":"IF(ROW()<=Worksheet!$B$4/3,P9+1,\"\")","v":40},{"$f":"IF(Worksheet!$B$6=1,RANDBETWEEN(1,9),IF(Worksheet!$B$6=2,RANDBETWEEN(0,9)*10+RANDBETWEEN(1,9),IF(Worksheet!$B$6=3,RANDBETWEEN(0,99)*10+RANDBETWEEN(1,9))))","v":378},{"$f":"RANDBETWEEN(1,Worksheet!$B$8)","v":3},{"$f":"IF(Worksheet!$B$7=1,RANDBETWEEN(1,9),IF(Worksheet!$B$7=2,RANDBETWEEN(0,9)*10+RANDBETWEEN(1,9),IF(Worksheet!$B$7=3,RANDBETWEEN(0,99)*10+RANDBETWEEN(1,9))))","v":84},{"$f":"RANDBETWEEN(1,Worksheet!$B$8)","v":4},"0•378 × 0•0084",3.1752E-3]
[{"$f":"IF(ROW()<=Worksheet!$B$4/3,ROW(),\"\")","v":11},{"$f":"IF(Worksheet!$B$6=1,RANDBETWEEN(1,9),IF(Worksheet!$B$6=2,RANDBETWEEN(0,9)*10+RANDBETWEEN(1,9),IF(Worksheet!$B$6=3,RANDBETWEEN(0,99)*10+RANDBETWEEN(1,9))))","v":422},{"$f":"RANDBETWEEN(1,Worksheet!$B$8)","v":4},null,{"$f":"IF(Worksheet!$B$7=1,RANDBETWEEN(1,9),IF(Worksheet!$B$7=2,RANDBETWEEN(0,9)*10+RANDBETWEEN(1,9),IF(Worksheet!$B$7=3,RANDBETWEEN(0,99)*10+RANDBETWEEN(1,9))))","v":36},{"$f":"RANDBETWEEN(1,Worksheet!$B$8)","v":2},"0•0422 × 0•36",1.5192000000000001E-2,{"$f":"IF(ROW()<=Worksheet!$B$4/3,I10+1,\"\")","v":26},{"$f":"IF(Worksheet!$B$6=1,RANDBETWEEN(1,9),IF(Worksheet!$B$6=2,RANDBETWEEN(0,9)*10+RANDBETWEEN(1,9),IF(Worksheet!$B$6=3,RANDBETWEEN(0,99)*10+RANDBETWEEN(1,9))))","v":359},{"$f":"RANDBETWEEN(1,Worksheet!$B$8)","v":4},{"$f":"IF(Worksheet!$B$7=1,RANDBETWEEN(1,9),IF(Worksheet!$B$7=2,RANDBETWEEN(0,9)*10+RANDBETWEEN(1,9),IF(Worksheet!$B$7=3,RANDBETWEEN(0,99)*10+RANDBETWEEN(1,9))))","v":23},{"$f":"RANDBETWEEN(1,Worksheet!$B$8)","v":1},"0•0359 × 2•3",8.2570000000000005E-2,{"$f":"IF(ROW()<=Worksheet!$B$4/3,P10+1,\"\")","v":41},{"$f":"IF(Worksheet!$B$6=1,RANDBETWEEN(1,9),IF(Worksheet!$B$6=2,RANDBETWEEN(0,9)*10+RANDBETWEEN(1,9),IF(Worksheet!$B$6=3,RANDBETWEEN(0,99)*10+RANDBETWEEN(1,9))))","v":419},{"$f":"RANDBETWEEN(1,Worksheet!$B$8)","v":4},{"$f":"IF(Worksheet!$B$7=1,RANDBETWEEN(1,9),IF(Worksheet!$B$7=2,RANDBETWEEN(0,9)*10+RANDBETWEEN(1,9),IF(Worksheet!$B$7=3,RANDBETWEEN(0,99)*10+RANDBETWEEN(1,9))))","v":8},{"$f":"RANDBETWEEN(1,Worksheet!$B$8)","v":2},"0•0419 × 0•08",3.3519999999999999E-3]
[{"$f":"IF(ROW()<=Worksheet!$B$4/3,ROW(),\"\")","v":12},{"$f":"IF(Worksheet!$B$6=1,RANDBETWEEN(1,9),IF(Worksheet!$B$6=2,RANDBETWEEN(0,9)*10+RANDBETWEEN(1,9),IF(Worksheet!$B$6=3,RANDBETWEEN(0,99)*10+RANDBETWEEN(1,9))))","v":708},{"$f":"RANDBETWEEN(1,Worksheet!$B$8)","v":2},null,{"$f":"IF(Worksheet!$B$7=1,RANDBETWEEN(1,9),IF(Worksheet!$B$7=2,RANDBETWEEN(0,9)*10+RANDBETWEEN(1,9),IF(Worksheet!$B$7=3,RANDBETWEEN(0,99)*10+RANDBETWEEN(1,9))))","v":52},{"$f":"RANDBETWEEN(1,Worksheet!$B$8)","v":2},"7•08 × 0•52",3.6816,{"$f":"IF(ROW()<=Worksheet!$B$4/3,I11+1,\"\")","v":27},{"$f":"IF(Worksheet!$B$6=1,RANDBETWEEN(1,9),IF(Worksheet!$B$6=2,RANDBETWEEN(0,9)*10+RANDBETWEEN(1,9),IF(Worksheet!$B$6=3,RANDBETWEEN(0,99)*10+RANDBETWEEN(1,9))))","v":395},{"$f":"RANDBETWEEN(1,Worksheet!$B$8)","v":1},{"$f":"IF(Worksheet!$B$7=1,RANDBETWEEN(1,9),IF(Worksheet!$B$7=2,RANDBETWEEN(0,9)*10+RANDBETWEEN(1,9),IF(Worksheet!$B$7=3,RANDBETWEEN(0,99)*10+RANDBETWEEN(1,9))))","v":83},{"$f":"RANDBETWEEN(1,Worksheet!$B$8)","v":1},"39•5 × 8•3",327.85,{"$f":"IF(ROW()<=Worksheet!$B$4/3,P11+1,\"\")","v":42},{"$f":"IF(Worksheet!$B$6=1,RANDBETWEEN(1,9),IF(Worksheet!$B$6=2,RANDBETWEEN(0,9)*10+RANDBETWEEN(1,9),IF(Worksheet!$B$6=3,RANDBETWEEN(0,99)*10+RANDBETWEEN(1,9))))","v":828},{"$f":"RANDBETWEEN(1,Worksheet!$B$8)","v":2},{"$f":"IF(Worksheet!$B$7=1,RANDBETWEEN(1,9),IF(Worksheet!$B$7=2,RANDBETWEEN(0,9)*10+RANDBETWEEN(1,9),IF(Worksheet!$B$7=3,RANDBETWEEN(0,99)*10+RANDBETWEEN(1,9))))","v":55},{"$f":"RANDBETWEEN(1,Worksheet!$B$8)","v":4},"8•28 × 0•0055",4.5539999999999997E-2]
[{"$f":"IF(ROW()<=Worksheet!$B$4/3,ROW(),\"\")","v":13},{"$f":"IF(Worksheet!$B$6=1,RANDBETWEEN(1,9),IF(Worksheet!$B$6=2,RANDBETWEEN(0,9)*10+RANDBETWEEN(1,9),IF(Worksheet!$B$6=3,RANDBETWEEN(0,99)*10+RANDBETWEEN(1,9))))","v":731},{"$f":"RANDBETWEEN(1,Worksheet!$B$8)","v":4},null,{"$f":"IF(Worksheet!$B$7=1,RANDBETWEEN(1,9),IF(Worksheet!$B$7=2,RANDBETWEEN(0,9)*10+RANDBETWEEN(1,9),IF(Worksheet!$B$7=3,RANDBETWEEN(0,99)*10+RANDBETWEEN(1,9))))","v":12},{"$f":"RANDBETWEEN(1,Worksheet!$B$8)","v":3},"0•0731 × 0•012",8.7719999999999996E-4,{"$f":"IF(ROW()<=Worksheet!$B$4/3,I12+1,\"\")","v":28},{"$f":"IF(Worksheet!$B$6=1,RANDBETWEEN(1,9),IF(Worksheet!$B$6=2,RANDBETWEEN(0,9)*10+RANDBETWEEN(1,9),IF(Worksheet!$B$6=3,RANDBETWEEN(0,99)*10+RANDBETWEEN(1,9))))","v":676},{"$f":"RANDBETWEEN(1,Worksheet!$B$8)","v":4},{"$f":"IF(Worksheet!$B$7=1,RANDBETWEEN(1,9),IF(Worksheet!$B$7=2,RANDBETWEEN(0,9)*10+RANDBETWEEN(1,9),IF(Worksheet!$B$7=3,RANDBETWEEN(0,99)*10+RANDBETWEEN(1,9))))","v":41},{"$f":"RANDBETWEEN(1,Worksheet!$B$8)","v":2},"0•0676 × 0•41",2.7716000000000001E-2,{"$f":"IF(ROW()<=Worksheet!$B$4/3,P12+1,\"\")","v":43},{"$f":"IF(Worksheet!$B$6=1,RANDBETWEEN(1,9),IF(Worksheet!$B$6=2,RANDBETWEEN(0,9)*10+RANDBETWEEN(1,9),IF(Worksheet!$B$6=3,RANDBETWEEN(0,99)*10+RANDBETWEEN(1,9))))","v":855},{"$f":"RANDBETWEEN(1,Worksheet!$B$8)","v":1},{"$f":"IF(Worksheet!$B$7=1,RANDBETWEEN(1,9),IF(Worksheet!$B$7=2,RANDBETWEEN(0,9)*10+RANDBETWEEN(1,9),IF(Worksheet!$B$7=3,RANDBETWEEN(0,99)*10+RANDBETWEEN(1,9))))","v":62},{"$f":"RANDBETWEEN(1,Worksheet!$B$8)","v":2},"85•5 × 0•62",53.01]
[{"$f":"IF(ROW()<=Worksheet!$B$4/3,ROW(),\"\")","v":14},{"$f":"IF(Worksheet!$B$6=1,RANDBETWEEN(1,9),IF(Worksheet!$B$6=2,RANDBETWEEN(0,9)*10+RANDBETWEEN(1,9),IF(Worksheet!$B$6=3,RANDBETWEEN(0,99)*10+RANDBETWEEN(1,9))))","v":281},{"$f":"RANDBETWEEN(1,Worksheet!$B$8)","v":4},null,{"$f":"IF(Worksheet!$B$7=1,RANDBETWEEN(1,9),IF(Worksheet!$B$7=2,RANDBETWEEN(0,9)*10+RANDBETWEEN(1,9),IF(Worksheet!$B$7=3,RANDBETWEEN(0,99)*10+RANDBETWEEN(1,9))))","v":6},{"$f":"RANDBETWEEN(1,Worksheet!$B$8)","v":1},"0•0281 × 0•6",1.686E-2,{"$f":"IF(ROW()<=Worksheet!$B$4/3,I13+1,\"\")","v":29},{"$f":"IF(Worksheet!$B$6=1,RANDBETWEEN(1,9),IF(Worksheet!$B$6=2,RANDBETWEEN(0,9)*10+RANDBETWEEN(1,9),IF(Worksheet!$B$6=3,RANDBETWEEN(0,99)*10+RANDBETWEEN(1,9))))","v":852},{"$f":"RANDBETWEEN(1,Worksheet!$B$8)","v":3},{"$f":"IF(Worksheet!$B$7=1,RANDBETWEEN(1,9),IF(Worksheet!$B$7=2,RANDBETWEEN(0,9)*10+RANDBETWEEN(1,9),IF(Worksheet!$B$7=3,RANDBETWEEN(0,99)*10+RANDBETWEEN(1,9))))","v":45},{"$f":"RANDBETWEEN(1,Worksheet!$B$8)","v":2},"0•852 × 0•45",0.38340000000000002,{"$f":"IF(ROW()<=Worksheet!$B$4/3,P13+1,\"\")","v":44},{"$f":"IF(Worksheet!$B$6=1,RANDBETWEEN(1,9),IF(Worksheet!$B$6=2,RANDBETWEEN(0,9)*10+RANDBETWEEN(1,9),IF(Worksheet!$B$6=3,RANDBETWEEN(0,99)*10+RANDBETWEEN(1,9))))","v":895},{"$f":"RANDBETWEEN(1,Worksheet!$B$8)","v":1},{"$f":"IF(Worksheet!$B$7=1,RANDBETWEEN(1,9),IF(Worksheet!$B$7=2,RANDBETWEEN(0,9)*10+RANDBETWEEN(1,9),IF(Worksheet!$B$7=3,RANDBETWEEN(0,99)*10+RANDBETWEEN(1,9))))","v":12},{"$f":"RANDBETWEEN(1,Worksheet!$B$8)","v":1},"89•5 × 1•2",107.4]
[{"$f":"IF(ROW()<=Worksheet!$B$4/3,ROW(),\"\")","v":15},{"$f":"IF(Worksheet!$B$6=1,RANDBETWEEN(1,9),IF(Worksheet!$B$6=2,RANDBETWEEN(0,9)*10+RANDBETWEEN(1,9),IF(Worksheet!$B$6=3,RANDBETWEEN(0,99)*10+RANDBETWEEN(1,9))))","v":415},{"$f":"RANDBETWEEN(1,Worksheet!$B$8)","v":1},null,{"$f":"IF(Worksheet!$B$7=1,RANDBETWEEN(1,9),IF(Worksheet!$B$7=2,RANDBETWEEN(0,9)*10+RANDBETWEEN(1,9),IF(Worksheet!$B$7=3,RANDBETWEEN(0,99)*10+RANDBETWEEN(1,9))))","v":1},{"$f":"RANDBETWEEN(1,Worksheet!$B$8)","v":1},"41•5 × 0•1",4.1500000000000004,{"$f":"IF(ROW()<=Worksheet!$B$4/3,I14+1,\"\")","v":30},{"$f":"IF(Worksheet!$B$6=1,RANDBETWEEN(1,9),IF(Worksheet!$B$6=2,RANDBETWEEN(0,9)*10+RANDBETWEEN(1,9),IF(Worksheet!$B$6=3,RANDBETWEEN(0,99)*10+RANDBETWEEN(1,9))))","v":459},{"$f":"RANDBETWEEN(1,Worksheet!$B$8)","v":3},{"$f":"IF(Worksheet!$B$7=1,RANDBETWEEN(1,9),IF(Worksheet!$B$7=2,RANDBETWEEN(0,9)*10+RANDBETWEEN(1,9),IF(Worksheet!$B$7=3,RANDBETWEEN(0,99)*10+RANDBETWEEN(1,9))))","v":95},{"$f":"RANDBETWEEN(1,Worksheet!$B$8)","v":3},"0•459 × 0•095",4.3604999999999998E-2,{"$f":"IF(ROW()<=Worksheet!$B$4/3,P14+1,\"\")","v":45},{"$f":"IF(Worksheet!$B$6=1,RANDBETWEEN(1,9),IF(Worksheet!$B$6=2,RANDBETWEEN(0,9)*10+RANDBETWEEN(1,9),IF(Worksheet!$B$6=3,RANDBETWEEN(0,99)*10+RANDBETWEEN(1,9))))","v":769},{"$f":"RANDBETWEEN(1,Worksheet!$B$8)","v":2},{"$f":"IF(Worksheet!$B$7=1,RANDBETWEEN(1,9),IF(Worksheet!$B$7=2,RANDBETWEEN(0,9)*10+RANDBETWEEN(1,9),IF(Worksheet!$B$7=3,RANDBETWEEN(0,99)*10+RANDBETWEEN(1,9))))","v":43},{"$f":"RANDBETWEEN(1,Worksheet!$B$8)","v":2},"7•69 × 0•43",3.3067000000000002]
[]
[]
[]
[]
[]
[]
[]
[]
[]
[{"$f":"IF(ROW()<=Worksheet!$B$4/2,ROW(),\"\")","v":""},null,null,null,null,{"$f":"IF(ROW()<=Worksheet!$B$4/2,F24+1,\"\")","v":""},null,null,{"$f":"IF(ROW()<=Worksheet!$B$4/2,ROW(),\"\")","v":""},null,null,null,{"$f":"IF(ROW()<=Worksheet!$B$4/2,M24+1,\"\")","v":""},null,null,{"$f":"IF(ROW()<=Worksheet!$B$4/2,ROW(),\"\")","v":""},null,null,null,{"$f":"IF(ROW()<=Worksheet!$B$4/2,T24+1,\"\")","v":""}]
[{"$f":"IF(ROW()<=Worksheet!$B$4/2,ROW(),\"\")","v":""},null,null,null,null,{"$f":"IF(ROW()<=Worksheet!$B$4/2,F25+1,\"\")","v":""},null,null,{"$f":"IF(ROW()<=Worksheet!$B$4/2,ROW(),\"\")","v":""},null,null,null,{"$f":"IF(ROW()<=Worksheet!$B$4/2,M25+1,\"\")","v":""},null,null,{"$f":"IF(ROW()<=Worksheet!$B$4/2,ROW(),\"\")","v":""},null,null,null,{"$f":"IF(ROW()<=Worksheet!$B$4/2,T25+1,\"\")","v":""}]
[{"$f":"IF(ROW()<=Worksheet!$B$4/2,ROW(),\"\")","v":""},null,null,null,null,{"$f":"IF(ROW()<=Worksheet!$B$4/2,F26+1,\"\")","v":""},null,null,{"$f":"IF(ROW()<=Worksheet!$B$4/2,ROW(),\"\")","v":""},null,null,null,{"$f":"IF(ROW()<=Worksheet!$B$4/2,M26+1,\"\")","v":""},null,null,{"$f":"IF(ROW()<=Worksheet!$B$4/2,ROW(),\"\")","v":""},null,null,null,{"$f":"IF(ROW()<=Worksheet!$B$4/2,T26+1,\"\")","v":""}]
[{"$f":"IF(ROW()<=Worksheet!$B$4/2,ROW(),\"\")","v":""},null,null,null,null,{"$f":"IF(ROW()<=Worksheet!$B$4/2,F27+1,\"\")","v":""},null,null,{"$f":"IF(ROW()<=Worksheet!$B$4/2,ROW(),\"\")","v":""},null,null,null,{"$f":"IF(ROW()<=Worksheet!$B$4/2,M27+1,\"\")","v":""},null,null,{"$f":"IF(ROW()<=Worksheet!$B$4/2,ROW(),\"\")","v":""},null,null,null,{"$f":"IF(ROW()<=Worksheet!$B$4/2,T27+1,\"\")","v":""}]
[{"$f":"IF(ROW()<=Worksheet!$B$4/2,ROW(),\"\")","v":""},null,null,null,null,{"$f":"IF(ROW()<=Worksheet!$B$4/2,F28+1,\"\")","v":""},null,null,{"$f":"IF(ROW()<=Worksheet!$B$4/2,ROW(),\"\")","v":""},null,null,null,{"$f":"IF(ROW()<=Worksheet!$B$4/2,M28+1,\"\")","v":""},null,null,{"$f":"IF(ROW()<=Worksheet!$B$4/2,ROW(),\"\")","v":""},null,null,null,{"$f":"IF(ROW()<=Worksheet!$B$4/2,T28+1,\"\")","v":""}]
[{"$f":"IF(ROW()<=Worksheet!$B$4/2,ROW(),\"\")","v":""},null,null,null,null,{"$f":"IF(ROW()<=Worksheet!$B$4/2,F29+1,\"\")","v":""},null,null,{"$f":"IF(ROW()<=Worksheet!$B$4/2,ROW(),\"\")","v":""},null,null,null,{"$f":"IF(ROW()<=Worksheet!$B$4/2,M29+1,\"\")","v":""},null,null,{"$f":"IF(ROW()<=Worksheet!$B$4/2,ROW(),\"\")","v":""},null,null,null,{"$f":"IF(ROW()<=Worksheet!$B$4/2,T29+1,\"\")","v":""}]