{"text_format":"1","workbook":"xlsx","n_sheets":2,"sheets":["Worksheet","SYSTEM FORMULAE"],"not_rendered":{"charts":0,"images":0,"macros":1,"external_links":0,"defined_names":1,"comments":0,"pivot_tables":0},"unopened":[],"bounds":{"document_bytes":16777216,"sheet_cells":100000,"rows_first":2000,"rows_last":500,"rows_between":2000,"halvings":0,"cell_chars":16384,"cell_head_chars":4096},"cells_cut":0,"cells_raw":0,"read":"whole","date_system":"1900"}

{"sheet":"Worksheet","index":0,"n_rows":16,"n_cols":19,"rows_kept":16,"cut":false,"hidden":false,"merged":[[0,5,0,18],[2,0,2,1],[15,4,15,6]]}
[null,null,null,null,{"$f":"CONCATENATE(\"Go up or down in \",IF(B10,\"multiples of\",\"\"),\":\")","v":"Go up or down in :"},"Continue these number sequences, writing each number in its simplest form"]
[null,null,null,1,{"$f":"10^(-1*D2)","v":0.1},"a)",4.5999999999999996,", ",4.6999999999999993,", ",4.7999999999999989,", ",4.8999999999999986,", ",4.9999999999999982,", ",5.0999999999999979,", ",5.1999999999999975]
["Variables",null,null,2,{"$f":"10^(-1*D3)","v":0.01},"b)",2.1,", ",2.11,", ",2.1199999999999997,", ",2.1299999999999994,", ",2.1399999999999992,", ",2.149999999999999,", ",2.1599999999999988]
["SHOW ANSWERS?",false,null,1,0.1,"c)",5.71,", ",5.81,", ",5.9099999999999993,", ",6.0099999999999989,", ",6.1099999999999985,", ",6.2099999999999982,", ",6.3099999999999978]
["Up only",1,null,2,0.01,"d)",2.46,", ",2.4699999999999998,", ",2.4799999999999995,", ",2.4899999999999993,", ",2.4999999999999991,", ",2.5099999999999989,", ",2.5199999999999987]
["Down only",null,null,1,0.1,"e)",3.71,", ",3.81,", ",3.91,", ",4.01,", ",4.1099999999999994,", ",4.2099999999999991,", ",4.3099999999999987]
["Up and down",null,null,2,0.01,"f)",1.07,", ",1.08,", ",1.0900000000000001,", ",1.1000000000000001,", ",1.1100000000000001,", ",1.1200000000000001,", ",1.1300000000000001]
["Maximum number of decimal places",2,null,1,0.1,"g)",4.7,", ",4.8,", ",4.8999999999999995,", ",4.9999999999999991,", ",5.0999999999999988,", ",5.1999999999999984,", ",5.299999999999998]
["Maximum integer part of number",5,null,2,0.01,"h)",1,", ",1.01,", ",1.02,", ",1.03,", ",1.04,", ",1.05,", ",1.06]
["Allow to go down in multiples of (e.g.) 0.1 as well as just 0.1?",false,null,1,0.1,"i)",3.63,", ",3.73,", ",3.83,", ",3.93,", ",4.03,", ",4.13,", ",4.2299999999999995]
[null,null,null,2,0.01,"j)",2.4,", ",2.4099999999999997,", ",2.4199999999999995,", ",2.4299999999999993,", ",2.4399999999999991,", ",2.4499999999999988,", ",2.4599999999999986]
[null,null,null,1,0.1,"k)",4.72,", ",4.8199999999999994,", ",4.919999999999999,", ",5.0199999999999987,", ",5.1199999999999983,", ",5.219999999999998,", ",5.3199999999999976]
[null,null,null,2,0.01,"l)",5.17,", ",5.18,", ",5.1899999999999995,", ",5.1999999999999993,", ",5.2099999999999991,", ",5.2199999999999989,", ",5.2299999999999986]
[null,null,null,1,0.1,"m)",5,", ",5.0999999999999996,", ",5.1999999999999993,", ",5.2999999999999989,", ",5.3999999999999986,", ",5.4999999999999982,", ",5.5999999999999979]
[null,null,null,2,0.01,"n)",3.38,", ",3.3899999999999997,", ",3.3999999999999995,", ",3.4099999999999993,", ",3.419999999999999,", ",3.4299999999999988,", ",3.4399999999999986]
[null,null,null,null,"if these numbers go red, you have chosen them to be too big compared to the maximum number of digits - only matters in questions going down"]

{"sheet":"SYSTEM FORMULAE","index":1,"n_rows":15,"n_cols":24,"rows_kept":15,"cut":false,"hidden":false,"merged":[]}
[null,"going up or down in",null,null,null,"units",1,2,3,4]
[{"$f":"Worksheet!D2","v":1},{"$f":"Worksheet!E2","v":0.1},1,null,{"$f":"IF(Worksheet!$B$5=1,\"up\",IF(Worksheet!$B$5=2,\"down\",CHOOSE(RANDBETWEEN(1,2),\"up\",\"down\")))","v":"up"},{"$f":"RANDBETWEEN(IF(E2=\"down\",C2*B2*7,1),MAX(Worksheet!$B$9,C2*B2*7+1))","v":5},{"$f":"IF(Worksheet!$B$8<G$1,0,IF(AND($E2=\"up\",$A2=G$1),CHOOSE(RANDBETWEEN(1,4),7,6,8,0)*IF(C2=2,2,1),IF(AND($E2=\"down\",$A2=G$1),CHOOSE(RANDBETWEEN(1,4),3,2,0,4)*IF(C2=2,2,1),RANDBETWEEN(0,RANDBETWEEN(0,9)))))","v":6},{"$f":"IF(Worksheet!$B$8<H$1,0,IF(AND($E2=\"up\",$A2=H$1),CHOOSE(RANDBETWEEN(1,4),7,6,8,0)*IF(D2=2,2,1),IF(AND($E2=\"down\",$A2=H$1),CHOOSE(RANDBETWEEN(1,4),3,2,0,4)*IF(D2=2,2,1),RANDBETWEEN(0,RANDBETWEEN(0,9)))))","v":3},{"$f":"IF(Worksheet!$B$8<I$1,0,IF(AND($E2=\"up\",$A2=I$1),CHOOSE(RANDBETWEEN(1,4),7,6,8,0)*IF(E2=2,2,1),IF(AND($E2=\"down\",$A2=I$1),CHOOSE(RANDBETWEEN(1,4),3,2,0,4)*IF(E2=2,2,1),RANDBETWEEN(0,RANDBETWEEN(0,9)))))","v":0},{"$f":"IF(Worksheet!$B$8<J$1,0,IF(AND($E2=\"up\",$A2=J$1),CHOOSE(RANDBETWEEN(1,4),7,6,8,0)*IF(F2=2,2,1),IF(AND($E2=\"down\",$A2=J$1),CHOOSE(RANDBETWEEN(1,4),3,2,0,4)*IF(F2=2,2,1),RANDBETWEEN(0,RANDBETWEEN(0,9)))))","v":0},"a)",{"$f":"F2+0.1*G2+0.01*H2+0.001*I2+0.0001*J2","v":5.63},", ",{"$f":"IF($E2=\"up\",L2+C2*$B2,L2-C2*$B2)","v":5.7299999999999995},", ",{"$f":"IF($E2=\"up\",N2+C2*$B2,N2-C2*$B2)","v":5.8299999999999992},", ",{"$f":"IF($E2=\"up\",P2+C2*$B2,P2-C2*$B2)","v":5.9299999999999988},", ",{"$f":"IF($E2=\"up\",R2+C2*$B2,R2-C2*$B2)","v":6.0299999999999985},", ",{"$f":"IF($E2=\"up\",T2+C2*$B2,T2-C2*$B2)","v":6.1299999999999981},", ",{"$f":"IF($E2=\"up\",V2+C2*$B2,V2-C2*$B2)","v":6.2299999999999978}]
[{"$f":"Worksheet!D3","v":2},{"$f":"Worksheet!E3","v":0.01},1,null,{"$f":"IF(Worksheet!$B$5=1,\"up\",IF(Worksheet!$B$5=2,\"down\",CHOOSE(RANDBETWEEN(1,2),\"up\",\"down\")))","v":"up"},{"$f":"RANDBETWEEN(IF(E3=\"down\",C3*B3*7,1),MAX(Worksheet!$B$9,C3*B3*7+1))","v":4},{"$f":"IF(Worksheet!$B$8<G$1,0,IF(AND($E3=\"up\",$A3=G$1),CHOOSE(RANDBETWEEN(1,4),7,6,8,0)*IF(C3=2,2,1),IF(AND($E3=\"down\",$A3=G$1),CHOOSE(RANDBETWEEN(1,4),3,2,0,4)*IF(C3=2,2,1),RANDBETWEEN(0,RANDBETWEEN(0,9)))))","v":1},{"$f":"IF(Worksheet!$B$8<H$1,0,IF(AND($E3=\"up\",$A3=H$1),CHOOSE(RANDBETWEEN(1,4),7,6,8,0)*IF(D3=2,2,1),IF(AND($E3=\"down\",$A3=H$1),CHOOSE(RANDBETWEEN(1,4),3,2,0,4)*IF(D3=2,2,1),RANDBETWEEN(0,RANDBETWEEN(0,9)))))","v":7},{"$f":"IF(Worksheet!$B$8<I$1,0,IF(AND($E3=\"up\",$A3=I$1),CHOOSE(RANDBETWEEN(1,4),7,6,8,0)*IF(E3=2,2,1),IF(AND($E3=\"down\",$A3=I$1),CHOOSE(RANDBETWEEN(1,4),3,2,0,4)*IF(E3=2,2,1),RANDBETWEEN(0,RANDBETWEEN(0,9)))))","v":0},{"$f":"IF(Worksheet!$B$8<J$1,0,IF(AND($E3=\"up\",$A3=J$1),CHOOSE(RANDBETWEEN(1,4),7,6,8,0)*IF(F3=2,2,1),IF(AND($E3=\"down\",$A3=J$1),CHOOSE(RANDBETWEEN(1,4),3,2,0,4)*IF(F3=2,2,1),RANDBETWEEN(0,RANDBETWEEN(0,9)))))","v":0},"b)",{"$f":"F3+0.1*G3+0.01*H3+0.001*I3+0.0001*J3","v":4.17},", ",{"$f":"IF($E3=\"up\",L3+C3*$B3,L3-C3*$B3)","v":4.18},", ",{"$f":"IF($E3=\"up\",N3+C3*$B3,N3-C3*$B3)","v":4.1899999999999995},", ",{"$f":"IF($E3=\"up\",P3+C3*$B3,P3-C3*$B3)","v":4.1999999999999993},", ",{"$f":"IF($E3=\"up\",R3+C3*$B3,R3-C3*$B3)","v":4.2099999999999991},", ",{"$f":"IF($E3=\"up\",T3+C3*$B3,T3-C3*$B3)","v":4.2199999999999989},", ",{"$f":"IF($E3=\"up\",V3+C3*$B3,V3-C3*$B3)","v":4.2299999999999986}]
[{"$f":"Worksheet!D4","v":1},{"$f":"Worksheet!E4","v":0.1},{"$f":"IF(AND(Worksheet!$B$10,NOT(B4=1)),CHOOSE(RANDBETWEEN(1,5),1,2,5,RANDBETWEEN(1,5),5),1)","v":1},null,{"$f":"IF(Worksheet!$B$5=1,\"up\",IF(Worksheet!$B$5=2,\"down\",CHOOSE(RANDBETWEEN(1,2),\"up\",\"down\")))","v":"up"},{"$f":"RANDBETWEEN(IF(E4=\"down\",C4*B4*7,1),MAX(Worksheet!$B$9,C4*B4*7+1))","v":1},{"$f":"IF(Worksheet!$B$8<G$1,0,IF(AND($E4=\"up\",$A4=G$1),CHOOSE(RANDBETWEEN(1,4),7,6,8,0)*IF(C4=2,2,1),IF(AND($E4=\"down\",$A4=G$1),CHOOSE(RANDBETWEEN(1,4),3,2,0,4)*IF(C4=2,2,1),RANDBETWEEN(0,RANDBETWEEN(0,9)))))","v":8},{"$f":"IF(Worksheet!$B$8<H$1,0,IF(AND($E4=\"up\",$A4=H$1),CHOOSE(RANDBETWEEN(1,4),7,6,8,0)*IF(D4=2,2,1),IF(AND($E4=\"down\",$A4=H$1),CHOOSE(RANDBETWEEN(1,4),3,2,0,4)*IF(D4=2,2,1),RANDBETWEEN(0,RANDBETWEEN(0,9)))))","v":0},{"$f":"IF(Worksheet!$B$8<I$1,0,IF(AND($E4=\"up\",$A4=I$1),CHOOSE(RANDBETWEEN(1,4),7,6,8,0)*IF(E4=2,2,1),IF(AND($E4=\"down\",$A4=I$1),CHOOSE(RANDBETWEEN(1,4),3,2,0,4)*IF(E4=2,2,1),RANDBETWEEN(0,RANDBETWEEN(0,9)))))","v":0},{"$f":"IF(Worksheet!$B$8<J$1,0,IF(AND($E4=\"up\",$A4=J$1),CHOOSE(RANDBETWEEN(1,4),7,6,8,0)*IF(F4=2,2,1),IF(AND($E4=\"down\",$A4=J$1),CHOOSE(RANDBETWEEN(1,4),3,2,0,4)*IF(F4=2,2,1),RANDBETWEEN(0,RANDBETWEEN(0,9)))))","v":0},"c)",1.8,", ",1.9000000000000001,", ",2,", ",2.1,", ",2.2000000000000002,", ",2.3000000000000003,", ",2.4000000000000004]
[{"$f":"Worksheet!D5","v":2},{"$f":"Worksheet!E5","v":0.01},{"$f":"IF(AND(Worksheet!$B$10,NOT(B5=1)),CHOOSE(RANDBETWEEN(1,5),1,2,5,RANDBETWEEN(1,5),5),1)","v":1},null,{"$f":"IF(Worksheet!$B$5=1,\"up\",IF(Worksheet!$B$5=2,\"down\",CHOOSE(RANDBETWEEN(1,2),\"up\",\"down\")))","v":"up"},{"$f":"RANDBETWEEN(IF(E5=\"down\",C5*B5*7,1),MAX(Worksheet!$B$9,C5*B5*7+1))","v":2},{"$f":"IF(Worksheet!$B$8<G$1,0,IF(AND($E5=\"up\",$A5=G$1),CHOOSE(RANDBETWEEN(1,4),7,6,8,0)*IF(C5=2,2,1),IF(AND($E5=\"down\",$A5=G$1),CHOOSE(RANDBETWEEN(1,4),3,2,0,4)*IF(C5=2,2,1),RANDBETWEEN(0,RANDBETWEEN(0,9)))))","v":1},{"$f":"IF(Worksheet!$B$8<H$1,0,IF(AND($E5=\"up\",$A5=H$1),CHOOSE(RANDBETWEEN(1,4),7,6,8,0)*IF(D5=2,2,1),IF(AND($E5=\"down\",$A5=H$1),CHOOSE(RANDBETWEEN(1,4),3,2,0,4)*IF(D5=2,2,1),RANDBETWEEN(0,RANDBETWEEN(0,9)))))","v":0},{"$f":"IF(Worksheet!$B$8<I$1,0,IF(AND($E5=\"up\",$A5=I$1),CHOOSE(RANDBETWEEN(1,4),7,6,8,0)*IF(E5=2,2,1),IF(AND($E5=\"down\",$A5=I$1),CHOOSE(RANDBETWEEN(1,4),3,2,0,4)*IF(E5=2,2,1),RANDBETWEEN(0,RANDBETWEEN(0,9)))))","v":0},{"$f":"IF(Worksheet!$B$8<J$1,0,IF(AND($E5=\"up\",$A5=J$1),CHOOSE(RANDBETWEEN(1,4),7,6,8,0)*IF(F5=2,2,1),IF(AND($E5=\"down\",$A5=J$1),CHOOSE(RANDBETWEEN(1,4),3,2,0,4)*IF(F5=2,2,1),RANDBETWEEN(0,RANDBETWEEN(0,9)))))","v":0},"d)",2.1,", ",2.11,", ",2.1199999999999997,", ",2.1299999999999994,", ",2.1399999999999992,", ",2.149999999999999,", ",2.1599999999999988]
[{"$f":"Worksheet!D6","v":1},{"$f":"Worksheet!E6","v":0.1},{"$f":"IF(AND(Worksheet!$B$10,NOT(B6=1)),CHOOSE(RANDBETWEEN(1,5),1,2,5,RANDBETWEEN(1,5),5),1)","v":1},null,{"$f":"IF(Worksheet!$B$5=1,\"up\",IF(Worksheet!$B$5=2,\"down\",CHOOSE(RANDBETWEEN(1,2),\"up\",\"down\")))","v":"up"},{"$f":"RANDBETWEEN(IF(E6=\"down\",C6*B6*7,1),MAX(Worksheet!$B$9,C6*B6*7+1))","v":2},{"$f":"IF(Worksheet!$B$8<G$1,0,IF(AND($E6=\"up\",$A6=G$1),CHOOSE(RANDBETWEEN(1,4),7,6,8,0)*IF(C6=2,2,1),IF(AND($E6=\"down\",$A6=G$1),CHOOSE(RANDBETWEEN(1,4),3,2,0,4)*IF(C6=2,2,1),RANDBETWEEN(0,RANDBETWEEN(0,9)))))","v":8},{"$f":"IF(Worksheet!$B$8<H$1,0,IF(AND($E6=\"up\",$A6=H$1),CHOOSE(RANDBETWEEN(1,4),7,6,8,0)*IF(D6=2,2,1),IF(AND($E6=\"down\",$A6=H$1),CHOOSE(RANDBETWEEN(1,4),3,2,0,4)*IF(D6=2,2,1),RANDBETWEEN(0,RANDBETWEEN(0,9)))))","v":5},{"$f":"IF(Worksheet!$B$8<I$1,0,IF(AND($E6=\"up\",$A6=I$1),CHOOSE(RANDBETWEEN(1,4),7,6,8,0)*IF(E6=2,2,1),IF(AND($E6=\"down\",$A6=I$1),CHOOSE(RANDBETWEEN(1,4),3,2,0,4)*IF(E6=2,2,1),RANDBETWEEN(0,RANDBETWEEN(0,9)))))","v":0},{"$f":"IF(Worksheet!$B$8<J$1,0,IF(AND($E6=\"up\",$A6=J$1),CHOOSE(RANDBETWEEN(1,4),7,6,8,0)*IF(F6=2,2,1),IF(AND($E6=\"down\",$A6=J$1),CHOOSE(RANDBETWEEN(1,4),3,2,0,4)*IF(F6=2,2,1),RANDBETWEEN(0,RANDBETWEEN(0,9)))))","v":0},"e)",2.8499999999999996,", ",2.9499999999999997,", ",3.05,", ",3.15,", ",3.25,", ",3.35,", ",3.45]
[{"$f":"Worksheet!D7","v":2},{"$f":"Worksheet!E7","v":0.01},{"$f":"IF(AND(Worksheet!$B$10,NOT(B7=1)),CHOOSE(RANDBETWEEN(1,5),1,2,5,RANDBETWEEN(1,5),5),1)","v":1},null,{"$f":"IF(Worksheet!$B$5=1,\"up\",IF(Worksheet!$B$5=2,\"down\",CHOOSE(RANDBETWEEN(1,2),\"up\",\"down\")))","v":"up"},{"$f":"RANDBETWEEN(IF(E7=\"down\",C7*B7*7,1),MAX(Worksheet!$B$9,C7*B7*7+1))","v":4},{"$f":"IF(Worksheet!$B$8<G$1,0,IF(AND($E7=\"up\",$A7=G$1),CHOOSE(RANDBETWEEN(1,4),7,6,8,0)*IF(C7=2,2,1),IF(AND($E7=\"down\",$A7=G$1),CHOOSE(RANDBETWEEN(1,4),3,2,0,4)*IF(C7=2,2,1),RANDBETWEEN(0,RANDBETWEEN(0,9)))))","v":0},{"$f":"IF(Worksheet!$B$8<H$1,0,IF(AND($E7=\"up\",$A7=H$1),CHOOSE(RANDBETWEEN(1,4),7,6,8,0)*IF(D7=2,2,1),IF(AND($E7=\"down\",$A7=H$1),CHOOSE(RANDBETWEEN(1,4),3,2,0,4)*IF(D7=2,2,1),RANDBETWEEN(0,RANDBETWEEN(0,9)))))","v":8},{"$f":"IF(Worksheet!$B$8<I$1,0,IF(AND($E7=\"up\",$A7=I$1),CHOOSE(RANDBETWEEN(1,4),7,6,8,0)*IF(E7=2,2,1),IF(AND($E7=\"down\",$A7=I$1),CHOOSE(RANDBETWEEN(1,4),3,2,0,4)*IF(E7=2,2,1),RANDBETWEEN(0,RANDBETWEEN(0,9)))))","v":0},{"$f":"IF(Worksheet!$B$8<J$1,0,IF(AND($E7=\"up\",$A7=J$1),CHOOSE(RANDBETWEEN(1,4),7,6,8,0)*IF(F7=2,2,1),IF(AND($E7=\"down\",$A7=J$1),CHOOSE(RANDBETWEEN(1,4),3,2,0,4)*IF(F7=2,2,1),RANDBETWEEN(0,RANDBETWEEN(0,9)))))","v":0},"f)",4.08,", ",4.09,", ",4.0999999999999996,", ",4.1099999999999994,", ",4.1199999999999992,", ",4.129999999999999,", ",4.1399999999999988]
[{"$f":"Worksheet!D8","v":1},{"$f":"Worksheet!E8","v":0.1},{"$f":"IF(AND(Worksheet!$B$10,NOT(B8=1)),CHOOSE(RANDBETWEEN(1,5),1,2,5,RANDBETWEEN(1,5),5),1)","v":1},null,{"$f":"IF(Worksheet!$B$5=1,\"up\",IF(Worksheet!$B$5=2,\"down\",CHOOSE(RANDBETWEEN(1,2),\"up\",\"down\")))","v":"up"},{"$f":"RANDBETWEEN(IF(E8=\"down\",C8*B8*7,1),MAX(Worksheet!$B$9,C8*B8*7+1))","v":4},{"$f":"IF(Worksheet!$B$8<G$1,0,IF(AND($E8=\"up\",$A8=G$1),CHOOSE(RANDBETWEEN(1,4),7,6,8,0)*IF(C8=2,2,1),IF(AND($E8=\"down\",$A8=G$1),CHOOSE(RANDBETWEEN(1,4),3,2,0,4)*IF(C8=2,2,1),RANDBETWEEN(0,RANDBETWEEN(0,9)))))","v":6},{"$f":"IF(Worksheet!$B$8<H$1,0,IF(AND($E8=\"up\",$A8=H$1),CHOOSE(RANDBETWEEN(1,4),7,6,8,0)*IF(D8=2,2,1),IF(AND($E8=\"down\",$A8=H$1),CHOOSE(RANDBETWEEN(1,4),3,2,0,4)*IF(D8=2,2,1),RANDBETWEEN(0,RANDBETWEEN(0,9)))))","v":3},{"$f":"IF(Worksheet!$B$8<I$1,0,IF(AND($E8=\"up\",$A8=I$1),CHOOSE(RANDBETWEEN(1,4),7,6,8,0)*IF(E8=2,2,1),IF(AND($E8=\"down\",$A8=I$1),CHOOSE(RANDBETWEEN(1,4),3,2,0,4)*IF(E8=2,2,1),RANDBETWEEN(0,RANDBETWEEN(0,9)))))","v":0},{"$f":"IF(Worksheet!$B$8<J$1,0,IF(AND($E8=\"up\",$A8=J$1),CHOOSE(RANDBETWEEN(1,4),7,6,8,0)*IF(F8=2,2,1),IF(AND($E8=\"down\",$A8=J$1),CHOOSE(RANDBETWEEN(1,4),3,2,0,4)*IF(F8=2,2,1),RANDBETWEEN(0,RANDBETWEEN(0,9)))))","v":0},"g)",4.63,", ",4.7299999999999995,", ",4.8299999999999992,", ",4.9299999999999988,", ",5.0299999999999985,", ",5.1299999999999981,", ",5.2299999999999978]
[{"$f":"Worksheet!D9","v":2},{"$f":"Worksheet!E9","v":0.01},{"$f":"IF(AND(Worksheet!$B$10,NOT(B9=1)),CHOOSE(RANDBETWEEN(1,5),1,2,5,RANDBETWEEN(1,5),5),1)","v":1},null,{"$f":"IF(Worksheet!$B$5=1,\"up\",IF(Worksheet!$B$5=2,\"down\",CHOOSE(RANDBETWEEN(1,2),\"up\",\"down\")))","v":"up"},{"$f":"RANDBETWEEN(IF(E9=\"down\",C9*B9*7,1),MAX(Worksheet!$B$9,C9*B9*7+1))","v":1},{"$f":"IF(Worksheet!$B$8<G$1,0,IF(AND($E9=\"up\",$A9=G$1),CHOOSE(RANDBETWEEN(1,4),7,6,8,0)*IF(C9=2,2,1),IF(AND($E9=\"down\",$A9=G$1),CHOOSE(RANDBETWEEN(1,4),3,2,0,4)*IF(C9=2,2,1),RANDBETWEEN(0,RANDBETWEEN(0,9)))))","v":0},{"$f":"IF(Worksheet!$B$8<H$1,0,IF(AND($E9=\"up\",$A9=H$1),CHOOSE(RANDBETWEEN(1,4),7,6,8,0)*IF(D9=2,2,1),IF(AND($E9=\"down\",$A9=H$1),CHOOSE(RANDBETWEEN(1,4),3,2,0,4)*IF(D9=2,2,1),RANDBETWEEN(0,RANDBETWEEN(0,9)))))","v":0},{"$f":"IF(Worksheet!$B$8<I$1,0,IF(AND($E9=\"up\",$A9=I$1),CHOOSE(RANDBETWEEN(1,4),7,6,8,0)*IF(E9=2,2,1),IF(AND($E9=\"down\",$A9=I$1),CHOOSE(RANDBETWEEN(1,4),3,2,0,4)*IF(E9=2,2,1),RANDBETWEEN(0,RANDBETWEEN(0,9)))))","v":0},{"$f":"IF(Worksheet!$B$8<J$1,0,IF(AND($E9=\"up\",$A9=J$1),CHOOSE(RANDBETWEEN(1,4),7,6,8,0)*IF(F9=2,2,1),IF(AND($E9=\"down\",$A9=J$1),CHOOSE(RANDBETWEEN(1,4),3,2,0,4)*IF(F9=2,2,1),RANDBETWEEN(0,RANDBETWEEN(0,9)))))","v":0},"h)",1,", ",1.01,", ",1.02,", ",1.03,", ",1.04,", ",1.05,", ",1.06]
[{"$f":"Worksheet!D10","v":1},{"$f":"Worksheet!E10","v":0.1},{"$f":"IF(AND(Worksheet!$B$10,NOT(B10=1)),CHOOSE(RANDBETWEEN(1,5),1,2,5,RANDBETWEEN(1,5),5),1)","v":1},null,{"$f":"IF(Worksheet!$B$5=1,\"up\",IF(Worksheet!$B$5=2,\"down\",CHOOSE(RANDBETWEEN(1,2),\"up\",\"down\")))","v":"up"},{"$f":"RANDBETWEEN(IF(E10=\"down\",C10*B10*7,1),MAX(Worksheet!$B$9,C10*B10*7+1))","v":1},{"$f":"IF(Worksheet!$B$8<G$1,0,IF(AND($E10=\"up\",$A10=G$1),CHOOSE(RANDBETWEEN(1,4),7,6,8,0)*IF(C10=2,2,1),IF(AND($E10=\"down\",$A10=G$1),CHOOSE(RANDBETWEEN(1,4),3,2,0,4)*IF(C10=2,2,1),RANDBETWEEN(0,RANDBETWEEN(0,9)))))","v":8},{"$f":"IF(Worksheet!$B$8<H$1,0,IF(AND($E10=\"up\",$A10=H$1),CHOOSE(RANDBETWEEN(1,4),7,6,8,0)*IF(D10=2,2,1),IF(AND($E10=\"down\",$A10=H$1),CHOOSE(RANDBETWEEN(1,4),3,2,0,4)*IF(D10=2,2,1),RANDBETWEEN(0,RANDBETWEEN(0,9)))))","v":6},{"$f":"IF(Worksheet!$B$8<I$1,0,IF(AND($E10=\"up\",$A10=I$1),CHOOSE(RANDBETWEEN(1,4),7,6,8,0)*IF(E10=2,2,1),IF(AND($E10=\"down\",$A10=I$1),CHOOSE(RANDBETWEEN(1,4),3,2,0,4)*IF(E10=2,2,1),RANDBETWEEN(0,RANDBETWEEN(0,9)))))","v":0},{"$f":"IF(Worksheet!$B$8<J$1,0,IF(AND($E10=\"up\",$A10=J$1),CHOOSE(RANDBETWEEN(1,4),7,6,8,0)*IF(F10=2,2,1),IF(AND($E10=\"down\",$A10=J$1),CHOOSE(RANDBETWEEN(1,4),3,2,0,4)*IF(F10=2,2,1),RANDBETWEEN(0,RANDBETWEEN(0,9)))))","v":0},"i)",1.86,", ",1.9600000000000002,", ",2.06,", ",2.16,", ",2.2600000000000002,", ",2.3600000000000003,", ",2.4600000000000004]
[{"$f":"Worksheet!D11","v":2},{"$f":"Worksheet!E11","v":0.01},{"$f":"IF(AND(Worksheet!$B$10,NOT(B11=1)),CHOOSE(RANDBETWEEN(1,5),1,2,5,RANDBETWEEN(1,5),5),1)","v":1},null,{"$f":"IF(Worksheet!$B$5=1,\"up\",IF(Worksheet!$B$5=2,\"down\",CHOOSE(RANDBETWEEN(1,2),\"up\",\"down\")))","v":"up"},{"$f":"RANDBETWEEN(IF(E11=\"down\",C11*B11*7,1),MAX(Worksheet!$B$9,C11*B11*7+1))","v":1},{"$f":"IF(Worksheet!$B$8<G$1,0,IF(AND($E11=\"up\",$A11=G$1),CHOOSE(RANDBETWEEN(1,4),7,6,8,0)*IF(C11=2,2,1),IF(AND($E11=\"down\",$A11=G$1),CHOOSE(RANDBETWEEN(1,4),3,2,0,4)*IF(C11=2,2,1),RANDBETWEEN(0,RANDBETWEEN(0,9)))))","v":1},{"$f":"IF(Worksheet!$B$8<H$1,0,IF(AND($E11=\"up\",$A11=H$1),CHOOSE(RANDBETWEEN(1,4),7,6,8,0)*IF(D11=2,2,1),IF(AND($E11=\"down\",$A11=H$1),CHOOSE(RANDBETWEEN(1,4),3,2,0,4)*IF(D11=2,2,1),RANDBETWEEN(0,RANDBETWEEN(0,9)))))","v":6},{"$f":"IF(Worksheet!$B$8<I$1,0,IF(AND($E11=\"up\",$A11=I$1),CHOOSE(RANDBETWEEN(1,4),7,6,8,0)*IF(E11=2,2,1),IF(AND($E11=\"down\",$A11=I$1),CHOOSE(RANDBETWEEN(1,4),3,2,0,4)*IF(E11=2,2,1),RANDBETWEEN(0,RANDBETWEEN(0,9)))))","v":0},{"$f":"IF(Worksheet!$B$8<J$1,0,IF(AND($E11=\"up\",$A11=J$1),CHOOSE(RANDBETWEEN(1,4),7,6,8,0)*IF(F11=2,2,1),IF(AND($E11=\"down\",$A11=J$1),CHOOSE(RANDBETWEEN(1,4),3,2,0,4)*IF(F11=2,2,1),RANDBETWEEN(0,RANDBETWEEN(0,9)))))","v":0},"j)",1.1600000000000001,", ",1.1700000000000002,", ",1.1800000000000002,", ",1.1900000000000002,", ",1.2000000000000002,", ",1.2100000000000002,", ",1.2200000000000002]
[{"$f":"Worksheet!D12","v":1},{"$f":"Worksheet!E12","v":0.1},{"$f":"IF(AND(Worksheet!$B$10,NOT(B12=1)),CHOOSE(RANDBETWEEN(1,5),1,2,5,RANDBETWEEN(1,5),5),1)","v":1},null,{"$f":"IF(Worksheet!$B$5=1,\"up\",IF(Worksheet!$B$5=2,\"down\",CHOOSE(RANDBETWEEN(1,2),\"up\",\"down\")))","v":"up"},{"$f":"RANDBETWEEN(IF(E12=\"down\",C12*B12*7,1),MAX(Worksheet!$B$9,C12*B12*7+1))","v":2},{"$f":"IF(Worksheet!$B$8<G$1,0,IF(AND($E12=\"up\",$A12=G$1),CHOOSE(RANDBETWEEN(1,4),7,6,8,0)*IF(C12=2,2,1),IF(AND($E12=\"down\",$A12=G$1),CHOOSE(RANDBETWEEN(1,4),3,2,0,4)*IF(C12=2,2,1),RANDBETWEEN(0,RANDBETWEEN(0,9)))))","v":0},{"$f":"IF(Worksheet!$B$8<H$1,0,IF(AND($E12=\"up\",$A12=H$1),CHOOSE(RANDBETWEEN(1,4),7,6,8,0)*IF(D12=2,2,1),IF(AND($E12=\"down\",$A12=H$1),CHOOSE(RANDBETWEEN(1,4),3,2,0,4)*IF(D12=2,2,1),RANDBETWEEN(0,RANDBETWEEN(0,9)))))","v":3},{"$f":"IF(Worksheet!$B$8<I$1,0,IF(AND($E12=\"up\",$A12=I$1),CHOOSE(RANDBETWEEN(1,4),7,6,8,0)*IF(E12=2,2,1),IF(AND($E12=\"down\",$A12=I$1),CHOOSE(RANDBETWEEN(1,4),3,2,0,4)*IF(E12=2,2,1),RANDBETWEEN(0,RANDBETWEEN(0,9)))))","v":0},{"$f":"IF(Worksheet!$B$8<J$1,0,IF(AND($E12=\"up\",$A12=J$1),CHOOSE(RANDBETWEEN(1,4),7,6,8,0)*IF(F12=2,2,1),IF(AND($E12=\"down\",$A12=J$1),CHOOSE(RANDBETWEEN(1,4),3,2,0,4)*IF(F12=2,2,1),RANDBETWEEN(0,RANDBETWEEN(0,9)))))","v":0},"k)",2.0299999999999998,", ",2.13,", ",2.23,", ",2.33,", ",2.4300000000000002,", ",2.5300000000000002,", ",2.6300000000000003]
[{"$f":"Worksheet!D13","v":2},{"$f":"Worksheet!E13","v":0.01},{"$f":"IF(AND(Worksheet!$B$10,NOT(B13=1)),CHOOSE(RANDBETWEEN(1,5),1,2,5,RANDBETWEEN(1,5),5),1)","v":1},null,{"$f":"IF(Worksheet!$B$5=1,\"up\",IF(Worksheet!$B$5=2,\"down\",CHOOSE(RANDBETWEEN(1,2),\"up\",\"down\")))","v":"up"},{"$f":"RANDBETWEEN(IF(E13=\"down\",C13*B13*7,1),MAX(Worksheet!$B$9,C13*B13*7+1))","v":2},{"$f":"IF(Worksheet!$B$8<G$1,0,IF(AND($E13=\"up\",$A13=G$1),CHOOSE(RANDBETWEEN(1,4),7,6,8,0)*IF(C13=2,2,1),IF(AND($E13=\"down\",$A13=G$1),CHOOSE(RANDBETWEEN(1,4),3,2,0,4)*IF(C13=2,2,1),RANDBETWEEN(0,RANDBETWEEN(0,9)))))","v":0},{"$f":"IF(Worksheet!$B$8<H$1,0,IF(AND($E13=\"up\",$A13=H$1),CHOOSE(RANDBETWEEN(1,4),7,6,8,0)*IF(D13=2,2,1),IF(AND($E13=\"down\",$A13=H$1),CHOOSE(RANDBETWEEN(1,4),3,2,0,4)*IF(D13=2,2,1),RANDBETWEEN(0,RANDBETWEEN(0,9)))))","v":6},{"$f":"IF(Worksheet!$B$8<I$1,0,IF(AND($E13=\"up\",$A13=I$1),CHOOSE(RANDBETWEEN(1,4),7,6,8,0)*IF(E13=2,2,1),IF(AND($E13=\"down\",$A13=I$1),CHOOSE(RANDBETWEEN(1,4),3,2,0,4)*IF(E13=2,2,1),RANDBETWEEN(0,RANDBETWEEN(0,9)))))","v":0},{"$f":"IF(Worksheet!$B$8<J$1,0,IF(AND($E13=\"up\",$A13=J$1),CHOOSE(RANDBETWEEN(1,4),7,6,8,0)*IF(F13=2,2,1),IF(AND($E13=\"down\",$A13=J$1),CHOOSE(RANDBETWEEN(1,4),3,2,0,4)*IF(F13=2,2,1),RANDBETWEEN(0,RANDBETWEEN(0,9)))))","v":0},"l)",2.06,", ",2.0699999999999998,", ",2.0799999999999996,", ",2.0899999999999994,", ",2.0999999999999992,", ",2.109999999999999,", ",2.1199999999999988]
[{"$f":"Worksheet!D14","v":1},{"$f":"Worksheet!E14","v":0.1},{"$f":"IF(AND(Worksheet!$B$10,NOT(B14=1)),CHOOSE(RANDBETWEEN(1,5),1,2,5,RANDBETWEEN(1,5),5),1)","v":1},null,{"$f":"IF(Worksheet!$B$5=1,\"up\",IF(Worksheet!$B$5=2,\"down\",CHOOSE(RANDBETWEEN(1,2),\"up\",\"down\")))","v":"up"},{"$f":"RANDBETWEEN(IF(E14=\"down\",C14*B14*7,1),MAX(Worksheet!$B$9,C14*B14*7+1))","v":4},{"$f":"IF(Worksheet!$B$8<G$1,0,IF(AND($E14=\"up\",$A14=G$1),CHOOSE(RANDBETWEEN(1,4),7,6,8,0)*IF(C14=2,2,1),IF(AND($E14=\"down\",$A14=G$1),CHOOSE(RANDBETWEEN(1,4),3,2,0,4)*IF(C14=2,2,1),RANDBETWEEN(0,RANDBETWEEN(0,9)))))","v":8},{"$f":"IF(Worksheet!$B$8<H$1,0,IF(AND($E14=\"up\",$A14=H$1),CHOOSE(RANDBETWEEN(1,4),7,6,8,0)*IF(D14=2,2,1),IF(AND($E14=\"down\",$A14=H$1),CHOOSE(RANDBETWEEN(1,4),3,2,0,4)*IF(D14=2,2,1),RANDBETWEEN(0,RANDBETWEEN(0,9)))))","v":0},{"$f":"IF(Worksheet!$B$8<I$1,0,IF(AND($E14=\"up\",$A14=I$1),CHOOSE(RANDBETWEEN(1,4),7,6,8,0)*IF(E14=2,2,1),IF(AND($E14=\"down\",$A14=I$1),CHOOSE(RANDBETWEEN(1,4),3,2,0,4)*IF(E14=2,2,1),RANDBETWEEN(0,RANDBETWEEN(0,9)))))","v":0},{"$f":"IF(Worksheet!$B$8<J$1,0,IF(AND($E14=\"up\",$A14=J$1),CHOOSE(RANDBETWEEN(1,4),7,6,8,0)*IF(F14=2,2,1),IF(AND($E14=\"down\",$A14=J$1),CHOOSE(RANDBETWEEN(1,4),3,2,0,4)*IF(F14=2,2,1),RANDBETWEEN(0,RANDBETWEEN(0,9)))))","v":0},"m)",4.8,", ",4.8999999999999995,", ",4.9999999999999991,", ",5.0999999999999988,", ",5.1999999999999984,", ",5.299999999999998,", ",5.3999999999999977]
[{"$f":"Worksheet!D15","v":2},{"$f":"Worksheet!E15","v":0.01},{"$f":"IF(AND(Worksheet!$B$10,NOT(B15=1)),CHOOSE(RANDBETWEEN(1,5),1,2,5,RANDBETWEEN(1,5),5),1)","v":1},null,{"$f":"IF(Worksheet!$B$5=1,\"up\",IF(Worksheet!$B$5=2,\"down\",CHOOSE(RANDBETWEEN(1,2),\"up\",\"down\")))","v":"up"},{"$f":"RANDBETWEEN(IF(E15=\"down\",C15*B15*7,1),MAX(Worksheet!$B$9,C15*B15*7+1))","v":5},{"$f":"IF(Worksheet!$B$8<G$1,0,IF(AND($E15=\"up\",$A15=G$1),CHOOSE(RANDBETWEEN(1,4),7,6,8,0)*IF(C15=2,2,1),IF(AND($E15=\"down\",$A15=G$1),CHOOSE(RANDBETWEEN(1,4),3,2,0,4)*IF(C15=2,2,1),RANDBETWEEN(0,RANDBETWEEN(0,9)))))","v":0},{"$f":"IF(Worksheet!$B$8<H$1,0,IF(AND($E15=\"up\",$A15=H$1),CHOOSE(RANDBETWEEN(1,4),7,6,8,0)*IF(D15=2,2,1),IF(AND($E15=\"down\",$A15=H$1),CHOOSE(RANDBETWEEN(1,4),3,2,0,4)*IF(D15=2,2,1),RANDBETWEEN(0,RANDBETWEEN(0,9)))))","v":8},{"$f":"IF(Worksheet!$B$8<I$1,0,IF(AND($E15=\"up\",$A15=I$1),CHOOSE(RANDBETWEEN(1,4),7,6,8,0)*IF(E15=2,2,1),IF(AND($E15=\"down\",$A15=I$1),CHOOSE(RANDBETWEEN(1,4),3,2,0,4)*IF(E15=2,2,1),RANDBETWEEN(0,RANDBETWEEN(0,9)))))","v":0},{"$f":"IF(Worksheet!$B$8<J$1,0,IF(AND($E15=\"up\",$A15=J$1),CHOOSE(RANDBETWEEN(1,4),7,6,8,0)*IF(F15=2,2,1),IF(AND($E15=\"down\",$A15=J$1),CHOOSE(RANDBETWEEN(1,4),3,2,0,4)*IF(F15=2,2,1),RANDBETWEEN(0,RANDBETWEEN(0,9)))))","v":0},"n)",5.08,", ",5.09,", ",5.0999999999999996,", ",5.1099999999999994,", ",5.1199999999999992,", ",5.129999999999999,", ",5.1399999999999988]