{"text_format":"1","workbook":"xlsx","n_sheets":2,"sheets":["Worksheet","SYSTEM FORMULAE"],"not_rendered":{"charts":0,"images":0,"macros":1,"external_links":0,"defined_names":2,"comments":0,"pivot_tables":0},"unopened":[],"bounds":{"document_bytes":16777216,"sheet_cells":100000,"rows_first":2000,"rows_last":500,"rows_between":2000,"halvings":0,"cell_chars":16384,"cell_head_chars":4096},"cells_cut":0,"cells_raw":0,"read":"whole","date_system":"1900"}

{"sheet":"Worksheet","index":0,"n_rows":21,"n_cols":8,"rows_kept":21,"cut":false,"hidden":false,"merged":[[1,0,1,1],[4,0,4,1],[0,2,0,7]]}
[null,null,"Expand the Brackets and Simplify"]
["Variables",null,1,"5(4y + 5) + 5(5y + 7)","12p + 14q",21,"5(8y + 6) + 5(3y + 2)","37g + 48"]
["SHOW ANSWERS",false,2,"5(3a + 8b) + 5(a + 5b)","5j + 25k",22,"3(8s + 1) + 2(2 – s)","14y + 10"]
["Number of questions (minimum 20, maximum 40)",40,3,"3(2p + 7q) + 4(6p – 5q)","7 + 39z",23,"4(4y + 8) + 3(5 – 3y)","28y + 59z"]
["Subsection",null,4,"4(a + 5b) + 2(5a + 6b)","45y + 28z",24,"5(6x + 6) + 2(8 – 7x)","-7y + 44z"]
["Maximum common factor",5,5,"2(18g + 3) + 4(1 – 9g)","36s + 34",25,"3(5s + 2) + 3(2s + 3)","45x + 24"]
["Allow negative coefficient in front of second bracket",false,6,"3(8y + 3z) + 2(y + 6z)","38a + 28",26,"3(5p + 2q) + 4(4p + q)","13x + 44y"]
["Allow negative coefficient in answer",true,7,"4(7p + 7q) + 3(q – 2p)","36x + 7",27,"5(3y + 4) + 2(2 + 3y)","21p + 18"]
["Just one bracket instead of two",false,8,"4(5g + 2h) + 5(g + 6h)","2g + 20",28,"5(y + 10z) + 4(5y – 9z)","35b + 60c"]
[null,null,9,"4(x + 5y) + 3(8y + 9x)","36y + 22",29,"2(2a + b) + 5(9a + 2b)","20b + 20c"]
[null,null,10,"3(2s + 3w) + 2(w + s)","11y + 40z",30,"3(2y + 4) + 3(4y – 3)","22a + 21"]
[null,null,11,"5(7a + 8b) + 5(5a + 4b)","10g + 20h",31,"4(3y + 7) + 4(1 + 5y)","20b + 12"]
[null,null,12,"3(3p + 3q) + 4(4p + q)","29y + 42",32,"2(x + 8) + 3(9 + 2x)","21x + 62"]
[null,null,13,"4(8g + 4) + 4(3g – 1)","22b  ",33,"4(2b + c) + 2(5b – c)","46s – 14"]
[null,null,14,"4(b + 7c) + 4(6c + b)","17g + 9",34,"3(p + 3q) + 4(9p – 2q)","-20b + 87c"]
[null,null,15,"3(2y + 5) + 5(10 + 7y)","18 + 6z",35,"5(8x + 8y) + 4(3y – 5x)","30s + 10"]
[null,null,15,"3(7x + 3) + 3(4 – 3x)","2s + 7",36,"4(4a + 4b) + 4(7b + 10a)","8x + 15y"]
[null,null,15,"4(7p + 7q) + 2(5p – 9q)","12 + 9z",37,"5(7y + 4) + 2(5y + 1)","10g + 29h"]
[null,null,15,"5(4x + y) + 4(8x – y)","34g + 26h",38,"2(y + 3) + 4(y + 8)","60x + 8y"]
[null,null,15,"4(5y + 1) + 5(9y + 2)","37b + 45c",39,"4(g + 2) + 4(2g + 5)","2x + 13y"]
[null,null,15,"2(3a + 6b) + 2(a – b)","50j + 21k",40,"3(4x + 6) + 2(3x – 2)","26a + 17b"]

{"sheet":"SYSTEM FORMULAE","index":1,"n_rows":28,"n_cols":67,"rows_kept":28,"cut":false,"hidden":false,"merged":[]}
[{"$f":"IF(ROW()<=Worksheet!$B$4/2,ROW(),\"\")","v":1},{"$f":"RANDBETWEEN(1,2)","v":1},{"$f":"RANDBETWEEN(1,20)","v":9},{"$f":"RANDBETWEEN(1,10)","v":4},{"$f":"RANDBETWEEN(1,10)","v":7},{"$f":"IF(-1*R1*IF($B1=1,T1,W1)/I1>0,CEILING((-1*R1*IF($B1=1,T1,W1)/I1),1),FLOOR((-1*R1*IF($B1=1,T1,W1)/I1),-1))","v":-4},{"$f":"IF(-1*R1*IF($B1=1,W1,T1)/I1>0,CEILING((-1*R1*IF($B1=1,W1,T1)/I1),1),FLOOR((-1*R1*IF($B1=1,W1,T1)/I1),-1))","v":7},null,{"$f":"RANDBETWEEN(2,Worksheet!$B$6)","v":3},"(",{"$f":"RANDBETWEEN(MAX(1,F1),MAX(IF(F1<8,8,F1+2)))","v":4},{"$f":"CHOOSE(C1,\"a\",\"b\",\"x\",\"y\",\"p\",\"s\",\"g\",\"j\",\"x\",\"y\",\"a\",\"b\",\"x\",\"y\",\"p\",\"s\",\"g\",\"\",\"x\",\"y\")","v":"x"},{"$f":"IF(N1<0,\"–\",\"+\")","v":"+"},{"$f":"RANDBETWEEN(MAX(1,G1),MAX(IF(G1<8,8,G1+2)))","v":8},{"$f":"CHOOSE(C1,\"b\",\"c\",\"y\",\"z\",\"q\",\"w\",\"h\",\"k\",\"y\",\"z\",\"\",\"\",\"\",\"\",\"\",\"\",\"\",\"z\",\"\",\"\")","v":"y"},")",{"$f":"IF(R1<0,\"–\",\"+\")","v":"+"},{"$f":"RANDBETWEEN(IF(Worksheet!$B$9,1,2),IF(Worksheet!$B$9,1,Worksheet!$B$6))*(-1)^RANDBETWEEN(IF(Worksheet!$B$7,1,2),2)","v":3},{"$f":"IF(Worksheet!$B$9,\"\",\"(\")","v":"("},{"$f":"IF(Worksheet!$B$9,IF(B1=1,0,VALUE(LEFT(TEXT(D1/E1,\"###/###\"),FIND(\"/\",TEXT(D1/E1,\"###/###\"))-1))),VALUE(LEFT(TEXT(D1/E1,\"###/###\"),FIND(\"/\",TEXT(D1/E1,\"###/###\"))-1)))","v":4},{"$f":"IF(B1=1,L1,O1)","v":"x"},{"$f":"IF(AND(Worksheet!$B$9,B1=1,R1=-1),IF(W1<0,\"+\",\"–\"),IF(W1<0,\"–\",\"+\"))","v":"–"},{"$f":"IF(Worksheet!$B$9,IF(B1=2,0,VALUE(RIGHT(TEXT(D1/E1,\"###/###\"),LEN(TEXT(D1/E1,\"###/###\"))-FIND(\"/\",TEXT(D1/E1,\"###/###\")))*(-1)^RANDBETWEEN(1,2))),VALUE(RIGHT(TEXT(D1/E1,\"###/###\"),LEN(TEXT(D1/E1,\"###/###\"))-FIND(\"/\",TEXT(D1/E1,\"###/###\")))*(-1)^RANDBETWEEN(1,2)))","v":-7},{"$f":"IF(U1=L1,O1,L1)","v":"y"},{"$f":"IF(Worksheet!$B$9,\"\",\")\")","v":")"},{"$f":"CONCATENATE(I1,J1,IF(AND(K1=1,NOT(L1=\"\")),\"\",K1),L1,\" \",M1,\" \",IF(AND(ABS(N1)=1,NOT(O1=\"\")),\"\",ABS(N1)),O1,P1,IF(AND(Worksheet!$B$9,B1=1),\"\",\" \"),IF(AND(Worksheet!$B$9,B1=1),\"\",Q1),IF(AND(Worksheet!$B$9,B1=1),\"\",\" \"),IF(ABS(R1)=1,\"\",ABS(R1)),S1,IF(AND(T1=1,NOT(U1=\"\")),\"\",IF(T1=0,\"\",T1)),IF(T1=0,\"\",U1),\" \",IF(W1=0,\"\",V1),\" \",IF(AND(ABS(W1)=1,NOT(X1=\"\")),\"\",IF(W1=0,\"\",ABS(W1))),IF(W1=0,\"\",X1),Y1)","v":"3(4x + 8y) + 3(4x – 7y)"},null,{"$f":"IF(IF(B1=1,I1*K1+R1*T1,I1*K1+R1*W1)=0,\"\",IF(B1=1,I1*K1+R1*T1,I1*K1+R1*W1))","v":24},{"$f":"IF(AB1=\"\",\"\",L1)","v":"x"},{"$f":"IF(AE1=0,\"\",IF(AE1<0,\"–\",\"+\"))","v":"+"},{"$f":"IF(IF(B1=1,I1*N1+R1*W1,I1*N1+R1*T1)=0,\"\",IF(B1=1,I1*N1+R1*W1,I1*N1+R1*T1))","v":3},{"$f":"IF(AE1=0,\"\",O1)","v":"y"},{"$f":"IF(TRIM(CONCATENATE(AB1,AC1,\" \",IF(AND(AB1=\"\",AC1=\"\"),\"\",IF(AE1=\"\",\"\",AD1)),\" \",IF(AE1=\"\",\"\",IF(AND(ABS(AE1)=1,NOT(AF1=\"\")),\"\",ABS(AE1))),IF(AE1=\"\",\"\",AF1)))=\"\",\"0\",CONCATENATE(AB1,AC1,\" \",IF(AND(AB1=\"\",AC1=\"\"),\"\",IF(AE1=\"\",\"\",AD1)),\" \",IF(AE1=\"\",\"\",IF(AND(ABS(AE1)=1,NOT(AF1=\"\")),\"\",ABS(AE1))),IF(AE1=\"\",\"\",AF1)))","v":"24x + 3y"},null,{"$f":"IF(ROW()<=Worksheet!$B$4/2,ROW()+MAX($A$1:$A$30),\"\")","v":21},{"$f":"RANDBETWEEN(1,2)","v":1},{"$f":"RANDBETWEEN(1,20)","v":7},{"$f":"RANDBETWEEN(1,10)","v":3},{"$f":"RANDBETWEEN(1,10)","v":10},{"$f":"IF(-1*AZ1*IF($B1=1,BB1,BE1)/AQ1>0,CEILING((-1*AZ1*IF($B1=1,BB1,BE1)/AQ1),1),FLOOR((-1*AZ1*IF($B1=1,BB1,BE1)/AQ1),-1))","v":-3},{"$f":"IF(-1*AZ1*IF($B1=1,BE1,BB1)/AQ1>0,CEILING((-1*AZ1*IF($B1=1,BE1,BB1)/AQ1),1),FLOOR((-1*AZ1*IF($B1=1,BE1,BB1)/AQ1),-1))","v":13},null,{"$f":"RANDBETWEEN(2,Worksheet!$B$6)","v":4},"(",{"$f":"RANDBETWEEN(MAX(1,AN1),MAX(IF(AN1<8,8,AN1+2)))","v":4},{"$f":"CHOOSE(AK1,\"a\",\"b\",\"x\",\"y\",\"p\",\"s\",\"g\",\"j\",\"x\",\"y\",\"a\",\"b\",\"x\",\"y\",\"p\",\"s\",\"g\",\"\",\"x\",\"y\")","v":"g"},{"$f":"IF(AV1<0,\"–\",\"+\")","v":"+"},{"$f":"RANDBETWEEN(MAX(1,AO1),MAX(IF(AO1<8,8,AO1+2)))","v":14},{"$f":"CHOOSE(AK1,\"b\",\"c\",\"y\",\"z\",\"q\",\"w\",\"h\",\"k\",\"y\",\"z\",\"\",\"\",\"\",\"\",\"\",\"\",\"\",\"z\",\"\",\"\")","v":"h"},")",{"$f":"IF(AZ1<0,\"–\",\"+\")","v":"+"},{"$f":"RANDBETWEEN(IF(Worksheet!$B$9,1,2),IF(Worksheet!$B$9,1,Worksheet!$B$6))*(-1)^RANDBETWEEN(IF(Worksheet!$B$7,1,2),2)","v":5},{"$f":"IF(Worksheet!$B$9,\"\",\"(\")","v":"("},{"$f":"IF(Worksheet!$B$9,IF(AJ1=1,0,VALUE(LEFT(TEXT(AL1/AM1,\"###/###\"),FIND(\"/\",TEXT(AL1/AM1,\"###/###\"))-1))),VALUE(LEFT(TEXT(AL1/AM1,\"###/###\"),FIND(\"/\",TEXT(AL1/AM1,\"###/###\"))-1)))","v":3},{"$f":"IF(AJ1=1,AT1,AW1)","v":"g"},{"$f":"IF(AND(Worksheet!$B$9,AJ1=1,AZ1=-1),IF(BE1<0,\"+\",\"–\"),IF(BE1<0,\"–\",\"+\"))","v":"–"},{"$f":"IF(Worksheet!$B$9,IF(AJ1=2,0,VALUE(RIGHT(TEXT(AL1/AM1,\"###/###\"),LEN(TEXT(AL1/AM1,\"###/###\"))-FIND(\"/\",TEXT(AL1/AM1,\"###/###\")))*(-1)^RANDBETWEEN(1,2))),VALUE(RIGHT(TEXT(AL1/AM1,\"###/###\"),LEN(TEXT(AL1/AM1,\"###/###\"))-FIND(\"/\",TEXT(AL1/AM1,\"###/###\")))*(-1)^RANDBETWEEN(1,2)))","v":-10},{"$f":"IF(BC1=AT1,AW1,AT1)","v":"h"},{"$f":"IF(Worksheet!$B$9,\"\",\")\")","v":")"},{"$f":"CONCATENATE(AQ1,AR1,IF(AND(AS1=1,NOT(AT1=\"\")),\"\",AS1),AT1,\" \",AU1,\" \",IF(AND(ABS(AV1)=1,NOT(AW1=\"\")),\"\",ABS(AV1)),AW1,AX1,IF(AND(Worksheet!$B$9,AJ1=1),\"\",\" \"),IF(AND(Worksheet!$B$9,AJ1=1),\"\",AY1),IF(AND(Worksheet!$B$9,AJ1=1),\"\",\" \"),IF(ABS(AZ1)=1,\"\",ABS(AZ1)),BA1,IF(AND(BB1=1,NOT(BC1=\"\")),\"\",IF(BB1=0,\"\",BB1)),IF(BB1=0,\"\",BC1),\" \",IF(BE1=0,\"\",BD1),\" \",IF(AND(ABS(BE1)=1,NOT(BF1=\"\")),\"\",IF(BE1=0,\"\",ABS(BE1))),IF(BE1=0,\"\",BF1),BG1)","v":"4(4g + 14h) + 5(3g – 10h)"},null,{"$f":"IF(IF(AJ1=1,AQ1*AS1+AZ1*BB1,AQ1*AS1+AZ1*BE1)=0,\"\",IF(AJ1=1,AQ1*AS1+AZ1*BB1,AQ1*AS1+AZ1*BE1))","v":31},{"$f":"IF(BJ1=\"\",\"\",AT1)","v":"g"},{"$f":"IF(BM1=0,\"\",IF(BM1<0,\"–\",\"+\"))","v":"+"},{"$f":"IF(IF(AJ1=1,AQ1*AV1+AZ1*BE1,AQ1*AV1+AZ1*BB1)=0,\"\",IF(AJ1=1,AQ1*AV1+AZ1*BE1,AQ1*AV1+AZ1*BB1))","v":6},{"$f":"IF(BM1=0,\"\",AW1)","v":"h"},{"$f":"IF(TRIM(CONCATENATE(BJ1,BK1,\" \",IF(AND(BJ1=\"\",BK1=\"\"),\"\",IF(BM1=\"\",\"\",BL1)),\" \",IF(BM1=\"\",\"\",IF(AND(ABS(BM1)=1,NOT(BN1=\"\")),\"\",ABS(BM1))),IF(BM1=\"\",\"\",BN1)))=\"\",\"0\",CONCATENATE(BJ1,BK1,\" \",IF(AND(BJ1=\"\",BK1=\"\"),\"\",IF(BM1=\"\",\"\",BL1)),\" \",IF(BM1=\"\",\"\",IF(AND(ABS(BM1)=1,NOT(BN1=\"\")),\"\",ABS(BM1))),IF(BM1=\"\",\"\",BN1)))","v":"31g + 6h"}]
[{"$f":"IF(ROW()<=Worksheet!$B$4/2,ROW(),\"\")","v":2},{"$f":"RANDBETWEEN(1,2)","v":1},{"$f":"RANDBETWEEN(1,20)","v":12},{"$f":"RANDBETWEEN(1,10)","v":3},4,{"$f":"IF(-1*R2*IF($B2=1,T2,W2)/I2>0,CEILING((-1*R2*IF($B2=1,T2,W2)/I2),1),FLOOR((-1*R2*IF($B2=1,T2,W2)/I2),-1))","v":-3},{"$f":"IF(-1*R2*IF($B2=1,W2,T2)/I2>0,CEILING((-1*R2*IF($B2=1,W2,T2)/I2),1),FLOOR((-1*R2*IF($B2=1,W2,T2)/I2),-1))","v":4},null,{"$f":"RANDBETWEEN(2,Worksheet!$B$6)","v":5},"(",{"$f":"RANDBETWEEN(MAX(1,F2),MAX(IF(F2<8,8,F2+2)))","v":2},{"$f":"CHOOSE(C2,\"a\",\"b\",\"x\",\"y\",\"p\",\"s\",\"g\",\"j\",\"x\",\"y\",\"a\",\"b\",\"x\",\"y\",\"p\",\"s\",\"g\",\"\",\"x\",\"y\")","v":"b"},{"$f":"IF(N2<0,\"–\",\"+\")","v":"+"},{"$f":"RANDBETWEEN(MAX(1,G2),MAX(IF(G2<8,8,G2+2)))","v":8},{"$f":"CHOOSE(C2,\"b\",\"c\",\"y\",\"z\",\"q\",\"w\",\"h\",\"k\",\"y\",\"z\",\"\",\"\",\"\",\"\",\"\",\"\",\"\",\"z\",\"\",\"\")","v":""},")",{"$f":"IF(R2<0,\"–\",\"+\")","v":"+"},{"$f":"RANDBETWEEN(IF(Worksheet!$B$9,1,2),IF(Worksheet!$B$9,1,Worksheet!$B$6))*(-1)^RANDBETWEEN(IF(Worksheet!$B$7,1,2),2)","v":5},{"$f":"IF(Worksheet!$B$9,\"\",\"(\")","v":"("},{"$f":"IF(Worksheet!$B$9,IF(B2=1,0,VALUE(LEFT(TEXT(D2/E2,\"###/###\"),FIND(\"/\",TEXT(D2/E2,\"###/###\"))-1))),VALUE(LEFT(TEXT(D2/E2,\"###/###\"),FIND(\"/\",TEXT(D2/E2,\"###/###\"))-1)))","v":3},{"$f":"IF(B2=1,L2,O2)","v":"b"},{"$f":"IF(AND(Worksheet!$B$9,B2=1,R2=-1),IF(W2<0,\"+\",\"–\"),IF(W2<0,\"–\",\"+\"))","v":"–"},{"$f":"IF(Worksheet!$B$9,IF(B2=2,0,VALUE(RIGHT(TEXT(D2/E2,\"###/###\"),LEN(TEXT(D2/E2,\"###/###\"))-FIND(\"/\",TEXT(D2/E2,\"###/###\")))*(-1)^RANDBETWEEN(1,2))),VALUE(RIGHT(TEXT(D2/E2,\"###/###\"),LEN(TEXT(D2/E2,\"###/###\"))-FIND(\"/\",TEXT(D2/E2,\"###/###\")))*(-1)^RANDBETWEEN(1,2)))","v":-4},{"$f":"IF(U2=L2,O2,L2)","v":""},{"$f":"IF(Worksheet!$B$9,\"\",\")\")","v":")"},{"$f":"CONCATENATE(I2,J2,IF(AND(K2=1,NOT(L2=\"\")),\"\",K2),L2,\" \",M2,\" \",IF(AND(ABS(N2)=1,NOT(O2=\"\")),\"\",ABS(N2)),O2,P2,IF(AND(Worksheet!$B$9,B2=1),\"\",\" \"),IF(AND(Worksheet!$B$9,B2=1),\"\",Q2),IF(AND(Worksheet!$B$9,B2=1),\"\",\" \"),IF(ABS(R2)=1,\"\",ABS(R2)),S2,IF(AND(T2=1,NOT(U2=\"\")),\"\",IF(T2=0,\"\",T2)),IF(T2=0,\"\",U2),\" \",IF(W2=0,\"\",V2),\" \",IF(AND(ABS(W2)=1,NOT(X2=\"\")),\"\",IF(W2=0,\"\",ABS(W2))),IF(W2=0,\"\",X2),Y2)","v":"5(2b + 8) + 5(3b – 4)"},null,{"$f":"IF(IF(B2=1,I2*K2+R2*T2,I2*K2+R2*W2)=0,\"\",IF(B2=1,I2*K2+R2*T2,I2*K2+R2*W2))","v":25},{"$f":"IF(AB2=\"\",\"\",L2)","v":"b"},{"$f":"IF(AE2=0,\"\",IF(AE2<0,\"–\",\"+\"))","v":"+"},{"$f":"IF(IF(B2=1,I2*N2+R2*W2,I2*N2+R2*T2)=0,\"\",IF(B2=1,I2*N2+R2*W2,I2*N2+R2*T2))","v":20},{"$f":"IF(AE2=0,\"\",O2)","v":""},{"$f":"IF(TRIM(CONCATENATE(AB2,AC2,\" \",IF(AND(AB2=\"\",AC2=\"\"),\"\",IF(AE2=\"\",\"\",AD2)),\" \",IF(AE2=\"\",\"\",IF(AND(ABS(AE2)=1,NOT(AF2=\"\")),\"\",ABS(AE2))),IF(AE2=\"\",\"\",AF2)))=\"\",\"0\",CONCATENATE(AB2,AC2,\" \",IF(AND(AB2=\"\",AC2=\"\"),\"\",IF(AE2=\"\",\"\",AD2)),\" \",IF(AE2=\"\",\"\",IF(AND(ABS(AE2)=1,NOT(AF2=\"\")),\"\",ABS(AE2))),IF(AE2=\"\",\"\",AF2)))","v":"25b + 20"},null,{"$f":"IF(ROW()<=Worksheet!$B$4/2,ROW()+MAX($A$1:$A$30),\"\")","v":22},{"$f":"RANDBETWEEN(1,2)","v":1},{"$f":"RANDBETWEEN(1,20)","v":12},{"$f":"RANDBETWEEN(1,10)","v":6},7,{"$f":"IF(-1*AZ2*IF($B2=1,BB2,BE2)/AQ2>0,CEILING((-1*AZ2*IF($B2=1,BB2,BE2)/AQ2),1),FLOOR((-1*AZ2*IF($B2=1,BB2,BE2)/AQ2),-1))","v":-12},{"$f":"IF(-1*AZ2*IF($B2=1,BE2,BB2)/AQ2>0,CEILING((-1*AZ2*IF($B2=1,BE2,BB2)/AQ2),1),FLOOR((-1*AZ2*IF($B2=1,BE2,BB2)/AQ2),-1))","v":14},null,{"$f":"RANDBETWEEN(2,Worksheet!$B$6)","v":2},"(",{"$f":"RANDBETWEEN(MAX(1,AN2),MAX(IF(AN2<8,8,AN2+2)))","v":7},{"$f":"CHOOSE(AK2,\"a\",\"b\",\"x\",\"y\",\"p\",\"s\",\"g\",\"j\",\"x\",\"y\",\"a\",\"b\",\"x\",\"y\",\"p\",\"s\",\"g\",\"\",\"x\",\"y\")","v":"b"},{"$f":"IF(AV2<0,\"–\",\"+\")","v":"+"},{"$f":"RANDBETWEEN(MAX(1,AO2),MAX(IF(AO2<8,8,AO2+2)))","v":15},{"$f":"CHOOSE(AK2,\"b\",\"c\",\"y\",\"z\",\"q\",\"w\",\"h\",\"k\",\"y\",\"z\",\"\",\"\",\"\",\"\",\"\",\"\",\"\",\"z\",\"\",\"\")","v":""},")",{"$f":"IF(AZ2<0,\"–\",\"+\")","v":"+"},{"$f":"RANDBETWEEN(IF(Worksheet!$B$9,1,2),IF(Worksheet!$B$9,1,Worksheet!$B$6))*(-1)^RANDBETWEEN(IF(Worksheet!$B$7,1,2),2)","v":4},{"$f":"IF(Worksheet!$B$9,\"\",\"(\")","v":"("},{"$f":"IF(Worksheet!$B$9,IF(AJ2=1,0,VALUE(LEFT(TEXT(AL2/AM2,\"###/###\"),FIND(\"/\",TEXT(AL2/AM2,\"###/###\"))-1))),VALUE(LEFT(TEXT(AL2/AM2,\"###/###\"),FIND(\"/\",TEXT(AL2/AM2,\"###/###\"))-1)))","v":6},{"$f":"IF(AJ2=1,AT2,AW2)","v":"b"},{"$f":"IF(AND(Worksheet!$B$9,AJ2=1,AZ2=-1),IF(BE2<0,\"+\",\"–\"),IF(BE2<0,\"–\",\"+\"))","v":"–"},{"$f":"IF(Worksheet!$B$9,IF(AJ2=2,0,VALUE(RIGHT(TEXT(AL2/AM2,\"###/###\"),LEN(TEXT(AL2/AM2,\"###/###\"))-FIND(\"/\",TEXT(AL2/AM2,\"###/###\")))*(-1)^RANDBETWEEN(1,2))),VALUE(RIGHT(TEXT(AL2/AM2,\"###/###\"),LEN(TEXT(AL2/AM2,\"###/###\"))-FIND(\"/\",TEXT(AL2/AM2,\"###/###\")))*(-1)^RANDBETWEEN(1,2)))","v":-7},{"$f":"IF(BC2=AT2,AW2,AT2)","v":""},{"$f":"IF(Worksheet!$B$9,\"\",\")\")","v":")"},{"$f":"CONCATENATE(AQ2,AR2,IF(AND(AS2=1,NOT(AT2=\"\")),\"\",AS2),AT2,\" \",AU2,\" \",IF(AND(ABS(AV2)=1,NOT(AW2=\"\")),\"\",ABS(AV2)),AW2,AX2,IF(AND(Worksheet!$B$9,AJ2=1),\"\",\" \"),IF(AND(Worksheet!$B$9,AJ2=1),\"\",AY2),IF(AND(Worksheet!$B$9,AJ2=1),\"\",\" \"),IF(ABS(AZ2)=1,\"\",ABS(AZ2)),BA2,IF(AND(BB2=1,NOT(BC2=\"\")),\"\",IF(BB2=0,\"\",BB2)),IF(BB2=0,\"\",BC2),\" \",IF(BE2=0,\"\",BD2),\" \",IF(AND(ABS(BE2)=1,NOT(BF2=\"\")),\"\",IF(BE2=0,\"\",ABS(BE2))),IF(BE2=0,\"\",BF2),BG2)","v":"2(7b + 15) + 4(6b – 7)"},null,{"$f":"IF(IF(AJ2=1,AQ2*AS2+AZ2*BB2,AQ2*AS2+AZ2*BE2)=0,\"\",IF(AJ2=1,AQ2*AS2+AZ2*BB2,AQ2*AS2+AZ2*BE2))","v":38},{"$f":"IF(BJ2=\"\",\"\",AT2)","v":"b"},{"$f":"IF(BM2=0,\"\",IF(BM2<0,\"–\",\"+\"))","v":"+"},{"$f":"IF(IF(AJ2=1,AQ2*AV2+AZ2*BE2,AQ2*AV2+AZ2*BB2)=0,\"\",IF(AJ2=1,AQ2*AV2+AZ2*BE2,AQ2*AV2+AZ2*BB2))","v":2},{"$f":"IF(BM2=0,\"\",AW2)","v":""},{"$f":"IF(TRIM(CONCATENATE(BJ2,BK2,\" \",IF(AND(BJ2=\"\",BK2=\"\"),\"\",IF(BM2=\"\",\"\",BL2)),\" \",IF(BM2=\"\",\"\",IF(AND(ABS(BM2)=1,NOT(BN2=\"\")),\"\",ABS(BM2))),IF(BM2=\"\",\"\",BN2)))=\"\",\"0\",CONCATENATE(BJ2,BK2,\" \",IF(AND(BJ2=\"\",BK2=\"\"),\"\",IF(BM2=\"\",\"\",BL2)),\" \",IF(BM2=\"\",\"\",IF(AND(ABS(BM2)=1,NOT(BN2=\"\")),\"\",ABS(BM2))),IF(BM2=\"\",\"\",BN2)))","v":"38b + 2"}]
[{"$f":"IF(ROW()<=Worksheet!$B$4/2,ROW(),\"\")","v":3},1,13,2,6,0,-1,null,{"$f":"RANDBETWEEN(2,Worksheet!$B$6)","v":4},"(",8,"x","+",5,"",")","+",{"$f":"RANDBETWEEN(IF(Worksheet!$B$9,1,2),IF(Worksheet!$B$9,1,Worksheet!$B$6))*(-1)^RANDBETWEEN(IF(Worksheet!$B$7,1,2),2)","v":2},{"$f":"IF(Worksheet!$B$9,\"\",\"(\")","v":"("},{"$f":"IF(Worksheet!$B$9,IF(B3=1,0,VALUE(LEFT(TEXT(D3/E3,\"###/###\"),FIND(\"/\",TEXT(D3/E3,\"###/###\"))-1))),VALUE(LEFT(TEXT(D3/E3,\"###/###\"),FIND(\"/\",TEXT(D3/E3,\"###/###\"))-1)))","v":1},"x",{"$f":"IF(AND(Worksheet!$B$9,B3=1,R3=-1),IF(W3<0,\"+\",\"–\"),IF(W3<0,\"–\",\"+\"))","v":"+"},{"$f":"IF(Worksheet!$B$9,IF(B3=2,0,VALUE(RIGHT(TEXT(D3/E3,\"###/###\"),LEN(TEXT(D3/E3,\"###/###\"))-FIND(\"/\",TEXT(D3/E3,\"###/###\")))*(-1)^RANDBETWEEN(1,2))),VALUE(RIGHT(TEXT(D3/E3,\"###/###\"),LEN(TEXT(D3/E3,\"###/###\"))-FIND(\"/\",TEXT(D3/E3,\"###/###\")))*(-1)^RANDBETWEEN(1,2)))","v":3},"",{"$f":"IF(Worksheet!$B$9,\"\",\")\")","v":")"},{"$f":"CONCATENATE(I3,J3,IF(AND(K3=1,NOT(L3=\"\")),\"\",K3),L3,\" \",M3,\" \",IF(AND(ABS(N3)=1,NOT(O3=\"\")),\"\",ABS(N3)),O3,P3,IF(AND(Worksheet!$B$9,B3=1),\"\",\" \"),IF(AND(Worksheet!$B$9,B3=1),\"\",Q3),IF(AND(Worksheet!$B$9,B3=1),\"\",\" \"),IF(ABS(R3)=1,\"\",ABS(R3)),S3,IF(AND(T3=1,NOT(U3=\"\")),\"\",IF(T3=0,\"\",T3)),IF(T3=0,\"\",U3),\" \",IF(W3=0,\"\",V3),\" \",IF(AND(ABS(W3)=1,NOT(X3=\"\")),\"\",IF(W3=0,\"\",ABS(W3))),IF(W3=0,\"\",X3),Y3)","v":"4(8x + 5) + 2(x + 3)"},null,34,"x","+",26,"","34x + 26",null,{"$f":"IF(ROW()<=Worksheet!$B$4/2,ROW()+MAX($A$1:$A$30),\"\")","v":23},1,5,1,1,-1,-1,null,{"$f":"RANDBETWEEN(2,Worksheet!$B$6)","v":2},"(",1,"p","+",8,"q",")","+",{"$f":"RANDBETWEEN(IF(Worksheet!$B$9,1,2),IF(Worksheet!$B$9,1,Worksheet!$B$6))*(-1)^RANDBETWEEN(IF(Worksheet!$B$7,1,2),2)","v":3},{"$f":"IF(Worksheet!$B$9,\"\",\"(\")","v":"("},{"$f":"IF(Worksheet!$B$9,IF(AJ3=1,0,VALUE(LEFT(TEXT(AL3/AM3,\"###/###\"),FIND(\"/\",TEXT(AL3/AM3,\"###/###\"))-1))),VALUE(LEFT(TEXT(AL3/AM3,\"###/###\"),FIND(\"/\",TEXT(AL3/AM3,\"###/###\"))-1)))","v":1},"p",{"$f":"IF(AND(Worksheet!$B$9,AJ3=1,AZ3=-1),IF(BE3<0,\"+\",\"–\"),IF(BE3<0,\"–\",\"+\"))","v":"+"},{"$f":"IF(Worksheet!$B$9,IF(AJ3=2,0,VALUE(RIGHT(TEXT(AL3/AM3,\"###/###\"),LEN(TEXT(AL3/AM3,\"###/###\"))-FIND(\"/\",TEXT(AL3/AM3,\"###/###\")))*(-1)^RANDBETWEEN(1,2))),VALUE(RIGHT(TEXT(AL3/AM3,\"###/###\"),LEN(TEXT(AL3/AM3,\"###/###\"))-FIND(\"/\",TEXT(AL3/AM3,\"###/###\")))*(-1)^RANDBETWEEN(1,2)))","v":1},"q",{"$f":"IF(Worksheet!$B$9,\"\",\")\")","v":")"},{"$f":"CONCATENATE(AQ3,AR3,IF(AND(AS3=1,NOT(AT3=\"\")),\"\",AS3),AT3,\" \",AU3,\" \",IF(AND(ABS(AV3)=1,NOT(AW3=\"\")),\"\",ABS(AV3)),AW3,AX3,IF(AND(Worksheet!$B$9,AJ3=1),\"\",\" \"),IF(AND(Worksheet!$B$9,AJ3=1),\"\",AY3),IF(AND(Worksheet!$B$9,AJ3=1),\"\",\" \"),IF(ABS(AZ3)=1,\"\",ABS(AZ3)),BA3,IF(AND(BB3=1,NOT(BC3=\"\")),\"\",IF(BB3=0,\"\",BB3)),IF(BB3=0,\"\",BC3),\" \",IF(BE3=0,\"\",BD3),\" \",IF(AND(ABS(BE3)=1,NOT(BF3=\"\")),\"\",IF(BE3=0,\"\",ABS(BE3))),IF(BE3=0,\"\",BF3),BG3)","v":"2(p + 8q) + 3(p + q)"},null,5,"p","+",19,"q","5p + 19q"]
[{"$f":"IF(ROW()<=Worksheet!$B$4/2,ROW(),\"\")","v":4},2,11,5,8,4,-2,null,{"$f":"RANDBETWEEN(2,Worksheet!$B$6)","v":5},"(",8,"a","+",7,"",")","+",{"$f":"RANDBETWEEN(IF(Worksheet!$B$9,1,2),IF(Worksheet!$B$9,1,Worksheet!$B$6))*(-1)^RANDBETWEEN(IF(Worksheet!$B$7,1,2),2)","v":2},{"$f":"IF(Worksheet!$B$9,\"\",\"(\")","v":"("},{"$f":"IF(Worksheet!$B$9,IF(B4=1,0,VALUE(LEFT(TEXT(D4/E4,\"###/###\"),FIND(\"/\",TEXT(D4/E4,\"###/###\"))-1))),VALUE(LEFT(TEXT(D4/E4,\"###/###\"),FIND(\"/\",TEXT(D4/E4,\"###/###\"))-1)))","v":5},"",{"$f":"IF(AND(Worksheet!$B$9,B4=1,R4=-1),IF(W4<0,\"+\",\"–\"),IF(W4<0,\"–\",\"+\"))","v":"–"},{"$f":"IF(Worksheet!$B$9,IF(B4=2,0,VALUE(RIGHT(TEXT(D4/E4,\"###/###\"),LEN(TEXT(D4/E4,\"###/###\"))-FIND(\"/\",TEXT(D4/E4,\"###/###\")))*(-1)^RANDBETWEEN(1,2))),VALUE(RIGHT(TEXT(D4/E4,\"###/###\"),LEN(TEXT(D4/E4,\"###/###\"))-FIND(\"/\",TEXT(D4/E4,\"###/###\")))*(-1)^RANDBETWEEN(1,2)))","v":-8},"a",{"$f":"IF(Worksheet!$B$9,\"\",\")\")","v":")"},{"$f":"CONCATENATE(I4,J4,IF(AND(K4=1,NOT(L4=\"\")),\"\",K4),L4,\" \",M4,\" \",IF(AND(ABS(N4)=1,NOT(O4=\"\")),\"\",ABS(N4)),O4,P4,IF(AND(Worksheet!$B$9,B4=1),\"\",\" \"),IF(AND(Worksheet!$B$9,B4=1),\"\",Q4),IF(AND(Worksheet!$B$9,B4=1),\"\",\" \"),IF(ABS(R4)=1,\"\",ABS(R4)),S4,IF(AND(T4=1,NOT(U4=\"\")),\"\",IF(T4=0,\"\",T4)),IF(T4=0,\"\",U4),\" \",IF(W4=0,\"\",V4),\" \",IF(AND(ABS(W4)=1,NOT(X4=\"\")),\"\",IF(W4=0,\"\",ABS(W4))),IF(W4=0,\"\",X4),Y4)","v":"5(8a + 7) + 2(5 – 8a)"},null,24,"a","+",45,"","24a + 45",null,{"$f":"IF(ROW()<=Worksheet!$B$4/2,ROW()+MAX($A$1:$A$30),\"\")","v":24},2,5,7,1,-1,-7,null,{"$f":"RANDBETWEEN(2,Worksheet!$B$6)","v":3},"(",6,"p","+",7,"q",")","+",{"$f":"RANDBETWEEN(IF(Worksheet!$B$9,1,2),IF(Worksheet!$B$9,1,Worksheet!$B$6))*(-1)^RANDBETWEEN(IF(Worksheet!$B$7,1,2),2)","v":3},{"$f":"IF(Worksheet!$B$9,\"\",\"(\")","v":"("},{"$f":"IF(Worksheet!$B$9,IF(AJ4=1,0,VALUE(LEFT(TEXT(AL4/AM4,\"###/###\"),FIND(\"/\",TEXT(AL4/AM4,\"###/###\"))-1))),VALUE(LEFT(TEXT(AL4/AM4,\"###/###\"),FIND(\"/\",TEXT(AL4/AM4,\"###/###\"))-1)))","v":7},"q",{"$f":"IF(AND(Worksheet!$B$9,AJ4=1,AZ4=-1),IF(BE4<0,\"+\",\"–\"),IF(BE4<0,\"–\",\"+\"))","v":"+"},{"$f":"IF(Worksheet!$B$9,IF(AJ4=2,0,VALUE(RIGHT(TEXT(AL4/AM4,\"###/###\"),LEN(TEXT(AL4/AM4,\"###/###\"))-FIND(\"/\",TEXT(AL4/AM4,\"###/###\")))*(-1)^RANDBETWEEN(1,2))),VALUE(RIGHT(TEXT(AL4/AM4,\"###/###\"),LEN(TEXT(AL4/AM4,\"###/###\"))-FIND(\"/\",TEXT(AL4/AM4,\"###/###\")))*(-1)^RANDBETWEEN(1,2)))","v":1},"p",{"$f":"IF(Worksheet!$B$9,\"\",\")\")","v":")"},{"$f":"CONCATENATE(AQ4,AR4,IF(AND(AS4=1,NOT(AT4=\"\")),\"\",AS4),AT4,\" \",AU4,\" \",IF(AND(ABS(AV4)=1,NOT(AW4=\"\")),\"\",ABS(AV4)),AW4,AX4,IF(AND(Worksheet!$B$9,AJ4=1),\"\",\" \"),IF(AND(Worksheet!$B$9,AJ4=1),\"\",AY4),IF(AND(Worksheet!$B$9,AJ4=1),\"\",\" \"),IF(ABS(AZ4)=1,\"\",ABS(AZ4)),BA4,IF(AND(BB4=1,NOT(BC4=\"\")),\"\",IF(BB4=0,\"\",BB4)),IF(BB4=0,\"\",BC4),\" \",IF(BE4=0,\"\",BD4),\" \",IF(AND(ABS(BE4)=1,NOT(BF4=\"\")),\"\",IF(BE4=0,\"\",ABS(BE4))),IF(BE4=0,\"\",BF4),BG4)","v":"3(6p + 7q) + 3(7q + p)"},null,21,"p","+",42,"q","21p + 42q"]
[{"$f":"IF(ROW()<=Worksheet!$B$4/2,ROW(),\"\")","v":5},2,17,7,8,-8,-7,null,{"$f":"RANDBETWEEN(2,Worksheet!$B$6)","v":2},"(",6,"g","+",1,"",")","+",{"$f":"RANDBETWEEN(IF(Worksheet!$B$9,1,2),IF(Worksheet!$B$9,1,Worksheet!$B$6))*(-1)^RANDBETWEEN(IF(Worksheet!$B$7,1,2),2)","v":2},{"$f":"IF(Worksheet!$B$9,\"\",\"(\")","v":"("},{"$f":"IF(Worksheet!$B$9,IF(B5=1,0,VALUE(LEFT(TEXT(D5/E5,\"###/###\"),FIND(\"/\",TEXT(D5/E5,\"###/###\"))-1))),VALUE(LEFT(TEXT(D5/E5,\"###/###\"),FIND(\"/\",TEXT(D5/E5,\"###/###\"))-1)))","v":7},"",{"$f":"IF(AND(Worksheet!$B$9,B5=1,R5=-1),IF(W5<0,\"+\",\"–\"),IF(W5<0,\"–\",\"+\"))","v":"+"},{"$f":"IF(Worksheet!$B$9,IF(B5=2,0,VALUE(RIGHT(TEXT(D5/E5,\"###/###\"),LEN(TEXT(D5/E5,\"###/###\"))-FIND(\"/\",TEXT(D5/E5,\"###/###\")))*(-1)^RANDBETWEEN(1,2))),VALUE(RIGHT(TEXT(D5/E5,\"###/###\"),LEN(TEXT(D5/E5,\"###/###\"))-FIND(\"/\",TEXT(D5/E5,\"###/###\")))*(-1)^RANDBETWEEN(1,2)))","v":8},"g",{"$f":"IF(Worksheet!$B$9,\"\",\")\")","v":")"},{"$f":"CONCATENATE(I5,J5,IF(AND(K5=1,NOT(L5=\"\")),\"\",K5),L5,\" \",M5,\" \",IF(AND(ABS(N5)=1,NOT(O5=\"\")),\"\",ABS(N5)),O5,P5,IF(AND(Worksheet!$B$9,B5=1),\"\",\" \"),IF(AND(Worksheet!$B$9,B5=1),\"\",Q5),IF(AND(Worksheet!$B$9,B5=1),\"\",\" \"),IF(ABS(R5)=1,\"\",ABS(R5)),S5,IF(AND(T5=1,NOT(U5=\"\")),\"\",IF(T5=0,\"\",T5)),IF(T5=0,\"\",U5),\" \",IF(W5=0,\"\",V5),\" \",IF(AND(ABS(W5)=1,NOT(X5=\"\")),\"\",IF(W5=0,\"\",ABS(W5))),IF(W5=0,\"\",X5),Y5)","v":"2(6g + 1) + 2(7 + 8g)"},null,28,"g","+",16,"","28g + 16",null,{"$f":"IF(ROW()<=Worksheet!$B$4/2,ROW()+MAX($A$1:$A$30),\"\")","v":25},1,15,9,10,-4,-3,null,{"$f":"RANDBETWEEN(2,Worksheet!$B$6)","v":5},"(",6,"p","+",1,"",")","+",{"$f":"RANDBETWEEN(IF(Worksheet!$B$9,1,2),IF(Worksheet!$B$9,1,Worksheet!$B$6))*(-1)^RANDBETWEEN(IF(Worksheet!$B$7,1,2),2)","v":2},{"$f":"IF(Worksheet!$B$9,\"\",\"(\")","v":"("},{"$f":"IF(Worksheet!$B$9,IF(AJ5=1,0,VALUE(LEFT(TEXT(AL5/AM5,\"###/###\"),FIND(\"/\",TEXT(AL5/AM5,\"###/###\"))-1))),VALUE(LEFT(TEXT(AL5/AM5,\"###/###\"),FIND(\"/\",TEXT(AL5/AM5,\"###/###\"))-1)))","v":9},"p",{"$f":"IF(AND(Worksheet!$B$9,AJ5=1,AZ5=-1),IF(BE5<0,\"+\",\"–\"),IF(BE5<0,\"–\",\"+\"))","v":"+"},{"$f":"IF(Worksheet!$B$9,IF(AJ5=2,0,VALUE(RIGHT(TEXT(AL5/AM5,\"###/###\"),LEN(TEXT(AL5/AM5,\"###/###\"))-FIND(\"/\",TEXT(AL5/AM5,\"###/###\")))*(-1)^RANDBETWEEN(1,2))),VALUE(RIGHT(TEXT(AL5/AM5,\"###/###\"),LEN(TEXT(AL5/AM5,\"###/###\"))-FIND(\"/\",TEXT(AL5/AM5,\"###/###\")))*(-1)^RANDBETWEEN(1,2)))","v":10},"",{"$f":"IF(Worksheet!$B$9,\"\",\")\")","v":")"},{"$f":"CONCATENATE(AQ5,AR5,IF(AND(AS5=1,NOT(AT5=\"\")),\"\",AS5),AT5,\" \",AU5,\" \",IF(AND(ABS(AV5)=1,NOT(AW5=\"\")),\"\",ABS(AV5)),AW5,AX5,IF(AND(Worksheet!$B$9,AJ5=1),\"\",\" \"),IF(AND(Worksheet!$B$9,AJ5=1),\"\",AY5),IF(AND(Worksheet!$B$9,AJ5=1),\"\",\" \"),IF(ABS(AZ5)=1,\"\",ABS(AZ5)),BA5,IF(AND(BB5=1,NOT(BC5=\"\")),\"\",IF(BB5=0,\"\",BB5)),IF(BB5=0,\"\",BC5),\" \",IF(BE5=0,\"\",BD5),\" \",IF(AND(ABS(BE5)=1,NOT(BF5=\"\")),\"\",IF(BE5=0,\"\",ABS(BE5))),IF(BE5=0,\"\",BF5),BG5)","v":"5(6p + 1) + 2(9p + 10)"},null,48,"p","+",25,"","48p + 25"]
[{"$f":"IF(ROW()<=Worksheet!$B$4/2,ROW(),\"\")","v":6},2,4,7,2,4,-14,null,{"$f":"RANDBETWEEN(2,Worksheet!$B$6)","v":2},"(",7,"y","+",4,"z",")","+",{"$f":"RANDBETWEEN(IF(Worksheet!$B$9,1,2),IF(Worksheet!$B$9,1,Worksheet!$B$6))*(-1)^RANDBETWEEN(IF(Worksheet!$B$7,1,2),2)","v":4},{"$f":"IF(Worksheet!$B$9,\"\",\"(\")","v":"("},{"$f":"IF(Worksheet!$B$9,IF(B6=1,0,VALUE(LEFT(TEXT(D6/E6,\"###/###\"),FIND(\"/\",TEXT(D6/E6,\"###/###\"))-1))),VALUE(LEFT(TEXT(D6/E6,\"###/###\"),FIND(\"/\",TEXT(D6/E6,\"###/###\"))-1)))","v":7},"z",{"$f":"IF(AND(Worksheet!$B$9,B6=1,R6=-1),IF(W6<0,\"+\",\"–\"),IF(W6<0,\"–\",\"+\"))","v":"–"},{"$f":"IF(Worksheet!$B$9,IF(B6=2,0,VALUE(RIGHT(TEXT(D6/E6,\"###/###\"),LEN(TEXT(D6/E6,\"###/###\"))-FIND(\"/\",TEXT(D6/E6,\"###/###\")))*(-1)^RANDBETWEEN(1,2))),VALUE(RIGHT(TEXT(D6/E6,\"###/###\"),LEN(TEXT(D6/E6,\"###/###\"))-FIND(\"/\",TEXT(D6/E6,\"###/###\")))*(-1)^RANDBETWEEN(1,2)))","v":-2},"y",{"$f":"IF(Worksheet!$B$9,\"\",\")\")","v":")"},{"$f":"CONCATENATE(I6,J6,IF(AND(K6=1,NOT(L6=\"\")),\"\",K6),L6,\" \",M6,\" \",IF(AND(ABS(N6)=1,NOT(O6=\"\")),\"\",ABS(N6)),O6,P6,IF(AND(Worksheet!$B$9,B6=1),\"\",\" \"),IF(AND(Worksheet!$B$9,B6=1),\"\",Q6),IF(AND(Worksheet!$B$9,B6=1),\"\",\" \"),IF(ABS(R6)=1,\"\",ABS(R6)),S6,IF(AND(T6=1,NOT(U6=\"\")),\"\",IF(T6=0,\"\",T6)),IF(T6=0,\"\",U6),\" \",IF(W6=0,\"\",V6),\" \",IF(AND(ABS(W6)=1,NOT(X6=\"\")),\"\",IF(W6=0,\"\",ABS(W6))),IF(W6=0,\"\",X6),Y6)","v":"2(7y + 4z) + 4(7z – 2y)"},null,6,"y","+",36,"z","6y + 36z",null,{"$f":"IF(ROW()<=Worksheet!$B$4/2,ROW()+MAX($A$1:$A$30),\"\")","v":26},1,6,9,1,-1,-11,null,{"$f":"RANDBETWEEN(2,Worksheet!$B$6)","v":4},"(",8,"s","+",2,"w",")","+",{"$f":"RANDBETWEEN(IF(Worksheet!$B$9,1,2),IF(Worksheet!$B$9,1,Worksheet!$B$6))*(-1)^RANDBETWEEN(IF(Worksheet!$B$7,1,2),2)","v":5},{"$f":"IF(Worksheet!$B$9,\"\",\"(\")","v":"("},{"$f":"IF(Worksheet!$B$9,IF(AJ6=1,0,VALUE(LEFT(TEXT(AL6/AM6,\"###/###\"),FIND(\"/\",TEXT(AL6/AM6,\"###/###\"))-1))),VALUE(LEFT(TEXT(AL6/AM6,\"###/###\"),FIND(\"/\",TEXT(AL6/AM6,\"###/###\"))-1)))","v":9},"s",{"$f":"IF(AND(Worksheet!$B$9,AJ6=1,AZ6=-1),IF(BE6<0,\"+\",\"–\"),IF(BE6<0,\"–\",\"+\"))","v":"+"},{"$f":"IF(Worksheet!$B$9,IF(AJ6=2,0,VALUE(RIGHT(TEXT(AL6/AM6,\"###/###\"),LEN(TEXT(AL6/AM6,\"###/###\"))-FIND(\"/\",TEXT(AL6/AM6,\"###/###\")))*(-1)^RANDBETWEEN(1,2))),VALUE(RIGHT(TEXT(AL6/AM6,\"###/###\"),LEN(TEXT(AL6/AM6,\"###/###\"))-FIND(\"/\",TEXT(AL6/AM6,\"###/###\")))*(-1)^RANDBETWEEN(1,2)))","v":1},"w",{"$f":"IF(Worksheet!$B$9,\"\",\")\")","v":")"},{"$f":"CONCATENATE(AQ6,AR6,IF(AND(AS6=1,NOT(AT6=\"\")),\"\",AS6),AT6,\" \",AU6,\" \",IF(AND(ABS(AV6)=1,NOT(AW6=\"\")),\"\",ABS(AV6)),AW6,AX6,IF(AND(Worksheet!$B$9,AJ6=1),\"\",\" \"),IF(AND(Worksheet!$B$9,AJ6=1),\"\",AY6),IF(AND(Worksheet!$B$9,AJ6=1),\"\",\" \"),IF(ABS(AZ6)=1,\"\",ABS(AZ6)),BA6,IF(AND(BB6=1,NOT(BC6=\"\")),\"\",IF(BB6=0,\"\",BB6)),IF(BB6=0,\"\",BC6),\" \",IF(BE6=0,\"\",BD6),\" \",IF(AND(ABS(BE6)=1,NOT(BF6=\"\")),\"\",IF(BE6=0,\"\",ABS(BE6))),IF(BE6=0,\"\",BF6),BG6)","v":"4(8s + 2w) + 5(9s + w)"},null,77,"s","+",13,"w","77s + 13w"]
[{"$f":"IF(ROW()<=Worksheet!$B$4/2,ROW(),\"\")","v":7},2,19,3,8,10,-3,null,{"$f":"RANDBETWEEN(2,Worksheet!$B$6)","v":4},"(",10,"x","+",4,"",")","+",{"$f":"RANDBETWEEN(IF(Worksheet!$B$9,1,2),IF(Worksheet!$B$9,1,Worksheet!$B$6))*(-1)^RANDBETWEEN(IF(Worksheet!$B$7,1,2),2)","v":5},{"$f":"IF(Worksheet!$B$9,\"\",\"(\")","v":"("},{"$f":"IF(Worksheet!$B$9,IF(B7=1,0,VALUE(LEFT(TEXT(D7/E7,\"###/###\"),FIND(\"/\",TEXT(D7/E7,\"###/###\"))-1))),VALUE(LEFT(TEXT(D7/E7,\"###/###\"),FIND(\"/\",TEXT(D7/E7,\"###/###\"))-1)))","v":3},"",{"$f":"IF(AND(Worksheet!$B$9,B7=1,R7=-1),IF(W7<0,\"+\",\"–\"),IF(W7<0,\"–\",\"+\"))","v":"–"},{"$f":"IF(Worksheet!$B$9,IF(B7=2,0,VALUE(RIGHT(TEXT(D7/E7,\"###/###\"),LEN(TEXT(D7/E7,\"###/###\"))-FIND(\"/\",TEXT(D7/E7,\"###/###\")))*(-1)^RANDBETWEEN(1,2))),VALUE(RIGHT(TEXT(D7/E7,\"###/###\"),LEN(TEXT(D7/E7,\"###/###\"))-FIND(\"/\",TEXT(D7/E7,\"###/###\")))*(-1)^RANDBETWEEN(1,2)))","v":-8},"x",{"$f":"IF(Worksheet!$B$9,\"\",\")\")","v":")"},{"$f":"CONCATENATE(I7,J7,IF(AND(K7=1,NOT(L7=\"\")),\"\",K7),L7,\" \",M7,\" \",IF(AND(ABS(N7)=1,NOT(O7=\"\")),\"\",ABS(N7)),O7,P7,IF(AND(Worksheet!$B$9,B7=1),\"\",\" \"),IF(AND(Worksheet!$B$9,B7=1),\"\",Q7),IF(AND(Worksheet!$B$9,B7=1),\"\",\" \"),IF(ABS(R7)=1,\"\",ABS(R7)),S7,IF(AND(T7=1,NOT(U7=\"\")),\"\",IF(T7=0,\"\",T7)),IF(T7=0,\"\",U7),\" \",IF(W7=0,\"\",V7),\" \",IF(AND(ABS(W7)=1,NOT(X7=\"\")),\"\",IF(W7=0,\"\",ABS(W7))),IF(W7=0,\"\",X7),Y7)","v":"4(10x + 4) + 5(3 – 8x)"},null,"","","+",31,"","  31",null,{"$f":"IF(ROW()<=Worksheet!$B$4/2,ROW()+MAX($A$1:$A$30),\"\")","v":27},1,1,6,1,-1,-6,null,{"$f":"RANDBETWEEN(2,Worksheet!$B$6)","v":4},"(",8,"a","+",1,"b",")","+",{"$f":"RANDBETWEEN(IF(Worksheet!$B$9,1,2),IF(Worksheet!$B$9,1,Worksheet!$B$6))*(-1)^RANDBETWEEN(IF(Worksheet!$B$7,1,2),2)","v":4},{"$f":"IF(Worksheet!$B$9,\"\",\"(\")","v":"("},{"$f":"IF(Worksheet!$B$9,IF(AJ7=1,0,VALUE(LEFT(TEXT(AL7/AM7,\"###/###\"),FIND(\"/\",TEXT(AL7/AM7,\"###/###\"))-1))),VALUE(LEFT(TEXT(AL7/AM7,\"###/###\"),FIND(\"/\",TEXT(AL7/AM7,\"###/###\"))-1)))","v":6},"a",{"$f":"IF(AND(Worksheet!$B$9,AJ7=1,AZ7=-1),IF(BE7<0,\"+\",\"–\"),IF(BE7<0,\"–\",\"+\"))","v":"+"},{"$f":"IF(Worksheet!$B$9,IF(AJ7=2,0,VALUE(RIGHT(TEXT(AL7/AM7,\"###/###\"),LEN(TEXT(AL7/AM7,\"###/###\"))-FIND(\"/\",TEXT(AL7/AM7,\"###/###\")))*(-1)^RANDBETWEEN(1,2))),VALUE(RIGHT(TEXT(AL7/AM7,\"###/###\"),LEN(TEXT(AL7/AM7,\"###/###\"))-FIND(\"/\",TEXT(AL7/AM7,\"###/###\")))*(-1)^RANDBETWEEN(1,2)))","v":1},"b",{"$f":"IF(Worksheet!$B$9,\"\",\")\")","v":")"},{"$f":"CONCATENATE(AQ7,AR7,IF(AND(AS7=1,NOT(AT7=\"\")),\"\",AS7),AT7,\" \",AU7,\" \",IF(AND(ABS(AV7)=1,NOT(AW7=\"\")),\"\",ABS(AV7)),AW7,AX7,IF(AND(Worksheet!$B$9,AJ7=1),\"\",\" \"),IF(AND(Worksheet!$B$9,AJ7=1),\"\",AY7),IF(AND(Worksheet!$B$9,AJ7=1),\"\",\" \"),IF(ABS(AZ7)=1,\"\",ABS(AZ7)),BA7,IF(AND(BB7=1,NOT(BC7=\"\")),\"\",IF(BB7=0,\"\",BB7)),IF(BB7=0,\"\",BC7),\" \",IF(BE7=0,\"\",BD7),\" \",IF(AND(ABS(BE7)=1,NOT(BF7=\"\")),\"\",IF(BE7=0,\"\",ABS(BE7))),IF(BE7=0,\"\",BF7),BG7)","v":"4(8a + b) + 4(6a + b)"},null,56,"a","+",8,"b","56a + 8b"]
[{"$f":"IF(ROW()<=Worksheet!$B$4/2,ROW(),\"\")","v":8},1,1,4,9,-8,-18,null,{"$f":"RANDBETWEEN(2,Worksheet!$B$6)","v":2},"(",2,"a","+",5,"b",")","+",{"$f":"RANDBETWEEN(IF(Worksheet!$B$9,1,2),IF(Worksheet!$B$9,1,Worksheet!$B$6))*(-1)^RANDBETWEEN(IF(Worksheet!$B$7,1,2),2)","v":4},{"$f":"IF(Worksheet!$B$9,\"\",\"(\")","v":"("},{"$f":"IF(Worksheet!$B$9,IF(B8=1,0,VALUE(LEFT(TEXT(D8/E8,\"###/###\"),FIND(\"/\",TEXT(D8/E8,\"###/###\"))-1))),VALUE(LEFT(TEXT(D8/E8,\"###/###\"),FIND(\"/\",TEXT(D8/E8,\"###/###\"))-1)))","v":4},"a",{"$f":"IF(AND(Worksheet!$B$9,B8=1,R8=-1),IF(W8<0,\"+\",\"–\"),IF(W8<0,\"–\",\"+\"))","v":"+"},{"$f":"IF(Worksheet!$B$9,IF(B8=2,0,VALUE(RIGHT(TEXT(D8/E8,\"###/###\"),LEN(TEXT(D8/E8,\"###/###\"))-FIND(\"/\",TEXT(D8/E8,\"###/###\")))*(-1)^RANDBETWEEN(1,2))),VALUE(RIGHT(TEXT(D8/E8,\"###/###\"),LEN(TEXT(D8/E8,\"###/###\"))-FIND(\"/\",TEXT(D8/E8,\"###/###\")))*(-1)^RANDBETWEEN(1,2)))","v":9},"b",{"$f":"IF(Worksheet!$B$9,\"\",\")\")","v":")"},{"$f":"CONCATENATE(I8,J8,IF(AND(K8=1,NOT(L8=\"\")),\"\",K8),L8,\" \",M8,\" \",IF(AND(ABS(N8)=1,NOT(O8=\"\")),\"\",ABS(N8)),O8,P8,IF(AND(Worksheet!$B$9,B8=1),\"\",\" \"),IF(AND(Worksheet!$B$9,B8=1),\"\",Q8),IF(AND(Worksheet!$B$9,B8=1),\"\",\" \"),IF(ABS(R8)=1,\"\",ABS(R8)),S8,IF(AND(T8=1,NOT(U8=\"\")),\"\",IF(T8=0,\"\",T8)),IF(T8=0,\"\",U8),\" \",IF(W8=0,\"\",V8),\" \",IF(AND(ABS(W8)=1,NOT(X8=\"\")),\"\",IF(W8=0,\"\",ABS(W8))),IF(W8=0,\"\",X8),Y8)","v":"2(2a + 5b) + 4(4a + 9b)"},null,20,"a","+",46,"b","20a + 46b",null,{"$f":"IF(ROW()<=Worksheet!$B$4/2,ROW()+MAX($A$1:$A$30),\"\")","v":28},1,17,3,4,-6,-8,null,{"$f":"RANDBETWEEN(2,Worksheet!$B$6)","v":2},"(",6,"g","+",4,"",")","+",{"$f":"RANDBETWEEN(IF(Worksheet!$B$9,1,2),IF(Worksheet!$B$9,1,Worksheet!$B$6))*(-1)^RANDBETWEEN(IF(Worksheet!$B$7,1,2),2)","v":4},{"$f":"IF(Worksheet!$B$9,\"\",\"(\")","v":"("},{"$f":"IF(Worksheet!$B$9,IF(AJ8=1,0,VALUE(LEFT(TEXT(AL8/AM8,\"###/###\"),FIND(\"/\",TEXT(AL8/AM8,\"###/###\"))-1))),VALUE(LEFT(TEXT(AL8/AM8,\"###/###\"),FIND(\"/\",TEXT(AL8/AM8,\"###/###\"))-1)))","v":3},"g",{"$f":"IF(AND(Worksheet!$B$9,AJ8=1,AZ8=-1),IF(BE8<0,\"+\",\"–\"),IF(BE8<0,\"–\",\"+\"))","v":"+"},{"$f":"IF(Worksheet!$B$9,IF(AJ8=2,0,VALUE(RIGHT(TEXT(AL8/AM8,\"###/###\"),LEN(TEXT(AL8/AM8,\"###/###\"))-FIND(\"/\",TEXT(AL8/AM8,\"###/###\")))*(-1)^RANDBETWEEN(1,2))),VALUE(RIGHT(TEXT(AL8/AM8,\"###/###\"),LEN(TEXT(AL8/AM8,\"###/###\"))-FIND(\"/\",TEXT(AL8/AM8,\"###/###\")))*(-1)^RANDBETWEEN(1,2)))","v":4},"",{"$f":"IF(Worksheet!$B$9,\"\",\")\")","v":")"},{"$f":"CONCATENATE(AQ8,AR8,IF(AND(AS8=1,NOT(AT8=\"\")),\"\",AS8),AT8,\" \",AU8,\" \",IF(AND(ABS(AV8)=1,NOT(AW8=\"\")),\"\",ABS(AV8)),AW8,AX8,IF(AND(Worksheet!$B$9,AJ8=1),\"\",\" \"),IF(AND(Worksheet!$B$9,AJ8=1),\"\",AY8),IF(AND(Worksheet!$B$9,AJ8=1),\"\",\" \"),IF(ABS(AZ8)=1,\"\",ABS(AZ8)),BA8,IF(AND(BB8=1,NOT(BC8=\"\")),\"\",IF(BB8=0,\"\",BB8)),IF(BB8=0,\"\",BC8),\" \",IF(BE8=0,\"\",BD8),\" \",IF(AND(ABS(BE8)=1,NOT(BF8=\"\")),\"\",IF(BE8=0,\"\",ABS(BE8))),IF(BE8=0,\"\",BF8),BG8)","v":"2(6g + 4) + 4(3g + 4)"},null,24,"g","+",24,"","24g + 24"]
[{"$f":"IF(ROW()<=Worksheet!$B$4/2,ROW(),\"\")","v":9},1,7,4,6,-5,-7,null,{"$f":"RANDBETWEEN(2,Worksheet!$B$6)","v":2},"(",4,"g","+",3,"h",")","+",{"$f":"RANDBETWEEN(IF(Worksheet!$B$9,1,2),IF(Worksheet!$B$9,1,Worksheet!$B$6))*(-1)^RANDBETWEEN(IF(Worksheet!$B$7,1,2),2)","v":5},{"$f":"IF(Worksheet!$B$9,\"\",\"(\")","v":"("},{"$f":"IF(Worksheet!$B$9,IF(B9=1,0,VALUE(LEFT(TEXT(D9/E9,\"###/###\"),FIND(\"/\",TEXT(D9/E9,\"###/###\"))-1))),VALUE(LEFT(TEXT(D9/E9,\"###/###\"),FIND(\"/\",TEXT(D9/E9,\"###/###\"))-1)))","v":2},"g",{"$f":"IF(AND(Worksheet!$B$9,B9=1,R9=-1),IF(W9<0,\"+\",\"–\"),IF(W9<0,\"–\",\"+\"))","v":"+"},{"$f":"IF(Worksheet!$B$9,IF(B9=2,0,VALUE(RIGHT(TEXT(D9/E9,\"###/###\"),LEN(TEXT(D9/E9,\"###/###\"))-FIND(\"/\",TEXT(D9/E9,\"###/###\")))*(-1)^RANDBETWEEN(1,2))),VALUE(RIGHT(TEXT(D9/E9,\"###/###\"),LEN(TEXT(D9/E9,\"###/###\"))-FIND(\"/\",TEXT(D9/E9,\"###/###\")))*(-1)^RANDBETWEEN(1,2)))","v":3},"h",{"$f":"IF(Worksheet!$B$9,\"\",\")\")","v":")"},{"$f":"CONCATENATE(I9,J9,IF(AND(K9=1,NOT(L9=\"\")),\"\",K9),L9,\" \",M9,\" \",IF(AND(ABS(N9)=1,NOT(O9=\"\")),\"\",ABS(N9)),O9,P9,IF(AND(Worksheet!$B$9,B9=1),\"\",\" \"),IF(AND(Worksheet!$B$9,B9=1),\"\",Q9),IF(AND(Worksheet!$B$9,B9=1),\"\",\" \"),IF(ABS(R9)=1,\"\",ABS(R9)),S9,IF(AND(T9=1,NOT(U9=\"\")),\"\",IF(T9=0,\"\",T9)),IF(T9=0,\"\",U9),\" \",IF(W9=0,\"\",V9),\" \",IF(AND(ABS(W9)=1,NOT(X9=\"\")),\"\",IF(W9=0,\"\",ABS(W9))),IF(W9=0,\"\",X9),Y9)","v":"2(4g + 3h) + 5(2g + 3h)"},null,18,"g","+",21,"h","18g + 21h",null,{"$f":"IF(ROW()<=Worksheet!$B$4/2,ROW()+MAX($A$1:$A$30),\"\")","v":29},1,17,6,6,0,1,null,{"$f":"RANDBETWEEN(2,Worksheet!$B$6)","v":5},"(",2,"g","+",8,"",")","+",{"$f":"RANDBETWEEN(IF(Worksheet!$B$9,1,2),IF(Worksheet!$B$9,1,Worksheet!$B$6))*(-1)^RANDBETWEEN(IF(Worksheet!$B$7,1,2),2)","v":4},{"$f":"IF(Worksheet!$B$9,\"\",\"(\")","v":"("},{"$f":"IF(Worksheet!$B$9,IF(AJ9=1,0,VALUE(LEFT(TEXT(AL9/AM9,\"###/###\"),FIND(\"/\",TEXT(AL9/AM9,\"###/###\"))-1))),VALUE(LEFT(TEXT(AL9/AM9,\"###/###\"),FIND(\"/\",TEXT(AL9/AM9,\"###/###\"))-1)))","v":1},"g",{"$f":"IF(AND(Worksheet!$B$9,AJ9=1,AZ9=-1),IF(BE9<0,\"+\",\"–\"),IF(BE9<0,\"–\",\"+\"))","v":"–"},{"$f":"IF(Worksheet!$B$9,IF(AJ9=2,0,VALUE(RIGHT(TEXT(AL9/AM9,\"###/###\"),LEN(TEXT(AL9/AM9,\"###/###\"))-FIND(\"/\",TEXT(AL9/AM9,\"###/###\")))*(-1)^RANDBETWEEN(1,2))),VALUE(RIGHT(TEXT(AL9/AM9,\"###/###\"),LEN(TEXT(AL9/AM9,\"###/###\"))-FIND(\"/\",TEXT(AL9/AM9,\"###/###\")))*(-1)^RANDBETWEEN(1,2)))","v":-1},"",{"$f":"IF(Worksheet!$B$9,\"\",\")\")","v":")"},{"$f":"CONCATENATE(AQ9,AR9,IF(AND(AS9=1,NOT(AT9=\"\")),\"\",AS9),AT9,\" \",AU9,\" \",IF(AND(ABS(AV9)=1,NOT(AW9=\"\")),\"\",ABS(AV9)),AW9,AX9,IF(AND(Worksheet!$B$9,AJ9=1),\"\",\" \"),IF(AND(Worksheet!$B$9,AJ9=1),\"\",AY9),IF(AND(Worksheet!$B$9,AJ9=1),\"\",\" \"),IF(ABS(AZ9)=1,\"\",ABS(AZ9)),BA9,IF(AND(BB9=1,NOT(BC9=\"\")),\"\",IF(BB9=0,\"\",BB9)),IF(BB9=0,\"\",BC9),\" \",IF(BE9=0,\"\",BD9),\" \",IF(AND(ABS(BE9)=1,NOT(BF9=\"\")),\"\",IF(BE9=0,\"\",ABS(BE9))),IF(BE9=0,\"\",BF9),BG9)","v":"5(2g + 8) + 4(g – 1)"},null,14,"g","+",36,"","14g + 36"]
[{"$f":"IF(ROW()<=Worksheet!$B$4/2,ROW(),\"\")","v":10},1,14,7,10,-7,-10,null,{"$f":"RANDBETWEEN(2,Worksheet!$B$6)","v":3},"(",2,"y","+",8,"",")","+",{"$f":"RANDBETWEEN(IF(Worksheet!$B$9,1,2),IF(Worksheet!$B$9,1,Worksheet!$B$6))*(-1)^RANDBETWEEN(IF(Worksheet!$B$7,1,2),2)","v":3},{"$f":"IF(Worksheet!$B$9,\"\",\"(\")","v":"("},{"$f":"IF(Worksheet!$B$9,IF(B10=1,0,VALUE(LEFT(TEXT(D10/E10,\"###/###\"),FIND(\"/\",TEXT(D10/E10,\"###/###\"))-1))),VALUE(LEFT(TEXT(D10/E10,\"###/###\"),FIND(\"/\",TEXT(D10/E10,\"###/###\"))-1)))","v":7},"y",{"$f":"IF(AND(Worksheet!$B$9,B10=1,R10=-1),IF(W10<0,\"+\",\"–\"),IF(W10<0,\"–\",\"+\"))","v":"+"},{"$f":"IF(Worksheet!$B$9,IF(B10=2,0,VALUE(RIGHT(TEXT(D10/E10,\"###/###\"),LEN(TEXT(D10/E10,\"###/###\"))-FIND(\"/\",TEXT(D10/E10,\"###/###\")))*(-1)^RANDBETWEEN(1,2))),VALUE(RIGHT(TEXT(D10/E10,\"###/###\"),LEN(TEXT(D10/E10,\"###/###\"))-FIND(\"/\",TEXT(D10/E10,\"###/###\")))*(-1)^RANDBETWEEN(1,2)))","v":10},"",{"$f":"IF(Worksheet!$B$9,\"\",\")\")","v":")"},{"$f":"CONCATENATE(I10,J10,IF(AND(K10=1,NOT(L10=\"\")),\"\",K10),L10,\" \",M10,\" \",IF(AND(ABS(N10)=1,NOT(O10=\"\")),\"\",ABS(N10)),O10,P10,IF(AND(Worksheet!$B$9,B10=1),\"\",\" \"),IF(AND(Worksheet!$B$9,B10=1),\"\",Q10),IF(AND(Worksheet!$B$9,B10=1),\"\",\" \"),IF(ABS(R10)=1,\"\",ABS(R10)),S10,IF(AND(T10=1,NOT(U10=\"\")),\"\",IF(T10=0,\"\",T10)),IF(T10=0,\"\",U10),\" \",IF(W10=0,\"\",V10),\" \",IF(AND(ABS(W10)=1,NOT(X10=\"\")),\"\",IF(W10=0,\"\",ABS(W10))),IF(W10=0,\"\",X10),Y10)","v":"3(2y + 8) + 3(7y + 10)"},null,27,"y","+",54,"","27y + 54",null,{"$f":"IF(ROW()<=Worksheet!$B$4/2,ROW()+MAX($A$1:$A$30),\"\")","v":30},1,9,6,8,-4,6,null,{"$f":"RANDBETWEEN(2,Worksheet!$B$6)","v":3},"(",3,"x","+",6,"y",")","+",{"$f":"RANDBETWEEN(IF(Worksheet!$B$9,1,2),IF(Worksheet!$B$9,1,Worksheet!$B$6))*(-1)^RANDBETWEEN(IF(Worksheet!$B$7,1,2),2)","v":4},{"$f":"IF(Worksheet!$B$9,\"\",\"(\")","v":"("},{"$f":"IF(Worksheet!$B$9,IF(AJ10=1,0,VALUE(LEFT(TEXT(AL10/AM10,\"###/###\"),FIND(\"/\",TEXT(AL10/AM10,\"###/###\"))-1))),VALUE(LEFT(TEXT(AL10/AM10,\"###/###\"),FIND(\"/\",TEXT(AL10/AM10,\"###/###\"))-1)))","v":3},"x",{"$f":"IF(AND(Worksheet!$B$9,AJ10=1,AZ10=-1),IF(BE10<0,\"+\",\"–\"),IF(BE10<0,\"–\",\"+\"))","v":"–"},{"$f":"IF(Worksheet!$B$9,IF(AJ10=2,0,VALUE(RIGHT(TEXT(AL10/AM10,\"###/###\"),LEN(TEXT(AL10/AM10,\"###/###\"))-FIND(\"/\",TEXT(AL10/AM10,\"###/###\")))*(-1)^RANDBETWEEN(1,2))),VALUE(RIGHT(TEXT(AL10/AM10,\"###/###\"),LEN(TEXT(AL10/AM10,\"###/###\"))-FIND(\"/\",TEXT(AL10/AM10,\"###/###\")))*(-1)^RANDBETWEEN(1,2)))","v":-4},"y",{"$f":"IF(Worksheet!$B$9,\"\",\")\")","v":")"},{"$f":"CONCATENATE(AQ10,AR10,IF(AND(AS10=1,NOT(AT10=\"\")),\"\",AS10),AT10,\" \",AU10,\" \",IF(AND(ABS(AV10)=1,NOT(AW10=\"\")),\"\",ABS(AV10)),AW10,AX10,IF(AND(Worksheet!$B$9,AJ10=1),\"\",\" \"),IF(AND(Worksheet!$B$9,AJ10=1),\"\",AY10),IF(AND(Worksheet!$B$9,AJ10=1),\"\",\" \"),IF(ABS(AZ10)=1,\"\",ABS(AZ10)),BA10,IF(AND(BB10=1,NOT(BC10=\"\")),\"\",IF(BB10=0,\"\",BB10)),IF(BB10=0,\"\",BC10),\" \",IF(BE10=0,\"\",BD10),\" \",IF(AND(ABS(BE10)=1,NOT(BF10=\"\")),\"\",IF(BE10=0,\"\",ABS(BE10))),IF(BE10=0,\"\",BF10),BG10)","v":"3(3x + 6y) + 4(3x – 4y)"},null,21,"x","+",2,"y","21x + 2y"]
[{"$f":"IF(ROW()<=Worksheet!$B$4/2,ROW(),\"\")","v":11},2,19,2,6,5,-1,null,{"$f":"RANDBETWEEN(2,Worksheet!$B$6)","v":2},"(",8,"x","+",3,"",")","+",{"$f":"RANDBETWEEN(IF(Worksheet!$B$9,1,2),IF(Worksheet!$B$9,1,Worksheet!$B$6))*(-1)^RANDBETWEEN(IF(Worksheet!$B$7,1,2),2)","v":3},{"$f":"IF(Worksheet!$B$9,\"\",\"(\")","v":"("},{"$f":"IF(Worksheet!$B$9,IF(B11=1,0,VALUE(LEFT(TEXT(D11/E11,\"###/###\"),FIND(\"/\",TEXT(D11/E11,\"###/###\"))-1))),VALUE(LEFT(TEXT(D11/E11,\"###/###\"),FIND(\"/\",TEXT(D11/E11,\"###/###\"))-1)))","v":1},"",{"$f":"IF(AND(Worksheet!$B$9,B11=1,R11=-1),IF(W11<0,\"+\",\"–\"),IF(W11<0,\"–\",\"+\"))","v":"–"},{"$f":"IF(Worksheet!$B$9,IF(B11=2,0,VALUE(RIGHT(TEXT(D11/E11,\"###/###\"),LEN(TEXT(D11/E11,\"###/###\"))-FIND(\"/\",TEXT(D11/E11,\"###/###\")))*(-1)^RANDBETWEEN(1,2))),VALUE(RIGHT(TEXT(D11/E11,\"###/###\"),LEN(TEXT(D11/E11,\"###/###\"))-FIND(\"/\",TEXT(D11/E11,\"###/###\")))*(-1)^RANDBETWEEN(1,2)))","v":-3},"x",{"$f":"IF(Worksheet!$B$9,\"\",\")\")","v":")"},{"$f":"CONCATENATE(I11,J11,IF(AND(K11=1,NOT(L11=\"\")),\"\",K11),L11,\" \",M11,\" \",IF(AND(ABS(N11)=1,NOT(O11=\"\")),\"\",ABS(N11)),O11,P11,IF(AND(Worksheet!$B$9,B11=1),\"\",\" \"),IF(AND(Worksheet!$B$9,B11=1),\"\",Q11),IF(AND(Worksheet!$B$9,B11=1),\"\",\" \"),IF(ABS(R11)=1,\"\",ABS(R11)),S11,IF(AND(T11=1,NOT(U11=\"\")),\"\",IF(T11=0,\"\",T11)),IF(T11=0,\"\",U11),\" \",IF(W11=0,\"\",V11),\" \",IF(AND(ABS(W11)=1,NOT(X11=\"\")),\"\",IF(W11=0,\"\",ABS(W11))),IF(W11=0,\"\",X11),Y11)","v":"2(8x + 3) + 3(1 – 3x)"},null,7,"x","+",9,"","7x + 9",null,{"$f":"IF(ROW()<=Worksheet!$B$4/2,ROW()+MAX($A$1:$A$30),\"\")","v":31},1,3,9,7,6,-6,null,{"$f":"RANDBETWEEN(2,Worksheet!$B$6)","v":4},"(",6,"x","+",4,"y",")","+",{"$f":"RANDBETWEEN(IF(Worksheet!$B$9,1,2),IF(Worksheet!$B$9,1,Worksheet!$B$6))*(-1)^RANDBETWEEN(IF(Worksheet!$B$7,1,2),2)","v":3},{"$f":"IF(Worksheet!$B$9,\"\",\"(\")","v":"("},{"$f":"IF(Worksheet!$B$9,IF(AJ11=1,0,VALUE(LEFT(TEXT(AL11/AM11,\"###/###\"),FIND(\"/\",TEXT(AL11/AM11,\"###/###\"))-1))),VALUE(LEFT(TEXT(AL11/AM11,\"###/###\"),FIND(\"/\",TEXT(AL11/AM11,\"###/###\"))-1)))","v":9},"x",{"$f":"IF(AND(Worksheet!$B$9,AJ11=1,AZ11=-1),IF(BE11<0,\"+\",\"–\"),IF(BE11<0,\"–\",\"+\"))","v":"–"},{"$f":"IF(Worksheet!$B$9,IF(AJ11=2,0,VALUE(RIGHT(TEXT(AL11/AM11,\"###/###\"),LEN(TEXT(AL11/AM11,\"###/###\"))-FIND(\"/\",TEXT(AL11/AM11,\"###/###\")))*(-1)^RANDBETWEEN(1,2))),VALUE(RIGHT(TEXT(AL11/AM11,\"###/###\"),LEN(TEXT(AL11/AM11,\"###/###\"))-FIND(\"/\",TEXT(AL11/AM11,\"###/###\")))*(-1)^RANDBETWEEN(1,2)))","v":-7},"y",{"$f":"IF(Worksheet!$B$9,\"\",\")\")","v":")"},{"$f":"CONCATENATE(AQ11,AR11,IF(AND(AS11=1,NOT(AT11=\"\")),\"\",AS11),AT11,\" \",AU11,\" \",IF(AND(ABS(AV11)=1,NOT(AW11=\"\")),\"\",ABS(AV11)),AW11,AX11,IF(AND(Worksheet!$B$9,AJ11=1),\"\",\" \"),IF(AND(Worksheet!$B$9,AJ11=1),\"\",AY11),IF(AND(Worksheet!$B$9,AJ11=1),\"\",\" \"),IF(ABS(AZ11)=1,\"\",ABS(AZ11)),BA11,IF(AND(BB11=1,NOT(BC11=\"\")),\"\",IF(BB11=0,\"\",BB11)),IF(BB11=0,\"\",BC11),\" \",IF(BE11=0,\"\",BD11),\" \",IF(AND(ABS(BE11)=1,NOT(BF11=\"\")),\"\",IF(BE11=0,\"\",ABS(BE11))),IF(BE11=0,\"\",BF11),BG11)","v":"4(6x + 4y) + 3(9x – 7y)"},null,51,"x","–",-5,"y","51x – 5y"]
[{"$f":"IF(ROW()<=Worksheet!$B$4/2,ROW(),\"\")","v":12},1,2,5,3,-10,6,null,{"$f":"RANDBETWEEN(2,Worksheet!$B$6)","v":2},"(",1,"b","+",7,"c",")","+",{"$f":"RANDBETWEEN(IF(Worksheet!$B$9,1,2),IF(Worksheet!$B$9,1,Worksheet!$B$6))*(-1)^RANDBETWEEN(IF(Worksheet!$B$7,1,2),2)","v":4},{"$f":"IF(Worksheet!$B$9,\"\",\"(\")","v":"("},{"$f":"IF(Worksheet!$B$9,IF(B12=1,0,VALUE(LEFT(TEXT(D12/E12,\"###/###\"),FIND(\"/\",TEXT(D12/E12,\"###/###\"))-1))),VALUE(LEFT(TEXT(D12/E12,\"###/###\"),FIND(\"/\",TEXT(D12/E12,\"###/###\"))-1)))","v":5},"b",{"$f":"IF(AND(Worksheet!$B$9,B12=1,R12=-1),IF(W12<0,\"+\",\"–\"),IF(W12<0,\"–\",\"+\"))","v":"–"},{"$f":"IF(Worksheet!$B$9,IF(B12=2,0,VALUE(RIGHT(TEXT(D12/E12,\"###/###\"),LEN(TEXT(D12/E12,\"###/###\"))-FIND(\"/\",TEXT(D12/E12,\"###/###\")))*(-1)^RANDBETWEEN(1,2))),VALUE(RIGHT(TEXT(D12/E12,\"###/###\"),LEN(TEXT(D12/E12,\"###/###\"))-FIND(\"/\",TEXT(D12/E12,\"###/###\")))*(-1)^RANDBETWEEN(1,2)))","v":-3},"c",{"$f":"IF(Worksheet!$B$9,\"\",\")\")","v":")"},{"$f":"CONCATENATE(I12,J12,IF(AND(K12=1,NOT(L12=\"\")),\"\",K12),L12,\" \",M12,\" \",IF(AND(ABS(N12)=1,NOT(O12=\"\")),\"\",ABS(N12)),O12,P12,IF(AND(Worksheet!$B$9,B12=1),\"\",\" \"),IF(AND(Worksheet!$B$9,B12=1),\"\",Q12),IF(AND(Worksheet!$B$9,B12=1),\"\",\" \"),IF(ABS(R12)=1,\"\",ABS(R12)),S12,IF(AND(T12=1,NOT(U12=\"\")),\"\",IF(T12=0,\"\",T12)),IF(T12=0,\"\",U12),\" \",IF(W12=0,\"\",V12),\" \",IF(AND(ABS(W12)=1,NOT(X12=\"\")),\"\",IF(W12=0,\"\",ABS(W12))),IF(W12=0,\"\",X12),Y12)","v":"2(b + 7c) + 4(5b – 3c)"},null,22,"b","+",2,"c","22b + 2c",null,{"$f":"IF(ROW()<=Worksheet!$B$4/2,ROW()+MAX($A$1:$A$30),\"\")","v":32},2,8,3,8,-2,6,null,{"$f":"RANDBETWEEN(2,Worksheet!$B$6)","v":3},"(",5,"j","+",8,"k",")","+",{"$f":"RANDBETWEEN(IF(Worksheet!$B$9,1,2),IF(Worksheet!$B$9,1,Worksheet!$B$6))*(-1)^RANDBETWEEN(IF(Worksheet!$B$7,1,2),2)","v":2},{"$f":"IF(Worksheet!$B$9,\"\",\"(\")","v":"("},{"$f":"IF(Worksheet!$B$9,IF(AJ12=1,0,VALUE(LEFT(TEXT(AL12/AM12,\"###/###\"),FIND(\"/\",TEXT(AL12/AM12,\"###/###\"))-1))),VALUE(LEFT(TEXT(AL12/AM12,\"###/###\"),FIND(\"/\",TEXT(AL12/AM12,\"###/###\"))-1)))","v":3},"k",{"$f":"IF(AND(Worksheet!$B$9,AJ12=1,AZ12=-1),IF(BE12<0,\"+\",\"–\"),IF(BE12<0,\"–\",\"+\"))","v":"–"},{"$f":"IF(Worksheet!$B$9,IF(AJ12=2,0,VALUE(RIGHT(TEXT(AL12/AM12,\"###/###\"),LEN(TEXT(AL12/AM12,\"###/###\"))-FIND(\"/\",TEXT(AL12/AM12,\"###/###\")))*(-1)^RANDBETWEEN(1,2))),VALUE(RIGHT(TEXT(AL12/AM12,\"###/###\"),LEN(TEXT(AL12/AM12,\"###/###\"))-FIND(\"/\",TEXT(AL12/AM12,\"###/###\")))*(-1)^RANDBETWEEN(1,2)))","v":-8},"j",{"$f":"IF(Worksheet!$B$9,\"\",\")\")","v":")"},{"$f":"CONCATENATE(AQ12,AR12,IF(AND(AS12=1,NOT(AT12=\"\")),\"\",AS12),AT12,\" \",AU12,\" \",IF(AND(ABS(AV12)=1,NOT(AW12=\"\")),\"\",ABS(AV12)),AW12,AX12,IF(AND(Worksheet!$B$9,AJ12=1),\"\",\" \"),IF(AND(Worksheet!$B$9,AJ12=1),\"\",AY12),IF(AND(Worksheet!$B$9,AJ12=1),\"\",\" \"),IF(ABS(AZ12)=1,\"\",ABS(AZ12)),BA12,IF(AND(BB12=1,NOT(BC12=\"\")),\"\",IF(BB12=0,\"\",BB12)),IF(BB12=0,\"\",BC12),\" \",IF(BE12=0,\"\",BD12),\" \",IF(AND(ABS(BE12)=1,NOT(BF12=\"\")),\"\",IF(BE12=0,\"\",ABS(BE12))),IF(BE12=0,\"\",BF12),BG12)","v":"3(5j + 8k) + 2(3k – 8j)"},null,-1,"j","+",30,"k","-1j + 30k"]
[{"$f":"IF(ROW()<=Worksheet!$B$4/2,ROW(),\"\")","v":13},1,18,10,5,-1,1,null,{"$f":"RANDBETWEEN(2,Worksheet!$B$6)","v":3},"(",2,"","+",7,"z",")","+",{"$f":"RANDBETWEEN(IF(Worksheet!$B$9,1,2),IF(Worksheet!$B$9,1,Worksheet!$B$6))*(-1)^RANDBETWEEN(IF(Worksheet!$B$7,1,2),2)","v":2},{"$f":"IF(Worksheet!$B$9,\"\",\"(\")","v":"("},{"$f":"IF(Worksheet!$B$9,IF(B13=1,0,VALUE(LEFT(TEXT(D13/E13,\"###/###\"),FIND(\"/\",TEXT(D13/E13,\"###/###\"))-1))),VALUE(LEFT(TEXT(D13/E13,\"###/###\"),FIND(\"/\",TEXT(D13/E13,\"###/###\"))-1)))","v":2},"",{"$f":"IF(AND(Worksheet!$B$9,B13=1,R13=-1),IF(W13<0,\"+\",\"–\"),IF(W13<0,\"–\",\"+\"))","v":"–"},{"$f":"IF(Worksheet!$B$9,IF(B13=2,0,VALUE(RIGHT(TEXT(D13/E13,\"###/###\"),LEN(TEXT(D13/E13,\"###/###\"))-FIND(\"/\",TEXT(D13/E13,\"###/###\")))*(-1)^RANDBETWEEN(1,2))),VALUE(RIGHT(TEXT(D13/E13,\"###/###\"),LEN(TEXT(D13/E13,\"###/###\"))-FIND(\"/\",TEXT(D13/E13,\"###/###\")))*(-1)^RANDBETWEEN(1,2)))","v":-1},"z",{"$f":"IF(Worksheet!$B$9,\"\",\")\")","v":")"},{"$f":"CONCATENATE(I13,J13,IF(AND(K13=1,NOT(L13=\"\")),\"\",K13),L13,\" \",M13,\" \",IF(AND(ABS(N13)=1,NOT(O13=\"\")),\"\",ABS(N13)),O13,P13,IF(AND(Worksheet!$B$9,B13=1),\"\",\" \"),IF(AND(Worksheet!$B$9,B13=1),\"\",Q13),IF(AND(Worksheet!$B$9,B13=1),\"\",\" \"),IF(ABS(R13)=1,\"\",ABS(R13)),S13,IF(AND(T13=1,NOT(U13=\"\")),\"\",IF(T13=0,\"\",T13)),IF(T13=0,\"\",U13),\" \",IF(W13=0,\"\",V13),\" \",IF(AND(ABS(W13)=1,NOT(X13=\"\")),\"\",IF(W13=0,\"\",ABS(W13))),IF(W13=0,\"\",X13),Y13)","v":"3(2 + 7z) + 2(2 – z)"},null,10,"","+",19,"z","10 + 19z",null,{"$f":"IF(ROW()<=Worksheet!$B$4/2,ROW()+MAX($A$1:$A$30),\"\")","v":33},1,14,8,8,0,1,null,{"$f":"RANDBETWEEN(2,Worksheet!$B$6)","v":4},"(",7,"y","+",8,"",")","+",{"$f":"RANDBETWEEN(IF(Worksheet!$B$9,1,2),IF(Worksheet!$B$9,1,Worksheet!$B$6))*(-1)^RANDBETWEEN(IF(Worksheet!$B$7,1,2),2)","v":2},{"$f":"IF(Worksheet!$B$9,\"\",\"(\")","v":"("},{"$f":"IF(Worksheet!$B$9,IF(AJ13=1,0,VALUE(LEFT(TEXT(AL13/AM13,\"###/###\"),FIND(\"/\",TEXT(AL13/AM13,\"###/###\"))-1))),VALUE(LEFT(TEXT(AL13/AM13,\"###/###\"),FIND(\"/\",TEXT(AL13/AM13,\"###/###\"))-1)))","v":1},"y",{"$f":"IF(AND(Worksheet!$B$9,AJ13=1,AZ13=-1),IF(BE13<0,\"+\",\"–\"),IF(BE13<0,\"–\",\"+\"))","v":"–"},{"$f":"IF(Worksheet!$B$9,IF(AJ13=2,0,VALUE(RIGHT(TEXT(AL13/AM13,\"###/###\"),LEN(TEXT(AL13/AM13,\"###/###\"))-FIND(\"/\",TEXT(AL13/AM13,\"###/###\")))*(-1)^RANDBETWEEN(1,2))),VALUE(RIGHT(TEXT(AL13/AM13,\"###/###\"),LEN(TEXT(AL13/AM13,\"###/###\"))-FIND(\"/\",TEXT(AL13/AM13,\"###/###\")))*(-1)^RANDBETWEEN(1,2)))","v":-1},"",{"$f":"IF(Worksheet!$B$9,\"\",\")\")","v":")"},{"$f":"CONCATENATE(AQ13,AR13,IF(AND(AS13=1,NOT(AT13=\"\")),\"\",AS13),AT13,\" \",AU13,\" \",IF(AND(ABS(AV13)=1,NOT(AW13=\"\")),\"\",ABS(AV13)),AW13,AX13,IF(AND(Worksheet!$B$9,AJ13=1),\"\",\" \"),IF(AND(Worksheet!$B$9,AJ13=1),\"\",AY13),IF(AND(Worksheet!$B$9,AJ13=1),\"\",\" \"),IF(ABS(AZ13)=1,\"\",ABS(AZ13)),BA13,IF(AND(BB13=1,NOT(BC13=\"\")),\"\",IF(BB13=0,\"\",BB13)),IF(BB13=0,\"\",BC13),\" \",IF(BE13=0,\"\",BD13),\" \",IF(AND(ABS(BE13)=1,NOT(BF13=\"\")),\"\",IF(BE13=0,\"\",ABS(BE13))),IF(BE13=0,\"\",BF13),BG13)","v":"4(7y + 8) + 2(y – 1)"},null,30,"y","+",30,"","30y + 30"]
[{"$f":"IF(ROW()<=Worksheet!$B$4/2,ROW(),\"\")","v":14},1,9,1,2,-1,-3,null,{"$f":"RANDBETWEEN(2,Worksheet!$B$6)","v":2},"(",6,"x","+",8,"y",")","+",{"$f":"RANDBETWEEN(IF(Worksheet!$B$9,1,2),IF(Worksheet!$B$9,1,Worksheet!$B$6))*(-1)^RANDBETWEEN(IF(Worksheet!$B$7,1,2),2)","v":3},{"$f":"IF(Worksheet!$B$9,\"\",\"(\")","v":"("},{"$f":"IF(Worksheet!$B$9,IF(B14=1,0,VALUE(LEFT(TEXT(D14/E14,\"###/###\"),FIND(\"/\",TEXT(D14/E14,\"###/###\"))-1))),VALUE(LEFT(TEXT(D14/E14,\"###/###\"),FIND(\"/\",TEXT(D14/E14,\"###/###\"))-1)))","v":1},"x",{"$f":"IF(AND(Worksheet!$B$9,B14=1,R14=-1),IF(W14<0,\"+\",\"–\"),IF(W14<0,\"–\",\"+\"))","v":"+"},{"$f":"IF(Worksheet!$B$9,IF(B14=2,0,VALUE(RIGHT(TEXT(D14/E14,\"###/###\"),LEN(TEXT(D14/E14,\"###/###\"))-FIND(\"/\",TEXT(D14/E14,\"###/###\")))*(-1)^RANDBETWEEN(1,2))),VALUE(RIGHT(TEXT(D14/E14,\"###/###\"),LEN(TEXT(D14/E14,\"###/###\"))-FIND(\"/\",TEXT(D14/E14,\"###/###\")))*(-1)^RANDBETWEEN(1,2)))","v":2},"y",{"$f":"IF(Worksheet!$B$9,\"\",\")\")","v":")"},{"$f":"CONCATENATE(I14,J14,IF(AND(K14=1,NOT(L14=\"\")),\"\",K14),L14,\" \",M14,\" \",IF(AND(ABS(N14)=1,NOT(O14=\"\")),\"\",ABS(N14)),O14,P14,IF(AND(Worksheet!$B$9,B14=1),\"\",\" \"),IF(AND(Worksheet!$B$9,B14=1),\"\",Q14),IF(AND(Worksheet!$B$9,B14=1),\"\",\" \"),IF(ABS(R14)=1,\"\",ABS(R14)),S14,IF(AND(T14=1,NOT(U14=\"\")),\"\",IF(T14=0,\"\",T14)),IF(T14=0,\"\",U14),\" \",IF(W14=0,\"\",V14),\" \",IF(AND(ABS(W14)=1,NOT(X14=\"\")),\"\",IF(W14=0,\"\",ABS(W14))),IF(W14=0,\"\",X14),Y14)","v":"2(6x + 8y) + 3(x + 2y)"},null,15,"x","+",22,"y","15x + 22y",null,{"$f":"IF(ROW()<=Worksheet!$B$4/2,ROW()+MAX($A$1:$A$30),\"\")","v":34},1,16,3,10,-3,10,null,{"$f":"RANDBETWEEN(2,Worksheet!$B$6)","v":5},"(",8,"s","+",10,"",")","+",{"$f":"RANDBETWEEN(IF(Worksheet!$B$9,1,2),IF(Worksheet!$B$9,1,Worksheet!$B$6))*(-1)^RANDBETWEEN(IF(Worksheet!$B$7,1,2),2)","v":5},{"$f":"IF(Worksheet!$B$9,\"\",\"(\")","v":"("},{"$f":"IF(Worksheet!$B$9,IF(AJ14=1,0,VALUE(LEFT(TEXT(AL14/AM14,\"###/###\"),FIND(\"/\",TEXT(AL14/AM14,\"###/###\"))-1))),VALUE(LEFT(TEXT(AL14/AM14,\"###/###\"),FIND(\"/\",TEXT(AL14/AM14,\"###/###\"))-1)))","v":3},"s",{"$f":"IF(AND(Worksheet!$B$9,AJ14=1,AZ14=-1),IF(BE14<0,\"+\",\"–\"),IF(BE14<0,\"–\",\"+\"))","v":"–"},{"$f":"IF(Worksheet!$B$9,IF(AJ14=2,0,VALUE(RIGHT(TEXT(AL14/AM14,\"###/###\"),LEN(TEXT(AL14/AM14,\"###/###\"))-FIND(\"/\",TEXT(AL14/AM14,\"###/###\")))*(-1)^RANDBETWEEN(1,2))),VALUE(RIGHT(TEXT(AL14/AM14,\"###/###\"),LEN(TEXT(AL14/AM14,\"###/###\"))-FIND(\"/\",TEXT(AL14/AM14,\"###/###\")))*(-1)^RANDBETWEEN(1,2)))","v":-10},"",{"$f":"IF(Worksheet!$B$9,\"\",\")\")","v":")"},{"$f":"CONCATENATE(AQ14,AR14,IF(AND(AS14=1,NOT(AT14=\"\")),\"\",AS14),AT14,\" \",AU14,\" \",IF(AND(ABS(AV14)=1,NOT(AW14=\"\")),\"\",ABS(AV14)),AW14,AX14,IF(AND(Worksheet!$B$9,AJ14=1),\"\",\" \"),IF(AND(Worksheet!$B$9,AJ14=1),\"\",AY14),IF(AND(Worksheet!$B$9,AJ14=1),\"\",\" \"),IF(ABS(AZ14)=1,\"\",ABS(AZ14)),BA14,IF(AND(BB14=1,NOT(BC14=\"\")),\"\",IF(BB14=0,\"\",BB14)),IF(BB14=0,\"\",BC14),\" \",IF(BE14=0,\"\",BD14),\" \",IF(AND(ABS(BE14)=1,NOT(BF14=\"\")),\"\",IF(BE14=0,\"\",ABS(BE14))),IF(BE14=0,\"\",BF14),BG14)","v":"5(8s + 10) + 5(3s – 10)"},null,55,"s","+","","","55s  "]
[{"$f":"IF(ROW()<=Worksheet!$B$4/2,ROW(),\"\")","v":15},2,15,5,8,-16,-10,null,{"$f":"RANDBETWEEN(2,Worksheet!$B$6)","v":2},"(",2,"p","+",6,"",")","+",{"$f":"RANDBETWEEN(IF(Worksheet!$B$9,1,2),IF(Worksheet!$B$9,1,Worksheet!$B$6))*(-1)^RANDBETWEEN(IF(Worksheet!$B$7,1,2),2)","v":4},{"$f":"IF(Worksheet!$B$9,\"\",\"(\")","v":"("},{"$f":"IF(Worksheet!$B$9,IF(B15=1,0,VALUE(LEFT(TEXT(D15/E15,\"###/###\"),FIND(\"/\",TEXT(D15/E15,\"###/###\"))-1))),VALUE(LEFT(TEXT(D15/E15,\"###/###\"),FIND(\"/\",TEXT(D15/E15,\"###/###\"))-1)))","v":5},"",{"$f":"IF(AND(Worksheet!$B$9,B15=1,R15=-1),IF(W15<0,\"+\",\"–\"),IF(W15<0,\"–\",\"+\"))","v":"+"},{"$f":"IF(Worksheet!$B$9,IF(B15=2,0,VALUE(RIGHT(TEXT(D15/E15,\"###/###\"),LEN(TEXT(D15/E15,\"###/###\"))-FIND(\"/\",TEXT(D15/E15,\"###/###\")))*(-1)^RANDBETWEEN(1,2))),VALUE(RIGHT(TEXT(D15/E15,\"###/###\"),LEN(TEXT(D15/E15,\"###/###\"))-FIND(\"/\",TEXT(D15/E15,\"###/###\")))*(-1)^RANDBETWEEN(1,2)))","v":8},"p",{"$f":"IF(Worksheet!$B$9,\"\",\")\")","v":")"},{"$f":"CONCATENATE(I15,J15,IF(AND(K15=1,NOT(L15=\"\")),\"\",K15),L15,\" \",M15,\" \",IF(AND(ABS(N15)=1,NOT(O15=\"\")),\"\",ABS(N15)),O15,P15,IF(AND(Worksheet!$B$9,B15=1),\"\",\" \"),IF(AND(Worksheet!$B$9,B15=1),\"\",Q15),IF(AND(Worksheet!$B$9,B15=1),\"\",\" \"),IF(ABS(R15)=1,\"\",ABS(R15)),S15,IF(AND(T15=1,NOT(U15=\"\")),\"\",IF(T15=0,\"\",T15)),IF(T15=0,\"\",U15),\" \",IF(W15=0,\"\",V15),\" \",IF(AND(ABS(W15)=1,NOT(X15=\"\")),\"\",IF(W15=0,\"\",ABS(W15))),IF(W15=0,\"\",X15),Y15)","v":"2(2p + 6) + 4(5 + 8p)"},null,36,"p","+",32,"","36p + 32",null,{"$f":"IF(ROW()<=Worksheet!$B$4/2,ROW()+MAX($A$1:$A$30),\"\")","v":35},2,3,7,10,25,-17,null,{"$f":"RANDBETWEEN(2,Worksheet!$B$6)","v":2},"(",25,"x","+",5,"y",")","+",{"$f":"RANDBETWEEN(IF(Worksheet!$B$9,1,2),IF(Worksheet!$B$9,1,Worksheet!$B$6))*(-1)^RANDBETWEEN(IF(Worksheet!$B$7,1,2),2)","v":5},{"$f":"IF(Worksheet!$B$9,\"\",\"(\")","v":"("},{"$f":"IF(Worksheet!$B$9,IF(AJ15=1,0,VALUE(LEFT(TEXT(AL15/AM15,\"###/###\"),FIND(\"/\",TEXT(AL15/AM15,\"###/###\"))-1))),VALUE(LEFT(TEXT(AL15/AM15,\"###/###\"),FIND(\"/\",TEXT(AL15/AM15,\"###/###\"))-1)))","v":7},"y",{"$f":"IF(AND(Worksheet!$B$9,AJ15=1,AZ15=-1),IF(BE15<0,\"+\",\"–\"),IF(BE15<0,\"–\",\"+\"))","v":"–"},{"$f":"IF(Worksheet!$B$9,IF(AJ15=2,0,VALUE(RIGHT(TEXT(AL15/AM15,\"###/###\"),LEN(TEXT(AL15/AM15,\"###/###\"))-FIND(\"/\",TEXT(AL15/AM15,\"###/###\")))*(-1)^RANDBETWEEN(1,2))),VALUE(RIGHT(TEXT(AL15/AM15,\"###/###\"),LEN(TEXT(AL15/AM15,\"###/###\"))-FIND(\"/\",TEXT(AL15/AM15,\"###/###\")))*(-1)^RANDBETWEEN(1,2)))","v":-10},"x",{"$f":"IF(Worksheet!$B$9,\"\",\")\")","v":")"},{"$f":"CONCATENATE(AQ15,AR15,IF(AND(AS15=1,NOT(AT15=\"\")),\"\",AS15),AT15,\" \",AU15,\" \",IF(AND(ABS(AV15)=1,NOT(AW15=\"\")),\"\",ABS(AV15)),AW15,AX15,IF(AND(Worksheet!$B$9,AJ15=1),\"\",\" \"),IF(AND(Worksheet!$B$9,AJ15=1),\"\",AY15),IF(AND(Worksheet!$B$9,AJ15=1),\"\",\" \"),IF(ABS(AZ15)=1,\"\",ABS(AZ15)),BA15,IF(AND(BB15=1,NOT(BC15=\"\")),\"\",IF(BB15=0,\"\",BB15)),IF(BB15=0,\"\",BC15),\" \",IF(BE15=0,\"\",BD15),\" \",IF(AND(ABS(BE15)=1,NOT(BF15=\"\")),\"\",IF(BE15=0,\"\",ABS(BE15))),IF(BE15=0,\"\",BF15),BG15)","v":"2(25x + 5y) + 5(7y – 10x)"},null,"","","+",45,"y","  45y"]
[{"$f":"IF(ROW()<=Worksheet!$B$4/2,ROW(),\"\")","v":16},1,9,9,8,-11,-10,null,{"$f":"RANDBETWEEN(2,Worksheet!$B$6)","v":4},"(",6,"x","+",1,"y",")","+",{"$f":"RANDBETWEEN(IF(Worksheet!$B$9,1,2),IF(Worksheet!$B$9,1,Worksheet!$B$6))*(-1)^RANDBETWEEN(IF(Worksheet!$B$7,1,2),2)","v":5},{"$f":"IF(Worksheet!$B$9,\"\",\"(\")","v":"("},{"$f":"IF(Worksheet!$B$9,IF(B16=1,0,VALUE(LEFT(TEXT(D16/E16,\"###/###\"),FIND(\"/\",TEXT(D16/E16,\"###/###\"))-1))),VALUE(LEFT(TEXT(D16/E16,\"###/###\"),FIND(\"/\",TEXT(D16/E16,\"###/###\"))-1)))","v":9},"x",{"$f":"IF(AND(Worksheet!$B$9,B16=1,R16=-1),IF(W16<0,\"+\",\"–\"),IF(W16<0,\"–\",\"+\"))","v":"+"},{"$f":"IF(Worksheet!$B$9,IF(B16=2,0,VALUE(RIGHT(TEXT(D16/E16,\"###/###\"),LEN(TEXT(D16/E16,\"###/###\"))-FIND(\"/\",TEXT(D16/E16,\"###/###\")))*(-1)^RANDBETWEEN(1,2))),VALUE(RIGHT(TEXT(D16/E16,\"###/###\"),LEN(TEXT(D16/E16,\"###/###\"))-FIND(\"/\",TEXT(D16/E16,\"###/###\")))*(-1)^RANDBETWEEN(1,2)))","v":8},"y",{"$f":"IF(Worksheet!$B$9,\"\",\")\")","v":")"},{"$f":"CONCATENATE(I16,J16,IF(AND(K16=1,NOT(L16=\"\")),\"\",K16),L16,\" \",M16,\" \",IF(AND(ABS(N16)=1,NOT(O16=\"\")),\"\",ABS(N16)),O16,P16,IF(AND(Worksheet!$B$9,B16=1),\"\",\" \"),IF(AND(Worksheet!$B$9,B16=1),\"\",Q16),IF(AND(Worksheet!$B$9,B16=1),\"\",\" \"),IF(ABS(R16)=1,\"\",ABS(R16)),S16,IF(AND(T16=1,NOT(U16=\"\")),\"\",IF(T16=0,\"\",T16)),IF(T16=0,\"\",U16),\" \",IF(W16=0,\"\",V16),\" \",IF(AND(ABS(W16)=1,NOT(X16=\"\")),\"\",IF(W16=0,\"\",ABS(W16))),IF(W16=0,\"\",X16),Y16)","v":"4(6x + y) + 5(9x + 8y)"},null,69,"x","+",44,"y","69x + 44y",null,{"$f":"IF(ROW()<=Worksheet!$B$4/2,ROW()+MAX($A$1:$A$30),\"\")","v":36},1,3,7,2,-5,2,null,{"$f":"RANDBETWEEN(2,Worksheet!$B$6)","v":5},"(",4,"x","+",6,"y",")","+",{"$f":"RANDBETWEEN(IF(Worksheet!$B$9,1,2),IF(Worksheet!$B$9,1,Worksheet!$B$6))*(-1)^RANDBETWEEN(IF(Worksheet!$B$7,1,2),2)","v":4},{"$f":"IF(Worksheet!$B$9,\"\",\"(\")","v":"("},{"$f":"IF(Worksheet!$B$9,IF(AJ16=1,0,VALUE(LEFT(TEXT(AL16/AM16,\"###/###\"),FIND(\"/\",TEXT(AL16/AM16,\"###/###\"))-1))),VALUE(LEFT(TEXT(AL16/AM16,\"###/###\"),FIND(\"/\",TEXT(AL16/AM16,\"###/###\"))-1)))","v":7},"x",{"$f":"IF(AND(Worksheet!$B$9,AJ16=1,AZ16=-1),IF(BE16<0,\"+\",\"–\"),IF(BE16<0,\"–\",\"+\"))","v":"–"},{"$f":"IF(Worksheet!$B$9,IF(AJ16=2,0,VALUE(RIGHT(TEXT(AL16/AM16,\"###/###\"),LEN(TEXT(AL16/AM16,\"###/###\"))-FIND(\"/\",TEXT(AL16/AM16,\"###/###\")))*(-1)^RANDBETWEEN(1,2))),VALUE(RIGHT(TEXT(AL16/AM16,\"###/###\"),LEN(TEXT(AL16/AM16,\"###/###\"))-FIND(\"/\",TEXT(AL16/AM16,\"###/###\")))*(-1)^RANDBETWEEN(1,2)))","v":-2},"y",{"$f":"IF(Worksheet!$B$9,\"\",\")\")","v":")"},{"$f":"CONCATENATE(AQ16,AR16,IF(AND(AS16=1,NOT(AT16=\"\")),\"\",AS16),AT16,\" \",AU16,\" \",IF(AND(ABS(AV16)=1,NOT(AW16=\"\")),\"\",ABS(AV16)),AW16,AX16,IF(AND(Worksheet!$B$9,AJ16=1),\"\",\" \"),IF(AND(Worksheet!$B$9,AJ16=1),\"\",AY16),IF(AND(Worksheet!$B$9,AJ16=1),\"\",\" \"),IF(ABS(AZ16)=1,\"\",ABS(AZ16)),BA16,IF(AND(BB16=1,NOT(BC16=\"\")),\"\",IF(BB16=0,\"\",BB16)),IF(BB16=0,\"\",BC16),\" \",IF(BE16=0,\"\",BD16),\" \",IF(AND(ABS(BE16)=1,NOT(BF16=\"\")),\"\",IF(BE16=0,\"\",ABS(BE16))),IF(BE16=0,\"\",BF16),BG16)","v":"5(4x + 6y) + 4(7x – 2y)"},null,48,"x","+",22,"y","48x + 22y"]
[{"$f":"IF(ROW()<=Worksheet!$B$4/2,ROW(),\"\")","v":17},2,17,3,9,3,-1,null,{"$f":"RANDBETWEEN(2,Worksheet!$B$6)","v":4},"(",6,"g","+",2,"",")","+",{"$f":"RANDBETWEEN(IF(Worksheet!$B$9,1,2),IF(Worksheet!$B$9,1,Worksheet!$B$6))*(-1)^RANDBETWEEN(IF(Worksheet!$B$7,1,2),2)","v":4},{"$f":"IF(Worksheet!$B$9,\"\",\"(\")","v":"("},{"$f":"IF(Worksheet!$B$9,IF(B17=1,0,VALUE(LEFT(TEXT(D17/E17,\"###/###\"),FIND(\"/\",TEXT(D17/E17,\"###/###\"))-1))),VALUE(LEFT(TEXT(D17/E17,\"###/###\"),FIND(\"/\",TEXT(D17/E17,\"###/###\"))-1)))","v":1},"",{"$f":"IF(AND(Worksheet!$B$9,B17=1,R17=-1),IF(W17<0,\"+\",\"–\"),IF(W17<0,\"–\",\"+\"))","v":"–"},{"$f":"IF(Worksheet!$B$9,IF(B17=2,0,VALUE(RIGHT(TEXT(D17/E17,\"###/###\"),LEN(TEXT(D17/E17,\"###/###\"))-FIND(\"/\",TEXT(D17/E17,\"###/###\")))*(-1)^RANDBETWEEN(1,2))),VALUE(RIGHT(TEXT(D17/E17,\"###/###\"),LEN(TEXT(D17/E17,\"###/###\"))-FIND(\"/\",TEXT(D17/E17,\"###/###\")))*(-1)^RANDBETWEEN(1,2)))","v":-3},"g",{"$f":"IF(Worksheet!$B$9,\"\",\")\")","v":")"},{"$f":"CONCATENATE(I17,J17,IF(AND(K17=1,NOT(L17=\"\")),\"\",K17),L17,\" \",M17,\" \",IF(AND(ABS(N17)=1,NOT(O17=\"\")),\"\",ABS(N17)),O17,P17,IF(AND(Worksheet!$B$9,B17=1),\"\",\" \"),IF(AND(Worksheet!$B$9,B17=1),\"\",Q17),IF(AND(Worksheet!$B$9,B17=1),\"\",\" \"),IF(ABS(R17)=1,\"\",ABS(R17)),S17,IF(AND(T17=1,NOT(U17=\"\")),\"\",IF(T17=0,\"\",T17)),IF(T17=0,\"\",U17),\" \",IF(W17=0,\"\",V17),\" \",IF(AND(ABS(W17)=1,NOT(X17=\"\")),\"\",IF(W17=0,\"\",ABS(W17))),IF(W17=0,\"\",X17),Y17)","v":"4(6g + 2) + 4(1 – 3g)"},null,12,"g","+",12,"","12g + 12",null,{"$f":"IF(ROW()<=Worksheet!$B$4/2,ROW()+MAX($A$1:$A$30),\"\")","v":37},2,3,5,5,0,0,null,{"$f":"RANDBETWEEN(2,Worksheet!$B$6)","v":5},"(",6,"x","+",2,"y",")","+",{"$f":"RANDBETWEEN(IF(Worksheet!$B$9,1,2),IF(Worksheet!$B$9,1,Worksheet!$B$6))*(-1)^RANDBETWEEN(IF(Worksheet!$B$7,1,2),2)","v":3},{"$f":"IF(Worksheet!$B$9,\"\",\"(\")","v":"("},{"$f":"IF(Worksheet!$B$9,IF(AJ17=1,0,VALUE(LEFT(TEXT(AL17/AM17,\"###/###\"),FIND(\"/\",TEXT(AL17/AM17,\"###/###\"))-1))),VALUE(LEFT(TEXT(AL17/AM17,\"###/###\"),FIND(\"/\",TEXT(AL17/AM17,\"###/###\"))-1)))","v":1},"y",{"$f":"IF(AND(Worksheet!$B$9,AJ17=1,AZ17=-1),IF(BE17<0,\"+\",\"–\"),IF(BE17<0,\"–\",\"+\"))","v":"+"},{"$f":"IF(Worksheet!$B$9,IF(AJ17=2,0,VALUE(RIGHT(TEXT(AL17/AM17,\"###/###\"),LEN(TEXT(AL17/AM17,\"###/###\"))-FIND(\"/\",TEXT(AL17/AM17,\"###/###\")))*(-1)^RANDBETWEEN(1,2))),VALUE(RIGHT(TEXT(AL17/AM17,\"###/###\"),LEN(TEXT(AL17/AM17,\"###/###\"))-FIND(\"/\",TEXT(AL17/AM17,\"###/###\")))*(-1)^RANDBETWEEN(1,2)))","v":1},"x",{"$f":"IF(Worksheet!$B$9,\"\",\")\")","v":")"},{"$f":"CONCATENATE(AQ17,AR17,IF(AND(AS17=1,NOT(AT17=\"\")),\"\",AS17),AT17,\" \",AU17,\" \",IF(AND(ABS(AV17)=1,NOT(AW17=\"\")),\"\",ABS(AV17)),AW17,AX17,IF(AND(Worksheet!$B$9,AJ17=1),\"\",\" \"),IF(AND(Worksheet!$B$9,AJ17=1),\"\",AY17),IF(AND(Worksheet!$B$9,AJ17=1),\"\",\" \"),IF(ABS(AZ17)=1,\"\",ABS(AZ17)),BA17,IF(AND(BB17=1,NOT(BC17=\"\")),\"\",IF(BB17=0,\"\",BB17)),IF(BB17=0,\"\",BC17),\" \",IF(BE17=0,\"\",BD17),\" \",IF(AND(ABS(BE17)=1,NOT(BF17=\"\")),\"\",IF(BE17=0,\"\",ABS(BE17))),IF(BE17=0,\"\",BF17),BG17)","v":"5(6x + 2y) + 3(y + x)"},null,33,"x","+",13,"y","33x + 13y"]
[{"$f":"IF(ROW()<=Worksheet!$B$4/2,ROW(),\"\")","v":18},1,9,10,8,-8,-6,null,{"$f":"RANDBETWEEN(2,Worksheet!$B$6)","v":3},"(",6,"x","+",3,"y",")","+",{"$f":"RANDBETWEEN(IF(Worksheet!$B$9,1,2),IF(Worksheet!$B$9,1,Worksheet!$B$6))*(-1)^RANDBETWEEN(IF(Worksheet!$B$7,1,2),2)","v":5},{"$f":"IF(Worksheet!$B$9,\"\",\"(\")","v":"("},{"$f":"IF(Worksheet!$B$9,IF(B18=1,0,VALUE(LEFT(TEXT(D18/E18,\"###/###\"),FIND(\"/\",TEXT(D18/E18,\"###/###\"))-1))),VALUE(LEFT(TEXT(D18/E18,\"###/###\"),FIND(\"/\",TEXT(D18/E18,\"###/###\"))-1)))","v":5},"x",{"$f":"IF(AND(Worksheet!$B$9,B18=1,R18=-1),IF(W18<0,\"+\",\"–\"),IF(W18<0,\"–\",\"+\"))","v":"+"},{"$f":"IF(Worksheet!$B$9,IF(B18=2,0,VALUE(RIGHT(TEXT(D18/E18,\"###/###\"),LEN(TEXT(D18/E18,\"###/###\"))-FIND(\"/\",TEXT(D18/E18,\"###/###\")))*(-1)^RANDBETWEEN(1,2))),VALUE(RIGHT(TEXT(D18/E18,\"###/###\"),LEN(TEXT(D18/E18,\"###/###\"))-FIND(\"/\",TEXT(D18/E18,\"###/###\")))*(-1)^RANDBETWEEN(1,2)))","v":4},"y",{"$f":"IF(Worksheet!$B$9,\"\",\")\")","v":")"},{"$f":"CONCATENATE(I18,J18,IF(AND(K18=1,NOT(L18=\"\")),\"\",K18),L18,\" \",M18,\" \",IF(AND(ABS(N18)=1,NOT(O18=\"\")),\"\",ABS(N18)),O18,P18,IF(AND(Worksheet!$B$9,B18=1),\"\",\" \"),IF(AND(Worksheet!$B$9,B18=1),\"\",Q18),IF(AND(Worksheet!$B$9,B18=1),\"\",\" \"),IF(ABS(R18)=1,\"\",ABS(R18)),S18,IF(AND(T18=1,NOT(U18=\"\")),\"\",IF(T18=0,\"\",T18)),IF(T18=0,\"\",U18),\" \",IF(W18=0,\"\",V18),\" \",IF(AND(ABS(W18)=1,NOT(X18=\"\")),\"\",IF(W18=0,\"\",ABS(W18))),IF(W18=0,\"\",X18),Y18)","v":"3(6x + 3y) + 5(5x + 4y)"},null,43,"x","+",29,"y","43x + 29y",null,{"$f":"IF(ROW()<=Worksheet!$B$4/2,ROW()+MAX($A$1:$A$30),\"\")","v":38},1,2,6,8,-7,10,null,{"$f":"RANDBETWEEN(2,Worksheet!$B$6)","v":2},"(",1,"b","+",10,"c",")","+",{"$f":"RANDBETWEEN(IF(Worksheet!$B$9,1,2),IF(Worksheet!$B$9,1,Worksheet!$B$6))*(-1)^RANDBETWEEN(IF(Worksheet!$B$7,1,2),2)","v":5},{"$f":"IF(Worksheet!$B$9,\"\",\"(\")","v":"("},{"$f":"IF(Worksheet!$B$9,IF(AJ18=1,0,VALUE(LEFT(TEXT(AL18/AM18,\"###/###\"),FIND(\"/\",TEXT(AL18/AM18,\"###/###\"))-1))),VALUE(LEFT(TEXT(AL18/AM18,\"###/###\"),FIND(\"/\",TEXT(AL18/AM18,\"###/###\"))-1)))","v":3},"b",{"$f":"IF(AND(Worksheet!$B$9,AJ18=1,AZ18=-1),IF(BE18<0,\"+\",\"–\"),IF(BE18<0,\"–\",\"+\"))","v":"–"},{"$f":"IF(Worksheet!$B$9,IF(AJ18=2,0,VALUE(RIGHT(TEXT(AL18/AM18,\"###/###\"),LEN(TEXT(AL18/AM18,\"###/###\"))-FIND(\"/\",TEXT(AL18/AM18,\"###/###\")))*(-1)^RANDBETWEEN(1,2))),VALUE(RIGHT(TEXT(AL18/AM18,\"###/###\"),LEN(TEXT(AL18/AM18,\"###/###\"))-FIND(\"/\",TEXT(AL18/AM18,\"###/###\")))*(-1)^RANDBETWEEN(1,2)))","v":-4},"c",{"$f":"IF(Worksheet!$B$9,\"\",\")\")","v":")"},{"$f":"CONCATENATE(AQ18,AR18,IF(AND(AS18=1,NOT(AT18=\"\")),\"\",AS18),AT18,\" \",AU18,\" \",IF(AND(ABS(AV18)=1,NOT(AW18=\"\")),\"\",ABS(AV18)),AW18,AX18,IF(AND(Worksheet!$B$9,AJ18=1),\"\",\" \"),IF(AND(Worksheet!$B$9,AJ18=1),\"\",AY18),IF(AND(Worksheet!$B$9,AJ18=1),\"\",\" \"),IF(ABS(AZ18)=1,\"\",ABS(AZ18)),BA18,IF(AND(BB18=1,NOT(BC18=\"\")),\"\",IF(BB18=0,\"\",BB18)),IF(BB18=0,\"\",BC18),\" \",IF(BE18=0,\"\",BD18),\" \",IF(AND(ABS(BE18)=1,NOT(BF18=\"\")),\"\",IF(BE18=0,\"\",ABS(BE18))),IF(BE18=0,\"\",BF18),BG18)","v":"2(b + 10c) + 5(3b – 4c)"},null,17,"b","+","","c","17b  "]
[{"$f":"IF(ROW()<=Worksheet!$B$4/2,ROW(),\"\")","v":19},2,4,3,10,-10,-3,null,{"$f":"RANDBETWEEN(2,Worksheet!$B$6)","v":2},"(",4,"y","+",3,"z",")","+",{"$f":"RANDBETWEEN(IF(Worksheet!$B$9,1,2),IF(Worksheet!$B$9,1,Worksheet!$B$6))*(-1)^RANDBETWEEN(IF(Worksheet!$B$7,1,2),2)","v":2},{"$f":"IF(Worksheet!$B$9,\"\",\"(\")","v":"("},{"$f":"IF(Worksheet!$B$9,IF(B19=1,0,VALUE(LEFT(TEXT(D19/E19,\"###/###\"),FIND(\"/\",TEXT(D19/E19,\"###/###\"))-1))),VALUE(LEFT(TEXT(D19/E19,\"###/###\"),FIND(\"/\",TEXT(D19/E19,\"###/###\"))-1)))","v":3},"z",{"$f":"IF(AND(Worksheet!$B$9,B19=1,R19=-1),IF(W19<0,\"+\",\"–\"),IF(W19<0,\"–\",\"+\"))","v":"+"},{"$f":"IF(Worksheet!$B$9,IF(B19=2,0,VALUE(RIGHT(TEXT(D19/E19,\"###/###\"),LEN(TEXT(D19/E19,\"###/###\"))-FIND(\"/\",TEXT(D19/E19,\"###/###\")))*(-1)^RANDBETWEEN(1,2))),VALUE(RIGHT(TEXT(D19/E19,\"###/###\"),LEN(TEXT(D19/E19,\"###/###\"))-FIND(\"/\",TEXT(D19/E19,\"###/###\")))*(-1)^RANDBETWEEN(1,2)))","v":10},"y",{"$f":"IF(Worksheet!$B$9,\"\",\")\")","v":")"},{"$f":"CONCATENATE(I19,J19,IF(AND(K19=1,NOT(L19=\"\")),\"\",K19),L19,\" \",M19,\" \",IF(AND(ABS(N19)=1,NOT(O19=\"\")),\"\",ABS(N19)),O19,P19,IF(AND(Worksheet!$B$9,B19=1),\"\",\" \"),IF(AND(Worksheet!$B$9,B19=1),\"\",Q19),IF(AND(Worksheet!$B$9,B19=1),\"\",\" \"),IF(ABS(R19)=1,\"\",ABS(R19)),S19,IF(AND(T19=1,NOT(U19=\"\")),\"\",IF(T19=0,\"\",T19)),IF(T19=0,\"\",U19),\" \",IF(W19=0,\"\",V19),\" \",IF(AND(ABS(W19)=1,NOT(X19=\"\")),\"\",IF(W19=0,\"\",ABS(W19))),IF(W19=0,\"\",X19),Y19)","v":"2(4y + 3z) + 2(3z + 10y)"},null,28,"y","+",12,"z","28y + 12z",null,{"$f":"IF(ROW()<=Worksheet!$B$4/2,ROW()+MAX($A$1:$A$30),\"\")","v":39},2,14,8,3,5,-12,null,{"$f":"RANDBETWEEN(2,Worksheet!$B$6)","v":2},"(",8,"y","+",8,"",")","+",{"$f":"RANDBETWEEN(IF(Worksheet!$B$9,1,2),IF(Worksheet!$B$9,1,Worksheet!$B$6))*(-1)^RANDBETWEEN(IF(Worksheet!$B$7,1,2),2)","v":3},{"$f":"IF(Worksheet!$B$9,\"\",\"(\")","v":"("},{"$f":"IF(Worksheet!$B$9,IF(AJ19=1,0,VALUE(LEFT(TEXT(AL19/AM19,\"###/###\"),FIND(\"/\",TEXT(AL19/AM19,\"###/###\"))-1))),VALUE(LEFT(TEXT(AL19/AM19,\"###/###\"),FIND(\"/\",TEXT(AL19/AM19,\"###/###\"))-1)))","v":8},"",{"$f":"IF(AND(Worksheet!$B$9,AJ19=1,AZ19=-1),IF(BE19<0,\"+\",\"–\"),IF(BE19<0,\"–\",\"+\"))","v":"–"},{"$f":"IF(Worksheet!$B$9,IF(AJ19=2,0,VALUE(RIGHT(TEXT(AL19/AM19,\"###/###\"),LEN(TEXT(AL19/AM19,\"###/###\"))-FIND(\"/\",TEXT(AL19/AM19,\"###/###\")))*(-1)^RANDBETWEEN(1,2))),VALUE(RIGHT(TEXT(AL19/AM19,\"###/###\"),LEN(TEXT(AL19/AM19,\"###/###\"))-FIND(\"/\",TEXT(AL19/AM19,\"###/###\")))*(-1)^RANDBETWEEN(1,2)))","v":-3},"y",{"$f":"IF(Worksheet!$B$9,\"\",\")\")","v":")"},{"$f":"CONCATENATE(AQ19,AR19,IF(AND(AS19=1,NOT(AT19=\"\")),\"\",AS19),AT19,\" \",AU19,\" \",IF(AND(ABS(AV19)=1,NOT(AW19=\"\")),\"\",ABS(AV19)),AW19,AX19,IF(AND(Worksheet!$B$9,AJ19=1),\"\",\" \"),IF(AND(Worksheet!$B$9,AJ19=1),\"\",AY19),IF(AND(Worksheet!$B$9,AJ19=1),\"\",\" \"),IF(ABS(AZ19)=1,\"\",ABS(AZ19)),BA19,IF(AND(BB19=1,NOT(BC19=\"\")),\"\",IF(BB19=0,\"\",BB19)),IF(BB19=0,\"\",BC19),\" \",IF(BE19=0,\"\",BD19),\" \",IF(AND(ABS(BE19)=1,NOT(BF19=\"\")),\"\",IF(BE19=0,\"\",ABS(BE19))),IF(BE19=0,\"\",BF19),BG19)","v":"2(8y + 8) + 3(8 – 3y)"},null,7,"y","+",40,"","7y + 40"]
[{"$f":"IF(ROW()<=Worksheet!$B$4/2,ROW(),\"\")","v":20},1,13,3,4,-3,4,null,{"$f":"RANDBETWEEN(2,Worksheet!$B$6)","v":5},"(",8,"x","+",7,"",")","+",{"$f":"RANDBETWEEN(IF(Worksheet!$B$9,1,2),IF(Worksheet!$B$9,1,Worksheet!$B$6))*(-1)^RANDBETWEEN(IF(Worksheet!$B$7,1,2),2)","v":5},{"$f":"IF(Worksheet!$B$9,\"\",\"(\")","v":"("},{"$f":"IF(Worksheet!$B$9,IF(B20=1,0,VALUE(LEFT(TEXT(D20/E20,\"###/###\"),FIND(\"/\",TEXT(D20/E20,\"###/###\"))-1))),VALUE(LEFT(TEXT(D20/E20,\"###/###\"),FIND(\"/\",TEXT(D20/E20,\"###/###\"))-1)))","v":3},"x",{"$f":"IF(AND(Worksheet!$B$9,B20=1,R20=-1),IF(W20<0,\"+\",\"–\"),IF(W20<0,\"–\",\"+\"))","v":"–"},{"$f":"IF(Worksheet!$B$9,IF(B20=2,0,VALUE(RIGHT(TEXT(D20/E20,\"###/###\"),LEN(TEXT(D20/E20,\"###/###\"))-FIND(\"/\",TEXT(D20/E20,\"###/###\")))*(-1)^RANDBETWEEN(1,2))),VALUE(RIGHT(TEXT(D20/E20,\"###/###\"),LEN(TEXT(D20/E20,\"###/###\"))-FIND(\"/\",TEXT(D20/E20,\"###/###\")))*(-1)^RANDBETWEEN(1,2)))","v":-4},"",{"$f":"IF(Worksheet!$B$9,\"\",\")\")","v":")"},{"$f":"CONCATENATE(I20,J20,IF(AND(K20=1,NOT(L20=\"\")),\"\",K20),L20,\" \",M20,\" \",IF(AND(ABS(N20)=1,NOT(O20=\"\")),\"\",ABS(N20)),O20,P20,IF(AND(Worksheet!$B$9,B20=1),\"\",\" \"),IF(AND(Worksheet!$B$9,B20=1),\"\",Q20),IF(AND(Worksheet!$B$9,B20=1),\"\",\" \"),IF(ABS(R20)=1,\"\",ABS(R20)),S20,IF(AND(T20=1,NOT(U20=\"\")),\"\",IF(T20=0,\"\",T20)),IF(T20=0,\"\",U20),\" \",IF(W20=0,\"\",V20),\" \",IF(AND(ABS(W20)=1,NOT(X20=\"\")),\"\",IF(W20=0,\"\",ABS(W20))),IF(W20=0,\"\",X20),Y20)","v":"5(8x + 7) + 5(3x – 4)"},null,55,"x","+",15,"","55x + 15",null,{"$f":"IF(ROW()<=Worksheet!$B$4/2,ROW()+MAX($A$1:$A$30),\"\")","v":40},2,15,2,1,-2,-1,null,{"$f":"RANDBETWEEN(2,Worksheet!$B$6)","v":2},"(",6,"p","+",2,"",")","+",{"$f":"RANDBETWEEN(IF(Worksheet!$B$9,1,2),IF(Worksheet!$B$9,1,Worksheet!$B$6))*(-1)^RANDBETWEEN(IF(Worksheet!$B$7,1,2),2)","v":2},{"$f":"IF(Worksheet!$B$9,\"\",\"(\")","v":"("},{"$f":"IF(Worksheet!$B$9,IF(AJ20=1,0,VALUE(LEFT(TEXT(AL20/AM20,\"###/###\"),FIND(\"/\",TEXT(AL20/AM20,\"###/###\"))-1))),VALUE(LEFT(TEXT(AL20/AM20,\"###/###\"),FIND(\"/\",TEXT(AL20/AM20,\"###/###\"))-1)))","v":2},"",{"$f":"IF(AND(Worksheet!$B$9,AJ20=1,AZ20=-1),IF(BE20<0,\"+\",\"–\"),IF(BE20<0,\"–\",\"+\"))","v":"+"},{"$f":"IF(Worksheet!$B$9,IF(AJ20=2,0,VALUE(RIGHT(TEXT(AL20/AM20,\"###/###\"),LEN(TEXT(AL20/AM20,\"###/###\"))-FIND(\"/\",TEXT(AL20/AM20,\"###/###\")))*(-1)^RANDBETWEEN(1,2))),VALUE(RIGHT(TEXT(AL20/AM20,\"###/###\"),LEN(TEXT(AL20/AM20,\"###/###\"))-FIND(\"/\",TEXT(AL20/AM20,\"###/###\")))*(-1)^RANDBETWEEN(1,2)))","v":1},"p",{"$f":"IF(Worksheet!$B$9,\"\",\")\")","v":")"},{"$f":"CONCATENATE(AQ20,AR20,IF(AND(AS20=1,NOT(AT20=\"\")),\"\",AS20),AT20,\" \",AU20,\" \",IF(AND(ABS(AV20)=1,NOT(AW20=\"\")),\"\",ABS(AV20)),AW20,AX20,IF(AND(Worksheet!$B$9,AJ20=1),\"\",\" \"),IF(AND(Worksheet!$B$9,AJ20=1),\"\",AY20),IF(AND(Worksheet!$B$9,AJ20=1),\"\",\" \"),IF(ABS(AZ20)=1,\"\",ABS(AZ20)),BA20,IF(AND(BB20=1,NOT(BC20=\"\")),\"\",IF(BB20=0,\"\",BB20)),IF(BB20=0,\"\",BC20),\" \",IF(BE20=0,\"\",BD20),\" \",IF(AND(ABS(BE20)=1,NOT(BF20=\"\")),\"\",IF(BE20=0,\"\",ABS(BE20))),IF(BE20=0,\"\",BF20),BG20)","v":"2(6p + 2) + 2(2 + p)"},null,14,"p","+",8,"","14p + 8"]
[{"$f":"IF(ROW()<=Worksheet!$B$4/2,ROW(),\"\")","v":""},null,null,null,null,null,null,null,null,null,null,null,null,null,null,null,null,null,null,null,null,{"$f":"IF(ROW()<=Worksheet!$B$4/2,#REF!+1,\"\")","v":""},null,null,null,null,null,null,null,null,null,null,null,null,{"$f":"IF(ROW()<=Worksheet!$B$4/2,ROW(),\"\")","v":""},null,null,null,null,null,null,null,null,null,null,null,null,null,null,null,null,null,null,null,null,{"$f":"IF(ROW()<=Worksheet!$B$4/2,#REF!+1,\"\")","v":""}]
[{"$f":"IF(ROW()<=Worksheet!$B$4/2,ROW(),\"\")","v":""},null,null,null,null,null,null,null,null,null,null,null,null,null,null,null,null,null,null,null,null,{"$f":"IF(ROW()<=Worksheet!$B$4/2,V21+1,\"\")","v":""},null,null,null,null,null,null,null,null,null,null,null,null,{"$f":"IF(ROW()<=Worksheet!$B$4/2,ROW(),\"\")","v":""},null,null,null,null,null,null,null,null,null,null,null,null,null,null,null,null,null,null,null,null,{"$f":"IF(ROW()<=Worksheet!$B$4/2,BD21+1,\"\")","v":""}]
[{"$f":"IF(ROW()<=Worksheet!$B$4/2,ROW(),\"\")","v":""},null,null,null,null,null,null,null,null,null,null,null,null,null,null,null,null,null,null,null,null,{"$f":"IF(ROW()<=Worksheet!$B$4/2,V22+1,\"\")","v":""},null,null,null,null,null,null,null,null,null,null,null,null,{"$f":"IF(ROW()<=Worksheet!$B$4/2,ROW(),\"\")","v":""},null,null,null,null,null,null,null,null,null,null,null,null,null,null,null,null,null,null,null,null,{"$f":"IF(ROW()<=Worksheet!$B$4/2,BD22+1,\"\")","v":""}]
[{"$f":"IF(ROW()<=Worksheet!$B$4/2,ROW(),\"\")","v":""},null,null,null,null,null,null,null,null,null,null,null,null,null,null,null,null,null,null,null,null,{"$f":"IF(ROW()<=Worksheet!$B$4/2,V23+1,\"\")","v":""},null,null,null,null,null,null,null,null,null,null,null,null,{"$f":"IF(ROW()<=Worksheet!$B$4/2,ROW(),\"\")","v":""},null,null,null,null,null,null,null,null,null,null,null,null,null,null,null,null,null,null,null,null,{"$f":"IF(ROW()<=Worksheet!$B$4/2,BD23+1,\"\")","v":""}]
[{"$f":"IF(ROW()<=Worksheet!$B$4/2,ROW(),\"\")","v":""},null,null,null,null,null,null,null,null,null,null,null,null,null,null,null,null,null,null,null,null,{"$f":"IF(ROW()<=Worksheet!$B$4/2,V24+1,\"\")","v":""},null,null,null,null,null,null,null,null,null,null,null,null,{"$f":"IF(ROW()<=Worksheet!$B$4/2,ROW(),\"\")","v":""},null,null,null,null,null,null,null,null,null,null,null,null,null,null,null,null,null,null,null,null,{"$f":"IF(ROW()<=Worksheet!$B$4/2,BD24+1,\"\")","v":""}]
[{"$f":"IF(ROW()<=Worksheet!$B$4/2,ROW(),\"\")","v":""},null,null,null,null,null,null,null,null,null,null,null,null,null,null,null,null,null,null,null,null,{"$f":"IF(ROW()<=Worksheet!$B$4/2,V25+1,\"\")","v":""},null,null,null,null,null,null,null,null,null,null,null,null,{"$f":"IF(ROW()<=Worksheet!$B$4/2,ROW(),\"\")","v":""},null,null,null,null,null,null,null,null,null,null,null,null,null,null,null,null,null,null,null,null,{"$f":"IF(ROW()<=Worksheet!$B$4/2,BD25+1,\"\")","v":""}]
[{"$f":"IF(ROW()<=Worksheet!$B$4/2,ROW(),\"\")","v":""},null,null,null,null,null,null,null,null,null,null,null,null,null,null,null,null,null,null,null,null,{"$f":"IF(ROW()<=Worksheet!$B$4/2,V26+1,\"\")","v":""},null,null,null,null,null,null,null,null,null,null,null,null,{"$f":"IF(ROW()<=Worksheet!$B$4/2,ROW(),\"\")","v":""},null,null,null,null,null,null,null,null,null,null,null,null,null,null,null,null,null,null,null,null,{"$f":"IF(ROW()<=Worksheet!$B$4/2,BD26+1,\"\")","v":""}]
[{"$f":"IF(ROW()<=Worksheet!$B$4/2,ROW(),\"\")","v":""},null,null,null,null,null,null,null,null,null,null,null,null,null,null,null,null,null,null,null,null,{"$f":"IF(ROW()<=Worksheet!$B$4/2,V27+1,\"\")","v":""},null,null,null,null,null,null,null,null,null,null,null,null,{"$f":"IF(ROW()<=Worksheet!$B$4/2,ROW(),\"\")","v":""},null,null,null,null,null,null,null,null,null,null,null,null,null,null,null,null,null,null,null,null,{"$f":"IF(ROW()<=Worksheet!$B$4/2,BD27+1,\"\")","v":""}]